Workbook
Name Project_last_entry: 'Project Data Sorted'!$C$5
Name Project_start_row: 'Project Data Sorted'!$C$4
Name ProjectEnd: IFERROR(DATE(YEAR(VLOOKUP(1,SortedTimeline[],2,FALSE)),12,31),DATE(YEAR(TODAY()),12,31))

Sheet Project Timeline
B1: CSTE ICD-10-CM Drug Poisoning Indicators Workgroup: Programming Sub-workgroup
B2: TIMELINE
B18: PROJECT DETAILS
B19: DATE | C19: MILESTONE | D19: POSITION | E19: BASELINE | F19: Position Adjusted | G19: Date adjusted | H19: Milestone adjusted
B20: 42999 | C20: Kick Off Meeting | D20: 25 | E20: =IF(ISBLANK(ProjectDetails[[#This Row],[DATE]]),"",0) -> 0 | F20: =IFERROR(IF('Project Data Sorted'!P5="",5,'Project Data Sorted'!P5),0) -> 25 | G20: =IFERROR(IF('Project Data Sorted'!N5="",ProjectEnd,'Project Data Sorted'!N5),ProjectEnd) -> 42999 | H20: =IFERROR(IF('Project Data Sorted'!O5="","",'Project Data Sorted'!O5),"") -> Kick Off Meeting
B21: =B20+10 -> 43009 | C21: Code Logic | D21: 10 | E21: =IF(ISBLANK(ProjectDetails[[#This Row],[DATE]]),"",0) -> 0 | F21: =IFERROR(IF('Project Data Sorted'!P6="",5,'Project Data Sorted'!P6),0) -> 10 | G21: =IFERROR(IF('Project Data Sorted'!N6="",ProjectEnd,'Project Data Sorted'!N6),ProjectEnd) -> 43009 | H21: =IFERROR(IF('Project Data Sorted'!O6="","",'Project Data Sorted'!O6),"") -> Code Logic
B22: =B21+7 -> 43016 | C22: Code Functions | D22: -10 | E22: =IF(ISBLANK(ProjectDetails[[#This Row],[DATE]]),"",0) -> 0 | F22: =IFERROR(IF('Project Data Sorted'!P7="",5,'Project Data Sorted'!P7),0) -> -10 | G22: =IFERROR(IF('Project Data Sorted'!N7="",ProjectEnd,'Project Data Sorted'!N7),ProjectEnd) -> 43016 | H22: =IFERROR(IF('Project Data Sorted'!O7="","",'Project Data Sorted'!O7),"") -> Code Functions
B23: =B22+12 -> 43028 | C23: Feedback from Programming Group | D23: 15 | E23: =IF(ISBLANK(ProjectDetails[[#This Row],[DATE]]),"",0) -> 0 | F23: =IFERROR(IF('Project Data Sorted'!P8="",5,'Project Data Sorted'!P8),0) -> 15 | G23: =IFERROR(IF('Project Data Sorted'!N8="",ProjectEnd,'Project Data Sorted'!N8),ProjectEnd) -> 43028 | H23: =IFERROR(IF('Project Data Sorted'!O8="","",'Project Data Sorted'!O8),"") -> Feedback from Programming Group
B24: =B23+17 -> 43045 | C24: Run Program on Validation Data | D24: -15 | E24: =IF(ISBLANK(ProjectDetails[[#This Row],[DATE]]),"",0) -> 0 | F24: =IFERROR(IF('Project Data Sorted'!P9="",5,'Project Data Sorted'!P9),0) -> -15 | G24: =IFERROR(IF('Project Data Sorted'!N9="",ProjectEnd,'Project Data Sorted'!N9),ProjectEnd) -> 43045 | H24: =IFERROR(IF('Project Data Sorted'!O9="","",'Project Data Sorted'!O9),"") -> Run Program on Validation Data
B25: =B24+14 -> 43059 | C25: Jurisdictions Test Run Code | D25: 10 | E25: =IF(ISBLANK(ProjectDetails[[#This Row],[DATE]]),"",0) -> 0 | F25: =IFERROR(IF('Project Data Sorted'!P10="",5,'Project Data Sorted'!P10),0) -> 10 | G25: =IFERROR(IF('Project Data Sorted'!N10="",ProjectEnd,'Project Data Sorted'!N10),ProjectEnd) -> 43059 | H25: =IFERROR(IF('Project Data Sorted'!O10="","",'Project Data Sorted'!O10),"") -> Jurisdictions Test Run Code
B26: =B25+15 -> 43074 | C26: Complete Working Code | D26: -15 | E26: =IF(ISBLANK(ProjectDetails[[#This Row],[DATE]]),"",0) -> 0 | F26: =IFERROR(IF('Project Data Sorted'!P11="",5,'Project Data Sorted'!P11),0) -> 15 | G26: =IFERROR(IF('Project Data Sorted'!N11="",ProjectEnd,'Project Data Sorted'!N11),ProjectEnd) -> 43074 | H26: =IFERROR(IF('Project Data Sorted'!O11="","",'Project Data Sorted'!O11),"") -> Provide Moc Up Result to Excel Team
B27: =B26+0 -> 43074 | C27: Provide Moc Up Result to Excel Team | D27: 15 | E27: =IF(ISBLANK(ProjectDetails[[#This Row],[DATE]]),"",0) -> 0 | F27: =IFERROR(IF('Project Data Sorted'!P12="",5,'Project Data Sorted'!P12),0) -> -15 | G27: =IFERROR(IF('Project Data Sorted'!N12="",ProjectEnd,'Project Data Sorted'!N12),ProjectEnd) -> 43074 | H27: =IFERROR(IF('Project Data Sorted'!O12="","",'Project Data Sorted'!O12),"") -> Complete Working Code
B28: =B27+15 -> 43089 | C28: All Juridictions Have Results in Excel | D28: -20 | E28: =IF(ISBLANK(ProjectDetails[[#This Row],[DATE]]),"",0) -> 0 | F28: =IFERROR(IF('Project Data Sorted'!P13="",5,'Project Data Sorted'!P13),0) -> -20 | G28: =IFERROR(IF('Project Data Sorted'!N13="",ProjectEnd,'Project Data Sorted'!N13),ProjectEnd) -> 43089 | H28: =IFERROR(IF('Project Data Sorted'!O13="","",'Project Data Sorted'!O13),"") -> All Juridictions Have Results in Excel
C29: Milestone 9 | D29: 20 | E29: =IF(ISBLANK(ProjectDetails[[#This Row],[DATE]]),"",0) | F29: =IFERROR(IF('Project Data Sorted'!P14="",5,'Project Data Sorted'!P14),0) -> 5 | G29: =IFERROR(IF('Project Data Sorted'!N14="",ProjectEnd,'Project Data Sorted'!N14),ProjectEnd) -> 43100 | H29: =IFERROR(IF('Project Data Sorted'!O14="","",'Project Data Sorted'!O14),"")
C30: Milestone 10 | D30: -15 | E30: =IF(ISBLANK(ProjectDetails[[#This Row],[DATE]]),"",0) | F30: =IFERROR(IF('Project Data Sorted'!P15="",5,'Project Data Sorted'!P15),0) -> 5 | G30: =IFERROR(IF('Project Data Sorted'!N15="",ProjectEnd,'Project Data Sorted'!N15),ProjectEnd) -> 43100 | H30: =IFERROR(IF('Project Data Sorted'!O15="","",'Project Data Sorted'!O15),"")
C31: Project End | D31: 15 | E31: =IF(ISBLANK(ProjectDetails[[#This Row],[DATE]]),"",0) | F31: =IFERROR(IF('Project Data Sorted'!P16="",5,'Project Data Sorted'!P16),0) -> 5 | G31: =IFERROR(IF('Project Data Sorted'!N16="",ProjectEnd,'Project Data Sorted'!N16),ProjectEnd) -> 43100 | H31: =IFERROR(IF('Project Data Sorted'!O16="","",'Project Data Sorted'!O16),"")

Sheet Project Data Sorted
A1: Sort the dates to populate the timeline in chronological order
E3: data analysis | M3: Actual data to chart, which is fed into the Project Timeline worksheet via hidden columns F-H.
B4: start row | C4: =ROW(ProjectDetails[[#Headers],[DATE]])+1 -> 20 | E4: TIE BREAK | F4: RANK | G4: DATE | H4: MILESTONE | I4: POSITION | J4: NUM | M4: RANK Sorted | N4: DATE | O4: MILESTONE | P4: POSITION
B5: last entry | C5: =IFERROR(MATCH(9.99E+307,ProjectDetails[DATE])+Project_start_row-1,Project_start_row) -> 28 | E5: =IFERROR(RANK(F5,[RANK])+SUMPRODUCT(--(F5=[RANK]),--(J5<[NUM])),"") -> 9 | F5: =IFERROR(RANK(ProjectTimelineData[[#This Row],[DATE]],[DATE],1),"") -> 1 | G5: =IFERROR(IF(AND(Project_last_entry-Project_start_row=0,ISBLANK(INDEX(ProjectDetails[],1,1))),"",IF(Project_last_entry-Project_start_row=0,INDEX(ProjectDetails[],1,1),INDEX(ProjectDetails[],Project_last_entry-Project_start_row-ProjectTimelineData[[#This Row],[NUM]]+1,1))),"") -> 42999 | H5: =IFERROR(IF(AND(Project_last_entry-Project_start_row=0,ISBLANK(INDEX(ProjectDetails[],1,2))),"",IF(Project_last_entry-Project_start_row=0,INDEX(ProjectDetails[],1,2),INDEX(ProjectDetails[],Project_last_entry-Project_start_row-ProjectTimelineData[[#This Row],[NUM]]+1,2))),"") -> Kick Off Meeting | I5: =IFERROR(IF(AND(Project_last_entry-Project_start_row=0,ISBLANK(INDEX(ProjectDetails[],1,3))),"",IF(Project_last_entry-Project_start_row=0,INDEX(ProjectDetails[],1,3),INDEX(ProjectDetails[],Project_last_entry-Project_start_row-ProjectTimelineData[[#This Row],[NUM]]+1,3))),"") -> 25 | J5: =IFERROR(IF(AND(Project_last_entry-Project_start_row=0,ISBLANK(INDEX(ProjectDetails[],1,1))),"",IF(Project_last_entry-Project_start_row=0,0,Project_last_entry-Project_start_row)),"") -> 8 | M5: =IFERROR(ProjectTimelineData[NUM]+1,"") -> 9 | N5: =IFERROR(VLOOKUP([RANK Sorted],ProjectTimelineData[],3,0),"") -> 42999 | O5: =IFERROR(VLOOKUP([RANK Sorted],ProjectTimelineData[],4,0),"") -> Kick Off Meeting | P5: =IFERROR(VLOOKUP([RANK Sorted],ProjectTimelineData[],5,0),"") -> 25
E6: =IFERROR(RANK(F6,[RANK])+SUMPRODUCT(--(F6=[RANK]),--(J6<[NUM])),"") -> 8 | F6: =IFERROR(RANK(ProjectTimelineData[[#This Row],[DATE]],[DATE],1),"") -> 2 | G6: =IFERROR(IF(ISBLANK(INDEX(ProjectDetails[],Project_last_entry-Project_start_row-ProjectTimelineData[[#This Row],[NUM]]+1,1)),"",INDEX(ProjectDetails[],Project_last_entry-Project_start_row-ProjectTimelineData[[#This Row],[NUM]]+1,1)),"") -> 43009 | H6: =IFERROR(IF(ISBLANK(INDEX(ProjectDetails[],Project_last_entry-Project_start_row-ProjectTimelineData[[#This Row],[NUM]]+1,2)),"",INDEX(ProjectDetails[],Project_last_entry-Project_start_row-ProjectTimelineData[[#This Row],[NUM]]+1,2)),"") -> Code Logic | I6: =IFERROR(IF(ISBLANK(INDEX(ProjectDetails[],Project_last_entry-Project_start_row-ProjectTimelineData[[#This Row],[NUM]]+1,3)),"",INDEX(ProjectDetails[],Project_last_entry-Project_start_row-ProjectTimelineData[[#This Row],[NUM]]+1,3)),"") -> 10 | J6: =IFERROR(IF(ISBLANK(INDEX(ProjectDetails[],ROW(A1)+1,1)),"",IF($J5-1<=-1,"",$J5-1)),"") -> 7 | M6: =IFERROR(ProjectTimelineData[NUM]+1,"") -> 8 | N6: =IFERROR(VLOOKUP([RANK Sorted],ProjectTimelineData[],3,0),"") -> 43009 | O6: =IFERROR(VLOOKUP([RANK Sorted],ProjectTimelineData[],4,0),"") -> Code Logic | P6: =IFERROR(VLOOKUP([RANK Sorted],ProjectTimelineData[],5,0),"") -> 10
E7: =IFERROR(RANK(F7,[RANK])+SUMPRODUCT(--(F7=[RANK]),--(J7<[NUM])),"") -> 7 | F7: =IFERROR(RANK(ProjectTimelineData[[#This Row],[DATE]],[DATE],1),"") -> 3 | G7: =IFERROR(IF(ISBLANK(INDEX(ProjectDetails[],Project_last_entry-Project_start_row-ProjectTimelineData[[#This Row],[NUM]]+1,1)),"",INDEX(ProjectDetails[],Project_last_entry-Project_start_row-ProjectTimelineData[[#This Row],[NUM]]+1,1)),"") -> 43016 | H7: =IFERROR(IF(ISBLANK(INDEX(ProjectDetails[],Project_last_entry-Project_start_row-ProjectTimelineData[[#This Row],[NUM]]+1,2)),"",INDEX(ProjectDetails[],Project_last_entry-Project_start_row-ProjectTimelineData[[#This Row],[NUM]]+1,2)),"") -> Code Functions | I7: =IFERROR(IF(ISBLANK(INDEX(ProjectDetails[],Project_last_entry-Project_start_row-ProjectTimelineData[[#This Row],[NUM]]+1,3)),"",INDEX(ProjectDetails[],Project_last_entry-Project_start_row-ProjectTimelineData[[#This Row],[NUM]]+1,3)),"") -> -10 | J7: =IFERROR(IF(ISBLANK(INDEX(ProjectDetails[],ROW(A2)+1,1)),"",IF($J6-1<=-1,"",$J6-1)),"") -> 6 | M7: =IFERROR(ProjectTimelineData[NUM]+1,"") -> 7 | N7: =IFERROR(VLOOKUP([RANK Sorted],ProjectTimelineData[],3,0),"") -> 43016 | O7: =IFERROR(VLOOKUP([RANK Sorted],ProjectTimelineData[],4,0),"") -> Code Functions | P7: =IFERROR(VLOOKUP([RANK Sorted],ProjectTimelineData[],5,0),"") -> -10
E8: =IFERROR(RANK(F8,[RANK])+SUMPRODUCT(--(F8=[RANK]),--(J8<[NUM])),"") -> 6 | F8: =IFERROR(RANK(ProjectTimelineData[[#This Row],[DATE]],[DATE],1),"") -> 4 | G8: =IFERROR(IF(ISBLANK(INDEX(ProjectDetails[],Project_last_entry-Project_start_row-ProjectTimelineData[[#This Row],[NUM]]+1,1)),"",INDEX(ProjectDetails[],Project_last_entry-Project_start_row-ProjectTimelineData[[#This Row],[NUM]]+1,1)),"") -> 43028 | H8: =IFERROR(IF(ISBLANK(INDEX(ProjectDetails[],Project_last_entry-Project_start_row-ProjectTimelineData[[#This Row],[NUM]]+1,2)),"",INDEX(ProjectDetails[],Project_last_entry-Project_start_row-ProjectTimelineData[[#This Row],[NUM]]+1,2)),"") -> Feedback from Programming Group | I8: =IFERROR(IF(ISBLANK(INDEX(ProjectDetails[],Project_last_entry-Project_start_row-ProjectTimelineData[[#This Row],[NUM]]+1,3)),"",INDEX(ProjectDetails[],Project_last_entry-Project_start_row-ProjectTimelineData[[#This Row],[NUM]]+1,3)),"") -> 15 | J8: =IFERROR(IF(ISBLANK(INDEX(ProjectDetails[],ROW(A3)+1,1)),"",IF($J7-1<=-1,"",$J7-1)),"") -> 5 | M8: =IFERROR(ProjectTimelineData[NUM]+1,"") -> 6 | N8: =IFERROR(VLOOKUP([RANK Sorted],ProjectTimelineData[],3,0),"") -> 43028 | O8: =IFERROR(VLOOKUP([RANK Sorted],ProjectTimelineData[],4,0),"") -> Feedback from Programming Group | P8: =IFERROR(VLOOKUP([RANK Sorted],ProjectTimelineData[],5,0),"") -> 15
E9: =IFERROR(RANK(F9,[RANK])+SUMPRODUCT(--(F9=[RANK]),--(J9<[NUM])),"") -> 5 | F9: =IFERROR(RANK(ProjectTimelineData[[#This Row],[DATE]],[DATE],1),"") -> 5 | G9: =IFERROR(IF(ISBLANK(INDEX(ProjectDetails[],Project_last_entry-Project_start_row-ProjectTimelineData[[#This Row],[NUM]]+1,1)),"",INDEX(ProjectDetails[],Project_last_entry-Project_start_row-ProjectTimelineData[[#This Row],[NUM]]+1,1)),"") -> 43045 | H9: =IFERROR(IF(ISBLANK(INDEX(ProjectDetails[],Project_last_entry-Project_start_row-ProjectTimelineData[[#This Row],[NUM]]+1,2)),"",INDEX(ProjectDetails[],Project_last_entry-Project_start_row-ProjectTimelineData[[#This Row],[NUM]]+1,2)),"") -> Run Program on Validation Data | I9: =IFERROR(IF(ISBLANK(INDEX(ProjectDetails[],Project_last_entry-Project_start_row-ProjectTimelineData[[#This Row],[NUM]]+1,3)),"",INDEX(ProjectDetails[],Project_last_entry-Project_start_row-ProjectTimelineData[[#This Row],[NUM]]+1,3)),"") -> -15 | J9: =IFERROR(IF(ISBLANK(INDEX(ProjectDetails[],ROW(A4)+1,1)),"",IF($J8-1<=-1,"",$J8-1)),"") -> 4 | M9: =IFERROR(ProjectTimelineData[NUM]+1,"") -> 5 | N9: =IFERROR(VLOOKUP([RANK Sorted],ProjectTimelineData[],3,0),"") -> 43045 | O9: =IFERROR(VLOOKUP([RANK Sorted],ProjectTimelineData[],4,0),"") -> Run Program on Validation Data | P9: =IFERROR(VLOOKUP([RANK Sorted],ProjectTimelineData[],5,0),"") -> -15
E10: =IFERROR(RANK(F10,[RANK])+SUMPRODUCT(--(F10=[RANK]),--(J10<[NUM])),"") -> 4 | F10: =IFERROR(RANK(ProjectTimelineData[[#This Row],[DATE]],[DATE],1),"") -> 6 | G10: =IFERROR(IF(ISBLANK(INDEX(ProjectDetails[],Project_last_entry-Project_start_row-ProjectTimelineData[[#This Row],[NUM]]+1,1)),"",INDEX(ProjectDetails[],Project_last_entry-Project_start_row-ProjectTimelineData[[#This Row],[NUM]]+1,1)),"") -> 43059 | H10: =IFERROR(IF(ISBLANK(INDEX(ProjectDetails[],Project_last_entry-Project_start_row-ProjectTimelineData[[#This Row],[NUM]]+1,2)),"",INDEX(ProjectDetails[],Project_last_entry-Project_start_row-ProjectTimelineData[[#This Row],[NUM]]+1,2)),"") -> Jurisdictions Test Run Code | I10: =IFERROR(IF(ISBLANK(INDEX(ProjectDetails[],Project_last_entry-Project_start_row-ProjectTimelineData[[#This Row],[NUM]]+1,3)),"",INDEX(ProjectDetails[],Project_last_entry-Project_start_row-ProjectTimelineData[[#This Row],[NUM]]+1,3)),"") -> 10 | J10: =IFERROR(IF(ISBLANK(INDEX(ProjectDetails[],ROW(A5)+1,1)),"",IF($J9-1<=-1,"",$J9-1)),"") -> 3 | M10: =IFERROR(ProjectTimelineData[NUM]+1,"") -> 4 | N10: =IFERROR(VLOOKUP([RANK Sorted],ProjectTimelineData[],3,0),"") -> 43059 | O10: =IFERROR(VLOOKUP([RANK Sorted],ProjectTimelineData[],4,0),"") -> Jurisdictions Test Run Code | P10: =IFERROR(VLOOKUP([RANK Sorted],ProjectTimelineData[],5,0),"") -> 10
E11: =IFERROR(RANK(F11,[RANK])+SUMPRODUCT(--(F11=[RANK]),--(J11<[NUM])),"") -> 2 | F11: =IFERROR(RANK(ProjectTimelineData[[#This Row],[DATE]],[DATE],1),"") -> 7 | G11: =IFERROR(IF(ISBLANK(INDEX(ProjectDetails[],Project_last_entry-Project_start_row-ProjectTimelineData[[#This Row],[NUM]]+1,1)),"",INDEX(ProjectDetails[],Project_last_entry-Project_start_row-ProjectTimelineData[[#This Row],[NUM]]+1,1)),"") -> 43074 | H11: =IFERROR(IF(ISBLANK(INDEX(ProjectDetails[],Project_last_entry-Project_start_row-ProjectTimelineData[[#This Row],[NUM]]+1,2)),"",INDEX(ProjectDetails[],Project_last_entry-Project_start_row-ProjectTimelineData[[#This Row],[NUM]]+1,2)),"") -> Complete Working Code | I11: =IFERROR(IF(ISBLANK(INDEX(ProjectDetails[],Project_last_entry-Project_start_row-ProjectTimelineData[[#This Row],[NUM]]+1,3)),"",INDEX(ProjectDetails[],Project_last_entry-Project_start_row-ProjectTimelineData[[#This Row],[NUM]]+1,3)),"") -> -15 | J11: =IFERROR(IF(ISBLANK(INDEX(ProjectDetails[],ROW(A6)+1,1)),"",IF($J10-1<=-1,"",$J10-1)),"") -> 2 | M11: =IFERROR(ProjectTimelineData[NUM]+1,"") -> 3 | N11: =IFERROR(VLOOKUP([RANK Sorted],ProjectTimelineData[],3,0),"") -> 43074 | O11: =IFERROR(VLOOKUP([RANK Sorted],ProjectTimelineData[],4,0),"") -> Provide Moc Up Result to Excel Team | P11: =IFERROR(VLOOKUP([RANK Sorted],ProjectTimelineData[],5,0),"") -> 15
E12: =IFERROR(RANK(F12,[RANK])+SUMPRODUCT(--(F12=[RANK]),--(J12<[NUM])),"") -> 3 | F12: =IFERROR(RANK(ProjectTimelineData[[#This Row],[DATE]],[DATE],1),"") -> 7 | G12: =IFERROR(IF(ISBLANK(INDEX(ProjectDetails[],Project_last_entry-Project_start_row-ProjectTimelineData[[#This Row],[NUM]]+1,1)),"",INDEX(ProjectDetails[],Project_last_entry-Project_start_row-ProjectTimelineData[[#This Row],[NUM]]+1,1)),"") -> 43074 | H12: =IFERROR(IF(ISBLANK(INDEX(ProjectDetails[],Project_last_entry-Project_start_row-ProjectTimelineData[[#This Row],[NUM]]+1,2)),"",INDEX(ProjectDetails[],Project_last_entry-Project_start_row-ProjectTimelineData[[#This Row],[NUM]]+1,2)),"") -> Provide Moc Up Result to Excel Team | I12: =IFERROR(IF(ISBLANK(INDEX(ProjectDetails[],Project_last_entry-Project_start_row-ProjectTimelineData[[#This Row],[NUM]]+1,3)),"",INDEX(ProjectDetails[],Project_last_entry-Project_start_row-ProjectTimelineData[[#This Row],[NUM]]+1,3)),"") -> 15 | J12: =IFERROR(IF(ISBLANK(INDEX(ProjectDetails[],ROW(A7)+1,1)),"",IF($J11-1<=-1,"",$J11-1)),"") -> 1 | M12: =IFERROR(ProjectTimelineData[NUM]+1,"") -> 2 | N12: =IFERROR(VLOOKUP([RANK Sorted],ProjectTimelineData[],3,0),"") -> 43074 | O12: =IFERROR(VLOOKUP([RANK Sorted],ProjectTimelineData[],4,0),"") -> Complete Working Code | P12: =IFERROR(VLOOKUP([RANK Sorted],ProjectTimelineData[],5,0),"") -> -15
E13: =IFERROR(RANK(F13,[RANK])+SUMPRODUCT(--(F13=[RANK]),--(J13<[NUM])),"") -> 1 | F13: =IFERROR(RANK(ProjectTimelineData[[#This Row],[DATE]],[DATE],1),"") -> 9 | G13: =IFERROR(IF(ISBLANK(INDEX(ProjectDetails[],Project_last_entry-Project_start_row-ProjectTimelineData[[#This Row],[NUM]]+1,1)),"",INDEX(ProjectDetails[],Project_last_entry-Project_start_row-ProjectTimelineData[[#This Row],[NUM]]+1,1)),"") -> 43089 | H13: =IFERROR(IF(ISBLANK(INDEX(ProjectDetails[],Project_last_entry-Project_start_row-ProjectTimelineData[[#This Row],[NUM]]+1,2)),"",INDEX(ProjectDetails[],Project_last_entry-Project_start_row-ProjectTimelineData[[#This Row],[NUM]]+1,2)),"") -> All Juridictions Have Results in Excel | I13: =IFERROR(IF(ISBLANK(INDEX(ProjectDetails[],Project_last_entry-Project_start_row-ProjectTimelineData[[#This Row],[NUM]]+1,3)),"",INDEX(ProjectDetails[],Project_last_entry-Project_start_row-ProjectTimelineData[[#This Row],[NUM]]+1,3)),"") -> -20 | J13: =IFERROR(IF(ISBLANK(INDEX(ProjectDetails[],ROW(A8)+1,1)),"",IF($J12-1<=-1,"",$J12-1)),"") -> 0 | M13: =IFERROR(ProjectTimelineData[NUM]+1,"") -> 1 | N13: =IFERROR(VLOOKUP([RANK Sorted],ProjectTimelineData[],3,0),"") -> 43089 | O13: =IFERROR(VLOOKUP([RANK Sorted],ProjectTimelineData[],4,0),"") -> All Juridictions Have Results in Excel | P13: =IFERROR(VLOOKUP([RANK Sorted],ProjectTimelineData[],5,0),"") -> -20
E14: =IFERROR(RANK(F14,[RANK])+SUMPRODUCT(--(F14=[RANK]),--(J14<[NUM])),"") | F14: =IFERROR(RANK(ProjectTimelineData[[#This Row],[DATE]],[DATE],1),"") | G14: =IFERROR(IF(ISBLANK(INDEX(ProjectDetails[],Project_last_entry-Project_start_row-ProjectTimelineData[[#This Row],[NUM]]+1,1)),"",INDEX(ProjectDetails[],Project_last_entry-Project_start_row-ProjectTimelineData[[#This Row],[NUM]]+1,1)),"") | H14: =IFERROR(IF(ISBLANK(INDEX(ProjectDetails[],Project_last_entry-Project_start_row-ProjectTimelineData[[#This Row],[NUM]]+1,2)),"",INDEX(ProjectDetails[],Project_last_entry-Project_start_row-ProjectTimelineData[[#This Row],[NUM]]+1,2)),"") | I14: =IFERROR(IF(ISBLANK(INDEX(ProjectDetails[],Project_last_entry-Project_start_row-ProjectTimelineData[[#This Row],[NUM]]+1,3)),"",INDEX(ProjectDetails[],Project_last_entry-Project_start_row-ProjectTimelineData[[#This Row],[NUM]]+1,3)),"") | J14: =IFERROR(IF(ISBLANK(INDEX(ProjectDetails[],ROW(A9)+1,1)),"",IF($J13-1<=-1,"",$J13-1)),"") | M14: =IFERROR(ProjectTimelineData[NUM]+1,"") | N14: =IFERROR(VLOOKUP([RANK Sorted],ProjectTimelineData[],3,0),"") | O14: =IFERROR(VLOOKUP([RANK Sorted],ProjectTimelineData[],4,0),"") | P14: =IFERROR(VLOOKUP([RANK Sorted],ProjectTimelineData[],5,0),"")
E15: =IFERROR(RANK(F15,[RANK])+SUMPRODUCT(--(F15=[RANK]),--(J15<[NUM])),"") | F15: =IFERROR(RANK(ProjectTimelineData[[#This Row],[DATE]],[DATE],1),"") | G15: =IFERROR(IF(ISBLANK(INDEX(ProjectDetails[],Project_last_entry-Project_start_row-ProjectTimelineData[[#This Row],[NUM]]+1,1)),"",INDEX(ProjectDetails[],Project_last_entry-Project_start_row-ProjectTimelineData[[#This Row],[NUM]]+1,1)),"") | H15: =IFERROR(IF(ISBLANK(INDEX(ProjectDetails[],Project_last_entry-Project_start_row-ProjectTimelineData[[#This Row],[NUM]]+1,2)),"",INDEX(ProjectDetails[],Project_last_entry-Project_start_row-ProjectTimelineData[[#This Row],[NUM]]+1,2)),"") | I15: =IFERROR(IF(ISBLANK(INDEX(ProjectDetails[],Project_last_entry-Project_start_row-ProjectTimelineData[[#This Row],[NUM]]+1,3)),"",INDEX(ProjectDetails[],Project_last_entry-Project_start_row-ProjectTimelineData[[#This Row],[NUM]]+1,3)),"") | J15: =IFERROR(IF(ISBLANK(INDEX(ProjectDetails[],ROW(A10)+1,1)),"",IF($J14-1<=-1,"",$J14-1)),"") | M15: =IFERROR(ProjectTimelineData[NUM]+1,"") | N15: =IFERROR(VLOOKUP([RANK Sorted],ProjectTimelineData[],3,0),"") | O15: =IFERROR(VLOOKUP([RANK Sorted],ProjectTimelineData[],4,0),"") | P15: =IFERROR(VLOOKUP([RANK Sorted],ProjectTimelineData[],5,0),"")
E16: =IFERROR(RANK(F16,[RANK])+SUMPRODUCT(--(F16=[RANK]),--(J16<[NUM])),"") | F16: =IFERROR(RANK(ProjectTimelineData[[#This Row],[DATE]],[DATE],1),"") | G16: =IFERROR(IF(ISBLANK(INDEX(ProjectDetails[],Project_last_entry-Project_start_row-ProjectTimelineData[[#This Row],[NUM]]+1,1)),"",INDEX(ProjectDetails[],Project_last_entry-Project_start_row-ProjectTimelineData[[#This Row],[NUM]]+1,1)),"") | H16: =IFERROR(IF(ISBLANK(INDEX(ProjectDetails[],Project_last_entry-Project_start_row-ProjectTimelineData[[#This Row],[NUM]]+1,2)),"",INDEX(ProjectDetails[],Project_last_entry-Project_start_row-ProjectTimelineData[[#This Row],[NUM]]+1,2)),"") | I16: =IFERROR(IF(ISBLANK(INDEX(ProjectDetails[],Project_last_entry-Project_start_row-ProjectTimelineData[[#This Row],[NUM]]+1,3)),"",INDEX(ProjectDetails[],Project_last_entry-Project_start_row-ProjectTimelineData[[#This Row],[NUM]]+1,3)),"") | J16: =IFERROR(IF(ISBLANK(INDEX(ProjectDetails[],ROW(A11)+1,1)),"",IF($J15-1<=-1,"",$J15-1)),"") | M16: =IFERROR(ProjectTimelineData[NUM]+1,"") | N16: =IFERROR(VLOOKUP([RANK Sorted],ProjectTimelineData[],3,0),"") | O16: =IFERROR(VLOOKUP([RANK Sorted],ProjectTimelineData[],4,0),"") | P16: =IFERROR(VLOOKUP([RANK Sorted],ProjectTimelineData[],5,0),"")
E17: =IFERROR(RANK(F17,[RANK])+SUMPRODUCT(--(F17=[RANK]),--(J17<[NUM])),"") | F17: =IFERROR(RANK(ProjectTimelineData[[#This Row],[DATE]],[DATE],1),"") | G17: =IFERROR(IF(ISBLANK(INDEX(ProjectDetails[],Project_last_entry-Project_start_row-ProjectTimelineData[[#This Row],[NUM]]+1,1)),"",INDEX(ProjectDetails[],Project_last_entry-Project_start_row-ProjectTimelineData[[#This Row],[NUM]]+1,1)),"") | H17: =IFERROR(IF(ISBLANK(INDEX(ProjectDetails[],Project_last_entry-Project_start_row-ProjectTimelineData[[#This Row],[NUM]]+1,2)),"",INDEX(ProjectDetails[],Project_last_entry-Project_start_row-ProjectTimelineData[[#This Row],[NUM]]+1,2)),"") | I17: =IFERROR(IF(ISBLANK(INDEX(ProjectDetails[],Project_last_entry-Project_start_row-ProjectTimelineData[[#This Row],[NUM]]+1,3)),"",INDEX(ProjectDetails[],Project_last_entry-Project_start_row-ProjectTimelineData[[#This Row],[NUM]]+1,3)),"") | J17: =IFERROR(IF(ISBLANK(INDEX(ProjectDetails[],ROW(A12)+1,1)),"",IF($J16-1<=-1,"",$J16-1)),"") | M17: =IFERROR(ProjectTimelineData[NUM]+1,"") | N17: =IFERROR(VLOOKUP([RANK Sorted],ProjectTimelineData[],3,0),"") | O17: =IFERROR(VLOOKUP([RANK Sorted],ProjectTimelineData[],4,0),"") | P17: =IFERROR(VLOOKUP([RANK Sorted],ProjectTimelineData[],5,0),"")
... E349: =IFERROR(RANK(F349,[RANK])+SUMPRODUCT(--(F349=[RANK]),--(J349<[NUM])),"") | F349: =IFERROR(RANK(ProjectTimelineData[[#This Row],[DATE]],[DATE],1),"") | G349: =IFERROR(IF(ISBLANK(INDEX(ProjectDetails[],Project_last_entry-Project_start_row-ProjectTimelineData[[#This Row],[NUM]]+1,1)),"",INDEX(ProjectDetails[],Project_last_entry-Project_start_row-ProjectTimelineData[[#This Row],[NUM]]+1,1)),"") | H349: =IFERROR(IF(ISBLANK(INDEX(ProjectDetails[],Project_last_entry-Project_start_row-ProjectTimelineData[[#This Row],[NUM]]+1,2)),"",INDEX(ProjectDetails[],Project_last_entry-Project_start_row-ProjectTimelineData[[#This Row],[NUM]]+1,2)),"") | I349: =IFERROR(IF(ISBLANK(INDEX(ProjectDetails[],Project_last_entry-Project_start_row-ProjectTimelineData[[#This Row],[NUM]]+1,3)),"",INDEX(ProjectDetails[],Project_last_entry-Project_start_row-ProjectTimelineData[[#This Row],[NUM]]+1,3)),"") | J349: =IFERROR(IF(ISBLANK(INDEX(ProjectDetails[],ROW(A344)+1,1)),"",IF($J348-1<=-1,"",$J348-1)),"") | M349: =IFERROR(ProjectTimelineData[NUM]+1,"") | N349: =IFERROR(VLOOKUP([RANK Sorted],ProjectTimelineData[],3,0),"") | O349: =IFERROR(VLOOKUP([RANK Sorted],ProjectTimelineData[],4,0),"") | P349: =IFERROR(VLOOKUP([RANK Sorted],ProjectTimelineData[],5,0),"")
