Workbook

Sheet Table 1.  Number of Drugs_Input
A1: Number of Selected Drug Classes
A2: NUMDRUGS | B2: Frequency | C2: Percent | D2: Cumulative | E2: Cumulative
D3: Frequency | E3: Percent
A4: 1 | B4: 1018 | C4: 84.62 | D4: 1018 | E4: 84.62
A5: 2 | B5: 156 | C5: 12.97 | D5: 1174 | E5: 97.59
A6: 3 | B6: 28 | C6: 2.33 | D6: 1202 | E6: 99.92
A7: 4 | B7: 1 | C7: 0.08 | D7: 1203 | E7: 100

Sheet Table 2_Polydrug_Matrix
A1: Phase III. Polydrug Analysis of Overdose for Selected Drugs With Potential Abuse, Montana Residents, Q4 2015, 2016, 2017 Preliminary
A2: Manner: Unintentional, Self-Harm, Assault, Undetermined; Initial (and Missing) Encounter; Non-Fatal
B3: Analysis 2.3.2 Cannabis - Case Definition Drug Overdose | C3: Analysis 2.3.1 Opioids - Case Definition Drug Overdose | D3: Analysis 2.3.x Non-heroin opioids (Alone or in combination) Case Definition Drug Overdose | E3: Analysis 2.3.x Heroin (Alone or in combination) Case Definition Drug Overdose | F3: Analysis 2.3.3 Ampthetamines - Case Definition Drug Overdose | G3: _____Amphetamines (T43.62) | H3: _____Non-amphetamine (T43.6 exculding 2) | I3: Analysis 2.3.2 Cocaine - Case Definition Drug Overdose | J3: Analysis 2.3.X Benzodiazepines - Case Definition Drug Overdose | K3: Psychiatric Drugs? | L3: Analysis 2.3.X Alcohol (T51) | M3: Analysis X. Unspecified Psycotropics | N3: Analysis X. Unspecified Psycodysleptics
A4: Analysis 2.3.2 Cannabis - Case Definition Drug Overdose | B4: =INDEX(Table_2_Input!$B$3:$U$32,Table_2_Input!$X5,Table_2_Input!Y$4) -> 15
A5: Analysis 2.3.1 Opioids - Case Definition Drug Overdose | B5: =INDEX(Table_2_Input!$B$3:$U$32,Table_2_Input!$X6,Table_2_Input!Y$4) -> 1 | C5: =INDEX(Table_2_Input!$B$3:$U$32,Table_2_Input!$X6,Table_2_Input!Z$4) -> 486
A6: ______Analysis 2.3.x Non-heroin opioids (Alone or in combination) Case Definition Drug Overdose | B6: =INDEX(Table_2_Input!$B$3:$U$32,Table_2_Input!$X7,Table_2_Input!Y$4) -> 1 | C6: =INDEX(Table_2_Input!$B$3:$U$32,Table_2_Input!$X7,Table_2_Input!Z$4) -> 466 | D6: =INDEX(Table_2_Input!$B$3:$U$32,Table_2_Input!$X7,Table_2_Input!AA$4) -> 466
A7: ______Analysis 2.3.x Heroin (Alone or in combination) Case Definition Drug Overdose | B7: =INDEX(Table_2_Input!$B$3:$U$32,Table_2_Input!$X8,Table_2_Input!Y$4) -> 0 | C7: =INDEX(Table_2_Input!$B$3:$U$32,Table_2_Input!$X8,Table_2_Input!Z$4) -> 20 | D7: =INDEX(Table_2_Input!$B$3:$U$32,Table_2_Input!$X8,Table_2_Input!AA$4) -> 0 | E7: =INDEX(Table_2_Input!$B$3:$U$32,Table_2_Input!$X8,Table_2_Input!AB$4) -> 20
A8: Analysis 2.3.3 Psychostimulants with abuse potential | B8: =INDEX(Table_2_Input!$B$3:$U$32,Table_2_Input!$X9,Table_2_Input!Y$4) -> 4 | C8: =INDEX(Table_2_Input!$B$3:$U$32,Table_2_Input!$X9,Table_2_Input!Z$4) -> 18 | D8: =INDEX(Table_2_Input!$B$3:$U$32,Table_2_Input!$X9,Table_2_Input!AA$4) -> 16 | E8: =INDEX(Table_2_Input!$B$3:$U$32,Table_2_Input!$X9,Table_2_Input!AB$4) -> 2 | F8: =INDEX(Table_2_Input!$B$3:$U$32,Table_2_Input!$X9,Table_2_Input!AC$4) -> 148
A9: _____Amphetamines (T43.62) | B9: =INDEX(Table_2_Input!$B$3:$U$32,Table_2_Input!$X10,Table_2_Input!Y$4) -> 4 | C9: =INDEX(Table_2_Input!$B$3:$U$32,Table_2_Input!$X10,Table_2_Input!Z$4) -> 17 | D9: =INDEX(Table_2_Input!$B$3:$U$32,Table_2_Input!$X10,Table_2_Input!AA$4) -> 15 | E9: =INDEX(Table_2_Input!$B$3:$U$32,Table_2_Input!$X10,Table_2_Input!AB$4) -> 2 | F9: =INDEX(Table_2_Input!$B$3:$U$32,Table_2_Input!$X10,Table_2_Input!AC$4) -> 128 | G9: =INDEX(Table_2_Input!$B$3:$U$32,Table_2_Input!$X10,Table_2_Input!AD$4) -> 128
A10: _____Non-amphetamine (T43.6 exculding 2) | B10: =INDEX(Table_2_Input!$B$3:$U$32,Table_2_Input!$X11,Table_2_Input!Y$4) -> 0 | C10: =INDEX(Table_2_Input!$B$3:$U$32,Table_2_Input!$X11,Table_2_Input!Z$4) -> 1 | D10: =INDEX(Table_2_Input!$B$3:$U$32,Table_2_Input!$X11,Table_2_Input!AA$4) -> 1 | E10: =INDEX(Table_2_Input!$B$3:$U$32,Table_2_Input!$X11,Table_2_Input!AB$4) -> 0 | F10: =INDEX(Table_2_Input!$B$3:$U$32,Table_2_Input!$X11,Table_2_Input!AC$4) -> 23 | G10: =INDEX(Table_2_Input!$B$3:$U$32,Table_2_Input!$X11,Table_2_Input!AD$4) -> 3 | H10: =INDEX(Table_2_Input!$B$3:$U$32,Table_2_Input!$X11,Table_2_Input!AE$4) -> 23
A11: Analysis 2.3.2 Cocaine - Case Definition Drug Overdose | B11: =INDEX(Table_2_Input!$B$3:$U$32,Table_2_Input!$X12,Table_2_Input!Y$4) -> 0 | C11: =INDEX(Table_2_Input!$B$3:$U$32,Table_2_Input!$X12,Table_2_Input!Z$4) -> 0 | D11: =INDEX(Table_2_Input!$B$3:$U$32,Table_2_Input!$X12,Table_2_Input!AA$4) -> 0 | E11: =INDEX(Table_2_Input!$B$3:$U$32,Table_2_Input!$X12,Table_2_Input!AB$4) -> 0 | F11: =INDEX(Table_2_Input!$B$3:$U$32,Table_2_Input!$X12,Table_2_Input!AC$4) -> 1 | G11: =INDEX(Table_2_Input!$B$3:$U$32,Table_2_Input!$X12,Table_2_Input!AD$4) -> 1 | H11: =INDEX(Table_2_Input!$B$3:$U$32,Table_2_Input!$X12,Table_2_Input!AE$4) -> 0 | I11: =INDEX(Table_2_Input!$B$3:$U$32,Table_2_Input!$X12,Table_2_Input!AF$4) -> 1
A12: Analysis 2.3.X Benzodiazepines - Case Definition Drug Overdose | B12: =INDEX(Table_2_Input!$B$3:$U$32,Table_2_Input!$X13,Table_2_Input!Y$4) -> 2 | C12: =INDEX(Table_2_Input!$B$3:$U$32,Table_2_Input!$X13,Table_2_Input!Z$4) -> 56 | D12: =INDEX(Table_2_Input!$B$3:$U$32,Table_2_Input!$X13,Table_2_Input!AA$4) -> 56 | E12: =INDEX(Table_2_Input!$B$3:$U$32,Table_2_Input!$X13,Table_2_Input!AB$4) -> 0 | F12: =INDEX(Table_2_Input!$B$3:$U$32,Table_2_Input!$X13,Table_2_Input!AC$4) -> 12 | G12: =INDEX(Table_2_Input!$B$3:$U$32,Table_2_Input!$X13,Table_2_Input!AD$4) -> 9 | H12: =INDEX(Table_2_Input!$B$3:$U$32,Table_2_Input!$X13,Table_2_Input!AE$4) -> 3 | I12: =INDEX(Table_2_Input!$B$3:$U$32,Table_2_Input!$X13,Table_2_Input!AF$4) -> 0 | J12: =INDEX(Table_2_Input!$B$3:$U$32,Table_2_Input!$X13,Table_2_Input!AG$4) -> 443
A13: Psychiatric Drugs (Jim)
A14: Analysis 2.3.X Alcohol (T51 Katelyn)
A15: Analysis X. Unspecified Psycotropics (Katelyn)
A16: Analysis X. Unspecified Psycodysleptics (Katelyn)

Sheet Table_2_Input
B1: COL_CDCANNABISFLAG | D1: COL_CDALLOPIOIDFLAG | F1: COL_CDNONHEROINFLAG | H1: COL_CDHEROINFLAG | J1: COL_CDPSYCHOSTIMFLAG | L1: COL_CDAMPHETAMINEFLAG | N1: COL_CDNONAMPHETAMINEFLAG | P1: COL_CDCOCAINEFLAG | R1: COL_CDBENZODIAZEPINEFLAG | T1: COL_CDALCOHOLFLAG | X1: ="10 Index Values" -> 10 Index Values
B2: . | C2: 1 | D2: . | E2: 1 | F2: . | G2: 1 | H2: . | I2: 1 | J2: . | K2: 1 | L2: . | M2: 1 | N2: . | O2: 1 | P2: . | Q2: 1 | R2: . | S2: 1 | T2: . | U2: 1
A3: ROW_CDCANNABISFLAG | B3: 1159 | C3: 0 | D3: 674 | E3: 485 | F3: 694 | G3: 465 | H3: 1139 | I3: 20 | J3: 1015 | K3: 144 | L3: 1035 | M3: 124 | N3: 1136 | O3: 23 | P3: 1158 | Q3: 1 | R3: 718 | S3: 441 | T3: 938 | U3: 221
A4: . | Y4: 2 | Z4: 4 | AA4: 6 | AB4: 8 | AC4: 10 | AD4: 12 | AE4: 14 | AF4: 16 | AG4: 18 | AH4: 20
A5: 1 | B5: 0 | C5: 15 | D5: 14 | E5: 1 | F5: 14 | G5: 1 | H5: 15 | I5: 0 | J5: 11 | K5: 4 | L5: 11 | M5: 4 | N5: 15 | O5: 0 | P5: 15 | Q5: 0 | R5: 13 | S5: 2 | T5: 14 | U5: 1 | X5: 3
A6: ROW_CDALLOPIOIDFLAG | B6: 674 | C6: 14 | D6: 688 | E6: 0 | F6: 688 | G6: 0 | H6: 688 | I6: 0 | J6: 558 | K6: 130 | L6: 577 | M6: 111 | N6: 666 | O6: 22 | P6: 687 | Q6: 1 | R6: 301 | S6: 387 | T6: 476 | U6: 212 | X6: 6
A7: . | X7: 9
A8: 1 | B8: 485 | C8: 1 | D8: 0 | E8: 486 | F8: 20 | G8: 466 | H8: 466 | I8: 20 | J8: 468 | K8: 18 | L8: 469 | M8: 17 | N8: 485 | O8: 1 | P8: 486 | Q8: 0 | R8: 430 | S8: 56 | T8: 476 | U8: 10 | X8: 12
A9: ROW_CDNONHEROINFLAG | B9: 694 | C9: 14 | D9: 688 | E9: 20 | F9: 708 | G9: 0 | H9: 688 | I9: 20 | J9: 576 | K9: 132 | L9: 595 | M9: 113 | N9: 686 | O9: 22 | P9: 707 | Q9: 1 | R9: 321 | S9: 387 | T9: 496 | U9: 212 | X9: 15
A10: . | X10: 18
A11: 1 | B11: 465 | C11: 1 | D11: 0 | E11: 466 | F11: 0 | G11: 466 | H11: 466 | I11: 0 | J11: 450 | K11: 16 | L11: 451 | M11: 15 | N11: 465 | O11: 1 | P11: 466 | Q11: 0 | R11: 410 | S11: 56 | T11: 456 | U11: 10 | X11: 21
A12: ROW_CDHEROINFLAG | B12: 1139 | C12: 15 | D12: 688 | E12: 466 | F12: 688 | G12: 466 | H12: 1154 | I12: 0 | J12: 1008 | K12: 146 | L12: 1028 | M12: 126 | N12: 1131 | O12: 23 | P12: 1153 | Q12: 1 | R12: 711 | S12: 443 | T12: 932 | U12: 222 | X12: 24
A13: . | X13: 27
A14: 1 | B14: 20 | C14: 0 | D14: 0 | E14: 20 | F14: 20 | G14: 0 | H14: 0 | I14: 20 | J14: 18 | K14: 2 | L14: 18 | M14: 2 | N14: 20 | O14: 0 | P14: 20 | Q14: 0 | R14: 20 | S14: 0 | T14: 20 | U14: 0 | X14: 30
A15: ROW_CDPSYCHOSTIMFLAG | B15: 1015 | C15: 11 | D15: 558 | E15: 468 | F15: 576 | G15: 450 | H15: 1008 | I15: 18 | J15: 1026 | K15: 0 | L15: 1026 | M15: 0 | N15: 1026 | O15: 0 | P15: 1026 | Q15: 0 | R15: 595 | S15: 431 | T15: 811 | U15: 215
A16: .
A17: 1 | B17: 144 | C17: 4 | D17: 130 | E17: 18 | F17: 132 | G17: 16 | H17: 146 | I17: 2 | J17: 0 | K17: 148 | L17: 20 | M17: 128 | N17: 125 | O17: 23 | P17: 147 | Q17: 1 | R17: 136 | S17: 12 | T17: 141 | U17: 7
A18: ROW_CDAMPHETAMINEFLAG | B18: 1035 | C18: 11 | D18: 577 | E18: 469 | F18: 595 | G18: 451 | H18: 1028 | I18: 18 | J18: 1026 | K18: 20 | L18: 1046 | M18: 0 | N18: 1026 | O18: 20 | P18: 1046 | Q18: 0 | R18: 612 | S18: 434 | T18: 830 | U18: 216
A19: .
A20: 1 | B20: 124 | C20: 4 | D20: 111 | E20: 17 | F20: 113 | G20: 15 | H20: 126 | I20: 2 | J20: 0 | K20: 128 | L20: 0 | M20: 128 | N20: 125 | O20: 3 | P20: 127 | Q20: 1 | R20: 119 | S20: 9 | T20: 122 | U20: 6
A21: ROW_CDNONAMPHETAMINEFLAG | B21: 1136 | C21: 15 | D21: 666 | E21: 485 | F21: 686 | G21: 465 | H21: 1131 | I21: 20 | J21: 1026 | K21: 125 | L21: 1026 | M21: 125 | N21: 1151 | O21: 0 | P21: 1150 | Q21: 1 | R21: 711 | S21: 440 | T21: 930 | U21: 221
A22: .
A23: 1 | B23: 23 | C23: 0 | D23: 22 | E23: 1 | F23: 22 | G23: 1 | H23: 23 | I23: 0 | J23: 0 | K23: 23 | L23: 20 | M23: 3 | N23: 0 | O23: 23 | P23: 23 | Q23: 0 | R23: 20 | S23: 3 | T23: 22 | U23: 1
A24: ROW_CDCOCAINEFLAG | B24: 1158 | C24: 15 | D24: 687 | E24: 486 | F24: 707 | G24: 466 | H24: 1153 | I24: 20 | J24: 1026 | K24: 147 | L24: 1046 | M24: 127 | N24: 1150 | O24: 23 | P24: 1173 | Q24: 0 | R24: 730 | S24: 443 | T24: 951 | U24: 222
A25: .
A26: 1 | B26: 1 | C26: 0 | D26: 1 | E26: 0 | F26: 1 | G26: 0 | H26: 1 | I26: 0 | J26: 0 | K26: 1 | L26: 0 | M26: 1 | N26: 1 | O26: 0 | P26: 0 | Q26: 1 | R26: 1 | S26: 0 | T26: 1 | U26: 0
A27: ROW_CDBENZODIAZEPINEFLAG | B27: 718 | C27: 13 | D27: 301 | E27: 430 | F27: 321 | G27: 410 | H27: 711 | I27: 20 | J27: 595 | K27: 136 | L27: 612 | M27: 119 | N27: 711 | O27: 20 | P27: 730 | Q27: 1 | R27: 731 | S27: 0 | T27: 538 | U27: 193
A28: .
A29: 1 | B29: 441 | C29: 2 | D29: 387 | E29: 56 | F29: 387 | G29: 56 | H29: 443 | I29: 0 | J29: 431 | K29: 12 | L29: 434 | M29: 9 | N29: 440 | O29: 3 | P29: 443 | Q29: 0 | R29: 0 | S29: 443 | T29: 414 | U29: 29
A30: ROW_CDALCOHOLFLAG | B30: 938 | C30: 14 | D30: 476 | E30: 476 | F30: 496 | G30: 456 | H30: 932 | I30: 20 | J30: 811 | K30: 141 | L30: 830 | M30: 122 | N30: 930 | O30: 22 | P30: 951 | Q30: 1 | R30: 538 | S30: 414 | T30: 952 | U30: 0
A31: .
A32: 1 | B32: 221 | C32: 1 | D32: 212 | E32: 10 | F32: 212 | G32: 10 | H32: 222 | I32: 0 | J32: 215 | K32: 7 | L32: 216 | M32: 6 | N32: 221 | O32: 1 | P32: 222 | Q32: 0 | R32: 193 | S32: 29 | T32: 0 | U32: 222
