Workbook

Sheet Table 2_Polydrug_Matrix
A1: Phase III. Polydrug Analysis of Overdose for Selected Drugs With Potential Abuse, Montana Residents, Q4 2015, 2016, 2017 Preliminary
A2: Manner: Unintentional, Self-Harm, Assault, Undetermined; Initial (and Missing) Encounter; Non-Fatal
B3: Analysis 2.3.2 Cannabis - Case Definition Drug Overdose | C3: Analysis 2.3.1 Opioids - Case Definition Drug Overdose | D3: Analysis 2.3.x Non-heroin opioids (Alone or in combination) Case Definition Drug Overdose | E3: Analysis 2.3.x Heroin (Alone or in combination) Case Definition Drug Overdose | F3: Analysis 2.3.3 Ampthetamines - Case Definition Drug Overdose | G3: _____Amphetamines (T43.62) | H3: _____Non-amphetamine (T43.6 exculding 2) | I3: Analysis 2.3.2 Cocaine - Case Definition Drug Overdose | J3: Analysis 2.3.X Benzodiazepines - Case Definition Drug Overdose | K3: Analysis X. Unspecified Psycotropics | L3: Analysis X. Unspecified Psycodysleptics | M3: Psychiatric Drugs? | N3: Analysis 2.3.X Alcohol (T51)
A4: Analysis 2.3.2 Cannabis - Case Definition Drug Overdose | B4: =INDEX(OK_diag!$B$3:$Y38,Table_2_Indices!$A5,Table_2_Indices!B$4) -> 81 | C4: =INDEX(OK_diag!$B$3:$Y38,Table_2_Indices!$A5,Table_2_Indices!C$4) -> 5 | D4: =INDEX(OK_diag!$B$3:$Y38,Table_2_Indices!$A5,Table_2_Indices!D$4) -> 5 | E4: =INDEX(OK_diag!$B$3:$Y38,Table_2_Indices!$A5,Table_2_Indices!E$4) -> . | F4: =INDEX(OK_diag!$B$3:$Y38,Table_2_Indices!$A5,Table_2_Indices!F$4) -> 17 | G4: =INDEX(OK_diag!$B$3:$Y38,Table_2_Indices!$A5,Table_2_Indices!G$4) -> 16 | H4: =INDEX(OK_diag!$B$3:$Y38,Table_2_Indices!$A5,Table_2_Indices!H$4) -> 1 | I4: =INDEX(OK_diag!$B$3:$Y38,Table_2_Indices!$A5,Table_2_Indices!I$4) -> 2 | ... L4: =INDEX(OK_diag!$B$3:$Y38,Table_2_Indices!$A5,Table_2_Indices!L$4) -> 3
A5: Analysis 2.3.1 Opioids - Case Definition Drug Overdose | B5: =INDEX(OK_diag!$B$3:$Y39,Table_2_Indices!$A6,Table_2_Indices!B$4) -> 5 | C5: =INDEX(OK_diag!$B$3:$Y39,Table_2_Indices!$A6,Table_2_Indices!C$4) -> 1732 | D5: =INDEX(OK_diag!$B$3:$Y39,Table_2_Indices!$A6,Table_2_Indices!D$4) -> 1635 | E5: =INDEX(OK_diag!$B$3:$Y39,Table_2_Indices!$A6,Table_2_Indices!E$4) -> 97 | F5: =INDEX(OK_diag!$B$3:$Y39,Table_2_Indices!$A6,Table_2_Indices!F$4) -> 30 | G5: =INDEX(OK_diag!$B$3:$Y39,Table_2_Indices!$A6,Table_2_Indices!G$4) -> 30 | H5: =INDEX(OK_diag!$B$3:$Y39,Table_2_Indices!$A6,Table_2_Indices!H$4) -> . | I5: =INDEX(OK_diag!$B$3:$Y39,Table_2_Indices!$A6,Table_2_Indices!I$4) -> 4 | ... L5: =INDEX(OK_diag!$B$3:$Y39,Table_2_Indices!$A6,Table_2_Indices!L$4) -> 1
A6: ______Analysis 2.3.x Non-heroin opioids (Alone or in combination) Case Definition Drug Overdose | B6: =INDEX(OK_diag!$B$3:$Y40,Table_2_Indices!$A7,Table_2_Indices!B$4) -> 5 | C6: =INDEX(OK_diag!$B$3:$Y40,Table_2_Indices!$A7,Table_2_Indices!C$4) -> 1635 | D6: =INDEX(OK_diag!$B$3:$Y40,Table_2_Indices!$A7,Table_2_Indices!D$4) -> 1635 | E6: =INDEX(OK_diag!$B$3:$Y40,Table_2_Indices!$A7,Table_2_Indices!E$4) -> . | F6: =INDEX(OK_diag!$B$3:$Y40,Table_2_Indices!$A7,Table_2_Indices!F$4) -> 21 | G6: =INDEX(OK_diag!$B$3:$Y40,Table_2_Indices!$A7,Table_2_Indices!G$4) -> 21 | H6: =INDEX(OK_diag!$B$3:$Y40,Table_2_Indices!$A7,Table_2_Indices!H$4) -> . | I6: =INDEX(OK_diag!$B$3:$Y40,Table_2_Indices!$A7,Table_2_Indices!I$4) -> 1 | ... L6: =INDEX(OK_diag!$B$3:$Y40,Table_2_Indices!$A7,Table_2_Indices!L$4) -> 1
A7: ______Analysis 2.3.x Heroin (Alone or in combination) Case Definition Drug Overdose | B7: =INDEX(OK_diag!$B$3:$Y41,Table_2_Indices!$A8,Table_2_Indices!B$4) -> . | C7: =INDEX(OK_diag!$B$3:$Y41,Table_2_Indices!$A8,Table_2_Indices!C$4) -> 97 | D7: =INDEX(OK_diag!$B$3:$Y41,Table_2_Indices!$A8,Table_2_Indices!D$4) -> . | E7: =INDEX(OK_diag!$B$3:$Y41,Table_2_Indices!$A8,Table_2_Indices!E$4) -> 97 | F7: =INDEX(OK_diag!$B$3:$Y41,Table_2_Indices!$A8,Table_2_Indices!F$4) -> 9 | G7: =INDEX(OK_diag!$B$3:$Y41,Table_2_Indices!$A8,Table_2_Indices!G$4) -> 9 | H7: =INDEX(OK_diag!$B$3:$Y41,Table_2_Indices!$A8,Table_2_Indices!H$4) -> . | I7: =INDEX(OK_diag!$B$3:$Y41,Table_2_Indices!$A8,Table_2_Indices!I$4) -> 3 | ... L7: =INDEX(OK_diag!$B$3:$Y41,Table_2_Indices!$A8,Table_2_Indices!L$4) -> .
A8: Analysis 2.3.3 Psychostimulants with abuse potential | B8: =INDEX(OK_diag!$B$3:$Y42,Table_2_Indices!$A9,Table_2_Indices!B$4) -> 17 | C8: =INDEX(OK_diag!$B$3:$Y42,Table_2_Indices!$A9,Table_2_Indices!C$4) -> 30 | D8: =INDEX(OK_diag!$B$3:$Y42,Table_2_Indices!$A9,Table_2_Indices!D$4) -> 21 | E8: =INDEX(OK_diag!$B$3:$Y42,Table_2_Indices!$A9,Table_2_Indices!E$4) -> 9 | F8: =INDEX(OK_diag!$B$3:$Y42,Table_2_Indices!$A9,Table_2_Indices!F$4) -> 506 | G8: =INDEX(OK_diag!$B$3:$Y42,Table_2_Indices!$A9,Table_2_Indices!G$4) -> 477 | H8: =INDEX(OK_diag!$B$3:$Y42,Table_2_Indices!$A9,Table_2_Indices!H$4) -> 33 | I8: =INDEX(OK_diag!$B$3:$Y42,Table_2_Indices!$A9,Table_2_Indices!I$4) -> 8 | ... L8: =INDEX(OK_diag!$B$3:$Y42,Table_2_Indices!$A9,Table_2_Indices!L$4) -> 4
A9: _____Amphetamines (T43.62) | B9: =INDEX(OK_diag!$B$3:$Y43,Table_2_Indices!$A10,Table_2_Indices!B$4) -> 16 | C9: =INDEX(OK_diag!$B$3:$Y43,Table_2_Indices!$A10,Table_2_Indices!C$4) -> 30 | D9: =INDEX(OK_diag!$B$3:$Y43,Table_2_Indices!$A10,Table_2_Indices!D$4) -> 21 | E9: =INDEX(OK_diag!$B$3:$Y43,Table_2_Indices!$A10,Table_2_Indices!E$4) -> 9 | F9: =INDEX(OK_diag!$B$3:$Y43,Table_2_Indices!$A10,Table_2_Indices!F$4) -> 477 | G9: =INDEX(OK_diag!$B$3:$Y43,Table_2_Indices!$A10,Table_2_Indices!G$4) -> 477 | H9: =INDEX(OK_diag!$B$3:$Y43,Table_2_Indices!$A10,Table_2_Indices!H$4) -> 4 | I9: =INDEX(OK_diag!$B$3:$Y43,Table_2_Indices!$A10,Table_2_Indices!I$4) -> 8 | ... L9: =INDEX(OK_diag!$B$3:$Y43,Table_2_Indices!$A10,Table_2_Indices!L$4) -> 4
A10: _____Non-amphetamine (T43.6 exculding 2) | B10: =INDEX(OK_diag!$B$3:$Y44,Table_2_Indices!$A11,Table_2_Indices!B$4) -> 1 | C10: =INDEX(OK_diag!$B$3:$Y44,Table_2_Indices!$A11,Table_2_Indices!C$4) -> . | D10: =INDEX(OK_diag!$B$3:$Y44,Table_2_Indices!$A11,Table_2_Indices!D$4) -> . | E10: =INDEX(OK_diag!$B$3:$Y44,Table_2_Indices!$A11,Table_2_Indices!E$4) -> . | F10: =INDEX(OK_diag!$B$3:$Y44,Table_2_Indices!$A11,Table_2_Indices!F$4) -> 33 | G10: =INDEX(OK_diag!$B$3:$Y44,Table_2_Indices!$A11,Table_2_Indices!G$4) -> 4 | H10: =INDEX(OK_diag!$B$3:$Y44,Table_2_Indices!$A11,Table_2_Indices!H$4) -> 33 | I10: =INDEX(OK_diag!$B$3:$Y44,Table_2_Indices!$A11,Table_2_Indices!I$4) -> . | ... L10: =INDEX(OK_diag!$B$3:$Y44,Table_2_Indices!$A11,Table_2_Indices!L$4) -> .
A11: Analysis 2.3.2 Cocaine - Case Definition Drug Overdose | B11: =INDEX(OK_diag!$B$3:$Y45,Table_2_Indices!$A12,Table_2_Indices!B$4) -> 2 | C11: =INDEX(OK_diag!$B$3:$Y45,Table_2_Indices!$A12,Table_2_Indices!C$4) -> 4 | D11: =INDEX(OK_diag!$B$3:$Y45,Table_2_Indices!$A12,Table_2_Indices!D$4) -> 1 | E11: =INDEX(OK_diag!$B$3:$Y45,Table_2_Indices!$A12,Table_2_Indices!E$4) -> 3 | F11: =INDEX(OK_diag!$B$3:$Y45,Table_2_Indices!$A12,Table_2_Indices!F$4) -> 8 | G11: =INDEX(OK_diag!$B$3:$Y45,Table_2_Indices!$A12,Table_2_Indices!G$4) -> 8 | H11: =INDEX(OK_diag!$B$3:$Y45,Table_2_Indices!$A12,Table_2_Indices!H$4) -> . | I11: =INDEX(OK_diag!$B$3:$Y45,Table_2_Indices!$A12,Table_2_Indices!I$4) -> 71 | ... L11: =INDEX(OK_diag!$B$3:$Y45,Table_2_Indices!$A12,Table_2_Indices!L$4) -> 1
A12: Analysis 2.3.X Benzodiazepines - Case Definition Drug Overdose | B12: =INDEX(OK_diag!$B$3:$Y46,Table_2_Indices!$A13,Table_2_Indices!B$4) -> 15 | C12: =INDEX(OK_diag!$B$3:$Y46,Table_2_Indices!$A13,Table_2_Indices!C$4) -> 321 | D12: =INDEX(OK_diag!$B$3:$Y46,Table_2_Indices!$A13,Table_2_Indices!D$4) -> 315 | E12: =INDEX(OK_diag!$B$3:$Y46,Table_2_Indices!$A13,Table_2_Indices!E$4) -> 6 | F12: =INDEX(OK_diag!$B$3:$Y46,Table_2_Indices!$A13,Table_2_Indices!F$4) -> 26 | G12: =INDEX(OK_diag!$B$3:$Y46,Table_2_Indices!$A13,Table_2_Indices!G$4) -> 24 | H12: =INDEX(OK_diag!$B$3:$Y46,Table_2_Indices!$A13,Table_2_Indices!H$4) -> 2 | I12: =INDEX(OK_diag!$B$3:$Y46,Table_2_Indices!$A13,Table_2_Indices!I$4) -> 3 | ... L12: =INDEX(OK_diag!$B$3:$Y46,Table_2_Indices!$A13,Table_2_Indices!L$4) -> .
A13: Analysis X. Unspecified Psycotropics (Katelyn) | B13: =INDEX(OK_diag!$B$3:$Y47,Table_2_Indices!$A14,Table_2_Indices!B$4) -> 3 | C13: =INDEX(OK_diag!$B$3:$Y47,Table_2_Indices!$A14,Table_2_Indices!C$4) -> 14 | D13: =INDEX(OK_diag!$B$3:$Y47,Table_2_Indices!$A14,Table_2_Indices!D$4) -> 13 | E13: =INDEX(OK_diag!$B$3:$Y47,Table_2_Indices!$A14,Table_2_Indices!E$4) -> 1 | F13: =INDEX(OK_diag!$B$3:$Y47,Table_2_Indices!$A14,Table_2_Indices!F$4) -> 11 | G13: =INDEX(OK_diag!$B$3:$Y47,Table_2_Indices!$A14,Table_2_Indices!G$4) -> 10 | H13: =INDEX(OK_diag!$B$3:$Y47,Table_2_Indices!$A14,Table_2_Indices!H$4) -> 1 | I13: =INDEX(OK_diag!$B$3:$Y47,Table_2_Indices!$A14,Table_2_Indices!I$4) -> 5 | ... L13: =INDEX(OK_diag!$B$3:$Y47,Table_2_Indices!$A14,Table_2_Indices!L$4) -> 1
A14: Analysis X. Unspecified Psycodysleptics (Katelyn) | B14: =INDEX(OK_diag!$B$3:$Y48,Table_2_Indices!$A15,Table_2_Indices!B$4) -> 3 | C14: =INDEX(OK_diag!$B$3:$Y48,Table_2_Indices!$A15,Table_2_Indices!C$4) -> 1 | D14: =INDEX(OK_diag!$B$3:$Y48,Table_2_Indices!$A15,Table_2_Indices!D$4) -> 1 | E14: =INDEX(OK_diag!$B$3:$Y48,Table_2_Indices!$A15,Table_2_Indices!E$4) -> . | F14: =INDEX(OK_diag!$B$3:$Y48,Table_2_Indices!$A15,Table_2_Indices!F$4) -> 4 | G14: =INDEX(OK_diag!$B$3:$Y48,Table_2_Indices!$A15,Table_2_Indices!G$4) -> 4 | H14: =INDEX(OK_diag!$B$3:$Y48,Table_2_Indices!$A15,Table_2_Indices!H$4) -> . | I14: =INDEX(OK_diag!$B$3:$Y48,Table_2_Indices!$A15,Table_2_Indices!I$4) -> 1 | ... L14: =INDEX(OK_diag!$B$3:$Y48,Table_2_Indices!$A15,Table_2_Indices!L$4) -> 34
A15: Psychiatric Drugs (Jim) | B15: =INDEX(OK_diag!$B$3:$Y49,Table_2_Indices!$A16,Table_2_Indices!B$4) -> . | C15: =INDEX(OK_diag!$B$3:$Y49,Table_2_Indices!$A16,Table_2_Indices!C$4) -> 1 | D15: =INDEX(OK_diag!$B$3:$Y49,Table_2_Indices!$A16,Table_2_Indices!D$4) -> 1 | E15: =INDEX(OK_diag!$B$3:$Y49,Table_2_Indices!$A16,Table_2_Indices!E$4) -> . | F15: =INDEX(OK_diag!$B$3:$Y49,Table_2_Indices!$A16,Table_2_Indices!F$4) -> . | G15: =INDEX(OK_diag!$B$3:$Y49,Table_2_Indices!$A16,Table_2_Indices!G$4) -> . | H15: =INDEX(OK_diag!$B$3:$Y49,Table_2_Indices!$A16,Table_2_Indices!H$4) -> . | I15: =INDEX(OK_diag!$B$3:$Y49,Table_2_Indices!$A16,Table_2_Indices!I$4) -> . | ... L15: =INDEX(OK_diag!$B$3:$Y49,Table_2_Indices!$A16,Table_2_Indices!L$4) -> .
A16: Analysis 2.3.X Alcohol (T51 Katelyn) | B16: =INDEX(OK_diag!$B$3:$Y50,Table_2_Indices!$A17,Table_2_Indices!B$4) -> 0 | C16: =INDEX(OK_diag!$B$3:$Y50,Table_2_Indices!$A17,Table_2_Indices!C$4) -> 0 | D16: =INDEX(OK_diag!$B$3:$Y50,Table_2_Indices!$A17,Table_2_Indices!D$4) -> 0 | E16: =INDEX(OK_diag!$B$3:$Y50,Table_2_Indices!$A17,Table_2_Indices!E$4) -> 0 | F16: =INDEX(OK_diag!$B$3:$Y50,Table_2_Indices!$A17,Table_2_Indices!F$4) -> 0 | G16: =INDEX(OK_diag!$B$3:$Y50,Table_2_Indices!$A17,Table_2_Indices!G$4) -> 0 | H16: =INDEX(OK_diag!$B$3:$Y50,Table_2_Indices!$A17,Table_2_Indices!H$4) -> 0 | I16: =INDEX(OK_diag!$B$3:$Y50,Table_2_Indices!$A17,Table_2_Indices!I$4) -> 0 | ... L16: =INDEX(OK_diag!$B$3:$Y50,Table_2_Indices!$A17,Table_2_Indices!L$4) -> 0

Sheet Table_2_Indices
A1: ="10 Index Values" -> 10 Index Values
B4: 2 | C4: 4 | D4: 6 | E4: 8 | F4: 10 | G4: 12 | H4: 14 | I4: 16 | J4: 18 | K4: 20 | L4: 22 | M4: 24 | N4: 26 | O4: 28
A5: 3
A6: 6
A7: 9
A8: 12
A9: 15
A10: 18
A11: 21
A12: 24
A13: 27
A14: 30
A15: 33
A16: 36
... A19: 45

Sheet OK_diag
B1: COL_CDCANNABISFLAG | D1: COL_CDALLOPIOIDFLAG | F1: COL_CDNONHEROINFLAG | H1: COL_CDHEROINFLAG | J1: COL_CDPSYCHOSTIMFLAG | L1: COL_CDAMPHETAMINEFLAG | N1: COL_CDNONAMPHETAMINEFLAG | P1: COL_CDCOCAINEFLAG | R1: COL_CDBENZODIAZEPINEFLAG | T1: COL_CDALCOHOLFLAG | V1: COL_CDpsychodysFLAG | X1: COL_CDunspothrpyschotropicsFLAG
B2: . | C2: 1 | D2: . | E2: 1 | F2: . | G2: 1 | H2: . | I2: 1 | J2: . | K2: 1 | L2: . | M2: 1 | N2: . | O2: 1 | P2: . | Q2: 1 | R2: . | S2: 1 | T2: . | U2: 1 | V2: . | W2: 1 | X2: . | Y2: 1
A3: ROW_CDCANNABISFLAG
A4: . | B4: 3547 | C4: . | D4: 1820 | E4: 1727 | F4: 1917 | G4: 1630 | H4: 3450 | I4: 97 | J4: 3058 | K4: 489 | L4: 3086 | M4: 461 | N4: 3515 | O4: 32 | P4: 3478 | Q4: 69 | R4: 2260 | S4: 1287 | T4: 3128 | U4: 419 | V4: 3516 | W4: 31 | X4: 3523 | Y4: 24
A5: 1 | B5: . | C5: 81 | D5: 76 | E5: 5 | F5: 76 | G5: 5 | H5: 81 | I5: . | J5: 64 | K5: 17 | L5: 65 | M5: 16 | N5: 80 | O5: 1 | P5: 79 | Q5: 2 | R5: 66 | S5: 15 | T5: 78 | U5: 3 | V5: 78 | W5: 3 | X5: 81 | Y5: .
A6: ROW_CDALLOPIOIDFLAG
A7: . | B7: 1820 | C7: 76 | D7: 1896 | E7: . | F7: 1896 | G7: . | H7: 1896 | I7: . | J7: 1420 | K7: 476 | L7: 1449 | M7: 447 | N7: 1863 | O7: 33 | P7: 1829 | Q7: 67 | R7: 915 | S7: 981 | T7: 1488 | U7: 408 | V7: 1863 | W7: 33 | X7: 1873 | Y7: 23
A8: 1 | B8: 1727 | C8: 5 | D8: . | E8: 1732 | F8: 97 | G8: 1635 | H8: 1635 | I8: 97 | J8: 1702 | K8: 30 | L8: 1702 | M8: 30 | N8: 1732 | O8: . | P8: 1728 | Q8: 4 | R8: 1411 | S8: 321 | T8: 1718 | U8: 14 | V8: 1731 | W8: 1 | X8: 1731 | Y8: 1
A9: ROW_CDNONHEROINFLAG
A10: . | B10: 1917 | C10: 76 | D10: 1896 | E10: 97 | F10: 1993 | G10: . | H10: 1896 | I10: 97 | J10: 1508 | K10: 485 | L10: 1537 | M10: 456 | N10: 1960 | O10: 33 | P10: 1923 | Q10: 70 | R10: 1006 | S10: 987 | T10: 1584 | U10: 409 | V10: 1960 | W10: 33 | X10: 1970 | Y10: 23
A11: 1 | B11: 1630 | C11: 5 | D11: . | E11: 1635 | F11: . | G11: 1635 | H11: 1635 | I11: . | J11: 1614 | K11: 21 | L11: 1614 | M11: 21 | N11: 1635 | O11: . | P11: 1634 | Q11: 1 | R11: 1320 | S11: 315 | T11: 1622 | U11: 13 | V11: 1634 | W11: 1 | X11: 1634 | Y11: 1
A12: ROW_CDHEROINFLAG
A13: . | B13: 3450 | C13: 81 | D13: 1896 | E13: 1635 | F13: 1896 | G13: 1635 | H13: 3531 | I13: . | J13: 3034 | K13: 497 | L13: 3063 | M13: 468 | N13: 3498 | O13: 33 | P13: 3463 | Q13: 68 | R13: 2235 | S13: 1296 | T13: 3110 | U13: 421 | V13: 3497 | W13: 34 | X13: 3507 | Y13: 24
A14: 1 | B14: 97 | C14: . | D14: . | E14: 97 | F14: 97 | G14: . | H14: . | I14: 97 | J14: 88 | K14: 9 | L14: 88 | M14: 9 | N14: 97 | O14: . | P14: 94 | Q14: 3 | R14: 91 | S14: 6 | T14: 96 | U14: 1 | V14: 97 | W14: . | X14: 97 | Y14: .
A15: ROW_CDPSYCHOSTIMFLAG
A16: . | B16: 3058 | C16: 64 | D16: 1420 | E16: 1702 | F16: 1508 | G16: 1614 | H16: 3034 | I16: 88 | J16: 3122 | K16: . | L16: 3122 | M16: . | N16: 3122 | O16: . | P16: 3059 | Q16: 63 | R16: 1846 | S16: 1276 | T16: 2711 | U16: 411 | V16: 3092 | W16: 30 | X16: 3098 | Y16: 24
A17: 1 | B17: 489 | C17: 17 | D17: 476 | E17: 30 | F17: 485 | G17: 21 | H17: 497 | I17: 9 | J17: . | K17: 506 | L17: 29 | M17: 477 | N17: 473 | O17: 33 | P17: 498 | Q17: 8 | R17: 480 | S17: 26 | T17: 495 | U17: 11 | V17: 502 | W17: 4 | X17: 506 | Y17: .
A18: ROW_CDAMPHETAMINEFLAG
A19: . | B19: 3086 | C19: 65 | D19: 1449 | E19: 1702 | F19: 1537 | G19: 1614 | H19: 3063 | I19: 88 | J19: 3122 | K19: 29 | L19: 3151 | M19: . | N19: 3122 | O19: 29 | P19: 3088 | Q19: 63 | R19: 1873 | S19: 1278 | T19: 2739 | U19: 412 | V19: 3121 | W19: 30 | X19: 3127 | Y19: 24
A20: 1 | B20: 461 | C20: 16 | D20: 447 | E20: 30 | F20: 456 | G20: 21 | H20: 468 | I20: 9 | J20: . | K20: 477 | L20: . | M20: 477 | N20: 473 | O20: 4 | P20: 469 | Q20: 8 | R20: 453 | S20: 24 | T20: 467 | U20: 10 | V20: 473 | W20: 4 | X20: 477 | Y20: .
A21: ROW_CDNONAMPHETAMINEFLAG
A22: . | B22: 3515 | C22: 80 | D22: 1863 | E22: 1732 | F22: 1960 | G22: 1635 | H22: 3498 | I22: 97 | J22: 3122 | K22: 473 | L22: 3122 | M22: 473 | N22: 3595 | O22: . | P22: 3524 | Q22: 71 | R22: 2295 | S22: 1300 | T22: 3174 | U22: 421 | V22: 3561 | W22: 34 | X22: 3571 | Y22: 24
A23: 1 | B23: 32 | C23: 1 | D23: 33 | E23: . | F23: 33 | G23: . | H23: 33 | I23: . | J23: . | K23: 33 | L23: 29 | M23: 4 | N23: . | O23: 33 | P23: 33 | Q23: . | R23: 31 | S23: 2 | T23: 32 | U23: 1 | V23: 33 | W23: . | X23: 33 | Y23: .
A24: ROW_CDCOCAINEFLAG
A25: . | B25: 3478 | C25: 79 | D25: 1829 | E25: 1728 | F25: 1923 | G25: 1634 | H25: 3463 | I25: 94 | J25: 3059 | K25: 498 | L25: 3088 | M25: 469 | N25: 3524 | O25: 33 | P25: 3557 | Q25: . | R25: 2258 | S25: 1299 | T25: 3140 | U25: 417 | V25: 3524 | W25: 33 | X25: 3533 | Y25: 24
A26: 1 | B26: 69 | C26: 2 | D26: 67 | E26: 4 | F26: 70 | G26: 1 | H26: 68 | I26: 3 | J26: 63 | K26: 8 | L26: 63 | M26: 8 | N26: 71 | O26: . | P26: . | Q26: 71 | R26: 68 | S26: 3 | T26: 66 | U26: 5 | V26: 70 | W26: 1 | X26: 71 | Y26: .
A27: ROW_CDBENZODIAZEPINEFLAG
A28: . | B28: 2260 | C28: 66 | D28: 915 | E28: 1411 | F28: 1006 | G28: 1320 | H28: 2235 | I28: 91 | J28: 1846 | K28: 480 | L28: 1873 | M28: 453 | N28: 2295 | O28: 31 | P28: 2258 | Q28: 68 | R28: 2326 | S28: . | T28: 1971 | U28: 355 | V28: 2292 | W28: 34 | X28: 2303 | Y28: 23
A29: 1 | B29: 1287 | C29: 15 | D29: 981 | E29: 321 | F29: 987 | G29: 315 | H29: 1296 | I29: 6 | J29: 1276 | K29: 26 | L29: 1278 | M29: 24 | N29: 1300 | O29: 2 | P29: 1299 | Q29: 3 | R29: . | S29: 1302 | T29: 1235 | U29: 67 | V29: 1302 | W29: . | X29: 1301 | Y29: 1
A30: ROW_CDALCOHOLFLAG
A31: . | B31: 3128 | C31: 78 | D31: 1488 | E31: 1718 | F31: 1584 | G31: 1622 | H31: 3110 | I31: 96 | J31: 2711 | K31: 495 | L31: 2739 | M31: 467 | N31: 3174 | O31: 32 | P31: 3140 | Q31: 66 | R31: 1971 | S31: 1235 | T31: 3206 | U31: . | V31: 3173 | W31: 33 | X31: 3183 | Y31: 23
A32: 1 | B32: 419 | C32: 3 | D32: 408 | E32: 14 | F32: 409 | G32: 13 | H32: 421 | I32: 1 | J32: 411 | K32: 11 | L32: 412 | M32: 10 | N32: 421 | O32: 1 | P32: 417 | Q32: 5 | R32: 355 | S32: 67 | T32: . | U32: 422 | V32: 421 | W32: 1 | X32: 421 | Y32: 1
A33: ROW_CDpsychodysFLAG
A34: . | B34: 3516 | C34: 78 | D34: 1863 | E34: 1731 | F34: 1960 | G34: 1634 | H34: 3497 | I34: 97 | J34: 3092 | K34: 502 | L34: 3121 | M34: 473 | N34: 3561 | O34: 33 | P34: 3524 | Q34: 70 | R34: 2292 | S34: 1302 | T34: 3173 | U34: 421 | V34: 3594 | W34: . | X34: 3570 | Y34: 24
A35: 1 | B35: 31 | C35: 3 | D35: 33 | E35: 1 | F35: 33 | G35: 1 | H35: 34 | I35: . | J35: 30 | K35: 4 | L35: 30 | M35: 4 | N35: 34 | O35: . | P35: 33 | Q35: 1 | R35: 34 | S35: . | T35: 33 | U35: 1 | V35: . | W35: 34 | X35: 34 | Y35: .
A36: ROW_CDunspothrpyschotropicsFLAG
A37: . | B37: 3523 | C37: 81 | D37: 1873 | E37: 1731 | F37: 1970 | G37: 1634 | H37: 3507 | I37: 97 | J37: 3098 | K37: 506 | L37: 3127 | M37: 477 | N37: 3571 | O37: 33 | P37: 3533 | Q37: 71 | R37: 2303 | S37: 1301 | T37: 3183 | U37: 421 | V37: 3570 | W37: 34 | X37: 3604 | Y37: .
A38: 1 | B38: 24 | C38: . | D38: 23 | E38: 1 | F38: 23 | G38: 1 | H38: 24 | I38: . | J38: 24 | K38: . | L38: 24 | M38: . | N38: 24 | O38: . | P38: 24 | Q38: . | R38: 23 | S38: 1 | T38: 23 | U38: 1 | V38: 24 | W38: . | X38: . | Y38: 24

Sheet Drug_classes
A1: Number of Selected Drug Classes
A2: NUMDRUGS | B2: Frequency | C2: Percent | D2: Cumulative/Frequency | E2: Cumulative/Percent
A3: 1 | B3: 3031 | C3: 80.55 | D3: 3031 | E3: 80.55
A4: 2 | B4: 597 | C4: 15.87 | D4: 3628 | E4: 96.41
A5: 3 | B5: 113 | C5: 3 | D5: 3741 | E5: 99.42
A6: 4 | B6: 21 | C6: 0.56 | D6: 3762 | E6: 99.97
A7: 5 | B7: 1 | C7: 0.03 | D7: 3763 | E7: 100
