Workbook
Name IDX: Table_4_Other_Codes!$A$1

Sheet Table_0_Information
A1: Table 0: Information_About_Jurisdictions
A3: Jurisdiction | B3: Date Submitted | C3: Number of Primary and Secondary Fields | D3: Date Range | E3: Note
A4: Montana | B4: 43090 | C4: 9 | D4: Oct 1, 2015- Dec 31, 2016 | E4: Montana Hospital Discharge Data System; Oct 1, 2015-Dec 31, 2016
A5: Colorado | B5: 43027 | C5: 30 | D5: Oct 1, 2015- Dec 31, 2016 | E5: COLORADO Hospital Discharge Data System; Oct 1, 2015-Dec 31, 2016
A6: Kentucky | B6: 43074 | C6: 25 | E6: Produced by the Kentucky Injury Prevention and Research Center, as bona fide agent of the Kentucky Department for Public Health, December 2017. Data Source: Kentucky Inpatient Hospitalization Files, Frankfort, KY [2013-2017], Cabinet for Health and Family Services, Office of Health Policy. Data are provisional and are subject to change.
A7: New Mexico | B7: 43087 | D7: Jan 1, 2016- Dec 31, 2016 | E7: New Mexico Hospital Discharge Data System January 1, 2016 through December 31, 2016
A8: State 5
A9: State 6
A10: State 7
A11: State 8
A12: State 9
A13: State 10
A14: State 11
A15: VALIDATION | B15: 43111 | C15: 10 | D15: Jan 1, 2016- Dec 31, 2016 | E15: Validation dataset

Sheet Table_1a_Codes_Rec
A1: Table 1a. Number of drug T-codes per record
A2: Frequency Distribution of Number of Drug Poisoning Codes Per Record, CSTE Working Case Definition of Drug Poisoning
A3: Number of drug poisoning T-codes per record | B3: Number of Records
B4: =Table_0_Information!$A$4 -> Montana | C4: =Table_0_Information!$A$5 -> Colorado | D4: =Table_0_Information!$A$6 -> Kentucky | E4: =Table_0_Information!$A$7 -> New Mexico | F4: =Table_0_Information!$A$8 -> State 5 | G4: =Table_0_Information!$A$9 -> State 6 | H4: =Table_0_Information!$A$10 -> State 7 | I4: =Table_0_Information!$A$11 -> State 8 | J4: =Table_0_Information!$A$12 -> State 9 | K4: =Table_0_Information!$A$13 -> State 10 | L4: =Table_0_Information!$A$14 -> State 11 | M4: =Table_0_Information!$A$15 -> VALIDATION | P4: =Table_0_Information!$A$4 -> Montana | Q4: =Table_0_Information!$A$5 -> Colorado | R4: =Table_0_Information!$A$6 -> Kentucky | S4: =Table_0_Information!$A$7 -> New Mexico | T4: =Table_0_Information!$A$8 -> State 5 | U4: =Table_0_Information!$A$9 -> State 6 | V4: =Table_0_Information!$A$10 -> State 7 | W4: =Table_0_Information!$A$11 -> State 8 | X4: =Table_0_Information!$A$12 -> State 9 | Y4: =Table_0_Information!$A$13 -> State 10 | Z4: =Table_0_Information!$A$14 -> State 11 | AA4: =Table_0_Information!$A$15 -> VALIDATION
A5: 1 | B5: 652 | C5: 6454 | D5: 748 | E5: 1000 | M5: 48 | O5: 1 | P5: =B5/B$16 -> 0.66803279 | Q5: =C5/C$16 -> 0.65803426 | R5: =D5/D$16 -> 0.66607302 | S5: =E5/E$16 -> 0.64308682 | T5: =F5/F$16 -> #DIV/0! | U5: =G5/G$16 -> #DIV/0! | V5: =H5/H$16 -> #DIV/0! | W5: =I5/I$16 -> #DIV/0! | ... AA5: =M5/M$16 -> 0.28915663
A6: 2 | B6: 201 | C6: 2134 | D6: 247 | E6: 350 | M6: 15 | O6: 2 | P6: =B6/B$16 -> 0.20594262 | Q6: =C6/C$16 -> 0.21757749 | R6: =D6/D$16 -> 0.21994657 | S6: =E6/E$16 -> 0.22508039 | T6: =F6/F$16 -> #DIV/0! | U6: =G6/G$16 -> #DIV/0! | V6: =H6/H$16 -> #DIV/0! | W6: =I6/I$16 -> #DIV/0! | ... AA6: =M6/M$16 -> 0.090361446
A7: 3 | B7: 84 | C7: 798 | D7: 103 | E7: 135 | M7: 103 | O7: 3 | P7: =B7/B$16 -> 0.086065574 | Q7: =C7/C$16 -> 0.081362153 | R7: =D7/D$16 -> 0.091718611 | S7: =E7/E$16 -> 0.08681672 | T7: =F7/F$16 -> #DIV/0! | U7: =G7/G$16 -> #DIV/0! | V7: =H7/H$16 -> #DIV/0! | W7: =I7/I$16 -> #DIV/0! | ... AA7: =M7/M$16 -> 0.62048193
A8: 4 | B8: 30 | C8: 284 | D8: 25 | E8: 40 | O8: 4 | P8: =B8/B$16 -> 0.030737705 | Q8: =C8/C$16 -> 0.028955954 | R8: =D8/D$16 -> 0.022261799 | S8: =E8/E$16 -> 0.025723473 | T8: =F8/F$16 -> #DIV/0! | U8: =G8/G$16 -> #DIV/0! | V8: =H8/H$16 -> #DIV/0! | W8: =I8/I$16 -> #DIV/0! | ... AA8: =M8/M$16 -> 0
A9: 5 | B9: 6 | C9: 88 | D9: * | E9: 20 | O9: 5 | P9: =B9/B$16 -> 0.006147541 | Q9: =C9/C$16 -> 0.0089722675 | R9: =D9/D$16 -> #VALUE! | S9: =E9/E$16 -> 0.012861736 | T9: =F9/F$16 -> #DIV/0! | U9: =G9/G$16 -> #DIV/0! | V9: =H9/H$16 -> #DIV/0! | W9: =I9/I$16 -> #DIV/0! | ... AA9: =M9/M$16 -> 0
A10: 6 | B10: 1 | C10: 34 | D10: * | E10: 4 | O10: 6 | P10: =B10/B$16 -> 0.0010245902 | Q10: =C10/C$16 -> 0.0034665579 | R10: =D10/D$16 -> #VALUE! | S10: =E10/E$16 -> 0.0025723473 | T10: =F10/F$16 -> #DIV/0! | U10: =G10/G$16 -> #DIV/0! | V10: =H10/H$16 -> #DIV/0! | W10: =I10/I$16 -> #DIV/0! | ... AA10: =M10/M$16 -> 0
A11: 7 | B11: 1 | C11: 6 | D11: . | E11: 3 | O11: 7 | P11: =B11/B$16 -> 0.0010245902 | Q11: =C11/C$16 -> 0.00061174551 | R11: =D11/D$16 -> #VALUE! | S11: =E11/E$16 -> 0.0019292605 | T11: =F11/F$16 -> #DIV/0! | U11: =G11/G$16 -> #DIV/0! | V11: =H11/H$16 -> #DIV/0! | W11: =I11/I$16 -> #DIV/0! | ... AA11: =M11/M$16 -> 0
A12: 8 | B12: 1 | C12: 4 | D12: . | E12: 2 | O12: 8 | P12: =B12/B$16 -> 0.0010245902 | Q12: =C12/C$16 -> 0.00040783034 | R12: =D12/D$16 -> #VALUE! | S12: =E12/E$16 -> 0.0012861736 | T12: =F12/F$16 -> #DIV/0! | U12: =G12/G$16 -> #DIV/0! | V12: =H12/H$16 -> #DIV/0! | W12: =I12/I$16 -> #DIV/0! | ... AA12: =M12/M$16 -> 0
A13: 9 | C13: 2 | D13: . | E13: 1 | O13: 9 | P13: =B13/B$16 -> 0 | Q13: =C13/C$16 -> 0.00020391517 | R13: =D13/D$16 -> #VALUE! | S13: =E13/E$16 -> 0.00064308682 | T13: =F13/F$16 -> #DIV/0! | U13: =G13/G$16 -> #DIV/0! | V13: =H13/H$16 -> #DIV/0! | W13: =I13/I$16 -> #DIV/0! | ... AA13: =M13/M$16 -> 0
A14: 10 | C14: 2 | D14: . | O14: 10 | P14: =B14/B$16 -> 0 | Q14: =C14/C$16 -> 0.00020391517 | R14: =D14/D$16 -> #VALUE! | S14: =E14/E$16 -> 0 | T14: =F14/F$16 -> #DIV/0! | U14: =G14/G$16 -> #DIV/0! | V14: =H14/H$16 -> #DIV/0! | W14: =I14/I$16 -> #DIV/0! | ... AA14: =M14/M$16 -> 0
A15: 11 | C15: 2 | D15: . | O15: 11 | P15: =B15/B$16 -> 0 | Q15: =C15/C$16 -> 0.00020391517 | R15: =D15/D$16 -> #VALUE! | S15: =E15/E$16 -> 0 | T15: =F15/F$16 -> #DIV/0! | U15: =G15/G$16 -> #DIV/0! | V15: =H15/H$16 -> #DIV/0! | W15: =I15/I$16 -> #DIV/0! | ... AA15: =M15/M$16 -> 0
A16: Total | B16: =SUM(B5:B15) -> 976 | C16: =SUM(C5:C15) -> 9808 | D16: =SUM(D5:D15) -> 1123 | E16: =SUM(E5:E15) -> 1555 | F16: =SUM(F5:F15) -> 0 | G16: =SUM(G5:G15) -> 0 | H16: =SUM(H5:H15) -> 0 | I16: =SUM(I5:I15) -> 0 | ... M16: =SUM(M5:M15) -> 166
B17: Percent

Sheet Table_1b_Codes_List
A1: Table 1b. Frequency of individual drug T-codes
A2: Frequency Distribution of Individual Drug Poisoning Codes, CSTE Working Case Definition of Drug Poisoning
A4: Poisoning by, adverse effect of and underdosing of | B4: =Table_0_Information!$A$4 -> Montana | C4: =Table_0_Information!$A$5 -> Colorado | D4: =Table_0_Information!$A$6 -> Kentucky | E4: =Table_0_Information!$A$7 -> New Mexico | F4: =Table_0_Information!$A$8 -> State 5 | G4: =Table_0_Information!$A$9 -> State 6 | H4: =Table_0_Information!$A$10 -> State 7 | I4: =Table_0_Information!$A$11 -> State 8 | J4: =Table_0_Information!$A$12 -> State 9 | K4: =Table_0_Information!$A$13 -> State 10 | L4: =Table_0_Information!$A$14 -> State 11 | M4: =Table_0_Information!$A$15 -> VALIDATION | O4: Percent | P4: =Table_0_Information!$A$4 -> Montana | Q4: =Table_0_Information!$A$5 -> Colorado | R4: =Table_0_Information!$A$6 -> Kentucky | S4: =Table_0_Information!$A$7 -> New Mexico | T4: =Table_0_Information!$A$8 -> State 5 | U4: =Table_0_Information!$A$9 -> State 6 | V4: =Table_0_Information!$A$10 -> State 7 | W4: =Table_0_Information!$A$11 -> State 8 | X4: =Table_0_Information!$A$12 -> State 9 | Y4: =Table_0_Information!$A$13 -> State 10 | Z4: =Table_0_Information!$A$14 -> State 11 | AA4: =Table_0_Information!$A$15 -> VALIDATION
A5: systemic antibiotics | B5: 3 | C5: 30 | D5: * | E5: 9 | M5: 3 | N5: T36 | O5: T36 antibiotics… | P5: =B5/B$20 -> 0.0020311442 | Q5: =C5/C$20 -> 0.001996008 | R5: =D5/D$20 -> #VALUE! | S5: =E5/E$20 -> 0.0036960986 | T5: =F5/F$20 -> #DIV/0! | U5: =G5/G$20 -> #DIV/0! | V5: =H5/H$20 -> #DIV/0! | W5: =I5/I$20 -> #DIV/0! | ... AA5: =M5/M$20 -> 0.007751938
A6: other systemic anti- infectives and antiparasitics | B6: 3 | C6: 30 | D6: * | E6: 3 | M6: 1 | N6: T37 | O6: T37 ...anti-infectives and antiparasitics | P6: =B6/B$20 -> 0.0020311442 | Q6: =C6/C$20 -> 0.001996008 | R6: =D6/D$20 -> #VALUE! | S6: =E6/E$20 -> 0.0012320329 | T6: =F6/F$20 -> #DIV/0! | U6: =G6/G$20 -> #DIV/0! | V6: =H6/H$20 -> #DIV/0! | W6: =I6/I$20 -> #DIV/0! | ... AA6: =M6/M$20 -> 0.0025839793
A7: hormones and their synthetic substitutes and antagonists, not elsewhere classified | B7: 30 | C7: 380 | D7: 42 | E7: 80 | M7: 1 | N7: T38 | O7: T38 hormones... | P7: =B7/B$20 -> 0.020311442 | Q7: =C7/C$20 -> 0.025282768 | R7: =D7/D$20 -> 0.024720424 | S7: =E7/E$20 -> 0.032854209 | T7: =F7/F$20 -> #DIV/0! | U7: =G7/G$20 -> #DIV/0! | V7: =H7/H$20 -> #DIV/0! | W7: =I7/I$20 -> #DIV/0! | ... AA7: =M7/M$20 -> 0.0025839793
A8: nonopioid analgesics, antipyretics and antirheumatics | B8: 221 | C8: 2208 | D8: 117 | E8: 296 | M8: 1 | N8: T39 | O8: T39 nonopioid analgesics... | P8: =B8/B$20 -> 0.14962762 | Q8: =C8/C$20 -> 0.14690619 | R8: =D8/D$20 -> 0.068864038 | S8: =E8/E$20 -> 0.12156057 | T8: =F8/F$20 -> #DIV/0! | U8: =G8/G$20 -> #DIV/0! | V8: =H8/H$20 -> #DIV/0! | W8: =I8/I$20 -> #DIV/0! | ... AA8: =M8/M$20 -> 0.0025839793
A9: narcotics and psychodysleptics [hallucinogens] | B9: 214 | C9: 3420 | D9: 417 | E9: 543 | M9: 230 | N9: T40 | O9: T40 narcotics and hallucinogens | P9: =B9/B$20 -> 0.14488829 | Q9: =C9/C$20 -> 0.22754491 | R9: =D9/D$20 -> 0.24543849 | S9: =E9/E$20 -> 0.22299795 | T9: =F9/F$20 -> #DIV/0! | U9: =G9/G$20 -> #DIV/0! | V9: =H9/H$20 -> #DIV/0! | W9: =I9/I$20 -> #DIV/0! | ... AA9: =M9/M$20 -> 0.59431525
A10: anesthetics and therapeutic gases | B10: 1 | C10: 16 | D10: 5 | E10: 1 | M10: 40 | N10: T41 | O10: T41 anesthetics… | P10: =B10/B$20 -> 0.00067704807 | Q10: =C10/C$20 -> 0.0010645376 | R10: =D10/D$20 -> 0.0029429076 | S10: =E10/E$20 -> 0.00041067762 | T10: =F10/F$20 -> #DIV/0! | U10: =G10/G$20 -> #DIV/0! | V10: =H10/H$20 -> #DIV/0! | W10: =I10/I$20 -> #DIV/0! | ... AA10: =M10/M$20 -> 0.10335917
A11: antiepileptic, sedative- hypnotic and antiparkinsonism drugs | B11: 305 | C11: 3030 | D11: 441 | E11: 542 | M11: 11 | N11: T42 | O11: T42 antiepileptic... | P11: =B11/B$20 -> 0.20649966 | Q11: =C11/C$20 -> 0.20159681 | R11: =D11/D$20 -> 0.25956445 | S11: =E11/E$20 -> 0.22258727 | T11: =F11/F$20 -> #DIV/0! | U11: =G11/G$20 -> #DIV/0! | V11: =H11/H$20 -> #DIV/0! | W11: =I11/I$20 -> #DIV/0! | ... AA11: =M11/M$20 -> 0.028423773
A12: psychotropic drugs, not elsewhere classified | B12: 338 | C12: 3198 | D12: 322 | E12: 546 | M12: 70 | N12: T43 | O12: T43 psychotropics, NEC | P12: =B12/B$20 -> 0.22884225 | Q12: =C12/C$20 -> 0.21277445 | R12: =D12/D$20 -> 0.18952325 | S12: =E12/E$20 -> 0.22422998 | T12: =F12/F$20 -> #DIV/0! | U12: =G12/G$20 -> #DIV/0! | V12: =H12/H$20 -> #DIV/0! | W12: =I12/I$20 -> #DIV/0! | ... AA12: =M12/M$20 -> 0.18087855
A13: drugs primarily affecting the autonomic nervous system | B13: 50 | C13: 420 | D13: 24 | E13: 59 | M13: 3 | N13: T44 | O13: T44 autonomic nervous system | P13: =B13/B$20 -> 0.033852404 | Q13: =C13/C$20 -> 0.027944112 | R13: =D13/D$20 -> 0.014125956 | S13: =E13/E$20 -> 0.024229979 | T13: =F13/F$20 -> #DIV/0! | U13: =G13/G$20 -> #DIV/0! | V13: =H13/H$20 -> #DIV/0! | W13: =I13/I$20 -> #DIV/0! | ... AA13: =M13/M$20 -> 0.007751938
A14: primarily systemic and hematological agents, not elsewhere classified | B14: 95 | C14: 780 | D14: 61 | E14: 86 | M14: 3 | N14: T45 | O14: T45 Systemic/hematological, NEC | P14: =B14/B$20 -> 0.064319567 | Q14: =C14/C$20 -> 0.051896208 | R14: =D14/D$20 -> 0.035903473 | S14: =E14/E$20 -> 0.035318275 | T14: =F14/F$20 -> #DIV/0! | U14: =G14/G$20 -> #DIV/0! | V14: =H14/H$20 -> #DIV/0! | W14: =I14/I$20 -> #DIV/0! | ... AA14: =M14/M$20 -> 0.007751938
A15: agents primarily affecting the cardiovascular system | B15: 52 | C15: 404 | D15: 64 | E15: 61 | M15: 3 | N15: T46 | O15: T46 cardiovascular | P15: =B15/B$20 -> 0.0352065 | Q15: =C15/C$20 -> 0.026879574 | R15: =D15/D$20 -> 0.037669217 | S15: =E15/E$20 -> 0.025051335 | T15: =F15/F$20 -> #DIV/0! | U15: =G15/G$20 -> #DIV/0! | V15: =H15/H$20 -> #DIV/0! | W15: =I15/I$20 -> #DIV/0! | ... AA15: =M15/M$20 -> 0.007751938
A16: agents primarily affecting the gastrointestinal system | B16: 8 | C16: 78 | D16: 8 | E16: 8 | M16: 4 | N16: T47 | O16: T47 gastrointestinal | P16: =B16/B$20 -> 0.0054163846 | Q16: =C16/C$20 -> 0.0051896208 | R16: =D16/D$20 -> 0.0047086521 | S16: =E16/E$20 -> 0.0032854209 | T16: =F16/F$20 -> #DIV/0! | U16: =G16/G$20 -> #DIV/0! | V16: =H16/H$20 -> #DIV/0! | W16: =I16/I$20 -> #DIV/0! | ... AA16: =M16/M$20 -> 0.010335917
A17: agents primarily acting on smooth and skeletal muscles and the respiratory system | B17: 53 | C17: 292 | D17: 35 | E17: 40 | M17: 3 | N17: T48 | O17: T48 muscles/respiratory | P17: =B17/B$20 -> 0.035883548 | Q17: =C17/C$20 -> 0.019427811 | R17: =D17/D$20 -> 0.020600353 | S17: =E17/E$20 -> 0.016427105 | T17: =F17/F$20 -> #DIV/0! | U17: =G17/G$20 -> #DIV/0! | V17: =H17/H$20 -> #DIV/0! | W17: =I17/I$20 -> #DIV/0! | ... AA17: =M17/M$20 -> 0.007751938
A18: topical agents primarily affecting skin and mucous membrane and by ophthalmological, otorhinorlaryngological and dental drugs | B18: 2 | C18: 42 | D18: * | E18: 5 | M18: 2 | N18: T49 | O18: T49 topical agents | P18: =B18/B$20 -> 0.0013540961 | Q18: =C18/C$20 -> 0.0027944112 | R18: =D18/D$20 -> #VALUE! | S18: =E18/E$20 -> 0.0020533881 | T18: =F18/F$20 -> #DIV/0! | U18: =G18/G$20 -> #DIV/0! | V18: =H18/H$20 -> #DIV/0! | W18: =I18/I$20 -> #DIV/0! | ... AA18: =M18/M$20 -> 0.0051679587
A19: diuretics and other and unspecified drugs, medicaments and biological substances | B19: 102 | C19: 702 | D19: 163 | E19: 156 | M19: 12 | N19: T50 | O19: T50 diuretics and OU | P19: =B19/B$20 -> 0.069058903 | Q19: =C19/C$20 -> 0.046706587 | R19: =D19/D$20 -> 0.095938788 | S19: =E19/E$20 -> 0.064065708 | T19: =F19/F$20 -> #DIV/0! | U19: =G19/G$20 -> #DIV/0! | V19: =H19/H$20 -> #DIV/0! | W19: =I19/I$20 -> #DIV/0! | ... AA19: =M19/M$20 -> 0.031007752
A20: Total | B20: =SUM(B5:B19) -> 1477 | C20: =SUM(C5:C19) -> 15030 | D20: =SUM(D5:D19) -> 1699 | E20: =SUM(E5:E19) -> 2435 | F20: =SUM(F5:F19) -> 0 | G20: =SUM(G5:G19) -> 0 | H20: =SUM(H5:H19) -> 0 | I20: =SUM(I5:I19) -> 0 | ... M20: =SUM(M5:M19) -> 387
A161: Montana Hospital Discharge Data System; Oct 1, 2015-Dec 31, 2016

Sheet Table_2_Encounter
A1: Table 2. Frequency of type of encounter
A2: Frequency of Encounter Type, CSTE Working Case Definition of Drug Poisoning (Allowing Sequale and Unknown Encounter Types)
B4: =Table_0_Information!$A$4 -> Montana | C4: =Table_0_Information!$A$5 -> Colorado | D4: =Table_0_Information!$A$6 -> Kentucky | E4: =Table_0_Information!$A$7 -> New Mexico | F4: =Table_0_Information!$A$8 -> State 5 | G4: =Table_0_Information!$A$9 -> State 6 | H4: =Table_0_Information!$A$10 -> State 7 | I4: =Table_0_Information!$A$11 -> State 8 | J4: =Table_0_Information!$A$12 -> State 9 | K4: =Table_0_Information!$A$13 -> State 10 | L4: =Table_0_Information!$A$14 -> State 11 | M4: =Table_0_Information!$A$15 -> VALIDATION | O4: Percent | P4: =Table_0_Information!$A$4 -> Montana | Q4: =Table_0_Information!$A$5 -> Colorado | R4: =Table_0_Information!$A$6 -> Kentucky | S4: =Table_0_Information!$A$7 -> New Mexico | T4: =Table_0_Information!$A$8 -> State 5 | U4: =Table_0_Information!$A$9 -> State 6 | V4: =Table_0_Information!$A$10 -> State 7 | W4: =Table_0_Information!$A$11 -> State 8 | X4: =Table_0_Information!$A$12 -> State 9 | Y4: =Table_0_Information!$A$13 -> State 10 | Z4: =Table_0_Information!$A$14 -> State 11 | AA4: =Table_0_Information!$A$15 -> VALIDATION
A5: A: initial encounter | B5: 1023 | C5: 9796 | D5: * | E5: 1554 | M5: 92 | O5: A: initial encounter | P5: =B5/B$9 -> 1 | Q5: =C5/C$9 -> 0.99796251 | R5: =D5/D$9 -> #VALUE! | S5: =E5/E$9 -> 0.93614458 | T5: =F5/F$9 -> #DIV/0! | U5: =G5/G$9 -> #DIV/0! | V5: =H5/H$9 -> #DIV/0! | W5: =I5/I$9 -> #DIV/0! | ... AA5: =M5/M$9 -> 0.49462366
A6: D: subsequential encounter | C6: 12 | D6: * | E6: 1 | M6: 74 | O6: D: subsequential encounter | P6: =B6/B$9 -> 0 | Q6: =C6/C$9 -> 0.0012224939 | R6: =D6/D$9 -> #VALUE! | S6: =E6/E$9 -> 0.00060240964 | T6: =F6/F$9 -> #DIV/0! | U6: =G6/G$9 -> #DIV/0! | V6: =H6/H$9 -> #DIV/0! | W6: =I6/I$9 -> #DIV/0! | ... AA6: =M6/M$9 -> 0.39784946
A7: S: sequela | B7: . | C7: 8 | D7: . | E7: 1 | M7: 20 | O7: S: sequela | P7: =B7/B$9 -> #VALUE! | Q7: =C7/C$9 -> 0.00081499593 | R7: =D7/D$9 -> #VALUE! | S7: =E7/E$9 -> 0.00060240964 | T7: =F7/F$9 -> #DIV/0! | U7: =G7/G$9 -> #DIV/0! | V7: =H7/H$9 -> #DIV/0! | W7: =I7/I$9 -> #DIV/0! | ... AA7: =M7/M$9 -> 0.10752688
A8: Missing | E8: 104 | O8: Missing | P8: =B8/B$9 -> 0 | Q8: =C8/C$9 -> 0 | R8: =D8/D$9 -> #DIV/0! | S8: =E8/E$9 -> 0.062650602 | T8: =F8/F$9 -> #DIV/0! | U8: =G8/G$9 -> #DIV/0! | V8: =H8/H$9 -> #DIV/0! | W8: =I8/I$9 -> #DIV/0! | ... AA8: =M8/M$9 -> 0
A9: Total | B9: =SUM(B5:B8) -> 1023 | C9: =SUM(C5:C8) -> 9816 | D9: =SUM(D5:D8) -> 0 | E9: =SUM(E5:E8) -> 1660 | F9: =SUM(F5:F8) -> 0 | G9: =SUM(G5:G8) -> 0 | H9: =SUM(H5:H8) -> 0 | I9: =SUM(I5:I8) -> 0 | ... M9: =SUM(M5:M8) -> 186
A10: *Values less than 5

Sheet Table_3_Manner
A1: Table 3. Frequency of intent of the drug overdose
A2: Frequency of Intent (Manner), CSTE Working Case Definition of Drug Poisoning (Allowing Sequale and Unknown Encounter Types)
B4: =Table_0_Information!$A$4 -> Montana | C4: =Table_0_Information!$A$5 -> Colorado | D4: =Table_0_Information!$A$6 -> Kentucky | E4: =Table_0_Information!$A$7 -> New Mexico | F4: =Table_0_Information!$A$8 -> State 5 | G4: =Table_0_Information!$A$9 -> State 6 | H4: =Table_0_Information!$A$10 -> State 7 | I4: =Table_0_Information!$A$11 -> State 8 | J4: =Table_0_Information!$A$12 -> State 9 | K4: =Table_0_Information!$A$13 -> State 10 | L4: =Table_0_Information!$A$14 -> State 11 | M4: =Table_0_Information!$A$15 -> VALIDATION | O4: Percent | P4: =Table_0_Information!$A$4 -> Montana | Q4: =Table_0_Information!$A$5 -> Colorado | R4: =Table_0_Information!$A$6 -> Kentucky | S4: =Table_0_Information!$A$7 -> New Mexico | T4: =Table_0_Information!$A$8 -> State 5 | U4: =Table_0_Information!$A$9 -> State 6 | V4: =Table_0_Information!$A$10 -> State 7 | W4: =Table_0_Information!$A$11 -> State 8 | X4: =Table_0_Information!$A$12 -> State 9 | Y4: =Table_0_Information!$A$13 -> State 10 | Z4: =Table_0_Information!$A$14 -> State 11 | AA4: =Table_0_Information!$A$15 -> VALIDATION
A5: 1 Unintentional | B5: 343 | C5: 4402 | D5: 629 | E5: 759 | M5: 40 | O5: 1 Unintentional | P5: =B5/B$12 -> 0.33528837 | Q5: =C5/C$12 -> 0.44881729 | R5: =D5/D$12 -> 0.53577513 | S5: =E5/E$12 -> 0.47055177 | T5: =F5/F$12 -> #DIV/0! | U5: =G5/G$12 -> #DIV/0! | V5: =H5/H$12 -> #DIV/0! | W5: =I5/I$12 -> #DIV/0! | ... AA5: =M5/M$12 -> 0.20512821
A6: 2 Self-Harm | B6: 640 | C6: 5040 | D6: 453 | E6: 742 | M6: 49 | O6: 2 Self-Harm | P6: =B6/B$12 -> 0.62561095 | Q6: =C6/C$12 -> 0.51386623 | R6: =D6/D$12 -> 0.38586031 | S6: =E6/E$12 -> 0.4600124 | T6: =F6/F$12 -> #DIV/0! | U6: =G6/G$12 -> #DIV/0! | V6: =H6/H$12 -> #DIV/0! | W6: =I6/I$12 -> #DIV/0! | ... AA6: =M6/M$12 -> 0.25128205
A7: 3 Assault | B7: 1 | C7: 22 | D7: * | E7: 4 | M7: 34 | O7: 3 Assault | P7: =B7/B$12 -> 0.00097751711 | Q7: =C7/C$12 -> 0.0022430669 | R7: =D7/D$12 -> #VALUE! | S7: =E7/E$12 -> 0.0024798512 | T7: =F7/F$12 -> #DIV/0! | U7: =G7/G$12 -> #DIV/0! | V7: =H7/H$12 -> #DIV/0! | W7: =I7/I$12 -> #DIV/0! | ... AA7: =M7/M$12 -> 0.17435897
A8: 4 Undetermined | B8: 39 | C8: 344 | D8: 51 | E8: 50 | M8: 43 | O8: 4 Undetermined | P8: =B8/B$12 -> 0.038123167 | Q8: =C8/C$12 -> 0.035073409 | R8: =D8/D$12 -> 0.043441227 | S8: =E8/E$12 -> 0.03099814 | T8: =F8/F$12 -> #DIV/0! | U8: =G8/G$12 -> #DIV/0! | V8: =H8/H$12 -> #DIV/0! | W8: =I8/I$12 -> #DIV/0! | ... AA8: =M8/M$12 -> 0.22051282
A9: 5 Adverse Effect | B9: . | C9: . | D9: 41 | E9: 58 | M9: 15 | O9: 5 Adverse Effect | P9: =B9/B$12 -> #VALUE! | Q9: =C9/C$12 -> #VALUE! | R9: =D9/D$12 -> 0.034923339 | S9: =E9/E$12 -> 0.035957843 | T9: =F9/F$12 -> #DIV/0! | U9: =G9/G$12 -> #DIV/0! | V9: =H9/H$12 -> #DIV/0! | W9: =I9/I$12 -> #DIV/0! | ... AA9: =M9/M$12 -> 0.076923077
A10: 6 Underdose | B10: . | C10: . | D10: * | M10: 14 | O10: 6 Underdose | P10: =B10/B$12 -> #VALUE! | Q10: =C10/C$12 -> #VALUE! | R10: =D10/D$12 -> #VALUE! | S10: =E10/E$12 -> 0 | T10: =F10/F$12 -> #DIV/0! | U10: =G10/G$12 -> #DIV/0! | V10: =H10/H$12 -> #DIV/0! | W10: =I10/I$12 -> #DIV/0! | ... AA10: =M10/M$12 -> 0.071794872
A11: Missing | O11: Missing | P11: =B11/B$12 -> 0 | Q11: =C11/C$12 -> 0 | R11: =D11/D$12 -> 0 | S11: =E11/E$12 -> 0 | T11: =F11/F$12 -> #DIV/0! | U11: =G11/G$12 -> #DIV/0! | V11: =H11/H$12 -> #DIV/0! | W11: =I11/I$12 -> #DIV/0! | ... AA11: =M11/M$12 -> 0
A12: Total | B12: =SUM(B5:B10) -> 1023 | C12: =SUM(C5:C10) -> 9808 | D12: =SUM(D5:D10) -> 1174 | E12: =SUM(E5:E10) -> 1613 | F12: =SUM(F5:F10) -> 0 | G12: =SUM(G5:G10) -> 0 | H12: =SUM(H5:H10) -> 0 | I12: =SUM(I5:I10) -> 0 | ... M12: =SUM(M5:M10) -> 195

Sheet Table_4_Other_Codes
A1: Table 4: Presence of other external cause codes
A2: First Listed Manner / Mechanism Non-Drug Poisoning External Cause Code,CSTE Working Case Definition of Drug Poisoning
A4: Chapter | B4: =Table_0_Information!$A$4 -> Montana | C4: =Table_0_Information!$A$5 -> Colorado | D4: =Table_0_Information!$A$6 -> Kentucky | E4: =Table_0_Information!$A$7 -> New Mexico | F4: =Table_0_Information!$A$8 -> State 5 | G4: =Table_0_Information!$A$9 -> State 6 | H4: =Table_0_Information!$A$10 -> State 7 | I4: =Table_0_Information!$A$11 -> State 8 | J4: =Table_0_Information!$A$12 -> State 9 | K4: =Table_0_Information!$A$13 -> State 10 | L4: =Table_0_Information!$A$14 -> State 11 | M4: =Table_0_Information!$A$15 -> VALIDATION | O4: Chapter | P4: =Table_0_Information!$A$4 -> Montana | Q4: =Table_0_Information!$A$5 -> Colorado | R4: =Table_0_Information!$A$6 -> Kentucky | S4: =Table_0_Information!$A$7 -> New Mexico | T4: =Table_0_Information!$A$8 -> State 5 | U4: =Table_0_Information!$A$9 -> State 6 | V4: =Table_0_Information!$A$10 -> State 7 | W4: =Table_0_Information!$A$11 -> State 8 | X4: =Table_0_Information!$A$12 -> State 9 | Y4: =Table_0_Information!$A$13 -> State 10 | Z4: =Table_0_Information!$A$14 -> State 11 | AA4: =Table_0_Information!$A$15 -> VALIDATION
A5: No Other External Cause Code | B5: 843 | C5: 7994 | D5: 998 | E5: 1267 | M5: 2 | O5: No Other External Cause Code | P5: =B5/B$48 -> 0.86372951 | Q5: =C5/C$48 -> 0.81504894 | R5: =D5/D$48 -> 0.89027654 | S5: =E5/E$48 -> 0.814791 | T5: =F5/F$48 -> #DIV/0! | U5: =G5/G$48 -> #DIV/0! | V5: =H5/H$48 -> #DIV/0! | W5: =I5/I$48 -> #DIV/0! | ... AA5: =M5/M$48 -> 0.012048193
A6: T07-T07: Injuries involving multiple body regions | M6: 0 | O6: skip: T07-T07: Injuries involving multiple body regions | P6: =B6/B$48 -> 0 | Q6: =C6/C$48 -> 0 | R6: =D6/D$48 -> 0 | S6: =E6/E$48 -> 0 | T6: =F6/F$48 -> #DIV/0! | U6: =G6/G$48 -> #DIV/0! | V6: =H6/H$48 -> #DIV/0! | W6: =I6/I$48 -> #DIV/0! | ... AA6: =M6/M$48 -> 0
A7: T14-T14: Injuries of unspecified body region | B7: 9 | C7: 380 | D7: 10 | E7: 12 | M7: 0 | O7: T14-T14: Injuries of unspecified body region | P7: =B7/B$48 -> 0.0092213115 | Q7: =C7/C$48 -> 0.038743883 | R7: =D7/D$48 -> 0.0089206066 | S7: =E7/E$48 -> 0.0077170418 | T7: =F7/F$48 -> #DIV/0! | U7: =G7/G$48 -> #DIV/0! | V7: =H7/H$48 -> #DIV/0! | W7: =I7/I$48 -> #DIV/0! | ... AA7: =M7/M$48 -> 0
A8: T15-T19: Effects of foreign body entering through natural orifice | C8: 50 | D8: 12 | E8: 1 | M8: 4 | O8: T15-T19: Effects of foreign body entering through natural orifice | P8: =B8/B$48 -> 0 | Q8: =C8/C$48 -> 0.0050978793 | R8: =D8/D$48 -> 0.010704728 | S8: =E8/E$48 -> 0.00064308682 | T8: =F8/F$48 -> #DIV/0! | U8: =G8/G$48 -> #DIV/0! | V8: =H8/H$48 -> #DIV/0! | W8: =I8/I$48 -> #DIV/0! | ... AA8: =M8/M$48 -> 0.024096386
A9: T20-T25: Burns and corrosions of external body surface, specified by site | M9: 0 | O9: skip: T20-T25: Burns and corrosions of external body surface, specified by site | P9: =B9/B$48 -> 0 | Q9: =C9/C$48 -> 0 | R9: =D9/D$48 -> 0 | S9: =E9/E$48 -> 0 | T9: =F9/F$48 -> #DIV/0! | U9: =G9/G$48 -> #DIV/0! | V9: =H9/H$48 -> #DIV/0! | W9: =I9/I$48 -> #DIV/0! | ... AA9: =M9/M$48 -> 0
A10: T26-T28: Burns and corrosions confined to eye and internal organs | M10: 0 | O10: skip: T26-T28: Burns and corrosions confined to eye and internal organs | P10: =B10/B$48 -> 0 | Q10: =C10/C$48 -> 0 | R10: =D10/D$48 -> 0 | S10: =E10/E$48 -> 0 | T10: =F10/F$48 -> #DIV/0! | U10: =G10/G$48 -> #DIV/0! | V10: =H10/H$48 -> #DIV/0! | W10: =I10/I$48 -> #DIV/0! | ... AA10: =M10/M$48 -> 0
A11: T30-T32: Burns and corrosions of multiple and unspecified body regions | M11: 0 | O11: skip: T30-T32: Burns and corrosions of multiple and unspecified body regions | P11: =B11/B$48 -> 0 | Q11: =C11/C$48 -> 0 | R11: =D11/D$48 -> 0 | S11: =E11/E$48 -> 0 | T11: =F11/F$48 -> #DIV/0! | U11: =G11/G$48 -> #DIV/0! | V11: =H11/H$48 -> #DIV/0! | W11: =I11/I$48 -> #DIV/0! | ... AA11: =M11/M$48 -> 0
A12: T33-T34: Frostbite | M12: 0 | O12: skip: T33-T34: Frostbite | P12: =B12/B$48 -> 0 | Q12: =C12/C$48 -> 0 | R12: =D12/D$48 -> 0 | S12: =E12/E$48 -> 0 | T12: =F12/F$48 -> #DIV/0! | U12: =G12/G$48 -> #DIV/0! | V12: =H12/H$48 -> #DIV/0! | W12: =I12/I$48 -> #DIV/0! | ... AA12: =M12/M$48 -> 0
A13: T36-T50: Poisoning by, adverse effect of and underdosing of drugs, medicaments, and biological substances | M13: 0 | O13: Skip: T36-T50 Poisoning by, adverse effect of and underdosing of drugs, medicaments, and biological substances
A14: T51-T65: Toxic effects of substances chiefly nonmedicinal as to source | B14: 65 | C14: 644 | D14: 38 | E14: 77 | M14: 15 | O14: T51-T65: Toxic effects of substances chiefly nonmedicinal as to source | P14: =B14/B$48 -> 0.066598361 | Q14: =C14/C$48 -> 0.065660685 | R14: =D14/D$48 -> 0.033898305 | S14: =E14/E$48 -> 0.049517685 | T14: =F14/F$48 -> #DIV/0! | U14: =G14/G$48 -> #DIV/0! | V14: =H14/H$48 -> #DIV/0! | W14: =I14/I$48 -> #DIV/0! | ... AA14: =M14/M$48 -> 0.090361446
A15: T66-T78: Other and unspecified effects of external causes | B15: 1 | C15: 42 | E15: 3 | M15: 0 | O15: T66-T78: Other and unspecified effects of external causes | P15: =B15/B$48 -> 0.0010245902 | Q15: =C15/C$48 -> 0.0042822186 | R15: =D15/D$48 -> 0 | S15: =E15/E$48 -> 0.0019292605 | T15: =F15/F$48 -> #DIV/0! | U15: =G15/G$48 -> #DIV/0! | V15: =H15/H$48 -> #DIV/0! | W15: =I15/I$48 -> #DIV/0! | ... AA15: =M15/M$48 -> 0
A16: T79-T79: Certain early complications of trauma | M16: 0 | O16: skip: T79-T79: Certain early complications of trauma | P16: =B16/B$48 -> 0 | Q16: =C16/C$48 -> 0 | R16: =D16/D$48 -> 0 | S16: =E16/E$48 -> 0 | T16: =F16/F$48 -> #DIV/0! | U16: =G16/G$48 -> #DIV/0! | V16: =H16/H$48 -> #DIV/0! | W16: =I16/I$48 -> #DIV/0! | ... AA16: =M16/M$48 -> 0
A17: T80-T88: Complications of surgical and medical care, NEC | M17: 0 | O17: skip: T80-T88: Complications of surgical and medical care, NEC | P17: =B17/B$48 -> 0 | Q17: =C17/C$48 -> 0 | R17: =D17/D$48 -> 0 | S17: =E17/E$48 -> 0 | T17: =F17/F$48 -> #DIV/0! | U17: =G17/G$48 -> #DIV/0! | V17: =H17/H$48 -> #DIV/0! | W17: =I17/I$48 -> #DIV/0! | ... AA17: =M17/M$48 -> 0
A18: V00-V09: Pedestrian injured in transport accident | C18: 2 | E18: 3 | M18: 0 | O18: V00-V09: Pedestrian injured in transport accident | P18: =B18/B$48 -> 0 | Q18: =C18/C$48 -> 0.00020391517 | R18: =D18/D$48 -> 0 | S18: =E18/E$48 -> 0.0019292605 | T18: =F18/F$48 -> #DIV/0! | U18: =G18/G$48 -> #DIV/0! | V18: =H18/H$48 -> #DIV/0! | W18: =I18/I$48 -> #DIV/0! | ... AA18: =M18/M$48 -> 0
A19: V10-V19: Pedal cycle rider injured in transport accident | C19: 2 | E19: 1 | M19: 0 | O19: V10-V19: Pedal cycle rider injured in transport accident | P19: =B19/B$48 -> 0 | Q19: =C19/C$48 -> 0.00020391517 | R19: =D19/D$48 -> 0 | S19: =E19/E$48 -> 0.00064308682 | T19: =F19/F$48 -> #DIV/0! | U19: =G19/G$48 -> #DIV/0! | V19: =H19/H$48 -> #DIV/0! | W19: =I19/I$48 -> #DIV/0! | ... AA19: =M19/M$48 -> 0
A20: V20-V29: Motorcycle rider injured in transport accident | C20: 2 | M20: 0 | O20: V20-V29: Motorcycle rider injured in transport accident | P20: =B20/B$48 -> 0 | Q20: =C20/C$48 -> 0.00020391517 | R20: =D20/D$48 -> 0 | S20: =E20/E$48 -> 0 | T20: =F20/F$48 -> #DIV/0! | U20: =G20/G$48 -> #DIV/0! | V20: =H20/H$48 -> #DIV/0! | W20: =I20/I$48 -> #DIV/0! | ... AA20: =M20/M$48 -> 0
A21: V30-V39: Occupant of three-wheeled motor vehicle injured in transport accident | M21: 0 | O21: skip: V30-V39: Occupant of three-wheeled motor vehicle injured in transport accident | P21: =B21/B$48 -> 0 | Q21: =C21/C$48 -> 0 | R21: =D21/D$48 -> 0 | S21: =E21/E$48 -> 0 | T21: =F21/F$48 -> #DIV/0! | U21: =G21/G$48 -> #DIV/0! | V21: =H21/H$48 -> #DIV/0! | W21: =I21/I$48 -> #DIV/0! | ... AA21: =M21/M$48 -> 0
A22: V40-V49: Car occupant injured in transport accident | B22: 1 | C22: 22 | M22: 0 | O22: V40-V49: Car occupant injured in transport accident | P22: =B22/B$48 -> 0.0010245902 | Q22: =C22/C$48 -> 0.0022430669 | R22: =D22/D$48 -> 0 | S22: =E22/E$48 -> 0 | T22: =F22/F$48 -> #DIV/0! | U22: =G22/G$48 -> #DIV/0! | V22: =H22/H$48 -> #DIV/0! | W22: =I22/I$48 -> #DIV/0! | ... AA22: =M22/M$48 -> 0
A23: V50-V59: Occupant of pick-up truck or van injured in transport accident | M23: 0 | O23: skip: V50-V59: Occupant of pick-up truck or van injured in transport accident | P23: =B23/B$48 -> 0 | Q23: =C23/C$48 -> 0 | R23: =D23/D$48 -> 0 | S23: =E23/E$48 -> 0 | T23: =F23/F$48 -> #DIV/0! | U23: =G23/G$48 -> #DIV/0! | V23: =H23/H$48 -> #DIV/0! | W23: =I23/I$48 -> #DIV/0! | ... AA23: =M23/M$48 -> 0
A24: V60-V69: Occupant of heavy transport vehicle injured in transport accident | M24: 0 | O24: skip: V60-V69: Occupant of heavy transport vehicle injured in transport accident | P24: =B24/B$48 -> 0 | Q24: =C24/C$48 -> 0 | R24: =D24/D$48 -> 0 | S24: =E24/E$48 -> 0 | T24: =F24/F$48 -> #DIV/0! | U24: =G24/G$48 -> #DIV/0! | V24: =H24/H$48 -> #DIV/0! | W24: =I24/I$48 -> #DIV/0! | ... AA24: =M24/M$48 -> 0
A25: V70-V79: Bus occupant injured in transport accident | M25: 4 | O25: skip: V70-V79: Bus occupant injured in transport accident | P25: =B25/B$48 -> 0 | Q25: =C25/C$48 -> 0 | R25: =D25/D$48 -> 0 | S25: =E25/E$48 -> 0 | T25: =F25/F$48 -> #DIV/0! | U25: =G25/G$48 -> #DIV/0! | V25: =H25/H$48 -> #DIV/0! | W25: =I25/I$48 -> #DIV/0! | ... AA25: =M25/M$48 -> 0.024096386
A26: V80-V89: Other land transport accidents | B26: 2 | C26: 16 | E26: 2 | M26: 19 | O26: V80-V89: Other land transport accidents | P26: =B26/B$48 -> 0.0020491803 | Q26: =C26/C$48 -> 0.0016313214 | R26: =D26/D$48 -> 0 | S26: =E26/E$48 -> 0.0012861736 | T26: =F26/F$48 -> #DIV/0! | U26: =G26/G$48 -> #DIV/0! | V26: =H26/H$48 -> #DIV/0! | W26: =I26/I$48 -> #DIV/0! | ... AA26: =M26/M$48 -> 0.11445783
A27: V90-V94: Water transport accidents | M27: 6 | O27: skip:V90-V94: Water transport accidents | P27: =B27/B$48 -> 0 | Q27: =C27/C$48 -> 0 | R27: =D27/D$48 -> 0 | S27: =E27/E$48 -> 0 | T27: =F27/F$48 -> #DIV/0! | U27: =G27/G$48 -> #DIV/0! | V27: =H27/H$48 -> #DIV/0! | W27: =I27/I$48 -> #DIV/0! | ... AA27: =M27/M$48 -> 0.036144578
A28: V95-V97: Air and space transport accidents | M28: 21 | O28: skip: V95-V97: Air and space transport accidents | P28: =B28/B$48 -> 0 | Q28: =C28/C$48 -> 0 | R28: =D28/D$48 -> 0 | S28: =E28/E$48 -> 0 | T28: =F28/F$48 -> #DIV/0! | U28: =G28/G$48 -> #DIV/0! | V28: =H28/H$48 -> #DIV/0! | W28: =I28/I$48 -> #DIV/0! | ... AA28: =M28/M$48 -> 0.12650602
A29: V98-V99: Other and unspecified transport accidents | M29: 0 | O29: skip: V98-V99: Other and unspecified transport accidents | P29: =B29/B$48 -> 0 | Q29: =C29/C$48 -> 0 | R29: =D29/D$48 -> 0 | S29: =E29/E$48 -> 0 | T29: =F29/F$48 -> #DIV/0! | U29: =G29/G$48 -> #DIV/0! | V29: =H29/H$48 -> #DIV/0! | W29: =I29/I$48 -> #DIV/0! | ... AA29: =M29/M$48 -> 0
A30: W00-W19: Slipping, tripping, stumbling and falls | B30: 20 | C30: 278 | D30: 35 | E30: 57 | M30: 1 | O30: W00-W19: Slipping, tripping, stumbling and falls | P30: =B30/B$48 -> 0.020491803 | Q30: =C30/C$48 -> 0.028344209 | R30: =D30/D$48 -> 0.031222123 | S30: =E30/E$48 -> 0.036655949 | T30: =F30/F$48 -> #DIV/0! | U30: =G30/G$48 -> #DIV/0! | V30: =H30/H$48 -> #DIV/0! | W30: =I30/I$48 -> #DIV/0! | ... AA30: =M30/M$48 -> 0.0060240964
A31: W20-W49: Exposure to inanimate mechanical forces | B31: 2 | C31: 22 | E31: 2 | M31: 0 | O31: W20-W49: Exposure to inanimate mechanical forces | P31: =B31/B$48 -> 0.0020491803 | Q31: =C31/C$48 -> 0.0022430669 | R31: =D31/D$48 -> 0 | S31: =E31/E$48 -> 0.0012861736 | T31: =F31/F$48 -> #DIV/0! | U31: =G31/G$48 -> #DIV/0! | V31: =H31/H$48 -> #DIV/0! | W31: =I31/I$48 -> #DIV/0! | ... AA31: =M31/M$48 -> 0
A32: W50-W64: Exposure to animate mechanical forces | B32: 2 | C32: 6 | E32: 2 | M32: 0 | O32: W50-W64: Exposure to animate mechanical forces | P32: =B32/B$48 -> 0.0020491803 | Q32: =C32/C$48 -> 0.00061174551 | R32: =D32/D$48 -> 0 | S32: =E32/E$48 -> 0.0012861736 | T32: =F32/F$48 -> #DIV/0! | U32: =G32/G$48 -> #DIV/0! | V32: =H32/H$48 -> #DIV/0! | W32: =I32/I$48 -> #DIV/0! | ... AA32: =M32/M$48 -> 0
A33: W65-W74: Accidental non-transport drowning and submersion | M33: 0 | O33: skip: W65-W74: Accidental non-transport drowning and submersion | P33: =B33/B$48 -> 0 | Q33: =C33/C$48 -> 0 | R33: =D33/D$48 -> 0 | S33: =E33/E$48 -> 0 | T33: =F33/F$48 -> #DIV/0! | U33: =G33/G$48 -> #DIV/0! | V33: =H33/H$48 -> #DIV/0! | W33: =I33/I$48 -> #DIV/0! | ... AA33: =M33/M$48 -> 0
A34: W85-W99: Exposure to electric current, radiation and extreme ambient air temperature and pressure | C34: 4 | E34: 1 | M34: 0 | O34: W85-W99: Exposure to electric current, radiation and extreme ambient air temperature and pressure | P34: =B34/B$48 -> 0 | Q34: =C34/C$48 -> 0.00040783034 | R34: =D34/D$48 -> 0 | S34: =E34/E$48 -> 0.00064308682 | T34: =F34/F$48 -> #DIV/0! | U34: =G34/G$48 -> #DIV/0! | V34: =H34/H$48 -> #DIV/0! | W34: =I34/I$48 -> #DIV/0! | ... AA34: =M34/M$48 -> 0
A35: X00-X08: Exposure to smoke, fire and flames | C35: 2 | E35: 1 | M35: 0 | O35: X00-X08: Exposure to smoke, fire and flames | P35: =B35/B$48 -> 0 | Q35: =C35/C$48 -> 0.00020391517 | R35: =D35/D$48 -> 0 | S35: =E35/E$48 -> 0.00064308682 | T35: =F35/F$48 -> #DIV/0! | U35: =G35/G$48 -> #DIV/0! | V35: =H35/H$48 -> #DIV/0! | W35: =I35/I$48 -> #DIV/0! | ... AA35: =M35/M$48 -> 0
A36: X10-X19: Contact with heat and hot substances | B36: 1 | C36: 4 | E36: 1 | M36: 0 | O36: X10-X19: Contact with heat and hot substances | P36: =B36/B$48 -> 0.0010245902 | Q36: =C36/C$48 -> 0.00040783034 | R36: =D36/D$48 -> 0 | S36: =E36/E$48 -> 0.00064308682 | T36: =F36/F$48 -> #DIV/0! | U36: =G36/G$48 -> #DIV/0! | V36: =H36/H$48 -> #DIV/0! | W36: =I36/I$48 -> #DIV/0! | ... AA36: =M36/M$48 -> 0
A37: X30-X39: Exposure to forces of nature | B37: 4 | C37: 28 | E37: 2 | M37: 0 | O37: X30-X39: Exposure to forces of nature | P37: =B37/B$48 -> 0.0040983607 | Q37: =C37/C$48 -> 0.0028548124 | R37: =D37/D$48 -> 0 | S37: =E37/E$48 -> 0.0012861736 | T37: =F37/F$48 -> #DIV/0! | U37: =G37/G$48 -> #DIV/0! | V37: =H37/H$48 -> #DIV/0! | W37: =I37/I$48 -> #DIV/0! | ... AA37: =M37/M$48 -> 0
A38: X50-X50: Overexertion and strenuous or repetetive movements | M38: 0 | O38: skip: X50-X50: Overexertion and strenuous or repetetive movements | P38: =B38/B$48 -> 0 | Q38: =C38/C$48 -> 0 | R38: =D38/D$48 -> 0 | S38: =E38/E$48 -> 0 | T38: =F38/F$48 -> #DIV/0! | U38: =G38/G$48 -> #DIV/0! | V38: =H38/H$48 -> #DIV/0! | W38: =I38/I$48 -> #DIV/0! | ... AA38: =M38/M$48 -> 0
A39: X52-X58: Accidental exposure to other specified factors | B39: 10 | C39: 122 | D39: 10 | E39: 89 | M39: 0 | O39: X52-X58: Accidental exposure to other specified factors | P39: =B39/B$48 -> 0.010245902 | Q39: =C39/C$48 -> 0.012438825 | R39: =D39/D$48 -> 0.0089206066 | S39: =E39/E$48 -> 0.057234727 | T39: =F39/F$48 -> #DIV/0! | U39: =G39/G$48 -> #DIV/0! | V39: =H39/H$48 -> #DIV/0! | W39: =I39/I$48 -> #DIV/0! | ... AA39: =M39/M$48 -> 0
A40: X71-X83: Intentional self-harm | B40: 8 | C40: 150 | D40: 11 | E40: 26 | M40: 0 | O40: X71-X83: Intentional self-harm | P40: =B40/B$48 -> 0.0081967213 | Q40: =C40/C$48 -> 0.015293638 | R40: =D40/D$48 -> 0.0098126673 | S40: =E40/E$48 -> 0.016720257 | T40: =F40/F$48 -> #DIV/0! | U40: =G40/G$48 -> #DIV/0! | V40: =H40/H$48 -> #DIV/0! | W40: =I40/I$48 -> #DIV/0! | ... AA40: =M40/M$48 -> 0
A41: X92-Y09: Assault | B41: 5 | C41: 24 | D41: 7 | E41: 6 | M41: 6 | O41: X92-Y09: Assault | P41: =B41/B$48 -> 0.0051229508 | Q41: =C41/C$48 -> 0.0024469821 | R41: =D41/D$48 -> 0.0062444246 | S41: =E41/E$48 -> 0.0038585209 | T41: =F41/F$48 -> #DIV/0! | U41: =G41/G$48 -> #DIV/0! | V41: =H41/H$48 -> #DIV/0! | W41: =I41/I$48 -> #DIV/0! | ... AA41: =M41/M$48 -> 0.036144578
A42: Y21-Y33: Event of undetermined event | B42: 2 | C42: 14 | E42: 1 | M42: 55 | O42: Y21-Y33: Event of undetermined event | P42: =B42/B$48 -> 0.0020491803 | Q42: =C42/C$48 -> 0.0014274062 | R42: =D42/D$48 -> 0 | S42: =E42/E$48 -> 0.00064308682 | T42: =F42/F$48 -> #DIV/0! | U42: =G42/G$48 -> #DIV/0! | V42: =H42/H$48 -> #DIV/0! | W42: =I42/I$48 -> #DIV/0! | ... AA42: =M42/M$48 -> 0.3313253
A43: Y35-Y38: Legal intervention, operations of war, military operations, and terrorism | B43: 1 | E43: 1 | M43: 33 | O43: Y35-Y38: Legal intervention, operations of war, military operations, and terrorism | P43: =B43/B$48 -> 0.0010245902 | Q43: =C43/C$48 -> 0 | R43: =D43/D$48 -> 0 | S43: =E43/E$48 -> 0.00064308682 | T43: =F43/F$48 -> #DIV/0! | U43: =G43/G$48 -> #DIV/0! | V43: =H43/H$48 -> #DIV/0! | W43: =I43/I$48 -> #DIV/0! | ... AA43: =M43/M$48 -> 0.19879518
A44: Y62-Y69: Misadventures to patients during surgical and medical care | M44: 0 | O44: skip: Y62-Y69: Misadventures to patients during surgical and medical care | P44: =B44/B$48 -> 0 | Q44: =C44/C$48 -> 0 | R44: =D44/D$48 -> 0 | S44: =E44/E$48 -> 0 | T44: =F44/F$48 -> #DIV/0! | U44: =G44/G$48 -> #DIV/0! | V44: =H44/H$48 -> #DIV/0! | W44: =I44/I$48 -> #DIV/0! | ... AA44: =M44/M$48 -> 0
A45: Y70-Y82: Medical devices associated with adverse incidents in diagnostic and therapeutic use | M45: 0 | O45: skip: Y70-Y82: Medical devices associated with adverse incidents in diagnostic and therapeutic use | P45: 0 | Q45: =C45/C$48 -> 0 | R45: =D45/D$48 -> 0 | S45: =E45/E$48 -> 0 | T45: =F45/F$48 -> #DIV/0! | U45: =G45/G$48 -> #DIV/0! | V45: =H45/H$48 -> #DIV/0! | W45: =I45/I$48 -> #DIV/0! | X45: =J45/J$48 -> #DIV/0! | ... AA45: =M45/M$48 -> 0
A46: Y83-Y84: Surgical and other medical procedures as the cause of abnormal reaction of the patient, or of later complication, without mention of misadventure at the time of the procedure | M46: 0 | O46: skip: Y83-Y84: Surgical and other medical procedures as the cause of abnormal reaction of the patient, or of later complication, without mention of misadventure at the time of the procedure | P46: =B46/B$48 -> 0 | Q46: =C46/C$48 -> 0 | R46: =D46/D$48 -> 0 | S46: =E46/E$48 -> 0 | T46: =F46/F$48 -> #DIV/0! | U46: =G46/G$48 -> #DIV/0! | V46: =H46/H$48 -> #DIV/0! | W46: =I46/I$48 -> #DIV/0! | ... AA46: =M46/M$48 -> 0
A47: Y90-Y99: Supplementary factors related to causes of morbidity classified elsewhere | M47: 0 | O47: skip: Y90-Y99: Supplementary factors related to causes of morbidity classified elsewhere | P47: =B47/B$48 -> 0 | Q47: =C47/C$48 -> 0 | R47: =D47/D$48 -> 0 | S47: =E47/E$48 -> 0 | T47: =F47/F$48 -> #DIV/0! | U47: =G47/G$48 -> #DIV/0! | V47: =H47/H$48 -> #DIV/0! | W47: =I47/I$48 -> #DIV/0! | ... AA47: =M47/M$48 -> 0
A48: Total | B48: =SUM(B5:B43) -> 976 | C48: =SUM(C5:C43) -> 9808 | D48: =SUM(D5:D43) -> 1121 | E48: =SUM(E5:E43) -> 1555 | F48: =SUM(F5:F43) -> 0 | G48: =SUM(G5:G43) -> 0 | H48: =SUM(H5:H43) -> 0 | I48: =SUM(I5:I43) -> 0 | ... M48: =SUM(M5:M43) -> 166 | O48: All Other Codes; not otherwise listed | P48: =SUM(P6,P9:P12,P16:P17,P21,P23:P25,P27:P29,P33,P38,P44:P47) -> 0 | Q48: =SUM(Q6,Q9:Q12,Q16:Q17,Q21,Q23:Q25,Q27:Q29,Q33,Q38,Q44:Q47) -> 0 | R48: =SUM(R6,R9:R12,R16:R17,R21,R23:R25,R27:R29,R33,R38,R44:R47) -> 0 | S48: =SUM(S6,S9:S12,S16:S17,S21,S23:S25,S27:S29,S33,S38,S44:S47) -> 0 | T48: =SUM(T6,T9:T12,T16:T17,T21,T23:T25,T27:T29,T33,T38,T44:T47) -> #DIV/0! | U48: =SUM(U6,U9:U12,U16:U17,U21,U23:U25,U27:U29,U33,U38,U44:U47) -> #DIV/0! | V48: =SUM(V6,V9:V12,V16:V17,V21,V23:V25,V27:V29,V33,V38,V44:V47) -> #DIV/0! | W48: =SUM(W6,W9:W12,W16:W17,W21,W23:W25,W27:W29,W33,W38,W44:W47) -> #DIV/0! | ... AA48: =SUM(AA6,AA9:AA12,AA16:AA17,AA21,AA23:AA25,AA27:AA29,AA33,AA38,AA44:AA47) -> 0.18674699

Sheet Table_5_Behavioral
A1: Table 5. Percent of records that also have an F11-F16, F18-F19 code Frequency Distribution of the F-codes
A2: First Listed Behavioral Health Code,CSTE Working Case Definition of Drug Poisoning
B3: =Table_0_Information!$A$4 -> Montana | C3: =Table_0_Information!$A$5 -> Colorado | D3: =Table_0_Information!$A$6 -> Kentucky | E3: =Table_0_Information!$A$7 -> New Mexico | F3: =Table_0_Information!$A$8 -> State 5 | G3: =Table_0_Information!$A$9 -> State 6 | H3: =Table_0_Information!$A$10 -> State 7 | I3: =Table_0_Information!$A$11 -> State 8 | J3: =Table_0_Information!$A$12 -> State 9 | K3: =Table_0_Information!$A$13 -> State 10 | L3: =Table_0_Information!$A$14 -> State 11 | M3: =Table_0_Information!$A$15 -> VALIDATION | O3: Chapter | P3: =Table_0_Information!$A$4 -> Montana | Q3: =Table_0_Information!$A$5 -> Colorado | R3: =Table_0_Information!$A$6 -> Kentucky | S3: =Table_0_Information!$A$7 -> New Mexico | T3: =Table_0_Information!$A$8 -> State 5 | U3: =Table_0_Information!$A$9 -> State 6 | V3: =Table_0_Information!$A$10 -> State 7 | W3: =Table_0_Information!$A$11 -> State 8 | X3: =Table_0_Information!$A$12 -> State 9 | Y3: =Table_0_Information!$A$13 -> State 10 | Z3: =Table_0_Information!$A$14 -> State 11 | AA3: =Table_0_Information!$A$15 -> VALIDATION
A4: F11-16, F18-19: Mental and behavioral disorders due to psychoactive substance use | B4: 256 | C4: 3304 | D4: 435 | E4: 626 | M4: 19
A5: F11: Opioid related disorders | B5: 68 | M5: 0 | O5: F11: Opioid related disorders | P5: =B5/B$14 -> 0.069672131 | Q5: =C5/C$14 -> 0 | R5: =D5/D$14 -> 0 | S5: =E5/E$14 -> 0 | T5: =F5/F$14 -> #DIV/0! | U5: =G5/G$14 -> #DIV/0! | V5: =H5/H$14 -> #DIV/0! | W5: =I5/I$14 -> #DIV/0! | ... AA5: =M5/M$14 -> 0
A6: F12: Cannabis related disorders | B6: 60 | M6: 0 | O6: F12: Cannabis related disorders | P6: =B6/B$14 -> 0.06147541 | Q6: =C6/C$14 -> 0 | R6: =D6/D$14 -> 0 | S6: =E6/E$14 -> 0 | T6: =F6/F$14 -> #DIV/0! | U6: =G6/G$14 -> #DIV/0! | V6: =H6/H$14 -> #DIV/0! | W6: =I6/I$14 -> #DIV/0! | ... AA6: =M6/M$14 -> 0
A7: F13: Sedative, hypnotic, or anxiolytic related disorders | B7: 9 | M7: 19 | O7: F13: Sedative, hypnotic, or anxiolytic related disorders | P7: =B7/B$14 -> 0.0092213115 | Q7: =C7/C$14 -> 0 | R7: =D7/D$14 -> 0 | S7: =E7/E$14 -> 0 | T7: =F7/F$14 -> #DIV/0! | U7: =G7/G$14 -> #DIV/0! | V7: =H7/H$14 -> #DIV/0! | W7: =I7/I$14 -> #DIV/0! | ... AA7: =M7/M$14 -> 0.11445783
A8: F14: Cocaine related disorders | M8: 0 | O8: F14: Cocaine related disorders | P8: =B8/B$14 -> 0 | Q8: =C8/C$14 -> 0 | R8: =D8/D$14 -> 0 | S8: =E8/E$14 -> 0 | T8: =F8/F$14 -> #DIV/0! | U8: =G8/G$14 -> #DIV/0! | V8: =H8/H$14 -> #DIV/0! | W8: =I8/I$14 -> #DIV/0! | ... AA8: =M8/M$14 -> 0
A9: F15: Other stimulant related disorders | B9: 70 | M9: 0 | O9: F15: Other stimulant related disorders | P9: =B9/B$14 -> 0.071721311 | Q9: =C9/C$14 -> 0 | R9: =D9/D$14 -> 0 | S9: =E9/E$14 -> 0 | T9: =F9/F$14 -> #DIV/0! | U9: =G9/G$14 -> #DIV/0! | V9: =H9/H$14 -> #DIV/0! | W9: =I9/I$14 -> #DIV/0! | ... AA9: =M9/M$14 -> 0
A10: F16: Hallucinogen related disorders | B10: 1 | M10: 0 | O10: F16: Hallucinogen related disorders | P10: =B10/B$14 -> 0.0010245902 | Q10: =C10/C$14 -> 0 | R10: =D10/D$14 -> 0 | S10: =E10/E$14 -> 0 | T10: =F10/F$14 -> #DIV/0! | U10: =G10/G$14 -> #DIV/0! | V10: =H10/H$14 -> #DIV/0! | W10: =I10/I$14 -> #DIV/0! | ... AA10: =M10/M$14 -> 0
A11: F18: Inhalant related disorders | M11: 0 | O11: F18: Inhalant related disorders | P11: =B11/B$14 -> 0 | Q11: =C11/C$14 -> 0 | R11: =D11/D$14 -> 0 | S11: =E11/E$14 -> 0 | T11: =F11/F$14 -> #DIV/0! | U11: =G11/G$14 -> #DIV/0! | V11: =H11/H$14 -> #DIV/0! | W11: =I11/I$14 -> #DIV/0! | ... AA11: =M11/M$14 -> 0
A12: F19: Other psychoactive substance related disorders | B12: 48 | M12: 0 | O12: F19: Other psychoactive substance related disorders | P12: =B12/B$14 -> 0.049180328 | Q12: =C12/C$14 -> 0 | R12: =D12/D$14 -> 0 | S12: =E12/E$14 -> 0 | T12: =F12/F$14 -> #DIV/0! | U12: =G12/G$14 -> #DIV/0! | V12: =H12/H$14 -> #DIV/0! | W12: =I12/I$14 -> #DIV/0! | ... AA12: =M12/M$14 -> 0
A13: No mental health code | B13: 720 | C13: 6504 | D13: 698 | E13: 929 | M13: 147 | O13: No mental health code | P13: =B13/B$14 -> 0.73770492 | Q13: =C13/C$14 -> 0.66313214 | R13: =D13/D$14 -> 0.61606355 | S13: =E13/E$14 -> 0.59742765 | T13: =F13/F$14 -> #DIV/0! | U13: =G13/G$14 -> #DIV/0! | V13: =H13/H$14 -> #DIV/0! | W13: =I13/I$14 -> #DIV/0! | ... AA13: =M13/M$14 -> 0.88554217
A14: total | B14: =SUM(B4+B13) -> 976 | C14: =SUM(C4+C13) -> 9808 | D14: =SUM(D4+D13) -> 1133 | E14: =SUM(E4+E13) -> 1555 | F14: =SUM(F4+F13) -> 0 | G14: =SUM(G4+G13) -> 0 | H14: =SUM(H4+H13) -> 0 | I14: =SUM(I4+I13) -> 0 | ... M14: =SUM(M4+M13) -> 166

Sheet Table_6_First_Mention
A1: Table 6: For Records with Any Mention, Field of First Mention
A2: Position of First Drug Poisoning Code, Any Mention of Drug Poisoning,CSTE Working Case Definition of Drug Poisoning
C3: Frequency
A4: Position | B4: =Table_0_Information!$A$4 -> Montana | C4: =Table_0_Information!$A$5 -> Colorado | D4: =Table_0_Information!$A$6 -> Kentucky | E4: =Table_0_Information!$A$7 -> New Mexico | F4: =Table_0_Information!$A$8 -> State 5 | G4: =Table_0_Information!$A$9 -> State 6 | H4: =Table_0_Information!$A$10 -> State 7 | I4: =Table_0_Information!$A$11 -> State 8 | J4: =Table_0_Information!$A$12 -> State 9 | K4: =Table_0_Information!$A$13 -> State 10 | L4: =Table_0_Information!$A$14 -> State 11 | M4: =Table_0_Information!$A$15 -> VALIDATION | P4: =Table_0_Information!$A$4 -> Montana | Q4: =Table_0_Information!$A$5 -> Colorado | R4: =Table_0_Information!$A$6 -> Kentucky | S4: =Table_0_Information!$A$7 -> New Mexico | T4: =Table_0_Information!$A$8 -> State 5 | U4: =Table_0_Information!$A$9 -> State 6 | V4: =Table_0_Information!$A$10 -> State 7 | W4: =Table_0_Information!$A$11 -> State 8 | X4: =Table_0_Information!$A$12 -> State 9 | Y4: =Table_0_Information!$A$13 -> State 10 | Z4: =Table_0_Information!$A$14 -> State 11 | AA4: =Table_0_Information!$A$15 -> VALIDATION | AD4: Montana | AE4: Colorado | AF4: Kentucky | AG4: New Mexico | AH4: =T4 -> State 5 | AI4: =U4 -> State 6 | AJ4: =V4 -> State 7 | AK4: =W4 -> State 8 | AL4: =X4 -> State 9 | AM4: =Y4 -> State 10 | AN4: =Z4 -> State 11 | AO4: =AA4 -> VALIDATION
A5: 1 | B5: 976 | C5: 9808 | D5: 1133 | E5: 1555 | M5: 166 | O5: 1 | P5: =B5/B$35 -> 0.69024045 | Q5: =C5/C$35 -> 0.75972115 | R5: =D5/D$35 -> 0.66922623 | S5: =E5/E$35 -> 0.71725092 | T5: =F5/F$35 -> #DIV/0! | U5: =G5/G$35 -> #DIV/0! | V5: =H5/H$35 -> #DIV/0! | W5: =I5/I$35 -> #DIV/0! | ... AA5: =M5/M$35 -> 0.72807018 | AC5: 1 | AD5: =B5/B$35 -> 0.69024045 | AE5: =C5/C$35 -> 0.75972115 | AF5: =D5/D$35 -> 0.66922623 | AG5: =E5/E$35 -> 0.71725092 | AH5: =F5/F$35 -> #DIV/0! | AI5: =G5/G$35 -> #DIV/0! | AJ5: =H5/H$35 -> #DIV/0! | AK5: =I5/I$35 -> #DIV/0! | ... AO5: =M5/M$35 -> 0.72807018
A6: 2 | B6: 91 | C6: 156 | D6: 19 | E6: 90 | M6: 12 | O6: 2 | P6: =B6/B$35 -> 0.064356436 | Q6: =C6/C$35 -> 0.012083656 | R6: =D6/D$35 -> 0.011222682 | S6: =E6/E$35 -> 0.041512915 | T6: =F6/F$35 -> #DIV/0! | U6: =G6/G$35 -> #DIV/0! | V6: =H6/H$35 -> #DIV/0! | W6: =I6/I$35 -> #DIV/0! | ... AA6: =M6/M$35 -> 0.052631579 | AC6: 2-5 | AD6: =(SUM(B6:B9)/B$35) -> 0.23267327 | AE6: =(SUM(C6:C9)/C$35) -> 0.075290473 | AF6: =(SUM(D6:D9)/D$35) -> 0.13526285 | AG6: =(SUM(E6:E9)/E$35) -> 0.16651292 | AH6: =(SUM(F6:F9)/F$35) -> #DIV/0! | AI6: =(SUM(G6:G9)/G$35) -> #DIV/0! | AJ6: =(SUM(H6:H9)/H$35) -> #DIV/0! | AK6: =(SUM(I6:I9)/I$35) -> #DIV/0! | ... AO6: =(SUM(M6:M9)/M$35) -> 0.096491228
A7: 3 | B7: 102 | C7: 250 | D7: 84 | E7: 103 | M7: 2 | O7: 3 | P7: =B7/B$35 -> 0.072135785 | Q7: =C7/C$35 -> 0.019364833 | R7: =D7/D$35 -> 0.049616066 | S7: =E7/E$35 -> 0.047509225 | T7: =F7/F$35 -> #DIV/0! | U7: =G7/G$35 -> #DIV/0! | V7: =H7/H$35 -> #DIV/0! | W7: =I7/I$35 -> #DIV/0! | ... AA7: =M7/M$35 -> 0.0087719298 | AC7: 6-10 | AD7: =(SUM(B10:B14)/B$35) -> 0.07708628 | AE7: =(SUM(C10:C14)/C$35) -> 0.075445391 | AF7: =(SUM(D10:D14)/D$35) -> 0.10395747 | AG7: =(SUM(E10:E14)/E$35) -> 0.11023985 | AH7: =(SUM(F10:F14)/F$35) -> #DIV/0! | AI7: =(SUM(G10:G14)/G$35) -> #DIV/0! | AJ7: =(SUM(H10:H14)/H$35) -> #DIV/0! | AK7: =(SUM(I10:I14)/I$35) -> #DIV/0! | ... AO7: =(SUM(M10:M14)/M$35) -> 0.1754386
A8: 4 | B8: 79 | C8: 292 | D8: 75 | E8: 102 | M8: 3 | O8: 4 | P8: =B8/B$35 -> 0.055869873 | Q8: =C8/C$35 -> 0.022618125 | R8: =D8/D$35 -> 0.044300059 | S8: =E8/E$35 -> 0.04704797 | T8: =F8/F$35 -> #DIV/0! | U8: =G8/G$35 -> #DIV/0! | V8: =H8/H$35 -> #DIV/0! | W8: =I8/I$35 -> #DIV/0! | ... AA8: =M8/M$35 -> 0.013157895 | AC8: 11-15 | AD8: =(SUM(B15:B19)/B$35) -> 0 | AE8: =(SUM(C15:C19)/C$35) -> 0.046630519 | AF8: =(SUM(D15:D19)/D$35) -> 0.056113408 | AG8: =(SUM(E15:E19)/E$35) -> 0.00599631 | AH8: =(SUM(F15:F19)/F$35) -> #DIV/0! | AI8: =(SUM(G15:G19)/G$35) -> #DIV/0! | AJ8: =(SUM(H15:H19)/H$35) -> #DIV/0! | AK8: =(SUM(I15:I19)/I$35) -> #DIV/0! | ... AN8: =(SUM(L15:L19)/L$35) -> #DIV/0! | AO8: =(SUM(M5:M19)/M$35) -> 1
A9: 5 | B9: 57 | C9: 274 | D9: 51 | E9: 66 | M9: 5 | O9: 5 | P9: =B9/B$35 -> 0.040311174 | Q9: =C9/C$35 -> 0.021223857 | R9: =D9/D$35 -> 0.03012404 | S9: =E9/E$35 -> 0.030442804 | T9: =F9/F$35 -> #DIV/0! | U9: =G9/G$35 -> #DIV/0! | V9: =H9/H$35 -> #DIV/0! | W9: =I9/I$35 -> #DIV/0! | ... AA9: =M9/M$35 -> 0.021929825 | AC9: 16-30 | AD9: =(SUM(B20:B34)/B$35) -> 0 | AE9: =(SUM(C20:C34)/C$35) -> 0.042912471 | AF9: =(SUM(D20:D34)/D$35) -> 0.035440047 | AG9: =(SUM(E20:E34)/E$35) -> 0 | AH9: =(SUM(F20:F34)/F$35) -> #DIV/0! | AI9: =(SUM(G20:G34)/G$35) -> #DIV/0! | AJ9: =(SUM(H20:H34)/H$35) -> #DIV/0! | AK9: =(SUM(I20:I34)/I$35) -> #DIV/0! | ... AO9: =(SUM(M20:M34)/M$35) -> 0
A10: 6 | B10: 36 | C10: 254 | D10: 54 | E10: 55 | M10: 6 | O10: 6 | P10: =B10/B$35 -> 0.025459689 | Q10: =C10/C$35 -> 0.019674671 | R10: =D10/D$35 -> 0.031896043 | S10: =E10/E$35 -> 0.025369004 | T10: =F10/F$35 -> #DIV/0! | U10: =G10/G$35 -> #DIV/0! | V10: =H10/H$35 -> #DIV/0! | W10: =I10/I$35 -> #DIV/0! | ... AA10: =M10/M$35 -> 0.026315789
A11: 7 | B11: 28 | C11: 206 | D11: 31 | E11: 49 | M11: 5 | O11: 7 | P11: =B11/B$35 -> 0.01980198 | Q11: =C11/C$35 -> 0.015956623 | R11: =D11/D$35 -> 0.018310691 | S11: =E11/E$35 -> 0.022601476 | T11: =F11/F$35 -> #DIV/0! | U11: =G11/G$35 -> #DIV/0! | V11: =H11/H$35 -> #DIV/0! | W11: =I11/I$35 -> #DIV/0! | ... AA11: =M11/M$35 -> 0.021929825
A12: 8 | B12: 27 | C12: 212 | D12: 39 | E12: 58 | M12: 9 | O12: 8 | P12: =B12/B$35 -> 0.019094767 | Q12: =C12/C$35 -> 0.016421379 | R12: =D12/D$35 -> 0.023036031 | S12: =E12/E$35 -> 0.026752768 | T12: =F12/F$35 -> #DIV/0! | U12: =G12/G$35 -> #DIV/0! | V12: =H12/H$35 -> #DIV/0! | W12: =I12/I$35 -> #DIV/0! | ... AA12: =M12/M$35 -> 0.039473684
A13: 9 | B13: 18 | C13: 170 | D13: 31 | E13: 41 | M13: 7 | O13: 9 | P13: =B13/B$35 -> 0.012729844 | Q13: =C13/C$35 -> 0.013168087 | R13: =D13/D$35 -> 0.018310691 | S13: =E13/E$35 -> 0.018911439 | T13: =F13/F$35 -> #DIV/0! | U13: =G13/G$35 -> #DIV/0! | V13: =H13/H$35 -> #DIV/0! | W13: =I13/I$35 -> #DIV/0! | ... AA13: =M13/M$35 -> 0.030701754
A14: 10 | C14: 132 | D14: 21 | E14: 36 | M14: 13 | O14: 10 | P14: =B14/B$35 -> 0 | Q14: =C14/C$35 -> 0.010224632 | R14: =D14/D$35 -> 0.012404017 | S14: =E14/E$35 -> 0.016605166 | T14: =F14/F$35 -> #DIV/0! | U14: =G14/G$35 -> #DIV/0! | V14: =H14/H$35 -> #DIV/0! | W14: =I14/I$35 -> #DIV/0! | ... AA14: =M14/M$35 -> 0.057017544
A15: 11 | C15: 136 | D15: 22 | E15: 13 | O15: 11 | P15: =B15/B$35 -> 0 | Q15: =C15/C$35 -> 0.010534469 | R15: =D15/D$35 -> 0.012994684 | S15: =E15/E$35 -> 0.00599631 | T15: =F15/F$35 -> #DIV/0! | U15: =G15/G$35 -> #DIV/0! | V15: =H15/H$35 -> #DIV/0! | W15: =I15/I$35 -> #DIV/0! | ... AA15: =M15/M$35 -> 0
A16: 12 | C16: 168 | D16: 29 | O16: 12 | P16: =B16/B$35 -> 0 | Q16: =C16/C$35 -> 0.013013168 | R16: =D16/D$35 -> 0.017129356 | S16: =E16/E$35 -> 0 | T16: =F16/F$35 -> #DIV/0! | U16: =G16/G$35 -> #DIV/0! | V16: =H16/H$35 -> #DIV/0! | W16: =I16/I$35 -> #DIV/0! | ... AA16: =M16/M$35 -> 0
A17: 13 | C17: 118 | D17: 12 | O17: 13 | P17: =B17/B$35 -> 0 | Q17: =C17/C$35 -> 0.0091402014 | R17: =D17/D$35 -> 0.0070880095 | S17: =E17/E$35 -> 0 | T17: =F17/F$35 -> #DIV/0! | U17: =G17/G$35 -> #DIV/0! | V17: =H17/H$35 -> #DIV/0! | W17: =I17/I$35 -> #DIV/0! | ... AA17: =M17/M$35 -> 0
A18: 14 | C18: 88 | D18: 17 | O18: 14 | P18: =B18/B$35 -> 0 | Q18: =C18/C$35 -> 0.0068164214 | R18: =D18/D$35 -> 0.010041347 | S18: =E18/E$35 -> 0 | T18: =F18/F$35 -> #DIV/0! | U18: =G18/G$35 -> #DIV/0! | V18: =H18/H$35 -> #DIV/0! | W18: =I18/I$35 -> #DIV/0! | ... AA18: =M18/M$35 -> 0
A19: 15 | C19: 92 | D19: 15 | O19: 15 | P19: =B19/B$35 -> 0 | Q19: =C19/C$35 -> 0.0071262587 | R19: =D19/D$35 -> 0.0088600118 | S19: =E19/E$35 -> 0 | T19: =F19/F$35 -> #DIV/0! | U19: =G19/G$35 -> #DIV/0! | V19: =H19/H$35 -> #DIV/0! | W19: =I19/I$35 -> #DIV/0! | ... AA19: =M19/M$35 -> 0
A20: 16 | C20: 90 | D20: . | O20: 16 | P20: =B20/B$35 -> 0 | Q20: =C20/C$35 -> 0.00697134 | R20: =D20/D$35 -> #VALUE! | S20: =E20/E$35 -> 0 | T20: =F20/F$35 -> #DIV/0! | U20: =G20/G$35 -> #DIV/0! | V20: =H20/H$35 -> #DIV/0! | W20: =I20/I$35 -> #DIV/0! | ... AA20: =M20/M$35 -> 0
A21: 17 | C21: 86 | D21: 14 | O21: 17 | P21: =B21/B$35 -> 0 | Q21: =C21/C$35 -> 0.0066615027 | R21: =D21/D$35 -> 0.0082693444 | S21: =E21/E$35 -> 0 | T21: =F21/F$35 -> #DIV/0! | U21: =G21/G$35 -> #DIV/0! | V21: =H21/H$35 -> #DIV/0! | W21: =I21/I$35 -> #DIV/0! | ... AA21: =M21/M$35 -> 0
A22: 18 | C22: 66 | D22: 10 | O22: 18 | P22: =B22/B$35 -> 0 | Q22: =C22/C$35 -> 0.005112316 | R22: =D22/D$35 -> 0.0059066745 | S22: =E22/E$35 -> 0 | T22: =F22/F$35 -> #DIV/0! | U22: =G22/G$35 -> #DIV/0! | V22: =H22/H$35 -> #DIV/0! | W22: =I22/I$35 -> #DIV/0! | ... AA22: =M22/M$35 -> 0
A23: 19 | C23: 48 | D23: 8 | O23: 19 | P23: =B23/B$35 -> 0 | Q23: =C23/C$35 -> 0.003718048 | R23: =D23/D$35 -> 0.0047253396 | S23: =E23/E$35 -> 0 | T23: =F23/F$35 -> #DIV/0! | U23: =G23/G$35 -> #DIV/0! | V23: =H23/H$35 -> #DIV/0! | W23: =I23/I$35 -> #DIV/0! | ... AA23: =M23/M$35 -> 0
A24: 20 | C24: 50 | D24: 7 | O24: 20 | P24: =B24/B$35 -> 0 | Q24: =C24/C$35 -> 0.0038729667 | R24: =D24/D$35 -> 0.0041346722 | S24: =E24/E$35 -> 0 | T24: =F24/F$35 -> #DIV/0! | U24: =G24/G$35 -> #DIV/0! | V24: =H24/H$35 -> #DIV/0! | W24: =I24/I$35 -> #DIV/0! | ... AA24: =M24/M$35 -> 0
A25: 21 | C25: 34 | D25: 5 | O25: 21 | P25: =B25/B$35 -> 0 | Q25: =C25/C$35 -> 0.0026336174 | R25: =D25/D$35 -> 0.0029533373 | S25: =E25/E$35 -> 0 | T25: =F25/F$35 -> #DIV/0! | U25: =G25/G$35 -> #DIV/0! | V25: =H25/H$35 -> #DIV/0! | W25: =I25/I$35 -> #DIV/0! | ... AA25: =M25/M$35 -> 0
A26: 22 | C26: 40 | D26: 9 | O26: 22 | P26: =B26/B$35 -> 0 | Q26: =C26/C$35 -> 0.0030983734 | R26: =D26/D$35 -> 0.0053160071 | S26: =E26/E$35 -> 0 | T26: =F26/F$35 -> #DIV/0! | U26: =G26/G$35 -> #DIV/0! | V26: =H26/H$35 -> #DIV/0! | W26: =I26/I$35 -> #DIV/0! | ... AA26: =M26/M$35 -> 0
A27: 23 | C27: 34 | D27: 7 | O27: 23 | P27: =B27/B$35 -> 0 | Q27: =C27/C$35 -> 0.0026336174 | R27: =D27/D$35 -> 0.0041346722 | S27: =E27/E$35 -> 0 | T27: =F27/F$35 -> #DIV/0! | U27: =G27/G$35 -> #DIV/0! | V27: =H27/H$35 -> #DIV/0! | W27: =I27/I$35 -> #DIV/0! | ... AA27: =M27/M$35 -> 0
A28: 24 | C28: 22 | D28: * | O28: 24 | P28: =B28/B$35 -> 0 | Q28: =C28/C$35 -> 0.0017041053 | R28: =D28/D$35 -> #VALUE! | S28: =E28/E$35 -> 0 | T28: =F28/F$35 -> #DIV/0! | U28: =G28/G$35 -> #DIV/0! | V28: =H28/H$35 -> #DIV/0! | W28: =I28/I$35 -> #DIV/0! | ... AA28: =M28/M$35 -> 0
A29: 25 | C29: 26 | D29: * | O29: 25 | P29: =B29/B$35 -> 0 | Q29: =C29/C$35 -> 0.0020139427 | R29: =D29/D$35 -> #VALUE! | S29: =E29/E$35 -> 0 | T29: =F29/F$35 -> #DIV/0! | U29: =G29/G$35 -> #DIV/0! | V29: =H29/H$35 -> #DIV/0! | W29: =I29/I$35 -> #DIV/0! | ... AA29: =M29/M$35 -> 0
A30: 26 | C30: 16 | D30: . | O30: 26 | P30: =B30/B$35 -> 0 | Q30: =C30/C$35 -> 0.0012393493 | R30: =D30/D$35 -> #VALUE! | S30: =E30/E$35 -> 0 | T30: =F30/F$35 -> #DIV/0! | U30: =G30/G$35 -> #DIV/0! | V30: =H30/H$35 -> #DIV/0! | W30: =I30/I$35 -> #DIV/0! | ... AA30: =M30/M$35 -> 0
A31: 27 | C31: 12 | D31: . | O31: 27 | P31: =B31/B$35 -> 0 | Q31: =C31/C$35 -> 0.00092951201 | R31: =D31/D$35 -> #VALUE! | S31: =E31/E$35 -> 0 | T31: =F31/F$35 -> #DIV/0! | U31: =G31/G$35 -> #DIV/0! | V31: =H31/H$35 -> #DIV/0! | W31: =I31/I$35 -> #DIV/0! | ... AA31: =M31/M$35 -> 0
A32: 28 | C32: 12 | D32: . | O32: 28 | P32: =B32/B$35 -> 0 | Q32: =C32/C$35 -> 0.00092951201 | R32: =D32/D$35 -> #VALUE! | S32: =E32/E$35 -> 0 | T32: =F32/F$35 -> #DIV/0! | U32: =G32/G$35 -> #DIV/0! | V32: =H32/H$35 -> #DIV/0! | W32: =I32/I$35 -> #DIV/0! | ... AA32: =M32/M$35 -> 0
A33: 29 | C33: 12 | D33: . | O33: 29 | P33: =B33/B$35 -> 0 | Q33: =C33/C$35 -> 0.00092951201 | R33: =D33/D$35 -> #VALUE! | S33: =E33/E$35 -> 0 | T33: =F33/F$35 -> #DIV/0! | U33: =G33/G$35 -> #DIV/0! | V33: =H33/H$35 -> #DIV/0! | W33: =I33/I$35 -> #DIV/0! | ... AA33: =M33/M$35 -> 0
A34: 30 | C34: 6 | D34: . | O34: 30 | P34: =B34/B$35 -> 0 | Q34: =C34/C$35 -> 0.000464756 | R34: =D34/D$35 -> #VALUE! | S34: =E34/E$35 -> 0 | T34: =F34/F$35 -> #DIV/0! | U34: =G34/G$35 -> #DIV/0! | V34: =H34/H$35 -> #DIV/0! | W34: =I34/I$35 -> #DIV/0! | ... AA34: =M34/M$35 -> 0
A35: total | B35: =SUM(B5:B34) -> 1414 | C35: =SUM(C5:C34) -> 12910 | D35: =SUM(D5:D34) -> 1693 | E35: =SUM(E5:E34) -> 2168 | F35: =SUM(F5:F34) -> 0 | G35: =SUM(G5:G34) -> 0 | H35: =SUM(H5:H34) -> 0 | I35: =SUM(I5:I34) -> 0 | ... M35: =SUM(M5:M34) -> 228

Sheet Table_7_Primary
A1: Table 7: For Records with Any Mention, Chapter of Principal/first listed Diagnosis
A2: Chapter of Primary Diagnosis, Any Mention of Drug Poisoning,CSTE Working Case Definition of Drug Poisoning
P3: Percent of cases (any mention) with principal in chapter
B4: =Table_0_Information!$A$4 -> Montana | C4: =Table_0_Information!$A$5 -> Colorado | D4: =Table_0_Information!$A$6 -> Kentucky | E4: =Table_0_Information!$A$7 -> New Mexico | F4: =Table_0_Information!$A$8 -> State 5 | G4: =Table_0_Information!$A$9 -> State 6 | H4: =Table_0_Information!$A$10 -> State 7 | I4: =Table_0_Information!$A$11 -> State 8 | J4: =Table_0_Information!$A$12 -> State 9 | K4: =Table_0_Information!$A$13 -> State 10 | L4: =Table_0_Information!$A$14 -> State 11 | M4: =Table_0_Information!$A$15 -> VALIDATION | P4: =Table_0_Information!$A$4 -> Montana | Q4: =Table_0_Information!$A$5 -> Colorado | R4: =Table_0_Information!$A$6 -> Kentucky | S4: =Table_0_Information!$A$7 -> New Mexico | T4: =Table_0_Information!$A$8 -> State 5 | U4: =Table_0_Information!$A$9 -> State 6 | V4: =Table_0_Information!$A$10 -> State 7 | W4: =Table_0_Information!$A$11 -> State 8 | X4: =Table_0_Information!$A$12 -> State 9 | Y4: =Table_0_Information!$A$13 -> State 10 | Z4: =Table_0_Information!$A$14 -> State 11 | AA4: =Table_0_Information!$A$15 -> VALIDATION
A5: A00-B99: Infectious and parasitic diseases | B5: 16 | C5: 444 | D5: 56 | E5: 77 | M5: 1 | O5: A00-B99: Infectious and parasitic diseases | P5: =B5/B$37 -> 0.0094117647 | Q5: =C5/C$37 -> 0.034391944 | R5: =D5/D$37 -> 0.033038348 | S5: =E5/E$37 -> 0.031648171 | T5: =F5/F$37 -> #DIV/0! | U5: =G5/G$37 -> #DIV/0! | V5: =H5/H$37 -> #DIV/0! | W5: =I5/I$37 -> #DIV/0! | ... AA5: =M5/M$37 -> 0.0035087719
A6: C00-D49: Neoplasms | B6: 4 | C6: 22 | D6: * | E6: 4 | M6: 1 | O6: C00-D49: Neoplasms | P6: =B6/B$37 -> 0.0023529412 | Q6: =C6/C$37 -> 0.0017041053 | R6: =D6/D$37 -> #VALUE! | S6: =E6/E$37 -> 0.0016440608 | T6: =F6/F$37 -> #DIV/0! | U6: =G6/G$37 -> #DIV/0! | V6: =H6/H$37 -> #DIV/0! | W6: =I6/I$37 -> #DIV/0! | ... AA6: =M6/M$37 -> 0.0035087719
A7: D50-D89: Diseases of the blood and blood-forming organs, certain immunity disorders | B7: 1 | C7: 16 | D7: 9 | E7: 5 | M7: 0 | O7: D50-D89: Diseases of the blood and blood-forming organs, certain immunity disorders | P7: =B7/B$37 -> 0.00058823529 | Q7: =C7/C$37 -> 0.0012393493 | R7: =D7/D$37 -> 0.0053097345 | S7: =E7/E$37 -> 0.002055076 | T7: =F7/F$37 -> #DIV/0! | U7: =G7/G$37 -> #DIV/0! | V7: =H7/H$37 -> #DIV/0! | W7: =I7/I$37 -> #DIV/0! | ... AA7: =M7/M$37 -> 0
A8: E00-E89: Endocrine, nutritional and metabolic diseases | B8: 16 | C8: 110 | D8: 10 | E8: 17 | M8: 0 | O8: E00-E89: Endocrine, nutritional and metabolic diseases | P8: =B8/B$37 -> 0.0094117647 | Q8: =C8/C$37 -> 0.0085205267 | R8: =D8/D$37 -> 0.005899705 | S8: =E8/E$37 -> 0.0069872585 | T8: =F8/F$37 -> #DIV/0! | U8: =G8/G$37 -> #DIV/0! | V8: =H8/H$37 -> #DIV/0! | W8: =I8/I$37 -> #DIV/0! | ... AA8: =M8/M$37 -> 0
A9: F01-F99: Mental disorders | B9: 286 | C9: 910 | D9: 240 | E9: 265 | M9: 57 | O9: F01-F99: Mental disorders | P9: =B9/B$37 -> 0.16823529 | Q9: =C9/C$37 -> 0.070487994 | R9: =D9/D$37 -> 0.14159292 | S9: =E9/E$37 -> 0.10891903 | T9: =F9/F$37 -> #DIV/0! | U9: =G9/G$37 -> #DIV/0! | V9: =H9/H$37 -> #DIV/0! | W9: =I9/I$37 -> #DIV/0! | ... AA9: =M9/M$37 -> 0.2
A10: ______Mental disorders due to known physiological conditions | B10: 2 | C10: . | E10: 1 | M10: 0 | O10: G00-G99: Diseases of the nervous system | P10: =B21/B$37 -> 0.0058823529 | Q10: =C21/C$37 -> 0.013477924 | R10: =D21/D$37 -> 0.0088495575 | S10: =E21/E$37 -> 0.011919441 | T10: =F21/F$37 -> #DIV/0! | U10: =G21/G$37 -> #DIV/0! | V10: =H21/H$37 -> #DIV/0! | W10: =I21/I$37 -> #DIV/0! | ... AA10: =M21/M$37 -> 0
A11: ______Mental and behavioral disorders due to psychoactive substance use | B11: 21 | C11: . | E11: 35 | M11: 57 | O11: H00-H59: Diseases of the eye and adnexa | P11: =B22/B$37 -> 0 | Q11: =C22/C$37 -> 0.00015491867 | R11: =D22/D$37 -> #VALUE! | S11: =E22/E$37 -> 0 | T11: =F22/F$37 -> #DIV/0! | U11: =G22/G$37 -> #DIV/0! | V11: =H22/H$37 -> #DIV/0! | W11: =I22/I$37 -> #DIV/0! | ... AA11: =M22/M$37 -> 0
A12: ______Schizophrenia, schizotypal, delusional, and other non-mood psychotic disorders | B12: 13 | C12: . | E12: 16 | M12: 0 | O12: H60-H95: Diseases of the ear and mastoid process | P12: =B23/B$37 -> 0 | Q12: =C23/C$37 -> 0 | R12: =D23/D$37 -> 0 | S12: =E23/E$37 -> 0 | T12: =F23/F$37 -> #DIV/0! | U12: =G23/G$37 -> #DIV/0! | V12: =H23/H$37 -> #DIV/0! | W12: =I23/I$37 -> #DIV/0! | ... AA12: =M23/M$37 -> 0
A13: ______Mood [affective] disorders | B13: 213 | C13: . | E13: 207 | M13: 0 | O13: I00-I99: Diseases of the circulatory system | P13: =B24/B$37 -> 0.0064705882 | Q13: =C24/C$37 -> 0.019674671 | R13: =D24/D$37 -> 0.025368732 | S13: =E24/E$37 -> 0.012741471 | T13: =F24/F$37 -> #DIV/0! | U13: =G24/G$37 -> #DIV/0! | V13: =H24/H$37 -> #DIV/0! | W13: =I24/I$37 -> #DIV/0! | ... AA13: =M24/M$37 -> 0.0035087719
A14: ______Anxiety, dissociative, stress-related, somatoform and other nonpsychotic mental disorders | B14: 27 | C14: . | E14: 4 | M14: 0 | O14: J00-J99: Diseases of the respiratory system | P14: =B25/B$37 -> 0.016470588 | Q14: =C25/C$37 -> 0.019519752 | R14: =D25/D$37 -> 0.041887906 | S14: =E25/E$37 -> 0.021372791 | T14: =F25/F$37 -> #DIV/0! | U14: =G25/G$37 -> #DIV/0! | V14: =H25/H$37 -> #DIV/0! | W14: =I25/I$37 -> #DIV/0! | ... AA14: =M25/M$37 -> 0
A15: ______Behavioral syndromes associated with physiological disturbances and physical factors | B15: 1 | C15: . | E15: 1 | M15: 0 | O15: K00-K95: Diseases of the digestive system | P15: =B26/B$37 -> 0.0088235294 | Q15: =C26/C$37 -> 0.010999225 | R15: =D26/D$37 -> 0.013569322 | S15: =E26/E$37 -> 0.011508426 | T15: =F26/F$37 -> #DIV/0! | U15: =G26/G$37 -> #DIV/0! | V15: =H26/H$37 -> #DIV/0! | W15: =I26/I$37 -> #DIV/0! | ... AA15: =M26/M$37 -> 0
A16: ______Disorders of adult personality and behavior | B16: 5 | C16: . | M16: 0 | O16: L00-L99: Diseases of the skin and subcutaneous tissue | P16: =B27/B$37 -> 0.0017647059 | Q16: =C27/C$37 -> 0.0012393493 | R16: =D27/D$37 -> 0.0029498525 | S16: =E27/E$37 -> 0.0016440608 | T16: =F27/F$37 -> #DIV/0! | U16: =G27/G$37 -> #DIV/0! | V16: =H27/H$37 -> #DIV/0! | W16: =I27/I$37 -> #DIV/0! | ... AA16: =M27/M$37 -> 0
A17: ______Intellectual disabilities | M17: 0 | O17: M00-M99: Diseases of the musculoskeletal system and connective tissue | P17: =B28/B$37 -> 0.0023529412 | Q17: =C28/C$37 -> 0.0072811774 | R17: =D28/D$37 -> 0.004719764 | S17: =E28/E$37 -> 0.0049321825 | T17: =F28/F$37 -> #DIV/0! | U17: =G28/G$37 -> #DIV/0! | V17: =H28/H$37 -> #DIV/0! | W17: =I28/I$37 -> #DIV/0! | ... AA17: =M28/M$37 -> 0
A18: ______Pervasive and specific developmental disorders | M18: 0 | O18: N00-N99: Diseases of the genitourinary system | P18: =B29/B$37 -> 0.0070588235 | Q18: =C29/C$37 -> 0.012858249 | R18: =D29/D$37 -> 0.015929204 | S18: =E29/E$37 -> 0.009864365 | T18: =F29/F$37 -> #DIV/0! | U18: =G29/G$37 -> #DIV/0! | V18: =H29/H$37 -> #DIV/0! | W18: =I29/I$37 -> #DIV/0! | ... AA18: =M29/M$37 -> 0
A19: ______Behavioral and emotional disorders with onset usually occurring in childhood and adolescence | B19: 4 | E19: 1 | M19: 0 | O19: O00-O9B: Complications of pregnancy, childbirth, and the puerperium | P19: =B30/B$37 -> 0.0023529412 | Q19: =C30/C$37 -> 0.0035631294 | R19: =D30/D$37 -> #VALUE! | S19: =E30/E$37 -> 0.0036991369 | T19: =F30/F$37 -> #DIV/0! | U19: =G30/G$37 -> #DIV/0! | V19: =H30/H$37 -> #DIV/0! | W19: =I30/I$37 -> #DIV/0! | ... AA19: =M30/M$37 -> 0
A20: ______Unspecified mental disorder | M20: 0 | O20: P00-P96: Certain conditions originating in the perinatal period | P20: =B31/B$37 -> 0 | Q20: =C31/C$37 -> 0 | R20: =D31/D$37 -> 0 | S20: =E31/E$37 -> 0 | T20: =F31/F$37 -> #DIV/0! | U20: =G31/G$37 -> #DIV/0! | V20: =H31/H$37 -> #DIV/0! | W20: =I31/I$37 -> #DIV/0! | ... AA20: =M31/M$37 -> 0
A21: G00-G99: Diseases of the nervous system | B21: 10 | C21: 174 | D21: 15 | E21: 29 | M21: 0 | O21: Q00-Q99: Congenital malformations, deformations and chromosomal anomalies | P21: =B32/B$37 -> 0 | Q21: =C32/C$37 -> 0.000464756 | R21: =D32/D$37 -> #VALUE! | S21: =E32/E$37 -> 0.0069872585 | T21: =F32/F$37 -> #DIV/0! | U21: =G32/G$37 -> #DIV/0! | V21: =H32/H$37 -> #DIV/0! | W21: =I32/I$37 -> #DIV/0! | ... AA21: =M32/M$37 -> 0
A22: H00-H59: Diseases of the eye and adnexa | C22: 2 | D22: . | M22: 0 | O22: R00-R99: Symptoms, signs, and ill-defined conditions | P22: =B33/B$37 -> 0.0047058824 | Q22: =C33/C$37 -> 0.0068164214 | R22: =D33/D$37 -> 0.014159292 | S22: =E33/E$37 -> 0.65310316 | T22: =F33/F$37 -> #DIV/0! | U22: =G33/G$37 -> #DIV/0! | V22: =H33/H$37 -> #DIV/0! | W22: =I33/I$37 -> #DIV/0! | ... AA22: =M33/M$37 -> 0
A23: H60-H95: Diseases of the ear and mastoid process | M23: 0 | O23: S00-T88: Injury, poisoning, and certain other consequences of external causes | P23: =B34/B$37 -> 0.58588235 | Q23: =C34/C$37 -> 0.78605732 | R23: =D34/D$37 -> 0.68672566 | S23: =E34/E$37 -> 0.002055076 | T23: =F34/F$37 -> #DIV/0! | U23: =G34/G$37 -> #DIV/0! | V23: =H34/H$37 -> #DIV/0! | W23: =I34/I$37 -> #DIV/0! | ... AA23: =M34/M$37 -> 0.58245614
A24: I00-I99: Diseases of the circulatory system | B24: 11 | C24: 254 | D24: 43 | E24: 31 | M24: 1 | O24: V00-Y99: External causes of morbidity | P24: =B35/B$37 -> 0 | Q24: =C35/C$37 -> 0 | R24: =D35/D$37 -> 0 | S24: =E35/E$37 -> 0 | T24: =F35/F$37 -> #DIV/0! | U24: =G35/G$37 -> #DIV/0! | V24: =H35/H$37 -> #DIV/0! | W24: =I35/I$37 -> #DIV/0! | ... AA24: =M35/M$37 -> 0
A25: J00-J99: Diseases of the respiratory system | B25: 28 | C25: 252 | D25: 71 | E25: 52 | M25: 0 | O25: Z00-Z99: Factors influencing health s+O24:AA24tatus and contact with health services | P25: =B36/B$37 -> 0 | Q25: =C36/C$37 -> 0.0015491867 | R25: =D36/D$37 -> #VALUE! | S25: =E36/E$37 -> 0 | T25: =F36/F$37 -> #DIV/0! | U25: =G36/G$37 -> #DIV/0! | V25: =H36/H$37 -> #DIV/0! | W25: =I36/I$37 -> #DIV/0! | ... AA25: =M36/M$37 -> 0.0070175439
A26: K00-K95: Diseases of the digestive system | B26: 15 | C26: 142 | D26: 23 | E26: 28 | M26: 0
A27: L00-L99: Diseases of the skin and subcutaneous tissue | B27: 3 | C27: 16 | D27: 5 | E27: 4 | M27: 0 | P27: =Table_0_Information!$A$4 -> Montana | Q27: =Table_0_Information!$A$5 -> Colorado | R27: =Table_0_Information!$A$6 -> Kentucky | S27: =Table_0_Information!$A$7 -> New Mexico | T27: =Table_0_Information!$A$8 -> State 5 | U27: =Table_0_Information!$A$9 -> State 6 | V27: =Table_0_Information!$A$10 -> State 7 | W27: =Table_0_Information!$A$11 -> State 8 | X27: =Table_0_Information!$A$12 -> State 9 | Y27: =Table_0_Information!$A$13 -> State 10 | Z27: =Table_0_Information!$A$14 -> State 11 | AA27: =Table_0_Information!$A$15 -> VALIDATION
A28: M00-M99: Diseases of the musculoskeletal system and connective tissue | B28: 4 | C28: 94 | D28: 8 | E28: 12 | M28: 0 | O28: Mental disorders due to known physiological conditions | P28: =B10/B$9 -> 0.006993007 | Q28: =C10/C$9 -> #VALUE! | R28: =D10/D$9 -> 0 | S28: =E10/E$9 -> 0.0037735849 | T28: =F10/F$9 -> #DIV/0! | U28: =G10/G$9 -> #DIV/0! | V28: =H10/H$9 -> #DIV/0! | W28: =I10/I$9 -> #DIV/0! | ... AA28: =M10/M$9 -> 0
A29: N00-N99: Diseases of the genitourinary system | B29: 12 | C29: 166 | D29: 27 | E29: 24 | M29: 0 | O29: Mental and behavioral disorders due to psychoactive substance use | P29: =B11/B$9 -> 0.073426573 | Q29: =C11/C$9 -> #VALUE! | R29: =D11/D$9 -> 0 | S29: =E11/E$9 -> 0.13207547 | T29: =F11/F$9 -> #DIV/0! | U29: =G11/G$9 -> #DIV/0! | V29: =H11/H$9 -> #DIV/0! | W29: =I11/I$9 -> #DIV/0! | ... AA29: =M11/M$9 -> 1
A30: O00-O9B: Complications of pregnancy, childbirth, and the puerperium | B30: 4 | C30: 46 | D30: * | E30: 9 | M30: 0 | O30: Schizophrenia, schizotypal, delusional, and other non-mood psychotic disorders | P30: =B12/B$9 -> 0.045454545 | Q30: =C12/C$9 -> #VALUE! | R30: =D12/D$9 -> 0 | S30: =E12/E$9 -> 0.060377358 | T30: =F12/F$9 -> #DIV/0! | U30: =G12/G$9 -> #DIV/0! | V30: =H12/H$9 -> #DIV/0! | W30: =I12/I$9 -> #DIV/0! | ... AA30: =M12/M$9 -> 0
A31: P00-P96: Certain conditions originating in the perinatal period | M31: 0 | O31: Mood [affective] disorders | P31: =B13/B$9 -> 0.74475524 | Q31: =C13/C$9 -> #VALUE! | R31: =D13/D$9 -> 0 | S31: =E13/E$9 -> 0.78113208 | T31: =F13/F$9 -> #DIV/0! | U31: =G13/G$9 -> #DIV/0! | V31: =H13/H$9 -> #DIV/0! | W31: =I13/I$9 -> #DIV/0! | ... AA31: =M13/M$9 -> 0
A32: Q00-Q99: Congenital malformations, deformations and chromosomal anomalies | C32: 6 | D32: . | E32: 17 | M32: 0 | O32: Anxiety, dissociative, stress-related, somatoform and other nonpsychotic mental disorders | P32: =B14/B$9 -> 0.094405594 | Q32: =C14/C$9 -> #VALUE! | R32: =D14/D$9 -> 0 | S32: =E14/E$9 -> 0.01509434 | T32: =F14/F$9 -> #DIV/0! | U32: =G14/G$9 -> #DIV/0! | V32: =H14/H$9 -> #DIV/0! | W32: =I14/I$9 -> #DIV/0! | ... AA32: =M14/M$9 -> 0
A33: R00-R99: Symptoms, signs, and ill-defined conditions | B33: 8 | C33: 88 | D33: 24 | E33: 1589 | M33: 0 | O33: Behavioral syndromes associated with physiological disturbances and physical factors | P33: =B15/B$9 -> 0.0034965035 | Q33: =C15/C$9 -> #VALUE! | R33: =D15/D$9 -> 0 | S33: =E15/E$9 -> 0.0037735849 | T33: =F15/F$9 -> #DIV/0! | U33: =G15/G$9 -> #DIV/0! | V33: =H15/H$9 -> #DIV/0! | W33: =I15/I$9 -> #DIV/0! | ... AA33: =M15/M$9 -> 0
A34: S00-T88: Injury, poisoning, and certain other consequences of external causes | B34: 996 | C34: 10148 | D34: 1164 | E34: 5 | M34: 166 | O34: Disorders of adult personality and behavior | P34: =B16/B$9 -> 0.017482517 | Q34: =C16/C$9 -> #VALUE! | R34: =D16/D$9 -> 0 | S34: =E16/E$9 -> 0 | T34: =F16/F$9 -> #DIV/0! | U34: =G16/G$9 -> #DIV/0! | V34: =H16/H$9 -> #DIV/0! | W34: =I16/I$9 -> #DIV/0! | ... AA34: =M16/M$9 -> 0
A35: V00-Y99: External causes of morbidity | M35: 0 | O35: ______Intellectual disabilities | P35: =B17/B$9 -> 0 | Q35: =C17/C$9 -> 0 | R35: =D17/D$9 -> 0 | S35: =E17/E$9 -> 0 | T35: =F17/F$9 -> #DIV/0! | U35: =G17/G$9 -> #DIV/0! | V35: =H17/H$9 -> #DIV/0! | W35: =I17/I$9 -> #DIV/0! | ... AA35: =M17/M$9 -> 0
A36: Z00-Z99: Factors influencing health status and contact with health services | C36: 20 | D36: . | M36: 2 | O36: ______Pervasive and specific developmental disorders | P36: =B18/B$9 -> 0 | Q36: =C18/C$9 -> 0 | R36: =D18/D$9 -> 0 | S36: =E18/E$9 -> 0 | T36: =F18/F$9 -> #DIV/0! | U36: =G18/G$9 -> #DIV/0! | V36: =H18/H$9 -> #DIV/0! | W36: =I18/I$9 -> #DIV/0! | ... AA36: =M18/M$9 -> 0
A37: total | B37: =SUM(B5:B9:B21:B36) -> 1700 | C37: =SUM(C5:C9:C21:C36) -> 12910 | D37: =SUM(D5:D9:D21:D36) -> 1695 | E37: =SUM(E5:E9:E21:E36) -> 2433 | F37: =SUM(F5:F9:F21:F36) -> 0 | G37: =SUM(G5:G9:G21:G36) -> 0 | H37: =SUM(H5:H9:H21:H36) -> 0 | I37: =SUM(I5:I9:I21:I36) -> 0 | ... M37: =SUM(M5:M9:M21:M36) -> 285 | O37: Behavioral and emotional disorders with onset usually occurring in childhood and adolescence | P37: =B19/B$9 -> 0.013986014 | Q37: =C19/C$9 -> 0 | R37: =D19/D$9 -> 0 | S37: =E19/E$9 -> 0.0037735849 | T37: =F19/F$9 -> #DIV/0! | U37: =G19/G$9 -> #DIV/0! | V37: =H19/H$9 -> #DIV/0! | W37: =I19/I$9 -> #DIV/0! | ... AA37: =M19/M$9 -> 0
O38: ______Unspecified mental disorder | P38: =B20/B$9 -> 0 | Q38: =C20/C$9 -> 0 | R38: =D20/D$9 -> 0 | S38: =E20/E$9 -> 0 | T38: =F20/F$9 -> #DIV/0! | U38: =G20/G$9 -> #DIV/0! | V38: =H20/H$9 -> #DIV/0! | W38: =I20/I$9 -> #DIV/0! | ... AA38: =M20/M$9 -> 0
P39: Percent of cases (with F as principal and T as secondary) in each mental health category

Sheet Table_9_Any_Mention
A1: Table 9a: Frequency of type of encounter, Any Mention of Drugs
B3: =Table_0_Information!$A$4 -> Montana | C3: =Table_0_Information!$A$5 -> Colorado | D3: =Table_0_Information!$A$6 -> Kentucky | E3: =Table_0_Information!$A$7 -> New Mexico | F3: =Table_0_Information!$A$8 -> State 5 | G3: =Table_0_Information!$A$9 -> State 6 | H3: =Table_0_Information!$A$10 -> State 7 | I3: =Table_0_Information!$A$11 -> State 8 | J3: =Table_0_Information!$A$12 -> State 9 | K3: =Table_0_Information!$A$13 -> State 10 | L3: =Table_0_Information!$A$14 -> State 11 | M3: =Table_0_Information!$A$15 -> VALIDATION | P3: =Table_0_Information!$A$4 -> Montana | Q3: =Table_0_Information!$A$5 -> Colorado | R3: =Table_0_Information!$A$6 -> Kentucky | S3: =Table_0_Information!$A$7 -> New Mexico | T3: =Table_0_Information!$A$8 -> State 5 | U3: =Table_0_Information!$A$9 -> State 6 | V3: =Table_0_Information!$A$10 -> State 7 | W3: =Table_0_Information!$A$11 -> State 8 | X3: =Table_0_Information!$A$12 -> State 9 | Y3: =Table_0_Information!$A$13 -> State 10 | Z3: =Table_0_Information!$A$14 -> State 11 | AA3: =Table_0_Information!$A$15 -> VALIDATION
A4: A: initial encounter | B4: 3839 | D4: 7038 | E4: 6857 | M4: 168 | O4: A: initial encounter | P4: =B4/B$8 -> 0.98033708 | Q4: =C4/C$8 -> #DIV/0! | R4: =D4/D$8 -> 0.98585236 | S4: =E4/E$8 -> 0.68776329 | T4: =F4/F$8 -> #DIV/0! | U4: =G4/G$8 -> #DIV/0! | V4: =H4/H$8 -> #DIV/0! | W4: =I4/I$8 -> #DIV/0! | ... AA4: =M4/M$8 -> 0.58131488
A5: D: subsequential encounter | B5: 43 | D5: 57 | E5: 86 | M5: 89 | O5: D: subsequential encounter | P5: =B5/B$8 -> 0.010980592 | Q5: =C5/C$8 -> #DIV/0! | R5: =D5/D$8 -> 0.0079843115 | S5: =E5/E$8 -> 0.0086258776 | T5: =F5/F$8 -> #DIV/0! | U5: =G5/G$8 -> #DIV/0! | V5: =H5/H$8 -> #DIV/0! | W5: =I5/I$8 -> #DIV/0! | ... AA5: =M5/M$8 -> 0.30795848
A6: S: sequela | B6: 34 | D6: 44 | E6: 64 | M6: 32 | O6: S: sequela | P6: =B6/B$8 -> 0.0086823289 | Q6: =C6/C$8 -> #DIV/0! | R6: =D6/D$8 -> 0.0061633282 | S6: =E6/E$8 -> 0.0064192578 | T6: =F6/F$8 -> #DIV/0! | U6: =G6/G$8 -> #DIV/0! | V6: =H6/H$8 -> #DIV/0! | W6: =I6/I$8 -> #DIV/0! | ... AA6: =M6/M$8 -> 0.11072664
A7: Missing | E7: 2963 | O7: Missing | P7: =B7/B$8 -> 0 | Q7: =C7/C$8 -> #DIV/0! | R7: =D7/D$8 -> 0 | S7: =E7/E$8 -> 0.29719157 | T7: =F7/F$8 -> #DIV/0! | U7: =G7/G$8 -> #DIV/0! | V7: =H7/H$8 -> #DIV/0! | W7: =I7/I$8 -> #DIV/0! | ... AA7: =M7/M$8 -> 0
B8: =SUM(B4:B7) -> 3916 | C8: =SUM(C4:C7) -> 0 | D8: =SUM(D4:D7) -> 7139 | E8: =SUM(E4:E7) -> 9970 | F8: =SUM(F4:F7) -> 0 | G8: =SUM(G4:G7) -> 0 | H8: =SUM(H4:H7) -> 0 | I8: =SUM(I4:I7) -> 0 | ... M8: =SUM(M4:M7) -> 289
A10: Table 9b: Frequency of intent, Any Mention of Drugs
A12: The FREQ Procedure
B13: =Table_0_Information!$A$4 -> Montana | C13: =Table_0_Information!$A$5 -> Colorado | D13: =Table_0_Information!$A$6 -> Kentucky | E13: =Table_0_Information!$A$7 -> New Mexico | F13: =Table_0_Information!$A$8 -> State 5 | G13: =Table_0_Information!$A$9 -> State 6 | H13: =Table_0_Information!$A$10 -> State 7 | I13: =Table_0_Information!$A$11 -> State 8 | J13: =Table_0_Information!$A$12 -> State 9 | K13: =Table_0_Information!$A$13 -> State 10 | L13: =Table_0_Information!$A$14 -> State 11 | M13: =Table_0_Information!$A$15 -> VALIDATION | P13: =Table_0_Information!$A$4 -> Montana | Q13: =Table_0_Information!$A$5 -> Colorado | R13: =Table_0_Information!$A$6 -> Kentucky | S13: =Table_0_Information!$A$7 -> New Mexico | T13: =Table_0_Information!$A$8 -> State 5 | U13: =Table_0_Information!$A$9 -> State 6 | V13: =Table_0_Information!$A$10 -> State 7 | W13: =Table_0_Information!$A$11 -> State 8 | X13: =Table_0_Information!$A$12 -> State 9 | Y13: =Table_0_Information!$A$13 -> State 10 | Z13: =Table_0_Information!$A$14 -> State 11 | AA13: =Table_0_Information!$A$15 -> VALIDATION
A14: 1Unintentional | B14: 459 | C14: 6432 | D14: 976 | E14: 1218 | M14: 55 | O14: 1 Unintentional | P14: =B14/B$21 -> 0.11721144 | Q14: =C14/C$21 -> 0.49522636 | R14: =D14/D$21 -> 0.1367713 | S14: =E14/E$21 -> 0.1221665 | T14: =F14/F$21 -> #DIV/0! | U14: =G14/G$21 -> #DIV/0! | V14: =H14/H$21 -> #DIV/0! | W14: =I14/I$21 -> #DIV/0! | ... AA14: =M14/M$21 -> 0.19031142
A15: 2 Self-Harm | B15: 902 | C15: 6012 | D15: 648 | E15: 1065 | M15: 103 | O15: 2 Self-Harm | P15: =B15/B$21 -> 0.23033708 | Q15: =C15/C$21 -> 0.46288882 | R15: =D15/D$21 -> 0.090807175 | S15: =E15/E$21 -> 0.10682046 | T15: =F15/F$21 -> #DIV/0! | U15: =G15/G$21 -> #DIV/0! | V15: =H15/H$21 -> #DIV/0! | W15: =I15/I$21 -> #DIV/0! | ... AA15: =M15/M$21 -> 0.35640138
A16: 3 Assault | B16: 3 | C16: 40 | D16: * | E16: 5 | M16: 42 | O16: 3 Assault | P16: =B16/B$21 -> 0.00076608784 | Q16: =C16/C$21 -> 0.0030797659 | R16: =D16/D$21 -> #VALUE! | S16: =E16/E$21 -> 0.00050150451 | T16: =F16/F$21 -> #DIV/0! | U16: =G16/G$21 -> #DIV/0! | V16: =H16/H$21 -> #DIV/0! | W16: =I16/I$21 -> #DIV/0! | ... AA16: =M16/M$21 -> 0.14532872
A17: 4 Undetermined | B17: 52 | C17: 504 | D17: 78 | E17: 85 | M17: 48 | O17: 4 Undetermined | P17: =B17/B$21 -> 0.013278856 | Q17: =C17/C$21 -> 0.038805051 | R17: =D17/D$21 -> 0.010930493 | S17: =E17/E$21 -> 0.0085255767 | T17: =F17/F$21 -> #DIV/0! | U17: =G17/G$21 -> #DIV/0! | V17: =H17/H$21 -> #DIV/0! | W17: =I17/I$21 -> #DIV/0! | ... AA17: =M17/M$21 -> 0.16608997
A18: 5 Adverse Effect | B18: 2255 | D18: 5288 | E18: 7199 | M18: 21 | O18: 5 Adverse Effect | P18: =B18/B$21 -> 0.5758427 | Q18: =C18/C$21 -> 0 | R18: =D18/D$21 -> 0.74103139 | S18: =E18/E$21 -> 0.7220662 | T18: =F18/F$21 -> #DIV/0! | U18: =G18/G$21 -> #DIV/0! | V18: =H18/H$21 -> #DIV/0! | W18: =I18/I$21 -> #DIV/0! | ... AA18: =M18/M$21 -> 0.07266436
A19: 6 Underdose | B19: 245 | D19: 146 | E19: 270 | M19: 20 | O19: 6 Underdose | P19: =B19/B$21 -> 0.062563841 | Q19: =C19/C$21 -> 0 | R19: =D19/D$21 -> 0.020459641 | S19: =E19/E$21 -> 0.027081244 | T19: =F19/F$21 -> #DIV/0! | U19: =G19/G$21 -> #DIV/0! | V19: =H19/H$21 -> #DIV/0! | W19: =I19/I$21 -> #DIV/0! | ... AA19: =M19/M$21 -> 0.069204152
A20: Missing | E20: 128 | O20: Missing | P20: =B20/B$21 -> 0 | Q20: =C20/C$21 -> 0 | R20: =D20/D$21 -> 0 | S20: =E20/E$21 -> 0.012838516 | T20: =F20/F$21 -> #DIV/0! | U20: =G20/G$21 -> #DIV/0! | V20: =H20/H$21 -> #DIV/0! | W20: =I20/I$21 -> #DIV/0! | ... AA20: =M20/M$21 -> 0
A21: total | B21: =SUM(B14:B20) -> 3916 | C21: =SUM(C14:C20) -> 12988 | D21: =SUM(D14:D20) -> 7136 | E21: =SUM(E14:E20) -> 9970 | F21: =SUM(F14:F20) -> 0 | G21: =SUM(G14:G20) -> 0 | H21: =SUM(H14:H20) -> 0 | I21: =SUM(I14:I20) -> 0 | ... M21: =SUM(M14:M20) -> 289

Sheet Optional_Table _10_Quarter
A1: Table 10a: Quarterly counts for proposed case definition 1
D2: State 1 | E2: State 1 | F2: State 1 | H2: State 2 | I2: State 2 | J2: State 2 | L2: State 3 | M2: State 3 | N2: State 3
A3: Time Period | B3: Year | C3: Quarter | D3: Principal Dx | E3: Total Hospital Discharges | F3: Drug Poisonings as a percent of total discharges | H3: Principal Dx | I3: Total Hospital Discharges | J3: Drug Poisonings as a percent of total discharges | L3: Principal Dx | M3: Total Hospital Discharges | N3: Drug Poisonings as a percent of total discharges
A4: 2015-Q4 | B4: 2015 | C4: 4 | D4: 192 | E4: 21554 | F4: =D4/E4 -> 0.0089078593 | J4: =H4/I4 -> #DIV/0! | N4: =L4/M4 -> #DIV/0!
A5: 2016-Q1 | B5: 2016 | C5: 1 | D5: 186 | E5: 20358 | F5: =D5/E5 -> 0.0091364574 | J5: =H5/I5 -> #DIV/0! | N5: =L5/M5 -> #DIV/0!
A6: 2016-Q2 | B6: 2016 | C6: 2 | D6: 205 | E6: 20241 | F6: =D6/E6 -> 0.010127958 | J6: =H6/I6 -> #DIV/0! | N6: =L6/M6 -> #DIV/0!
A7: 2016-Q3 | B7: 2016 | C7: 3 | D7: 187 | E7: 18786 | F7: =D7/E7 -> 0.0099542212 | J7: =H7/I7 -> #DIV/0! | N7: =L7/M7 -> #DIV/0!
A8: 2016-Q4 | B8: 2016 | C8: 4 | D8: 206 | E8: 20689 | F8: =D8/E8 -> 0.009956982 | J8: =H8/I8 -> #DIV/0! | N8: =L8/M8 -> #DIV/0!
A9: 2017-Q1 | B9: 2017 | C9: 1 | F9: =D9/E9 -> #DIV/0! | J9: =H9/I9 -> #DIV/0! | N9: =L9/M9 -> #DIV/0!
A10: 2017-Q2 | B10: 2017 | C10: 2 | F10: =D10/E10 -> #DIV/0! | J10: =H10/I10 -> #DIV/0! | N10: =L10/M10 -> #DIV/0!
A11: 2017-Q3 | B11: 2017 | C11: 3 | F11: =D11/E11 -> #DIV/0! | J11: =H11/I11 -> #DIV/0! | N11: =L11/M11 -> #DIV/0!
A12: 2017-Q4 | B12: 2017 | C12: 4 | F12: =D12/E12 -> #DIV/0! | J12: =H12/I12 -> #DIV/0! | N12: =L12/M12 -> #DIV/0!
A14: Table 10b: Quarterly counts by encounter type
D15: State 1 | E15: State 1 | F15: State 1 | G15: State 1 | I15: State 2 | J15: State 2 | K15: State 2 | L15: State 2 | N15: State 3 | O15: State 3 | P15: State 3 | Q15: State 3
A16: Time Period | B16: Year | C16: Quarter | D16: Initial (A) | E16: Subsequent (D) | F16: Sequale (S) | G16: Missing | I16: Initial (A) | J16: Subsequent (D) | K16: Sequale (S) | L16: Missing | N16: Initial (A) | O16: Subsequent (D) | P16: Sequale (S) | Q16: Missing
A17: 2015-Q4 | B17: 2015 | C17: 4 | D17: 209
A18: 2016-Q1 | B18: 2016 | C18: 1 | D18: 194
A19: 2016-Q2 | B19: 2016 | C19: 2 | D19: 212
A20: 2016-Q3 | B20: 2016 | C20: 3 | D20: 195
A21: 2016-Q4 | B21: 2016 | C21: 4 | D21: 212
A22: 2017-Q1 | B22: 2017 | C22: 1
A23: 2017-Q2 | B23: 2017 | C23: 2
A24: 2017-Q3 | B24: 2017 | C24: 3
A25: 2017-Q4 | B25: 2017 | C25: 4
A27: Table 10c: Quarterly counts by intent/manner
D28: State 1 | E28: State 1 | F28: State 1 | G28: State 1 | H28: State 1 | I28: State 1 | J28: State 1 | L28: State 2 | M28: State 2 | N28: State 2 | O28: State 2 | P28: State 2 | Q28: State 2 | R28: State 2 | T28: State 3 | U28: State 3 | V28: State 3 | W28: State 3 | X28: State 3 | Y28: State 3 | Z28: State 3
A29: Time Period | B29: Year | C29: Quarter | D29: Unintentional (1) | E29: Intentional-Self Harm (2) | F29: Assault (3) | G29: Undetermined (4) | H29: Adverse Effect (5) | I29: Underdosing (6) | J29: Missing | L29: Unintentional (1) | M29: Intentional-Self Harm (2) | N29: Assault (3) | O29: Undetermined (4) | P29: Adverse Effect (5) | Q29: Underdosing (6) | R29: Missing | T29: Unintentional (1) | U29: Intentional-Self Harm (2) | V29: Assault (3) | W29: Undetermined (4) | X29: Adverse Effect (5) | Y29: Underdosing (6) | Z29: Missing
A30: 2015-Q4 | B30: 2015 | C30: 4 | D30: 64 | E30: 118 | F30: . | G30: 10 | H30: 15 | I30: 2
A31: 2016-Q1 | B31: 2016 | C31: 1 | D31: 59 | E31: 119 | F31: . | G31: 8 | H31: 6 | I31: 2
A32: 2016-Q2 | B32: 2016 | C32: 2 | D32: 79 | E32: 122 | F32: 1 | G32: 3 | H32: 5 | I32: 2
A33: 2016-Q3 | B33: 2016 | C33: 3 | D33: 59 | E33: 117 | F33: . | G33: 11 | H33: 7 | I33: 1
A34: 2016-Q4 | B34: 2016 | C34: 4 | D34: 64 | E34: 135 | F34: . | G34: 7 | H34: 6 | I34: .
A35: 2017-Q1 | B35: 2017 | C35: 1
A36: 2017-Q2 | B36: 2017 | C36: 2
A37: 2017-Q3 | B37: 2017 | C37: 3
A38: 2017-Q4 | B38: 2017 | C38: 4

Sheet Table_11_Discharge_Expired
A1: Table 11: Individuals who Expired
B2: =Table_0_Information!$A$4 -> Montana | C2: =Table_0_Information!$A$5 -> Colorado | D2: =Table_0_Information!$A$6 -> Kentucky | E2: =Table_0_Information!$A$7 -> New Mexico | F2: =Table_0_Information!$A$8 -> State 5 | G2: =Table_0_Information!$A$9 -> State 6 | H2: =Table_0_Information!$A$10 -> State 7 | I2: =Table_0_Information!$A$11 -> State 8 | J2: =Table_0_Information!$A$12 -> State 9 | K2: =Table_0_Information!$A$13 -> State 10 | L2: =Table_0_Information!$A$14 -> State 11 | M2: =Table_0_Information!$A$15 -> VALIDATION
A3: Expired | B3: 15 | M3: 26
A4: Non-Expired | B4: 961 | M4: 140
A5: Total | B5: =SUM(B3:B4) -> 976 | C5: =SUM(C3:C4) -> 0 | D5: =SUM(D3:D4) -> 0 | E5: =SUM(E3:E4) -> 0 | F5: =SUM(F3:F4) -> 0 | G5: =SUM(G3:G4) -> 0 | H5: =SUM(H3:H4) -> 0 | I5: =SUM(I3:I4) -> 0 | ... M5: =SUM(M3:M4) -> 166
