Workbook
Name IDX: '4_1.4_Other_Codes'!$A$1

Sheet Table_4.0_Information
A1: Table 0: Information_About_Jurisdictions
A3: Juridiction | B3: Date Submitted | C3: Number of Primary and Secondary Fields | D3: Date Range | E3: Note
A4: Colorado
A5: Kentucky
A6: New Mexico
A7: 4 add state in table 0
A8: 5 add state in table 0
A9: 6 add state in table 0
A10: 7 add state in table 0
A11: 8 add state in table 0
A12: 9 add state in table 0
A13: 10 add state in table 0
A14: 11 add state in table 0
A15: 12 add state in table 0

Sheet 4_1.1b_Codes_List
A1: Table 1b. Frequency of individual drug T-codes
A2: Frequency Distribution of Individual Drug Poisoning Codes, CSTE Working Case Definition of Drug Poisoning
A4: Poisoning by, adverse effect of and underdosing of | B4: =Table_4.0_Information!$A$4 -> Colorado | C4: =Table_4.0_Information!$A$5 -> Kentucky | D4: Louisana | E4: =Table_4.0_Information!$A$6 -> New Mexico | F4: Tennessee | G4: =Table_4.0_Information!$A$8 -> 5 add state in table 0 | H4: =Table_4.0_Information!$A$9 -> 6 add state in table 0 | I4: =Table_4.0_Information!$A$10 -> 7 add state in table 0 | J4: =Table_4.0_Information!$A$11 -> 8 add state in table 0 | K4: =Table_4.0_Information!$A$12 -> 9 add state in table 0 | L4: =Table_4.0_Information!$A$13 -> 10 add state in table 0 | M4: =Table_4.0_Information!$A$14 -> 11 add state in table 0 | N4: =Table_4.0_Information!$A$15 -> 12 add state in table 0 | P4: Percent | Q4: =Table_4.0_Information!$A$4 -> Colorado | R4: =Table_4.0_Information!$A$5 -> Kentucky | S4: Louisiana | T4: =Table_4.0_Information!$A$6 -> New Mexico | U4: Tenneesee | V4: =Table_4.0_Information!$A$8 -> 5 add state in table 0 | W4: =Table_4.0_Information!$A$9 -> 6 add state in table 0 | X4: =Table_4.0_Information!$A$10 -> 7 add state in table 0 | Y4: =Table_4.0_Information!$A$11 -> 8 add state in table 0 | Z4: =Table_4.0_Information!$A$12 -> 9 add state in table 0 | AA4: =Table_4.0_Information!$A$13 -> 10 add state in table 0 | AB4: =Table_4.0_Information!$A$14 -> 11 add state in table 0 | AC4: =Table_4.0_Information!$A$15 -> 12 add state in table 0
A5: systemic antibiotics | B5: 59 | C5: 159 | D5: 71 | E5: 22 | F5: 100 | O5: T36 antibiotics… | P5: T36 | Q5: =B5/B$20 -> 0.0067443987 | R5: =C5/C$20 -> 0.0043764278 | S5: =D5/D$20 -> 0.005044405 | T5: =E5/E$20 -> 0.0045842884 | U5: =F5/F$20 -> 0.0056160845 | V5: =G5/G$20 -> #DIV/0! | W5: =H5/H$20 -> #DIV/0! | X5: =I5/I$20 -> #DIV/0! | ... AC5: =N5/N$20 -> #DIV/0!
A6: other systemic anti- infectives and antiparasitics | B6: 19 | C6: 69 | D6: 34 | E6: 10 | F6: 42 | O6: T37 ...anti-infectives and antiparasitics | P6: T37 | Q6: =B6/B$20 -> 0.002171925 | R6: =C6/C$20 -> 0.0018992045 | S6: =D6/D$20 -> 0.0024156306 | T6: =E6/E$20 -> 0.0020837675 | U6: =F6/F$20 -> 0.0023587555 | V6: =G6/G$20 -> #DIV/0! | W6: =H6/H$20 -> #DIV/0! | X6: =I6/I$20 -> #DIV/0! | ... AC6: =N6/N$20 -> #DIV/0!
A7: hormones and their synthetic substitutes and antagonists, not elsewhere classified | B7: 233 | C7: 676 | D7: 330 | E7: 151 | F7: 436 | O7: T38 hormones... | P7: T38 | Q7: =B7/B$20 -> 0.026634659 | R7: =C7/C$20 -> 0.0186067 | S7: =D7/D$20 -> 0.023445826 | T7: =E7/E$20 -> 0.031464889 | U7: =F7/F$20 -> 0.024486128 | V7: =G7/G$20 -> #DIV/0! | W7: =H7/H$20 -> #DIV/0! | X7: =I7/I$20 -> #DIV/0! | ... AC7: =N7/N$20 -> #DIV/0!
A8: nonopioid analgesics, antipyretics and antirheumatics | B8: 1314 | C8: 2081 | D8: 1234 | E8: 534 | F8: 1715 | O8: T39 nonopioid analgesics... | P8: T39 | Q8: =B8/B$20 -> 0.15020576 | R8: =C8/C$20 -> 0.057278908 | S8: =D8/D$20 -> 0.087673179 | T8: =E8/E$20 -> 0.11127318 | U8: =F8/F$20 -> 0.096315849 | V8: =G8/G$20 -> #DIV/0! | W8: =H8/H$20 -> #DIV/0! | X8: =I8/I$20 -> #DIV/0! | ... AC8: =N8/N$20 -> #DIV/0!
A9: narcotics and psychodysleptics [hallucinogens] | B9: 2000 | C9: 17043 | D9: 3867 | E9: 1438 | F9: 4216 | O9: T40 narcotics and hallucinogens | P9: T40 | Q9: =B9/B$20 -> 0.22862369 | R9: =C9/C$20 -> 0.46910352 | S9: =D9/D$20 -> 0.27474245 | T9: =E9/E$20 -> 0.29964576 | U9: =F9/F$20 -> 0.23677412 | V9: =G9/G$20 -> #DIV/0! | W9: =H9/H$20 -> #DIV/0! | X9: =I9/I$20 -> #DIV/0! | ... AC9: =N9/N$20 -> #DIV/0!
A10: anesthetics and therapeutic gases | B10: 23 | C10: 28 | D10: 17 | E10: 8 | F10: 24 | O10: T41 anesthetics… | P10: T41 | Q10: =B10/B$20 -> 0.0026291724 | R10: =C10/C$20 -> 0.0007706917 | S10: =D10/D$20 -> 0.0012078153 | T10: =E10/E$20 -> 0.001667014 | U10: =F10/F$20 -> 0.0013478603 | V10: =G10/G$20 -> #DIV/0! | W10: =H10/H$20 -> #DIV/0! | X10: =I10/I$20 -> #DIV/0! | ... AC10: =N10/N$20 -> #DIV/0!
A11: antiepileptic, sedative- hypnotic and antiparkinsonism drugs | B11: 1277 | C11: 4097 | D11: 2492 | E11: 767 | F11: 3233 | O11: T42 antiepileptic... | P11: T42 | Q11: =B11/B$20 -> 0.14597622 | R11: =C11/C$20 -> 0.11276871 | S11: =D11/D$20 -> 0.17705151 | T11: =E11/E$20 -> 0.15982496 | U11: =F11/F$20 -> 0.18156801 | V11: =G11/G$20 -> #DIV/0! | W11: =H11/H$20 -> #DIV/0! | X11: =I11/I$20 -> #DIV/0! | ... AC11: =N11/N$20 -> #DIV/0!
A12: psychotropic drugs, not elsewhere classified | B12: 1316 | C12: 4204 | D12: 2048 | E12: 740 | F12: 2507 | O12: T43 psychotropics, NEC | P12: T43 | Q12: =B12/B$20 -> 0.15043439 | R12: =C12/C$20 -> 0.11571385 | S12: =D12/D$20 -> 0.14550622 | T12: =E12/E$20 -> 0.15419879 | U12: =F12/F$20 -> 0.14079524 | V12: =G12/G$20 -> #DIV/0! | W12: =H12/H$20 -> #DIV/0! | X12: =I12/I$20 -> #DIV/0! | ... AC12: =N12/N$20 -> #DIV/0!
A13: drugs primarily affecting the autonomic nervous system | B13: 224 | C13: 608 | D13: 278 | E13: 98 | F13: 443 | O13: T44 autonomic nervous system | P13: T44 | Q13: =B13/B$20 -> 0.025605853 | R13: =C13/C$20 -> 0.01673502 | S13: =D13/D$20 -> 0.019751332 | T13: =E13/E$20 -> 0.020420921 | U13: =F13/F$20 -> 0.024879254 | V13: =G13/G$20 -> #DIV/0! | W13: =H13/H$20 -> #DIV/0! | X13: =I13/I$20 -> #DIV/0! | ... AC13: =N13/N$20 -> #DIV/0!
A14: primarily systemic and hematological agents, not elsewhere classified | B14: 479 | C14: 1145 | D14: 671 | E14: 236 | F14: 902 | O14: T45 Systemic/hematological, NEC | P14: T45 | Q14: =B14/B$20 -> 0.054755373 | R14: =C14/C$20 -> 0.031515785 | S14: =D14/D$20 -> 0.047673179 | T14: =E14/E$20 -> 0.049176912 | U14: =F14/F$20 -> 0.050657082 | V14: =G14/G$20 -> #DIV/0! | W14: =H14/H$20 -> #DIV/0! | X14: =I14/I$20 -> #DIV/0! | ... AC14: =N14/N$20 -> #DIV/0!
A15: agents primarily affecting the cardiovascular system | B15: 220 | C15: 943 | D15: 518 | E15: 110 | F15: 681 | O15: T46 cardiovascular | P15: T46 | Q15: =B15/B$20 -> 0.025148605 | R15: =C15/C$20 -> 0.025955795 | S15: =D15/D$20 -> 0.036802842 | T15: =E15/E$20 -> 0.022921442 | U15: =F15/F$20 -> 0.038245535 | V15: =G15/G$20 -> #DIV/0! | W15: =H15/H$20 -> #DIV/0! | X15: =I15/I$20 -> #DIV/0! | ... AC15: =N15/N$20 -> #DIV/0!
A16: agents primarily affecting the gastrointestinal system | B16: 64 | C16: 155 | D16: 68 | E16: 28 | F16: 111 | O16: T47 gastrointestinal | P16: T47 | Q16: =B16/B$20 -> 0.0073159579 | R16: =C16/C$20 -> 0.004266329 | S16: =D16/D$20 -> 0.0048312611 | T16: =E16/E$20 -> 0.0058345489 | U16: =F16/F$20 -> 0.0062338538 | V16: =G16/G$20 -> #DIV/0! | W16: =H16/H$20 -> #DIV/0! | X16: =I16/I$20 -> #DIV/0! | ... AC16: =N16/N$20 -> #DIV/0!
... A19: diuretics and other and unspecified drugs, medicaments and biological substances | B19: 1124 | C19: 4282 | D19: 2101 | E19: 511 | F19: 2744 | O19: T50 diuretics and OU | P19: T50 | Q19: =B19/B$20 -> 0.12848651 | R19: =C19/C$20 -> 0.11786078 | S19: =D19/D$20 -> 0.14927176 | T19: =E19/E$20 -> 0.10648052 | U19: =F19/F$20 -> 0.15410536 | V19: =G19/G$20 -> #DIV/0! | W19: =H19/H$20 -> #DIV/0! | X19: =I19/I$20 -> #DIV/0! | ... AC19: =N19/N$20 -> #DIV/0!
A20: Total | B20: =SUM(B5:B19) -> 8748 | C20: =SUM(C5:C19) -> 36331 | D20: =SUM(D5:D19) -> 14075 | E20: =SUM(E5:E19) -> 4799 | F20: =SUM(F5:F19) -> 17806 | G20: =SUM(G5:G19) -> 0 | H20: =SUM(H5:H19) -> 0 | I20: =SUM(I5:I19) -> 0 | ... N20: =SUM(N5:N19) -> 0
U26: T36
U27: T37
U28: T38
U29: T39
U30: T40
U31: T41
U32: T42
U33: T43
U34: T44
U35: T45
U36: T46
U37: T47
... U40: T50
A161: Montana Hospital Discharge Data System; Oct 1, 2015-Dec 31, 2016

Sheet 4_1.3_Manner
A1: Table 3. Frequency of intent of the drug overdose
A2: Frequency of Intent (Manner), CSTE Working Case Definition of Drug Poisoning (Allowing Sequale and Unknown Encounter Types)
B4: =Table_4.0_Information!$A$4 -> Colorado | C4: =Table_4.0_Information!$A$5 -> Kentucky | D4: Louisiana | E4: =Table_4.0_Information!$A$6 -> New Mexico | F4: Tennessee | G4: =Table_4.0_Information!$A$8 -> 5 add state in table 0 | H4: =Table_4.0_Information!$A$9 -> 6 add state in table 0 | I4: =Table_4.0_Information!$A$10 -> 7 add state in table 0 | J4: =Table_4.0_Information!$A$11 -> 8 add state in table 0 | K4: =Table_4.0_Information!$A$12 -> 9 add state in table 0 | L4: =Table_4.0_Information!$A$13 -> 10 add state in table 0 | M4: =Table_4.0_Information!$A$14 -> 11 add state in table 0 | N4: =Table_4.0_Information!$A$15 -> 12 add state in table 0 | P4: Percent | Q4: =Table_4.0_Information!$A$4 -> Colorado | R4: =Table_4.0_Information!$A$5 -> Kentucky | S4: Louisiana | T4: =Table_4.0_Information!$A$6 -> New Mexico | U4: Tennessee | V4: =Table_4.0_Information!$A$8 -> 5 add state in table 0 | W4: =Table_4.0_Information!$A$9 -> 6 add state in table 0 | X4: =Table_4.0_Information!$A$10 -> 7 add state in table 0 | Y4: =Table_4.0_Information!$A$11 -> 8 add state in table 0 | Z4: =Table_4.0_Information!$A$12 -> 9 add state in table 0 | AA4: =Table_4.0_Information!$A$13 -> 10 add state in table 0 | AB4: =Table_4.0_Information!$A$14 -> 11 add state in table 0 | AC4: =Table_4.0_Information!$A$15 -> 12 add state in table 0
A5: 1 Unintentional | B5: 4160 | C5: 25413 | D5: 5512 | E5: 2364 | F5: 9671 | P5: 1 Unintentional | Q5: =B5/B$11 -> 0.43010753 | R5: =C5/C$11 -> 0.6655754 | S5: =D5/D$11 -> 0.48821966 | T5: =E5/E$11 -> 0.5254501 | U5: =F5/F$11 -> 0.49284003 | V5: =G5/G$11 -> #DIV/0! | W5: =H5/H$11 -> #DIV/0! | X5: =I5/I$11 -> #DIV/0! | ... AC5: =N5/N$11 -> #DIV/0!
A6: 2 Self-Harm | B6: 2660 | C6: 5358 | D6: 2265 | E6: 1185 | F6: 4465 | P6: 2 Self-Harm | Q6: =B6/B$11 -> 0.27502068 | R6: =C6/C$11 -> 0.1403279 | S6: =D6/D$11 -> 0.20062002 | T6: =E6/E$11 -> 0.26339186 | U6: =F6/F$11 -> 0.22753911 | V6: =G6/G$11 -> #DIV/0! | W6: =H6/H$11 -> #DIV/0! | X6: =I6/I$11 -> #DIV/0! | ... AC6: =N6/N$11 -> #DIV/0!
A7: 3 Assault | B7: 20 | C7: 57 | D7: 19 | E7: 13 | F7: 34 | P7: 3 Assault | Q7: =B7/B$11 -> 0.0020678246 | R7: =C7/C$11 -> 0.00149285 | S7: =D7/D$11 -> 0.0016829052 | T7: =E7/E$11 -> 0.002889531 | U7: =F7/F$11 -> 0.0017326607 | V7: =G7/G$11 -> #DIV/0! | W7: =H7/H$11 -> #DIV/0! | X7: =I7/I$11 -> #DIV/0! | ... AC7: =N7/N$11 -> #DIV/0!
A8: 4 Undetermined | B8: 494 | C8: 1131 | D8: 378 | E8: 177 | F8: 552 | P8: 4 Undetermined | Q8: =B8/B$11 -> 0.051075269 | R8: =C8/C$11 -> 0.029621288 | S8: =D8/D$11 -> 0.033480957 | T8: =E8/E$11 -> 0.039342076 | U8: =F8/F$11 -> 0.028130255 | V8: =G8/G$11 -> #DIV/0! | W8: =H8/H$11 -> #DIV/0! | X8: =I8/I$11 -> #DIV/0! | ... AC8: =N8/N$11 -> #DIV/0!
A9: 5 Adverse Effect | B9: 2323 | C9: 6188 | D9: 3044 | E9: 755 | F9: 4846 | P9: 5 Adverse Effect | Q9: =B9/B$11 -> 0.24017783 | R9: =C9/C$11 -> 0.16206589 | S9: =D9/D$11 -> 0.26961913 | T9: =E9/E$11 -> 0.16781507 | U9: =F9/F$11 -> 0.2469551 | V9: =G9/G$11 -> #DIV/0! | W9: =H9/H$11 -> #DIV/0! | X9: =I9/I$11 -> #DIV/0! | ... AC9: =N9/N$11 -> #DIV/0!
A10: 6 Underdose | B10: 15 | C10: 35 | D10: 72 | E10: 5 | F10: 55 | P10: 6 Underdose | Q10: =B10/B$11 -> 0.0015508685 | R10: =C10/C$11 -> 0.0009166623 | S10: =D10/D$11 -> 0.0063773251 | T10: =E10/E$11 -> 0.0011113581 | U10: =F10/F$11 -> 0.0028028334 | V10: =G10/G$11 -> #DIV/0! | W10: =H10/H$11 -> #DIV/0! | X10: =I10/I$11 -> #DIV/0! | ... AC10: =N10/N$11 -> #DIV/0!
A11: Total | B11: =SUM(B5:B10) -> 9672 | C11: =SUM(C5:C10) -> 38182 | D11: =SUM(D5:D10) -> 11290 | E11: =SUM(E5:E10) -> 4499 | F11: =SUM(F5:F10) -> 19623 | G11: =SUM(G5:G10) -> 0 | H11: =SUM(H5:H10) -> 0 | I11: =SUM(I5:I10) -> 0 | ... N11: =SUM(N5:N10) -> 0

Sheet 4_1.4_Other_Codes
A1: Table 4: Presence of other external cause codes | B1: **** Look at secondary tooo (4a and 4b)
A2: First Listed Manner / Mechanism Non-Drug Poisoning External Cause Code,CSTE Working Case Definition of Drug Poisoning
A4: Chapter | B4: =Table_4.0_Information!$A$4 -> Colorado | C4: =Table_4.0_Information!$A$5 -> Kentucky | D4: Louisiana | E4: =Table_4.0_Information!$A$6 -> New Mexico | F4: Tennessee | G4: =Table_4.0_Information!$A$8 -> 5 add state in table 0 | H4: =Table_4.0_Information!$A$9 -> 6 add state in table 0 | I4: =Table_4.0_Information!$A$10 -> 7 add state in table 0 | J4: =Table_4.0_Information!$A$11 -> 8 add state in table 0 | K4: =Table_4.0_Information!$A$12 -> 9 add state in table 0 | L4: =Table_4.0_Information!$A$13 -> 10 add state in table 0 | M4: =Table_4.0_Information!$A$14 -> 11 add state in table 0 | N4: =Table_4.0_Information!$A$15 -> 12 add state in table 0 | P4: Chapter | Q4: =Table_4.0_Information!$A$4 -> Colorado | R4: =Table_4.0_Information!$A$5 -> Kentucky | S4: Louisiana | T4: =Table_4.0_Information!$A$6 -> New Mexico | U4: Tennnessee | V4: =Table_4.0_Information!$A$8 -> 5 add state in table 0 | W4: =Table_4.0_Information!$A$9 -> 6 add state in table 0 | X4: =Table_4.0_Information!$A$10 -> 7 add state in table 0 | Y4: =Table_4.0_Information!$A$11 -> 8 add state in table 0 | Z4: =Table_4.0_Information!$A$12 -> 9 add state in table 0 | AA4: =Table_4.0_Information!$A$13 -> 10 add state in table 0 | AB4: =Table_4.0_Information!$A$14 -> 11 add state in table 0 | AC4: =Table_4.0_Information!$A$15 -> 12 add state in table 0
A5: No Other External Cause Code | B5: 6777 | C5: 30147 | D5: 7327 | E5: 3199 | F5: 14175 | P5: No Other External Cause Code | Q5: =B5/B$27 -> 0.92405236 | R5: =C5/C$27 -> 0.94516554 | S5: =D5/D$27 -> 0.89648844 | T5: =E5/E$27 -> 0.85420561 | U5: =F5/F$27 -> 0.96291013 | V5: =G5/G$27 -> #DIV/0! | W5: =H5/H$27 -> #DIV/0! | X5: =I5/I$27 -> #DIV/0! | ... AC5: =N5/N$27 -> #DIV/0!
A6: T14-T14: Injuries of unspecified body region | B6: 74 | C6: 0 | D6: 177 | E6: 25 | F6: 239 | P6: T14-T14 | Q6: =B6/B$27 -> 0.010089992 | R6: =C6/C$27 -> 0 | S6: =D6/D$27 -> 0.021656674 | T6: =E6/E$27 -> 0.0066755674 | U6: =F6/F$27 -> 0.01623531 | V6: =G6/G$27 -> #DIV/0! | W6: =H6/H$27 -> #DIV/0! | X6: =I6/I$27 -> #DIV/0! | ... AC6: =N6/N$27 -> #DIV/0!
A7: T15-T19: Effects of foreign body entering through natural orifice | B7: 3 | C7: 180 | D7: 29 | E7: 1 | F7: 13 | P7: T15-T19 | Q7: =B7/B$27 -> 0.00040905372 | R7: =C7/C$27 -> 0.0056433409 | S7: =D7/D$27 -> 0.0035482687 | T7: =E7/E$27 -> 0.0002670227 | U7: =F7/F$27 -> 0.00088309218 | V7: =G7/G$27 -> #DIV/0! | W7: =H7/H$27 -> #DIV/0! | X7: =I7/I$27 -> #DIV/0! | ... AC7: =N7/N$27 -> #DIV/0!
A8: T51-T65: Toxic effects of substances chiefly nonmedicinal as to source | B8: 102 | C8: 27 | D8: 229 | E8: 98 | F8: 211 | P8: T51-T65 | Q8: =B8/B$27 -> 0.013907827 | R8: =C8/C$27 -> 0.00084650113 | S8: =D8/D$27 -> 0.028019087 | T8: =E8/E$27 -> 0.026168224 | U8: =F8/F$27 -> 0.014333265 | V8: =G8/G$27 -> #DIV/0! | W8: =H8/H$27 -> #DIV/0! | X8: =I8/I$27 -> #DIV/0! | ... AC8: =N8/N$27 -> #DIV/0!
A9: T66-T78: Other and unspecified effects of external causes | B9: 9 | C9: 241 | D9: 11 | E9: 6 | F9: 14 | P9: T66-T78 | Q9: =B9/B$27 -> 0.0012271612 | R9: =C9/C$27 -> 0.0075558064 | S9: =D9/D$27 -> 0.001345895 | T9: =E9/E$27 -> 0.0016021362 | U9: =F9/F$27 -> 0.00095102235 | V9: =G9/G$27 -> #DIV/0! | W9: =H9/H$27 -> #DIV/0! | X9: =I9/I$27 -> #DIV/0! | ... AC9: =N9/N$27 -> #DIV/0!
A10: V00-V09: Pedestrian injured in transport accident | B10: 1 | C10: 18 | D10: 0 | E10: 1 | F10: 0 | P10: V00-V09 | Q10: =B10/B$27 -> 0.00013635124 | R10: =C10/C$27 -> 0.00056433409 | S10: =D10/D$27 -> 0 | T10: =E10/E$27 -> 0.0002670227 | U10: =F10/F$27 -> 0 | V10: =G10/G$27 -> #DIV/0! | W10: =H10/H$27 -> #DIV/0! | X10: =I10/I$27 -> #DIV/0! | ... AC10: =N10/N$27 -> #DIV/0!
A11: V10-V19: Pedal cycle rider injured in transport accident | B11: 1 | C11: ** | D11: 1 | E11: 1 | F11: 0 | P11: V10-V19 | Q11: =B11/B$27 -> 0.00013635124 | R11: =C11/C$27 -> #VALUE! | S11: =D11/D$27 -> 0.00012235409 | T11: =E11/E$27 -> 0.0002670227 | U11: =F11/F$27 -> 0 | V11: =G11/G$27 -> #DIV/0! | W11: =H11/H$27 -> #DIV/0! | X11: =I11/I$27 -> #DIV/0! | ... AC11: =N11/N$27 -> #DIV/0!
A12: V20-V29: Motorcycle rider injured in transport accident | B12: 1 | C12: 0 | D12: 0 | E12: 0 | F12: 0 | P12: V20-V29 | Q12: =B12/B$27 -> 0.00013635124 | R12: =C12/C$27 -> 0 | S12: =D12/D$27 -> 0 | T12: =E12/E$27 -> 0 | U12: =F12/F$27 -> 0 | V12: =G12/G$27 -> #DIV/0! | W12: =H12/H$27 -> #DIV/0! | X12: =I12/I$27 -> #DIV/0! | ... AC12: =N12/N$27 -> #DIV/0!
A13: V40-V49: Car occupant injured in transport accident | B13: 9 | C13: ** | D13: 26 | E13: 5 | F13: 1 | P13: V40-V49 | Q13: =B13/B$27 -> 0.0012271612 | R13: =C13/C$27 -> #VALUE! | S13: =D13/D$27 -> 0.0031812064 | T13: =E13/E$27 -> 0.0013351135 | U13: =F13/F$27 -> 6.7930168e-05 | V13: =G13/G$27 -> #DIV/0! | W13: =H13/H$27 -> #DIV/0! | X13: =I13/I$27 -> #DIV/0! | ... AC13: =N13/N$27 -> #DIV/0!
A14: V80-V89: Other land transport accidents | B14: 6 | C14: 120 | D14: 9 | E14: 2 | F14: 2 | P14: V80-V89 | Q14: =B14/B$27 -> 0.00081810744 | R14: =C14/C$27 -> 0.0037622272 | S14: =D14/D$27 -> 0.0011011868 | T14: =E14/E$27 -> 0.00053404539 | U14: =F14/F$27 -> 0.00013586034 | V14: =G14/G$27 -> #DIV/0! | W14: =H14/H$27 -> #DIV/0! | X14: =I14/I$27 -> #DIV/0! | ... AC14: =N14/N$27 -> #DIV/0!
A15: W00-W19: Slipping, tripping, stumbling and falls | B15: 49 | C15: 22 | D15: 120 | E15: 45 | F15: 23 | P15: W00-W19 | Q15: =B15/B$27 -> 0.0066812108 | R15: =C15/C$27 -> 0.00068974166 | S15: =D15/D$27 -> 0.014682491 | T15: =E15/E$27 -> 0.012016021 | U15: =F15/F$27 -> 0.0015623939 | V15: =G15/G$27 -> #DIV/0! | W15: =H15/H$27 -> #DIV/0! | X15: =I15/I$27 -> #DIV/0! | ... AC15: =N15/N$27 -> #DIV/0!
A16: W20-W49: Exposure to inanimate mechanical forces | B16: 17 | C16: 196 | D16: 8 | E16: 6 | F16: 6 | P16: W20-W49 | Q16: =B16/B$27 -> 0.0023179711 | R16: =C16/C$27 -> 0.0061449712 | S16: =D16/D$27 -> 0.00097883274 | T16: =E16/E$27 -> 0.0016021362 | U16: =F16/F$27 -> 0.00040758101 | V16: =G16/G$27 -> #DIV/0! | W16: =H16/H$27 -> #DIV/0! | X16: =I16/I$27 -> #DIV/0! | ... AC16: =N16/N$27 -> #DIV/0!
A17: W50-W64: Exposure to animate mechanical forces | B17: 4 | C17: 57 | D17: 3 | E17: 3 | F17: 3 | P17: W50-W64 | Q17: =B17/B$27 -> 0.00054540496 | R17: =C17/C$27 -> 0.0017870579 | S17: =D17/D$27 -> 0.00036706228 | T17: =E17/E$27 -> 0.00080106809 | U17: =F17/F$27 -> 0.0002037905 | V17: =G17/G$27 -> #DIV/0! | W17: =H17/H$27 -> #DIV/0! | X17: =I17/I$27 -> #DIV/0! | ... AC17: =N17/N$27 -> #DIV/0!
A18: W85-W99: Exposure to electric current, radiation and extreme ambient air temperature and pressure | B18: 0 | C18: 14 | D18: 1 | E18: 1 | F18: 0 | P18: W85-W99 | Q18: =B18/B$27 -> 0 | R18: =C18/C$27 -> 0.00043892651 | S18: =D18/D$27 -> 0.00012235409 | T18: =E18/E$27 -> 0.0002670227 | U18: =F18/F$27 -> 0 | V18: =G18/G$27 -> #DIV/0! | W18: =H18/H$27 -> #DIV/0! | X18: =I18/I$27 -> #DIV/0! | ... AC18: =N18/N$27 -> #DIV/0!
A19: X00-X08: Exposure to smoke, fire and flames | B19: 1 | C19: ** | D19: 3 | E19: 0 | F19: 0 | P19: X00-X08 | Q19: =B19/B$27 -> 0.00013635124 | R19: =C19/C$27 -> #VALUE! | S19: =D19/D$27 -> 0.00036706228 | T19: =E19/E$27 -> 0 | U19: =F19/F$27 -> 0 | V19: =G19/G$27 -> #DIV/0! | W19: =H19/H$27 -> #DIV/0! | X19: =I19/I$27 -> #DIV/0! | ... AC19: =N19/N$27 -> #DIV/0!
A20: X10-X19: Contact with heat and hot substances | B20: 1 | C20: 6 | D20: 2 | E20: 1 | F20: 1 | P20: X10-X19 | Q20: =B20/B$27 -> 0.00013635124 | R20: =C20/C$27 -> 0.00018811136 | S20: =D20/D$27 -> 0.00024470819 | T20: =E20/E$27 -> 0.0002670227 | U20: =F20/F$27 -> 6.7930168e-05 | V20: =G20/G$27 -> #DIV/0! | W20: =H20/H$27 -> #DIV/0! | X20: =I20/I$27 -> #DIV/0! | ... AC20: =N20/N$27 -> #DIV/0!
A21: X30-X39: Exposure to forces of nature | B21: 2 | C21: 8 | D21: 5 | E21: 0 | F21: 0 | P21: X30-X39 | Q21: =B21/B$27 -> 0.00027270248 | R21: =C21/C$27 -> 0.00025081515 | S21: =D21/D$27 -> 0.00061177046 | T21: =E21/E$27 -> 0 | U21: =F21/F$27 -> 0 | V21: =G21/G$27 -> #DIV/0! | W21: =H21/H$27 -> #DIV/0! | X21: =I21/I$27 -> #DIV/0! | ... AC21: =N21/N$27 -> #DIV/0!
A22: X52-X58: Accidental exposure to other specified factors | B22: 262 | C22: 832 | D22: 209 | E22: 335 | F22: 32 | P22: X52-X58 | Q22: =B22/B$27 -> 0.035724025 | R22: =C22/C$27 -> 0.026084776 | S22: =D22/D$27 -> 0.025572005 | T22: =E22/E$27 -> 0.089452603 | U22: =F22/F$27 -> 0.0021737654 | V22: =G22/G$27 -> #DIV/0! | W22: =H22/H$27 -> #DIV/0! | X22: =I22/I$27 -> #DIV/0! | ... AC22: =N22/N$27 -> #DIV/0!
A23: X71-X83: Intentional self-harm | B23: 0 | C23: 0 | D23: 0 | E23: 6 | F23: 0 | P23: X71-X83 | Q23: =B23/B$27 -> 0 | R23: =C23/C$27 -> 0 | S23: =D23/D$27 -> 0 | T23: =E23/E$27 -> 0.0016021362 | U23: =F23/F$27 -> 0 | V23: =G23/G$27 -> #DIV/0! | W23: =H23/H$27 -> #DIV/0! | X23: =I23/I$27 -> #DIV/0! | ... AC23: =N23/N$27 -> #DIV/0!
A24: X92-Y09: Assault | B24: 10 | C24: 28 | D24: 8 | E24: 6 | F24: 0 | P24: X92-Y09 | Q24: =B24/B$27 -> 0.0013635124 | R24: =C24/C$27 -> 0.00087785302 | S24: =D24/D$27 -> 0.00097883274 | T24: =E24/E$27 -> 0.0016021362 | U24: =F24/F$27 -> 0 | V24: =G24/G$27 -> #DIV/0! | W24: =H24/H$27 -> #DIV/0! | X24: =I24/I$27 -> #DIV/0! | ... AC24: =N24/N$27 -> #DIV/0!
A25: Y21-Y33: Event of undetermined event | B25: 3 | C25: ** | D25: 2 | E25: 4 | F25: 1 | P25: Y21-Y33 | Q25: =B25/B$27 -> 0.00040905372 | R25: =C25/C$27 -> #VALUE! | S25: =D25/D$27 -> 0.00024470819 | T25: =E25/E$27 -> 0.0010680908 | U25: =F25/F$27 -> 6.7930168e-05 | V25: =G25/G$27 -> #DIV/0! | W25: =H25/H$27 -> #DIV/0! | X25: =I25/I$27 -> #DIV/0! | ... AC25: =N25/N$27 -> #DIV/0!
A26: Y35-Y38: Legal intervention, operations of war, military operations, and terrorism | B26: 2 | C26: ** | D26: 3 | E26: 0 | F26: 0 | P26: Y35-Y38 | Q26: =B26/B$27 -> 0.00027270248 | R26: =C26/C$27 -> #VALUE! | S26: =D26/D$27 -> 0.00036706228 | T26: =E26/E$27 -> 0 | U26: =F26/F$27 -> 0 | V26: =G26/G$27 -> #DIV/0! | W26: =H26/H$27 -> #DIV/0! | X26: =I26/I$27 -> #DIV/0! | ... AC26: =N26/N$27 -> #DIV/0!
A27: Total | B27: =SUM(B5:B26) -> 7334 | C27: =SUM(C5:C26) -> 31896 | D27: =SUM(D5:D26) -> 8173 | E27: =SUM(E5:E26) -> 3745 | F27: =SUM(F5:F26) -> 14721 | G27: =SUM(G5:G26) -> 0 | H27: =SUM(H5:H26) -> 0 | I27: =SUM(I5:I26) -> 0 | ... N27: =SUM(N5:N26) -> 0

Sheet 4_1.6_First_Mention
A1: Table 6: For Records with Any Mention, Field of First Mention
A2: Position of First Drug Poisoning Code, Any Mention of Drug Poisoning,CSTE Working Case Definition of Drug Poisoning
C3: Frequency
A4: Position | B4: =Table_4.0_Information!$A$4 -> Colorado | C4: =Table_4.0_Information!$A$5 -> Kentucky | D4: Louisiana | E4: =Table_4.0_Information!$A$6 -> New Mexico | F4: Tennessee | G4: =Table_4.0_Information!$A$8 -> 5 add state in table 0 | H4: =Table_4.0_Information!$A$9 -> 6 add state in table 0 | I4: =Table_4.0_Information!$A$10 -> 7 add state in table 0 | J4: =Table_4.0_Information!$A$11 -> 8 add state in table 0 | K4: =Table_4.0_Information!$A$12 -> 9 add state in table 0 | L4: =Table_4.0_Information!$A$13 -> 10 add state in table 0 | M4: =Table_4.0_Information!$A$14 -> 11 add state in table 0 | N4: =Table_4.0_Information!$A$15 -> 12 add state in table 0 | Q4: =Table_4.0_Information!$A$4 -> Colorado | R4: =Table_4.0_Information!$A$5 -> Kentucky | S4: Louisiana | T4: =Table_4.0_Information!$A$6 -> New Mexico | U4: Tennessee | V4: =Table_4.0_Information!$A$8 -> 5 add state in table 0 | W4: =Table_4.0_Information!$A$9 -> 6 add state in table 0 | X4: =Table_4.0_Information!$A$10 -> 7 add state in table 0 | Y4: =Table_4.0_Information!$A$11 -> 8 add state in table 0 | Z4: =Table_4.0_Information!$A$12 -> 9 add state in table 0 | AA4: =Table_4.0_Information!$A$13 -> 10 add state in table 0 | AB4: =Table_4.0_Information!$A$14 -> 11 add state in table 0 | AC4: =Table_4.0_Information!$A$15 -> 12 add state in table 0 | AF4: =Table_4.0_Information!$A$4 -> Colorado | AG4: =Table_4.0_Information!$A$5 -> Kentucky | AH4: Louisiana | AI4: =Table_4.0_Information!$A$6 -> New Mexico | AJ4: Tennnessee | AK4: =Table_4.0_Information!$A$8 -> 5 add state in table 0 | AL4: =Table_4.0_Information!$A$9 -> 6 add state in table 0 | AM4: =Table_4.0_Information!$A$10 -> 7 add state in table 0 | AN4: =Table_4.0_Information!$A$11 -> 8 add state in table 0 | AO4: =Table_4.0_Information!$A$12 -> 9 add state in table 0 | AP4: =Table_4.0_Information!$A$13 -> 10 add state in table 0 | AQ4: =Table_4.0_Information!$A$14 -> 11 add state in table 0 | AR4: =Table_4.0_Information!$A$15 -> 12 add state in table 0
A5: 1 | B5: 7334 | C5: 31959 | D5: 8174 | E5: 3739 | F5: 14722 | P5: 1 | Q5: =B5/B$35 -> 0.80717587 | R5: =C5/C$35 -> 0.87978308 | S5: =D5/D$35 -> 0.69779751 | T5: =E5/E$35 -> 0.79722814 | U5: =F5/F$35 -> 0.81072746 | V5: =G5/G$35 -> #DIV/0! | W5: =H5/H$35 -> #DIV/0! | X5: =I5/I$35 -> #DIV/0! | ... AC5: =N5/N$35 -> #DIV/0! | AE5: 1 | AF5: =B5/B$35 -> 0.80717587 | AG5: =C5/C$35 -> 0.87978308 | AH5: =D5/D$35 -> 0.69779751 | AI5: =E5/E$35 -> 0.79722814 | AJ5: =F5/F$35 -> 0.81072746 | AK5: =G5/G$35 -> #DIV/0! | AL5: =H5/H$35 -> #DIV/0! | AM5: =I5/I$35 -> #DIV/0! | ... AR5: =N5/N$35 -> #DIV/0!
A6: 2 | B6: 929 | C6: 2971 | D6: 1175 | E6: 499 | F6: 2199 | P6: 2 | Q6: =B6/B$35 -> 0.10224521 | R6: =C6/C$35 -> 0.08178715 | S6: =D6/D$35 -> 0.10030732 | T6: =E6/E$35 -> 0.10639659 | U6: =F6/F$35 -> 0.12109698 | V6: =G6/G$35 -> #DIV/0! | W6: =H6/H$35 -> #DIV/0! | X6: =I6/I$35 -> #DIV/0! | ... AC6: =N6/N$35 -> #DIV/0! | AE6: 2-5 | AF6: =(SUM(B6:B9)/B$35) -> 0.17829628 | AG6: =(SUM(C6:C9)/C$35) -> 0.11537191 | AH6: =(SUM(D6:D9)/D$35) -> 0.21879802 | AI6: =(SUM(E6:E9)/E$35) -> 0.18059701 | AJ6: =(SUM(F6:F9)/F$35) -> 0.1802412 | AK6: =(SUM(G6:G9)/G$35) -> #DIV/0! | AL6: =(SUM(H6:H9)/H$35) -> #DIV/0! | AM6: =(SUM(I6:I9)/I$35) -> #DIV/0! | ... AR6: =(SUM(N6:N9)/N$35) -> #DIV/0!
A7: 3 | B7: 386 | C7: 794 | D7: 662 | E7: 200 | F7: 694 | P7: 3 | Q7: =B7/B$35 -> 0.042482941 | R7: =C7/C$35 -> 0.021857623 | S7: =D7/D$35 -> 0.056513574 | T7: =E7/E$35 -> 0.042643923 | U7: =F7/F$35 -> 0.038217964 | V7: =G7/G$35 -> #DIV/0! | W7: =H7/H$35 -> #DIV/0! | X7: =I7/I$35 -> #DIV/0! | ... AC7: =N7/N$35 -> #DIV/0! | AE7: 6-10 | AF7: =(SUM(B10:B14)/B$35) -> 0.011886419 | AG7: =(SUM(C10:C14)/C$35) -> 0.0037438749 | AH7: =(SUM(D10:D14)/D$35) -> 0.055489158 | AI7: =(SUM(E10:E14)/E$35) -> 0.015138593 | AJ7: =(SUM(F10:F14)/F$35) -> 0.0079850212 | AK7: =(SUM(G10:G14)/G$35) -> #DIV/0! | AL7: =(SUM(H10:H14)/H$35) -> #DIV/0! | AM7: =(SUM(I10:I14)/I$35) -> #DIV/0! | ... AR7: =(SUM(N10:N14)/N$35) -> #DIV/0!
A8: 4 | B8: 199 | C8: 294 | D8: 431 | E8: 96 | F8: 277 | P8: 4 | Q8: =B8/B$35 -> 0.021901827 | R8: =C8/C$35 -> 0.0080933766 | S8: =D8/D$35 -> 0.03679358 | T8: =E8/E$35 -> 0.020469083 | U8: =F8/F$35 -> 0.015254144 | V8: =G8/G$35 -> #DIV/0! | W8: =H8/H$35 -> #DIV/0! | X8: =I8/I$35 -> #DIV/0! | ... AC8: =N8/N$35 -> #DIV/0! | AE8: 11-15 | AF8: =(SUM(B15:B19)/B$35) -> 0.0020911292 | AG8: =(SUM(C15:C19)/C$35) -> 0.00085338325 | AH8: =(SUM(D15:D19)/D$35) -> 0.017671163 | AI8: =(SUM(E15:E19)/E$35) -> 0.0051172708 | AJ8: =(SUM(F15:F19)/F$35) -> 0.0010463131 | AK8: =(SUM(G15:G19)/G$35) -> #DIV/0! | AL8: =(SUM(H15:H19)/H$35) -> #DIV/0! | AM8: =(SUM(I15:I19)/I$35) -> #DIV/0! | ... AQ8: =(SUM(M15:M19)/M$35) -> #DIV/0! | AR8: =(SUM(N5:N19)/N$35) -> #DIV/0!
A9: 5 | B9: 106 | C9: 132 | D9: 295 | E9: 52 | F9: 103 | P9: 5 | Q9: =B9/B$35 -> 0.0116663 | R9: =C9/C$35 -> 0.0036337609 | S9: =D9/D$35 -> 0.025183541 | T9: =E9/E$35 -> 0.01108742 | U9: =F9/F$35 -> 0.0056721185 | V9: =G9/G$35 -> #DIV/0! | W9: =H9/H$35 -> #DIV/0! | X9: =I9/I$35 -> #DIV/0! | ... AC9: =N9/N$35 -> #DIV/0! | AE9: 16-30 | AF9: =(SUM(B20:B34)/B$35) -> 0.00055029716 | AG9: =(SUM(C20:C34)/C$35) -> 0.00024775643 | AH9: =(SUM(D20:D34)/D$35) -> 0.010244152 | AI9: =(SUM(E20:E34)/E$35) -> 0.0019189765 | AJ9: =(SUM(F20:F34)/F$35) -> 0 | AK9: =(SUM(G20:G34)/G$35) -> #DIV/0! | AL9: =(SUM(H20:H34)/H$35) -> #DIV/0! | AM9: =(SUM(I20:I34)/I$35) -> #DIV/0! | ... AR9: =(SUM(N20:N34)/N$35) -> #DIV/0!
A10: 6 | B10: 55 | C10: 60 | D10: 196 | E10: 30 | F10: 59 | P10: 6 | Q10: =B10/B$35 -> 0.0060532688 | R10: =C10/C$35 -> 0.0016517095 | S10: =D10/D$35 -> 0.016732115 | T10: =E10/E$35 -> 0.0063965885 | U10: =F10/F$35 -> 0.0032490776 | V10: =G10/G$35 -> #DIV/0! | W10: =H10/H$35 -> #DIV/0! | X10: =I10/I$35 -> #DIV/0! | ... AC10: =N10/N$35 -> #DIV/0!
A11: 7 | B11: 24 | C11: 32 | D11: 163 | E11: 13 | F11: 39 | P11: 7 | Q11: =B11/B$35 -> 0.0026414264 | R11: =C11/C$35 -> 0.00088091174 | S11: =D11/D$35 -> 0.013914974 | T11: =E11/E$35 -> 0.002771855 | U11: =F11/F$35 -> 0.0021476954 | V11: =G11/G$35 -> #DIV/0! | W11: =H11/H$35 -> #DIV/0! | X11: =I11/I$35 -> #DIV/0! | ... AC11: =N11/N$35 -> #DIV/0!
A12: 8 | B12: 14 | C12: 21 | D12: 128 | E12: 10 | F12: 23 | P12: 8 | Q12: =B12/B$35 -> 0.001540832 | R12: =C12/C$35 -> 0.00057809833 | S12: =D12/D$35 -> 0.010927096 | T12: =E12/E$35 -> 0.0021321962 | U12: =F12/F$35 -> 0.0012665896 | V12: =G12/G$35 -> #DIV/0! | W12: =H12/H$35 -> #DIV/0! | X12: =I12/I$35 -> #DIV/0! | ... AC12: =N12/N$35 -> #DIV/0!
A13: 9 | B13: 8 | C13: 14 | D13: 92 | E13: 13 | F13: 18 | P13: 9 | Q13: =B13/B$35 -> 0.00088047546 | R13: =C13/C$35 -> 0.00038539889 | S13: =D13/D$35 -> 0.0078538501 | T13: =E13/E$35 -> 0.002771855 | U13: =F13/F$35 -> 0.00099124401 | V13: =G13/G$35 -> #DIV/0! | W13: =H13/H$35 -> #DIV/0! | X13: =I13/I$35 -> #DIV/0! | ... AC13: =N13/N$35 -> #DIV/0!
A14: 10 | B14: 7 | C14: 9 | D14: 71 | E14: 5 | F14: 6 | P14: 10 | Q14: =B14/B$35 -> 0.00077041602 | R14: =C14/C$35 -> 0.00024775643 | S14: =D14/D$35 -> 0.0060611234 | T14: =E14/E$35 -> 0.0010660981 | U14: =F14/F$35 -> 0.00033041467 | V14: =G14/G$35 -> #DIV/0! | W14: =H14/H$35 -> #DIV/0! | X14: =I14/I$35 -> #DIV/0! | ... AC14: =N14/N$35 -> #DIV/0!
A15: 11 | B15: 7 | C15: 11 | D15: 59 | E15: 6 | F15: 8 | P15: 11 | Q15: =B15/B$35 -> 0.00077041602 | R15: =C15/C$35 -> 0.00030281341 | S15: =D15/D$35 -> 0.0050367082 | T15: =E15/E$35 -> 0.0012793177 | U15: =F15/F$35 -> 0.00044055289 | V15: =G15/G$35 -> #DIV/0! | W15: =H15/H$35 -> #DIV/0! | X15: =I15/I$35 -> #DIV/0! | ... AC15: =N15/N$35 -> #DIV/0!
A16: 12 | B16: 2 | C16: 6 | D16: 46 | E16: 6 | F16: 3 | P16: 12 | Q16: =B16/B$35 -> 0.00022011886 | R16: =C16/C$35 -> 0.00016517095 | S16: =D16/D$35 -> 0.003926925 | T16: =E16/E$35 -> 0.0012793177 | U16: =F16/F$35 -> 0.00016520734 | V16: =G16/G$35 -> #DIV/0! | W16: =H16/H$35 -> #DIV/0! | X16: =I16/I$35 -> #DIV/0! | ... AC16: =N16/N$35 -> #DIV/0!
A17: 13 | B17: 4 | C17: 4 | D17: 47 | E17: 3 | F17: 4 | P17: 13 | Q17: =B17/B$35 -> 0.00044023773 | R17: =C17/C$35 -> 0.00011011397 | S17: =D17/D$35 -> 0.004012293 | T17: =E17/E$35 -> 0.00063965885 | U17: =F17/F$35 -> 0.00022027645 | V17: =G17/G$35 -> #DIV/0! | W17: =H17/H$35 -> #DIV/0! | X17: =I17/I$35 -> #DIV/0! | ... AC17: =N17/N$35 -> #DIV/0!
A18: 14 | B18: 3 | C18: 5 | D18: 30 | E18: 3 | F18: 3 | P18: 14 | Q18: =B18/B$35 -> 0.0003301783 | R18: =C18/C$35 -> 0.00013764246 | S18: =D18/D$35 -> 0.0025610381 | T18: =E18/E$35 -> 0.00063965885 | U18: =F18/F$35 -> 0.00016520734 | V18: =G18/G$35 -> #DIV/0! | W18: =H18/H$35 -> #DIV/0! | X18: =I18/I$35 -> #DIV/0! | ... AC18: =N18/N$35 -> #DIV/0!
A19: 15 | B19: 3 | C19: 5 | D19: 25 | E19: 6 | F19: 1 | P19: 15 | Q19: =B19/B$35 -> 0.0003301783 | R19: =C19/C$35 -> 0.00013764246 | S19: =D19/D$35 -> 0.0021341984 | T19: =E19/E$35 -> 0.0012793177 | U19: =F19/F$35 -> 5.5069112e-05 | V19: =G19/G$35 -> #DIV/0! | W19: =H19/H$35 -> #DIV/0! | X19: =I19/I$35 -> #DIV/0! | ... AC19: =N19/N$35 -> #DIV/0!
A20: 16 | B20: 1 | C20: 1 | D20: 22 | E20: 3 | P20: 16 | Q20: =B20/B$35 -> 0.00011005943 | R20: =C20/C$35 -> 2.7528492e-05 | S20: =D20/D$35 -> 0.0018780946 | T20: =E20/E$35 -> 0.00063965885 | U20: =F20/F$35 -> 0 | V20: =G20/G$35 -> #DIV/0! | W20: =H20/H$35 -> #DIV/0! | X20: =I20/I$35 -> #DIV/0! | ... AC20: =N20/N$35 -> #DIV/0!
A21: 17 | B21: 1 | C21: 2 | D21: 17 | E21: 2 | P21: 17 | Q21: =B21/B$35 -> 0.00011005943 | R21: =C21/C$35 -> 5.5056984e-05 | S21: =D21/D$35 -> 0.0014512549 | T21: =E21/E$35 -> 0.00042643923 | U21: =F21/F$35 -> 0 | V21: =G21/G$35 -> #DIV/0! | W21: =H21/H$35 -> #DIV/0! | X21: =I21/I$35 -> #DIV/0! | ... AC21: =N21/N$35 -> #DIV/0!
A22: 18 | B22: 2 | C22: 3 | D22: 13 | E22: 1 | P22: 18 | Q22: =B22/B$35 -> 0.00022011886 | R22: =C22/C$35 -> 8.2585476e-05 | S22: =D22/D$35 -> 0.0011097832 | T22: =E22/E$35 -> 0.00021321962 | U22: =F22/F$35 -> 0 | V22: =G22/G$35 -> #DIV/0! | W22: =H22/H$35 -> #DIV/0! | X22: =I22/I$35 -> #DIV/0! | ... AC22: =N22/N$35 -> #DIV/0!
A23: 19 | B23: 1 | C23: 2 | D23: 14 | E23: 1 | P23: 19 | Q23: =B23/B$35 -> 0.00011005943 | R23: =C23/C$35 -> 5.5056984e-05 | S23: =D23/D$35 -> 0.0011951511 | T23: =E23/E$35 -> 0.00021321962 | U23: =F23/F$35 -> 0 | V23: =G23/G$35 -> #DIV/0! | W23: =H23/H$35 -> #DIV/0! | X23: =I23/I$35 -> #DIV/0! | ... AC23: =N23/N$35 -> #DIV/0!
A24: 20 | C24: 1 | D24: 20 | E24: 1 | P24: 20 | Q24: =B24/B$35 -> 0 | R24: =C24/C$35 -> 2.7528492e-05 | S24: =D24/D$35 -> 0.0017073587 | T24: =E24/E$35 -> 0.00021321962 | U24: =F24/F$35 -> 0 | V24: =G24/G$35 -> #DIV/0! | W24: =H24/H$35 -> #DIV/0! | X24: =I24/I$35 -> #DIV/0! | ... AC24: =N24/N$35 -> #DIV/0!
A25: 21 | D25: 17 | E25: 1 | P25: 21 | Q25: =B25/B$35 -> 0 | R25: =C25/C$35 -> 0 | S25: =D25/D$35 -> 0.0014512549 | T25: =E25/E$35 -> 0.00021321962 | U25: =F25/F$35 -> 0 | V25: =G25/G$35 -> #DIV/0! | W25: =H25/H$35 -> #DIV/0! | X25: =I25/I$35 -> #DIV/0! | ... AC25: =N25/N$35 -> #DIV/0!
A26: 22 | D26: 5 | P26: 22 | Q26: =B26/B$35 -> 0 | R26: =C26/C$35 -> 0 | S26: =D26/D$35 -> 0.00042683968 | T26: =E26/E$35 -> 0 | U26: =F26/F$35 -> 0 | V26: =G26/G$35 -> #DIV/0! | W26: =H26/H$35 -> #DIV/0! | X26: =I26/I$35 -> #DIV/0! | ... AC26: =N26/N$35 -> #DIV/0!
A27: 23 | D27: 5 | P27: 23 | Q27: =B27/B$35 -> 0 | R27: =C27/C$35 -> 0 | S27: =D27/D$35 -> 0.00042683968 | T27: =E27/E$35 -> 0 | U27: =F27/F$35 -> 0 | V27: =G27/G$35 -> #DIV/0! | W27: =H27/H$35 -> #DIV/0! | X27: =I27/I$35 -> #DIV/0! | ... AC27: =N27/N$35 -> #DIV/0!
A28: 24 | D28: 7 | P28: 24 | Q28: =B28/B$35 -> 0 | R28: =C28/C$35 -> 0 | S28: =D28/D$35 -> 0.00059757555 | T28: =E28/E$35 -> 0 | U28: =F28/F$35 -> 0 | V28: =G28/G$35 -> #DIV/0! | W28: =H28/H$35 -> #DIV/0! | X28: =I28/I$35 -> #DIV/0! | ... AC28: =N28/N$35 -> #DIV/0!
A29: 25 | P29: 25 | Q29: =B29/B$35 -> 0 | R29: =C29/C$35 -> 0 | S29: =D29/D$35 -> 0 | T29: =E29/E$35 -> 0 | U29: =F29/F$35 -> 0 | V29: =G29/G$35 -> #DIV/0! | W29: =H29/H$35 -> #DIV/0! | X29: =I29/I$35 -> #DIV/0! | ... AC29: =N29/N$35 -> #DIV/0!
A30: 26 | P30: 26 | Q30: =B30/B$35 -> 0 | R30: =C30/C$35 -> 0 | S30: =D30/D$35 -> 0 | T30: =E30/E$35 -> 0 | U30: =F30/F$35 -> 0 | V30: =G30/G$35 -> #DIV/0! | W30: =H30/H$35 -> #DIV/0! | X30: =I30/I$35 -> #DIV/0! | ... AC30: =N30/N$35 -> #DIV/0!
A31: 27 | P31: 27 | Q31: =B31/B$35 -> 0 | R31: =C31/C$35 -> 0 | S31: =D31/D$35 -> 0 | T31: =E31/E$35 -> 0 | U31: =F31/F$35 -> 0 | V31: =G31/G$35 -> #DIV/0! | W31: =H31/H$35 -> #DIV/0! | X31: =I31/I$35 -> #DIV/0! | ... AC31: =N31/N$35 -> #DIV/0!
A32: 28 | P32: 28 | Q32: =B32/B$35 -> 0 | R32: =C32/C$35 -> 0 | S32: =D32/D$35 -> 0 | T32: =E32/E$35 -> 0 | U32: =F32/F$35 -> 0 | V32: =G32/G$35 -> #DIV/0! | W32: =H32/H$35 -> #DIV/0! | X32: =I32/I$35 -> #DIV/0! | ... AC32: =N32/N$35 -> #DIV/0!
A33: 29 | P33: 29 | Q33: =B33/B$35 -> 0 | R33: =C33/C$35 -> 0 | S33: =D33/D$35 -> 0 | T33: =E33/E$35 -> 0 | U33: =F33/F$35 -> 0 | V33: =G33/G$35 -> #DIV/0! | W33: =H33/H$35 -> #DIV/0! | X33: =I33/I$35 -> #DIV/0! | ... AC33: =N33/N$35 -> #DIV/0!
A34: 30 | P34: 30 | Q34: =B34/B$35 -> 0 | R34: =C34/C$35 -> 0 | S34: =D34/D$35 -> 0 | T34: =E34/E$35 -> 0 | U34: =F34/F$35 -> 0 | V34: =G34/G$35 -> #DIV/0! | W34: =H34/H$35 -> #DIV/0! | X34: =I34/I$35 -> #DIV/0! | ... AC34: =N34/N$35 -> #DIV/0!
A35: total | B35: =SUM(B5:B34) -> 9086 | C35: =SUM(C5:C34) -> 36326 | D35: =SUM(D5:D34) -> 11714 | E35: =SUM(E5:E34) -> 4690 | F35: =SUM(F5:F34) -> 18159 | G35: =SUM(G5:G34) -> 0 | H35: =SUM(H5:H34) -> 0 | I35: =SUM(I5:I34) -> 0 | ... N35: =SUM(N5:N34) -> 0

Sheet 4_1.7_Primary
A1: Table 7: For Records with Any Mention, Chapter of Principal/first listed Diagnosis
A2: Chapter of Primary Diagnosis, Any Mention of Drug Poisoning,CSTE Working Case Definition of Drug Poisoning
Q3: Percent of cases (any mention) with principal in chapter
B4: =Table_4.0_Information!$A$4 -> Colorado | C4: =Table_4.0_Information!$A$5 -> Kentucky | D4: Louisiana | E4: =Table_4.0_Information!$A$6 -> New Mexico | F4: Tennessee | G4: =Table_4.0_Information!$A$8 -> 5 add state in table 0 | H4: =Table_4.0_Information!$A$9 -> 6 add state in table 0 | I4: =Table_4.0_Information!$A$10 -> 7 add state in table 0 | J4: =Table_4.0_Information!$A$11 -> 8 add state in table 0 | K4: =Table_4.0_Information!$A$12 -> 9 add state in table 0 | L4: =Table_4.0_Information!$A$13 -> 10 add state in table 0 | M4: =Table_4.0_Information!$A$14 -> 11 add state in table 0 | N4: =Table_4.0_Information!$A$15 -> 12 add state in table 0 | Q4: =Table_4.0_Information!$A$4 -> Colorado | R4: =Table_4.0_Information!$A$5 -> Kentucky | S4: Louisiana | T4: =Table_4.0_Information!$A$6 -> New Mexico | U4: Tennesee | V4: =Table_4.0_Information!$A$8 -> 5 add state in table 0 | W4: =Table_4.0_Information!$A$9 -> 6 add state in table 0 | X4: =Table_4.0_Information!$A$10 -> 7 add state in table 0 | Y4: =Table_4.0_Information!$A$11 -> 8 add state in table 0 | Z4: =Table_4.0_Information!$A$12 -> 9 add state in table 0 | AA4: =Table_4.0_Information!$A$13 -> 10 add state in table 0 | AB4: =Table_4.0_Information!$A$14 -> 11 add state in table 0 | AC4: =Table_4.0_Information!$A$15 -> 12 add state in table 0
A5: A00-B99: Infectious and parasitic diseases | B5: 5 | C5: 31 | D5: 157 | E5: 42 | F5: 23 | P5: A00-B99: Infectious and parasitic diseases | Q5: =Q25=B5/B$31 -> FALSE | R5: =C5/C$31 -> 0.0008301422 | S5: =D5/D$31 -> 0.012347621 | T5: =E5/E$31 -> 0.0083983203 | U5: =F5/F$31 -> 0.0012141047 | V5: =G5/G$31 -> #DIV/0! | W5: =H5/H$31 -> #DIV/0! | X5: =I5/I$31 -> #DIV/0! | Y5: =J5/J$31 -> #DIV/0! | ... AC5: =N5/N$31 -> #DIV/0!
A6: C00-D49: Neoplasms | B6: 1 | C6: ** | D6: 16 | E6: 0 | F6: 2 | P6: C00-D49: Neoplasms | Q6: =B6/B$31 -> 0.00010245902 | R6: =C6/C$31 -> #VALUE! | S6: =D6/D$31 -> 0.0012583563 | T6: =E6/E$31 -> 0 | U6: =F6/F$31 -> 0.00010557432 | V6: =G6/G$31 -> #DIV/0! | W6: =H6/H$31 -> #DIV/0! | X6: =I6/I$31 -> #DIV/0! | ... AC6: =N6/N$31 -> #DIV/0!
A7: D50-D89: Diseases of the blood and blood-forming organs, certain immunity disorders | B7: 4 | C7: 16 | D7: 26 | E7: 4 | F7: 28 | P7: D50-D89: Diseases of the blood and blood-forming organs, certain immunity disorders | Q7: =B7/B$31 -> 0.00040983607 | R7: =C7/C$31 -> 0.00042846049 | S7: =D7/D$31 -> 0.0020448289 | T7: =E7/E$31 -> 0.00079984003 | U7: =F7/F$31 -> 0.0014780405 | V7: =G7/G$31 -> #DIV/0! | W7: =H7/H$31 -> #DIV/0! | X7: =I7/I$31 -> #DIV/0! | ... AC7: =N7/N$31 -> #DIV/0!
A8: E00-E89: Endocrine, nutritional and metabolic diseases | B8: 37 | C8: 151 | D8: 71 | E8: 30 | F8: 113 | P8: E00-E89: Endocrine, nutritional and metabolic diseases | Q8: =B8/B$31 -> 0.0037909836 | R8: =C8/C$31 -> 0.0040435959 | S8: =D8/D$31 -> 0.005583956 | T8: =E8/E$31 -> 0.0059988002 | U8: =F8/F$31 -> 0.0059649493 | V8: =G8/G$31 -> #DIV/0! | W8: =H8/H$31 -> #DIV/0! | X8: =I8/I$31 -> #DIV/0! | ... AC8: =N8/N$31 -> #DIV/0!
A9: F01-F99: Mental disorders | B9: 685 | C9: 1031 | D9: 1148 | E9: 313 | F9: 797 | P9: F01-F99: Mental disorders | Q9: =B9/B$31 -> 0.070184426 | R9: =C9/C$31 -> 0.027608923 | S9: =D9/D$31 -> 0.090287063 | T9: =E9/E$31 -> 0.062587483 | U9: =F9/F$31 -> 0.042071368 | V9: =G9/G$31 -> #DIV/0! | W9: =H9/H$31 -> #DIV/0! | X9: =I9/I$31 -> #DIV/0! | ... AC9: =N9/N$31 -> #DIV/0!
A10: ______Mental disorders due to known physiological conditions | B10: 1 | C10: 7 | D10: 5 | E10: 0 | F10: 10 | P10: G00-G99: Diseases of the nervous system | Q10: =B18/B$31 -> 0.00020491803 | R10: =C18/C$31 -> 0.0046059502 | S10: =D18/D$31 -> 0.0069996068 | T10: =E18/E$31 -> 0.0055988802 | U10: =F18/F$31 -> 0.0087098818 | V10: =G18/G$31 -> #DIV/0! | W10: =H18/H$31 -> #DIV/0! | X10: =I18/I$31 -> #DIV/0! | ... AC10: =N18/N$31 -> #DIV/0!
A11: ______Mental and behavioral disorders due to psychoactive substance use | B11: 295 | C11: 537 | D11: 517 | E11: 123 | F11: 348 | P11: H00-H59: Diseases of the eye and adnexa | Q11: =B19/B$31 -> 0.0045081967 | R11: =C19/C$31 -> 0.00037490293 | S11: =D19/D$31 -> 0.00039323634 | T11: =E19/E$31 -> 0.00119976 | U11: =F19/F$31 -> 0.00031672297 | V11: =G19/G$31 -> #DIV/0! | W11: =H19/H$31 -> #DIV/0! | X11: =I19/I$31 -> #DIV/0! | ... AC11: =N19/N$31 -> #DIV/0!
A12: ______Schizophrenia, schizotypal, delusional, and other non-mood psychotic disorders | B12: 15 | C12: 19 | D12: 52 | E12: 12 | F12: 21 | P12: I00-I99: Diseases of the circulatory system | Q12: =B20/B$31 -> 0.0029713115 | R12: =C20/C$31 -> 0.0065072437 | S12: =D20/D$31 -> 0.022099882 | T12: =E20/E$31 -> 0.0053989202 | U12: =F20/F$31 -> 0.0078125 | V12: =G20/G$31 -> #DIV/0! | W12: =H20/H$31 -> #DIV/0! | X12: =I20/I$31 -> #DIV/0! | ... AC12: =N20/N$31 -> #DIV/0!
A13: ______Mood [affective] disorders | B13: 284 | C13: 346 | D13: 459 | E13: 143 | F13: 316 | P13: J00-J99: Diseases of the respiratory system | Q13: =B21/B$31 -> 0.0034836066 | R13: =C21/C$31 -> 0.0067214739 | S13: =D21/D$31 -> 0.01439245 | T13: =E21/E$31 -> 0.0051989602 | U13: =F21/F$31 -> 0.0072318412 | V13: =G21/G$31 -> #DIV/0! | W13: =H21/H$31 -> #DIV/0! | X13: =I21/I$31 -> #DIV/0! | ... AC13: =N21/N$31 -> #DIV/0!
A14: ______Anxiety, dissociative, stress-related, somatoform and other nonpsychotic mental disorders | B14: 71 | C14: 107 | D14: 81 | E14: 29 | F14: 89 | P14: K00-K95: Diseases of the digestive system | Q14: =B22/B$31 -> 0.0027663934 | R14: =C22/C$31 -> 0.0022226388 | S14: =D22/D$31 -> 0.0087298466 | T14: =E22/E$31 -> 0.0045990802 | U14: =F22/F$31 -> 0.00390625 | V14: =G22/G$31 -> #DIV/0! | W14: =H22/H$31 -> #DIV/0! | X14: =I22/I$31 -> #DIV/0! | ... AC14: =N22/N$31 -> #DIV/0!
A15: ______Behavioral syndromes associated with physiological disturbances and physical factors | B15: 3 | C15: 5 | D15: 1 | E15: 2 | F15: 0 | P15: L00-L99: Diseases of the skin and subcutaneous tissue | Q15: =B23/B$31 -> 0.0028688525 | R15: =C23/C$31 -> 0.0024904266 | S15: =D23/D$31 -> 0.0030672434 | T15: =E23/E$31 -> 0.0025994801 | U15: =F23/F$31 -> 0.001636402 | V15: =G23/G$31 -> #DIV/0! | W15: =H23/H$31 -> #DIV/0! | X15: =I23/I$31 -> #DIV/0! | ... AC15: =N23/N$31 -> #DIV/0!
A16: ______Disorders of adult personality and behavior | B16: 6 | C16: ** | D16: 5 | E16: 2 | F16: 2 | P16: M00-M99: Diseases of the musculoskeletal system and connective tissue | Q16: =B24/B$31 -> 0.0032786885 | R16: =C24/C$31 -> 0.0024904266 | S16: =D24/D$31 -> 0.0046401888 | T16: =E24/E$31 -> 0.0025994801 | U16: =F24/F$31 -> 0.0023226351 | V16: =G24/G$31 -> #DIV/0! | W16: =H24/H$31 -> #DIV/0! | X16: =I24/I$31 -> #DIV/0! | ... AC16: =N24/N$31 -> #DIV/0!
A17: ______Behavioral and emotional disorders with onset usually occurring in childhood and adolescence | B17: 8 | C17: 7 | D17: 20 | E17: 2 | F17: 7 | P17: N00-N99: Diseases of the genitourinary system | Q17: =B25/B$31 -> 0.0023565574 | R17: =C25/C$31 -> 0.0025439841 | S17: =D25/D$31 -> 0.012583563 | T17: =E25/E$31 -> 0.0045990802 | U17: =F25/F$31 -> 0.0041701858 | V17: =G25/G$31 -> #DIV/0! | W17: =H25/H$31 -> #DIV/0! | X17: =I25/I$31 -> #DIV/0! | ... AC17: =N25/N$31 -> #DIV/0!
A18: G00-G99: Diseases of the nervous system | B18: 2 | C18: 172 | D18: 89 | E18: 28 | F18: 165 | P18: O00-O9B: Complications of pregnancy, childbirth, and the puerperium | Q18: =B26/B$31 -> 0.0026639344 | R18: =C26/C$31 -> 0.0029456659 | S18: =D26/D$31 -> 0.0033818325 | T18: =E26/E$31 -> 0.0025994801 | U18: =F26/F$31 -> 0.0030088682 | V18: =G26/G$31 -> #DIV/0! | W18: =H26/H$31 -> #DIV/0! | X18: =I26/I$31 -> #DIV/0! | ... AC18: =N26/N$31 -> #DIV/0!
A19: H00-H59: Diseases of the eye and adnexa | B19: 44 | C19: 14 | D19: 5 | E19: 6 | F19: 6 | P19: Q00-Q99: Congenital malformations, deformations and chromosomal anomalies | Q19: =B27/B$31 -> 0.00010245902 | R19: =C27/C$31 -> 0 | S19: =D27/D$31 -> 7.8647267e-05 | T19: =E27/E$31 -> 0 | U19: =F27/F$31 -> 0 | V19: =G27/G$31 -> #DIV/0! | W19: =H27/H$31 -> #DIV/0! | X19: =I27/I$31 -> #DIV/0! | ... AC19: =N27/N$31 -> #DIV/0!
A20: I00-I99: Diseases of the circulatory system | B20: 29 | C20: 243 | D20: 281 | E20: 27 | F20: 148 | P20: R00-R99: Symptoms, signs, and ill-defined conditions | Q20: =B28/B$31 -> 0.048668033 | R20: =C28/C$31 -> 0.029295986 | S20: =D28/D$31 -> 0.048289422 | T20: =E28/E$31 -> 0.050589882 | U20: =F28/F$31 -> 0.056904561 | V20: =G28/G$31 -> #DIV/0! | W20: =H28/H$31 -> #DIV/0! | X20: =I28/I$31 -> #DIV/0! | ... AC20: =N28/N$31 -> #DIV/0!
A21: J00-J99: Diseases of the respiratory system | B21: 34 | C21: 251 | D21: 183 | E21: 26 | F21: 137 | P21: S00-T88: Injury, poisoning, and certain other consequences of external causes | Q21: =B29/B$31 -> 0.77612705 | R21: =C29/C$31 -> 0.87456819 | S21: =D29/D$31 -> 0.66425482 | T21: =E29/E$31 -> 0.76804639 | U21: =F29/F$31 -> 0.80278716 | V21: =G29/G$31 -> #DIV/0! | W21: =H29/H$31 -> #DIV/0! | X21: =I29/I$31 -> #DIV/0! | ... AC21: =N29/N$31 -> #DIV/0!
A22: K00-K95: Diseases of the digestive system | B22: 27 | C22: 83 | D22: 111 | E22: 23 | F22: 74 | P22: Z00-Z99: Factors influencing health status and contact with health services | Q22: =B30/B$31 -> 0.0050204918 | R22: =C30/C$31 -> 0.0047934017 | S22: =D30/D$31 -> 0.0099095556 | T22: =E30/E$31 -> 0.0065986803 | U22: =F30/F$31 -> 0.0084987331 | V22: =G30/G$31 -> #DIV/0! | W22: =H30/H$31 -> #DIV/0! | X22: =I30/I$31 -> #DIV/0! | ... AC22: =N30/N$31 -> #DIV/0!
A23: L00-L99: Diseases of the skin and subcutaneous tissue | B23: 28 | C23: 93 | D23: 39 | E23: 13 | F23: 31
A24: M00-M99: Diseases of the musculoskeletal system and connective tissue | B24: 32 | C24: 93 | D24: 59 | E24: 13 | F24: 44 | Q24: =Table_4.0_Information!$A$4 -> Colorado | R24: =Table_4.0_Information!$A$5 -> Kentucky | S24: Louisiana | T24: =Table_4.0_Information!$A$6 -> New Mexico | U24: Tennesee | V24: =Table_4.0_Information!$A$8 -> 5 add state in table 0 | W24: =Table_4.0_Information!$A$9 -> 6 add state in table 0 | X24: =Table_4.0_Information!$A$10 -> 7 add state in table 0 | Y24: =Table_4.0_Information!$A$11 -> 8 add state in table 0 | Z24: =Table_4.0_Information!$A$12 -> 9 add state in table 0 | AA24: =Table_4.0_Information!$A$13 -> 10 add state in table 0 | AB24: =Table_4.0_Information!$A$14 -> 11 add state in table 0 | AC24: =Table_4.0_Information!$A$15 -> 12 add state in table 0
A25: N00-N99: Diseases of the genitourinary system | B25: 23 | C25: 95 | D25: 160 | E25: 23 | F25: 79 | P25: Mental disorders due to known physiological conditions | Q25: =B10/B$9 -> 0.001459854 | R25: =C10/C$9 -> 0.0067895247 | S25: =D10/D$9 -> 0.0043554007 | T25: =E10/E$9 -> 0 | U25: =F10/F$9 -> 0.012547051 | V25: =G10/G$9 -> #DIV/0! | W25: =H10/H$9 -> #DIV/0! | X25: =I10/I$9 -> #DIV/0! | ... AC25: =N10/N$9 -> #DIV/0!
A26: O00-O9B: Complications of pregnancy, childbirth, and the puerperium | B26: 26 | C26: 110 | D26: 43 | E26: 13 | F26: 57 | P26: Mental and behavioral disorders due to psychoactive substance use | Q26: =B11/B$9 -> 0.43065693 | R26: =C11/C$9 -> 0.52085354 | S26: =D11/D$9 -> 0.45034843 | T26: =E11/E$9 -> 0.39297125 | U26: =F11/F$9 -> 0.43663739 | V26: =G11/G$9 -> #DIV/0! | W26: =H11/H$9 -> #DIV/0! | X26: =I11/I$9 -> #DIV/0! | ... AC26: =N11/N$9 -> #DIV/0!
A27: Q00-Q99: Congenital malformations, deformations and chromosomal anomalies | B27: 1 | C27: 0 | D27: 1 | E27: 0 | F27: 0 | P27: Schizophrenia, schizotypal, delusional, and other non-mood psychotic disorders | Q27: =B12/B$9 -> 0.02189781 | R27: =C12/C$9 -> 0.01842871 | S27: =D12/D$9 -> 0.045296167 | T27: =E12/E$9 -> 0.038338658 | U27: =F12/F$9 -> 0.026348808 | V27: =G12/G$9 -> #DIV/0! | W27: =H12/H$9 -> #DIV/0! | X27: =I12/I$9 -> #DIV/0! | ... AC27: =N12/N$9 -> #DIV/0!
A28: R00-R99: Symptoms, signs, and ill-defined conditions | B28: 475 | C28: 1094 | D28: 614 | E28: 253 | F28: 1078 | P28: Mood [affective] disorders | Q28: =B13/B$9 -> 0.41459854 | R28: =C13/C$9 -> 0.33559651 | S28: =D13/D$9 -> 0.39982578 | T28: =E13/E$9 -> 0.45686901 | U28: =F13/F$9 -> 0.39648683 | V28: =G13/G$9 -> #DIV/0! | W28: =H13/H$9 -> #DIV/0! | X28: =I13/I$9 -> #DIV/0! | ... AC28: =N13/N$9 -> #DIV/0!
A29: S00-T88: Injury, poisoning, and certain other consequences of external causes | B29: 7575 | C29: 32659 | D29: 8446 | E29: 3841 | F29: 15208 | P29: Anxiety, dissociative, stress-related, somatoform and other nonpsychotic mental disorders | Q29: =B14/B$9 -> 0.10364964 | R29: =C14/C$9 -> 0.10378274 | S29: =D14/D$9 -> 0.070557491 | T29: =E14/E$9 -> 0.092651757 | U29: =F14/F$9 -> 0.11166876 | V29: =G14/G$9 -> #DIV/0! | W29: =H14/H$9 -> #DIV/0! | X29: =I14/I$9 -> #DIV/0! | ... AC29: =N14/N$9 -> #DIV/0!
A30: Z00-Z99: Factors influencing health status and contact with health services | B30: 49 | C30: 179 | D30: 126 | E30: 33 | F30: 161 | P30: Behavioral syndromes associated with physiological disturbances and physical factors | Q30: =B15/B$9 -> 0.004379562 | R30: =C15/C$9 -> 0.0048496605 | S30: =D15/D$9 -> 0.00087108014 | T30: =E15/E$9 -> 0.0063897764 | U30: =F15/F$9 -> 0 | V30: =G15/G$9 -> #DIV/0! | W30: =H15/H$9 -> #DIV/0! | X30: =I15/I$9 -> #DIV/0! | ... AC30: =N15/N$9 -> #DIV/0!
A31: total | B31: =SUM(B5:B9:B18:B30) -> 9760 | C31: =SUM(C5:C9:C18:C30) -> 37343 | D31: =SUM(D5:D30) -> 12715 | E31: =SUM(E5:E9:E18:E30) -> 5001 | F31: =SUM(F5:F9:F18:F30) -> 18944 | G31: =SUM(G5:G9:G18:G30) -> 0 | H31: =SUM(H5:H9:H18:H30) -> 0 | I31: =SUM(I5:I9:I18:I30) -> 0 | J31: =SUM(J5:J9:J18:J30) -> 0 | K31: =SUM(K5:K9:K18:K30) -> 0 | L31: =SUM(L5:L9:L18:L30) -> 0 | ... N31: =SUM(N5:N9:N18:N30) -> 0 | P31: Disorders of adult personality and behavior | Q31: =B16/B$9 -> 0.0087591241 | R31: =C16/C$9 -> #VALUE! | S31: =D16/D$9 -> 0.0043554007 | T31: =E16/E$9 -> 0.0063897764 | U31: =F16/F$9 -> 0.0025094103 | V31: =G16/G$9 -> #DIV/0! | W31: =H16/H$9 -> #DIV/0! | X31: =I16/I$9 -> #DIV/0! | ... AC31: =N16/N$9 -> #DIV/0!
P32: Behavioral and emotional disorders with onset usually occurring in childhood and adolescence | Q32: =B17/B$9 -> 0.011678832 | R32: =C17/C$9 -> 0.0067895247 | S32: =D17/D$9 -> 0.017421603 | T32: =E17/E$9 -> 0.0063897764 | U32: =F17/F$9 -> 0.008782936 | V32: =G17/G$9 -> #DIV/0! | W32: =H17/H$9 -> #DIV/0! | X32: =I17/I$9 -> #DIV/0! | ... AC32: =N17/N$9 -> #DIV/0!
Q33: Percent of cases (with F as principal and T as secondary) in each mental health category

Sheet 4_1.11_Discharge_Expired
A1: Table 11: Individuals who Expired | C1: 11 a and b (look at any mention too)
B2: =Table_4.0_Information!$A$4 -> Colorado | C2: =Table_4.0_Information!$A$5 -> Kentucky | D2: Louisiana | E2: =Table_4.0_Information!$A$6 -> New Mexico | F2: Tennessee | G2: =Table_4.0_Information!$A$8 -> 5 add state in table 0 | H2: =Table_4.0_Information!$A$9 -> 6 add state in table 0 | I2: =Table_4.0_Information!$A$10 -> 7 add state in table 0 | J2: =Table_4.0_Information!$A$11 -> 8 add state in table 0 | K2: =Table_4.0_Information!$A$12 -> 9 add state in table 0 | L2: =Table_4.0_Information!$A$13 -> 10 add state in table 0 | M2: =Table_4.0_Information!$A$14 -> 11 add state in table 0 | N2: =Table_4.0_Information!$A$15 -> 12 add state in table 0
A3: Expired | B3: 3 | C3: 70 | D3: 62 | E3: 24 | F3: 18
A4: Non-Expired | B4: 7331 | C4: 31889 | D4: 8112 | E4: 3715 | F4: 14704
A5: Total | B5: =SUM(B3:B4) -> 7334 | C5: =SUM(C3:C4) -> 31959 | D5: =SUM(D3:D4) -> 8174 | E5: =SUM(E3:E4) -> 3739 | F5: =SUM(F3:F4) -> 14722 | G5: =SUM(G3:G4) -> 0 | H5: =SUM(H3:H4) -> 0 | I5: =SUM(I3:I4) -> 0 | ... L5: =SUM(L3:L4) -> 0
A6: Percent Expired | B6: =B3/B5 -> 0.00040905372 | C6: =C3/C5 -> 0.0021903063 | D6: =D3/D5 -> 0.0075850257 | E6: =E3/E5 -> 0.0064188286 | F6: =F3/F5 -> 0.00122266

Sheet 4_1.9_Any_Mention
A1: Table 9a: Frequency of type of encounter, Any Mention of Drugs
B3: =Table_4.0_Information!$A$4 -> Colorado | C3: =Table_4.0_Information!$A$5 -> Kentucky | D3: Louisiana | E3: =Table_4.0_Information!$A$6 -> New Mexico | F3: Tennessee | G3: =Table_4.0_Information!$A$8 -> 5 add state in table 0 | H3: =Table_4.0_Information!$A$9 -> 6 add state in table 0 | I3: =Table_4.0_Information!$A$10 -> 7 add state in table 0 | J3: =Table_4.0_Information!$A$11 -> 8 add state in table 0 | K3: =Table_4.0_Information!$A$12 -> 9 add state in table 0 | L3: =Table_4.0_Information!$A$13 -> 10 add state in table 0 | M3: =Table_4.0_Information!$A$14 -> 11 add state in table 0 | N3: =Table_4.0_Information!$A$15 -> 12 add state in table 0 | Q3: =Table_4.0_Information!$A$4 -> Colorado | R3: =Table_4.0_Information!$A$5 -> Kentucky | S3: Louisiana | T3: =Table_4.0_Information!$A$6 -> New Mexico | U3: Tennessee | V3: =Table_4.0_Information!$A$8 -> 5 add state in table 0 | W3: =Table_4.0_Information!$A$9 -> 6 add state in table 0 | X3: =Table_4.0_Information!$A$10 -> 7 add state in table 0 | Y3: =Table_4.0_Information!$A$11 -> 8 add state in table 0 | Z3: =Table_4.0_Information!$A$12 -> 9 add state in table 0 | AA3: =Table_4.0_Information!$A$13 -> 10 add state in table 0 | AB3: =Table_4.0_Information!$A$14 -> 11 add state in table 0 | AC3: =Table_4.0_Information!$A$15 -> 12 add state in table 0
A4: A: initial encounter | B4: 19265 | C4: 69647 | D4: 8165 | E4: 10449 | F4: 37021 | P4: A: initial encounter | Q4: =B4/B$8 -> 0.99324603 | R4: =C4/C$8 -> 0.99554025 | S4: =D4/D$8 -> 0.99804425 | T4: =E4/E$8 -> 0.79249147 | U4: =F4/F$8 -> 0.99534871 | V4: =G4/G$8 -> #DIV/0! | W4: =H4/H$8 -> #DIV/0! | X4: =I4/I$8 -> #DIV/0! | ... AC4: =N4/N$8 -> #DIV/0!
A5: D: subsequential encounter | B5: 91 | C5: 147 | D5: 9 | E5: 42 | F5: 81 | P5: D: subsequential encounter | Q5: =B5/B$8 -> 0.004691689 | R5: =C5/C$8 -> 0.0021012307 | S5: =D5/D$8 -> 0.00110011 | T5: =E5/E$8 -> 0.003185438 | U5: =F5/F$8 -> 0.0021777706 | V5: =G5/G$8 -> #DIV/0! | W5: =H5/H$8 -> #DIV/0! | X5: =I5/I$8 -> #DIV/0! | ... AC5: =N5/N$8 -> #DIV/0!
A6: S: sequela | B6: 39 | C6: 124 | D6: 7 | E6: 53 | F6: 91 | P6: S: sequela | Q6: =B6/B$8 -> 0.0020107239 | R6: =C6/C$8 -> 0.0017724667 | S6: =D6/D$8 -> 0.00085564112 | T6: =E6/E$8 -> 0.0040197194 | U6: =F6/F$8 -> 0.0024466312 | V6: =G6/G$8 -> #DIV/0! | W6: =H6/H$8 -> #DIV/0! | X6: =I6/I$8 -> #DIV/0! | ... AC6: =N6/N$8 -> #DIV/0!
A7: Missing | B7: 1 | C7: 41 | D7: 0 | E7: 2641 | F7: 1 | P7: Missing | Q7: =B7/B$8 -> 5.1557022e-05 | R7: =C7/C$8 -> 0.00058605755 | S7: =D7/D$8 -> 0 | T7: =E7/E$8 -> 0.20030338 | U7: =F7/F$8 -> 2.6886057e-05 | V7: =G7/G$8 -> #DIV/0! | W7: =H7/H$8 -> #DIV/0! | X7: =I7/I$8 -> #DIV/0! | ... AC7: =N7/N$8 -> #DIV/0!
B8: =SUM(B4:B7) -> 19396 | C8: =SUM(C4:C7) -> 69959 | D8: =SUM(D4:D7) -> 8181 | E8: =SUM(E4:E7) -> 13185 | F8: =SUM(F4:F7) -> 37194 | G8: =SUM(G4:G7) -> 0 | H8: =SUM(H4:H7) -> 0 | I8: =SUM(I4:I7) -> 0 | ... N8: =SUM(N4:N7) -> 0
A10: Table 9b: Frequency of intent, Any Mention of Drugs
A12: The FREQ Procedure
B13: =Table_4.0_Information!$A$4 -> Colorado | C13: =Table_4.0_Information!$A$5 -> Kentucky | D13: Louisiana | E13: =Table_4.0_Information!$A$6 -> New Mexico | F13: Tennessee | G13: =Table_4.0_Information!$A$8 -> 5 add state in table 0 | H13: =Table_4.0_Information!$A$9 -> 6 add state in table 0 | I13: =Table_4.0_Information!$A$10 -> 7 add state in table 0 | J13: =Table_4.0_Information!$A$11 -> 8 add state in table 0 | K13: =Table_4.0_Information!$A$12 -> 9 add state in table 0 | L13: =Table_4.0_Information!$A$13 -> 10 add state in table 0 | M13: =Table_4.0_Information!$A$14 -> 11 add state in table 0 | N13: =Table_4.0_Information!$A$15 -> 12 add state in table 0 | Q13: =Table_4.0_Information!$A$4 -> Colorado | R13: =Table_4.0_Information!$A$5 -> Kentucky | S13: Louisiana | T13: =Table_4.0_Information!$A$6 -> New Mexico | U13: Tennessee | V13: =Table_4.0_Information!$A$8 -> 5 add state in table 0 | W13: =Table_4.0_Information!$A$9 -> 6 add state in table 0 | X13: =Table_4.0_Information!$A$10 -> 7 add state in table 0 | Y13: =Table_4.0_Information!$A$11 -> 8 add state in table 0 | Z13: =Table_4.0_Information!$A$12 -> 9 add state in table 0 | AA13: =Table_4.0_Information!$A$13 -> 10 add state in table 0 | AB13: =Table_4.0_Information!$A$14 -> 11 add state in table 0 | AC13: =Table_4.0_Information!$A$15 -> 12 add state in table 0
A14: 1Unintentional | B14: 4969 | C14: 28475 | D14: 7884 | E14: 2922 | F14: 11858 | P14: 1 Unintentional | Q14: =B14/B$21 -> 0.25618684 | R14: =C14/C$21 -> 0.40702411 | S14: =D14/D$21 -> 0.20784014 | T14: =E14/E$21 -> 0.22161547 | U14: =F14/F$21 -> 0.31881486 | V14: =G14/G$21 -> #DIV/0! | W14: =H14/H$21 -> #DIV/0! | X14: =I14/I$21 -> #DIV/0! | ... AC14: =N14/N$21 -> #DIV/0!
A15: 2 Self-Harm | B15: 3422 | C15: 6317 | D15: 3162 | E15: 1533 | F15: 5520 | P15: 2 Self-Harm | Q15: =B15/B$21 -> 0.17642813 | R15: =C15/C$21 -> 0.090295745 | S15: =D15/D$21 -> 0.083357499 | T15: =E15/E$21 -> 0.11626849 | U15: =F15/F$21 -> 0.14841103 | V15: =G15/G$21 -> #DIV/0! | W15: =H15/H$21 -> #DIV/0! | X15: =I15/I$21 -> #DIV/0! | ... AC15: =N15/N$21 -> #DIV/0!
A16: 3 Assault | B16: 31 | C16: 84 | D16: 33 | E16: 17 | F16: 56 | P16: 3 Assault | Q16: =B16/B$21 -> 0.0015982677 | R16: =C16/C$21 -> 0.0012007033 | S16: =D16/D$21 -> 0.00086995492 | T16: =E16/E$21 -> 0.001289344 | U16: =F16/F$21 -> 0.0015056192 | V16: =G16/G$21 -> #DIV/0! | W16: =H16/H$21 -> #DIV/0! | X16: =I16/I$21 -> #DIV/0! | ... AC16: =N16/N$21 -> #DIV/0!
A17: 4 Undetermined | B17: 674 | C17: 1472 | D17: 654 | E17: 225 | F17: 735 | P17: 4 Undetermined | Q17: =B17/B$21 -> 0.034749433 | R17: =C17/C$21 -> 0.021040895 | S17: =D17/D$21 -> 0.017240925 | T17: =E17/E$21 -> 0.017064846 | U17: =F17/F$21 -> 0.019761252 | V17: =G17/G$21 -> #DIV/0! | W17: =H17/H$21 -> #DIV/0! | X17: =I17/I$21 -> #DIV/0! | ... AC17: =N17/N$21 -> #DIV/0!
A18: 5 Adverse Effect | B18: 9492 | C18: 32379 | D18: 25326 | E18: 5583 | F18: 18398 | P18: 5 Adverse Effect | Q18: =B18/B$21 -> 0.48937925 | R18: =C18/C$21 -> 0.46282823 | S18: =D18/D$21 -> 0.66765086 | T18: =E18/E$21 -> 0.42343572 | U18: =F18/F$21 -> 0.49464967 | V18: =G18/G$21 -> #DIV/0! | W18: =H18/H$21 -> #DIV/0! | X18: =I18/I$21 -> #DIV/0! | ... AC18: =N18/N$21 -> #DIV/0!
A19: 6 Underdose | B19: 808 | C19: 1232 | D19: 874 | E19: 304 | F19: 627 | P19: 6 Underdose | Q19: =B19/B$21 -> 0.041658074 | R19: =C19/C$21 -> 0.017610315 | S19: =D19/D$21 -> 0.023040624 | T19: =E19/E$21 -> 0.023056504 | U19: =F19/F$21 -> 0.016857558 | V19: =G19/G$21 -> #DIV/0! | W19: =H19/H$21 -> #DIV/0! | X19: =I19/I$21 -> #DIV/0! | ... AC19: =N19/N$21 -> #DIV/0!
A20: Missing | E20: 2601 | P20: Missing | Q20: =B20/B$21 -> 0 | R20: =C20/C$21 -> 0 | S20: =D20/D$21 -> 0 | T20: =E20/E$21 -> 0.19726962 | U20: =F20/F$21 -> 0 | V20: =G20/G$21 -> #DIV/0! | W20: =H20/H$21 -> #DIV/0! | X20: =I20/I$21 -> #DIV/0! | ... AC20: =N20/N$21 -> #DIV/0!
A21: total | B21: =SUM(B14:B20) -> 19396 | C21: =SUM(C14:C20) -> 69959 | D21: =SUM(D14:D20) -> 37933 | E21: =SUM(E14:E20) -> 13185 | F21: =SUM(F14:F20) -> 37194 | G21: =SUM(G14:G20) -> 0 | H21: =SUM(H14:H20) -> 0 | I21: =SUM(I14:I20) -> 0 | ... N21: =SUM(N14:N20) -> 0

Sheet 4_2.3_Drug_by_Quarter
A1: Indicator 2.3.1 - Opioids, By Quarter
E2: Colorado | H2: =Table_4.0_Information!$A$5 -> Kentucky | M2: =Table_4.0_Information!$A$6 -> New Mexico | S2: =Table_4.0_Information!$A$7 -> 4 add state in table 0 | X2: =Table_4.0_Information!$A$8 -> 5 add state in table 0 | AC2: =Table_4.0_Information!$A$9 -> 6 add state in table 0 | AH2: =Table_4.0_Information!$A$10 -> 7 add state in table 0 | AM2: =Table_4.0_Information!$A$11 -> 8 add state in table 0 | AR2: =Table_4.0_Information!$A$12 -> 9 add state in table 0 | AW2: =Table_4.0_Information!$A$13 -> 10 add state in table 0 | BB2: =Table_4.0_Information!$A$14 -> 11 add state in table 0 | BG2: =Table_4.0_Information!$A$15 -> 12 add state in table 0
C3: Discharge Quarter | G3: Total | H3: Discharge Quarter | L3: Total | M3: Discharge Quarter | Q3: Total | S3: Discharge Quarter | W3: Total | X3: Discharge Quarter | AB3: Total | AC3: Discharge Quarter | AG3: Total | AH3: Discharge Quarter | AL3: Total | AM3: Discharge Quarter | AQ3: Total | AR3: Discharge Quarter | AV3: Total | AW3: Discharge Quarter | BA3: Total | BB3: Discharge Quarter | BF3: Total | BG3: Discharge Quarter | BK3: Total
C4: 2016-1 | D4: 2016-2 | E4: 2016-3 | F4: 2016-4 | H4: 2016-1 | I4: 2016-2 | J4: 2016-3 | K4: 2016-4 | M4: 2016-1 | N4: 2016-2 | O4: 2016-3 | P4: 2016-4 | S4: 2016-1 | T4: 2016-2 | U4: 2016-3 | V4: 2016-4 | X4: 2016-1 | Y4: 2016-2 | Z4: 2016-3 | AA4: 2016-4 | AC4: 2016-1 | AD4: 2016-2 | AE4: 2016-3 | AF4: 2016-4 | AH4: 2016-1 | AI4: 2016-2 | AJ4: 2016-3 | AK4: 2016-4 | AM4: 2016-1 | AN4: 2016-2 | AO4: 2016-3 | AP4: 2016-4 | AR4: 2016-1 | AS4: 2016-2 | AT4: 2016-3 | AU4: 2016-4 | AW4: 2016-1 | AX4: 2016-2 | AY4: 2016-3 | AZ4: 2016-4 | BB4: 2016-1 | BC4: 2016-2 | BD4: 2016-3 | BE4: 2016-4 | BG4: 2016-1 | BH4: 2016-2 | BI4: 2016-3 | BJ4: 2016-4
A5: Indicator 2.3.1 Opioids - Case Definition Drug Overdose | C5: 377 | D5: 497 | E5: 496 | F5: 431 | G5: 1801 | H5: 1227 | I5: 1499 | J5: 1884 | K5: 1545 | L5: =SUM(H5:K5) -> 6155 | M5: 363 | N5: 392 | O5: 324 | P5: 387 | Q5: 1466 | R5: Colorado | S5: =C5 -> 377 | T5: =D5 -> 497 | U5: =E5 -> 496 | V5: =F5 -> 431
A6: Indicator 2.3.1a Opioids - Case Definition Drug Overdose, Adverse Effect | C6: 671 | D6: 795 | E6: 823 | F6: 733 | G6: 3022 | H6: 1431 | I6: 1737 | J6: 2119 | K6: 1777 | L6: =SUM(H6:K6) -> 7064 | M6: 488 | N6: 536 | O6: 453 | P6: 528 | Q6: 2005 | R6: Colorado | S6: =C6 -> 671 | T6: =D6 -> 795 | U6: =E6 -> 823 | V6: =F6 -> 733
A7: Indicator 2.3.1b Opioids - Case Definition Adverse Effect, Behavioral Health (Addiction disorders) | C7: 2809 | D7: 3273 | E7: 3433 | F7: 2852 | G7: 12367 | H7: 3564 | I7: 4296 | J7: 4770 | K7: 4164 | L7: =SUM(H7:K7) -> 16794 | M7: 2118 | N7: 2357 | O7: 2288 | P7: 2240 | Q7: 9003 | R7: Colorado | S7: =C7 -> 2809 | T7: =D7 -> 3273 | U7: =E7 -> 3433 | V7: =F7 -> 2852
R8: Kentucky | S8: =H7 -> 3564 | T8: =I7 -> 4296 | U8: =J7 -> 4770 | V8: =K7 -> 4164
R9: New Mexico | S9: =M7 -> 2118 | T9: =N7 -> 2357 | U9: =O7 -> 2288 | V9: =P7 -> 2240
A11: Indicator 2.3.1 - Opioids, By Quarter
E12: Colorado | H12: =Table_4.0_Information!$A$5 -> Kentucky | M12: =Table_4.0_Information!$A$6 -> New Mexico | S12: =Table_4.0_Information!$A$7 -> 4 add state in table 0 | X12: =Table_4.0_Information!$A$8 -> 5 add state in table 0 | AC12: =Table_4.0_Information!$A$9 -> 6 add state in table 0 | AH12: =Table_4.0_Information!$A$10 -> 7 add state in table 0 | AM12: =Table_4.0_Information!$A$11 -> 8 add state in table 0 | AR12: =Table_4.0_Information!$A$12 -> 9 add state in table 0 | AW12: =Table_4.0_Information!$A$13 -> 10 add state in table 0 | BB12: =Table_4.0_Information!$A$14 -> 11 add state in table 0 | BG12: =Table_4.0_Information!$A$15 -> 12 add state in table 0
C13: Discharge Quarter | G13: Total | H13: Discharge Quarter | L13: Total | M13: Discharge Quarter | Q13: Total | S13: Discharge Quarter | W13: Total | X13: Discharge Quarter | AB13: Total | AC13: Discharge Quarter | AG13: Total | AH13: Discharge Quarter | AL13: Total | AM13: Discharge Quarter | AQ13: Total | AR13: Discharge Quarter | AV13: Total | AW13: Discharge Quarter | BA13: Total | BB13: Discharge Quarter | BF13: Total | BG13: Discharge Quarter | BK13: Total
C14: 2016-1 | D14: 2016-2 | E14: 2016-3 | F14: 2016-4 | H14: 2016-1 | I14: 2016-2 | J14: 2016-3 | K14: 2016-4 | M14: 2016-1 | N14: 2016-2 | O14: 2016-3 | P14: 2016-4 | S14: 2016-1 | T14: 2016-2 | U14: 2016-3 | V14: 2016-4 | X14: 2016-1 | Y14: 2016-2 | Z14: 2016-3 | AA14: 2016-4 | AC14: 2016-1 | AD14: 2016-2 | AE14: 2016-3 | AF14: 2016-4 | AH14: 2016-1 | AI14: 2016-2 | AJ14: 2016-3 | AK14: 2016-4 | AM14: 2016-1 | AN14: 2016-2 | AO14: 2016-3 | AP14: 2016-4 | AR14: 2016-1 | AS14: 2016-2 | AT14: 2016-3 | AU14: 2016-4 | AW14: 2016-1 | AX14: 2016-2 | AY14: 2016-3 | AZ14: 2016-4 | BB14: 2016-1 | BC14: 2016-2 | BD14: 2016-3 | BE14: 2016-4 | BG14: 2016-1 | BH14: 2016-2 | BI14: 2016-3 | BJ14: 2016-4
A15: Indicators 2.3.1X Non-Heroin Opioids Alone - Case Definition Overdose | C15: 223 | D15: 297 | E15: 274 | F15: 238 | G15: 1032 | H15: 339 | I15: 374 | J15: 456 | K15: 385 | L15: =SUM(H15:K15) -> 1554 | M15: 210 | N15: 203 | O15: 174 | P15: 205 | Q15: 792
A16: Indicators 2.3.1X Non-Heroin Opioids Alone - Case Definition Overdose, Adverse Effect | C16: 486 | D16: 556 | E16: 557 | F16: 508 | G16: 2107 | H16: 495 | I16: 565 | J16: 656 | K16: 579 | L16: =SUM(H16:K16) -> 2295 | M16: 306 | N16: 311 | O16: 266 | P16: 321 | Q16: 1204
A17: Indicators 2.3.1X Non-Heroin Opioids & Heroin - Case Definition Overdose | C17: 1 | D17: 3 | E17: 2 | F17: 2 | G17: 8 | H17: 12 | I17: ** | J17: 7 | K17: 8 | L17: =SUM(H17:K17) -> 27 | M17: 4 | N17: 3 | O17: 5 | P17: 4 | Q17: 16
A18: Indicators 2.3.1X Non-Heroin Opioids & Heroin - Case Definition Overdose, Adverse Effect | C18: 1 | D18: 3 | E18: 2 | F18: 2 | G18: 8 | H18: 12 | I18: 5 | J18: 8 | K18: 8 | L18: =SUM(H18:K18) -> 33 | M18: 4 | N18: 3 | O18: 5 | P18: 4 | Q18: 16
A19: Indicators 2.3.1X Heroin Alone - Case Definition Overdose | C19: 153 | D19: 197 | E19: 220 | F19: 191 | G19: 761 | H19: 876 | I19: 1121 | J19: 1421 | K19: 1152 | L19: =SUM(H19:K19) -> 4570 | M19: 149 | N19: 186 | O19: 145 | P19: 178 | Q19: 658
A20: Indicators 2.3.1X Heroin Alone - Case Definition Overdose, Adverse Effect | C20: 153 | D20: 197 | E20: 220 | F20: 191 | G20: 761 | H20: 876 | I20: 1120 | J20: 1420 | K20: 1152 | L20: =SUM(H20:K20) -> 4568 | M20: 149 | N20: 186 | O20: 145 | P20: 178 | Q20: 658
C21: Colorado
A24: Indicator 2.3.2 - Cannabis, By Quarter
E25: Colorado | H25: =Table_4.0_Information!$A$5 -> Kentucky | M25: =Table_4.0_Information!$A$6 -> New Mexico | S25: =Table_4.0_Information!$A$7 -> 4 add state in table 0 | X25: =Table_4.0_Information!$A$8 -> 5 add state in table 0 | AC25: =Table_4.0_Information!$A$9 -> 6 add state in table 0 | AH25: =Table_4.0_Information!$A$10 -> 7 add state in table 0 | AM25: =Table_4.0_Information!$A$11 -> 8 add state in table 0 | AR25: =Table_4.0_Information!$A$12 -> 9 add state in table 0 | AW25: =Table_4.0_Information!$A$13 -> 10 add state in table 0 | BB25: =Table_4.0_Information!$A$14 -> 11 add state in table 0 | BG25: =Table_4.0_Information!$A$15 -> 12 add state in table 0
C26: Discharge Quarter | G26: Total | H26: Discharge Quarter | L26: Total | M26: Discharge Quarter | Q26: Total | S26: Discharge Quarter | W26: Total | X26: Discharge Quarter | AB26: Total | AC26: Discharge Quarter | AG26: Total | AH26: Discharge Quarter | AL26: Total | AM26: Discharge Quarter | AQ26: Total | AR26: Discharge Quarter | AV26: Total | AW26: Discharge Quarter | BA26: Total | BB26: Discharge Quarter | BF26: Total | BG26: Discharge Quarter | BK26: Total
C27: 2016-1 | D27: 2016-2 | E27: 2016-3 | F27: 2016-4 | H27: 2016-1 | I27: 2016-2 | J27: 2016-3 | K27: 2016-4 | M27: 2016-1 | N27: 2016-2 | O27: 2016-3 | P27: 2016-4 | S27: 2016-1 | T27: 2016-2 | U27: 2016-3 | V27: 2016-4 | X27: 2016-1 | Y27: 2016-2 | Z27: 2016-3 | AA27: 2016-4 | AC27: 2016-1 | AD27: 2016-2 | AE27: 2016-3 | AF27: 2016-4 | AH27: 2016-1 | AI27: 2016-2 | AJ27: 2016-3 | AK27: 2016-4 | AM27: 2016-1 | AN27: 2016-2 | AO27: 2016-3 | AP27: 2016-4 | AR27: 2016-1 | AS27: 2016-2 | AT27: 2016-3 | AU27: 2016-4 | AW27: 2016-1 | AX27: 2016-2 | AY27: 2016-3 | AZ27: 2016-4 | BB27: 2016-1 | BC27: 2016-2 | BD27: 2016-3 | BE27: 2016-4 | BG27: 2016-1 | BH27: 2016-2 | BI27: 2016-3 | BJ27: 2016-4
A28: Indicator 2.3.2 Cannabis - Case Definition Drug Overdose | C28: 86 | D28: 72 | E28: 72 | F28: 63 | G28: 293 | H28: 69 | I28: 51 | J28: 55 | K28: 59 | L28: =SUM(H28:K28) -> 234 | M28: 18 | N28: 14 | O28: 12 | P28: 24 | Q28: 68
A29: Indicator 2.3.2a Cannabis - Case Definition Drug Overdose, Adverse Effect | C29: 128 | D29: 117 | E29: 118 | F29: 113 | G29: 476 | H29: 79 | I29: 57 | J29: 69 | K29: 72 | L29: =SUM(H29:K29) -> 277 | M29: 25 | N29: 22 | O29: 22 | P29: 39 | Q29: 108
A30: Indicator 2.3.2b Cannabis - Case Definition, Adverse Effect, Behavioral Health | C30: 4361 | D30: 5179 | E30: 4945 | F30: 3993 | G30: 18478 | H30: 2181 | I30: 2544 | J30: 3017 | K30: 2865 | L30: =SUM(H30:K30) -> 10607 | M30: 1320 | N30: 1436 | O30: 1348 | P30: 1327 | Q30: 5431
A34: Indicator 2.3.3 - Ampthetamines, By Quarter
E35: Colorado | H35: =Table_4.0_Information!$A$5 -> Kentucky | M35: =Table_4.0_Information!$A$6 -> New Mexico | S35: =Table_4.0_Information!$A$7 -> 4 add state in table 0 | X35: =Table_4.0_Information!$A$8 -> 5 add state in table 0 | AC35: =Table_4.0_Information!$A$9 -> 6 add state in table 0 | AH35: =Table_4.0_Information!$A$10 -> 7 add state in table 0 | AM35: =Table_4.0_Information!$A$11 -> 8 add state in table 0 | AR35: =Table_4.0_Information!$A$12 -> 9 add state in table 0 | AW35: =Table_4.0_Information!$A$13 -> 10 add state in table 0 | BB35: =Table_4.0_Information!$A$14 -> 11 add state in table 0 | BG35: =Table_4.0_Information!$A$15 -> 12 add state in table 0
C36: Discharge Quarter | G36: Total | H36: Discharge Quarter | L36: Total | M36: Discharge Quarter | Q36: Total | S36: Discharge Quarter | W36: Total | X36: Discharge Quarter | AB36: Total | AC36: Discharge Quarter | AG36: Total | AH36: Discharge Quarter | AL36: Total | AM36: Discharge Quarter | AQ36: Total | AR36: Discharge Quarter | AV36: Total | AW36: Discharge Quarter | BA36: Total | BB36: Discharge Quarter | BF36: Total | BG36: Discharge Quarter | BK36: Total
C37: 2016-1 | D37: 2016-2 | E37: 2016-3 | F37: 2016-4 | H37: 2016-1 | I37: 2016-2 | J37: 2016-3 | K37: 2016-4 | M37: 2016-1 | N37: 2016-2 | O37: 2016-3 | P37: 2016-4 | S37: 2016-1 | T37: 2016-2 | U37: 2016-3 | V37: 2016-4 | X37: 2016-1 | Y37: 2016-2 | Z37: 2016-3 | AA37: 2016-4 | AC37: 2016-1 | AD37: 2016-2 | AE37: 2016-3 | AF37: 2016-4 | AH37: 2016-1 | AI37: 2016-2 | AJ37: 2016-3 | AK37: 2016-4 | AM37: 2016-1 | AN37: 2016-2 | AO37: 2016-3 | AP37: 2016-4 | AR37: 2016-1 | AS37: 2016-2 | AT37: 2016-3 | AU37: 2016-4 | AW37: 2016-1 | AX37: 2016-2 | AY37: 2016-3 | AZ37: 2016-4 | BB37: 2016-1 | BC37: 2016-2 | BD37: 2016-3 | BE37: 2016-4 | BG37: 2016-1 | BH37: 2016-2 | BI37: 2016-3 | BJ37: 2016-4
A38: Indicator 2.3.3 Ampthetamines - Case Definition Drug Overdose | C38: 62 | D38: 57 | E38: 70 | F38: 55 | G38: 244 | H38: 90 | I38: 111 | J38: 119 | K38: 126 | L38: =SUM(H38:K38) -> 446 | M38: 53 | N38: 56 | O38: 61 | P38: 55 | Q38: 225
A39: Indicator 2.3.3a Ampthetamines - Case Definition Drug Overdose, Adverse Effect | C39: 76 | D39: 70 | E39: 86 | F39: 70 | G39: 302 | H39: 116 | I39: 134 | J39: 155 | K39: 152 | L39: =SUM(H39:K39) -> 557 | M39: 63 | N39: 67 | O39: 69 | P39: 65 | Q39: 264
A40: Indicator 2.3.3a Ampthetamines - Case Definition Drug Overdose, Behavioral Health | C40: 76 | D40: 70 | E40: 86 | F40: 70 | G40: 302 | H40: 116 | I40: 134 | J40: 155 | K40: 152 | L40: =SUM(H40:K40) -> 557 | M40: 63 | N40: 67 | O40: 69 | P40: 65 | Q40: 264
A44: Indicator 2.3.4 - Cocaine, By Quarter
E45: Colorado | H45: =Table_4.0_Information!$A$5 -> Kentucky | M45: =Table_4.0_Information!$A$6 -> New Mexico | S45: =Table_4.0_Information!$A$7 -> 4 add state in table 0 | X45: =Table_4.0_Information!$A$8 -> 5 add state in table 0 | AC45: =Table_4.0_Information!$A$9 -> 6 add state in table 0 | AH45: =Table_4.0_Information!$A$10 -> 7 add state in table 0 | AM45: =Table_4.0_Information!$A$11 -> 8 add state in table 0 | AR45: =Table_4.0_Information!$A$12 -> 9 add state in table 0 | AW45: =Table_4.0_Information!$A$13 -> 10 add state in table 0 | BB45: =Table_4.0_Information!$A$14 -> 11 add state in table 0 | BG45: =Table_4.0_Information!$A$15 -> 12 add state in table 0
C46: Discharge Quarter | G46: Total | H46: Discharge Quarter | L46: Total | M46: Discharge Quarter | Q46: Total | S46: Discharge Quarter | W46: Total | X46: Discharge Quarter | AB46: Total | AC46: Discharge Quarter | AG46: Total | AH46: Discharge Quarter | AL46: Total | AM46: Discharge Quarter | AQ46: Total | AR46: Discharge Quarter | AV46: Total | AW46: Discharge Quarter | BA46: Total | BB46: Discharge Quarter | BF46: Total | BG46: Discharge Quarter | BK46: Total
C47: 2016-1 | D47: 2016-2 | E47: 2016-3 | F47: 2016-4 | H47: 2016-1 | I47: 2016-2 | J47: 2016-3 | K47: 2016-4 | M47: 2016-1 | N47: 2016-2 | O47: 2016-3 | P47: 2016-4 | S47: 2016-1 | T47: 2016-2 | U47: 2016-3 | V47: 2016-4 | X47: 2016-1 | Y47: 2016-2 | Z47: 2016-3 | AA47: 2016-4 | AC47: 2016-1 | AD47: 2016-2 | AE47: 2016-3 | AF47: 2016-4 | AH47: 2016-1 | AI47: 2016-2 | AJ47: 2016-3 | AK47: 2016-4 | AM47: 2016-1 | AN47: 2016-2 | AO47: 2016-3 | AP47: 2016-4 | AR47: 2016-1 | AS47: 2016-2 | AT47: 2016-3 | AU47: 2016-4 | AW47: 2016-1 | AX47: 2016-2 | AY47: 2016-3 | AZ47: 2016-4 | BB47: 2016-1 | BC47: 2016-2 | BD47: 2016-3 | BE47: 2016-4 | BG47: 2016-1 | BH47: 2016-2 | BI47: 2016-3 | BJ47: 2016-4
A48: Indicator 2.3.4 COCAINE - Case Definition Drug Overdose | C48: 15 | D48: 28 | E48: 27 | F48: 18 | G48: 88 | H48: 25 | I48: 30 | J48: 29 | K48: 30 | L48: =SUM(H48:K48) -> 114 | M48: 20 | N48: 19 | O48: 11 | P48: 10 | Q48: 60
A49: Indicator 2.3.4a COCAINE - Case Definition Drug Overdose, Adverse Effect | C49: 23 | D49: 33 | E49: 28 | F49: 21 | G49: 105 | H49: 29 | I49: 36 | J49: 31 | K49: 34 | L49: =SUM(H49:K49) -> 130 | M49: 21 | N49: 20 | O49: 14 | P49: 11 | Q49: 66
A50: Indicator 2.3.4b COCAINE - Case Definition, Adverse Effect, Behavioral Health | C50: 753 | D50: 891 | E50: 920 | F50: 861 | G50: 3425 | H50: 742 | I50: 896 | J50: 1101 | K50: 1035 | L50: =SUM(H50:K50) -> 3774 | M50: 428 | N50: 491 | O50: 481 | P50: 459 | Q50: 1859
A54: Indicator 2.3.5- BENZODIAZEPINE, By Quarter
E55: Colorado | H55: =Table_4.0_Information!$A$5 -> Kentucky | M55: =Table_4.0_Information!$A$6 -> New Mexico | S55: =Table_4.0_Information!$A$7 -> 4 add state in table 0 | X55: =Table_4.0_Information!$A$8 -> 5 add state in table 0 | AC55: =Table_4.0_Information!$A$9 -> 6 add state in table 0 | AH55: =Table_4.0_Information!$A$10 -> 7 add state in table 0 | AM55: =Table_4.0_Information!$A$11 -> 8 add state in table 0 | AR55: =Table_4.0_Information!$A$12 -> 9 add state in table 0 | AW55: =Table_4.0_Information!$A$13 -> 10 add state in table 0 | BB55: =Table_4.0_Information!$A$14 -> 11 add state in table 0 | BG55: =Table_4.0_Information!$A$15 -> 12 add state in table 0
C56: Discharge Quarter | G56: Total | H56: Discharge Quarter | L56: Total | M56: Discharge Quarter | Q56: Total | S56: Discharge Quarter | W56: Total | X56: Discharge Quarter | AB56: Total | AC56: Discharge Quarter | AG56: Total | AH56: Discharge Quarter | AL56: Total | AM56: Discharge Quarter | AQ56: Total | AR56: Discharge Quarter | AV56: Total | AW56: Discharge Quarter | BA56: Total | BB56: Discharge Quarter | BF56: Total | BG56: Discharge Quarter | BK56: Total
C57: 2016-1 | D57: 2016-2 | E57: 2016-3 | F57: 2016-4 | H57: 2016-1 | I57: 2016-2 | J57: 2016-3 | K57: 2016-4 | M57: 2016-1 | N57: 2016-2 | O57: 2016-3 | P57: 2016-4 | S57: 2016-1 | T57: 2016-2 | U57: 2016-3 | V57: 2016-4 | X57: 2016-1 | Y57: 2016-2 | Z57: 2016-3 | AA57: 2016-4 | AC57: 2016-1 | AD57: 2016-2 | AE57: 2016-3 | AF57: 2016-4 | AH57: 2016-1 | AI57: 2016-2 | AJ57: 2016-3 | AK57: 2016-4 | AM57: 2016-1 | AN57: 2016-2 | AO57: 2016-3 | AP57: 2016-4 | AR57: 2016-1 | AS57: 2016-2 | AT57: 2016-3 | AU57: 2016-4 | AW57: 2016-1 | AX57: 2016-2 | AY57: 2016-3 | AZ57: 2016-4 | BB57: 2016-1 | BC57: 2016-2 | BD57: 2016-3 | BE57: 2016-4 | BG57: 2016-1 | BH57: 2016-2 | BI57: 2016-3 | BJ57: 2016-4
A58: Indicator 2.3.5 Benzodiazepines - Case Definition Drug Overdose | C58: 207 | D58: 259 | E58: 252 | F58: 197 | G58: 915 | H58: 248 | I58: 271 | J58: 240 | K58: 228 | L58: =SUM(H58:K58) -> 987 | M58: 127 | N58: 139 | O58: 129 | P58: 136 | Q58: 531
A59: Indicator 2.3.5a Benzodiazepines - Case Definition Drug Overdose, Adverse Effect | C59: 255 | D59: 319 | E59: 321 | F59: 240 | G59: 1135 | H59: 296 | I59: 317 | J59: 279 | K59: 265 | L59: =SUM(H59:K59) -> 1157 | M59: 168 | N59: 176 | O59: 164 | P59: 162 | Q59: 670

Sheet 4_2.3_Total
A1: Indicator 2.3.1 - Opioids, By Quarter
C3: Colorado | D3: Kentucky | F3: New Mexico | G3: Tennessee
E4: Louisiana
A5: Indicator 2.3.1 Opioids - Case Definition Drug Overdose | C5: 1801 | D5: 6155 | E5: 3150 | F5: 1466 | G5: 4498
A6: Indicator 2.3.1a Opioids - Case Definition Drug Overdose, Adverse Effect | C6: 3022 | D6: 7064 | E6: 5696 | F6: 2005 | G6: 6243
A7: Indicator 2.3.1b Opioids - Case Definition Adverse Effect, Behavioral Health (Addiction disorders) | C7: 12367 | D7: 16794 | E7: 16276 | F7: 9003 | G7: 20647
A11: Indicator 2.3.1 - Opioids, By Quarter
C13: Colorado | D13: Kentucky | F13: New Mexico | G13: Tennessee
E14: Louisiana
A15: Indicators 2.3.1X Non-Heroin Opioids Alone - Case Definition Overdose | C15: 1032 | D15: 1554 | E15: 1876 | F15: 792 | G15: 2770
A16: Indicators 2.3.1X Non-Heroin Opioids Alone - Case Definition Overdose, Adverse Effect | C16: 2107 | D16: 2295 | E16: 3549 | F16: 1204 | G16: 4148
A17: Indicators 2.3.1X Non-Heroin Opioids & Heroin - Case Definition Overdose | C17: 8 | D17: 27 | E17: 48 | F17: 16 | G17: 42
A18: Indicators 2.3.1X Non-Heroin Opioids & Heroin - Case Definition Overdose, Adverse Effect | C18: 8 | D18: 33 | E18: 49 | F18: 16 | G18: 42
A19: Indicators 2.3.1X Heroin Alone - Case Definition Overdose | C19: 761 | D19: 4570 | E19: 1226 | F19: 658 | G19: 1686
A20: Indicators 2.3.1X Heroin Alone - Case Definition Overdose, Adverse Effect | C20: 761 | D20: 4568 | E20: 1225 | F20: 658 | G20: 1686
A24: Indicator 2.3.2 - Cannabis, By Quarter
C26: Colorado | D26: Kentucky | F26: New Mexico | G26: Tennessee
E27: Louisiana
A28: Indicator 2.3.2 Cannabis - Case Definition Drug Overdose | C28: 293 | D28: 234 | E28: 324 | F28: 68 | G28: 214
A29: Indicator 2.3.2a Cannabis - Case Definition Drug Overdose, Adverse Effect | C29: 476 | D29: 277 | E29: 427 | F29: 108 | G29: 315
A30: Indicator 2.3.2b Cannabis - Case Definition, Adverse Effect, Behavioral Health | C30: 18478 | D30: 10607 | E30: 19696 | F30: 5431 | G30: 17542
A34: Indicator 2.3.3 - Ampthetamines, By Quarter
C36: Colorado | D36: Kentucky | F36: New Mexico | G36: Tennessee
E37: Louisiana
A38: Indicator 2.3.3 Ampthetamines - Case Definition Drug Overdose | C38: 244 | D38: 446 | E38: 541 | F38: 225 | G38: 664
A39: Indicator 2.3.3a Ampthetamines - Case Definition Drug Overdose, Adverse Effect | C39: 302 | D39: 557 | E39: 702 | F39: 264 | G39: 871
A40: Indicator 2.3.3a Ampthetamines - Case Definition Drug Overdose, Behavioral Health | C40: 302 | D40: 557 | E40: 702 | F40: 264 | G40: 871
A44: Indicator 2.3.4 - Cocaine, By Quarter
C46: Colorado | D46: Kentucky | F46: New Mexico | G46: Tennessee
E47: Louisiana
A48: Indicator 2.3.4 COCAINE - Case Definition Drug Overdose | C48: 88 | D48: 114 | E48: 377 | F48: 60 | G48: 228
A49: Indicator 2.3.4a COCAINE - Case Definition Drug Overdose, Adverse Effect | C49: 105 | D49: 130 | E49: 432 | F49: 66 | G49: 257
A50: Indicator 2.3.4b COCAINE - Case Definition, Adverse Effect, Behavioral Health | C50: 3425 | D50: 3774 | E50: 12084 | F50: 1859 | G50: 9098
A54: Indicator 2.3.5- BENZODIAZEPINE, By Quarter
C56: Colorado | D56: Kentucky | F56: New Mexico | G56: Total
E57: Louisiana
A58: Indicator 2.3.5 Benzodiazepines - Case Definition Drug Overdose | C58: 915 | D58: 987 | E58: 1535 | F58: 531 | G58: 2233
A59: Indicator 2.3.5a Benzodiazepines - Case Definition Drug Overdose, Adverse Effect | C59: 1135 | D59: 1157 | E59: 2040 | F59: 670 | G59: 2627

Sheet 4_2.3_Graphs-Drug_by_Quarte (2)
C1: Indicator 2.3.1 Opioids - Case Definition Drug Overdose | D1: Indicator 2.3.1a Opioids - Case Definition Drug Overdose, Adverse Effect | E1: Indicator 2.3.1b Opioids - Case Definition Adverse Effect, Behavioral Health (Addiction disorders)
C2: No Adverse Effects | D2: Adverse Effects | E2: Behavioral Health
A3: Colorado | B3: 2016-1 | C3: 377 | D3: 671 | E3: 2809
B4: 2016-2 | C4: 497 | D4: 795 | E4: 3273
B5: 2016-3 | C5: 496 | D5: 823 | E5: 3433
B6: 2016-4 | C6: 431 | D6: 733 | E6: 2852
A8: Kentucky | B8: 2016-1 | C8: 1227 | D8: 1431 | E8: 3564
B9: 2016-2 | C9: 1499 | D9: 1737 | E9: 4296
B10: 2016-3 | C10: 1884 | D10: 2119 | E10: 4770
B11: 2016-4 | C11: 1545 | D11: 1777 | E11: 4164
A13: New Mexico | B13: 2016-1 | C13: 363 | D13: 488 | E13: 2118
B14: 2016-2 | C14: 392 | D14: 536 | E14: 2357
B15: 2016-3 | C15: 324 | D15: 453 | E15: 2288
B16: 2016-4 | C16: 387 | D16: 528 | E16: 2240
C21: Indicators 2.3.1X Non-Heroin Opioids Alone - Case Definition Overdose | D21: Indicators 2.3.1X Non-Heroin Opioids Alone - Case Definition Overdose, Adverse Effect | E21: Indicators 2.3.1X Non-Heroin Opioids & Heroin - Case Definition Overdose | F21: Indicators 2.3.1X Non-Heroin Opioids & Heroin - Case Definition Overdose, Adverse Effect | G21: Indicators 2.3.1X Heroin Alone - Case Definition Overdose | H21: Indicators 2.3.1X Heroin Alone - Case Definition Overdose, Adverse Effect
C22: Non-Heroin Opioids Alone | E22: Non-Heroin Opioids & Heroin | G22: Heroin Alone
C23: No Adverse Effects | D23: Adverse Effects | E23: No Adverse Effects | F23: Adverse Effects | G23: No Adverse Effects | H23: Adverse Effects
A24: Colorado | B24: 2016-1 | C24: 223 | D24: 486 | E24: 1 | F24: 1 | G24: 153 | H24: 153
B25: 2016-2 | C25: 297 | D25: 556 | E25: 3 | F25: 3 | G25: 197 | H25: 197
B26: 2016-3 | C26: 274 | D26: 557 | E26: 2 | F26: 2 | G26: 220 | H26: 220
B27: 2016-4 | C27: 238 | D27: 508 | E27: 2 | F27: 2 | G27: 191 | H27: 191
A29: Kentucky | B29: 2016-1 | C29: 339 | D29: 495 | E29: 12 | F29: 12 | G29: 876 | H29: 876
B30: 2016-2 | C30: 374 | D30: 565 | E30: ** | F30: 5 | G30: 1121 | H30: 1120
B31: 2016-3 | C31: 456 | D31: 656 | E31: 7 | F31: 8 | G31: 1421 | H31: 1420
B32: 2016-4 | C32: 385 | D32: 579 | E32: 8 | F32: 8 | G32: 1152 | H32: 1152
A34: New Mexico | B34: 2016-1 | C34: 210 | D34: 306 | E34: 4 | F34: 4 | G34: 149 | H34: 149
B35: 2016-2 | C35: 203 | D35: 311 | E35: 3 | F35: 3 | G35: 186 | H35: 186
B36: 2016-3 | C36: 174 | D36: 266 | E36: 5 | F36: 5 | G36: 145 | H36: 145
B37: 2016-4 | C37: 205 | D37: 321 | E37: 4 | F37: 4 | G37: 178 | H37: 178
C43: Indicator 2.3.2 Cannabis - Case Definition Drug Overdose | D43: Indicator 2.3.2a Cannabis - Case Definition Drug Overdose, Adverse Effect | E43: Indicator 2.3.2b Cannabis - Case Definition, Adverse Effect, Behavioral Health
C44: No Adverse Effects | D44: Adverse Effects | E44: Behavioral Health
A45: Colorado | B45: 2016-1 | C45: 86 | D45: 128 | E45: 4361
B46: 2016-2 | C46: 72 | D46: 117 | E46: 5179
B47: 2016-3 | C47: 72 | D47: 118 | E47: 4945
B48: 2016-4 | C48: 63 | D48: 113 | E48: 3993
A50: Kentucky | B50: 2016-1 | C50: 69 | D50: 79 | E50: 2181
B51: 2016-2 | C51: 51 | D51: 57 | E51: 2544
B52: 2016-3 | C52: 55 | D52: 69 | E52: 3017
B53: 2016-4 | C53: 59 | D53: 72 | E53: 2865
A55: New Mexico | B55: 2016-1 | C55: 18 | D55: 25 | E55: 1320
B56: 2016-2 | C56: 14 | D56: 22 | E56: 1436
B57: 2016-3 | C57: 12 | D57: 22 | E57: 1348
B58: 2016-4 | C58: 24 | D58: 39 | E58: 1327
C64: Indicator 2.3.3 Ampthetamines - Case Definition Drug Overdose | D64: Indicator 2.3.3a Ampthetamines - Case Definition Drug Overdose, Adverse Effect | E64: Indicator 2.3.3a Ampthetamines - Case Definition Drug Overdose, Behavioral Health
C65: No Adverse Effects | D65: Adverse Effects | E65: Behavioral Health
A66: Colorado | B66: 2016-1 | C66: 62 | D66: 76 | E66: 76
B67: 2016-2 | C67: 57 | D67: 70 | E67: 70
B68: 2016-3 | C68: 70 | D68: 86 | E68: 86
B69: 2016-4 | C69: 55 | D69: 70 | E69: 70
A71: Kentucky | B71: 2016-1 | C71: 90 | D71: 116 | E71: 116
B72: 2016-2 | C72: 111 | D72: 134 | E72: 134
B73: 2016-3 | C73: 119 | D73: 155 | E73: 155
B74: 2016-4 | C74: 126 | D74: 152 | E74: 152
A76: New Mexico | B76: 2016-1 | C76: 53 | D76: 63 | E76: 63
B77: 2016-2 | C77: 56 | D77: 67 | E77: 67
B78: 2016-3 | C78: 61 | D78: 69 | E78: 69
B79: 2016-4 | C79: 55 | D79: 65 | E79: 65
C82: Indicator 2.3.4 COCAINE - Case Definition Drug Overdose | D82: Indicator 2.3.4a COCAINE - Case Definition Drug Overdose, Adverse Effect | E82: Indicator 2.3.4b COCAINE - Case Definition, Adverse Effect, Behavioral Health
C83: No Adverse Effects | D83: Adverse Effects | E83: Behavioral Health
A84: Colorado | B84: 2016-1 | C84: 15 | D84: 23 | E84: 753
B85: 2016-2 | C85: 28 | D85: 33 | E85: 891
B86: 2016-3 | C86: 27 | D86: 28 | E86: 920
B87: 2016-4 | C87: 18 | D87: 21 | E87: 861
A89: Kentucky | B89: 2016-1 | C89: 25 | D89: 29 | E89: 742
B90: 2016-2 | C90: 30 | D90: 36 | E90: 896
B91: 2016-3 | C91: 29 | D91: 31 | E91: 1101
B92: 2016-4 | C92: 30 | D92: 34 | E92: 1035
A94: New Mexico | B94: 2016-1 | C94: 20 | D94: 21 | E94: 428
B95: 2016-2 | C95: 19 | D95: 20 | E95: 491
B96: 2016-3 | C96: 11 | D96: 14 | E96: 481
B97: 2016-4 | C97: 10 | D97: 11 | E97: 459
C106: Indicator 2.3.5 Benzodiazepines - Case Definition Drug Overdose | D106: Indicator 2.3.5a Benzodiazepines - Case Definition Drug Overdose, Adverse Effect
C107: No Adverse Effects | D107: Adverse Effects
A108: Colorado | B108: 2016-1 | C108: 207 | D108: 255
B109: 2016-2 | C109: 259 | D109: 319
B110: 2016-3 | C110: 252 | D110: 321
B111: 2016-4 | C111: 197 | D111: 240
A113: Kentucky | B113: 2016-1 | C113: 248 | D113: 296
B114: 2016-2 | C114: 271 | D114: 317
B115: 2016-3 | C115: 240 | D115: 279
B116: 2016-4 | C116: 228 | D116: 265
A118: New Mexico | B118: 2016-1 | C118: 127 | D118: 168
B119: 2016-2 | C119: 139 | D119: 176
B120: 2016-3 | C120: 129 | D120: 164
B121: 2016-4 | C121: 136 | D121: 162

Sheet 4_2.4a-c_Potential Changes
A4: Table 2.4a: DDPI / PfS Case Definitions (Initial Encounter and Missing Only), By Quarter
E5: Colorado | H5: =Table_4.0_Information!$A$5 -> Kentucky | M5: =Table_4.0_Information!$A$6 -> New Mexico | R5: =Table_4.0_Information!$A$7 -> 4 add state in table 0 | W5: =Table_4.0_Information!$A$8 -> 5 add state in table 0 | AB5: =Table_4.0_Information!$A$9 -> 6 add state in table 0 | AG5: =Table_4.0_Information!$A$10 -> 7 add state in table 0 | AL5: =Table_4.0_Information!$A$11 -> 8 add state in table 0 | AQ5: =Table_4.0_Information!$A$12 -> 9 add state in table 0 | AV5: =Table_4.0_Information!$A$13 -> 10 add state in table 0 | BA5: =Table_4.0_Information!$A$14 -> 11 add state in table 0 | BF5: =Table_4.0_Information!$A$15 -> 12 add state in table 0
C6: Discharge Quarter | G6: Total | H6: Discharge Quarter | L6: Total | M6: Discharge Quarter | Q6: Total | R6: Discharge Quarter | V6: Total | W6: Discharge Quarter | AA6: Total | AB6: Discharge Quarter | AF6: Total | AG6: Discharge Quarter | AK6: Total | AL6: Discharge Quarter | AP6: Total | AQ6: Discharge Quarter | AU6: Total | AV6: Discharge Quarter | AZ6: Total | BA6: Discharge Quarter | BE6: Total | BF6: Discharge Quarter | BJ6: Total
C7: 2016-1 | D7: 2016-2 | E7: 2016-3 | F7: 2016-4 | H7: 2016-1 | I7: 2016-2 | J7: 2016-3 | K7: 2016-4 | M7: 2016-1 | N7: 2016-2 | O7: 2016-3 | P7: 2016-4 | R7: 2016-1 | S7: 2016-2 | T7: 2016-3 | U7: 2016-4 | W7: 2016-1 | X7: 2016-2 | Y7: 2016-3 | Z7: 2016-4 | AB7: 2016-1 | AC7: 2016-2 | AD7: 2016-3 | AE7: 2016-4 | AG7: 2016-1 | AH7: 2016-2 | AI7: 2016-3 | AJ7: 2016-4 | AL7: 2016-1 | AM7: 2016-2 | AN7: 2016-3 | AO7: 2016-4 | AQ7: 2016-1 | AR7: 2016-2 | AS7: 2016-3 | AT7: 2016-4 | AV7: 2016-1 | AW7: 2016-2 | AX7: 2016-3 | AY7: 2016-4 | BA7: 2016-1 | BB7: 2016-2 | BC7: 2016-3 | BD7: 2016-4 | BF7: 2016-1 | BG7: 2016-2 | BH7: 2016-3 | BI7: 2016-4
A8: DDPI / PFS Indicator 2.4.1. Non-Fatal Drug Overdose Hospitalizations | C8: 2101 | D8: 2338 | E8: 2330 | F8: 2292 | G8: 9061 | H8: 2875 | I8: 3304 | J8: 3713 | K8: 3228 | L8: =SUM(H8:K8) -> 13120 | M8: 1128 | N8: 1264 | O8: 1140 | P8: 1130 | Q8: 4662
A9: DDPI / PFS Indicator 2.4.2. Hospitalizations involving non-fatal opioid overdose excluding heroin | C9: 222 | D9: 296 | E9: 273 | F9: 238 | G9: 1029 | H9: 337 | I9: 368 | J9: 456 | K9: 385 | L9: =SUM(H9:K9) -> 1546 | M9: 207 | N9: 200 | O9: 174 | P9: 204 | Q9: 785
A10: DDPI / PFS Indicator 2.4.3. Hospitalizations involving non-fatal heroin overdose | C10: 154 | D10: 199 | E10: 221 | F10: 193 | G10: 767 | H10: 883 | I10: 1114 | J10: 1416 | K10: 1153 | L10: =SUM(H10:K10) -> 4566 | M10: 149 | N10: 186 | O10: 150 | P10: 182 | Q10: 667
A14: Table 2.4b: DDPI / PfS Case Definitions (Alternative Heroin and Other Opioids), By Quarter
E15: Colorado | H15: =Table_4.0_Information!$A$5 -> Kentucky | M15: =Table_4.0_Information!$A$6 -> New Mexico | R15: =Table_4.0_Information!$A$7 -> 4 add state in table 0 | W15: =Table_4.0_Information!$A$8 -> 5 add state in table 0 | AB15: =Table_4.0_Information!$A$9 -> 6 add state in table 0 | AG15: =Table_4.0_Information!$A$10 -> 7 add state in table 0 | AL15: =Table_4.0_Information!$A$11 -> 8 add state in table 0 | AQ15: =Table_4.0_Information!$A$12 -> 9 add state in table 0 | AV15: =Table_4.0_Information!$A$13 -> 10 add state in table 0 | BA15: =Table_4.0_Information!$A$14 -> 11 add state in table 0 | BF15: =Table_4.0_Information!$A$15 -> 12 add state in table 0
C16: Discharge Quarter | G16: Total | H16: Discharge Quarter | L16: Total | M16: Discharge Quarter | Q16: Total | R16: Discharge Quarter | V16: Total | W16: Discharge Quarter | AA16: Total | AB16: Discharge Quarter | AF16: Total | AG16: Discharge Quarter | AK16: Total | AL16: Discharge Quarter | AP16: Total | AQ16: Discharge Quarter | AU16: Total | AV16: Discharge Quarter | AZ16: Total | BA16: Discharge Quarter | BE16: Total | BF16: Discharge Quarter | BJ16: Total
C17: 2016-1 | D17: 2016-2 | E17: 2016-3 | F17: 2016-4 | H17: 2016-1 | I17: 2016-2 | J17: 2016-3 | K17: 2016-4 | M17: 2016-1 | N17: 2016-2 | O17: 2016-3 | P17: 2016-4 | R17: 2016-1 | S17: 2016-2 | T17: 2016-3 | U17: 2016-4 | W17: 2016-1 | X17: 2016-2 | Y17: 2016-3 | Z17: 2016-4 | AB17: 2016-1 | AC17: 2016-2 | AD17: 2016-3 | AE17: 2016-4 | AG17: 2016-1 | AH17: 2016-2 | AI17: 2016-3 | AJ17: 2016-4 | AL17: 2016-1 | AM17: 2016-2 | AN17: 2016-3 | AO17: 2016-4 | AQ17: 2016-1 | AR17: 2016-2 | AS17: 2016-3 | AT17: 2016-4 | AV17: 2016-1 | AW17: 2016-2 | AX17: 2016-3 | AY17: 2016-4 | BA17: 2016-1 | BB17: 2016-2 | BC17: 2016-3 | BD17: 2016-4 | BF17: 2016-1 | BG17: 2016-2 | BH17: 2016-3 | BI17: 2016-4
A18: DDPI / PFS Indicator 2.4.4. Hospitalizations involving heroin alone | C18: 153 | D18: 197 | E18: 219 | F18: 191 | G18: 760 | H18: 874 | I18: 1111 | J18: 1409 | K18: 1145 | L18: =SUM(H18:K18) -> 4539 | M18: 145 | N18: 183 | O18: 145 | P18: 178 | Q18: 651
A19: DDPI / PFS Indicator 2.4.5. Hospitalizations involving heroin and other opiods | C19: 1 | D19: 3 | E19: 2 | F19: 2 | G19: 8 | H19: 12 | I19: ** | J19: 7 | K19: 8 | L19: =SUM(H19:K19) -> 27 | M19: 4 | N19: 3 | O19: 5 | P19: 4 | Q19: 16
A20: DDPI / PFS Indicator 2.4.6. Hospitalizations involving other opioids alone | C20: 222 | D20: 297 | E20: 273 | F20: 238 | G20: 1030 | H20: 338 | I20: 369 | J20: 456 | K20: 385 | L20: =SUM(H20:K20) -> 1548 | M20: 207 | N20: 200 | O20: 174 | P20: 204 | Q20: 785
A24: Table 2.4c: All Diagnosis Codes DDPI / PfS Case Definitions by manner type, By Quarter
E25: Colorado | H25: =Table_4.0_Information!$A$5 -> Kentucky | M25: =Table_4.0_Information!$A$6 -> New Mexico | R25: =Table_4.0_Information!$A$7 -> 4 add state in table 0 | W25: =Table_4.0_Information!$A$8 -> 5 add state in table 0 | AB25: =Table_4.0_Information!$A$9 -> 6 add state in table 0 | AG25: =Table_4.0_Information!$A$10 -> 7 add state in table 0 | AL25: =Table_4.0_Information!$A$11 -> 8 add state in table 0 | AQ25: =Table_4.0_Information!$A$12 -> 9 add state in table 0 | AV25: =Table_4.0_Information!$A$13 -> 10 add state in table 0 | BA25: =Table_4.0_Information!$A$14 -> 11 add state in table 0 | BF25: =Table_4.0_Information!$A$15 -> 12 add state in table 0
C26: Manner Type | G26: Total | H26: Discharge Quarter | L26: Total | M26: Discharge Quarter | Q26: Total | R26: Discharge Quarter | V26: Total | W26: Discharge Quarter | AA26: Total | AB26: Discharge Quarter | AF26: Total | AG26: Discharge Quarter | AK26: Total | AL26: Discharge Quarter | AP26: Total | AQ26: Discharge Quarter | AU26: Total | AV26: Discharge Quarter | AZ26: Total | BA26: Discharge Quarter | BE26: Total | BF26: Discharge Quarter | BJ26: Total
C27: 1 | D27: 2 | E27: 3 | F27: 4 | H27: 2016-1 | I27: 2016-2 | J27: 2016-3 | K27: 2016-4 | M27: 2016-1 | N27: 2016-2 | O27: 2016-3 | P27: 2016-4 | R27: 2016-1 | S27: 2016-2 | T27: 2016-3 | U27: 2016-4 | W27: 2016-1 | X27: 2016-2 | Y27: 2016-3 | Z27: 2016-4 | AB27: 2016-1 | AC27: 2016-2 | AD27: 2016-3 | AE27: 2016-4 | AG27: 2016-1 | AH27: 2016-2 | AI27: 2016-3 | AJ27: 2016-4 | AL27: 2016-1 | AM27: 2016-2 | AN27: 2016-3 | AO27: 2016-4 | AQ27: 2016-1 | AR27: 2016-2 | AS27: 2016-3 | AT27: 2016-4 | AV27: 2016-1 | AW27: 2016-2 | AX27: 2016-3 | AY27: 2016-4 | BA27: 2016-1 | BB27: 2016-2 | BC27: 2016-3 | BD27: 2016-4 | BF27: 2016-1 | BG27: 2016-2 | BH27: 2016-3 | BI27: 2016-4
A28: DDPI / PFS Indicator 2.4.1. Non-Fatal Drug Overdose Hospitalizations | C28: 4961 | D28: 3418 | E28: 31 | F28: 671 | G28: 9081 | H28: 28344 | I28: 6305 | J28: 83 | K28: 1435 | L28: =SUM(H28:K28) -> 36167 | M28: 2896 | N28: 1526 | O28: 17 | P28: 223 | Q28: 4662
A29: DDPI / PFS Indicator 2.4.2. Hospitalizations involving non-fatal opioid overdose excluding heroin | C29: 671 | D29: 274 | E29: 1 | F29: 84 | G29: 1030 | H29: 3800 | I29: 389 | J29: 6 | K29: 182 | L29: 4377 | M29: 578 | N29: 169 | O29: 0 | P29: 38 | Q29: 785
A30: DDPI / PFS Indicator 2.4.3. Hospitalizations involving non-fatal heroin overdose | C30: 657 | D30: 31 | E30: 2 | F30: 78 | G30: 768 | H30: 12029 | I30: 222 | J30: 10 | K30: 273 | L30: 12534 | M30: 594 | N30: 40 | O30: 0 | P30: 33 | Q30: 667
A34: Table 2.5: , By Quarter
E35: Colorado | H35: =Table_4.0_Information!$A$5 -> Kentucky | M35: =Table_4.0_Information!$A$6 -> New Mexico | R35: =Table_4.0_Information!$A$7 -> 4 add state in table 0 | W35: =Table_4.0_Information!$A$8 -> 5 add state in table 0 | AB35: =Table_4.0_Information!$A$9 -> 6 add state in table 0 | AG35: =Table_4.0_Information!$A$10 -> 7 add state in table 0 | AL35: =Table_4.0_Information!$A$11 -> 8 add state in table 0 | AQ35: =Table_4.0_Information!$A$12 -> 9 add state in table 0 | AV35: =Table_4.0_Information!$A$13 -> 10 add state in table 0 | BA35: =Table_4.0_Information!$A$14 -> 11 add state in table 0 | BF35: =Table_4.0_Information!$A$15 -> 12 add state in table 0
C36: Discharge Quarter | G36: Total | H36: Discharge Quarter | L36: Total | M36: Discharge Quarter | Q36: Total | R36: Discharge Quarter | V36: Total | W36: Discharge Quarter | AA36: Total | AB36: Discharge Quarter | AF36: Total | AG36: Discharge Quarter | AK36: Total | AL36: Discharge Quarter | AP36: Total | AQ36: Discharge Quarter | AU36: Total | AV36: Discharge Quarter | AZ36: Total | BA36: Discharge Quarter | BE36: Total | BF36: Discharge Quarter | BJ36: Total
C37: 2016-1 | D37: 2016-2 | E37: 2016-3 | F37: 2016-4 | H37: 2016-1 | I37: 2016-2 | J37: 2016-3 | K37: 2016-4 | M37: 2016-1 | N37: 2016-2 | O37: 2016-3 | P37: 2016-4 | R37: 2016-1 | S37: 2016-2 | T37: 2016-3 | U37: 2016-4 | W37: 2016-1 | X37: 2016-2 | Y37: 2016-3 | Z37: 2016-4 | AB37: 2016-1 | AC37: 2016-2 | AD37: 2016-3 | AE37: 2016-4 | AG37: 2016-1 | AH37: 2016-2 | AI37: 2016-3 | AJ37: 2016-4 | AL37: 2016-1 | AM37: 2016-2 | AN37: 2016-3 | AO37: 2016-4 | AQ37: 2016-1 | AR37: 2016-2 | AS37: 2016-3 | AT37: 2016-4 | AV37: 2016-1 | AW37: 2016-2 | AX37: 2016-3 | AY37: 2016-4 | BA37: 2016-1 | BB37: 2016-2 | BC37: 2016-3 | BD37: 2016-4 | BF37: 2016-1 | BG37: 2016-2 | BH37: 2016-3 | BI37: 2016-4
A38: Primary Dx of Drug Poisoing | C38: 1659 | D38: 1906 | E38: 1912 | F38: 1857 | G38: 7334 | H38: 2540 | I38: 2910 | J38: 3313 | K38: 2875 | L38: =SUM(H38:K38) -> 11638 | M38: 887 | N38: 987 | O38: 907 | P38: 950 | Q38: 3731
A39: Secondary Dx of Drug Poisoing | C39: 449 | D39: 438 | E39: 426 | F39: 439 | G39: 1752 | H39: 353 | I39: 420 | J39: 420 | K39: 367 | L39: =SUM(H39:K39) -> 1560 | M39: 255 | N39: 285 | O39: 236 | P39: 182 | Q39: 958
A40: Cases Secondary Dx Drug Poisoning with Dx Code Before Mechanism / Manner Code (Prin Dx, External Cause Fields, Secondary Dx) | C40: 416 | D40: 395 | E40: 361 | F40: 386 | G40: 1558 | H40: 326 | I40: 392 | J40: 382 | K40: 340 | L40: =SUM(H40:K40) -> 1440 | M40: 238 | N40: 254 | O40: 222 | P40: 160 | Q40: 874
A41: Cases Secondary Dx Drug Poisoning with Dx Code Before Mechanism / Manner Code (Prin Dx, Secondary Dx, External Cause) | C41: 416 | D41: 395 | E41: 361 | F41: 386 | G41: 1558 | H41: 326 | I41: 392 | J41: 382 | K41: 340 | L41: =SUM(H41:K41) -> 1440 | M41: 238 | N41: 254 | O41: 222 | P41: 160 | Q41: 874

Sheet 4_2.3_Total_Graphs
B3: Table 2.3. Comparing Poisoning, Adverse Effects, and Behavioral Health Codes for Specific Drugs.
C4: Number of Cases | I4: Proportionate Increase Over Case Definition
C5: CO | D5: KY | E5: LA | F5: NM | G5: TN | I5: CO | J5: KY | K5: LA | L5: NM | M5: TN
B6: Opioids
B7: Case Definition Drug Overdose = 1 | C7: 1801 | D7: 6155 | E7: 3150 | F7: 1466 | G7: 4498 | I7: 1 | J7: 1 | K7: 1 | L7: 1 | M7: 1 | N7: 1
B8: Ratio w Adverse Effect | C8: 3022 | D8: 7064 | E8: 5696 | F8: 2005 | G8: 6243 | I8: =C8/C7 -> 1.6779567 | J8: =D8/D7 -> 1.1476848 | K8: =E8/E7 -> 1.808254 | L8: =F8/F7 -> 1.3676671 | M8: =G8/G7 -> 1.3879502 | N8: =H8/H7 -> #DIV/0! | Q8: Indicator 2.3.1X - Opioid Combinations
B9: w Adverse Effect & Addiction disorder | C9: 12367 | D9: 16794 | E9: 16276 | F9: 9003 | G9: 20647 | I9: =C9/C7 -> 6.8667407 | J9: =D9/D7 -> 2.7285134 | K9: =E9/E7 -> 5.1669841 | L9: =F9/F7 -> 6.1412005 | M9: =G9/G7 -> 4.5902623 | N9: =H9/H7 -> #DIV/0!
B10: Cannabis | I10: CO | J10: KY | K10: LA | L10: NM | M10: TN | P10: Table 2.3.1X. The impact of including Adverse Effects in various opioid definitions
B11: Case Definition Drug Overdose = 1 | C11: 293 | D11: 234 | E11: 324 | F11: 68 | G11: 214 | I11: 1 | J11: 1 | K11: 1 | L11: 1 | M11: 1 | N11: 1 | R11: CO | S11: KY | T11: LA | U11: NM | V11: TN
B12: Ratio w Adverse Effect | C12: 476 | D12: 277 | E12: 427 | F12: 108 | G12: 315 | I12: =C12/C11 -> 1.6245734 | J12: =D12/D11 -> 1.1837607 | K12: =E12/E11 -> 1.3179012 | L12: =F12/F11 -> 1.5882353 | M12: =G12/G11 -> 1.4719626 | N12: =H12/H11 -> #DIV/0! | P12: Non-heroin opioids alone | Q12: Case Definition Overdose | R12: 1032 | S12: 1554 | T12: 1876 | U12: 792 | V12: 2770
B13: w Adverse Effect & Addiction disorder | C13: 18478 | D13: 10607 | E13: 19696 | F13: 5431 | G13: 17542 | I13: =C13/C11 -> 63.064846 | J13: =D13/D11 -> 45.32906 | K13: =E13/E11 -> 60.790123 | L13: =F13/F11 -> 79.867647 | M13: =G13/G11 -> 81.971963 | N13: =H13/H11 -> #DIV/0! | Q13: Case Definition Overdose plus Adverse Effect | R13: 2107 | S13: 2295 | T13: 3549 | U13: 1204 | V13: 4148
B14: Ampthetamines | I14: CO | J14: KY | K14: LA | L14: NM | M14: TN | P14: Non-heroin opioids and heroin | Q14: Case Definition Overdose | R14: 8 | S14: 27 | T14: 48 | U14: 16 | V14: 42
B15: Case Definition Drug Overdose = 1 | C15: 244 | D15: 446 | E15: 541 | F15: 225 | G15: 664 | I15: 1 | J15: 1 | K15: 1 | L15: 1 | M15: 1 | N15: 1 | Q15: Case Definition Overdose plus Adverse Effect | R15: 8 | S15: 33 | T15: 49 | U15: 16 | V15: 42
B16: Ratio w Adverse Effect | C16: 302 | D16: 557 | E16: 702 | F16: 264 | G16: 871 | I16: =C16/C15 -> 1.2377049 | J16: =D16/D15 -> 1.2488789 | K16: =E16/E15 -> 1.297597 | L16: =F16/F15 -> 1.1733333 | M16: =G16/G15 -> 1.311747 | N16: =H16/H15 -> #DIV/0! | P16: Heroin alone | Q16: Case Definition Overdose | R16: 761 | S16: 4570 | T16: 1226 | U16: 658 | V16: 1686
B17: Cocaine | I17: CO | J17: KY | K17: LA | L17: NM | M17: TN | Q17: Case Definition Overdose plus Adverse Effect | R17: 761 | S17: 4568 | T17: 1225 | U17: 658 | V17: 1686
B18: Case Definition Drug Overdose = 1 | C18: 88 | D18: 114 | E18: 377 | F18: 60 | G18: 228 | I18: 1 | J18: 1 | K18: 1 | L18: 1 | M18: 1 | N18: 1
B19: Ratio w Adverse Effect | C19: 105 | D19: 130 | E19: 432 | F19: 66 | G19: 257 | I19: =C19/C18 -> 1.1931818 | J19: =D19/D18 -> 1.1403509 | K19: =E19/E18 -> 1.1458886 | L19: =F19/F18 -> 1.1 | M19: =G19/G18 -> 1.127193 | N19: =H19/H18 -> #DIV/0!
B20: w Adverse Effect & Addiction disorder | C20: 3425 | D20: 3774 | E20: 12084 | F20: 1859 | G20: 9098 | I20: =C20/C18 -> 38.920455 | J20: =D20/D18 -> 33.105263 | K20: =E20/E18 -> 32.05305 | L20: =F20/F18 -> 30.983333 | M20: =G20/G18 -> 39.903509 | N20: =H20/H18 -> #DIV/0!
B21: Benzodiazepines | I21: CO | J21: KY | K21: LA | L21: NM | M21: TN
B22: Case Definition Drug Overdose = 1 | C22: 915 | D22: 987 | E22: 1535 | F22: 531 | G22: 2233 | I22: 1 | J22: 1 | K22: 1 | L22: 1 | M22: 1 | N22: 1 | Q22: Case Definition Drug Overdose
B23: Ratio w Adverse Effect | C23: 1135 | D23: 1157 | E23: 2040 | F23: 670 | G23: 2627 | I23: =C23/C22 -> 1.2404372 | J23: =D23/D22 -> 1.1722391 | K23: =E23/E22 -> 1.3289902 | L23: =F23/F22 -> 1.2617702 | M23: =G23/G22 -> 1.1764442 | N23: =H23/H22 -> #DIV/0! | Q23: Non-Heroin Opioids Alone
Q24: Non-Heroin Opioids & Heroin
Q25: Heroin Alone
Q26: Case Definition Drug Overdose, Adverse Effect
Q27: Non-Heroin Opioids Alone
Q28: Non-Heroin Opioids & Heroin
Q29: Heroin Alone
Q34: Table 2.3. Comparing Poisoning, Adverse Effects, and Behavioral Health Codes for Specific Drugs.
Q37: Opioids | R37: CO | S37: KY | T37: LA | U37: NM | V37: TN
Q38: Case Definition Drug Overdose = 1
Q39: Ratio w Adverse Effect
Q40: Ratio w Adverse Effect & Addiction disorder
Q42: Cannabis | R42: CO | S42: KY | T42: LA | U42: NM | V42: TN
Q43: Case Definition Drug Overdose = 1
Q44: Ratio w Adverse Effect
Q45: Ratio w Adverse Effect & Addiction disorder
Q47: Amphetamines | R47: CO | S47: KY | T47: LA | U47: NM | V47: TN
Q48: Case Definition Drug Overdose = 1
Q49: Ratio w Adverse Effect
Q51: Cocaine | R51: CO | S51: KY | T51: LA | U51: NM | V51: TN
Q52: Case Definition Drug Overdose = 1
Q53: Ratio w Adverse Effect
Q54: Ratio w Adverse Effect & Addiction disorder
Q56: Benzodiazepines | R56: CO | S56: KY | T56: LA | U56: NM | V56: TN
Q57: Case Definition Drug Overdose = 1
Q58: Ratio w Adverse Effect

Sheet 4_2.4a-c_Total
A1: All Diagnosis Codes DDPI / PfS Drug Poisoning Indicator Case Definitions
A2: All Diagnosis Codes DDPI / PfS Drug Poisoning Indicator Case Definitions, By Quarter
C3: CO | D3: KY | E3: LA | F3: NM | G3: TN
A5: DDPI / PFS Indicator 2.4.1. Non-Fatal Drug Overdose Hospitalizations | C5: 9081 | D5: 36167 | E5: 11611 | F5: 4662 | G5: 18124
A6: DDPI / PFS Indicator 2.4.2. Hospitalizations involving non-fatal opioid overdose excluding heroin | C6: 1030 | D6: 4377 | E6: 1841 | F6: 785 | G6: 2762
A7: DDPI / PFS Indicator 2.4.3. Hospitalizations involving non-fatal heroin overdose | C7: 768 | D7: 12534 | E7: 1248 | F7: 667 | G7: 1720
A11: First 5 Diagnosis Codes DDPI / PfS Drug Poisoning Indicator Case Definitions
C13: CO | D13: KY | E13: LA | F13: NM | G13: TN
A15: DDPI / PFS Indicator 2.4.1 (First Five). Non-Fatal Drug Overdose Hospitalizations | C15: 8949 | D15: 35993 | E15: 10667 | F15: 4559 | G15: 17960
A16: DDPI / PFS Indicator 2.4.2 (First Five). Hospitalizations involving non-fatal opioid overdose excluding heroin | C16: 1008 | D16: 4340 | E16: 1576 | F16: 738 | G16: 2727
A17: DDPI / PFS Indicator 2.4.3 (First Five). Hospitalizations involving non-fatal heroin overdose | C17: 764 | D17: 12522 | E17: 1179 | F17: 661 | G17: 1715
A21: First 10 Diagnosis Codes DDPI / PfS Drug Poisoning Indicator Case Definitions
C23: CO | D23: KY | E23: LA | F23: NM | G23: TN
A25: DDPI / PFS Indicator 2.4.1 (First Ten). Non-Fatal Drug Overdose Hospitalizations | C25: 9057 | D25: 36127 | E25: 11303 | F25: 4630 | G25: 18105
A26: DDPI / PFS Indicator 2.4.2 (First Ten). Hospitalizations involving non-fatal opioid overdose excluding heroin | C26: 1024 | D26: 4368 | E26: 1748 | F26: 772 | G26: 2761
A27: DDPI / PFS Indicator 2.4.3 (First Ten). Hospitalizations involving non-fatal heroin overdose | C27: 768 | D27: 12532 | E27: 1238 | F27: 667 | G27: 1720
A31: First One Diagnosis Code DDPI / PfS Drug Poisoning Indicator Case Definitions
C33: CO | D33: KY | E33: LA | F33: NM | G33: TN
A35: DDPI / PFS Indicator 2.4.1 (First Only). Non-Fatal Drug Overdose Hospitalizations | C35: 7331 | D35: 31889 | E35: 8112 | F35: 3715 | G35: 14704
A36: DDPI / PFS Indicator 2.4.2 (First Only). Hospitalizations involving non-fatal opioid overdose excluding heroin | C36: 728 | D36: 3468 | E36: 1115 | F36: 556 | G36: 1880
A37: DDPI / PFS Indicator 2.4.3 (First Only). Hospitalizations involving non-fatal heroin overdose | C37: 694 | D37: 11924 | E37: 884 | F37: 564 | G37: 1499
A41: Table 2.4a: DDPI / PfS Case Definitions (Initial Encounter and Missing Only)
C43: CO | D43: KY | E43: LA | F43: NM | G43: TN
A45: DDPI / PFS Indicator 2.4.1. Non-Fatal Drug Overdose Hospitalizations | C45: 9061 | D45: 36129 | E45: 11573 | F45: 4652 | G45: 18098
A46: DDPI / PFS Indicator 2.4.2. Hospitalizations involving non-fatal opioid overdose excluding heroin | C46: 1029 | D46: 4375 | E46: 1838 | F46: 782 | G46: 2757
A47: DDPI / PFS Indicator 2.4.3. Hospitalizations involving non-fatal heroin overdose | C47: 767 | D47: 12524 | E47: 1246 | F47: 667 | G47: 1720
A51: Table 2.4b: DDPI / PfS Case Definitions (Alternative Heroin and Other Opioids)
C53: CO | D53: KY | E53: LA | F53: NM | G53: TN
A55: DDPI / PFS Indicator 2.4.4. Hospitalizations involving heroin alone | C55: 760 | D55: 12443 | E55: 1200 | F55: 651 | G55: 1678
A56: DDPI / PFS Indicator 2.4.5. Hospitalizations involving heroin and other opiods | C56: 8 | D56: 91 | E56: 48 | F56: 16 | G56: 42
A57: DDPI / PFS Indicator 2.4.6. Hospitalizations involving other opioids alone | C57: 1030 | D57: 4377 | E57: 1841 | F57: 785 | G57: 2762
A61: Table 2.4c: All Diagnosis Codes DDPI / PfS Case Definitions by manner type
C63: CO | G63: Total | H63: KY | L63: Total | M63: LA | Q63: Total | R63: NM | V63: Total | W63: TN | AA63: Total
C64: 1 | D64: 2 | E64: 3 | F64: 4 | H64: 1 | I64: 2 | J64: 3 | K64: 4 | M64: 1 | N64: 2 | O64: 3 | P64: 4 | R64: 1 | S64: 2 | T64: 3 | U64: 4 | W64: 1 | X64: 2 | Y64: 3 | Z64: 4
A65: DDPI / PFS Indicator 2.4.1. Non-Fatal Drug Overdose Hospitalizations | C65: 4961 | D65: 3418 | E65: 31 | F65: 671 | G65: 9081 | H65: 28344 | I65: 6305 | J65: 83 | K65: 1435 | L65: 36167 | M65: 7792 | N65: 3151 | O65: 33 | P65: 635 | Q65: 11611 | R65: 2896 | S65: 1526 | T65: 17 | U65: 223 | V65: 4662 | W65: 11828 | X65: 5512 | Y65: 55 | Z65: 729 | AA65: 18124
A66: DDPI / PFS Indicator 2.4.2. Hospitalizations involving non-fatal opioid overdose excluding heroin | C66: 671 | D66: 274 | E66: 1 | F66: 84 | G66: 1030 | H66: 3800 | I66: 389 | J66: 6 | K66: 182 | L66: 4377 | M66: 1444 | N66: 276 | O66: 3 | P66: 118 | Q66: 1841 | R66: 578 | S66: 169 | T66: 0 | U66: 38 | V66: 785 | W66: 2123 | X66: 499 | Y66: 6 | Z66: 134 | AA66: 2762
A67: DDPI / PFS Indicator 2.4.3. Hospitalizations involving non-fatal heroin overdose | C67: 657 | D67: 31 | E67: 2 | F67: 78 | G67: 768 | H67: 12029 | I67: 222 | J67: 10 | K67: 273 | L67: 12534 | M67: 1103 | N67: 70 | O67: 0 | P67: 75 | Q67: 1248 | R67: 594 | S67: 40 | T67: 0 | U67: 33 | V67: 667 | W67: 1538 | X67: 102 | Y67: 2 | Z67: 78 | AA67: 1720
A71: Table 2.5:
C73: CO | D73: KY | E73: LA | F73: NM | G73: TN
A75: Primary Dx of Drug Poisoing | C75: 7334 | D75: 31922 | E75: 8174 | F75: 3731 | G75: 14721
A76: Secondary Dx of Drug Poisoing | C76: 1752 | D76: 4404 | E76: 3540 | F76: 958 | G76: 3438
A77: Cases Secondary Dx Drug Poisoning with Dx Code Before Mechanism / Manner Code (Prin Dx, External Cause Fields, Secondary Dx) | C77: 1558 | D77: 4054 | E77: 3289 | F77: 874 | G77: 2835
A78: Cases Secondary Dx Drug Poisoning with Dx Code Before Mechanism / Manner Code (Prin Dx, Secondary Dx, External Cause) | C78: 1558 | D78: 4054 | E78: 3289 | F78: 874 | G78: 3074

Sheet 4_2.4a-c_Graphs-Potential Chang
C1: DDPI / PFS Indicator 2.4.1. Non-Fatal Drug Overdose Hospitalizations | D1: DDPI / PFS Indicator 2.4.2. Hospitalizations involving non-fatal opioid overdose excluding heroin | E1: DDPI / PFS Indicator 2.4.3. Hospitalizations involving non-fatal heroin overdose
A2: Colorado | B2: 2016-1 | C2: 2101 | D2: 222 | E2: 154
B3: 2016-2 | C3: 2338 | D3: 296 | E3: 199
B4: 2016-3 | C4: 2330 | D4: 273 | E4: 221
B5: 2016-4 | C5: 2292 | D5: 238 | E5: 193
A7: Kentucky | B7: 2016-1 | C7: 2875 | D7: 337 | E7: 883
B8: 2016-2 | C8: 3304 | D8: 368 | E8: 1114
B9: 2016-3 | C9: 3713 | D9: 456 | E9: 1416
B10: 2016-4 | C10: 3228 | D10: 385 | E10: 1153
A12: New Mexico | B12: 2016-1 | C12: 1128 | D12: 207 | E12: 149
B13: 2016-2 | C13: 1264 | D13: 200 | E13: 186
B14: 2016-3 | C14: 1140 | D14: 174 | E14: 150
B15: 2016-4 | C15: 1130 | D15: 204 | E15: 182
C20: DDPI / PFS Indicator 2.4.4. Hospitalizations involving heroin alone | D20: DDPI / PFS Indicator 2.4.5. Hospitalizations involving heroin and other opiods | E20: DDPI / PFS Indicator 2.4.6. Hospitalizations involving other opioids alone
A21: Colorado | B21: 2016-1 | C21: 153 | D21: 1 | E21: 222
B22: 2016-2 | C22: 197 | D22: 3 | E22: 297
B23: 2016-3 | C23: 219 | D23: 2 | E23: 273
B24: 2016-4 | C24: 191 | D24: 2 | E24: 238
A26: Kentucky | B26: 2016-1 | C26: 874 | D26: 12 | E26: 338
B27: 2016-2 | C27: 1111 | D27: ** | E27: 369
B28: 2016-3 | C28: 1409 | D28: 7 | E28: 456
B29: 2016-4 | C29: 1145 | D29: 8 | E29: 385
A31: New Mexico | B31: 2016-1 | C31: 145 | D31: 4 | E31: 207
B32: 2016-2 | C32: 183 | D32: 3 | E32: 200
B33: 2016-3 | C33: 145 | D33: 5 | E33: 174
B34: 2016-4 | C34: 178 | D34: 4 | E34: 204
C39: DDPI / PFS Indicator 2.4.1. Non-Fatal Drug Overdose Hospitalizations | D39: DDPI / PFS Indicator 2.4.2. Hospitalizations involving non-fatal opioid overdose excluding heroin | E39: DDPI / PFS Indicator 2.4.3. Hospitalizations involving non-fatal heroin overdose
A40: Colorado | B40: 1 | C40: 4961 | D40: 671 | E40: 657 | G40: 1 Unintentional
B41: 2 | C41: 3418 | D41: 274 | E41: 31 | G41: 2 Self-Harm
B42: 3 | C42: 31 | D42: 1 | E42: 2 | G42: 3 Assault
B43: 4 | C43: 671 | D43: 84 | E43: 78 | G43: 4 Undetermined
A45: Kentucky | B45: 1 | C45: 28344 | D45: 3800 | E45: 12029
B46: 2 | C46: 6305 | D46: 389 | E46: 222
B47: 3 | C47: 83 | D47: 6 | E47: 10
B48: 4 | C48: 1435 | D48: 182 | E48: 273
A50: New Mexico | B50: 1 | C50: 2896 | D50: 578 | E50: 594
B51: 2 | C51: 1526 | D51: 169 | E51: 40
B52: 3 | C52: 17 | D52: 0 | E52: 0
B53: 4 | C53: 223 | D53: 38 | E53: 33
A59: Colorado | B59: 2016-1
B60: 2016-2
B61: 2016-3
B62: 2016-4
A64: Kentucky | B64: 2016-1
B65: 2016-2
B66: 2016-3
B67: 2016-4
A69: New Mexico | B69: 2016-1
B70: 2016-2
B71: 2016-3
B72: 2016-4

Sheet 4_2.4b_multiopioid
A4: Table 2.4b: DDPI / PfS Opioid Case Definition Alternatives
B5: CO | C5: KY | D5: LA | E5: NM | F5: TN | H5: CO | I5: KY | J5: LA | K5: NM | L5: TN
A6: Hospitalizations involving heroin alone | B6: 760 | C6: 12443 | D6: 1200 | E6: 651 | F6: 1678 | H6: =B6/B$9 -> 0.42269188 | I6: =C6/C$9 -> 0.73579327 | J6: =D6/D$9 -> 0.38847523 | K6: =E6/E$9 -> 0.44834711 | L6: =F6/F$9 -> 0.37438643
A7: Hospitalizations involving heroin and other opiods | B7: 8 | C7: 91 | D7: 48 | E7: 16 | F7: 42 | H7: =B7/B$9 -> 0.0044493882 | I7: =C7/C$9 -> 0.0053811129 | J7: =D7/D$9 -> 0.015539009 | K7: =E7/E$9 -> 0.011019284 | L7: =F7/F$9 -> 0.0093708166
A8: Hospitalizations involving other opioids alone | B8: 1030 | C8: 4377 | D8: 1841 | E8: 785 | F8: 2762 | H8: =B8/B$9 -> 0.57285873 | I8: =C8/C$9 -> 0.25882562 | J8: =D8/D$9 -> 0.59598576 | K8: =E8/E$9 -> 0.54063361 | L8: =F8/F$9 -> 0.61624275
B9: =SUM(B6:B8) -> 1798 | C9: =SUM(C6:C8) -> 16911 | D9: =SUM(D6:D8) -> 3089 | E9: =SUM(E6:E8) -> 1452 | F9: =SUM(F6:F8) -> 4482
A12: Percent of cases by alternative opioid definition
B13: CO | C13: KY | D13: LA | E13: NM | F13: TN
A14: Hospitalizations involving heroin alone
A15: Hospitalizations involving heroin and other opiods
A16: Hospitalizations involving other opioids alone
A19: Percent of cases by alternative opioid definition
B20: CO | C20: KY | D20: LA | E20: NM | F20: TN
A21: Heroin alone | B21: =H6 -> 0.42269188 | C21: =I6 -> 0.73579327 | D21: =J6 -> 0.38847523 | E21: =K6 -> 0.44834711 | F21: =L6 -> 0.37438643
A22: Heroin and other opiods | B22: =H7 -> 0.0044493882 | C22: =I7 -> 0.0053811129 | D22: =J7 -> 0.015539009 | E22: =K7 -> 0.011019284 | F22: =L7 -> 0.0093708166
A23: Non-heroin opioids alone | B23: =H8 -> 0.57285873 | C23: =I8 -> 0.25882562 | D23: =J8 -> 0.59598576 | E23: =K8 -> 0.54063361 | F23: =L8 -> 0.61624275

Sheet 4_2.4a_encounter
A2: All Diagnosis Codes DDPI / PfS Drug Poisoning Indicator Case Definitions
B4: CO | C4: KY | D4: LA | E4: NM | F4: TN
A5: DDPI / PFS Indicator 2.4.1. Non-Fatal Drug Overdose Hospitalizations | B5: 9081 | C5: 36167 | D5: 11611 | E5: 4662 | F5: 18124
A6: DDPI / PFS Indicator 2.4.2. Hospitalizations involving non-fatal opioid overdose excluding heroin | B6: 1030 | C6: 4377 | D6: 1841 | E6: 785 | F6: 2762
A7: DDPI / PFS Indicator 2.4.3. Hospitalizations involving non-fatal heroin overdose | B7: 768 | C7: 12534 | D7: 1248 | E7: 667 | F7: 1720
A9: Table 2.4a: DDPI / PfS Case Definitions (Initial Encounter and Missing Only)
B11: CO | C11: KY | D11: LA | E11: NM | F11: TN
A12: DDPI / PFS Indicator 2.4.1. Non-Fatal Drug Overdose Hospitalizations | B12: 9061 | C12: 36129 | D12: 11573 | E12: 4652 | F12: 18098
A13: DDPI / PFS Indicator 2.4.2. Hospitalizations involving non-fatal opioid overdose excluding heroin | B13: 1029 | C13: 4375 | D13: 1838 | E13: 782 | F13: 2757
A14: DDPI / PFS Indicator 2.4.3. Hospitalizations involving non-fatal heroin overdose | B14: 767 | C14: 12524 | D14: 1246 | E14: 667 | F14: 1720
A17: All Diagnosis Codes DDPI / PfS Drug Poisoning Indicator Case Definitions
B19: CO | C19: KY | D19: LA | E19: NM | F19: TN
A20: All drug overdoses - initial/subsequent/missing | B20: 9081 | C20: 36167 | D20: 11611 | E20: 4662 | F20: 18124
A21: Non-heroin opioid overdoses - initial/subsequent/missing | B21: 1030 | C21: 4377 | D21: 1841 | E21: 785 | F21: 2762
A22: Heroin overdoses - initial/subsequent/missing | B22: 768 | C22: 12534 | D22: 1248 | E22: 667 | F22: 1720
A24: Table 2.4a: DDPI / PfS Case Definitions (Initial Encounter and Missing Only)
B26: CO | C26: KY | D26: LA | E26: NM | F26: TN
A27: All drug overdoses - initial/missing only | B27: 9061 | C27: 36129 | D27: 11573 | E27: 4652 | F27: 18098
A28: Non-heroin opioid overdoses - initial/missing only | B28: 1029 | C28: 4375 | D28: 1838 | E28: 782 | F28: 2757
A29: Heroin overdoses - initial/missing only | B29: 767 | C29: 12524 | D29: 1246 | E29: 667 | F29: 1720
P30: Percent of cases with a subsequent encounter
I32: Table 2.4a. Number of overdose hospitalizations identified by encounter type
J33: CO | K33: KY | L33: LA | M33: NM | N33: TN | P33: CO | Q33: KY | R33: LA | S33: NM | T33: TN
I34: All drug overdoses - initial/subsequent/missing | J34: 9081 | K34: 36167 | L34: 11611 | M34: 4662 | N34: 18124
I35: All drug overdoses - initial/missing only | J35: 9061 | K35: 36129 | L35: 11573 | M35: 4652 | N35: 18098 | P35: =(J34-J35)/J34 -> 0.0022024006 | Q35: =(K34-K35)/K34 -> 0.0010506816 | R35: =(L34-L35)/L34 -> 0.0032727586 | S35: =(M34-M35)/M34 -> 0.0021450021 | T35: =(N34-N35)/N34 -> 0.0014345619
I36: Non-heroin opioids - initial/subsequent/missing | J36: 1030 | K36: 4377 | L36: 1841 | M36: 785 | N36: 2762
I37: Non-heroin opioids - initial/missing only | J37: 1029 | K37: 4375 | L37: 1838 | M37: 782 | N37: 2757 | P37: =(J36-J37)/J36 -> 0.00097087379 | Q37: =(K36-K37)/K36 -> 0.00045693397 | R37: =(L36-L37)/L36 -> 0.0016295492 | S37: =(M36-M37)/M36 -> 0.0038216561 | T37: =(N36-N37)/N36 -> 0.0018102824
I38: Heroin overdoses - initial/subsequent/missing | J38: 768 | K38: 12534 | L38: 1248 | M38: 667 | N38: 1720
I39: Heroin overdoses - initial/missing only | J39: 767 | K39: 12524 | L39: 1246 | M39: 667 | N39: 1720 | P39: =(J38-J39)/J38 -> 0.0013020833 | Q39: =(K38-K39)/K38 -> 0.0007978299 | R39: =(L38-L39)/L38 -> 0.0016025641 | S39: =(M38-M39)/M38 -> 0 | T39: =(N38-N39)/N38 -> 0
I43: Percent of overdose hospitalizations with a subsequent encounter code
J44: CO | K44: KY | L44: LA | M44: NM | N44: TN
I45: All drug overdoses
I46: Non-heroin opioid overdoses
I47: Heroin overdoses
I50: Percent of overdose hospitalizations with a subsequent encounter code
J51: CO | K51: KY | L51: LA | M51: NM | N51: TN
I52: All drugs | J52: =P35 -> 0.0022024006 | K52: =Q35 -> 0.0010506816 | L52: =R35 -> 0.0032727586 | M52: =S35 -> 0.0021450021 | N52: =T35 -> 0.0014345619 | O52: =U35 -> 0
I53: Non-heroin opioids | J53: =P37 -> 0.00097087379 | K53: =Q37 -> 0.00045693397 | L53: =R37 -> 0.0016295492 | M53: =S37 -> 0.0038216561 | N53: =T37 -> 0.0018102824 | O53: =U37 -> 0
I54: Heroin | J54: =P39 -> 0.0013020833 | K54: =Q39 -> 0.0007978299 | L54: =R39 -> 0.0016025641 | M54: =S39 -> 0 | N54: =T39 -> 0 | O54: =U39 -> 0

Sheet 4_2.4a-c_Total_Graphs
A3: First Diagnosis Code DDPI / PfS Drug Poisoning Indicator Case Definitions | T3: Figure 2.4. Percent of all cases identified by number of diagnosis codes examined
B5: CO | C5: KY | D5: LA | E5: NM | F5: TN
A6: DDPI/PFS Indicator 2.4.1. Non-fatal drug overdose hospitalizations | B6: 7331 | C6: 31889 | D6: 8112 | E6: 3715 | F6: 14704
A7: DDPI / PFS Indicator 2.4.2. Hospitalizations involving non-fatal opioid overdose excluding heroin | B7: 728 | C7: 3468 | D7: 1115 | E7: 556 | F7: 1880
A8: DDPI / PFS Indicator 2.4.3. Hospitalizations involving non-fatal heroin overdose | B8: 694 | C8: 11924 | D8: 884 | E8: 564 | F8: 1499
A12: All Diagnosis Codes DDPI / PfS Drug Poisoning Indicator Case Definitions
B14: CO | C14: KY | D14: LA | E14: NM | F14: TN
A15: DDPI / PFS Indicator 2.4.1. Non-Fatal Drug Overdose Hospitalizations | B15: 9081 | C15: 36167 | D15: 11611 | E15: 4662 | F15: 18124
A16: DDPI / PFS Indicator 2.4.2. Hospitalizations involving non-fatal opioid overdose excluding heroin | B16: 1030 | C16: 4377 | D16: 1841 | E16: 785 | F16: 2762
A17: DDPI / PFS Indicator 2.4.3. Hospitalizations involving non-fatal heroin overdose | B17: 768 | C17: 12534 | D17: 1248 | E17: 667 | F17: 1720
A21: First 5 Diagnosis Codes DDPI / PfS Drug Poisoning Indicator Case Definitions
B23: CO | C23: KY | D23: LA | E23: NM | F23: TN
A24: DDPI / PFS Indicator 2.4.1 (First Five). Non-Fatal Drug Overdose Hospitalizations | B24: 8949 | C24: 35993 | D24: 10667 | E24: 4559 | F24: 17960
A25: DDPI / PFS Indicator 2.4.2 (First Five). Hospitalizations involving non-fatal opioid overdose excluding heroin | B25: 1008 | C25: 4340 | D25: 1576 | E25: 738 | F25: 2727
A26: DDPI / PFS Indicator 2.4.3 (First Five). Hospitalizations involving non-fatal heroin overdose | B26: 764 | C26: 12522 | D26: 1179 | E26: 661 | F26: 1715
A30: First 10 Diagnosis Codes DDPI / PfS Drug Poisoning Indicator Case Definitions
B32: CO | C32: KY | D32: LA | E32: NM | F32: TN
A33: DDPI / PFS Indicator 2.4.1 (First Ten). Non-Fatal Drug Overdose Hospitalizations | B33: 9057 | C33: 36127 | D33: 11303 | E33: 4630 | F33: 18105
A34: DDPI / PFS Indicator 2.4.2 (First Ten). Hospitalizations involving non-fatal opioid overdose excluding heroin | B34: 1024 | C34: 4368 | D34: 1748 | E34: 772 | F34: 2761
A35: DDPI / PFS Indicator 2.4.3 (First Ten). Hospitalizations involving non-fatal heroin overdose | B35: 768 | C35: 12532 | D35: 1238 | E35: 667 | F35: 1720
J37: CO | K37: KY | L37: LA | M37: NM | N37: TN | P37: CO | Q37: KY | R37: LA | S37: NM | T37: TN
I38: First diagnosis code | J38: 7331 | K38: 31889 | L38: 8112 | M38: 3715 | N38: 14704 | P38: =J38/J$41 -> 0.80728995 | Q38: =K38/K$41 -> 0.88171538 | R38: =L38/L$41 -> 0.71768557 | S38: =M38/M$41 -> 0.7968683 | T38: =N38/N$41 -> 0.81215134 | U38: =O38/O$41 -> #DIV/0!
A39: First diagnosis code | H39: All drug overdoses | I39: First 5 diagnosis codes | J39: 8949 | K39: 35993 | L39: 11611 | M39: 4559 | N39: 18124 | P39: =J39/J$41 -> 0.98546416 | Q39: =K39/K$41 -> 0.99518898 | R39: =L39/L$41 -> 1.0272494 | S39: =M39/M$41 -> 0.97790648 | T39: =N39/N$41 -> 1.0010494 | U39: =O39/O$41 -> #DIV/0!
A40: First 5 diagnosis codes | I40: First 10 diagnosis codes | J40: 9057 | K40: 36127 | L40: 10667 | M40: 4630 | N40: 17960 | P40: =J40/J$41 -> 0.99735712 | Q40: =K40/K$41 -> 0.99889402 | R40: =L40/L$41 -> 0.94373175 | S40: =M40/M$41 -> 0.99313599 | T40: =N40/N$41 -> 0.99199116 | U40: =O40/O$41 -> #DIV/0!
A41: First 10 diagnosis codes | I41: All available diagnosis codes | J41: 9081 | K41: 36167 | L41: 11303 | M41: 4662 | N41: 18105 | P41: =J41/J$41 -> 1 | Q41: =K41/K$41 -> 1 | R41: =L41/L$41 -> 1 | S41: =M41/M$41 -> 1 | T41: =N41/N$41 -> 1 | U41: =O41/O$41 -> #DIV/0!
A42: All available diagnosis codes
P43: CO | Q43: KY | R43: LA | S43: NM | T43: TN
I44: First diagnosis code | J44: 728 | K44: 3468 | L44: 1115 | M44: 556 | N44: 1880 | P44: =J44/J$47 -> 0.94791667 | Q44: =K44/K$47 -> 0.27668741 | R44: =L44/L$47 -> 0.63787185 | S44: =M44/M$47 -> 0.83358321 | T44: =N44/N$47 -> 0.68091271 | U44: =O44/O$47 -> #DIV/0!
H45: Non-heroin opioid overdoses | I45: First 5 diagnosis codes | J45: 1008 | K45: 4340 | L45: 1841 | M45: 738 | N45: 2762 | P45: =J45/J$47 -> 1.3125 | Q45: =K45/K$47 -> 0.34625818 | R45: =L45/L$47 -> 1.0532037 | S45: =M45/M$47 -> 1.1064468 | T45: =N45/N$47 -> 1.0003622 | U45: =O45/O$47 -> #DIV/0!
I46: First 10 diagnosis codes | J46: 1024 | K46: 4368 | L46: 1576 | M46: 772 | N46: 2727 | P46: =J46/J$47 -> 1.3333333 | Q46: =K46/K$47 -> 0.3484921 | R46: =L46/L$47 -> 0.90160183 | S46: =M46/M$47 -> 1.1574213 | T46: =N46/N$47 -> 0.98768562 | U46: =O46/O$47 -> #DIV/0!
I47: All available diagnosis codes | J47: 768 | K47: 12534 | L47: 1748 | M47: 667 | N47: 2761 | P47: =J47/J$47 -> 1 | Q47: =K47/K$47 -> 1 | R47: =L47/L$47 -> 1 | S47: =M47/M$47 -> 1 | T47: =N47/N$47 -> 1 | U47: =O47/O$47 -> #DIV/0!
P49: CO | Q49: KY | R49: LA | S49: NM | T49: TN
I50: First diagnosis code | J50: 694 | K50: 11924 | L50: 884 | M50: 564 | N50: 1499 | P50: =J50/J$53 -> 0.90364583 | Q50: =K50/K$53 -> 0.95133238 | R50: =L50/L$53 -> 0.71405493 | S50: =M50/M$53 -> 0.84557721 | T50: =N50/N$53 -> 0.87151163 | U50: =O50/O$53 -> #DIV/0!
H51: Heroin overdoses | I51: First 5 diagnosis codes | J51: 764 | K51: 12522 | L51: 1248 | M51: 661 | N51: 1720 | P51: =J51/J$53 -> 0.99479167 | Q51: =K51/K$53 -> 0.9990426 | R51: =L51/L$53 -> 1.0080775 | S51: =M51/M$53 -> 0.9910045 | T51: =N51/N$53 -> 1 | U51: =O51/O$53 -> #DIV/0!
I52: First 10 diagnosis codes | J52: 768 | K52: 12532 | L52: 1179 | M52: 667 | N52: 1715 | P52: =J52/J$53 -> 1 | Q52: =K52/K$53 -> 0.99984043 | R52: =L52/L$53 -> 0.95234249 | S52: =M52/M$53 -> 1 | T52: =N52/N$53 -> 0.99709302 | U52: =O52/O$53 -> #DIV/0!
I53: All available diagnosis codes | J53: 768 | K53: 12534 | L53: 1238 | M53: 667 | N53: 1720 | P53: =J53/J$53 -> 1 | Q53: =K53/K$53 -> 1 | R53: =L53/L$53 -> 1 | S53: =M53/M$53 -> 1 | T53: =N53/N$53 -> 1 | U53: =O53/O$53 -> #DIV/0!
H54: Table 2.4. Number of cases identified by number of diagnosis codes examined
J56: CO | K56: KY | L56: LA | M56: NM | N56: TN | P56: CO | Q56: KY | R56: LA | S56: NM | T56: TN
H57: All drug overdoses | I57: First diagnosis code | P57: =J57/J$41 -> 0 | Q57: =K57/K$41 -> 0 | R57: =L57/L$41 -> 0 | S57: =M57/M$41 -> 0 | T57: =N57/N$41 -> 0 | U57: =O57/O$41 -> #DIV/0!
I58: First 5 diagnosis codes | P58: =J58/J$41 -> 0 | Q58: =K58/K$41 -> 0 | R58: =L58/L$41 -> 0 | S58: =M58/M$41 -> 0 | T58: =N58/N$41 -> 0 | U58: =O58/O$41 -> #DIV/0!
I59: First 10 diagnosis codes | P59: =J59/J$41 -> 0 | Q59: =K59/K$41 -> 0 | R59: =L59/L$41 -> 0 | S59: =M59/M$41 -> 0 | T59: =N59/N$41 -> 0 | U59: =O59/O$41 -> #DIV/0!
I60: All available diagnosis codes | P60: =J60/J$41 -> 0 | Q60: =K60/K$41 -> 0 | R60: =L60/L$41 -> 0 | S60: =M60/M$41 -> 0 | T60: =N60/N$41 -> 0 | U60: =O60/O$41 -> #DIV/0!
H62: Non-heroin opioid overdoses | I62: First diagnosis code | P62: =J62/J$47 -> 0 | Q62: =K62/K$47 -> 0 | R62: =L62/L$47 -> 0 | S62: =M62/M$47 -> 0 | T62: =N62/N$47 -> 0 | U62: =O62/O$47 -> #DIV/0!
I63: First 5 diagnosis codes | P63: =J63/J$47 -> 0 | Q63: =K63/K$47 -> 0 | R63: =L63/L$47 -> 0 | S63: =M63/M$47 -> 0 | T63: =N63/N$47 -> 0 | U63: =O63/O$47 -> #DIV/0!
I64: First 10 diagnosis codes | P64: =J64/J$47 -> 0 | Q64: =K64/K$47 -> 0 | R64: =L64/L$47 -> 0 | S64: =M64/M$47 -> 0 | T64: =N64/N$47 -> 0 | U64: =O64/O$47 -> #DIV/0!
I65: All available diagnosis codes | P65: =J65/J$47 -> 0 | Q65: =K65/K$47 -> 0 | R65: =L65/L$47 -> 0 | S65: =M65/M$47 -> 0 | T65: =N65/N$47 -> 0 | U65: =O65/O$47 -> #DIV/0!
H67: Heroin overdoses | I67: First diagnosis code | P67: =J67/J$53 -> 0 | Q67: =K67/K$53 -> 0 | R67: =L67/L$53 -> 0 | S67: =M67/M$53 -> 0 | T67: =N67/N$53 -> 0 | U67: =O67/O$53 -> #DIV/0!
I68: First 5 diagnosis codes | P68: =J68/J$53 -> 0 | Q68: =K68/K$53 -> 0 | R68: =L68/L$53 -> 0 | S68: =M68/M$53 -> 0 | T68: =N68/N$53 -> 0 | U68: =O68/O$53 -> #DIV/0!
I69: First 10 diagnosis codes | P69: =J69/J$53 -> 0 | Q69: =K69/K$53 -> 0 | R69: =L69/L$53 -> 0 | S69: =M69/M$53 -> 0 | T69: =N69/N$53 -> 0 | U69: =O69/O$53 -> #DIV/0!
I70: All available diagnosis codes | P70: =J70/J$53 -> 0 | Q70: =K70/K$53 -> 0 | R70: =L70/L$53 -> 0 | S70: =M70/M$53 -> 0 | T70: =N70/N$53 -> 0 | U70: =O70/O$53 -> #DIV/0!
H72: Table 2.4. Percent of all cases identified by number of diagnosis codes examined
J74: CO | K74: KY | L74: LA | M74: NM | N74: TN
H75: All drug overdoses | I75: First diagnosis code
I76: First 5 diagnosis codes
I77: First 10 diagnosis codes
I78: All available diagnosis codes
H80: Non-heroin opioid overdoses | I80: First diagnosis code
I81: First 5 diagnosis codes
I82: First 10 diagnosis codes
I83: All available diagnosis codes
H85: Heroin overdoses | I85: First diagnosis code
I86: First 5 diagnosis codes
I87: First 10 diagnosis codes
I88: All available diagnosis codes

Sheet 4_2.4c manner
A1: Table 2.4c: All Diagnosis Codes DDPI / PfS Case Definitions by manner type
B3: CO | H3: All Drugs | W3: Figure 2.4c. Proportion of overdose emergency department visits by manner/intent type
B4: 1 | C4: 2 | D4: 3 | E4: 4 | F4: Total | I4: Unintentional | J4: Self-Harm | K4: Assault | L4: Undetermined
A5: All drugs | B5: 4961 | C5: 3418 | D5: 31 | E5: 671 | F5: 9081 | H5: CO | I5: 4961 | J5: 3418 | K5: 31 | L5: 671
A6: Non-heroin Opioids | B6: 671 | C6: 274 | D6: 1 | E6: 84 | F6: 1030 | H6: KY | I6: 28344 | J6: 6305 | K6: 83 | L6: 1435
A7: Heroin | B7: 657 | C7: 31 | D7: 2 | E7: 78 | F7: 768 | H7: LA | I7: 7792 | J7: 3151 | K7: 33 | L7: 635
H8: NM | I8: 2896 | J8: 1526 | K8: 17 | L8: 223
H9: TN | I9: 11828 | J9: 5512 | K9: 55 | L9: 729
B10: KY
B11: Unintentional | C11: Self-Harm | D11: Assault | E11: Undetermined | F11: Total
A12: All drugs | B12: 28344 | C12: 6305 | D12: 83 | E12: 1435 | F12: 36167
A13: Non-heroin Opioids | B13: 3800 | C13: 389 | D13: 6 | E13: 182 | F13: 4377 | H13: Non-heroin Opioids
A14: Heroin | B14: 12029 | C14: 222 | D14: 10 | E14: 273 | F14: 12534 | I14: Unintentional | J14: Self-Harm | K14: Assault | L14: Undetermined
H15: CO | I15: 671 | J15: 274 | K15: 1 | L15: 84
B16: LA | H16: KY | I16: 3800 | J16: 389 | K16: 6 | L16: 182
B17: 1 | C17: 2 | D17: 3 | E17: 4 | F17: Total | H17: LA | I17: 1444 | J17: 276 | K17: 3 | L17: 118
A18: All drugs | B18: 7792 | C18: 3151 | D18: 33 | E18: 635 | F18: 11611 | H18: NM | I18: 578 | J18: 169 | K18: 0 | L18: 38
A19: Non-heroin Opioids | B19: 1444 | C19: 276 | D19: 3 | E19: 118 | F19: 1841 | H19: TN | I19: 2123 | J19: 499 | K19: 6 | L19: 134
A20: Heroin | B20: 1103 | C20: 70 | D20: 0 | E20: 75 | F20: 1248
B22: NM
B23: Unintentional | C23: Self-Harm | D23: Assault | E23: Undetermined | H23: Heroin
A24: All drugs | B24: 2896 | C24: 1526 | D24: 17 | E24: 223 | F24: 4662 | I24: Unintentional | J24: Self-Harm | K24: Assault | L24: Undetermined
A25: Non-heroin Opioids | B25: 578 | C25: 169 | D25: 0 | E25: 38 | F25: 785 | H25: CO | I25: 657 | J25: 31 | K25: 2 | L25: 78
A26: Heroin | B26: 594 | C26: 40 | D26: 0 | E26: 33 | F26: 667 | H26: KY | I26: 12029 | J26: 222 | K26: 10 | L26: 273
H27: LA | I27: 1103 | J27: 70 | K27: 0 | L27: 75
B28: TN | H28: NM | I28: 594 | J28: 40 | K28: 0 | L28: 33
B29: 1 | C29: 2 | D29: 3 | E29: 4 | F29: Total | H29: TN | I29: 1538 | J29: 102 | K29: 2 | L29: 78
A30: All drugs | B30: 11828 | C30: 5512 | D30: 55 | E30: 729 | F30: 18124
A31: Non-heroin Opioids | B31: 2123 | C31: 499 | D31: 6 | E31: 134 | F31: 2762
A32: Heroin | B32: 1538 | C32: 102 | D32: 2 | E32: 78 | F32: 1720
B35: Unintentional | C35: Self-Harm | D35: Assault | E35: Undetermined
A36: All drugs
A37: Non-heroin Opioids
A38: Heroin
N56: Table 2.4c. Number of overdose hospitalizations by manner/intent type
P58: Uninten- tional | Q58: Self-Harm | R58: Assault | S58: Undeter-mined
N60: All Drugs | O60: CO | P60: 2987 | Q60: 2970 | R60: 19 | S60: 243
O61: LA | P61: 3686 | Q61: 2114 | R61: 9 | S61: 361
O62: NM | P62: 1183 | Q62: 1074 | R62: 5 | S62: 79
O63: NY | P63: 12819 | Q63: 8220 | R63: 60 | S63: 1138
O64: NC | P64: 7489 | Q64: 5541 | R64: 44 | S64: 693
O65: MT | P65: 449 | Q65: 894 | R65: 3 | S65: 50
N66: Non-heroin Opioids | O66: CO | P66: 1040 | Q66: 327 | R66: 1 | S66: 72
O67: LA | P67: 1001 | Q67: 246 | R67: 1 | S67: 60
O68: NM | P68: 353 | Q68: 128 | R68: 0 | S68: 19
O69: NY | P69: 2750 | Q69: 810 | R69: 10 | S69: 231
O70: NC | P70: 2522 | Q70: 712 | R70: 5 | S70: 173
O71: MT | P71: 143 | Q71: 88 | R71: 0 | S71: 11
N72: Heroin | O72: CO | P72: 181 | Q72: 26 | R72: 1 | S72: 10
O73: LA | P73: 235 | Q73: 32 | R73: 0 | S73: 21
O74: NM | P74: 106 | Q74: 20 | R74: 0 | S74: 10
O75: NY | P75: 1414 | Q75: 260 | R75: 1 | S75: 142
O76: NC | P76: 457 | Q76: 90 | R76: 1 | S76: 51
O77: MT | P77: 9 | Q77: 1 | R77: 0 | S77: 0

Sheet 4_2.5_v2
B1: Table 2.5: Search Order
C4: CO | D4: KY | E4: LA | F4: NM | G4: TN
B5: Primary Dx of Drug Poisoing | C5: 7334 | D5: 31922 | E5: 8174 | F5: 3731 | G5: 14721
B6: Secondary Dx of Drug Poisoing | C6: 1752 | D6: 4404 | E6: 3540 | F6: 958 | G6: 3438
B7: Cases Secondary Dx Drug Poisoning with Dx Code Before Mechanism / Manner Code (Prin Dx, External Cause Fields, Secondary Dx) | C7: 1558 | D7: 4054 | E7: 3289 | F7: 874 | G7: 2835
B8: Cases Secondary Dx Drug Poisoning with Dx Code Before Mechanism / Manner Code (Prin Dx, Secondary Dx, External Cause) | C8: 1558 | D8: 4054 | E8: 3289 | F8: 874 | G8: 3074
B11: Secondary Dx Drug Poisoning with Dx Code Before Mechanism / Manner Code (Prin Dx, Secondary Dx, External Cause)
J12: Table 2.5a. Number of poisoning hospitalizations with primary diagnosis vs. secondary diagnosis only
K14: CO | L14: KY | M14: LA | N14: NM | O14: TN
J15: Primary Dx of Drug Poisoning | K15: 7334 | L15: 31922 | M15: 8174 | N15: 3731
J16: Secondary Dx of Drug Poisoning (NOT primary) | K16: 1752 | L16: 4404 | M16: 3540 | N16: 958
J20: Table 2.5b. Number of cases with a secondary dx code before mechanism/manner code, by search order
J22: Search Order | K22: CO | L22: KY | M22: LA | N22: NM | O22: TN
J23: Prin Dx, External Cause, Secondary Dx | K23: 1558 | L23: 4054 | M23: 3289 | N23: 874
J24: Prin Dx, Secondary Dx, External Cause | K24: 1558 | L24: 4054 | M24: 3289 | N24: 874

Sheet 4_2.5_
A1: Table 2.5: , By Quarter
C2: =Table_4.0_Information!$A$4 -> Colorado | H2: =Table_4.0_Information!$A$5 -> Kentucky | M2: =Table_4.0_Information!$A$6 -> New Mexico | R2: =Table_4.0_Information!$A$7 -> 4 add state in table 0 | W2: =Table_4.0_Information!$A$8 -> 5 add state in table 0 | AB2: =Table_4.0_Information!$A$9 -> 6 add state in table 0 | AG2: =Table_4.0_Information!$A$10 -> 7 add state in table 0 | AL2: =Table_4.0_Information!$A$11 -> 8 add state in table 0 | AQ2: =Table_4.0_Information!$A$12 -> 9 add state in table 0 | AV2: =Table_4.0_Information!$A$13 -> 10 add state in table 0 | BA2: =Table_4.0_Information!$A$14 -> 11 add state in table 0 | BF2: =Table_4.0_Information!$A$15 -> 12 add state in table 0
C3: Discharge Quarter | G3: Total | H3: Discharge Quarter | L3: Total | M3: Discharge Quarter | Q3: Total | R3: Discharge Quarter | V3: Total | W3: Discharge Quarter | AA3: Total | AB3: Discharge Quarter | AF3: Total | AG3: Discharge Quarter | AK3: Total | AL3: Discharge Quarter | AP3: Total | AQ3: Discharge Quarter | AU3: Total | AV3: Discharge Quarter | AZ3: Total | BA3: Discharge Quarter | BE3: Total | BF3: Discharge Quarter | BJ3: Total
C4: 2016-1 | D4: 2016-2 | E4: 2016-3 | F4: 2016-4 | H4: 2016-1 | I4: 2016-2 | J4: 2016-3 | K4: 2016-4 | M4: 2016-1 | N4: 2016-2 | O4: 2016-3 | P4: 2016-4 | R4: 2016-1 | S4: 2016-2 | T4: 2016-3 | U4: 2016-4 | W4: 2016-1 | X4: 2016-2 | Y4: 2016-3 | Z4: 2016-4 | AB4: 2016-1 | AC4: 2016-2 | AD4: 2016-3 | AE4: 2016-4 | AG4: 2016-1 | AH4: 2016-2 | AI4: 2016-3 | AJ4: 2016-4 | AL4: 2016-1 | AM4: 2016-2 | AN4: 2016-3 | AO4: 2016-4 | AQ4: 2016-1 | AR4: 2016-2 | AS4: 2016-3 | AT4: 2016-4 | AV4: 2016-1 | AW4: 2016-2 | AX4: 2016-3 | AY4: 2016-4 | BA4: 2016-1 | BB4: 2016-2 | BC4: 2016-3 | BD4: 2016-4 | BF4: 2016-1 | BG4: 2016-2 | BH4: 2016-3 | BI4: 2016-4
A5: Primary Dx of Drug Poisoing | C5: 1659 | D5: 1906 | E5: 1912 | F5: 1857 | G5: 7334 | H5: 2540 | I5: 2910 | J5: 3313 | K5: 2875 | L5: =SUM(H5:K5) -> 11638 | M5: 887 | N5: 987 | O5: 907 | P5: 950 | Q5: 3731
A6: Secondary Dx of Drug Poisoing | C6: 449 | D6: 438 | E6: 426 | F6: 439 | G6: 1752 | H6: 353 | I6: 420 | J6: 420 | K6: 367 | L6: =SUM(H6:K6) -> 1560 | M6: 255 | N6: 285 | O6: 236 | P6: 182 | Q6: 958
A7: Cases Secondary Dx Drug Poisoning with Dx Code Before Mechanism / Manner Code (Prin Dx, External Cause Fields, Secondary Dx) | C7: 416 | D7: 395 | E7: 361 | F7: 386 | G7: 1558 | H7: 326 | I7: 392 | J7: 382 | K7: 340 | L7: =SUM(H7:K7) -> 1440 | M7: 238 | N7: 254 | O7: 222 | P7: 160 | Q7: 874
A8: Cases Secondary Dx Drug Poisoning with Dx Code Before Mechanism / Manner Code (Prin Dx, Secondary Dx, External Cause) | C8: 416 | D8: 395 | E8: 361 | F8: 386 | G8: 1558 | H8: 326 | I8: 392 | J8: 382 | K8: 340 | L8: =SUM(H8:K8) -> 1440 | M8: 238 | N8: 254 | O8: 222 | P8: 160 | Q8: 874

Sheet 4_2.5 Viz
C1: Primary Dx of Drug Poisoing | D1: Secondary Dx of Drug Poisoing | E1: Cases Secondary Dx Drug Poisoning with Dx Code Before Mechanism / Manner Code (Prin Dx, External Cause Fields, Secondary Dx) | F1: Cases Secondary Dx Drug Poisoning with Dx Code Before Mechanism / Manner Code (Prin Dx, Secondary Dx, External Cause)
A2: Colorado | B2: 2016-1 | C2: 1659 | D2: 449 | E2: 416 | F2: 416
B3: 2016-2 | C3: 1906 | D3: 438 | E3: 395 | F3: 395
B4: 2016-3 | C4: 1912 | D4: 426 | E4: 361 | F4: 361
B5: 2016-4 | C5: 1857 | D5: 439 | E5: 386 | F5: 386
A7: Kentucky | B7: 2016-1 | C7: 2540 | D7: 353 | E7: 326 | F7: 326
B8: 2016-2 | C8: 2910 | D8: 420 | E8: 392 | F8: 392
B9: 2016-3 | C9: 3313 | D9: 420 | E9: 382 | F9: 382
B10: 2016-4 | C10: 2875 | D10: 367 | E10: 340 | F10: 340
A12: New Mexico | B12: 2016-1 | C12: 887 | D12: 255 | E12: 238 | F12: 238
B13: 2016-2 | C13: 987 | D13: 285 | E13: 254 | F13: 254
B14: 2016-3 | C14: 907 | D14: 236 | E14: 222 | F14: 222
B15: 2016-4 | C15: 950 | D15: 182 | E15: 160 | F15: 160

Sheet 4_3.1 
A1: Table 3.1: Number of Classes of Drug Poisoningl, COLORADO
A3: The FREQ Procedure
A5: Number of Selected Drug Classes
A6: NUMDRUGS | B6: Frequency | C6: Percent | D6: Cumulative Frequency | E6: Cumulative Percent
A7: 1 | B7: 3216 | C7: 92.15 | D7: 3216 | E7: 92.15 | F7: =C7/100 -> 0.9215 | G7: 0.9215
A8: 2 | B8: 232 | C8: 6.65 | D8: 3448 | E8: 98.8 | F8: =C8/100 -> 0.0665 | G8: 0.0665
A9: 3 | B9: 33 | C9: 0.95 | D9: 3481 | E9: 99.74 | F9: =C9/100 -> 0.0095 | G9: 0.0095
A10: 4 | B10: 7 | C10: 0.2 | D10: 3488 | E10: 99.94 | F10: =C10/100 -> 0.002 | G10: 0.002
A11: 5 | B11: 2 | C11: 0.06 | D11: 3490 | E11: 100 | F11: =C11/100 -> 0.0006 | G11: 0.0006
A13: COLORADO Hospital Discharge Data System; '01Jan2016'd-'31Dec2016'd
B14: Number of Selected Drug Classes
B15: 1 | C15: 2 | D15: 3 | E15: 4 | F15: 5 | G15: 6 | H15: Total | I15: Number >1 drug class
A16: CO | B16: 3216 | C16: 232 | D16: 33 | E16: 7 | F16: 2 | G16: 0 | H16: =SUM(B16:G16) -> 3490 | I16: =H16-B16 -> 274
A17: KY | B17: 20083 | C17: 1126 | D17: 184 | E17: 41 | F17: 7 | G17: 0 | H17: =SUM(B17:G17) -> 21441 | I17: =H17-B17 -> 1358
A18: LA | B18: 3811 | C18: 1600 | D18: 235 | E18: 55 | F18: 16 | G18: 2 | H18: =SUM(B18:G18) -> 5719 | I18: =H18-B18 -> 1908
A19: NM | B19: 2026 | C19: 291 | D19: 35 | E19: 6 | F19: 1 | G19: 0 | H19: =SUM(B19:G19) -> 2359 | I19: =H19-B19 -> 333
A20: TN | B20: 6603 | C20: 749 | D20: 123 | E20: 30 | F20: 4 | G20: 0 | H20: =SUM(B20:G20) -> 7509 | I20: =H20-B20 -> 906
B23: Number of Selected Drug Classes
B24: 1 Class | C24: 2 Classes | D24: 3 Classes | E24: 4 Classes | F24: 5 Classes | G24: 6 Classes | H24: Overall % > 1 drug class
A25: Colorado | B25: =B16/H16 -> 0.92148997 | C25: =C16/H16 -> 0.066475645 | D25: =D16/H16 -> 0.0094555874 | E25: =E16/H16 -> 0.0020057307 | F25: =F16/H16 -> 0.0005730659 | G25: =G16/H16 -> 0 | H25: =1-B25 -> 0.078510029
A26: Kentucky | B26: =B17/H17 -> 0.9366634 | C26: =C17/H17 -> 0.052516207 | D26: =D17/H17 -> 0.0085816893 | E26: =E17/H17 -> 0.0019122242 | F26: =F17/H17 -> 0.00032647731 | G26: =G17/H17 -> 0 | H26: =1-B26 -> 0.063336598
A27: Louisiana | B27: =B18/H18 -> 0.66637524 | C27: =C18/H18 -> 0.27976919 | D27: =D18/H18 -> 0.0410911 | E27: =E18/H18 -> 0.0096170659 | F27: =F18/H18 -> 0.0027976919 | G27: =G18/H18 -> 0.00034971149 | H27: =1-B27 -> 0.33362476
A28: New Mexico | B28: =B19/H19 -> 0.85883849 | C28: =C19/H19 -> 0.12335735 | D28: =D19/H19 -> 0.014836795 | E28: =E19/H19 -> 0.0025434506 | F28: =F19/H19 -> 0.00042390844 | G28: =G19/H19 -> 0 | H28: =1-B28 -> 0.14116151
A29: Tennessee | B29: =B20/H20 -> 0.87934479 | C29: =C20/H20 -> 0.09974697 | D29: =D20/H20 -> 0.016380344 | E29: =E20/H20 -> 0.0039952058 | F29: =F20/H20 -> 0.0005326941 | G29: =G20/H20 -> 0 | H29: =1-B29 -> 0.12065521

Sheet 4_3.2_GraphPolydrug_1.30states
A1: Table 3.2: Polydrug Overdose - Non-Fatal | P1: Table 3.2: Polydrug Overdose - Non-Fatal (Visualizations)
B2: =[1]Table_4.0_Information!$A$4 -> Colorado | P2: =[1]Table_4.0_Information!$A$4 -> Colorado
A3: Row Substance | B3: Cannabis | C3: Opioids | D3: _____Non-heroin opioids (Alone or in combination) | E3: _____Heroin (Alone or in combination) | F3: Psychostimulants | G3: _____Ampthetamines | H3: _____Non-Ampthetamines | I3: Cocaine | J3: Benzodiazepines | K3: Alcohol Toxicity | L3: Unspecified Psychodysleptics | M3: Unspecified/Other Psychotropics | Q3: Cannabis | R3: Opioids | S3: Non-heroin opioids (Alone or in combination) | T3: Heroin (Alone or in combination) | U3: Psychostimulants | V3: Ampthetamines | W3: Non-Ampthetamines | X3: Cocaine | Y3: Benzodiazepines | Z3: Alcohol Toxicity | AA3: Unspecified Psychodysleptics | AB3: Unspecified/ Other Psychotropics
A4: Cannabis | B4: 275 | C4: 7 | D4: 5 | E4: 2 | F4: 5 | G4: 5 | I4: 4 | J4: 6 | K4: 4 | L4: 1 | N4: =SUM(B4:M4) -> 314 | P4: Cannabis | Q4: =B4/275 -> 1 | R4: =C4/1768 -> 0.003959276 | S4: =D4/1016 -> 0.0049212598 | T4: =E4/756 -> 0.0026455026 | U4: =F4/306 -> 0.016339869 | V4: =G4/218 -> 0.02293578 | W4: =H4/90 -> 0 | X4: =I4/75 -> 0.053333333 | Y4: =J4/889 -> 0.0067491564 | Z4: =K4/319 -> 0.012539185 | AA4: =L4/15 -> 0.066666667 | AB4: =M4/8 -> 0
A5: Opioids | B5: 7 | C5: 1768 | D5: 1016 | E5: 756 | F5: 25 | G5: 24 | H5: 1 | I5: 6 | J5: 105 | K5: 10 | N5: =SUM(B5:M5) -> 3718 | P5: Opioids | Q5: =B5/275 -> 0.025454545 | R5: =C5/1768 -> 1 | S5: =D5/1016 -> 1 | T5: =E5/756 -> 1 | U5: =F5/306 -> 0.081699346 | V5: =G5/218 -> 0.11009174 | W5: =H5/90 -> 0.011111111 | X5: =I5/75 -> 0.08 | Y5: =J5/889 -> 0.11811024 | Z5: =K5/319 -> 0.031347962 | AA5: =L5/15 -> 0 | AB5: =M5/8 -> 0
A6: _____Non-heroin opioids (Alone or in combination) | B6: 5 | C6: 1016 | D6: 1016 | E6: 4 | F6: 9 | G6: 8 | H6: 1 | I6: 2 | J6: 100 | K6: 10 | N6: =SUM(B6:M6) -> 2171 | P6: Non-heroin opioids (Alone or in combination) | Q6: =B6/275 -> 0.018181818 | R6: =C6/1768 -> 0.57466063 | S6: =D6/1016 -> 1 | T6: =E6/756 -> 0.0052910053 | U6: =F6/306 -> 0.029411765 | V6: =G6/218 -> 0.036697248 | W6: =H6/90 -> 0.011111111 | X6: =I6/75 -> 0.026666667 | Y6: =J6/889 -> 0.11248594 | Z6: =K6/319 -> 0.031347962 | AA6: =L6/15 -> 0 | AB6: =M6/8 -> 0
A7: _____Heroin (Alone or in combination) | B7: 2 | C7: 756 | D7: 4 | E7: 756 | F7: 16 | G7: 16 | I7: 4 | J7: 5 | N7: =SUM(B7:M7) -> 1559 | P7: Heroin (Alone or in combination) | Q7: =B7/275 -> 0.0072727273 | R7: =C7/1768 -> 0.42760181 | S7: =D7/1016 -> 0.0039370079 | T7: =E7/756 -> 1 | U7: =F7/306 -> 0.052287582 | V7: =G7/218 -> 0.073394495 | W7: =H7/90 -> 0 | X7: =I7/75 -> 0.053333333 | Y7: =J7/889 -> 0.005624297 | Z7: =K7/319 -> 0 | AA7: =L7/15 -> 0 | AB7: =M7/8 -> 0
A8: Psychostimulants | B8: 5 | C8: 25 | D8: 9 | E8: 16 | F8: 306 | G8: 218 | H8: 90 | I8: 3 | J8: 5 | K8: 1 | L8: 1 | N8: =SUM(B8:M8) -> 679 | P8: Psychostimulants | Q8: =B8/275 -> 0.018181818 | R8: =C8/1768 -> 0.014140271 | S8: =D8/1016 -> 0.0088582677 | T8: =E8/756 -> 0.021164021 | U8: =F8/306 -> 1 | V8: =G8/218 -> 1 | W8: =H8/90 -> 1 | X8: =I8/75 -> 0.04 | Y8: =J8/889 -> 0.005624297 | Z8: =K8/319 -> 0.0031347962 | AA8: =L8/15 -> 0.066666667 | AB8: =M8/8 -> 0
A9: _____Ampthetamines | B9: 5 | C9: 24 | D9: 8 | E9: 16 | F9: 218 | G9: 218 | H9: 2 | I9: 3 | J9: 4 | K9: 1 | N9: =SUM(B9:M9) -> 499 | P9: Ampthetamines | Q9: =B9/275 -> 0.018181818 | R9: =C9/1768 -> 0.013574661 | S9: =D9/1016 -> 0.0078740157 | T9: =E9/756 -> 0.021164021 | U9: =F9/306 -> 0.7124183 | V9: =G9/218 -> 1 | W9: =H9/90 -> 0.022222222 | X9: =I9/75 -> 0.04 | Y9: =J9/889 -> 0.0044994376 | Z9: =K9/319 -> 0.0031347962 | AA9: =L9/15 -> 0 | AB9: =M9/8 -> 0
A10: _____Non-Ampthetamines | C10: 1 | D10: 1 | F10: 90 | G10: 2 | H10: 90 | J10: 1 | L10: 1 | N10: =SUM(B10:M10) -> 186 | P10: Non-Ampthetamines | Q10: =B10/275 -> 0 | R10: =C10/1768 -> 0.00056561086 | S10: =D10/1016 -> 0.00098425197 | T10: =E10/756 -> 0 | U10: =F10/306 -> 0.29411765 | V10: =G10/218 -> 0.0091743119 | W10: =H10/90 -> 1 | X10: =I10/75 -> 0 | Y10: =J10/889 -> 0.0011248594 | Z10: =K10/319 -> 0 | AA10: =L10/15 -> 0.066666667 | AB10: =M10/8 -> 0
A11: Cocaine | B11: 4 | C11: 6 | D11: 2 | E11: 4 | F11: 3 | G11: 3 | I11: 75 | J11: 2 | K11: 2 | N11: =SUM(B11:M11) -> 101 | P11: Cocaine | Q11: =B11/275 -> 0.014545455 | R11: =C11/1768 -> 0.0033936652 | S11: =D11/1016 -> 0.0019685039 | T11: =E11/756 -> 0.0052910053 | U11: =F11/306 -> 0.0098039216 | V11: =G11/218 -> 0.013761468 | W11: =H11/90 -> 0 | X11: =I11/75 -> 1 | Y11: =J11/889 -> 0.0022497188 | Z11: =K11/319 -> 0.0062695925 | AA11: =L11/15 -> 0 | AB11: =M11/8 -> 0
A12: Benzodiazepines | B12: 6 | C12: 105 | D12: 100 | E12: 5 | F12: 5 | G12: 4 | H12: 1 | I12: 2 | J12: 889 | K12: 20 | N12: =SUM(B12:M12) -> 1137 | P12: Benzodiazepines | Q12: =B12/275 -> 0.021818182 | R12: =C12/1768 -> 0.05938914 | S12: =D12/1016 -> 0.098425197 | T12: =E12/756 -> 0.0066137566 | U12: =F12/306 -> 0.016339869 | V12: =G12/218 -> 0.018348624 | W12: =H12/90 -> 0.011111111 | X12: =I12/75 -> 0.026666667 | Y12: =J12/889 -> 1 | Z12: =K12/319 -> 0.062695925 | AA12: =L12/15 -> 0 | AB12: =M12/8 -> 0
A13: Alcohol Toxicity | B13: 4 | C13: 10 | D13: 10 | F13: 1 | G13: 1 | I13: 2 | J13: 20 | K13: 319 | N13: =SUM(B13:M13) -> 367 | P13: Alcohol Toxicity | Q13: =B13/275 -> 0.014545455 | R13: =C13/1768 -> 0.0056561086 | S13: =D13/1016 -> 0.0098425197 | T13: =E13/756 -> 0 | U13: =F13/306 -> 0.0032679739 | V13: =G13/218 -> 0.004587156 | W13: =H13/90 -> 0 | X13: =I13/75 -> 0.026666667 | Y13: =J13/889 -> 0.022497188 | Z13: =K13/319 -> 1 | AA13: =L13/15 -> 0 | AB13: =M13/8 -> 0
A14: Unspecified Psychodysleptics | B14: 1 | F14: 1 | H14: 1 | L14: 15 | N14: =SUM(B14:M14) -> 18 | P14: Unspecified Psychodysleptics | Q14: =B14/275 -> 0.0036363636 | R14: =C14/1768 -> 0 | S14: =D14/1016 -> 0 | T14: =E14/756 -> 0 | U14: =F14/306 -> 0.0032679739 | V14: =G14/218 -> 0 | W14: =H14/90 -> 0.011111111 | X14: =I14/75 -> 0 | Y14: =J14/889 -> 0 | Z14: =K14/319 -> 0 | AA14: =L14/15 -> 1 | AB14: =M14/8 -> 0
A15: Unspecified/Other Psychotropics | M15: 8 | N15: =SUM(B15:M15) -> 8 | P15: Unspecified/ Other Psychotropics | Q15: =B15/275 -> 0 | R15: =C15/1768 -> 0 | S15: =D15/1016 -> 0 | T15: =E15/756 -> 0 | U15: =F15/306 -> 0 | V15: =G15/218 -> 0 | W15: =H15/90 -> 0 | X15: =I15/75 -> 0 | Y15: =J15/889 -> 0 | Z15: =K15/319 -> 0 | AA15: =L15/15 -> 0 | AB15: =M15/8 -> 1
B16: =SUM(B4:B15) -> 314 | C16: =SUM(C4:C15) -> 3718 | D16: =SUM(D4:D15) -> 2171 | E16: =SUM(E4:E15) -> 1559 | F16: =SUM(F4:F15) -> 679 | G16: =SUM(G4:G15) -> 499 | H16: =SUM(H4:H15) -> 186 | I16: =SUM(I4:I15) -> 101 | ... M16: =SUM(M4:M15) -> 8 | P16: Total (sum of percents) | Q16: =SUM(Q5:Q15) -> 0.14181818 | R16: =SUM(R4,R6:R15) -> 1.1029412 | S16: =SUM(S4:S5,S7:S15) -> 1.136811 | T16: =SUM(T4:T6,T8:T15) -> 1.0621693 | U16: =SUM(U4:U7,U9:U15) -> 1.2189542 | V16: =SUM(V4:V8,V10:V15) -> 1.2889908 | W16: =SUM(W4:W9,W11:W15) -> 1.0666667 | X16: =SUM(X4:X10,X12:X15) -> 0.34666667 | Y16: =SUM(Y4:Y11,Y13:Y15) -> 0.27896513 | Z16: =SUM(Z4:Z12,Z14:Z15) -> 0.15047022 | AA16: =SUM(AA4:AA13,AA15) -> 0.2 | AB16: =SUM(AB4:AB14) -> 0
B17: =[1]Table_4.0_Information!$A$5 -> Kentucky | P17: Kentucky
A18: Row Substance | B18: Cannabis | C18: Opioids | D18: _____Non-heroin opioids (Alone or in combination) | E18: _____Heroin (Alone or in combination) | F18: Psychostimulants | G18: _____Ampthetamines | H18: _____Non-Ampthetamines | I18: Cocaine | J18: Benzodiazepines | K18: Alcohol Toxicity | L18: Unspecified Psychodysleptics | M18: Unspecified/Other Psychotropics | Q18: Cannabis | R18: Opioids | S18: Non-heroin opioids (Alone or in combination) | T18: Heroin (Alone or in combination) | U18: Psychostimulants | V18: Ampthetamines | W18: Non-Ampthetamines | X18: Cocaine | Y18: Benzodiazepines | Z18: Alcohol Toxicity | AA18: Unspecified Psychodysleptics | AB18: Unspecified/ Other Psychotropics
A19: Cannabis | B19: 637 | C19: 34 | D19: 20 | E19: 14 | F19: 37 | G19: 36 | H19: ** | I19: 7 | J19: 28 | K19: ** | L19: ** | N19: =SUM(B19:M19) -> 813 | P19: Cannabis | Q19: =B19/637 -> 1 | R19: =C19/16804 -> 0.0020233278 | S19: =D19/4341 -> 0.0046072334 | T19: =E19/12535 -> 0.0011168728 | U19: =F19/1659 -> 0.022302592 | V19: =G19/1437 -> 0.025052192 | W19: ** | X19: =I19/426 -> 0.016431925 | Y19: =J19/2259 -> 0.012394865 | Z19: ** | AA19: ** | AB19: =M19/46 -> 0
A20: Opioids | B20: 34 | C20: 16804 | D20: 4341 | E20: 12535 | F20: 247 | G20: 247 | I20: 58 | J20: 441 | K20: 24 | M20: ** | N20: =SUM(B20:M20) -> 34731 | P20: Opioids | Q20: =B20/637 -> 0.053375196 | R20: =C20/16804 -> 1 | S20: =D20/4341 -> 1 | T20: =E20/12535 -> 1 | U20: =F20/1659 -> 0.14888487 | V20: =G20/1437 -> 0.17188587 | W20: =H20/226 -> 0 | X20: =I20/426 -> 0.13615023 | Y20: =J20/2259 -> 0.19521912 | Z20: =K20/552 -> 0.043478261 | AA20: =L20/28 -> 0 | AB20: **
A21: _____Non-heroin opioids (Alone or in combination) | B21: 20 | C21: 4341 | D21: 4341 | E21: 72 | F21: 84 | G21: 84 | I21: 16 | J21: 340 | K21: 10 | M21: ** | N21: =SUM(B21:M21) -> 9308 | P21: Non-heroin opioids (Alone or in combination) | Q21: =B21/637 -> 0.031397174 | R21: =C21/16804 -> 0.25833135 | S21: =D21/4341 -> 1 | T21: =E21/12535 -> 0.005743917 | U21: =F21/1659 -> 0.050632911 | V21: =G21/1437 -> 0.058455115 | W21: =H21/226 -> 0 | X21: =I21/426 -> 0.037558685 | Y21: =J21/2259 -> 0.15050907 | Z21: =K21/552 -> 0.018115942 | AA21: =L21/28 -> 0 | AB21: **
A22: _____Heroin (Alone or in combination) | B22: 14 | C22: 12535 | D22: 72 | E22: 12535 | F22: 163 | G22: 163 | I22: 42 | J22: 101 | K22: 14 | N22: =SUM(B22:M22) -> 25639 | P22: Heroin (Alone or in combination) | Q22: =B22/637 -> 0.021978022 | R22: =C22/16804 -> 0.74595334 | S22: =D22/4341 -> 0.01658604 | T22: =E22/12535 -> 1 | U22: =F22/1659 -> 0.098251959 | V22: =G22/1437 -> 0.11343076 | W22: =H22/226 -> 0 | X22: =I22/426 -> 0.098591549 | Y22: =J22/2259 -> 0.044710049 | Z22: =K22/552 -> 0.025362319 | AA22: =L22/28 -> 0 | AB22: =M22/46 -> 0
A23: Psychostimulants | B23: 37 | C23: 247 | D23: 84 | E23: 163 | F23: 1659 | G23: 1437 | H23: 226 | I23: 20 | J23: 60 | K23: ** | L23: ** | M23: ** | N23: =SUM(B23:M23) -> 3933 | P23: Psychostimulants | Q23: =B23/637 -> 0.058084772 | R23: =C23/16804 -> 0.014698881 | S23: =D23/4341 -> 0.01935038 | T23: =E23/12535 -> 0.01300359 | U23: =F23/1659 -> 1 | V23: =G23/1437 -> 1 | W23: =H23/226 -> 1 | X23: =I23/426 -> 0.046948357 | Y23: =J23/2259 -> 0.026560425 | Z23: ** | AA23: ** | AB23: **
A24: _____Ampthetamines | B24: 36 | C24: 247 | D24: 84 | E24: 163 | F24: 1437 | G24: 1437 | H24: ** | I24: 20 | J24: 60 | K24: ** | L24: ** | M24: ** | N24: =SUM(B24:M24) -> 3484 | P24: Ampthetamines | Q24: =B24/637 -> 0.056514914 | R24: =C24/16804 -> 0.014698881 | S24: =D24/4341 -> 0.01935038 | T24: =E24/12535 -> 0.01300359 | U24: =F24/1659 -> 0.86618445 | V24: =G24/1437 -> 1 | W24: ** | X24: =I24/426 -> 0.046948357 | Y24: =J24/2259 -> 0.026560425 | Z24: ** | AA24: ** | AB24: **
A25: _____Non-Ampthetamines | B25: ** | F25: 226 | G25: ** | H25: 226 | N25: =SUM(B25:M25) -> 452 | P25: Non-Ampthetamines | Q25: ** | R25: =C25/16804 -> 0 | S25: =D25/4341 -> 0 | T25: =E25/12535 -> 0 | U25: =F25/1659 -> 0.13622664 | V25: ** | W25: =H25/226 -> 1 | X25: =I25/426 -> 0 | Y25: =J25/2259 -> 0 | Z25: =K25/552 -> 0 | AA25: =L25/28 -> 0 | AB25: =M25/46 -> 0
A26: Cocaine | B26: 7 | C26: 58 | D26: 16 | E26: 42 | F26: 20 | G26: 20 | I26: 248 | J26: 15 | K26: ** | L26: ** | N26: =SUM(B26:M26) -> 426 | P26: Cocaine | Q26: =B26/637 -> 0.010989011 | R26: =C26/16804 -> 0.0034515592 | S26: =D26/4341 -> 0.0036857867 | T26: =E26/12535 -> 0.0033506183 | U26: =F26/1659 -> 0.012055455 | V26: =G26/1437 -> 0.013917884 | W26: =H26/226 -> 0 | X26: =I26/426 -> 0.58215962 | Y26: =J26/2259 -> 0.0066401062 | Z26: ** | AA26: ** | AB26: =M26/46 -> 0
A27: Benzodiazepines | B27: 28 | C27: 441 | D27: 340 | E27: 101 | F27: 60 | G27: 60 | I27: 15 | J27: 2259 | K27: 30 | M27: 5 | N27: =SUM(B27:M27) -> 3339 | P27: Benzodiazepines | Q27: =B27/637 -> 0.043956044 | R27: =C27/16804 -> 0.026243751 | S27: =D27/4341 -> 0.078322967 | T27: =E27/12535 -> 0.0080574392 | U27: =F27/1659 -> 0.036166365 | V27: =G27/1437 -> 0.041753653 | W27: =H27/226 -> 0 | X27: =I27/426 -> 0.035211268 | Y27: =J27/2259 -> 1 | Z27: =K27/552 -> 0.054347826 | AA27: =L27/28 -> 0 | AB27: =M27/46 -> 0.10869565
A28: Alcohol Toxicity | B28: ** | C28: 24 | D28: 10 | E28: 14 | F28: ** | G28: ** | I28: ** | J28: 30 | K28: 552 | M28: ** | N28: =SUM(B28:M28) -> 630 | P28: Alcohol Toxicity | Q28: ** | R28: =C28/16804 -> 0.0014282314 | S28: =D28/4341 -> 0.0023036167 | T28: =E28/12535 -> 0.0011168728 | U28: ** | V28: ** | W28: =H28/226 -> 0 | X28: ** | Y28: =J28/2259 -> 0.013280212 | Z28: =K28/552 -> 1 | AA28: =L28/28 -> 0 | AB28: **
A29: Unspecified Psychodysleptics | B29: ** | F29: ** | G29: ** | I29: ** | L29: 28 | N29: =SUM(B29:M29) -> 28 | P29: Unspecified Psychodysleptics | Q29: ** | R29: =C29/16804 -> 0 | S29: =D29/4341 -> 0 | T29: =E29/12535 -> 0 | U29: ** | V29: ** | W29: =H29/226 -> 0 | X29: ** | Y29: =J29/2259 -> 0 | Z29: =K29/552 -> 0 | AA29: =L29/28 -> 1 | AB29: =M29/46 -> 0
A30: Unspecified/Other Psychotropics | C30: ** | D30: ** | F30: ** | G30: ** | J30: 5 | K30: ** | M30: 46 | N30: =SUM(B30:M30) -> 51 | P30: Unspecified/ Other Psychotropics | Q30: =B30/637 -> 0 | R30: ** | S30: ** | T30: =E30/12535 -> 0 | U30: ** | V30: ** | W30: =H30/226 -> 0 | X30: =I30/426 -> 0 | Y30: =J30/2259 -> 0.0022133687 | Z30: ** | AA30: =L30/28 -> 0 | AB30: =M30/46 -> 1
B31: =SUM(B19:B30) -> 813 | C31: =SUM(C19:C30) -> 34731 | D31: =SUM(D19:D30) -> 9308 | E31: =SUM(E19:E30) -> 25639 | F31: =SUM(F19:F30) -> 3933 | G31: =SUM(G19:G30) -> 3484 | H31: =SUM(H19:H30) -> 452 | I31: =SUM(I19:I30) -> 426 | ... M31: =SUM(M19:M30) -> 51 | P31: Total (sum of percents) | Q31: =SUM(Q20:Q30) -> 0.27629513 | R31: =SUM(R21:R30) -> 1.064806 | S31: =SUM(S19:S20,S22:S30) -> 1.1442064 | T31: =SUM(T19:T21,T23:T30) -> 1.0453929 | U31: =SUM(U19:U22,U25:U30,U24) -> 1.3707052 | V31: =SUM(V19:V23,V25:V30) -> 1.4244955 | W31: =SUM(W19:W24,W26:W30) -> 1 | X31: =SUM(X19:X25,X27:X30) -> 0.41784038 | Y31: =SUM(Y19:Y26,Y28:Y30) -> 0.47808765 | Z31: =SUM(Z19:Z27,Z29:Z30) -> 0.14130435 | AA31: =SUM(AA19:AA28,AA30) -> 0 | AB31: =SUM(AB19:AB29) -> 0.10869565
B32: =[1]Table_4.0_Information!$A$6 -> New Mexico | P32: New Mexico
A33: Row Substance | B33: Cannabis | C33: Opioids | D33: _____Non-heroin opioids (Alone or in combination) | E33: _____Heroin (Alone or in combination) | F33: Psychostimulants | G33: _____Ampthetamines | H33: _____Non-Ampthetamines | I33: Cocaine | J33: Benzodiazepines | K33: Alcohol Toxicity | L33: Unspecified Psychodysleptics | M33: Unspecified/Other Psychotropics | Q33: Cannabis | R33: Opioids | S33: Non-heroin opioids (Alone or in combination) | T33: Heroin (Alone or in combination) | U33: Psychostimulants | V33: Ampthetamines | W33: Non-Ampthetamines | X33: Cocaine | Y33: Benzodiazepines | Z33: Alcohol Toxicity | AA33: Unspecified Psychodysleptics | AB33: Unspecified/ Other Psychotropics
A34: Cannabis | B34: 59 | C34: 8 | D34: 8 | F34: 3 | G34: 3 | N34: =SUM(B34:M34) -> 81 | P34: Cannabis | Q34: =B34/59 -> 1 | R34: =C34/1423 -> 0.0056219255 | S34: =D34/777 -> 0.01029601 | T34: =E34/657 -> 0 | U34: =F34/240 -> 0.0125 | V34: =G34/208 -> 0.014423077 | W34: =H34/33 -> 0 | X34: =I34/48 -> 0 | Y34: =J34/505 -> 0 | Z34: =K34/204 -> 0 | AA34: =L34/6 -> 0 | AB34: =M34/4 -> 0
A35: Opioids | B35: 8 | C35: 1423 | D35: 777 | E35: 657 | F35: 27 | G35: 27 | I35: 10 | J35: 80 | K35: 17 | L35: 1 | N35: =SUM(B35:M35) -> 3027 | P35: Opioids | Q35: =B35/59 -> 0.13559322 | R35: =C35/1423 -> 1 | S35: =D35/777 -> 1 | T35: =E35/657 -> 1 | U35: =F35/240 -> 0.1125 | V35: =G35/208 -> 0.12980769 | W35: =H35/33 -> 0 | X35: =I35/48 -> 0.20833333 | Y35: =J35/505 -> 0.15841584 | Z35: =K35/204 -> 0.083333333 | AA35: =L35/6 -> 0.16666667 | AB35: =M35/4 -> 0
A36: _____Non-heroin opioids (Alone or in combination) | B36: 8 | C36: 777 | D36: 777 | E36: 11 | F36: 10 | G36: 10 | I36: 3 | J36: 74 | K36: 11 | N36: =SUM(B36:M36) -> 1681 | P36: Non-heroin opioids (Alone or in combination) | Q36: =B36/59 -> 0.13559322 | R36: =C36/1423 -> 0.54602952 | S36: =D36/777 -> 1 | T36: =E36/657 -> 0.01674277 | U36: =F36/240 -> 0.041666667 | V36: =G36/208 -> 0.048076923 | W36: =H36/33 -> 0 | X36: =I36/48 -> 0.0625 | Y36: =J36/505 -> 0.14653465 | Z36: =K36/204 -> 0.053921569 | AA36: =L36/6 -> 0 | AB36: =M36/4 -> 0
A37: _____Heroin (Alone or in combination) | C37: 657 | D37: 11 | E37: 657 | F37: 17 | G37: 17 | I37: 7 | J37: 6 | K37: 6 | L37: 1 | N37: =SUM(B37:M37) -> 1379 | P37: Heroin (Alone or in combination) | Q37: =B37/59 -> 0 | R37: =C37/1423 -> 0.46170063 | S37: =D37/777 -> 0.014157014 | T37: =E37/657 -> 1 | U37: =F37/240 -> 0.070833333 | V37: =G37/208 -> 0.081730769 | W37: =H37/33 -> 0 | X37: =I37/48 -> 0.14583333 | Y37: =J37/505 -> 0.011881188 | Z37: =K37/204 -> 0.029411765 | AA37: =L37/6 -> 0.16666667 | AB37: =M37/4 -> 0
A38: Psychostimulants | B38: 3 | C38: 27 | D38: 10 | E38: 17 | F38: 240 | G38: 208 | H38: 33 | I38: 5 | J38: 6 | K38: 1 | N38: =SUM(B38:M38) -> 550 | P38: Psychostimulants | Q38: =B38/59 -> 0.050847458 | R38: =C38/1423 -> 0.018973999 | S38: =D38/777 -> 0.012870013 | T38: =E38/657 -> 0.02587519 | U38: =F38/240 -> 1 | V38: =G38/208 -> 1 | W38: =H38/33 -> 1 | X38: =I38/48 -> 0.10416667 | Y38: =J38/505 -> 0.011881188 | Z38: =K38/204 -> 0.0049019608 | AA38: =L38/6 -> 0 | AB38: =M38/4 -> 0
A39: _____Ampthetamines | B39: 3 | C39: 27 | D39: 10 | E39: 17 | F39: 208 | G39: 208 | H39: 1 | I39: 5 | J39: 6 | K39: 1 | N39: =SUM(B39:M39) -> 486 | P39: Ampthetamines | Q39: =B39/59 -> 0.050847458 | R39: =C39/1423 -> 0.018973999 | S39: =D39/777 -> 0.012870013 | T39: =E39/657 -> 0.02587519 | U39: =F39/240 -> 0.86666667 | V39: =G39/208 -> 1 | W39: =H39/33 -> 0.03030303 | X39: =I39/48 -> 0.10416667 | Y39: =J39/505 -> 0.011881188 | Z39: =K39/204 -> 0.0049019608 | AA39: =L39/6 -> 0 | AB39: =M39/4 -> 0
A40: _____Non-Ampthetamines | F40: 33 | G40: 1 | H40: 33 | N40: =SUM(B40:M40) -> 67 | P40: Non-Ampthetamines | Q40: =B40/59 -> 0 | R40: =C40/1423 -> 0 | S40: =D40/777 -> 0 | T40: =E40/657 -> 0 | U40: =F40/240 -> 0.1375 | V40: =G40/208 -> 0.0048076923 | W40: =H40/33 -> 1 | X40: =I40/48 -> 0 | Y40: =J40/505 -> 0 | Z40: =K40/204 -> 0 | AA40: =L40/6 -> 0 | AB40: =M40/4 -> 0
A41: Cocaine | C41: 10 | D41: 3 | E41: 7 | F41: 5 | G41: 5 | I41: 48 | K41: 3 | N41: =SUM(B41:M41) -> 81 | P41: Cocaine | Q41: =B41/59 -> 0 | R41: =C41/1423 -> 0.0070274069 | S41: =D41/777 -> 0.0038610039 | T41: =E41/657 -> 0.01065449 | U41: =F41/240 -> 0.020833333 | V41: =G41/208 -> 0.024038462 | W41: =H41/33 -> 0 | X41: =I41/48 -> 1 | Y41: =J41/505 -> 0 | Z41: =K41/204 -> 0.014705882 | AA41: =L41/6 -> 0 | AB41: =M41/4 -> 0
A42: Benzodiazepines | C42: 80 | D42: 74 | E42: 6 | F42: 6 | G42: 6 | J42: 505 | K42: 11 | N42: =SUM(B42:M42) -> 688 | P42: Benzodiazepines | Q42: =B42/59 -> 0 | R42: =C42/1423 -> 0.056219255 | S42: =D42/777 -> 0.095238095 | T42: =E42/657 -> 0.0091324201 | U42: =F42/240 -> 0.025 | V42: =G42/208 -> 0.028846154 | W42: =H42/33 -> 0 | X42: =I42/48 -> 0 | Y42: =J42/505 -> 1 | Z42: =K42/204 -> 0.053921569 | AA42: =L42/6 -> 0 | AB42: =M42/4 -> 0
A43: Alcohol Toxicity | C43: 17 | D43: 11 | E43: 6 | F43: 1 | G43: 1 | I43: 3 | J43: 11 | K43: 204 | N43: =SUM(B43:M43) -> 254 | P43: Alcohol Toxicity | Q43: =B43/59 -> 0 | R43: =C43/1423 -> 0.011946592 | S43: =D43/777 -> 0.014157014 | T43: =E43/657 -> 0.0091324201 | U43: =F43/240 -> 0.0041666667 | V43: =G43/208 -> 0.0048076923 | W43: =H43/33 -> 0 | X43: =I43/48 -> 0.0625 | Y43: =J43/505 -> 0.021782178 | Z43: =K43/204 -> 1 | AA43: =L43/6 -> 0 | AB43: =M43/4 -> 0
A44: Unspecified Psychodysleptics | C44: 1 | E44: 1 | L44: 6 | N44: =SUM(B44:M44) -> 8 | P44: Unspecified Psychodysleptics | Q44: =B44/59 -> 0 | R44: =C44/1423 -> 0.00070274069 | S44: =D44/777 -> 0 | T44: =E44/657 -> 0.00152207 | U44: =F44/240 -> 0 | V44: =G44/208 -> 0 | W44: =H44/33 -> 0 | X44: =I44/48 -> 0 | Y44: =J44/505 -> 0 | Z44: =K44/204 -> 0 | AA44: =L44/6 -> 1 | AB44: =M44/4 -> 0
A45: Unspecified/Other Psychotropics | M45: 4 | N45: =SUM(B45:M45) -> 4 | P45: Unspecified/ Other Psychotropics | Q45: =B45/59 -> 0 | R45: =C45/1423 -> 0 | S45: =D45/777 -> 0 | T45: =E45/657 -> 0 | U45: =F45/240 -> 0 | V45: =G45/208 -> 0 | W45: =H45/33 -> 0 | X45: =I45/48 -> 0 | Y45: =J45/505 -> 0 | Z45: =K45/204 -> 0 | AA45: =L45/6 -> 0 | AB45: =M45/4 -> 1
B46: =SUM(B34:B45) -> 81 | C46: =SUM(C34:C45) -> 3027 | D46: =SUM(D34:D45) -> 1681 | E46: =SUM(E34:E45) -> 1379 | F46: =SUM(F34:F45) -> 550 | G46: =SUM(G34:G45) -> 486 | H46: =SUM(H34:H45) -> 67 | I46: =SUM(I34:I45) -> 81 | ... M46: =SUM(M34:M45) -> 4 | P46: Total (sum of percents) | Q46: =SUM(Q35:Q45) -> 0.37288136 | R46: =SUM(R34,R36:R45) -> 1.1271961 | S46: =SUM(S34:S35,S37:S45) -> 1.1634492 | T46: =SUM(T34:T36,T38:T45) -> 1.0989346 | U46: =SUM(U34:U37,U39:U45) -> 1.2916667 | V46: =SUM(V34:V38,V40:V45) -> 1.3365385 | W46: =SUM(W34:W39,W41:W45) -> 1.030303 | X46: =SUM(X34:X40,X42:X45) -> 0.6875 | Y46: =SUM(Y34:Y41,Y43:Y45) -> 0.36237624 | Z46: =SUM(Z34:Z42,Z44:Z45) -> 0.24509804 | AA46: =SUM(AA34:AA43,AA45) -> 0.33333333 | AB46: =SUM(AB34:AB44) -> 0
B47: Tennessee | P47: Tennessee
A48: Row Substance | B48: Cannabis | C48: Opioids | D48: _____Non-heroin | E48: _____Heroin | F48: Psychostimulants | G48: _____Ampthetamines | H48: _____Non-Ampthetamines | I48: Cocaine | J48: Benzodiazepines | K48: Alcohol | L48: Unspecified | M48: Unspecified/Other | Q48: Cannabis | R48: Opioids | S48: Non-heroin opioids (Alone or in combination) | T48: Heroin (Alone or in combination) | U48: Psychostimulants | V48: Ampthetamines | W48: Non-Ampthetamines | X48: Cocaine | Y48: Benzodiazepines | Z48: Alcohol Toxicity | AA48: Unspecified Psychodysleptics | AB48: Unspecified/ Other Psychotropics
A49: Cannabis | B49: 150 | C49: 9 | D49: 5 | E49: 4 | F49: 13 | G49: 12 | H49: 1 | I49: 3 | J49: 14 | K49: 6 | L49: 0 | M49: 0 | P49: Cannabis | Q49: =B49/B$49 -> 1 | R49: =C49/C$50 -> 0.0020628008 | S49: =D49/D$51 -> 0.0018573551 | T49: =E49/E$52 -> 0.0023584906 | U49: =F49/F$53 -> 0.017449664 | V49: =G49/G$54 -> 0.020547945 | W49: =H49/H$55 -> 0.006097561 | X49: =I49/I$56 -> 0.016666667 | Y49: =J49/J$57 -> 0.0066508314 | Z49: =K49/K$58 -> 0.01242236 | AA49: =L49/L$59 -> 0 | AB49: =M49/M$60 -> 0
A50: Opioids | B50: 9 | C50: 4363 | D50: 2692 | E50: 1696 | F50: 64 | G50: 62 | H50: 2 | I50: 42 | J50: 393 | K50: 22 | L50: 0 | M50: 0 | P50: Opioids | Q50: =B50/B$49 -> 0.06 | R50: =C50/C$50 -> 1 | S50: =D50/D$51 -> 1 | T50: =E50/E$52 -> 1 | U50: =F50/F$53 -> 0.08590604 | V50: =G50/G$54 -> 0.10616438 | W50: =H50/H$55 -> 0.012195122 | X50: =I50/I$56 -> 0.23333333 | Y50: =J50/J$57 -> 0.18669834 | Z50: =K50/K$58 -> 0.045548654 | AA50: =L50/L$59 -> 0 | AB50: =M50/M$60 -> 0
A51: _____Non-heroin opioids (Alone or in combination) | B51: 5 | C51: 2692 | D51: 2692 | E51: 25 | F51: 45 | G51: 43 | H51: 2 | I51: 16 | J51: 360 | K51: 20 | L51: 0 | M51: 0 | P51: Non-heroin opioids (Alone or in combination) | Q51: =B51/B$49 -> 0.033333333 | R51: =C51/C$50 -> 0.61700665 | S51: =D51/D$51 -> 1 | T51: =E51/E$52 -> 0.014740566 | U51: =F51/F$53 -> 0.060402685 | V51: =G51/G$54 -> 0.073630137 | W51: =H51/H$55 -> 0.012195122 | X51: =I51/I$56 -> 0.088888889 | Y51: =J51/J$57 -> 0.17102138 | Z51: =K51/K$58 -> 0.041407867 | AA51: =L51/L$59 -> 0 | AB51: =M51/M$60 -> 0
A52: _____Heroin (Alone or in combination) | B52: 4 | C52: 1696 | D52: 25 | E52: 1696 | F52: 19 | G52: 19 | H52: 0 | I52: 26 | J52: 33 | K52: 2 | L52: 0 | M52: 0 | P52: Heroin (Alone or in combination) | Q52: =B52/B$49 -> 0.026666667 | R52: =C52/C$50 -> 0.38872336 | S52: =D52/D$51 -> 0.0092867756 | T52: =E52/E$52 -> 1 | U52: =F52/F$53 -> 0.025503356 | V52: =G52/G$54 -> 0.032534247 | W52: =H52/H$55 -> 0 | X52: =I52/I$56 -> 0.14444444 | Y52: =J52/J$57 -> 0.01567696 | Z52: =K52/K$58 -> 0.0041407867 | AA52: =L52/L$59 -> 0 | AB52: =M52/M$60 -> 0
A53: Psychostimulants | B53: 13 | C53: 64 | D53: 45 | E53: 19 | F53: 745 | G53: 584 | H53: 164 | I53: 12 | J53: 42 | K53: 6 | L53: 0 | M53: 0 | P53: Psychostimulants | Q53: =B53/B$49 -> 0.086666667 | R53: =C53/C$50 -> 0.014668806 | S53: =D53/D$51 -> 0.016716196 | T53: =E53/E$52 -> 0.01120283 | U53: =F53/F$53 -> 1 | V53: =G53/G$54 -> 1 | W53: =H53/H$55 -> 1 | X53: =I53/I$56 -> 0.066666667 | Y53: =J53/J$57 -> 0.019952494 | Z53: =K53/K$58 -> 0.01242236 | AA53: =L53/L$59 -> 0 | AB53: =M53/M$60 -> 0
A54: _____Ampthetamines | B54: 12 | C54: 62 | D54: 43 | E54: 19 | F54: 584 | G54: 584 | H54: 3 | I54: 11 | J54: 41 | K54: 4 | L54: 0 | M54: 0 | P54: Ampthetamines | Q54: =B54/B$49 -> 0.08 | R54: =C54/C$50 -> 0.014210406 | S54: =D54/D$51 -> 0.015973254 | T54: =E54/E$52 -> 0.01120283 | U54: =F54/F$53 -> 0.78389262 | V54: =G54/G$54 -> 1 | W54: =H54/H$55 -> 0.018292683 | X54: =I54/I$56 -> 0.061111111 | Y54: =J54/J$57 -> 0.019477435 | Z54: =K54/K$58 -> 0.0082815735 | AA54: =L54/L$59 -> 0 | AB54: =M54/M$60 -> 0
A55: _____Non-Ampthetamines | B55: 1 | C55: 2 | D55: 2 | E55: 0 | F55: 164 | G55: 3 | H55: 164 | I55: 1 | J55: 1 | K55: 2 | L55: 0 | M55: 0 | P55: Non-Ampthetamines | Q55: =B55/B$49 -> 0.0066666667 | R55: =C55/C$50 -> 0.00045840018 | S55: =D55/D$51 -> 0.00074294205 | T55: =E55/E$52 -> 0 | U55: =F55/F$53 -> 0.22013423 | V55: =G55/G$54 -> 0.0051369863 | W55: =H55/H$55 -> 1 | X55: =I55/I$56 -> 0.0055555556 | Y55: =J55/J$57 -> 0.00047505938 | Z55: =K55/K$58 -> 0.0041407867 | AA55: =L55/L$59 -> 0 | AB55: =M55/M$60 -> 0
A56: Cocaine | B56: 3 | C56: 42 | D56: 16 | E56: 26 | F56: 12 | G56: 11 | H56: 1 | I56: 180 | J56: 11 | K56: 5 | L56: 0 | M56: 0 | P56: Cocaine | Q56: =B56/B$49 -> 0.02 | R56: =C56/C$50 -> 0.0096264039 | S56: =D56/D$51 -> 0.0059435364 | T56: =E56/E$52 -> 0.015330189 | U56: =F56/F$53 -> 0.016107383 | V56: =G56/G$54 -> 0.018835616 | W56: =H56/H$55 -> 0.006097561 | X56: =I56/I$56 -> 1 | Y56: =J56/J$57 -> 0.0052256532 | Z56: =K56/K$58 -> 0.010351967 | AA56: =L56/L$59 -> 0 | AB56: =M56/M$60 -> 0
A57: Benzodiazepines | B57: 14 | C57: 393 | D57: 360 | E57: 33 | F57: 42 | G57: 41 | H57: 1 | I57: 11 | J57: 2105 | K57: 47 | L57: 0 | M57: 1 | P57: Benzodiazepines | Q57: =B57/B$49 -> 0.093333333 | R57: =C57/C$50 -> 0.090075636 | S57: =D57/D$51 -> 0.13372957 | T57: =E57/E$52 -> 0.019457547 | U57: =F57/F$53 -> 0.056375839 | V57: =G57/G$54 -> 0.070205479 | W57: =H57/H$55 -> 0.006097561 | X57: =I57/I$56 -> 0.061111111 | Y57: =J57/J$57 -> 1 | Z57: =K57/K$58 -> 0.097308489 | AA57: =L57/L$59 -> 0 | AB57: =M57/M$60 -> 0.125
A58: Alcohol Toxicity | B58: 6 | C58: 22 | D58: 20 | E58: 2 | F58: 6 | G58: 4 | H58: 2 | I58: 5 | J58: 47 | K58: 483 | L58: 0 | M58: 0 | P58: Alcohol Toxicity | Q58: =B58/B$49 -> 0.04 | R58: =C58/C$50 -> 0.005042402 | S58: =D58/D$51 -> 0.0074294205 | T58: =E58/E$52 -> 0.0011792453 | U58: =F58/F$53 -> 0.0080536913 | V58: =G58/G$54 -> 0.0068493151 | W58: =H58/H$55 -> 0.012195122 | X58: =I58/I$56 -> 0.027777778 | Y58: =J58/J$57 -> 0.022327791 | Z58: =K58/K$58 -> 1 | AA58: =L58/L$59 -> 0 | AB58: =M58/M$60 -> 0
A59: Unspecified Psychodysleptics | B59: 0 | C59: 0 | D59: 0 | E59: 0 | F59: 0 | G59: 0 | H59: 0 | I59: 0 | J59: 0 | K59: 0 | L59: 8 | M59: 0 | P59: Unspecified Psychodysleptics | Q59: =B59/B$49 -> 0 | R59: =C59/C$50 -> 0 | S59: =D59/D$51 -> 0 | T59: =E59/E$52 -> 0 | U59: =F59/F$53 -> 0 | V59: =G59/G$54 -> 0 | W59: =H59/H$55 -> 0 | X59: =I59/I$56 -> 0 | Y59: =J59/J$57 -> 0 | Z59: =K59/K$58 -> 0 | AA59: =L59/L$59 -> 1 | AB59: =M59/M$60 -> 0
A60: Unspecified/Other Psychotropics | B60: 0 | C60: 0 | D60: 0 | E60: 0 | F60: 0 | G60: 0 | H60: 0 | I60: 0 | J60: 1 | K60: 0 | L60: 0 | M60: 8 | P60: Unspecified/ Other Psychotropics | Q60: =B60/B$49 -> 0 | R60: =C60/C$50 -> 0 | S60: =D60/D$51 -> 0 | T60: =E60/E$52 -> 0 | U60: =F60/F$53 -> 0 | V60: =G60/G$54 -> 0 | W60: =H60/H$55 -> 0 | X60: =I60/I$56 -> 0 | Y60: =J60/J$57 -> 0.00047505938 | Z60: =K60/K$58 -> 0 | AA60: =L60/L$59 -> 0 | AB60: =M60/M$60 -> 1
P61: Total (sum of percents) | Q61: =SUM(Q50:Q60) -> 0.44666667 | R61: =SUM(R49,R51:R60) -> 1.1418749 | S61: =SUM(S49:S50,S52:S60) -> 1.191679 | T61: =SUM(T49:T51,T53:T60) -> 1.0754717 | U61: =SUM(U49:U52,U54:U60) -> 1.2738255 | V61: =SUM(V49:V53,V55:V60) -> 1.3339041 | W61: =SUM(W49:W54,W56:W60) -> 1.0731707 | X61: =SUM(X49:X55,X57:X60) -> 0.70555556 | Y61: =SUM(Y49:Y56,Y58:Y60) -> 0.447981 | Z61: =SUM(Z49:Z57,Z59:Z60) -> 0.23602484 | AA61: =SUM(AA49:AA58,AA60) -> 0 | AB61: =SUM(AB49:AB59) -> 0.125
B62: Louisiana | P62: Louisiana
A63: Row Substance | B63: Cannabis | C63: Opioids | D63: _____Non-heroin | E63: _____Heroin | F63: Psychostimulants | G63: _____Ampthetamines | H63: _____Non-Ampthetamines | I63: Cocaine | J63: Benzodiazepines | K63: Alcohol | L63: Unspecified | M63: Unspecified/Other | Q63: Cannabis | R63: Opioids | S63: Non-heroin opioids (Alone or in combination) | T63: Heroin (Alone or in combination) | U63: Psychostimulants | V63: Ampthetamines | W63: Non-Ampthetamines | X63: Cocaine | Y63: Benzodiazepines | Z63: Alcohol Toxicity | AA63: Unspecified Psychodysleptics | AB63: Unspecified/ Other Psychotropics
A64: Cannabis | B64: 243 | C64: 11 | D64: 6 | E64: 5 | F64: 11 | G64: 10 | H64: 1 | I64: 17 | J64: 9 | K64: 0 | L64: 2 | M64: 0 | P64: Cannabis | Q64: =B64/B$64 -> 1 | R64: =C64/C$65 -> 0.0037826685 | S64: =D64/D$66 -> 0.0034883721 | T64: =E64/E$67 -> 0.0041084634 | U64: =F64/F$68 -> 0.020408163 | V64: =G64/G$69 -> 0.021929825 | W64: =H64/H$70 -> 0.012048193 | X64: =I64/I$71 -> 0.058219178 | Y64: =J64/J$72 -> 0.006741573 | Z64: =K64/K$73 -> 0 | AA64: =L64/L$74 -> 0.02739726 | AB64: =M64/M$75 -> 0
A65: Opioids | B65: 11 | C65: 2908 | D65: 1720 | E65: 1217 | F65: 34 | G65: 31 | H65: 3 | I65: 39 | J65: 195 | K65: 12 | L65: 0 | M65: 0 | P65: Opioids | Q65: =B65/B$64 -> 0.04526749 | R65: =C65/C$65 -> 1 | S65: =D65/D$66 -> 1 | T65: =E65/E$67 -> 1 | U65: =F65/F$68 -> 0.063079777 | V65: =G65/G$69 -> 0.067982456 | W65: =H65/H$70 -> 0.036144578 | X65: =I65/I$71 -> 0.13356164 | Y65: =J65/J$72 -> 0.14606742 | Z65: =K65/K$73 -> 0.028776978 | AA65: =L65/L$74 -> 0 | AB65: =M65/M$75 -> 0
A66: _____Non-heroin opioids (Alone or in combination) | B66: 6 | C66: 1720 | D66: 1720 | E66: 29 | F66: 25 | G66: 22 | H66: 3 | I66: 12 | J66: 174 | K66: 9 | L66: 0 | M66: 0 | P66: Non-heroin opioids (Alone or in combination) | Q66: =B66/B$64 -> 0.024691358 | R66: =C66/C$65 -> 0.5914718 | S66: =D66/D$66 -> 1 | T66: =E66/E$67 -> 0.023829088 | U66: =F66/F$68 -> 0.046382189 | V66: =G66/G$69 -> 0.048245614 | W66: =H66/H$70 -> 0.036144578 | X66: =I66/I$71 -> 0.04109589 | Y66: =J66/J$72 -> 0.13033708 | Z66: =K66/K$73 -> 0.021582734 | AA66: =L66/L$74 -> 0 | AB66: =M66/M$75 -> 0
A67: _____Heroin (Alone or in combination) | B67: 5 | C67: 1217 | D67: 29 | E67: 1217 | F67: 9 | G67: 9 | H67: 0 | I67: 27 | J67: 21 | K67: 3 | L67: 0 | M67: 0 | P67: Heroin (Alone or in combination) | Q67: =B67/B$64 -> 0.020576132 | R67: =C67/C$65 -> 0.41850069 | S67: =D67/D$66 -> 0.016860465 | T67: =E67/E$67 -> 1 | U67: =F67/F$68 -> 0.016697588 | V67: =G67/G$69 -> 0.019736842 | W67: =H67/H$70 -> 0 | X67: =I67/I$71 -> 0.092465753 | Y67: =J67/J$72 -> 0.015730337 | Z67: =K67/K$73 -> 0.0071942446 | AA67: =L67/L$74 -> 0 | AB67: =M67/M$75 -> 0
A68: Psychostimulants | B68: 11 | C68: 34 | D68: 25 | E68: 9 | F68: 539 | G68: 456 | H68: 83 | I68: 13 | J68: 25 | K68: 4 | L68: 0 | M68: 0 | P68: Psychostimulants | Q68: =B68/B$64 -> 0.04526749 | R68: =C68/C$65 -> 0.011691884 | S68: =D68/D$66 -> 0.014534884 | T68: =E68/E$67 -> 0.0073952342 | U68: =F68/F$68 -> 1 | V68: =G68/G$69 -> 1 | W68: =H68/H$70 -> 1 | X68: =I68/I$71 -> 0.044520548 | Y68: =J68/J$72 -> 0.018726592 | Z68: =K68/K$73 -> 0.0095923261 | AA68: =L68/L$74 -> 0 | AB68: =M68/M$75 -> 0
A69: _____Ampthetamines | B69: 10 | C69: 31 | D69: 22 | E69: 9 | F69: 456 | G69: 456 | H69: 0 | I69: 13 | J69: 24 | K69: 4 | L69: 0 | M69: 0 | P69: Ampthetamines | Q69: =B69/B$64 -> 0.041152263 | R69: =C69/C$65 -> 0.010660248 | S69: =D69/D$66 -> 0.012790698 | T69: =E69/E$67 -> 0.0073952342 | U69: =F69/F$68 -> 0.84601113 | V69: =G69/G$69 -> 1 | W69: =H69/H$70 -> 0 | X69: =I69/I$71 -> 0.044520548 | Y69: =J69/J$72 -> 0.017977528 | Z69: =K69/K$73 -> 0.0095923261 | AA69: =L69/L$74 -> 0 | AB69: =M69/M$75 -> 0
A70: _____Non-Ampthetamines | B70: 1 | C70: 3 | D70: 3 | E70: 0 | F70: 83 | G70: 0 | H70: 83 | I70: 0 | J70: 1 | K70: 0 | L70: 0 | M70: 0 | P70: Non-Ampthetamines | Q70: =B70/B$64 -> 0.0041152263 | R70: =C70/C$65 -> 0.0010316369 | S70: =D70/D$66 -> 0.001744186 | T70: =E70/E$67 -> 0 | U70: =F70/F$68 -> 0.15398887 | V70: =G70/G$69 -> 0 | W70: =H70/H$70 -> 1 | X70: =I70/I$71 -> 0 | Y70: =J70/J$72 -> 0.00074906367 | Z70: =K70/K$73 -> 0 | AA70: =L70/L$74 -> 0 | AB70: =M70/M$75 -> 0
A71: Cocaine | B71: 17 | C71: 39 | D71: 12 | E71: 27 | F71: 13 | G71: 13 | H71: 0 | I71: 292 | J71: 10 | K71: 6 | L71: 2 | M71: 0 | P71: Cocaine | Q71: =B71/B$64 -> 0.069958848 | R71: =C71/C$65 -> 0.013411279 | S71: =D71/D$66 -> 0.0069767442 | T71: =E71/E$67 -> 0.022185703 | U71: =F71/F$68 -> 0.024118738 | V71: =G71/G$69 -> 0.028508772 | W71: =H71/H$70 -> 0 | X71: =I71/I$71 -> 1 | Y71: =J71/J$72 -> 0.0074906367 | Z71: =K71/K$73 -> 0.014388489 | AA71: =L71/L$74 -> 0.02739726 | AB71: =M71/M$75 -> 0
A72: Benzodiazepines | B72: 9 | C72: 195 | D72: 174 | E72: 21 | F72: 25 | G72: 24 | H72: 1 | I72: 10 | J72: 1335 | K72: 21 | L72: 0 | M72: 0 | P72: Benzodiazepines | Q72: =B72/B$64 -> 0.037037037 | R72: =C72/C$65 -> 0.067056396 | S72: =D72/D$66 -> 0.10116279 | T72: =E72/E$67 -> 0.017255546 | U72: =F72/F$68 -> 0.046382189 | V72: =G72/G$69 -> 0.052631579 | W72: =H72/H$70 -> 0.012048193 | X72: =I72/I$71 -> 0.034246575 | Y72: =J72/J$72 -> 1 | Z72: =K72/K$73 -> 0.050359712 | AA72: =L72/L$74 -> 0 | AB72: =M72/M$75 -> 0
A73: Alcohol Toxicity | B73: 0 | C73: 12 | D73: 9 | E73: 3 | F73: 4 | G73: 4 | H73: 0 | I73: 6 | J73: 21 | K73: 417 | L73: 0 | M73: 0 | P73: Alcohol Toxicity | Q73: =B73/B$64 -> 0 | R73: =C73/C$65 -> 0.0041265475 | S73: =D73/D$66 -> 0.0052325581 | T73: =E73/E$67 -> 0.0024650781 | U73: =F73/F$68 -> 0.0074211503 | V73: =G73/G$69 -> 0.0087719298 | W73: =H73/H$70 -> 0 | X73: =I73/I$71 -> 0.020547945 | Y73: =J73/J$72 -> 0.015730337 | Z73: =K73/K$73 -> 1 | AA73: =L73/L$74 -> 0 | AB73: =M73/M$75 -> 0
A74: Unspecified Psychodysleptics | B74: 2 | C74: 0 | D74: 0 | E74: 0 | F74: 0 | G74: 0 | H74: 0 | I74: 2 | J74: 0 | K74: 0 | L74: 73 | M74: 0 | P74: Unspecified Psychodysleptics | Q74: =B74/B$64 -> 0.0082304527 | R74: =C74/C$65 -> 0 | S74: =D74/D$66 -> 0 | T74: =E74/E$67 -> 0 | U74: =F74/F$68 -> 0 | V74: =G74/G$69 -> 0 | W74: =H74/H$70 -> 0 | X74: =I74/I$71 -> 0.0068493151 | Y74: =J74/J$72 -> 0 | Z74: =K74/K$73 -> 0 | AA74: =L74/L$74 -> 1 | AB74: =M74/M$75 -> 0
A75: Unspecified/Other Psychotropics | B75: 0 | C75: 0 | D75: 0 | E75: 0 | F75: 0 | G75: 0 | H75: 0 | I75: 0 | J75: 0 | K75: 0 | L75: 0 | M75: 15 | P75: Unspecified/ Other Psychotropics | Q75: =B75/B$64 -> 0 | R75: =C75/C$65 -> 0 | S75: =D75/D$66 -> 0 | T75: =E75/E$67 -> 0 | U75: =F75/F$68 -> 0 | V75: =G75/G$69 -> 0 | W75: =H75/H$70 -> 0 | X75: =I75/I$71 -> 0 | Y75: =J75/J$72 -> 0 | Z75: =K75/K$73 -> 0 | AA75: =L75/L$74 -> 0 | AB75: =M75/M$75 -> 1
P76: Total (sum of percents) | Q76: =SUM(Q65:Q75) -> 0.2962963 | R76: =SUM(R64,R66:R75) -> 1.1217331 | S76: =SUM(S64:S65,S67:S75) -> 1.1627907 | T76: =SUM(T64:T66,T68:T75) -> 1.0846343 | U76: =SUM(U64:U67,U69:U75) -> 1.2244898 | V76: =SUM(V64:V68,V70:V75) -> 1.247807 | W76: =SUM(W64:W69,W71:W75) -> 1.0963855 | X76: =SUM(X64:X70,X72:X75) -> 0.4760274 | Y76: =SUM(Y64:Y71,Y73:Y75) -> 0.35955056 | Z76: =SUM(Z64:Z72,Z74:Z75) -> 0.14148681 | AA76: =SUM(AA64:AA73,AA75) -> 0.054794521 | AB76: =SUM(AB64:AB74) -> 0
A77: Row Substance | B77: Cannabis | C77: Opioids | D77: _____Non-heroin | E77: _____Heroin | F77: Psychostimulants | G77: _____Ampthetamines | H77: _____Non-Ampthetamines | I77: Cocaine | J77: Benzodiazepines | K77: Alcohol | L77: Unspecified | M77: Unspecified/Other
A78: Cannabis
A79: Opioids
A80: _____Non-heroin opioids (Alone or in combination)
A81: _____Heroin (Alone or in combination)
A82: Psychostimulants
A83: _____Ampthetamines
A84: _____Non-Ampthetamines
A85: Cocaine
A86: Benzodiazepines
A87: Alcohol Toxicity
A88: Unspecified Psychodysleptics
A89: Unspecified/Other Psychotropics
B90: =[1]Table_4.0_Information!$A$10 -> 7 add state in table 0
A91: Row Substance | B91: Cannabis | C91: Opioids | D91: _____Non-heroin | E91: _____Heroin | F91: Psychostimulants | G91: _____Ampthetamines | H91: _____Non-Ampthetamines | I91: Cocaine | J91: Benzodiazepines | K91: Alcohol | L91: Unspecified | M91: Unspecified/Other
A92: Cannabis
A93: Opioids
A94: _____Non-heroin opioids (Alone or in combination)
A95: _____Heroin (Alone or in combination)
A96: Psychostimulants
A97: _____Ampthetamines
A98: _____Non-Ampthetamines
A99: Cocaine
A100: Benzodiazepines
...

Sheet Emilia's graphics ideas
A1: 3.3 Cannabis involvement in opioid poisoning VS. opioid involvement in cannabis poisoning
B2: Percent marijuana involvement out of all opioid overdose | C2: Percent opioid involvement out of all marijuana overdose
A3: CO | B3: ='[1]4_3.2_GraphPolydrug_1.30states'!$R$4 -> 0.003959276 | C3: ='[1]4_3.2_GraphPolydrug_1.30states'!$Q$5 -> 0.025454545
A4: KY | B4: ='[1]4_3.2_GraphPolydrug_1.30states'!$R$19 -> 0.0020233278 | C4: ='[1]4_3.2_GraphPolydrug_1.30states'!$Q$20 -> 0.053375196
A5: LA | B5: ='4_3.2_GraphPolydrug_1.30states'!R64 -> 0.0037826685 | C5: ='4_3.2_GraphPolydrug_1.30states'!Q65 -> 0.04526749
A6: NM | B6: ='[1]4_3.2_GraphPolydrug_1.30states'!$R$34 -> 0.0056219255 | C6: ='[1]4_3.2_GraphPolydrug_1.30states'!$Q$35 -> 0.13559322
A7: TN | B7: ='[1]4_3.2_GraphPolydrug_1.30states'!R49 -> 0.0020628008 | C7: ='[1]4_3.2_GraphPolydrug_1.30states'!Q50 -> 0.06
A17: 3.4 Comparing polydrug combinations for pills versus street drugs
A18: 3.4a Percent of overdose cases that also involve amphetamines
B19: out of all heroin overdoses | C19: out of all NH opioid overdoses
A20: CO | B20: ='[1]4_3.2_GraphPolydrug_1.30states'!$T$9 -> 0.021164021 | C20: ='[1]4_3.2_GraphPolydrug_1.30states'!$S$9 -> 0.0078740157
A21: KY | B21: ='[1]4_3.2_GraphPolydrug_1.30states'!$T$24 -> 0.01300359 | C21: ='[1]4_3.2_GraphPolydrug_1.30states'!$S$24 -> 0.01935038
A22: LA | B22: ='4_3.2_GraphPolydrug_1.30states'!T69 -> 0.0073952342 | C22: ='4_3.2_GraphPolydrug_1.30states'!S69 -> 0.012790698
A23: NM | B23: ='[1]4_3.2_GraphPolydrug_1.30states'!$T$39 -> 0.02587519 | C23: ='[1]4_3.2_GraphPolydrug_1.30states'!$S$39 -> 0.012870013
A24: TN | B24: ='[1]4_3.2_GraphPolydrug_1.30states'!T54 -> 0.01120283 | C24: ='[1]4_3.2_GraphPolydrug_1.30states'!S54 -> 0.015973254
A30: 3.4b Percent of overdose cases that also involve cocaine
B31: out of all heroin overdoses | C31: out of all NH opioid overdoses
A32: CO | B32: ='[1]4_3.2_GraphPolydrug_1.30states'!$T$11 -> 0.0052910053 | C32: ='[1]4_3.2_GraphPolydrug_1.30states'!$S$11 -> 0.0019685039
A33: KY | B33: ='[1]4_3.2_GraphPolydrug_1.30states'!$T$26 -> 0.0033506183 | C33: ='[1]4_3.2_GraphPolydrug_1.30states'!$S$26 -> 0.0036857867
A34: LA | B34: ='4_3.2_GraphPolydrug_1.30states'!T71 -> 0.022185703 | C34: ='4_3.2_GraphPolydrug_1.30states'!S71 -> 0.0069767442
A35: NM | B35: ='[1]4_3.2_GraphPolydrug_1.30states'!$T$41 -> 0.01065449 | C35: ='[1]4_3.2_GraphPolydrug_1.30states'!$S$41 -> 0.0038610039
A36: TN | B36: ='[1]4_3.2_GraphPolydrug_1.30states'!T56 -> 0.015330189 | C36: ='[1]4_3.2_GraphPolydrug_1.30states'!S56 -> 0.0059435364
A42: 3.4c Percent of overdose cases that also involve benzodiazepines
B43: out of all heroin overdoses | C43: out of all NH opioid overdoses
A44: CO | B44: ='[1]4_3.2_GraphPolydrug_1.30states'!$T$12 -> 0.0066137566 | C44: ='[1]4_3.2_GraphPolydrug_1.30states'!$S$12 -> 0.098425197
A45: KY | B45: ='[1]4_3.2_GraphPolydrug_1.30states'!$T$27 -> 0.0080574392 | C45: ='[1]4_3.2_GraphPolydrug_1.30states'!$S$27 -> 0.078322967
A46: LA | B46: ='4_3.2_GraphPolydrug_1.30states'!T72 -> 0.017255546 | C46: ='4_3.2_GraphPolydrug_1.30states'!S72 -> 0.10116279
A47: NM | B47: ='[1]4_3.2_GraphPolydrug_1.30states'!$T$42 -> 0.0091324201 | C47: ='[1]4_3.2_GraphPolydrug_1.30states'!$S$42 -> 0.095238095
A48: TN | B48: ='[1]4_3.2_GraphPolydrug_1.30states'!T57 -> 0.019457547 | C48: ='[1]4_3.2_GraphPolydrug_1.30states'!S57 -> 0.13372957
A54: 3.5 Cocaine involvement in opioid poisoning VS. opioid involvement in cocaine poisoning
B55: Percent cocaine involvement out of all opioid overdose | C55: Percent opioid involvement out of all cocaine overdose
A56: CO | B56: ='[1]4_3.2_GraphPolydrug_1.30states'!$R$11 -> 0.0033936652 | C56: ='[1]4_3.2_GraphPolydrug_1.30states'!$X$5 -> 0.08
A57: KY | B57: ='[1]4_3.2_GraphPolydrug_1.30states'!$R$26 -> 0.0034515592 | C57: ='[1]4_3.2_GraphPolydrug_1.30states'!$X$20 -> 0.13615023
A58: LA | B58: ='4_3.2_GraphPolydrug_1.30states'!R71 -> 0.013411279 | C58: ='4_3.2_GraphPolydrug_1.30states'!X65 -> 0.13356164
A59: NM | B59: ='[1]4_3.2_GraphPolydrug_1.30states'!$R$41 -> 0.0070274069 | C59: ='[1]4_3.2_GraphPolydrug_1.30states'!$X$35 -> 0.20833333
A60: TN | B60: ='[1]4_3.2_GraphPolydrug_1.30states'!R56 -> 0.0096264039 | C60: ='[1]4_3.2_GraphPolydrug_1.30states'!X50 -> 0.23333333
A66: 3.6 Benzodiazapine involvement in NHopioid poisoning VS. NHopioid involvement in benzodiazepine poisoning
B67: Percent benzodiazepine involvement out of all non-heroin opioid overdose | C67: Percent non-heroin opioid involvement out of all benzodiazepine overdose
A68: CO | B68: ='[1]4_3.2_GraphPolydrug_1.30states'!$S$12 -> 0.098425197 | C68: ='[1]4_3.2_GraphPolydrug_1.30states'!$Y$6 -> 0.11248594
A69: KY | B69: ='[1]4_3.2_GraphPolydrug_1.30states'!$S$27 -> 0.078322967 | C69: ='[1]4_3.2_GraphPolydrug_1.30states'!$Y$21 -> 0.15050907
A70: LA | B70: ='4_3.2_GraphPolydrug_1.30states'!S72 -> 0.10116279 | C70: ='4_3.2_GraphPolydrug_1.30states'!Y66 -> 0.13033708
A71: NM | B71: ='[1]4_3.2_GraphPolydrug_1.30states'!$S$42 -> 0.095238095 | C71: ='[1]4_3.2_GraphPolydrug_1.30states'!$Y$36 -> 0.14653465
A72: TN | B72: ='[1]4_3.2_GraphPolydrug_1.30states'!S57 -> 0.13372957 | C72: ='[1]4_3.2_GraphPolydrug_1.30states'!Y51 -> 0.17102138
A78: 3.7 Benzodiazapine involvement in amphetamine poisoning VS. amphetamine involvement in benzodiazepine poisoning
B79: Percent benzodiazepine involvement out of all amphetamine overdose | C79: Percent amphetamine involvement out of all benzodiazepine overdose
A80: CO | B80: ='[1]4_3.2_GraphPolydrug_1.30states'!$V$12 -> 0.018348624 | C80: ='[1]4_3.2_GraphPolydrug_1.30states'!$Y$9 -> 0.0044994376
A81: KY | B81: ='[1]4_3.2_GraphPolydrug_1.30states'!$V$27 -> 0.041753653 | C81: ='[1]4_3.2_GraphPolydrug_1.30states'!$Y$24 -> 0.026560425
A82: LA | B82: ='4_3.2_GraphPolydrug_1.30states'!V72 -> 0.052631579 | C82: ='4_3.2_GraphPolydrug_1.30states'!Y69 -> 0.017977528
A83: NM | B83: ='[1]4_3.2_GraphPolydrug_1.30states'!$V$42 -> 0.028846154 | C83: ='[1]4_3.2_GraphPolydrug_1.30states'!$Y$39 -> 0.011881188
A84: TN | B84: ='[1]4_3.2_GraphPolydrug_1.30states'!V57 -> 0.070205479 | C84: ='[1]4_3.2_GraphPolydrug_1.30states'!Y54 -> 0.019477435
A90: 3.8 Benzodiazapine involvement in alcohol poisoning VS. alcohol involvement in benzodiazepine poisoning
B91: Percent benzodiazepine involvement out of all alcohol overdose | C91: Percent alcohol involvement out of all benzodiazepine overdose
A92: CO | B92: ='[1]4_3.2_GraphPolydrug_1.30states'!$Z$12 -> 0.062695925 | C92: ='[1]4_3.2_GraphPolydrug_1.30states'!$Y$13 -> 0.022497188
A93: KY | B93: ='[1]4_3.2_GraphPolydrug_1.30states'!$Z$27 -> 0.054347826 | C93: ='[1]4_3.2_GraphPolydrug_1.30states'!$Y$28 -> 0.013280212
A94: LA | B94: ='4_3.2_GraphPolydrug_1.30states'!Z72 -> 0.050359712 | C94: ='4_3.2_GraphPolydrug_1.30states'!Y73 -> 0.015730337
A95: NM | B95: ='[1]4_3.2_GraphPolydrug_1.30states'!$Z$42 -> 0.053921569 | C95: ='[1]4_3.2_GraphPolydrug_1.30states'!$Y$43 -> 0.021782178
A96: TN | B96: ='[1]4_3.2_GraphPolydrug_1.30states'!Z57 -> 0.097308489 | C96: ='[1]4_3.2_GraphPolydrug_1.30states'!Y58 -> 0.022327791

Sheet 4_1.3_Manner (2)
A1: Table 3. Frequency of intent of the drug overdose
A2: Frequency of Intent (Manner), CSTE Working Case Definition of Drug Poisoning (Allowing Sequale and Unknown Encounter Types)
B4: =[2]Table_4.0_Information!$A$4 -> Colorado | C4: =[2]Table_4.0_Information!$A$5 -> Kentucky | D4: Louisiana | E4: =[2]Table_4.0_Information!$A$6 -> New Mexico | F4: Tennessee | G4: =[2]Table_4.0_Information!$A$8 -> 5 add state in table 0 | H4: =[2]Table_4.0_Information!$A$9 -> 6 add state in table 0 | I4: =[2]Table_4.0_Information!$A$10 -> 7 add state in table 0 | J4: =[2]Table_4.0_Information!$A$11 -> 8 add state in table 0 | K4: =[2]Table_4.0_Information!$A$12 -> 9 add state in table 0 | L4: =[2]Table_4.0_Information!$A$13 -> 10 add state in table 0 | M4: =[2]Table_4.0_Information!$A$14 -> 11 add state in table 0 | N4: =[2]Table_4.0_Information!$A$15 -> 12 add state in table 0 | P4: Percent | Q4: =[2]Table_4.0_Information!$A$4 -> Colorado | R4: =[2]Table_4.0_Information!$A$5 -> Kentucky | S4: Louisiana | T4: =[2]Table_4.0_Information!$A$6 -> New Mexico | U4: Tennessee | V4: =[2]Table_4.0_Information!$A$8 -> 5 add state in table 0 | W4: =[2]Table_4.0_Information!$A$9 -> 6 add state in table 0 | X4: =[2]Table_4.0_Information!$A$10 -> 7 add state in table 0 | Y4: =[2]Table_4.0_Information!$A$11 -> 8 add state in table 0 | Z4: =[2]Table_4.0_Information!$A$12 -> 9 add state in table 0 | AA4: =[2]Table_4.0_Information!$A$13 -> 10 add state in table 0 | AB4: =[2]Table_4.0_Information!$A$14 -> 11 add state in table 0 | AC4: =[2]Table_4.0_Information!$A$15 -> 12 add state in table 0
A5: 1 Unintentional | B5: 4160 | C5: 25413 | D5: 5512 | E5: 2364 | F5: 9671 | P5: 1 Unintentional | Q5: =B5/B$11 -> 0.43010753 | R5: =C5/C$11 -> 0.6655754 | S5: =D5/D$11 -> 0.48821966 | T5: =E5/E$11 -> 0.5254501 | U5: =F5/F$11 -> 0.49284003 | V5: =G5/G$11 -> #DIV/0! | W5: =H5/H$11 -> #DIV/0! | X5: =I5/I$11 -> #DIV/0! | ... AC5: =N5/N$11 -> #DIV/0!
A6: 2 Self-Harm | B6: 2660 | C6: 5358 | D6: 2265 | E6: 1185 | F6: 4465 | P6: 2 Self-Harm | Q6: =B6/B$11 -> 0.27502068 | R6: =C6/C$11 -> 0.1403279 | S6: =D6/D$11 -> 0.20062002 | T6: =E6/E$11 -> 0.26339186 | U6: =F6/F$11 -> 0.22753911 | V6: =G6/G$11 -> #DIV/0! | W6: =H6/H$11 -> #DIV/0! | X6: =I6/I$11 -> #DIV/0! | ... AC6: =N6/N$11 -> #DIV/0!
A7: 3 Assault | B7: 20 | C7: 57 | D7: 19 | E7: 13 | F7: 34 | P7: 3 Assault | Q7: =B7/B$11 -> 0.0020678246 | R7: =C7/C$11 -> 0.00149285 | S7: =D7/D$11 -> 0.0016829052 | T7: =E7/E$11 -> 0.002889531 | U7: =F7/F$11 -> 0.0017326607 | V7: =G7/G$11 -> #DIV/0! | W7: =H7/H$11 -> #DIV/0! | X7: =I7/I$11 -> #DIV/0! | ... AC7: =N7/N$11 -> #DIV/0!
A8: 4 Undetermined | B8: 494 | C8: 1131 | D8: 378 | E8: 177 | F8: 552 | P8: 4 Undetermined | Q8: =B8/B$11 -> 0.051075269 | R8: =C8/C$11 -> 0.029621288 | S8: =D8/D$11 -> 0.033480957 | T8: =E8/E$11 -> 0.039342076 | U8: =F8/F$11 -> 0.028130255 | V8: =G8/G$11 -> #DIV/0! | W8: =H8/H$11 -> #DIV/0! | X8: =I8/I$11 -> #DIV/0! | ... AC8: =N8/N$11 -> #DIV/0!
A9: 5 Adverse Effect | B9: 2323 | C9: 6188 | D9: 3044 | E9: 755 | F9: 4846 | P9: 5 Adverse Effect | Q9: =B9/B$11 -> 0.24017783 | R9: =C9/C$11 -> 0.16206589 | S9: =D9/D$11 -> 0.26961913 | T9: =E9/E$11 -> 0.16781507 | U9: =F9/F$11 -> 0.2469551 | V9: =G9/G$11 -> #DIV/0! | W9: =H9/H$11 -> #DIV/0! | X9: =I9/I$11 -> #DIV/0! | ... AC9: =N9/N$11 -> #DIV/0!
A10: 6 Underdose | B10: 15 | C10: 35 | D10: 72 | E10: 5 | F10: 55 | P10: 6 Underdose | Q10: =B10/B$11 -> 0.0015508685 | R10: =C10/C$11 -> 0.0009166623 | S10: =D10/D$11 -> 0.0063773251 | T10: =E10/E$11 -> 0.0011113581 | U10: =F10/F$11 -> 0.0028028334 | V10: =G10/G$11 -> #DIV/0! | W10: =H10/H$11 -> #DIV/0! | X10: =I10/I$11 -> #DIV/0! | ... AC10: =N10/N$11 -> #DIV/0!
A11: Total | B11: =SUM(B5:B10) -> 9672 | C11: =SUM(C5:C10) -> 38182 | D11: 11290 | E11: =SUM(E5:E10) -> 4499 | F11: =SUM(F5:F10) -> 19623 | G11: =SUM(G5:G10) -> 0 | H11: =SUM(H5:H10) -> 0 | I11: =SUM(I5:I10) -> 0 | J11: =SUM(J5:J10) -> 0 | K11: =SUM(K5:K10) -> 0 | L11: =SUM(L5:L10) -> 0 | ... N11: =SUM(N5:N10) -> 0

Sheet 4_1.1a
A1: Table 1a. Number of drug T-codes per record, CSTE Proposed Case Definition 1. | C1: Table 1a. Number of drug T-codes per record, CSTE Proposed Case Definition 1.
A2: Frequency Distribution of Number of Drug Poisoning Codes Per Record, CSTE Working Case Definition of Drug Poisoning
A4: The FREQ Procedure
A6: NDRUGS | B6: Frequency
A7: 1 | B7: 6308 | C7: =B7/B$15 -> 0.86010363 | D7: 0.86010363
A8: 2 | B8: 751 | C8: =B8/B$15 -> 0.10239978 | D8: 0.10239978
A9: 3 | B9: 196 | C9: =B9/B$15 -> 0.026724843 | D9: 0.026724843
A10: 4 | B10: 56 | C10: =B10/B$15 -> 0.0076356695 | D10: 0.0076356695
A11: 5 | B11: 16 | C11: =B11/B$15 -> 0.0021816199 | D11: 0.0021816199
A12: 6 | B12: 4 | C12: =B12/B$15 -> 0.00054540496 | D12: 0.00054540496
A13: 7 | B13: 2 | C13: =B13/B$15 -> 0.00027270248 | D13: 0.00027270248
A14: 8 | B14: 1 | C14: =B14/B$15 -> 0.00013635124 | D14: 0.00013635124
B15: =SUM(B7:B14) -> 7334
B18: Table 1a. Number of drug T-codes per record, CSTE Proposed Case Definition 1.
A19: State | B19: 1 | C19: 2 | D19: 3 | E19: 4 | F19: 5 | G19: 6 | H19: 7 | I19: 8+ | J19: Total
A20: CO | B20: 6308 | C20: 751 | D20: 196 | E20: 56 | F20: 16 | G20: 4 | H20: 2 | I20: 1 | J20: =SUM(B20:I20) -> 7334
A21: KY | B21: 28767 | C21: 2300 | D21: 620 | E21: 143 | F21: 42 | G21: 27 | H21: 11 | I21: 9 | J21: =SUM(B21:I21) -> 31919
A22: LA | B22: 3872 | C22: 3208 | D22: 762 | E22: 220 | F22: 75 | G22: 21 | H22: 9 | I22: 7 | J22: =SUM(B22:I22) -> 8174
A23: NM | B23: 2955 | C23: 583 | D23: 149 | E23: 34 | F23: 15 | G23: 2 | H23: 0 | I23: 1 | J23: =SUM(B23:I23) -> 3739
A24: TN | B24: 12517 | C24: 1585 | D24: 448 | E24: 118 | F24: 34 | G24: 15 | H24: 2 | I24: 3 | J24: =SUM(B24:I24) -> 14722
B27: Table 1a. Number of drug T-codes per record, CSTE Proposed Case Definition 1.
A28: State | B28: 1 code | C28: 2 codes | D28: 3 codes | E28: 4 codes | F28: 5 codes | G28: 6 codes | H28: 7 codes | I28: 8+ codes | J28: Overall % >1 drug code
A29: CO | B29: =B20/J20 -> 0.86010363 | C29: =C20/J20 -> 0.10239978 | D29: =D20/J20 -> 0.026724843 | E29: =E20/J20 -> 0.0076356695 | F29: =F20/J20 -> 0.0021816199 | G29: =G20/J20 -> 0.00054540496 | H29: =H20/J20 -> 0.00027270248 | I29: =I20/J20 -> 0.00013635124 | J29: =J20/J20 -> 1
A30: KY | B30: =B21/J21 -> 0.90125004 | C30: =C21/J21 -> 0.072057395 | D30: =D21/J21 -> 0.019424167 | E30: =E21/J21 -> 0.0044800902 | F30: =F21/J21 -> 0.0013158307 | G30: =G21/J21 -> 0.00084589116 | H30: =H21/J21 -> 0.00034462233 | I30: =I21/J21 -> 0.00028196372 | J30: =J21/J21 -> 1
A31: LA | B31: =B22/J22 -> 0.47369709 | C31: =C22/J22 -> 0.39246391 | D31: =D22/J22 -> 0.093222413 | E31: =E22/J22 -> 0.026914607 | F31: =F22/J22 -> 0.0091754343 | G31: =G22/J22 -> 0.0025691216 | H31: =H22/J22 -> 0.0011010521 | I31: =I22/J22 -> 0.00085637387 | J31: =J22/J22 -> 1
A32: NM | B32: =B23/J23 -> 0.79031827 | C32: =C23/J23 -> 0.15592404 | D32: =D23/J23 -> 0.039850227 | E32: =E23/J23 -> 0.0090933405 | F32: =F23/J23 -> 0.0040117679 | G32: =G23/J23 -> 0.00053490238 | H32: =H23/J23 -> 0 | I32: =I23/J23 -> 0.00026745119 | J32: =J23/J23 -> 1
A33: TN | B33: =B24/J24 -> 0.85022415 | C33: =C24/J24 -> 0.107662 | D33: =D24/J24 -> 0.030430648 | E33: =E24/J24 -> 0.0080152153 | F33: =F24/J24 -> 0.0023094688 | G33: =G24/J24 -> 0.0010188833 | H33: =H24/J24 -> 0.00013585111 | I33: =I24/J24 -> 0.00020377666 | J33: =J24/J24 -> 1

Sheet Sheet1

Sheet 4_3.2_Polydrug
A1: Table 3.2: Polydrug Overdose - Non-Fatal
B2: =Table_4.0_Information!$A$4 -> Colorado
A3: Row Substance | B3: Cannabis | C3: Opioids | D3: _____Non-heroin opioids (Alone or in combination) | E3: _____Heroin (Alone or in combination) | F3: Psychostimulants | G3: _____Ampthetamines | H3: _____Non-Ampthetamines | I3: Cocaine | J3: Benzodiazepines | K3: Alcohol Toxicity | L3: Unspecified Psychodysleptics | M3: Unspecified/Other Psychotropics
A4: Cannabis | B4: 275 | C4: 7 | D4: 5 | E4: 2 | F4: 5 | G4: 5 | I4: 4 | J4: 6 | K4: 4 | L4: 1
A5: Opioids | B5: 7 | C5: 1768 | D5: 1016 | E5: 756 | F5: 25 | G5: 24 | H5: 1 | I5: 6 | J5: 105 | K5: 10
A6: _____Non-heroin opioids (Alone or in combination) | B6: 5 | C6: 1016 | D6: 1016 | E6: 4 | F6: 9 | G6: 8 | H6: 1 | I6: 2 | J6: 100 | K6: 10
A7: _____Heroin (Alone or in combination) | B7: 2 | C7: 756 | D7: 4 | E7: 756 | F7: 16 | G7: 16 | I7: 4 | J7: 5
A8: Psychostimulants | B8: 5 | C8: 25 | D8: 9 | E8: 16 | F8: 306 | G8: 218 | H8: 90 | I8: 3 | J8: 5 | K8: 1 | L8: 1
A9: _____Ampthetamines | B9: 5 | C9: 24 | D9: 8 | E9: 16 | F9: 218 | G9: 218 | H9: 2 | I9: 3 | J9: 4 | K9: 1
A10: _____Non-Ampthetamines | C10: 1 | D10: 1 | F10: 90 | G10: 2 | H10: 90 | J10: 1 | L10: 1
A11: Cocaine | B11: 4 | C11: 6 | D11: 2 | E11: 4 | F11: 3 | G11: 3 | I11: 75 | J11: 2 | K11: 2
A12: Benzodiazepines | B12: 6 | C12: 105 | D12: 100 | E12: 5 | F12: 5 | G12: 4 | H12: 1 | I12: 2 | J12: 889 | K12: 20
A13: Alcohol Toxicity | B13: 4 | C13: 10 | D13: 10 | F13: 1 | G13: 1 | I13: 2 | J13: 20 | K13: 319
A14: Unspecified Psychodysleptics | B14: 1 | F14: 1 | H14: 1 | L14: 15
A15: Unspecified/Other Psychotropics | M15: 8
B16: =Table_4.0_Information!$A$5 -> Kentucky
A17: Row Substance | B17: Cannabis | C17: Opioids | D17: _____Non-heroin opioids (Alone or in combination) | E17: _____Heroin (Alone or in combination) | F17: Psychostimulants | G17: _____Ampthetamines | H17: _____Non-Ampthetamines | I17: Cocaine | J17: Benzodiazepines | K17: Alcohol Toxicity | L17: Unspecified Psychodysleptics | M17: Unspecified/Other Psychotropics
A18: Cannabis | B18: 637 | C18: 34 | D18: 20 | E18: 14 | F18: 37 | G18: 36 | H18: ** | I18: 7 | J18: 28 | K18: ** | L18: **
A19: Opioids | B19: 34 | C19: 16804 | D19: 4341 | E19: 12535 | F19: 247 | G19: 247 | I19: 58 | J19: 441 | K19: 24 | M19: **
A20: _____Non-heroin opioids (Alone or in combination) | B20: 20 | C20: 4341 | D20: 4341 | E20: 72 | F20: 84 | G20: 84 | I20: 16 | J20: 340 | K20: 10 | M20: **
A21: _____Heroin (Alone or in combination) | B21: 14 | C21: 12535 | D21: 72 | E21: 12535 | F21: 163 | G21: 163 | I21: 42 | J21: 101 | K21: 14
A22: Psychostimulants | B22: 37 | C22: 247 | D22: 84 | E22: 163 | F22: 1659 | G22: 1437 | H22: 226 | I22: 20 | J22: 60 | K22: ** | L22: ** | M22: **
A23: _____Ampthetamines | B23: 36 | C23: 247 | D23: 84 | E23: 163 | F23: 1437 | G23: 1437 | H23: ** | I23: 20 | J23: 60 | K23: ** | L23: ** | M23: **
A24: _____Non-Ampthetamines | B24: ** | F24: 226 | G24: ** | H24: 226
A25: Cocaine | B25: 7 | C25: 58 | D25: 16 | E25: 42 | F25: 20 | G25: 20 | I25: 248 | J25: 15 | K25: ** | L25: **
A26: Benzodiazepines | B26: 28 | C26: 441 | D26: 340 | E26: 101 | F26: 60 | G26: 60 | I26: 15 | J26: 2259 | K26: 30 | M26: 5
A27: Alcohol Toxicity | B27: ** | C27: 24 | D27: 10 | E27: 14 | F27: ** | G27: ** | I27: ** | J27: 30 | K27: 552 | M27: **
A28: Unspecified Psychodysleptics | B28: ** | F28: ** | G28: ** | I28: ** | L28: 28
A29: Unspecified/Other Psychotropics | C29: ** | D29: ** | F29: ** | G29: ** | J29: 5 | K29: ** | M29: 46
B30: =Table_4.0_Information!$A$6 -> New Mexico
A31: Row Substance | B31: Cannabis | C31: Opioids | D31: _____Non-heroin opioids (Alone or in combination) | E31: _____Heroin (Alone or in combination) | F31: Psychostimulants | G31: _____Ampthetamines | H31: _____Non-Ampthetamines | I31: Cocaine | J31: Benzodiazepines | K31: Alcohol Toxicity | L31: Unspecified Psychodysleptics | M31: Unspecified/Other Psychotropics
A32: Cannabis | B32: 59 | C32: 8 | D32: 8 | F32: 3 | G32: 3
A33: Opioids | B33: 8 | C33: 1423 | D33: 777 | E33: 657 | F33: 27 | G33: 27 | I33: 10 | J33: 80 | K33: 17 | L33: 1
A34: _____Non-heroin opioids (Alone or in combination) | B34: 8 | C34: 777 | D34: 777 | E34: 11 | F34: 10 | G34: 10 | I34: 3 | J34: 74 | K34: 11
A35: _____Heroin (Alone or in combination) | C35: 657 | D35: 11 | E35: 657 | F35: 17 | G35: 17 | I35: 7 | J35: 6 | K35: 6 | L35: 1
A36: Psychostimulants | B36: 3 | C36: 27 | D36: 10 | E36: 17 | F36: 240 | G36: 208 | H36: 33 | I36: 5 | J36: 6 | K36: 1
A37: _____Ampthetamines | B37: 3 | C37: 27 | D37: 10 | E37: 17 | F37: 208 | G37: 208 | H37: 1 | I37: 5 | J37: 6 | K37: 1
A38: _____Non-Ampthetamines | F38: 33 | G38: 1 | H38: 33
A39: Cocaine | C39: 10 | D39: 3 | E39: 7 | F39: 5 | G39: 5 | I39: 48 | K39: 3
A40: Benzodiazepines | C40: 80 | D40: 74 | E40: 6 | F40: 6 | G40: 6 | J40: 505 | K40: 11
A41: Alcohol Toxicity | C41: 17 | D41: 11 | E41: 6 | F41: 1 | G41: 1 | I41: 3 | J41: 11 | K41: 204
A42: Unspecified Psychodysleptics | C42: 1 | E42: 1 | L42: 6
A43: Unspecified/Other Psychotropics | M43: 4
B44: =Table_4.0_Information!$A$7 -> 4 add state in table 0
A45: Row Substance | B45: Cannabis | C45: Opioids | D45: _____Non-heroin opioids (Alone or in combination) | E45: _____Heroin (Alone or in combination) | F45: Psychostimulants | G45: _____Ampthetamines | H45: _____Non-Ampthetamines | I45: Cocaine | J45: Benzodiazepines | K45: Alcohol Toxicity | L45: Unspecified Psychodysleptics | M45: Unspecified/Other Psychotropics
A46: Cannabis
A47: Opioids
A48: _____Non-heroin opioids (Alone or in combination)
A49: _____Heroin (Alone or in combination)
A50: Psychostimulants
A51: _____Ampthetamines
A52: _____Non-Ampthetamines
A53: Cocaine
A54: Benzodiazepines
A55: Alcohol Toxicity
A56: Unspecified Psychodysleptics
A57: Unspecified/Other Psychotropics
B58: =Table_4.0_Information!$A$8 -> 5 add state in table 0
A59: Row Substance | B59: Cannabis | C59: Opioids | D59: _____Non-heroin opioids (Alone or in combination) | E59: _____Heroin (Alone or in combination) | F59: Psychostimulants | G59: _____Ampthetamines | H59: _____Non-Ampthetamines | I59: Cocaine | J59: Benzodiazepines | K59: Alcohol Toxicity | L59: Unspecified Psychodysleptics | M59: Unspecified/Other Psychotropics
A60: Cannabis
A61: Opioids
A62: _____Non-heroin opioids (Alone or in combination)
A63: _____Heroin (Alone or in combination)
A64: Psychostimulants
A65: _____Ampthetamines
A66: _____Non-Ampthetamines
A67: Cocaine
A68: Benzodiazepines
A69: Alcohol Toxicity
A70: Unspecified Psychodysleptics
A71: Unspecified/Other Psychotropics
B72: =Table_4.0_Information!$A$9 -> 6 add state in table 0
A73: Row Substance | B73: Cannabis | C73: Opioids | D73: _____Non-heroin opioids (Alone or in combination) | E73: _____Heroin (Alone or in combination) | F73: Psychostimulants | G73: _____Ampthetamines | H73: _____Non-Ampthetamines | I73: Cocaine | J73: Benzodiazepines | K73: Alcohol Toxicity | L73: Unspecified Psychodysleptics | M73: Unspecified/Other Psychotropics
A74: Cannabis
A75: Opioids
A76: _____Non-heroin opioids (Alone or in combination)
A77: _____Heroin (Alone or in combination)
A78: Psychostimulants
A79: _____Ampthetamines
A80: _____Non-Ampthetamines
A81: Cocaine
A82: Benzodiazepines
A83: Alcohol Toxicity
A84: Unspecified Psychodysleptics
A85: Unspecified/Other Psychotropics
B86: =Table_4.0_Information!$A$10 -> 7 add state in table 0
A87: Row Substance | B87: Cannabis | C87: Opioids | D87: _____Non-heroin opioids (Alone or in combination) | E87: _____Heroin (Alone or in combination) | F87: Psychostimulants | G87: _____Ampthetamines | H87: _____Non-Ampthetamines | I87: Cocaine | J87: Benzodiazepines | K87: Alcohol Toxicity | L87: Unspecified Psychodysleptics | M87: Unspecified/Other Psychotropics
A88: Cannabis
A89: Opioids
A90: _____Non-heroin opioids (Alone or in combination)
A91: _____Heroin (Alone or in combination)
A92: Psychostimulants
A93: _____Ampthetamines
A94: _____Non-Ampthetamines
A95: Cocaine
A96: Benzodiazepines
A97: Alcohol Toxicity
A98: Unspecified Psychodysleptics
A99: Unspecified/Other Psychotropics
B100: =Table_4.0_Information!$A$11 -> 8 add state in table 0
...

Sheet 4_3.2_GraphPolydrug
A1: Table 3.2: Polydrug Overdose - Non-Fatal
B2: =Table_4.0_Information!$A$4 -> Colorado | P2: =Table_4.0_Information!$A$4 -> Colorado
A3: Row Substance | B3: Cannabis | C3: Opioids | D3: _____Non-heroin opioids (Alone or in combination) | E3: _____Heroin (Alone or in combination) | F3: Psychostimulants | G3: _____Ampthetamines | H3: _____Non-Ampthetamines | I3: Cocaine | J3: Benzodiazepines | K3: Alcohol Toxicity | L3: Unspecified Psychodysleptics | M3: Unspecified/Other Psychotropics | Q3: Cannabis | R3: Opioids | S3: Non-heroin opioids (Alone or in combination) | T3: Heroin (Alone or in combination) | U3: Psychostimulants | V3: Ampthetamines | W3: Non-Ampthetamines | X3: Cocaine | Y3: Benzodiazepines | Z3: Alcohol Toxicity | AA3: Unspecified Psychodysleptics | AB3: Unspecified/ Other Psychotropics
A4: Cannabis | B4: 275 | C4: 7 | D4: 5 | E4: 2 | F4: 5 | G4: 5 | I4: 4 | J4: 6 | K4: 4 | L4: 1 | N4: =SUM(B4:M4) -> 314 | P4: Cannabis | Q4: =B4/314 -> 0.87579618 | R4: =C4/3718 -> 0.0018827327 | S4: =D4/2171 -> 0.0023030861 | T4: =E4/1559 -> 0.0012828736 | U4: =F4/679 -> 0.0073637703 | V4: =G4/499 -> 0.01002004 | W4: =H4/186 -> 0 | X4: =I4/101 -> 0.03960396 | Y4: =J4/1137 -> 0.0052770449 | Z4: =K4/367 -> 0.010899183 | AA4: =L4/18 -> 0.055555556 | AB4: =M4/8 -> 0
A5: Opioids | B5: 7 | C5: 1768 | D5: 1016 | E5: 756 | F5: 25 | G5: 24 | H5: 1 | I5: 6 | J5: 105 | K5: 10 | N5: =SUM(B5:M5) -> 3718 | P5: Opioids | Q5: =B5/314 -> 0.022292994 | R5: =C5/3718 -> 0.47552448 | S5: =D5/2171 -> 0.4679871 | T5: =E5/1559 -> 0.48492623 | U5: =F5/679 -> 0.036818851 | V5: =G5/499 -> 0.048096192 | W5: =H5/186 -> 0.0053763441 | X5: =I5/101 -> 0.059405941 | Y5: =J5/1137 -> 0.092348285 | Z5: =K5/367 -> 0.027247956 | AA5: =L5/18 -> 0 | AB5: =M5/8 -> 0
A6: _____Non-heroin opioids (Alone or in combination) | B6: 5 | C6: 1016 | D6: 1016 | E6: 4 | F6: 9 | G6: 8 | H6: 1 | I6: 2 | J6: 100 | K6: 10 | N6: =SUM(B6:M6) -> 2171 | P6: Non-heroin opioids (Alone or in combination) | Q6: =B6/314 -> 0.015923567 | R6: =C6/3718 -> 0.2732652 | S6: =D6/2171 -> 0.4679871 | T6: =E6/1559 -> 0.0025657473 | U6: =F6/679 -> 0.013254786 | V6: =G6/499 -> 0.016032064 | W6: =H6/186 -> 0.0053763441 | X6: =I6/101 -> 0.01980198 | Y6: =J6/1137 -> 0.087950748 | Z6: =K6/367 -> 0.027247956 | AA6: =L6/18 -> 0 | AB6: =M6/8 -> 0
A7: _____Heroin (Alone or in combination) | B7: 2 | C7: 756 | D7: 4 | E7: 756 | F7: 16 | G7: 16 | I7: 4 | J7: 5 | N7: =SUM(B7:M7) -> 1559 | P7: Heroin (Alone or in combination) | Q7: =B7/314 -> 0.0063694268 | R7: =C7/3718 -> 0.20333513 | S7: =D7/2171 -> 0.0018424689 | T7: =E7/1559 -> 0.48492623 | U7: =F7/679 -> 0.023564065 | V7: =G7/499 -> 0.032064128 | W7: =H7/186 -> 0 | X7: =I7/101 -> 0.03960396 | Y7: =J7/1137 -> 0.0043975374 | Z7: =K7/367 -> 0 | AA7: =L7/18 -> 0 | AB7: =M7/8 -> 0
A8: Psychostimulants | B8: 5 | C8: 25 | D8: 9 | E8: 16 | F8: 306 | G8: 218 | H8: 90 | I8: 3 | J8: 5 | K8: 1 | L8: 1 | N8: =SUM(B8:M8) -> 679 | P8: Psychostimulants | Q8: =B8/314 -> 0.015923567 | R8: =C8/3718 -> 0.0067240452 | S8: =D8/2171 -> 0.004145555 | T8: =E8/1559 -> 0.010262989 | U8: =F8/679 -> 0.45066274 | V8: =G8/499 -> 0.43687375 | W8: =H8/186 -> 0.48387097 | X8: =I8/101 -> 0.02970297 | Y8: =J8/1137 -> 0.0043975374 | Z8: =K8/367 -> 0.0027247956 | AA8: =L8/18 -> 0.055555556 | AB8: =M8/8 -> 0
