Workbook
Name IDX: '4_1.4_Other_Codes'!$A$1

Sheet Table_4.0_Information
A1: Table 0: Information_About_Jurisdictions
A3: Juridiction | B3: Date Submitted | C3: Number of Primary and Secondary Fields | D3: Date Range | E3: Note
A4: Colorado
A5: Kentucky
A6: New Mexico
A7: 4 add state in table 0
A8: 5 add state in table 0
A9: 6 add state in table 0
A10: 7 add state in table 0
A11: 8 add state in table 0
A12: 9 add state in table 0
A13: 10 add state in table 0
A14: 11 add state in table 0
A15: 12 add state in table 0

Sheet 4_1.1b_Codes_List
A1: Table 1b. Frequency of individual drug T-codes
A2: Frequency Distribution of Individual Drug Poisoning Codes, CSTE Working Case Definition of Drug Poisoning
A4: Poisoning by, adverse effect of and underdosing of | B4: =Table_4.0_Information!$A$4 -> Colorado | C4: =Table_4.0_Information!$A$5 -> Kentucky | D4: Louisana | E4: =Table_4.0_Information!$A$6 -> New Mexico | F4: Tennessee | G4: =Table_4.0_Information!$A$8 -> 5 add state in table 0 | H4: =Table_4.0_Information!$A$9 -> 6 add state in table 0 | I4: =Table_4.0_Information!$A$10 -> 7 add state in table 0 | J4: =Table_4.0_Information!$A$11 -> 8 add state in table 0 | K4: =Table_4.0_Information!$A$12 -> 9 add state in table 0 | L4: =Table_4.0_Information!$A$13 -> 10 add state in table 0 | M4: =Table_4.0_Information!$A$14 -> 11 add state in table 0 | N4: =Table_4.0_Information!$A$15 -> 12 add state in table 0 | P4: Percent | Q4: =Table_4.0_Information!$A$4 -> Colorado | R4: =Table_4.0_Information!$A$5 -> Kentucky | S4: Louisiana | T4: =Table_4.0_Information!$A$6 -> New Mexico | U4: Tenneesee | V4: =Table_4.0_Information!$A$8 -> 5 add state in table 0 | W4: =Table_4.0_Information!$A$9 -> 6 add state in table 0 | X4: =Table_4.0_Information!$A$10 -> 7 add state in table 0 | Y4: =Table_4.0_Information!$A$11 -> 8 add state in table 0 | Z4: =Table_4.0_Information!$A$12 -> 9 add state in table 0 | AA4: =Table_4.0_Information!$A$13 -> 10 add state in table 0 | AB4: =Table_4.0_Information!$A$14 -> 11 add state in table 0 | AC4: =Table_4.0_Information!$A$15 -> 12 add state in table 0
A5: systemic antibiotics | B5: 59 | C5: 159 | D5: 71 | E5: 22 | F5: 100 | O5: T36 antibiotics… | P5: T36 | Q5: =B5/B$20 -> 0.0067443987 | R5: =C5/C$20 -> 0.0043764278 | S5: =D5/D$20 -> 0.005044405 | T5: =E5/E$20 -> 0.0045842884 | U5: =F5/F$20 -> 0.0056160845 | V5: =G5/G$20 -> #DIV/0! | W5: =H5/H$20 -> #DIV/0! | X5: =I5/I$20 -> #DIV/0! | ... AC5: =N5/N$20 -> #DIV/0!
A6: other systemic anti- infectives and antiparasitics | B6: 19 | C6: 69 | D6: 34 | E6: 10 | F6: 42 | O6: T37 ...anti-infectives and antiparasitics | P6: T37 | Q6: =B6/B$20 -> 0.002171925 | R6: =C6/C$20 -> 0.0018992045 | S6: =D6/D$20 -> 0.0024156306 | T6: =E6/E$20 -> 0.0020837675 | U6: =F6/F$20 -> 0.0023587555 | V6: =G6/G$20 -> #DIV/0! | W6: =H6/H$20 -> #DIV/0! | X6: =I6/I$20 -> #DIV/0! | ... AC6: =N6/N$20 -> #DIV/0!
A7: hormones and their synthetic substitutes and antagonists, not elsewhere classified | B7: 233 | C7: 676 | D7: 330 | E7: 151 | F7: 436 | O7: T38 hormones... | P7: T38 | Q7: =B7/B$20 -> 0.026634659 | R7: =C7/C$20 -> 0.0186067 | S7: =D7/D$20 -> 0.023445826 | T7: =E7/E$20 -> 0.031464889 | U7: =F7/F$20 -> 0.024486128 | V7: =G7/G$20 -> #DIV/0! | W7: =H7/H$20 -> #DIV/0! | X7: =I7/I$20 -> #DIV/0! | ... AC7: =N7/N$20 -> #DIV/0!
A8: nonopioid analgesics, antipyretics and antirheumatics | B8: 1314 | C8: 2081 | D8: 1234 | E8: 534 | F8: 1715 | O8: T39 nonopioid analgesics... | P8: T39 | Q8: =B8/B$20 -> 0.15020576 | R8: =C8/C$20 -> 0.057278908 | S8: =D8/D$20 -> 0.087673179 | T8: =E8/E$20 -> 0.11127318 | U8: =F8/F$20 -> 0.096315849 | V8: =G8/G$20 -> #DIV/0! | W8: =H8/H$20 -> #DIV/0! | X8: =I8/I$20 -> #DIV/0! | ... AC8: =N8/N$20 -> #DIV/0!
A9: narcotics and psychodysleptics [hallucinogens] | B9: 2000 | C9: 17043 | D9: 3867 | E9: 1438 | F9: 4216 | O9: T40 narcotics and hallucinogens | P9: T40 | Q9: =B9/B$20 -> 0.22862369 | R9: =C9/C$20 -> 0.46910352 | S9: =D9/D$20 -> 0.27474245 | T9: =E9/E$20 -> 0.29964576 | U9: =F9/F$20 -> 0.23677412 | V9: =G9/G$20 -> #DIV/0! | W9: =H9/H$20 -> #DIV/0! | X9: =I9/I$20 -> #DIV/0! | ... AC9: =N9/N$20 -> #DIV/0!
A10: anesthetics and therapeutic gases | B10: 23 | C10: 28 | D10: 17 | E10: 8 | F10: 24 | O10: T41 anesthetics… | P10: T41 | Q10: =B10/B$20 -> 0.0026291724 | R10: =C10/C$20 -> 0.0007706917 | S10: =D10/D$20 -> 0.0012078153 | T10: =E10/E$20 -> 0.001667014 | U10: =F10/F$20 -> 0.0013478603 | V10: =G10/G$20 -> #DIV/0! | W10: =H10/H$20 -> #DIV/0! | X10: =I10/I$20 -> #DIV/0! | ... AC10: =N10/N$20 -> #DIV/0!
A11: antiepileptic, sedative- hypnotic and antiparkinsonism drugs | B11: 1277 | C11: 4097 | D11: 2492 | E11: 767 | F11: 3233 | O11: T42 antiepileptic... | P11: T42 | Q11: =B11/B$20 -> 0.14597622 | R11: =C11/C$20 -> 0.11276871 | S11: =D11/D$20 -> 0.17705151 | T11: =E11/E$20 -> 0.15982496 | U11: =F11/F$20 -> 0.18156801 | V11: =G11/G$20 -> #DIV/0! | W11: =H11/H$20 -> #DIV/0! | X11: =I11/I$20 -> #DIV/0! | ... AC11: =N11/N$20 -> #DIV/0!
A12: psychotropic drugs, not elsewhere classified | B12: 1316 | C12: 4204 | D12: 2048 | E12: 740 | F12: 2507 | O12: T43 psychotropics, NEC | P12: T43 | Q12: =B12/B$20 -> 0.15043439 | R12: =C12/C$20 -> 0.11571385 | S12: =D12/D$20 -> 0.14550622 | T12: =E12/E$20 -> 0.15419879 | U12: =F12/F$20 -> 0.14079524 | V12: =G12/G$20 -> #DIV/0! | W12: =H12/H$20 -> #DIV/0! | X12: =I12/I$20 -> #DIV/0! | ... AC12: =N12/N$20 -> #DIV/0!
A13: drugs primarily affecting the autonomic nervous system | B13: 224 | C13: 608 | D13: 278 | E13: 98 | F13: 443 | O13: T44 autonomic nervous system | P13: T44 | Q13: =B13/B$20 -> 0.025605853 | R13: =C13/C$20 -> 0.01673502 | S13: =D13/D$20 -> 0.019751332 | T13: =E13/E$20 -> 0.020420921 | U13: =F13/F$20 -> 0.024879254 | V13: =G13/G$20 -> #DIV/0! | W13: =H13/H$20 -> #DIV/0! | X13: =I13/I$20 -> #DIV/0! | ... AC13: =N13/N$20 -> #DIV/0!
A14: primarily systemic and hematological agents, not elsewhere classified | B14: 479 | C14: 1145 | D14: 671 | E14: 236 | F14: 902 | O14: T45 Systemic/hematological, NEC | P14: T45 | Q14: =B14/B$20 -> 0.054755373 | R14: =C14/C$20 -> 0.031515785 | S14: =D14/D$20 -> 0.047673179 | T14: =E14/E$20 -> 0.049176912 | U14: =F14/F$20 -> 0.050657082 | V14: =G14/G$20 -> #DIV/0! | W14: =H14/H$20 -> #DIV/0! | X14: =I14/I$20 -> #DIV/0! | ... AC14: =N14/N$20 -> #DIV/0!
A15: agents primarily affecting the cardiovascular system | B15: 220 | C15: 943 | D15: 518 | E15: 110 | F15: 681 | O15: T46 cardiovascular | P15: T46 | Q15: =B15/B$20 -> 0.025148605 | R15: =C15/C$20 -> 0.025955795 | S15: =D15/D$20 -> 0.036802842 | T15: =E15/E$20 -> 0.022921442 | U15: =F15/F$20 -> 0.038245535 | V15: =G15/G$20 -> #DIV/0! | W15: =H15/H$20 -> #DIV/0! | X15: =I15/I$20 -> #DIV/0! | ... AC15: =N15/N$20 -> #DIV/0!
A16: agents primarily affecting the gastrointestinal system | B16: 64 | C16: 155 | D16: 68 | E16: 28 | F16: 111 | O16: T47 gastrointestinal | P16: T47 | Q16: =B16/B$20 -> 0.0073159579 | R16: =C16/C$20 -> 0.004266329 | S16: =D16/D$20 -> 0.0048312611 | T16: =E16/E$20 -> 0.0058345489 | U16: =F16/F$20 -> 0.0062338538 | V16: =G16/G$20 -> #DIV/0! | W16: =H16/H$20 -> #DIV/0! | X16: =I16/I$20 -> #DIV/0! | ... AC16: =N16/N$20 -> #DIV/0!
... A19: diuretics and other and unspecified drugs, medicaments and biological substances | B19: 1124 | C19: 4282 | D19: 2101 | E19: 511 | F19: 2744 | O19: T50 diuretics and OU | P19: T50 | Q19: =B19/B$20 -> 0.12848651 | R19: =C19/C$20 -> 0.11786078 | S19: =D19/D$20 -> 0.14927176 | T19: =E19/E$20 -> 0.10648052 | U19: =F19/F$20 -> 0.15410536 | V19: =G19/G$20 -> #DIV/0! | W19: =H19/H$20 -> #DIV/0! | X19: =I19/I$20 -> #DIV/0! | ... AC19: =N19/N$20 -> #DIV/0!
A20: Total | B20: =SUM(B5:B19) -> 8748 | C20: =SUM(C5:C19) -> 36331 | D20: =SUM(D5:D19) -> 14075 | E20: =SUM(E5:E19) -> 4799 | F20: =SUM(F5:F19) -> 17806 | G20: =SUM(G5:G19) -> 0 | H20: =SUM(H5:H19) -> 0 | I20: =SUM(I5:I19) -> 0 | ... N20: =SUM(N5:N19) -> 0
U26: T36
U27: T37
U28: T38
U29: T39
U30: T40
U31: T41
U32: T42
U33: T43
U34: T44
U35: T45
U36: T46
U37: T47
... U40: T50
A161: Montana Hospital Discharge Data System; Oct 1, 2015-Dec 31, 2016

Sheet 4_1.3_Manner
A1: Table 3. Frequency of intent of the drug overdose
A2: Frequency of Intent (Manner), CSTE Working Case Definition of Drug Poisoning (Allowing Sequale and Unknown Encounter Types)
B4: =Table_4.0_Information!$A$4 -> Colorado | C4: =Table_4.0_Information!$A$5 -> Kentucky | D4: Louisiana | E4: =Table_4.0_Information!$A$6 -> New Mexico | F4: Tennessee | G4: =Table_4.0_Information!$A$8 -> 5 add state in table 0 | H4: =Table_4.0_Information!$A$9 -> 6 add state in table 0 | I4: =Table_4.0_Information!$A$10 -> 7 add state in table 0 | J4: =Table_4.0_Information!$A$11 -> 8 add state in table 0 | K4: =Table_4.0_Information!$A$12 -> 9 add state in table 0 | L4: =Table_4.0_Information!$A$13 -> 10 add state in table 0 | M4: =Table_4.0_Information!$A$14 -> 11 add state in table 0 | N4: =Table_4.0_Information!$A$15 -> 12 add state in table 0 | P4: Percent | Q4: =Table_4.0_Information!$A$4 -> Colorado | R4: =Table_4.0_Information!$A$5 -> Kentucky | S4: Louisiana | T4: =Table_4.0_Information!$A$6 -> New Mexico | U4: Tennessee | V4: =Table_4.0_Information!$A$8 -> 5 add state in table 0 | W4: =Table_4.0_Information!$A$9 -> 6 add state in table 0 | X4: =Table_4.0_Information!$A$10 -> 7 add state in table 0 | Y4: =Table_4.0_Information!$A$11 -> 8 add state in table 0 | Z4: =Table_4.0_Information!$A$12 -> 9 add state in table 0 | AA4: =Table_4.0_Information!$A$13 -> 10 add state in table 0 | AB4: =Table_4.0_Information!$A$14 -> 11 add state in table 0 | AC4: =Table_4.0_Information!$A$15 -> 12 add state in table 0
A5: 1 Unintentional | B5: 4160 | C5: 25413 | D5: 5512 | E5: 2364 | F5: 9671 | P5: 1 Unintentional | Q5: =B5/B$11 -> 0.43010753 | R5: =C5/C$11 -> 0.6655754 | S5: =D5/D$11 -> 0.48821966 | T5: =E5/E$11 -> 0.5254501 | U5: =F5/F$11 -> 0.49284003 | V5: =G5/G$11 -> #DIV/0! | W5: =H5/H$11 -> #DIV/0! | X5: =I5/I$11 -> #DIV/0! | ... AC5: =N5/N$11 -> #DIV/0!
A6: 2 Self-Harm | B6: 2660 | C6: 5358 | D6: 2265 | E6: 1185 | F6: 4465 | P6: 2 Self-Harm | Q6: =B6/B$11 -> 0.27502068 | R6: =C6/C$11 -> 0.1403279 | S6: =D6/D$11 -> 0.20062002 | T6: =E6/E$11 -> 0.26339186 | U6: =F6/F$11 -> 0.22753911 | V6: =G6/G$11 -> #DIV/0! | W6: =H6/H$11 -> #DIV/0! | X6: =I6/I$11 -> #DIV/0! | ... AC6: =N6/N$11 -> #DIV/0!
A7: 3 Assault | B7: 20 | C7: 57 | D7: 19 | E7: 13 | F7: 34 | P7: 3 Assault | Q7: =B7/B$11 -> 0.0020678246 | R7: =C7/C$11 -> 0.00149285 | S7: =D7/D$11 -> 0.0016829052 | T7: =E7/E$11 -> 0.002889531 | U7: =F7/F$11 -> 0.0017326607 | V7: =G7/G$11 -> #DIV/0! | W7: =H7/H$11 -> #DIV/0! | X7: =I7/I$11 -> #DIV/0! | ... AC7: =N7/N$11 -> #DIV/0!
A8: 4 Undetermined | B8: 494 | C8: 1131 | D8: 378 | E8: 177 | F8: 552 | P8: 4 Undetermined | Q8: =B8/B$11 -> 0.051075269 | R8: =C8/C$11 -> 0.029621288 | S8: =D8/D$11 -> 0.033480957 | T8: =E8/E$11 -> 0.039342076 | U8: =F8/F$11 -> 0.028130255 | V8: =G8/G$11 -> #DIV/0! | W8: =H8/H$11 -> #DIV/0! | X8: =I8/I$11 -> #DIV/0! | ... AC8: =N8/N$11 -> #DIV/0!
A9: 5 Adverse Effect | B9: 2323 | C9: 6188 | D9: 3044 | E9: 755 | F9: 4846 | P9: 5 Adverse Effect | Q9: =B9/B$11 -> 0.24017783 | R9: =C9/C$11 -> 0.16206589 | S9: =D9/D$11 -> 0.26961913 | T9: =E9/E$11 -> 0.16781507 | U9: =F9/F$11 -> 0.2469551 | V9: =G9/G$11 -> #DIV/0! | W9: =H9/H$11 -> #DIV/0! | X9: =I9/I$11 -> #DIV/0! | ... AC9: =N9/N$11 -> #DIV/0!
A10: 6 Underdose | B10: 15 | C10: 35 | D10: 72 | E10: 5 | F10: 55 | P10: 6 Underdose | Q10: =B10/B$11 -> 0.0015508685 | R10: =C10/C$11 -> 0.0009166623 | S10: =D10/D$11 -> 0.0063773251 | T10: =E10/E$11 -> 0.0011113581 | U10: =F10/F$11 -> 0.0028028334 | V10: =G10/G$11 -> #DIV/0! | W10: =H10/H$11 -> #DIV/0! | X10: =I10/I$11 -> #DIV/0! | ... AC10: =N10/N$11 -> #DIV/0!
A11: Total | B11: =SUM(B5:B10) -> 9672 | C11: =SUM(C5:C10) -> 38182 | D11: =SUM(D5:D10) -> 11290 | E11: =SUM(E5:E10) -> 4499 | F11: =SUM(F5:F10) -> 19623 | G11: =SUM(G5:G10) -> 0 | H11: =SUM(H5:H10) -> 0 | I11: =SUM(I5:I10) -> 0 | ... N11: =SUM(N5:N10) -> 0

Sheet 4_1.4_Other_Codes
A1: Table 4: Presence of other external cause codes | B1: **** Look at secondary tooo (4a and 4b)
A2: First Listed Manner / Mechanism Non-Drug Poisoning External Cause Code,CSTE Working Case Definition of Drug Poisoning
A4: Chapter | B4: =Table_4.0_Information!$A$4 -> Colorado | C4: =Table_4.0_Information!$A$5 -> Kentucky | D4: Louisiana | E4: =Table_4.0_Information!$A$6 -> New Mexico | F4: Tennessee | G4: =Table_4.0_Information!$A$8 -> 5 add state in table 0 | H4: =Table_4.0_Information!$A$9 -> 6 add state in table 0 | I4: =Table_4.0_Information!$A$10 -> 7 add state in table 0 | J4: =Table_4.0_Information!$A$11 -> 8 add state in table 0 | K4: =Table_4.0_Information!$A$12 -> 9 add state in table 0 | L4: =Table_4.0_Information!$A$13 -> 10 add state in table 0 | M4: =Table_4.0_Information!$A$14 -> 11 add state in table 0 | N4: =Table_4.0_Information!$A$15 -> 12 add state in table 0 | P4: Chapter | Q4: =Table_4.0_Information!$A$4 -> Colorado | R4: =Table_4.0_Information!$A$5 -> Kentucky | S4: Louisiana | T4: =Table_4.0_Information!$A$6 -> New Mexico | U4: Tennnessee | V4: =Table_4.0_Information!$A$8 -> 5 add state in table 0 | W4: =Table_4.0_Information!$A$9 -> 6 add state in table 0 | X4: =Table_4.0_Information!$A$10 -> 7 add state in table 0 | Y4: =Table_4.0_Information!$A$11 -> 8 add state in table 0 | Z4: =Table_4.0_Information!$A$12 -> 9 add state in table 0 | AA4: =Table_4.0_Information!$A$13 -> 10 add state in table 0 | AB4: =Table_4.0_Information!$A$14 -> 11 add state in table 0 | AC4: =Table_4.0_Information!$A$15 -> 12 add state in table 0
A5: No Other External Cause Code | B5: 6777 | C5: 30147 | D5: 7327 | E5: 3199 | F5: 14175 | P5: No Other External Cause Code | Q5: =B5/B$27 -> 0.92405236 | R5: =C5/C$27 -> 0.94516554 | S5: =D5/D$27 -> 0.89648844 | T5: =E5/E$27 -> 0.85420561 | U5: =F5/F$27 -> 0.96291013 | V5: =G5/G$27 -> #DIV/0! | W5: =H5/H$27 -> #DIV/0! | X5: =I5/I$27 -> #DIV/0! | ... AC5: =N5/N$27 -> #DIV/0!
A6: T14-T14: Injuries of unspecified body region | B6: 74 | C6: 0 | D6: 177 | E6: 25 | F6: 239 | P6: T14-T14 | Q6: =B6/B$27 -> 0.010089992 | R6: =C6/C$27 -> 0 | S6: =D6/D$27 -> 0.021656674 | T6: =E6/E$27 -> 0.0066755674 | U6: =F6/F$27 -> 0.01623531 | V6: =G6/G$27 -> #DIV/0! | W6: =H6/H$27 -> #DIV/0! | X6: =I6/I$27 -> #DIV/0! | ... AC6: =N6/N$27 -> #DIV/0!
A7: T15-T19: Effects of foreign body entering through natural orifice | B7: 3 | C7: 180 | D7: 29 | E7: 1 | F7: 13 | P7: T15-T19 | Q7: =B7/B$27 -> 0.00040905372 | R7: =C7/C$27 -> 0.0056433409 | S7: =D7/D$27 -> 0.0035482687 | T7: =E7/E$27 -> 0.0002670227 | U7: =F7/F$27 -> 0.00088309218 | V7: =G7/G$27 -> #DIV/0! | W7: =H7/H$27 -> #DIV/0! | X7: =I7/I$27 -> #DIV/0! | ... AC7: =N7/N$27 -> #DIV/0!
A8: T51-T65: Toxic effects of substances chiefly nonmedicinal as to source | B8: 102 | C8: 27 | D8: 229 | E8: 98 | F8: 211 | P8: T51-T65 | Q8: =B8/B$27 -> 0.013907827 | R8: =C8/C$27 -> 0.00084650113 | S8: =D8/D$27 -> 0.028019087 | T8: =E8/E$27 -> 0.026168224 | U8: =F8/F$27 -> 0.014333265 | V8: =G8/G$27 -> #DIV/0! | W8: =H8/H$27 -> #DIV/0! | X8: =I8/I$27 -> #DIV/0! | ... AC8: =N8/N$27 -> #DIV/0!
A9: T66-T78: Other and unspecified effects of external causes | B9: 9 | C9: 241 | D9: 11 | E9: 6 | F9: 14 | P9: T66-T78 | Q9: =B9/B$27 -> 0.0012271612 | R9: =C9/C$27 -> 0.0075558064 | S9: =D9/D$27 -> 0.001345895 | T9: =E9/E$27 -> 0.0016021362 | U9: =F9/F$27 -> 0.00095102235 | V9: =G9/G$27 -> #DIV/0! | W9: =H9/H$27 -> #DIV/0! | X9: =I9/I$27 -> #DIV/0! | ... AC9: =N9/N$27 -> #DIV/0!
A10: V00-V09: Pedestrian injured in transport accident | B10: 1 | C10: 18 | D10: 0 | E10: 1 | F10: 0 | P10: V00-V09 | Q10: =B10/B$27 -> 0.00013635124 | R10: =C10/C$27 -> 0.00056433409 | S10: =D10/D$27 -> 0 | T10: =E10/E$27 -> 0.0002670227 | U10: =F10/F$27 -> 0 | V10: =G10/G$27 -> #DIV/0! | W10: =H10/H$27 -> #DIV/0! | X10: =I10/I$27 -> #DIV/0! | ... AC10: =N10/N$27 -> #DIV/0!
A11: V10-V19: Pedal cycle rider injured in transport accident | B11: 1 | C11: ** | D11: 1 | E11: 1 | F11: 0 | P11: V10-V19 | Q11: =B11/B$27 -> 0.00013635124 | R11: =C11/C$27 -> #VALUE! | S11: =D11/D$27 -> 0.00012235409 | T11: =E11/E$27 -> 0.0002670227 | U11: =F11/F$27 -> 0 | V11: =G11/G$27 -> #DIV/0! | W11: =H11/H$27 -> #DIV/0! | X11: =I11/I$27 -> #DIV/0! | ... AC11: =N11/N$27 -> #DIV/0!
A12: V20-V29: Motorcycle rider injured in transport accident | B12: 1 | C12: 0 | D12: 0 | E12: 0 | F12: 0 | P12: V20-V29 | Q12: =B12/B$27 -> 0.00013635124 | R12: =C12/C$27 -> 0 | S12: =D12/D$27 -> 0 | T12: =E12/E$27 -> 0 | U12: =F12/F$27 -> 0 | V12: =G12/G$27 -> #DIV/0! | W12: =H12/H$27 -> #DIV/0! | X12: =I12/I$27 -> #DIV/0! | ... AC12: =N12/N$27 -> #DIV/0!
A13: V40-V49: Car occupant injured in transport accident | B13: 9 | C13: ** | D13: 26 | E13: 5 | F13: 1 | P13: V40-V49 | Q13: =B13/B$27 -> 0.0012271612 | R13: =C13/C$27 -> #VALUE! | S13: =D13/D$27 -> 0.0031812064 | T13: =E13/E$27 -> 0.0013351135 | U13: =F13/F$27 -> 6.7930168e-05 | V13: =G13/G$27 -> #DIV/0! | W13: =H13/H$27 -> #DIV/0! | X13: =I13/I$27 -> #DIV/0! | ... AC13: =N13/N$27 -> #DIV/0!
A14: V80-V89: Other land transport accidents | B14: 6 | C14: 120 | D14: 9 | E14: 2 | F14: 2 | P14: V80-V89 | Q14: =B14/B$27 -> 0.00081810744 | R14: =C14/C$27 -> 0.0037622272 | S14: =D14/D$27 -> 0.0011011868 | T14: =E14/E$27 -> 0.00053404539 | U14: =F14/F$27 -> 0.00013586034 | V14: =G14/G$27 -> #DIV/0! | W14: =H14/H$27 -> #DIV/0! | X14: =I14/I$27 -> #DIV/0! | ... AC14: =N14/N$27 -> #DIV/0!
A15: W00-W19: Slipping, tripping, stumbling and falls | B15: 49 | C15: 22 | D15: 120 | E15: 45 | F15: 23 | P15: W00-W19 | Q15: =B15/B$27 -> 0.0066812108 | R15: =C15/C$27 -> 0.00068974166 | S15: =D15/D$27 -> 0.014682491 | T15: =E15/E$27 -> 0.012016021 | U15: =F15/F$27 -> 0.0015623939 | V15: =G15/G$27 -> #DIV/0! | W15: =H15/H$27 -> #DIV/0! | X15: =I15/I$27 -> #DIV/0! | ... AC15: =N15/N$27 -> #DIV/0!
A16: W20-W49: Exposure to inanimate mechanical forces | B16: 17 | C16: 196 | D16: 8 | E16: 6 | F16: 6 | P16: W20-W49 | Q16: =B16/B$27 -> 0.0023179711 | R16: =C16/C$27 -> 0.0061449712 | S16: =D16/D$27 -> 0.00097883274 | T16: =E16/E$27 -> 0.0016021362 | U16: =F16/F$27 -> 0.00040758101 | V16: =G16/G$27 -> #DIV/0! | W16: =H16/H$27 -> #DIV/0! | X16: =I16/I$27 -> #DIV/0! | ... AC16: =N16/N$27 -> #DIV/0!
A17: W50-W64: Exposure to animate mechanical forces | B17: 4 | C17: 57 | D17: 3 | E17: 3 | F17: 3 | P17: W50-W64 | Q17: =B17/B$27 -> 0.00054540496 | R17: =C17/C$27 -> 0.0017870579 | S17: =D17/D$27 -> 0.00036706228 | T17: =E17/E$27 -> 0.00080106809 | U17: =F17/F$27 -> 0.0002037905 | V17: =G17/G$27 -> #DIV/0! | W17: =H17/H$27 -> #DIV/0! | X17: =I17/I$27 -> #DIV/0! | ... AC17: =N17/N$27 -> #DIV/0!
A18: W85-W99: Exposure to electric current, radiation and extreme ambient air temperature and pressure | B18: 0 | C18: 14 | D18: 1 | E18: 1 | F18: 0 | P18: W85-W99 | Q18: =B18/B$27 -> 0 | R18: =C18/C$27 -> 0.00043892651 | S18: =D18/D$27 -> 0.00012235409 | T18: =E18/E$27 -> 0.0002670227 | U18: =F18/F$27 -> 0 | V18: =G18/G$27 -> #DIV/0! | W18: =H18/H$27 -> #DIV/0! | X18: =I18/I$27 -> #DIV/0! | ... AC18: =N18/N$27 -> #DIV/0!
A19: X00-X08: Exposure to smoke, fire and flames | B19: 1 | C19: ** | D19: 3 | E19: 0 | F19: 0 | P19: X00-X08 | Q19: =B19/B$27 -> 0.00013635124 | R19: =C19/C$27 -> #VALUE! | S19: =D19/D$27 -> 0.00036706228 | T19: =E19/E$27 -> 0 | U19: =F19/F$27 -> 0 | V19: =G19/G$27 -> #DIV/0! | W19: =H19/H$27 -> #DIV/0! | X19: =I19/I$27 -> #DIV/0! | ... AC19: =N19/N$27 -> #DIV/0!
A20: X10-X19: Contact with heat and hot substances | B20: 1 | C20: 6 | D20: 2 | E20: 1 | F20: 1 | P20: X10-X19 | Q20: =B20/B$27 -> 0.00013635124 | R20: =C20/C$27 -> 0.00018811136 | S20: =D20/D$27 -> 0.00024470819 | T20: =E20/E$27 -> 0.0002670227 | U20: =F20/F$27 -> 6.7930168e-05 | V20: =G20/G$27 -> #DIV/0! | W20: =H20/H$27 -> #DIV/0! | X20: =I20/I$27 -> #DIV/0! | ... AC20: =N20/N$27 -> #DIV/0!
A21: X30-X39: Exposure to forces of nature | B21: 2 | C21: 8 | D21: 5 | E21: 0 | F21: 0 | P21: X30-X39 | Q21: =B21/B$27 -> 0.00027270248 | R21: =C21/C$27 -> 0.00025081515 | S21: =D21/D$27 -> 0.00061177046 | T21: =E21/E$27 -> 0 | U21: =F21/F$27 -> 0 | V21: =G21/G$27 -> #DIV/0! | W21: =H21/H$27 -> #DIV/0! | X21: =I21/I$27 -> #DIV/0! | ... AC21: =N21/N$27 -> #DIV/0!
A22: X52-X58: Accidental exposure to other specified factors | B22: 262 | C22: 832 | D22: 209 | E22: 335 | F22: 32 | P22: X52-X58 | Q22: =B22/B$27 -> 0.035724025 | R22: =C22/C$27 -> 0.026084776 | S22: =D22/D$27 -> 0.025572005 | T22: =E22/E$27 -> 0.089452603 | U22: =F22/F$27 -> 0.0021737654 | V22: =G22/G$27 -> #DIV/0! | W22: =H22/H$27 -> #DIV/0! | X22: =I22/I$27 -> #DIV/0! | ... AC22: =N22/N$27 -> #DIV/0!
A23: X71-X83: Intentional self-harm | B23: 0 | C23: 0 | D23: 0 | E23: 6 | F23: 0 | P23: X71-X83 | Q23: =B23/B$27 -> 0 | R23: =C23/C$27 -> 0 | S23: =D23/D$27 -> 0 | T23: =E23/E$27 -> 0.0016021362 | U23: =F23/F$27 -> 0 | V23: =G23/G$27 -> #DIV/0! | W23: =H23/H$27 -> #DIV/0! | X23: =I23/I$27 -> #DIV/0! | ... AC23: =N23/N$27 -> #DIV/0!
A24: X92-Y09: Assault | B24: 10 | C24: 28 | D24: 8 | E24: 6 | F24: 0 | P24: X92-Y09 | Q24: =B24/B$27 -> 0.0013635124 | R24: =C24/C$27 -> 0.00087785302 | S24: =D24/D$27 -> 0.00097883274 | T24: =E24/E$27 -> 0.0016021362 | U24: =F24/F$27 -> 0 | V24: =G24/G$27 -> #DIV/0! | W24: =H24/H$27 -> #DIV/0! | X24: =I24/I$27 -> #DIV/0! | ... AC24: =N24/N$27 -> #DIV/0!
A25: Y21-Y33: Event of undetermined event | B25: 3 | C25: ** | D25: 2 | E25: 4 | F25: 1 | P25: Y21-Y33 | Q25: =B25/B$27 -> 0.00040905372 | R25: =C25/C$27 -> #VALUE! | S25: =D25/D$27 -> 0.00024470819 | T25: =E25/E$27 -> 0.0010680908 | U25: =F25/F$27 -> 6.7930168e-05 | V25: =G25/G$27 -> #DIV/0! | W25: =H25/H$27 -> #DIV/0! | X25: =I25/I$27 -> #DIV/0! | ... AC25: =N25/N$27 -> #DIV/0!
A26: Y35-Y38: Legal intervention, operations of war, military operations, and terrorism | B26: 2 | C26: ** | D26: 3 | E26: 0 | F26: 0 | P26: Y35-Y38 | Q26: =B26/B$27 -> 0.00027270248 | R26: =C26/C$27 -> #VALUE! | S26: =D26/D$27 -> 0.00036706228 | T26: =E26/E$27 -> 0 | U26: =F26/F$27 -> 0 | V26: =G26/G$27 -> #DIV/0! | W26: =H26/H$27 -> #DIV/0! | X26: =I26/I$27 -> #DIV/0! | ... AC26: =N26/N$27 -> #DIV/0!
A27: Total | B27: =SUM(B5:B26) -> 7334 | C27: =SUM(C5:C26) -> 31896 | D27: =SUM(D5:D26) -> 8173 | E27: =SUM(E5:E26) -> 3745 | F27: =SUM(F5:F26) -> 14721 | G27: =SUM(G5:G26) -> 0 | H27: =SUM(H5:H26) -> 0 | I27: =SUM(I5:I26) -> 0 | ... N27: =SUM(N5:N26) -> 0

Sheet 4_1.6_First_Mention
A1: Table 6: For Records with Any Mention, Field of First Mention
A2: Position of First Drug Poisoning Code, Any Mention of Drug Poisoning,CSTE Working Case Definition of Drug Poisoning
C3: Frequency
A4: Position | B4: =Table_4.0_Information!$A$4 -> Colorado | C4: =Table_4.0_Information!$A$5 -> Kentucky | D4: Louisiana | E4: =Table_4.0_Information!$A$6 -> New Mexico | F4: Tennessee | G4: =Table_4.0_Information!$A$8 -> 5 add state in table 0 | H4: =Table_4.0_Information!$A$9 -> 6 add state in table 0 | I4: =Table_4.0_Information!$A$10 -> 7 add state in table 0 | J4: =Table_4.0_Information!$A$11 -> 8 add state in table 0 | K4: =Table_4.0_Information!$A$12 -> 9 add state in table 0 | L4: =Table_4.0_Information!$A$13 -> 10 add state in table 0 | M4: =Table_4.0_Information!$A$14 -> 11 add state in table 0 | N4: =Table_4.0_Information!$A$15 -> 12 add state in table 0 | Q4: =Table_4.0_Information!$A$4 -> Colorado | R4: =Table_4.0_Information!$A$5 -> Kentucky | S4: Louisiana | T4: =Table_4.0_Information!$A$6 -> New Mexico | U4: Tennessee | V4: =Table_4.0_Information!$A$8 -> 5 add state in table 0 | W4: =Table_4.0_Information!$A$9 -> 6 add state in table 0 | X4: =Table_4.0_Information!$A$10 -> 7 add state in table 0 | Y4: =Table_4.0_Information!$A$11 -> 8 add state in table 0 | Z4: =Table_4.0_Information!$A$12 -> 9 add state in table 0 | AA4: =Table_4.0_Information!$A$13 -> 10 add state in table 0 | AB4: =Table_4.0_Information!$A$14 -> 11 add state in table 0 | AC4: =Table_4.0_Information!$A$15 -> 12 add state in table 0 | AF4: =Table_4.0_Information!$A$4 -> Colorado | AG4: =Table_4.0_Information!$A$5 -> Kentucky | AH4: Louisiana | AI4: =Table_4.0_Information!$A$6 -> New Mexico | AJ4: Tennnessee | AK4: =Table_4.0_Information!$A$8 -> 5 add state in table 0 | AL4: =Table_4.0_Information!$A$9 -> 6 add state in table 0 | AM4: =Table_4.0_Information!$A$10 -> 7 add state in table 0 | AN4: =Table_4.0_Information!$A$11 -> 8 add state in table 0 | AO4: =Table_4.0_Information!$A$12 -> 9 add state in table 0 | AP4: =Table_4.0_Information!$A$13 -> 10 add state in table 0 | AQ4: =Table_4.0_Information!$A$14 -> 11 add state in table 0 | AR4: =Table_4.0_Information!$A$15 -> 12 add state in table 0
A5: 1 | B5: 7334 | C5: 31959 | D5: 8174 | E5: 3739 | F5: 14722 | P5: 1 | Q5: =B5/B$35 -> 0.80717587 | R5: =C5/C$35 -> 0.87978308 | S5: =D5/D$35 -> 0.69779751 | T5: =E5/E$35 -> 0.79722814 | U5: =F5/F$35 -> 0.81072746 | V5: =G5/G$35 -> #DIV/0! | W5: =H5/H$35 -> #DIV/0! | X5: =I5/I$35 -> #DIV/0! | ... AC5: =N5/N$35 -> #DIV/0! | AE5: 1 | AF5: =B5/B$35 -> 0.80717587 | AG5: =C5/C$35 -> 0.87978308 | AH5: =D5/D$35 -> 0.69779751 | AI5: =E5/E$35 -> 0.79722814 | AJ5: =F5/F$35 -> 0.81072746 | AK5: =G5/G$35 -> #DIV/0! | AL5: =H5/H$35 -> #DIV/0! | AM5: =I5/I$35 -> #DIV/0! | ... AR5: =N5/N$35 -> #DIV/0!
A6: 2 | B6: 929 | C6: 2971 | D6: 1175 | E6: 499 | F6: 2199 | P6: 2 | Q6: =B6/B$35 -> 0.10224521 | R6: =C6/C$35 -> 0.08178715 | S6: =D6/D$35 -> 0.10030732 | T6: =E6/E$35 -> 0.10639659 | U6: =F6/F$35 -> 0.12109698 | V6: =G6/G$35 -> #DIV/0! | W6: =H6/H$35 -> #DIV/0! | X6: =I6/I$35 -> #DIV/0! | ... AC6: =N6/N$35 -> #DIV/0! | AE6: 2-5 | AF6: =(SUM(B6:B9)/B$35) -> 0.17829628 | AG6: =(SUM(C6:C9)/C$35) -> 0.11537191 | AH6: =(SUM(D6:D9)/D$35) -> 0.21879802 | AI6: =(SUM(E6:E9)/E$35) -> 0.18059701 | AJ6: =(SUM(F6:F9)/F$35) -> 0.1802412 | AK6: =(SUM(G6:G9)/G$35) -> #DIV/0! | AL6: =(SUM(H6:H9)/H$35) -> #DIV/0! | AM6: =(SUM(I6:I9)/I$35) -> #DIV/0! | ... AR6: =(SUM(N6:N9)/N$35) -> #DIV/0!
A7: 3 | B7: 386 | C7: 794 | D7: 662 | E7: 200 | F7: 694 | P7: 3 | Q7: =B7/B$35 -> 0.042482941 | R7: =C7/C$35 -> 0.021857623 | S7: =D7/D$35 -> 0.056513574 | T7: =E7/E$35 -> 0.042643923 | U7: =F7/F$35 -> 0.038217964 | V7: =G7/G$35 -> #DIV/0! | W7: =H7/H$35 -> #DIV/0! | X7: =I7/I$35 -> #DIV/0! | ... AC7: =N7/N$35 -> #DIV/0! | AE7: 6-10 | AF7: =(SUM(B10:B14)/B$35) -> 0.011886419 | AG7: =(SUM(C10:C14)/C$35) -> 0.0037438749 | AH7: =(SUM(D10:D14)/D$35) -> 0.055489158 | AI7: =(SUM(E10:E14)/E$35) -> 0.015138593 | AJ7: =(SUM(F10:F14)/F$35) -> 0.0079850212 | AK7: =(SUM(G10:G14)/G$35) -> #DIV/0! | AL7: =(SUM(H10:H14)/H$35) -> #DIV/0! | AM7: =(SUM(I10:I14)/I$35) -> #DIV/0! | ... AR7: =(SUM(N10:N14)/N$35) -> #DIV/0!
A8: 4 | B8: 199 | C8: 294 | D8: 431 | E8: 96 | F8: 277 | P8: 4 | Q8: =B8/B$35 -> 0.021901827 | R8: =C8/C$35 -> 0.0080933766 | S8: =D8/D$35 -> 0.03679358 | T8: =E8/E$35 -> 0.020469083 | U8: =F8/F$35 -> 0.015254144 | V8: =G8/G$35 -> #DIV/0! | W8: =H8/H$35 -> #DIV/0! | X8: =I8/I$35 -> #DIV/0! | ... AC8: =N8/N$35 -> #DIV/0! | AE8: 11-15 | AF8: =(SUM(B15:B19)/B$35) -> 0.0020911292 | AG8: =(SUM(C15:C19)/C$35) -> 0.00085338325 | AH8: =(SUM(D15:D19)/D$35) -> 0.017671163 | AI8: =(SUM(E15:E19)/E$35) -> 0.0051172708 | AJ8: =(SUM(F15:F19)/F$35) -> 0.0010463131 | AK8: =(SUM(G15:G19)/G$35) -> #DIV/0! | AL8: =(SUM(H15:H19)/H$35) -> #DIV/0! | AM8: =(SUM(I15:I19)/I$35) -> #DIV/0! | ... AQ8: =(SUM(M15:M19)/M$35) -> #DIV/0! | AR8: =(SUM(N5:N19)/N$35) -> #DIV/0!
A9: 5 | B9: 106 | C9: 132 | D9: 295 | E9: 52 | F9: 103 | P9: 5 | Q9: =B9/B$35 -> 0.0116663 | R9: =C9/C$35 -> 0.0036337609 | S9: =D9/D$35 -> 0.025183541 | T9: =E9/E$35 -> 0.01108742 | U9: =F9/F$35 -> 0.0056721185 | V9: =G9/G$35 -> #DIV/0! | W9: =H9/H$35 -> #DIV/0! | X9: =I9/I$35 -> #DIV/0! | ... AC9: =N9/N$35 -> #DIV/0! | AE9: 16-30 | AF9: =(SUM(B20:B34)/B$35) -> 0.00055029716 | AG9: =(SUM(C20:C34)/C$35) -> 0.00024775643 | AH9: =(SUM(D20:D34)/D$35) -> 0.010244152 | AI9: =(SUM(E20:E34)/E$35) -> 0.0019189765 | AJ9: =(SUM(F20:F34)/F$35) -> 0 | AK9: =(SUM(G20:G34)/G$35) -> #DIV/0! | AL9: =(SUM(H20:H34)/H$35) -> #DIV/0! | AM9: =(SUM(I20:I34)/I$35) -> #DIV/0! | ... AR9: =(SUM(N20:N34)/N$35) -> #DIV/0!
A10: 6 | B10: 55 | C10: 60 | D10: 196 | E10: 30 | F10: 59 | P10: 6 | Q10: =B10/B$35 -> 0.0060532688 | R10: =C10/C$35 -> 0.0016517095 | S10: =D10/D$35 -> 0.016732115 | T10: =E10/E$35 -> 0.0063965885 | U10: =F10/F$35 -> 0.0032490776 | V10: =G10/G$35 -> #DIV/0! | W10: =H10/H$35 -> #DIV/0! | X10: =I10/I$35 -> #DIV/0! | ... AC10: =N10/N$35 -> #DIV/0!
A11: 7 | B11: 24 | C11: 32 | D11: 163 | E11: 13 | F11: 39 | P11: 7 | Q11: =B11/B$35 -> 0.0026414264 | R11: =C11/C$35 -> 0.00088091174 | S11: =D11/D$35 -> 0.013914974 | T11: =E11/E$35 -> 0.002771855 | U11: =F11/F$35 -> 0.0021476954 | V11: =G11/G$35 -> #DIV/0! | W11: =H11/H$35 -> #DIV/0! | X11: =I11/I$35 -> #DIV/0! | ... AC11: =N11/N$35 -> #DIV/0!
A12: 8 | B12: 14 | C12: 21 | D12: 128 | E12: 10 | F12: 23 | P12: 8 | Q12: =B12/B$35 -> 0.001540832 | R12: =C12/C$35 -> 0.00057809833 | S12: =D12/D$35 -> 0.010927096 | T12: =E12/E$35 -> 0.0021321962 | U12: =F12/F$35 -> 0.0012665896 | V12: =G12/G$35 -> #DIV/0! | W12: =H12/H$35 -> #DIV/0! | X12: =I12/I$35 -> #DIV/0! | ... AC12: =N12/N$35 -> #DIV/0!
A13: 9 | B13: 8 | C13: 14 | D13: 92 | E13: 13 | F13: 18 | P13: 9 | Q13: =B13/B$35 -> 0.00088047546 | R13: =C13/C$35 -> 0.00038539889 | S13: =D13/D$35 -> 0.0078538501 | T13: =E13/E$35 -> 0.002771855 | U13: =F13/F$35 -> 0.00099124401 | V13: =G13/G$35 -> #DIV/0! | W13: =H13/H$35 -> #DIV/0! | X13: =I13/I$35 -> #DIV/0! | ... AC13: =N13/N$35 -> #DIV/0!
A14: 10 | B14: 7 | C14: 9 | D14: 71 | E14: 5 | F14: 6 | P14: 10 | Q14: =B14/B$35 -> 0.00077041602 | R14: =C14/C$35 -> 0.00024775643 | S14: =D14/D$35 -> 0.0060611234 | T14: =E14/E$35 -> 0.0010660981 | U14: =F14/F$35 -> 0.00033041467 | V14: =G14/G$35 -> #DIV/0! | W14: =H14/H$35 -> #DIV/0! | X14: =I14/I$35 -> #DIV/0! | ... AC14: =N14/N$35 -> #DIV/0!
A15: 11 | B15: 7 | C15: 11 | D15: 59 | E15: 6 | F15: 8 | P15: 11 | Q15: =B15/B$35 -> 0.00077041602 | R15: =C15/C$35 -> 0.00030281341 | S15: =D15/D$35 -> 0.0050367082 | T15: =E15/E$35 -> 0.0012793177 | U15: =F15/F$35 -> 0.00044055289 | V15: =G15/G$35 -> #DIV/0! | W15: =H15/H$35 -> #DIV/0! | X15: =I15/I$35 -> #DIV/0! | ... AC15: =N15/N$35 -> #DIV/0!
A16: 12 | B16: 2 | C16: 6 | D16: 46 | E16: 6 | F16: 3 | P16: 12 | Q16: =B16/B$35 -> 0.00022011886 | R16: =C16/C$35 -> 0.00016517095 | S16: =D16/D$35 -> 0.003926925 | T16: =E16/E$35 -> 0.0012793177 | U16: =F16/F$35 -> 0.00016520734 | V16: =G16/G$35 -> #DIV/0! | W16: =H16/H$35 -> #DIV/0! | X16: =I16/I$35 -> #DIV/0! | ... AC16: =N16/N$35 -> #DIV/0!
A17: 13 | B17: 4 | C17: 4 | D17: 47 | E17: 3 | F17: 4 | P17: 13 | Q17: =B17/B$35 -> 0.00044023773 | R17: =C17/C$35 -> 0.00011011397 | S17: =D17/D$35 -> 0.004012293 | T17: =E17/E$35 -> 0.00063965885 | U17: =F17/F$35 -> 0.00022027645 | V17: =G17/G$35 -> #DIV/0! | W17: =H17/H$35 -> #DIV/0! | X17: =I17/I$35 -> #DIV/0! | ... AC17: =N17/N$35 -> #DIV/0!
A18: 14 | B18: 3 | C18: 5 | D18: 30 | E18: 3 | F18: 3 | P18: 14 | Q18: =B18/B$35 -> 0.0003301783 | R18: =C18/C$35 -> 0.00013764246 | S18: =D18/D$35 -> 0.0025610381 | T18: =E18/E$35 -> 0.00063965885 | U18: =F18/F$35 -> 0.00016520734 | V18: =G18/G$35 -> #DIV/0! | W18: =H18/H$35 -> #DIV/0! | X18: =I18/I$35 -> #DIV/0! | ... AC18: =N18/N$35 -> #DIV/0!
A19: 15 | B19: 3 | C19: 5 | D19: 25 | E19: 6 | F19: 1 | P19: 15 | Q19: =B19/B$35 -> 0.0003301783 | R19: =C19/C$35 -> 0.00013764246 | S19: =D19/D$35 -> 0.0021341984 | T19: =E19/E$35 -> 0.0012793177 | U19: =F19/F$35 -> 5.5069112e-05 | V19: =G19/G$35 -> #DIV/0! | W19: =H19/H$35 -> #DIV/0! | X19: =I19/I$35 -> #DIV/0! | ... AC19: =N19/N$35 -> #DIV/0!
A20: 16 | B20: 1 | C20: 1 | D20: 22 | E20: 3 | P20: 16 | Q20: =B20/B$35 -> 0.00011005943 | R20: =C20/C$35 -> 2.7528492e-05 | S20: =D20/D$35 -> 0.0018780946 | T20: =E20/E$35 -> 0.00063965885 | U20: =F20/F$35 -> 0 | V20: =G20/G$35 -> #DIV/0! | W20: =H20/H$35 -> #DIV/0! | X20: =I20/I$35 -> #DIV/0! | ... AC20: =N20/N$35 -> #DIV/0!
A21: 17 | B21: 1 | C21: 2 | D21: 17 | E21: 2 | P21: 17 | Q21: =B21/B$35 -> 0.00011005943 | R21: =C21/C$35 -> 5.5056984e-05 | S21: =D21/D$35 -> 0.0014512549 | T21: =E21/E$35 -> 0.00042643923 | U21: =F21/F$35 -> 0 | V21: =G21/G$35 -> #DIV/0! | W21: =H21/H$35 -> #DIV/0! | X21: =I21/I$35 -> #DIV/0! | ... AC21: =N21/N$35 -> #DIV/0!
A22: 18 | B22: 2 | C22: 3 | D22: 13 | E22: 1 | P22: 18 | Q22: =B22/B$35 -> 0.00022011886 | R22: =C22/C$35 -> 8.2585476e-05 | S22: =D22/D$35 -> 0.0011097832 | T22: =E22/E$35 -> 0.00021321962 | U22: =F22/F$35 -> 0 | V22: =G22/G$35 -> #DIV/0! | W22: =H22/H$35 -> #DIV/0! | X22: =I22/I$35 -> #DIV/0! | ... AC22: =N22/N$35 -> #DIV/0!
A23: 19 | B23: 1 | C23: 2 | D23: 14 | E23: 1 | P23: 19 | Q23: =B23/B$35 -> 0.00011005943 | R23: =C23/C$35 -> 5.5056984e-05 | S23: =D23/D$35 -> 0.0011951511 | T23: =E23/E$35 -> 0.00021321962 | U23: =F23/F$35 -> 0 | V23: =G23/G$35 -> #DIV/0! | W23: =H23/H$35 -> #DIV/0! | X23: =I23/I$35 -> #DIV/0! | ... AC23: =N23/N$35 -> #DIV/0!
A24: 20 | C24: 1 | D24: 20 | E24: 1 | P24: 20 | Q24: =B24/B$35 -> 0 | R24: =C24/C$35 -> 2.7528492e-05 | S24: =D24/D$35 -> 0.0017073587 | T24: =E24/E$35 -> 0.00021321962 | U24: =F24/F$35 -> 0 | V24: =G24/G$35 -> #DIV/0! | W24: =H24/H$35 -> #DIV/0! | X24: =I24/I$35 -> #DIV/0! | ... AC24: =N24/N$35 -> #DIV/0!
A25: 21 | D25: 17 | E25: 1 | P25: 21 | Q25: =B25/B$35 -> 0 | R25: =C25/C$35 -> 0 | S25: =D25/D$35 -> 0.0014512549 | T25: =E25/E$35 -> 0.00021321962 | U25: =F25/F$35 -> 0 | V25: =G25/G$35 -> #DIV/0! | W25: =H25/H$35 -> #DIV/0! | X25: =I25/I$35 -> #DIV/0! | ... AC25: =N25/N$35 -> #DIV/0!
A26: 22 | D26: 5 | P26: 22 | Q26: =B26/B$35 -> 0 | R26: =C26/C$35 -> 0 | S26: =D26/D$35 -> 0.00042683968 | T26: =E26/E$35 -> 0 | U26: =F26/F$35 -> 0 | V26: =G26/G$35 -> #DIV/0! | W26: =H26/H$35 -> #DIV/0! | X26: =I26/I$35 -> #DIV/0! | ... AC26: =N26/N$35 -> #DIV/0!
A27: 23 | D27: 5 | P27: 23 | Q27: =B27/B$35 -> 0 | R27: =C27/C$35 -> 0 | S27: =D27/D$35 -> 0.00042683968 | T27: =E27/E$35 -> 0 | U27: =F27/F$35 -> 0 | V27: =G27/G$35 -> #DIV/0! | W27: =H27/H$35 -> #DIV/0! | X27: =I27/I$35 -> #DIV/0! | ... AC27: =N27/N$35 -> #DIV/0!
A28: 24 | D28: 7 | P28: 24 | Q28: =B28/B$35 -> 0 | R28: =C28/C$35 -> 0 | S28: =D28/D$35 -> 0.00059757555 | T28: =E28/E$35 -> 0 | U28: =F28/F$35 -> 0 | V28: =G28/G$35 -> #DIV/0! | W28: =H28/H$35 -> #DIV/0! | X28: =I28/I$35 -> #DIV/0! | ... AC28: =N28/N$35 -> #DIV/0!
A29: 25 | P29: 25 | Q29: =B29/B$35 -> 0 | R29: =C29/C$35 -> 0 | S29: =D29/D$35 -> 0 | T29: =E29/E$35 -> 0 | U29: =F29/F$35 -> 0 | V29: =G29/G$35 -> #DIV/0! | W29: =H29/H$35 -> #DIV/0! | X29: =I29/I$35 -> #DIV/0! | ... AC29: =N29/N$35 -> #DIV/0!
A30: 26 | P30: 26 | Q30: =B30/B$35 -> 0 | R30: =C30/C$35 -> 0 | S30: =D30/D$35 -> 0 | T30: =E30/E$35 -> 0 | U30: =F30/F$35 -> 0 | V30: =G30/G$35 -> #DIV/0! | W30: =H30/H$35 -> #DIV/0! | X30: =I30/I$35 -> #DIV/0! | ... AC30: =N30/N$35 -> #DIV/0!
A31: 27 | P31: 27 | Q31: =B31/B$35 -> 0 | R31: =C31/C$35 -> 0 | S31: =D31/D$35 -> 0 | T31: =E31/E$35 -> 0 | U31: =F31/F$35 -> 0 | V31: =G31/G$35 -> #DIV/0! | W31: =H31/H$35 -> #DIV/0! | X31: =I31/I$35 -> #DIV/0! | ... AC31: =N31/N$35 -> #DIV/0!
A32: 28 | P32: 28 | Q32: =B32/B$35 -> 0 | R32: =C32/C$35 -> 0 | S32: =D32/D$35 -> 0 | T32: =E32/E$35 -> 0 | U32: =F32/F$35 -> 0 | V32: =G32/G$35 -> #DIV/0! | W32: =H32/H$35 -> #DIV/0! | X32: =I32/I$35 -> #DIV/0! | ... AC32: =N32/N$35 -> #DIV/0!
A33: 29 | P33: 29 | Q33: =B33/B$35 -> 0 | R33: =C33/C$35 -> 0 | S33: =D33/D$35 -> 0 | T33: =E33/E$35 -> 0 | U33: =F33/F$35 -> 0 | V33: =G33/G$35 -> #DIV/0! | W33: =H33/H$35 -> #DIV/0! | X33: =I33/I$35 -> #DIV/0! | ... AC33: =N33/N$35 -> #DIV/0!
A34: 30 | P34: 30 | Q34: =B34/B$35 -> 0 | R34: =C34/C$35 -> 0 | S34: =D34/D$35 -> 0 | T34: =E34/E$35 -> 0 | U34: =F34/F$35 -> 0 | V34: =G34/G$35 -> #DIV/0! | W34: =H34/H$35 -> #DIV/0! | X34: =I34/I$35 -> #DIV/0! | ... AC34: =N34/N$35 -> #DIV/0!
A35: total | B35: =SUM(B5:B34) -> 9086 | C35: =SUM(C5:C34) -> 36326 | D35: =SUM(D5:D34) -> 11714 | E35: =SUM(E5:E34) -> 4690 | F35: =SUM(F5:F34) -> 18159 | G35: =SUM(G5:G34) -> 0 | H35: =SUM(H5:H34) -> 0 | I35: =SUM(I5:I34) -> 0 | ... N35: =SUM(N5:N34) -> 0

Sheet 4_1.7_Primary
A1: Table 7: For Records with Any Mention, Chapter of Principal/first listed Diagnosis
A2: Chapter of Primary Diagnosis, Any Mention of Drug Poisoning,CSTE Working Case Definition of Drug Poisoning
Q3: Percent of cases (any mention) with principal in chapter
B4: =Table_4.0_Information!$A$4 -> Colorado | C4: =Table_4.0_Information!$A$5 -> Kentucky | D4: Louisiana | E4: =Table_4.0_Information!$A$6 -> New Mexico | F4: Tennessee | G4: =Table_4.0_Information!$A$8 -> 5 add state in table 0 | H4: =Table_4.0_Information!$A$9 -> 6 add state in table 0 | I4: =Table_4.0_Information!$A$10 -> 7 add state in table 0 | J4: =Table_4.0_Information!$A$11 -> 8 add state in table 0 | K4: =Table_4.0_Information!$A$12 -> 9 add state in table 0 | L4: =Table_4.0_Information!$A$13 -> 10 add state in table 0 | M4: =Table_4.0_Information!$A$14 -> 11 add state in table 0 | N4: =Table_4.0_Information!$A$15 -> 12 add state in table 0 | Q4: =Table_4.0_Information!$A$4 -> Colorado | R4: =Table_4.0_Information!$A$5 -> Kentucky | S4: Louisiana | T4: =Table_4.0_Information!$A$6 -> New Mexico | U4: Tennesee | V4: =Table_4.0_Information!$A$8 -> 5 add state in table 0 | W4: =Table_4.0_Information!$A$9 -> 6 add state in table 0 | X4: =Table_4.0_Information!$A$10 -> 7 add state in table 0 | Y4: =Table_4.0_Information!$A$11 -> 8 add state in table 0 | Z4: =Table_4.0_Information!$A$12 -> 9 add state in table 0 | AA4: =Table_4.0_Information!$A$13 -> 10 add state in table 0 | AB4: =Table_4.0_Information!$A$14 -> 11 add state in table 0 | AC4: =Table_4.0_Information!$A$15 -> 12 add state in table 0
A5: A00-B99: Infectious and parasitic diseases | B5: 5 | C5: 31 | D5: 157 | E5: 42 | F5: 23 | P5: A00-B99: Infectious and parasitic diseases | Q5: =Q25=B5/B$31 -> FALSE | R5: =C5/C$31 -> 0.0008301422 | S5: =D5/D$31 -> 0.012347621 | T5: =E5/E$31 -> 0.0083983203 | U5: =F5/F$31 -> 0.0012141047 | V5: =G5/G$31 -> #DIV/0! | W5: =H5/H$31 -> #DIV/0! | X5: =I5/I$31 -> #DIV/0! | Y5: =J5/J$31 -> #DIV/0! | ... AC5: =N5/N$31 -> #DIV/0!
A6: C00-D49: Neoplasms | B6: 1 | C6: ** | D6: 16 | E6: 0 | F6: 2 | P6: C00-D49: Neoplasms | Q6: =B6/B$31 -> 0.00010245902 | R6: =C6/C$31 -> #VALUE! | S6: =D6/D$31 -> 0.0012583563 | T6: =E6/E$31 -> 0 | U6: =F6/F$31 -> 0.00010557432 | V6: =G6/G$31 -> #DIV/0! | W6: =H6/H$31 -> #DIV/0! | X6: =I6/I$31 -> #DIV/0! | ... AC6: =N6/N$31 -> #DIV/0!
A7: D50-D89: Diseases of the blood and blood-forming organs, certain immunity disorders | B7: 4 | C7: 16 | D7: 26 | E7: 4 | F7: 28 | P7: D50-D89: Diseases of the blood and blood-forming organs, certain immunity disorders | Q7: =B7/B$31 -> 0.00040983607 | R7: =C7/C$31 -> 0.00042846049 | S7: =D7/D$31 -> 0.0020448289 | T7: =E7/E$31 -> 0.00079984003 | U7: =F7/F$31 -> 0.0014780405 | V7: =G7/G$31 -> #DIV/0! | W7: =H7/H$31 -> #DIV/0! | X7: =I7/I$31 -> #DIV/0! | ... AC7: =N7/N$31 -> #DIV/0!
A8: E00-E89: Endocrine, nutritional and metabolic diseases | B8: 37 | C8: 151 | D8: 71 | E8: 30 | F8: 113 | P8: E00-E89: Endocrine, nutritional and metabolic diseases | Q8: =B8/B$31 -> 0.0037909836 | R8: =C8/C$31 -> 0.0040435959 | S8: =D8/D$31 -> 0.005583956 | T8: =E8/E$31 -> 0.0059988002 | U8: =F8/F$31 -> 0.0059649493 | V8: =G8/G$31 -> #DIV/0! | W8: =H8/H$31 -> #DIV/0! | X8: =I8/I$31 -> #DIV/0! | ... AC8: =N8/N$31 -> #DIV/0!
A9: F01-F99: Mental disorders | B9: 685 | C9: 1031 | D9: 1148 | E9: 313 | F9: 797 | P9: F01-F99: Mental disorders | Q9: =B9/B$31 -> 0.070184426 | R9: =C9/C$31 -> 0.027608923 | S9: =D9/D$31 -> 0.090287063 | T9: =E9/E$31 -> 0.062587483 | U9: =F9/F$31 -> 0.042071368 | V9: =G9/G$31 -> #DIV/0! | W9: =H9/H$31 -> #DIV/0! | X9: =I9/I$31 -> #DIV/0! | ... AC9: =N9/N$31 -> #DIV/0!
A10: ______Mental disorders due to known physiological conditions | B10: 1 | C10: 7 | D10: 5 | E10: 0 | F10: 10 | P10: G00-G99: Diseases of the nervous system | Q10: =B18/B$31 -> 0.00020491803 | R10: =C18/C$31 -> 0.0046059502 | S10: =D18/D$31 -> 0.0069996068 | T10: =E18/E$31 -> 0.0055988802 | U10: =F18/F$31 -> 0.0087098818 | V10: =G18/G$31 -> #DIV/0! | W10: =H18/H$31 -> #DIV/0! | X10: =I18/I$31 -> #DIV/0! | ... AC10: =N18/N$31 -> #DIV/0!
A11: ______Mental and behavioral disorders due to psychoactive substance use | B11: 295 | C11: 537 | D11: 517 | E11: 123 | F11: 348 | P11: H00-H59: Diseases of the eye and adnexa | Q11: =B19/B$31 -> 0.0045081967 | R11: =C19/C$31 -> 0.00037490293 | S11: =D19/D$31 -> 0.00039323634 | T11: =E19/E$31 -> 0.00119976 | U11: =F19/F$31 -> 0.00031672297 | V11: =G19/G$31 -> #DIV/0! | W11: =H19/H$31 -> #DIV/0! | X11: =I19/I$31 -> #DIV/0! | ... AC11: =N19/N$31 -> #DIV/0!
A12: ______Schizophrenia, schizotypal, delusional, and other non-mood psychotic disorders | B12: 15 | C12: 19 | D12: 52 | E12: 12 | F12: 21 | P12: I00-I99: Diseases of the circulatory system | Q12: =B20/B$31 -> 0.0029713115 | R12: =C20/C$31 -> 0.0065072437 | S12: =D20/D$31 -> 0.022099882 | T12: =E20/E$31 -> 0.0053989202 | U12: =F20/F$31 -> 0.0078125 | V12: =G20/G$31 -> #DIV/0! | W12: =H20/H$31 -> #DIV/0! | X12: =I20/I$31 -> #DIV/0! | ... AC12: =N20/N$31 -> #DIV/0!
A13: ______Mood [affective] disorders | B13: 284 | C13: 346 | D13: 459 | E13: 143 | F13: 316 | P13: J00-J99: Diseases of the respiratory system | Q13: =B21/B$31 -> 0.0034836066 | R13: =C21/C$31 -> 0.0067214739 | S13: =D21/D$31 -> 0.01439245 | T13: =E21/E$31 -> 0.0051989602 | U13: =F21/F$31 -> 0.0072318412 | V13: =G21/G$31 -> #DIV/0! | W13: =H21/H$31 -> #DIV/0! | X13: =I21/I$31 -> #DIV/0! | ... AC13: =N21/N$31 -> #DIV/0!
A14: ______Anxiety, dissociative, stress-related, somatoform and other nonpsychotic mental disorders | B14: 71 | C14: 107 | D14: 81 | E14: 29 | F14: 89 | P14: K00-K95: Diseases of the digestive system | Q14: =B22/B$31 -> 0.0027663934 | R14: =C22/C$31 -> 0.0022226388 | S14: =D22/D$31 -> 0.0087298466 | T14: =E22/E$31 -> 0.0045990802 | U14: =F22/F$31 -> 0.00390625 | V14: =G22/G$31 -> #DIV/0! | W14: =H22/H$31 -> #DIV/0! | X14: =I22/I$31 -> #DIV/0! | ... AC14: =N22/N$31 -> #DIV/0!
A15: ______Behavioral syndromes associated with physiological disturbances and physical factors | B15: 3 | C15: 5 | D15: 1 | E15: 2 | F15: 0 | P15: L00-L99: Diseases of the skin and subcutaneous tissue | Q15: =B23/B$31 -> 0.0028688525 | R15: =C23/C$31 -> 0.0024904266 | S15: =D23/D$31 -> 0.0030672434 | T15: =E23/E$31 -> 0.0025994801 | U15: =F23/F$31 -> 0.001636402 | V15: =G23/G$31 -> #DIV/0! | W15: =H23/H$31 -> #DIV/0! | X15: =I23/I$31 -> #DIV/0! | ... AC15: =N23/N$31 -> #DIV/0!
A16: ______Disorders of adult personality and behavior | B16: 6 | C16: ** | D16: 5 | E16: 2 | F16: 2 | P16: M00-M99: Diseases of the musculoskeletal system and connective tissue | Q16: =B24/B$31 -> 0.0032786885 | R16: =C24/C$31 -> 0.0024904266 | S16: =D24/D$31 -> 0.0046401888 | T16: =E24/E$31 -> 0.0025994801 | U16: =F24/F$31 -> 0.0023226351 | V16: =G24/G$31 -> #DIV/0! | W16: =H24/H$31 -> #DIV/0! | X16: =I24/I$31 -> #DIV/0! | ... AC16: =N24/N$31 -> #DIV/0!
A17: ______Behavioral and emotional disorders with onset usually occurring in childhood and adolescence | B17: 8 | C17: 7 | D17: 20 | E17: 2 | F17: 7 | P17: N00-N99: Diseases of the genitourinary system | Q17: =B25/B$31 -> 0.0023565574 | R17: =C25/C$31 -> 0.0025439841 | S17: =D25/D$31 -> 0.012583563 | T17: =E25/E$31 -> 0.0045990802 | U17: =F25/F$31 -> 0.0041701858 | V17: =G25/G$31 -> #DIV/0! | W17: =H25/H$31 -> #DIV/0! | X17: =I25/I$31 -> #DIV/0! | ... AC17: =N25/N$31 -> #DIV/0!
A18: G00-G99: Diseases of the nervous system | B18: 2 | C18: 172 | D18: 89 | E18: 28 | F18: 165 | P18: O00-O9B: Complications of pregnancy, childbirth, and the puerperium | Q18: =B26/B$31 -> 0.0026639344 | R18: =C26/C$31 -> 0.0029456659 | S18: =D26/D$31 -> 0.0033818325 | T18: =E26/E$31 -> 0.0025994801 | U18: =F26/F$31 -> 0.0030088682 | V18: =G26/G$31 -> #DIV/0! | W18: =H26/H$31 -> #DIV/0! | X18: =I26/I$31 -> #DIV/0! | ... AC18: =N26/N$31 -> #DIV/0!
A19: H00-H59: Diseases of the eye and adnexa | B19: 44 | C19: 14 | D19: 5 | E19: 6 | F19: 6 | P19: Q00-Q99: Congenital malformations, deformations and chromosomal anomalies | Q19: =B27/B$31 -> 0.00010245902 | R19: =C27/C$31 -> 0 | S19: =D27/D$31 -> 7.8647267e-05 | T19: =E27/E$31 -> 0 | U19: =F27/F$31 -> 0 | V19: =G27/G$31 -> #DIV/0! | W19: =H27/H$31 -> #DIV/0! | X19: =I27/I$31 -> #DIV/0! | ... AC19: =N27/N$31 -> #DIV/0!
A20: I00-I99: Diseases of the circulatory system | B20: 29 | C20: 243 | D20: 281 | E20: 27 | F20: 148 | P20: R00-R99: Symptoms, signs, and ill-defined conditions | Q20: =B28/B$31 -> 0.048668033 | R20: =C28/C$31 -> 0.029295986 | S20: =D28/D$31 -> 0.048289422 | T20: =E28/E$31 -> 0.050589882 | U20: =F28/F$31 -> 0.056904561 | V20: =G28/G$31 -> #DIV/0! | W20: =H28/H$31 -> #DIV/0! | X20: =I28/I$31 -> #DIV/0! | ... AC20: =N28/N$31 -> #DIV/0!
A21: J00-J99: Diseases of the respiratory system | B21: 34 | C21: 251 | D21: 183 | E21: 26 | F21: 137 | P21: S00-T88: Injury, poisoning, and certain other consequences of external causes | Q21: =B29/B$31 -> 0.77612705 | R21: =C29/C$31 -> 0.87456819 | S21: =D29/D$31 -> 0.66425482 | T21: =E29/E$31 -> 0.76804639 | U21: =F29/F$31 -> 0.80278716 | V21: =G29/G$31 -> #DIV/0! | W21: =H29/H$31 -> #DIV/0! | X21: =I29/I$31 -> #DIV/0! | ... AC21: =N29/N$31 -> #DIV/0!
A22: K00-K95: Diseases of the digestive system | B22: 27 | C22: 83 | D22: 111 | E22: 23 | F22: 74 | P22: Z00-Z99: Factors influencing health status and contact with health services | Q22: =B30/B$31 -> 0.0050204918 | R22: =C30/C$31 -> 0.0047934017 | S22: =D30/D$31 -> 0.0099095556 | T22: =E30/E$31 -> 0.0065986803 | U22: =F30/F$31 -> 0.0084987331 | V22: =G30/G$31 -> #DIV/0! | W22: =H30/H$31 -> #DIV/0! | X22: =I30/I$31 -> #DIV/0! | ... AC22: =N30/N$31 -> #DIV/0!
A23: L00-L99: Diseases of the skin and subcutaneous tissue | B23: 28 | C23: 93 | D23: 39 | E23: 13 | F23: 31
A24: M00-M99: Diseases of the musculoskeletal system and connective tissue | B24: 32 | C24: 93 | D24: 59 | E24: 13 | F24: 44 | Q24: =Table_4.0_Information!$A$4 -> Colorado | R24: =Table_4.0_Information!$A$5 -> Kentucky | S24: Louisiana | T24: =Table_4.0_Information!$A$6 -> New Mexico | U24: Tennesee | V24: =Table_4.0_Information!$A$8 -> 5 add state in table 0 | W24: =Table_4.0_Information!$A$9 -> 6 add state in table 0 | X24: =Table_4.0_Information!$A$10 -> 7 add state in table 0 | Y24: =Table_4.0_Information!$A$11 -> 8 add state in table 0 | Z24: =Table_4.0_Information!$A$12 -> 9 add state in table 0 | AA24: =Table_4.0_Information!$A$13 -> 10 add state in table 0 | AB24: =Table_4.0_Information!$A$14 -> 11 add state in table 0 | AC24: =Table_4.0_Information!$A$15 -> 12 add state in table 0
A25: N00-N99: Diseases of the genitourinary system | B25: 23 | C25: 95 | D25: 160 | E25: 23 | F25: 79 | P25: Mental disorders due to known physiological conditions | Q25: =B10/B$9 -> 0.001459854 | R25: =C10/C$9 -> 0.0067895247 | S25: =D10/D$9 -> 0.0043554007 | T25: =E10/E$9 -> 0 | U25: =F10/F$9 -> 0.012547051 | V25: =G10/G$9 -> #DIV/0! | W25: =H10/H$9 -> #DIV/0! | X25: =I10/I$9 -> #DIV/0! | ... AC25: =N10/N$9 -> #DIV/0!
A26: O00-O9B: Complications of pregnancy, childbirth, and the puerperium | B26: 26 | C26: 110 | D26: 43 | E26: 13 | F26: 57 | P26: Mental and behavioral disorders due to psychoactive substance use | Q26: =B11/B$9 -> 0.43065693 | R26: =C11/C$9 -> 0.52085354 | S26: =D11/D$9 -> 0.45034843 | T26: =E11/E$9 -> 0.39297125 | U26: =F11/F$9 -> 0.43663739 | V26: =G11/G$9 -> #DIV/0! | W26: =H11/H$9 -> #DIV/0! | X26: =I11/I$9 -> #DIV/0! | ... AC26: =N11/N$9 -> #DIV/0!
A27: Q00-Q99: Congenital malformations, deformations and chromosomal anomalies | B27: 1 | C27: 0 | D27: 1 | E27: 0 | F27: 0 | P27: Schizophrenia, schizotypal, delusional, and other non-mood psychotic disorders | Q27: =B12/B$9 -> 0.02189781 | R27: =C12/C$9 -> 0.01842871 | S27: =D12/D$9 -> 0.045296167 | T27: =E12/E$9 -> 0.038338658 | U27: =F12/F$9 -> 0.026348808 | V27: =G12/G$9 -> #DIV/0! | W27: =H12/H$9 -> #DIV/0! | X27: =I12/I$9 -> #DIV/0! | ... AC27: =N12/N$9 -> #DIV/0!
A28: R00-R99: Symptoms, signs, and ill-defined conditions | B28: 475 | C28: 1094 | D28: 614 | E28: 253 | F28: 1078 | P28: Mood [affective] disorders | Q28: =B13/B$9 -> 0.41459854 | R28: =C13/C$9 -> 0.33559651 | S28: =D13/D$9 -> 0.39982578 | T28: =E13/E$9 -> 0.45686901 | U28: =F13/F$9 -> 0.39648683 | V28: =G13/G$9 -> #DIV/0! | W28: =H13/H$9 -> #DIV/0! | X28: =I13/I$9 -> #DIV/0! | ... AC28: =N13/N$9 -> #DIV/0!
A29: S00-T88: Injury, poisoning, and certain other consequences of external causes | B29: 7575 | C29: 32659 | D29: 8446 | E29: 3841 | F29: 15208 | P29: Anxiety, dissociative, stress-related, somatoform and other nonpsychotic mental disorders | Q29: =B14/B$9 -> 0.10364964 | R29: =C14/C$9 -> 0.10378274 | S29: =D14/D$9 -> 0.070557491 | T29: =E14/E$9 -> 0.092651757 | U29: =F14/F$9 -> 0.11166876 | V29: =G14/G$9 -> #DIV/0! | W29: =H14/H$9 -> #DIV/0! | X29: =I14/I$9 -> #DIV/0! | ... AC29: =N14/N$9 -> #DIV/0!
A30: Z00-Z99: Factors influencing health status and contact with health services | B30: 49 | C30: 179 | D30: 126 | E30: 33 | F30: 161 | P30: Behavioral syndromes associated with physiological disturbances and physical factors | Q30: =B15/B$9 -> 0.004379562 | R30: =C15/C$9 -> 0.0048496605 | S30: =D15/D$9 -> 0.00087108014 | T30: =E15/E$9 -> 0.0063897764 | U30: =F15/F$9 -> 0 | V30: =G15/G$9 -> #DIV/0! | W30: =H15/H$9 -> #DIV/0! | X30: =I15/I$9 -> #DIV/0! | ... AC30: =N15/N$9 -> #DIV/0!
A31: total | B31: =SUM(B5:B9:B18:B30) -> 9760 | C31: =SUM(C5:C9:C18:C30) -> 37343 | D31: =SUM(D5:D30) -> 12715 | E31: =SUM(E5:E9:E18:E30) -> 5001 | F31: =SUM(F5:F9:F18:F30) -> 18944 | G31: =SUM(G5:G9:G18:G30) -> 0 | H31: =SUM(H5:H9:H18:H30) -> 0 | I31: =SUM(I5:I9:I18:I30) -> 0 | J31: =SUM(J5:J9:J18:J30) -> 0 | K31: =SUM(K5:K9:K18:K30) -> 0 | L31: =SUM(L5:L9:L18:L30) -> 0 | ... N31: =SUM(N5:N9:N18:N30) -> 0 | P31: Disorders of adult personality and behavior | Q31: =B16/B$9 -> 0.0087591241 | R31: =C16/C$9 -> #VALUE! | S31: =D16/D$9 -> 0.0043554007 | T31: =E16/E$9 -> 0.0063897764 | U31: =F16/F$9 -> 0.0025094103 | V31: =G16/G$9 -> #DIV/0! | W31: =H16/H$9 -> #DIV/0! | X31: =I16/I$9 -> #DIV/0! | ... AC31: =N16/N$9 -> #DIV/0!
P32: Behavioral and emotional disorders with onset usually occurring in childhood and adolescence | Q32: =B17/B$9 -> 0.011678832 | R32: =C17/C$9 -> 0.0067895247 | S32: =D17/D$9 -> 0.017421603 | T32: =E17/E$9 -> 0.0063897764 | U32: =F17/F$9 -> 0.008782936 | V32: =G17/G$9 -> #DIV/0! | W32: =H17/H$9 -> #DIV/0! | X32: =I17/I$9 -> #DIV/0! | ... AC32: =N17/N$9 -> #DIV/0!
Q33: Percent of cases (with F as principal and T as secondary) in each mental health category

Sheet 4_1.11_Discharge_Expired
A1: Table 11: Individuals who Expired | C1: 11 a and b (look at any mention too)
B2: =Table_4.0_Information!$A$4 -> Colorado | C2: =Table_4.0_Information!$A$5 -> Kentucky | D2: Louisiana | E2: =Table_4.0_Information!$A$6 -> New Mexico | F2: Tennessee | G2: =Table_4.0_Information!$A$8 -> 5 add state in table 0 | H2: =Table_4.0_Information!$A$9 -> 6 add state in table 0 | I2: =Table_4.0_Information!$A$10 -> 7 add state in table 0 | J2: =Table_4.0_Information!$A$11 -> 8 add state in table 0 | K2: =Table_4.0_Information!$A$12 -> 9 add state in table 0 | L2: =Table_4.0_Information!$A$13 -> 10 add state in table 0 | M2: =Table_4.0_Information!$A$14 -> 11 add state in table 0 | N2: =Table_4.0_Information!$A$15 -> 12 add state in table 0
A3: Expired | B3: 3 | C3: 70 | D3: 62 | E3: 24 | F3: 18
A4: Non-Expired | B4: 7331 | C4: 31889 | D4: 8112 | E4: 3715 | F4: 14704
A5: Total | B5: =SUM(B3:B4) -> 7334 | C5: =SUM(C3:C4) -> 31959 | D5: =SUM(D3:D4) -> 8174 | E5: =SUM(E3:E4) -> 3739 | F5: =SUM(F3:F4) -> 14722 | G5: =SUM(G3:G4) -> 0 | H5: =SUM(H3:H4) -> 0 | I5: =SUM(I3:I4) -> 0 | ... L5: =SUM(L3:L4) -> 0
A6: Percent Expired | B6: =B3/B5 -> 0.00040905372 | C6: =C3/C5 -> 0.0021903063 | D6: =D3/D5 -> 0.0075850257 | E6: =E3/E5 -> 0.0064188286 | F6: =F3/F5 -> 0.00122266

Sheet 4_1.9_Any_Mention
A1: Table 9a: Frequency of type of encounter, Any Mention of Drugs
B3: =Table_4.0_Information!$A$4 -> Colorado | C3: =Table_4.0_Information!$A$5 -> Kentucky | D3: Louisiana | E3: =Table_4.0_Information!$A$6 -> New Mexico | F3: Tennessee | G3: =Table_4.0_Information!$A$8 -> 5 add state in table 0 | H3: =Table_4.0_Information!$A$9 -> 6 add state in table 0 | I3: =Table_4.0_Information!$A$10 -> 7 add state in table 0 | J3: =Table_4.0_Information!$A$11 -> 8 add state in table 0 | K3: =Table_4.0_Information!$A$12 -> 9 add state in table 0 | L3: =Table_4.0_Information!$A$13 -> 10 add state in table 0 | M3: =Table_4.0_Information!$A$14 -> 11 add state in table 0 | N3: =Table_4.0_Information!$A$15 -> 12 add state in table 0 | Q3: =Table_4.0_Information!$A$4 -> Colorado | R3: =Table_4.0_Information!$A$5 -> Kentucky | S3: Louisiana | T3: =Table_4.0_Information!$A$6 -> New Mexico | U3: Tennessee | V3: =Table_4.0_Information!$A$8 -> 5 add state in table 0 | W3: =Table_4.0_Information!$A$9 -> 6 add state in table 0 | X3: =Table_4.0_Information!$A$10 -> 7 add state in table 0 | Y3: =Table_4.0_Information!$A$11 -> 8 add state in table 0 | Z3: =Table_4.0_Information!$A$12 -> 9 add state in table 0 | AA3: =Table_4.0_Information!$A$13 -> 10 add state in table 0 | AB3: =Table_4.0_Information!$A$14 -> 11 add state in table 0 | AC3: =Table_4.0_Information!$A$15 -> 12 add state in table 0
A4: A: initial encounter | B4: 19265 | C4: 69647 | D4: 8165 | E4: 10449 | F4: 37021 | P4: A: initial encounter | Q4: =B4/B$8 -> 0.99324603 | R4: =C4/C$8 -> 0.99554025 | S4: =D4/D$8 -> 0.99804425 | T4: =E4/E$8 -> 0.79249147 | U4: =F4/F$8 -> 0.99534871 | V4: =G4/G$8 -> #DIV/0! | W4: =H4/H$8 -> #DIV/0! | X4: =I4/I$8 -> #DIV/0! | ... AC4: =N4/N$8 -> #DIV/0!
A5: D: subsequential encounter | B5: 91 | C5: 147 | D5: 9 | E5: 42 | F5: 81 | P5: D: subsequential encounter | Q5: =B5/B$8 -> 0.004691689 | R5: =C5/C$8 -> 0.0021012307 | S5: =D5/D$8 -> 0.00110011 | T5: =E5/E$8 -> 0.003185438 | U5: =F5/F$8 -> 0.0021777706 | V5: =G5/G$8 -> #DIV/0! | W5: =H5/H$8 -> #DIV/0! | X5: =I5/I$8 -> #DIV/0! | ... AC5: =N5/N$8 -> #DIV/0!
A6: S: sequela | B6: 39 | C6: 124 | D6: 7 | E6: 53 | F6: 91 | P6: S: sequela | Q6: =B6/B$8 -> 0.0020107239 | R6: =C6/C$8 -> 0.0017724667 | S6: =D6/D$8 -> 0.00085564112 | T6: =E6/E$8 -> 0.0040197194 | U6: =F6/F$8 -> 0.0024466312 | V6: =G6/G$8 -> #DIV/0! | W6: =H6/H$8 -> #DIV/0! | X6: =I6/I$8 -> #DIV/0! | ... AC6: =N6/N$8 -> #DIV/0!
A7: Missing | B7: 1 | C7: 41 | D7: 0 | E7: 2641 | F7: 1 | P7: Missing | Q7: =B7/B$8 -> 5.1557022e-05 | R7: =C7/C$8 -> 0.00058605755 | S7: =D7/D$8 -> 0 | T7: =E7/E$8 -> 0.20030338 | U7: =F7/F$8 -> 2.6886057e-05 | V7: =G7/G$8 -> #DIV/0! | W7: =H7/H$8 -> #DIV/0! | X7: =I7/I$8 -> #DIV/0! | ... AC7: =N7/N$8 -> #DIV/0!
B8: =SUM(B4:B7) -> 19396 | C8: =SUM(C4:C7) -> 69959 | D8: =SUM(D4:D7) -> 8181 | E8: =SUM(E4:E7) -> 13185 | F8: =SUM(F4:F7) -> 37194 | G8: =SUM(G4:G7) -> 0 | H8: =SUM(H4:H7) -> 0 | I8: =SUM(I4:I7) -> 0 | ... N8: =SUM(N4:N7) -> 0
A10: Table 9b: Frequency of intent, Any Mention of Drugs
A12: The FREQ Procedure
B13: =Table_4.0_Information!$A$4 -> Colorado | C13: =Table_4.0_Information!$A$5 -> Kentucky | D13: Louisiana | E13: =Table_4.0_Information!$A$6 -> New Mexico | F13: Tennessee | G13: =Table_4.0_Information!$A$8 -> 5 add state in table 0 | H13: =Table_4.0_Information!$A$9 -> 6 add state in table 0 | I13: =Table_4.0_Information!$A$10 -> 7 add state in table 0 | J13: =Table_4.0_Information!$A$11 -> 8 add state in table 0 | K13: =Table_4.0_Information!$A$12 -> 9 add state in table 0 | L13: =Table_4.0_Information!$A$13 -> 10 add state in table 0 | M13: =Table_4.0_Information!$A$14 -> 11 add state in table 0 | N13: =Table_4.0_Information!$A$15 -> 12 add state in table 0 | Q13: =Table_4.0_Information!$A$4 -> Colorado | R13: =Table_4.0_Information!$A$5 -> Kentucky | S13: Louisiana | T13: =Table_4.0_Information!$A$6 -> New Mexico | U13: Tennessee | V13: =Table_4.0_Information!$A$8 -> 5 add state in table 0 | W13: =Table_4.0_Information!$A$9 -> 6 add state in table 0 | X13: =Table_4.0_Information!$A$10 -> 7 add state in table 0 | Y13: =Table_4.0_Information!$A$11 -> 8 add state in table 0 | Z13: =Table_4.0_Information!$A$12 -> 9 add state in table 0 | AA13: =Table_4.0_Information!$A$13 -> 10 add state in table 0 | AB13: =Table_4.0_Information!$A$14 -> 11 add state in table 0 | AC13: =Table_4.0_Information!$A$15 -> 12 add state in table 0
A14: 1Unintentional | B14: 4969 | C14: 28475 | D14: 7884 | E14: 2922 | F14: 11858 | P14: 1 Unintentional | Q14: =B14/B$21 -> 0.25618684 | R14: =C14/C$21 -> 0.40702411 | S14: =D14/D$21 -> 0.20784014 | T14: =E14/E$21 -> 0.22161547 | U14: =F14/F$21 -> 0.31881486 | V14: =G14/G$21 -> #DIV/0! | W14: =H14/H$21 -> #DIV/0! | X14: =I14/I$21 -> #DIV/0! | ... AC14: =N14/N$21 -> #DIV/0!
A15: 2 Self-Harm | B15: 3422 | C15: 6317 | D15: 3162 | E15: 1533 | F15: 5520 | P15: 2 Self-Harm | Q15: =B15/B$21 -> 0.17642813 | R15: =C15/C$21 -> 0.090295745 | S15: =D15/D$21 -> 0.083357499 | T15: =E15/E$21 -> 0.11626849 | U15: =F15/F$21 -> 0.14841103 | V15: =G15/G$21 -> #DIV/0! | W15: =H15/H$21 -> #DIV/0! | X15: =I15/I$21 -> #DIV/0! | ... AC15: =N15/N$21 -> #DIV/0!
A16: 3 Assault | B16: 31 | C16: 84 | D16: 33 | E16: 17 | F16: 56 | P16: 3 Assault | Q16: =B16/B$21 -> 0.0015982677 | R16: =C16/C$21 -> 0.0012007033 | S16: =D16/D$21 -> 0.00086995492 | T16: =E16/E$21 -> 0.001289344 | U16: =F16/F$21 -> 0.0015056192 | V16: =G16/G$21 -> #DIV/0! | W16: =H16/H$21 -> #DIV/0! | X16: =I16/I$21 -> #DIV/0! | ... AC16: =N16/N$21 -> #DIV/0!
A17: 4 Undetermined | B17: 674 | C17: 1472 | D17: 654 | E17: 225 | F17: 735 | P17: 4 Undetermined | Q17: =B17/B$21 -> 0.034749433 | R17: =C17/C$21 -> 0.021040895 | S17: =D17/D$21 -> 0.017240925 | T17: =E17/E$21 -> 0.017064846 | U17: =F17/F$21 -> 0.019761252 | V17: =G17/G$21 -> #DIV/0! | W17: =H17/H$21 -> #DIV/0! | X17: =I17/I$21 -> #DIV/0! | ... AC17: =N17/N$21 -> #DIV/0!
A18: 5 Adverse Effect | B18: 9492 | C18: 32379 | D18: 25326 | E18: 5583 | F18: 18398 | P18: 5 Adverse Effect | Q18: =B18/B$21 -> 0.48937925 | R18: =C18/C$21 -> 0.46282823 | S18: =D18/D$21 -> 0.66765086 | T18: =E18/E$21 -> 0.42343572 | U18: =F18/F$21 -> 0.49464967 | V18: =G18/G$21 -> #DIV/0! | W18: =H18/H$21 -> #DIV/0! | X18: =I18/I$21 -> #DIV/0! | ... AC18: =N18/N$21 -> #DIV/0!
A19: 6 Underdose | B19: 808 | C19: 1232 | D19: 874 | E19: 304 | F19: 627 | P19: 6 Underdose | Q19: =B19/B$21 -> 0.041658074 | R19: =C19/C$21 -> 0.017610315 | S19: =D19/D$21 -> 0.023040624 | T19: =E19/E$21 -> 0.023056504 | U19: =F19/F$21 -> 0.016857558 | V19: =G19/G$21 -> #DIV/0! | W19: =H19/H$21 -> #DIV/0! | X19: =I19/I$21 -> #DIV/0! | ... AC19: =N19/N$21 -> #DIV/0!
A20: Missing | E20: 2601 | P20: Missing | Q20: =B20/B$21 -> 0 | R20: =C20/C$21 -> 0 | S20: =D20/D$21 -> 0 | T20: =E20/E$21 -> 0.19726962 | U20: =F20/F$21 -> 0 | V20: =G20/G$21 -> #DIV/0! | W20: =H20/H$21 -> #DIV/0! | X20: =I20/I$21 -> #DIV/0! | ... AC20: =N20/N$21 -> #DIV/0!
A21: total | B21: =SUM(B14:B20) -> 19396 | C21: =SUM(C14:C20) -> 69959 | D21: =SUM(D14:D20) -> 37933 | E21: =SUM(E14:E20) -> 13185 | F21: =SUM(F14:F20) -> 37194 | G21: =SUM(G14:G20) -> 0 | H21: =SUM(H14:H20) -> 0 | I21: =SUM(I14:I20) -> 0 | ... N21: =SUM(N14:N20) -> 0

Sheet 4_2.3_Drug_by_Quarter
A1: Indicator 2.3.1 - Opioids, By Quarter
E2: Colorado | H2: =Table_4.0_Information!$A$5 -> Kentucky | M2: =Table_4.0_Information!$A$6 -> New Mexico | S2: =Table_4.0_Information!$A$7 -> 4 add state in table 0 | X2: =Table_4.0_Information!$A$8 -> 5 add state in table 0 | AC2: =Table_4.0_Information!$A$9 -> 6 add state in table 0 | AH2: =Table_4.0_Information!$A$10 -> 7 add state in table 0 | AM2: =Table_4.0_Information!$A$11 -> 8 add state in table 0 | AR2: =Table_4.0_Information!$A$12 -> 9 add state in table 0 | AW2: =Table_4.0_Information!$A$13 -> 10 add state in table 0 | BB2: =Table_4.0_Information!$A$14 -> 11 add state in table 0 | BG2: =Table_4.0_Information!$A$15 -> 12 add state in table 0
