Workbook

Sheet Instructions
A1: Step 1: Preparing State Data | F1: Step 2: Entering Data
A2: Name | B2: ICD-10-CM code | C2: ICD-10-CM notes
A3: 1a. Create Nonfatal TBI-Specific Injury Hospitalizations Data Set - The TBI-specific hospitalization indicators should be calculated based on first creating a TBI-related injury hospitalization subset. This is done using the ICD-10-CM codes for the TBI-related hospital discharge indicator in the State Injury Indicators listed below. For hospitalizations, one of these codes should be in the primary/principal diagnosis field for the case to be in the injury subset. *Only include cases if the 7th character of the code is A, B, C, or missing (reflects initial encounter, active treatment). T30-T32 do not have a 7th character. Create an injury hospitalization subset using the ICD-10-CM codes below:
A5: Nonfatal injury hospitalization for all injuries | B5: S00-S99
B6: T07-T34
B7: T36-T50 | C7: T36-T50 with a 6th character of 1, 2, 3, or 4 Note: Include T36.9, T37.9, T39.9, T41.4, T42.7, T43.9, T45.9, T47.9, and T49.9 with 5th character of 1, 2, 3, or 4) (Intent information for these codes is included in the 5th character and not the 6th)
B8: T51-T65
B9: T66-T76
B10: T79
B11: O9A.2-O9A.5
B12: M97
A13: 1b. Select hospitalizations with any of the TBI ICD-10-CM codes in any diagnosis field listed below: *Only Include cases if the 7th character of the code is A, B, or missing (reflects initial encounter, active treatment)
A16: Nonfatal TBI-related injury hospitalization | B16: S02.0
B17: S02.1
B18: S02.8
B19: S02.91
B20: S04.02
B21: S04.03
B22: S04.04
B23: S06
B24: S07.1
B25: T74.4
A26: 1c. For the other TBI-related indicators, use the external-cause-of-injury ICD-10-CM codes listed below: *Only Include cases if the 7th character of the code is A or missing (reflects initial encounter, active treatment
A28: Nonfatal unintentional fall-related hospitalization | B28: V00 | C28: with 6th character=1
B29: W00-W15, W17, W19
B30: W16 | C30: with 6th character=2, W16.42, W16.92
B31: W18.1-W18.3
A32: Nonfatal Firearm-related hospitalization | B32: W32, W33, W34.00, W34.09, W34.10, W34.19
B33: X72, X73, X74.8, X74.9
B34: X93, X94, X95.8, X95.9
B35: Y38.4
B36: Y22, Y23, Y24.8, Y24.9
B37: Y35.00-Y35.03, Y35.09
A40: Nonfatal Assault-related hospitalization | B40: X92-Y09
B41: T36-T50 | C41: T36-T50 with 6th character=3 Note: Include T36.9, T37.9, T39.9, T41.4, T42.7, T43.9, T45.9, T47.9, and T49.9 with 5th character=3)(Intent information for these codes is included in the 5thcharacter and not the 6th
B42: T51-T65 | C42: T51-T65 with 6th character=3 Note: Include T51.9, T52.9, T53.9, T54.9, T56.9, T57.9, T58.0, T58.1, T58.9, T59.9, T60.9, T61.0, T61.1, T61.9, T62.9, T63.9, T64.0, T64.8, and T65.9 with a 5th character = 3 (Intent information for these codes is included in the 5thcharacter and not the 6th)
B43: T71 | C43: with 6th character = 3
B44: T74
B45: T76
B46: Y38
A47: Nonfatal Suicide attempt hospitalization | B47: X71-X83 | C47: ICD-10 codes are for Nonfatal Intentional Self-Harm Hospitalizations
B48: T36-T50 | C48: 5th and 6th character of 2
B49: T51-T65 | C49: 5th and 6th character of 2
B50: T71 | C50: with 6th character = 2
B51: T14.91
A52: Nonfatal Unintentional struck by/against hospitalization | B52: V00.0, [V00.1–V00.8] (with 6th character = 2), W18.0, W20, W21, W22.01–W22.03, W22.042, W22.09, W22.1, W22.8, W50–W52
A53: Nonfatal Motor vehicle traffic hospitalization | B53: V02-V04 (.1, .9), V09.2, V09.3
B54: V12-V14 (.3-.9), V19.4-V19.6, V19.9
B55: V20-V28 (.3-.9), V29.4-V29.9
B56: V30-V79 (.4-.9), V83-V86 (.0-.3), V87.0-V87.8, V89.2
B57: V80.3-V80.5, V81.1, V82.1
A58: 2a. Create Nonfatal TBI-Specific Injury Emergency Department (ED) Visit Data Set - These indicators should be calculated based on first creating a TBI-related injury emergency department visit subset. This is done using the instructions for ICD-10-CM codes for TBI-related emergency department indicator listed below: *Only include cases if the 7th character of the code is A, B, C, or missing (reflects initial encounter, active treatment). T30-T32 do not have a 7th character.
A59: Nonfatal Injury ED visit | B59: S00-S99
B60: T07-T34
B61: T36-T50 | C61: T36-T50 with a 6th character of 1, 2, 3, or 4 Note: Include T36.9, T37.9, T39.9, T41.4, T42.7, T43.9, T45.9, T47.9, and T49.9 with 5th character of 1, 2, 3, or 4) (Intent information for these codes is included in the 5thcharacter and not the 6th)
B62: T51-T65
B63: T66-T76
B64: T79
B65: O9A.2-O9A.5
B66: T84.04
B67: M97
B68: V00-V99
B69: W00-X58
B70: X71-X83
B71: X92-Y09
B72: Y21-Y33
B73: Y35-Y38
A74: 2b. Select ED visits with any of the following TBI ICD-10-CM codes in any diagnosis field listed below:
A76: Nonfatal TBI-related ED visit | B76: S02.0
B77: S02.1
B78: S02.8
B79: S02.91
B80: S04.02
B81: S04.03
B82: S04.04
B83: S06
B84: S07.1
B85: T74.4
B86: S09.90
A87: 2c. For other TBI-related indicators, use the external-cause-of-injury ICD-10-CM codes specified below:
A88: Nonfatal Unintentional fall ED visit | B88: V00.11-V00.89 | C88: with 6th character=1
B89: W00-W15, W17, W19
B90: W16 | C90: with 6th character=2 (Except 16.4 and 16.9 with 5th character=2)
B91: W18.1, W18.2, W18.3
A92: Nonfatal Firearm-related ED visit | B92: W32.0, W32.1, W33.0, W33.1, W34.00, W34.09, W34.10, W34.19
B93: X72, X73, X74.8, X74.9
B94: X93, X94, X95.8, X95.9
B95: Y38.4
B96: Y22, Y23, Y24.8, Y24.9
B97: Y35.00-Y35.03, Y35.09
A98: Nonfatal Assault-related ED visit | B98: X92-Y09
B99: T36-T50 | C99: with 6th character=3 Note: Include T36.9, T37.9, T39.9, T41.4, T42.7, T43.9, T45.9, T47.9, and T49.9 with 5th character=3)(Intent information for these codes is included in the 5thcharacter and not the 6th
B100: T51-T65 | C100: with 6th character=3 Note: Include T51.9, T52.9, T53.9, T54.9, T56.9, T57.9, T58.0, T58.1, T58.9, T59.9, T60.9, T61.0, T61.1, T61.9, T62.9, T63.9, T64.0, T64.8, and T65.9 with a 5th character = 3 (Intent information for these codes is included in the 5thcharacter and not the 6th)
B101: T71 | C101: with 6th character = 3
B102: T74
B103: T76
B104: Y38
A105: Nonfatal Suicide attempt ED visit | B105: X71-X83 | C105: ICD-10 codes are for Nonfatal Intentional Self-Harm Hospitalizations
B106: T36-T50 | C106: with 6th character=3 Note: Include T36.9, T37.9, T39.9, T41.4, T42.7, T43.9, T45.9, T47.9, and T49.9 with 5th character=3)(Intent information for these codes is included in the 5thcharacter and not the 6th
B107: T51-T65 | C107: with 6th character=3 Note: Include T51.9, T52.9, T53.9, T54.9, T56.9, T57.9, T58.0, T58.1, T58.9, T59.9, T60.9, T61.0, T61.1, T61.9, T62.9, T63.9, T64.0, T64.8, and T65.9 with a 5th character = 3 (Intent information for these codes is included in the 5thcharacter and not the 6th)
...

Sheet  Populations
A1: TBI-Specific State Injury Indicators Report
A2: State Population Data
A3: State: | D3: Data year:
B4: Enter your state name in A4 | E4: Enter the data year in D4
B7: Enter total population data by age group below | D7: Enter male population data by age group below | F7: Enter female population data by age group below | H7: Optional: Enter demographic population data | J7: Optional: Enter demographic population data | L7: Optional: Enter demographic population data | N7: Optional: Enter demographic population data | P7: Optional: Enter demographic population data | R7: Optional: Enter demographic population data | T7: Optional: Enter demographic population data
A8: Age | B8: Total | D8: Male | F8: Female | H8: White-Not Hispanic | J8: Hispanic | L8: Black-Not Hispanic | N8: Asian | P8: American Indian/Alaska Native | R8: Other | S8: Enter name of "Other" category in R8 | T8: Other | U8: Enter name of "Other" category in T8
A9: <1yr
A10: 1-4yrs
A11: 5-9yrs
A12: 10-14yrs
A13: 15-19yrs
A14: 20-24yrs
A15: 25-34yrs
A16: 35-44yrs
A17: 45-54yrs
A18: 55-64yrs
A19: 65-74yrs
A20: 75-84yrs
A21: 85+
A22: TOTAL | B22: =SUM(B9:B21) -> 0 | D22: =SUM(D9:D21) -> 0 | F22: =SUM(F9:F21) -> 0 | H22: =SUM(H9:H21) -> 0 | J22: =SUM(J9:J21) -> 0 | L22: =SUM(L9:L21) -> 0 | N22: =SUM(N9:N21) -> 0 | P22: =SUM(P9:P21) -> 0 | R22: =SUM(R9:R21) -> 0 | T22: =SUM(T9:T21) -> 0

Sheet Health Regions
A1: TBI-Specific State Injury Indicators Report
A2: Health Regions Data
A4: Age | B4: Region 1 | D4: Region 2 | F4: Region 3 | H4: Region 4 | J4: Region 5 | L4: Region 6 | N4: Region 7 | P4: Region 8 | R4: Region 9 | T4: Region 10 | V4: Region 11 | X4: Region 12 | Z4: Region 13 | AB4: Region 14
A5: <1yr
A6: 1-4yrs
A7: 5-9yrs
A8: 10-14yrs
A9: 15-19yrs
A10: 20-24yrs
A11: 25-34yrs
A12: 35-44yrs
A13: 45-54yrs
A14: 55-64yrs
A15: 65-74yrs
A16: 75-84yrs
A17: 85+
A18: TOTAL | B18: =SUM(B5:B17) -> 0 | D18: =SUM(D5:D17) -> 0 | F18: =SUM(F5:F17) -> 0 | H18: =SUM(H5:H17) -> 0 | J18: =SUM(J5:J17) -> 0 | L18: =SUM(L5:L17) -> 0 | N18: =SUM(N5:N17) -> 0 | P18: =SUM(P5:P17) -> 0 | R18: =SUM(R5:R17) -> 0 | T18: =SUM(T5:T17) -> 0 | V18: =SUM(V5:V17) -> 0 | X18: =SUM(X5:X17) -> 0 | Z18: =SUM(Z5:Z17) -> 0 | AB18: =SUM(AB5:AB17) -> 0

Sheet Fall-related_Injuries (2020)
B1: Data Input Tables Instructions: Enter your TBI-related injury data in the red cells below. The age-adjusted rates will automatically calculate in the results table. | F1: Optional: Unhide columns G through L to enter demographic data | M1: Optional: Unhide columns N through Z to enter health region data | AB1: Optional: Unhide columns AC through CA to show rate calculations and 2000 population weights | CC1: Results Table Age Adjusted Rates per 100,1000. Results will calculate automatically. | CF1: Optional: Unhide columns CG through DA to show demographic and Regional rates
D2: Sex Data | F2: Demographic Data | M2: Region Data | CD2: Age-adjusted Rates per 100,000 population
B3: Age | C3: Number of hospitalizations- Total | D3: Number of hospitalizations- Male | E3: Number of hospitalizations- Female | F3: Number of hospitalizations- White-Not Hispanic | G3: Number of hospitalizations- Hispanic | H3: Number of hospitalizations- Black-Not Hispanic | I3: Number of hospitalizations- Asian | J3: Number of hospitalizations- American Indian/Alaska Native | K3: =' Populations'!R8 -> Other | L3: =' Populations'!T8 -> Other | M3: Number of hospitalizations- Region 1 | N3: Number of hospitalizations- Region 2 | O3: Number of hospitalizations- Region 3 | P3: Number of hospitalizations- Region 4 | Q3: Number of hospitalizations- Region 5 | R3: Number of hospitalizations- Region 6 | S3: Number of hospitalizations- Region 7 | T3: Number of hospitalizations- Region 8 | U3: Number of hospitalizations- Region 9 | V3: Number of hospitalizations- Region 10 | W3: Number of hospitalizations- Region 11 | X3: Number of hospitalizations- Region 12 | Y3: Number of hospitalizations- Region 13 | Z3: Number of hospitalizations- Region 14 | AB3: State population - Total | AC3: Rate | AD3: State population - Male | AE3: Rate | AF3: State population - Female | AG3: Rate | AH3: State population - White-Not Hispanic | AI3: Rate | AJ3: State population - Hispanic | AK3: Rate | AL3: State population - Black-Not Hispanic | AM3: Rate | AN3: State population - Asian | AO3: Rate | AP3: State population - American Indian/Alaska Native | AQ3: Rate | AR3: =' Populations'!R8 -> Other | AS3: Rate | AT3: =' Populations'!T8 -> Other | AU3: Rate | AW3: Region 1 | AX3: Rate | AY3: Region 2 | AZ3: Rate | BA3: Region 3 | BB3: Rate | BC3: Region 4 | BD3: Rate | BE3: Region 5 | BF3: Rate | BG3: Region 6 | BH3: Rate | BI3: Region 7 | BJ3: Rate | BK3: Region 8 | BL3: Rate | BM3: Region 9 | BN3: Rate | BO3: Region 10 | BP3: Rate | BQ3: Region 11 | BR3: Rate | BS3: Region 12 | BT3: Rate | BU3: Region 13 | BV3: Rate | BW3: Region 14 | BX3: Rate | BZ3: 2000 population | CA3: Weight | CC3: Age | CD3: Total | CE3: Male | CF3: Female | CG3: White-Not Hispanic | CH3: Hispanic | CI3: Black-Not Hispanic | CJ3: Asian | CK3: American Indian/Alaska Native | CL3: =' Populations'!R8 -> Other | CM3: =' Populations'!T8 -> Other | CN3: Hospitalizations- Region 1 | CO3: Hospitalizations- Region 2 | CP3: Hospitalizations- Region 3 | CQ3: Hospitalizations- Region 4 | CR3: Hospitalizations- Region 5 | CS3: Hospitalizations- Region 6 | CT3: Hospitalizations- Region 7 | CU3: Hospitalizations- Region 8 | CV3: Hospitalizations- Region 9 | CW3: Hospitalizations- Region 10 | CX3: Hospitalizations- Region 11 | CY3: Hospitalizations- Region 12 | CZ3: Hospitalizations- Region 13 | DA3: Hospitalizations- Region 14
B4: <1yr | AB4: =' Populations'!B9 -> 0 | AC4: =IF(AB4=0,0,($C$4/$AB$4)*100000) -> 0 | AD4: =' Populations'!D9 -> 0 | AE4: =IF(AD4=0,0,($D$4/$AD$4)*100000) -> 0 | AF4: =' Populations'!F9 -> 0 | AG4: =IF(AF4=0,0,($E$4/$AF$4)*100000) -> 0 | AH4: =' Populations'!H9 -> 0 | AI4: =IF(AH4=0,0,($F$4/$AH$4)*100000) -> 0 | AJ4: =' Populations'!J9 -> 0 | AK4: =IF(AJ4=0,0,($G$4/$AJ$4)*100000) -> 0 | AL4: =' Populations'!L9 -> 0 | AM4: =IF(AL4=0,0,($H$4/$AL$4)*100000) -> 0 | AN4: =' Populations'!N9 -> 0 | AO4: =IF(AN4=0,0,($I$4/$AN$4)*100000) -> 0 | AP4: =' Populations'!P9 -> 0 | AQ4: =IF(AP4=0,0,($J$4/$AP$4)*100000) -> 0 | AR4: =' Populations'!R9 -> 0 | AS4: =IF(AR4=0,0,($K$4/$AR$4)*100000) -> 0 | AT4: =' Populations'!T9 -> 0 | AU4: =IF(AT4=0,0,($L$4/$AT$4)*100000) -> 0 | AW4: ='Health Regions'!B5 -> 0 | AX4: =IF(AW4=0,0,($M$4/$AW$4)*100000) -> 0 | AY4: ='Health Regions'!D5 -> 0 | AZ4: =IF(AY4=0,0,($N$4/$AY$4)*100000) -> 0 | BA4: ='Health Regions'!F5 -> 0 | BB4: =IF(BA4=0,0,($O$4/$BA$4)*100000) -> 0 | BC4: ='Health Regions'!H5 -> 0 | BD4: =IF(BC4=0,0,($P$4/$BC$4)*100000) -> 0 | BE4: ='Health Regions'!J5 -> 0 | BF4: =IF(BE4=0,0,($Q$4/$BE$4)*100000) -> 0 | BG4: ='Health Regions'!L5 -> 0 | BH4: =IF(BG4=0,0,($R$4/$BG$4)*100000) -> 0 | BI4: ='Health Regions'!N5 -> 0 | BJ4: =IF(BI4=0,0,($S$4/$BI$4)*100000) -> 0 | BK4: ='Health Regions'!P5 -> 0 | BL4: =IF(BK4=0,0,($T$4/$BK$4)*100000) -> 0 | BM4: ='Health Regions'!R5 -> 0 | BN4: =IF(BM4=0,0,($U$4/$BM$4)*100000) -> 0 | BO4: ='Health Regions'!T5 -> 0 | BP4: =IF(BO4=0,0,($V$4/$BO$4)*100000) -> 0 | BQ4: ='Health Regions'!V5 -> 0 | BR4: =IF(BQ4=0,0,($W$4/$BQ$4)*100000) -> 0 | BS4: ='Health Regions'!X5 -> 0 | BT4: =IF(BS4=0,0,($X$4/$BS$4)*100000) -> 0 | BU4: ='Health Regions'!Z5 -> 0 | BV4: =IF(BU4=0,0,($Y$4/$BU$4)*100000) -> 0 | BW4: ='Health Regions'!AB5 -> 0 | BX4: =IF(BW4=0,0,($Z$4/$BW$4)*100000) -> 0 | BZ4: 3795 | CA4: 0.013818 | CC4: <1yr | CD4: =AC4*CA4 -> 0 | CE4: =AE4*CA4 -> 0 | CF4: =AG4*CA4 -> 0 | CG4: =AI4*CA4 -> 0 | CH4: =AK4*CA4 -> 0 | CI4: =AM4*CA4 -> 0 | CJ4: =AO4*CA4 -> 0 | CK4: =AQ4*CA4 -> 0 | CL4: =AS4*CA4 -> 0 | CM4: =AU4*CA4 -> 0 | CN4: =AX4*CA4 -> 0 | CO4: =AZ4*CA4 -> 0 | CP4: =BB4*CA4 -> 0 | CQ4: =BD4*CA4 -> 0 | CR4: =BF4*CA4 -> 0 | CS4: =BH4*CA4 -> 0 | CT4: =BI4*CA4 -> 0 | CU4: =BL4*CA4 -> 0 | CV4: =BN4*CA4 -> 0 | CW4: =BP4*CA4 -> 0 | CX4: =BR4*CA4 -> 0 | CY4: =BT4*CA4 -> 0 | CZ4: =BV4*CA4 -> 0 | DA4: =BX4*CA4 -> 0
B5: 1-4yrs | AB5: =' Populations'!B10 -> 0 | AC5: =IF(AB5=0,0,($C$5/$AB$5)*100000) -> 0 | AD5: =' Populations'!D10 -> 0 | AE5: =IF(AD5=0,0,($D$5/$AD$5)*100000) -> 0 | AF5: =' Populations'!F10 -> 0 | AG5: =IF(AF5=0,0,($E$5/$AF$5)*100000) -> 0 | AH5: =' Populations'!H10 -> 0 | AI5: =IF(AH5=0,0,($F$5/$AH$5)*100000) -> 0 | AJ5: =' Populations'!J10 -> 0 | AK5: =IF(AJ5=0,0,($G$5/$AJ$5)*100000) -> 0 | AL5: =' Populations'!L10 -> 0 | AM5: =IF(AL5=0,0,($G$5/$AL$5)*100000) -> 0 | AN5: =' Populations'!N10 -> 0 | AO5: =IF(AN5=0,0,($I$5/$AN$5)*100000) -> 0 | AP5: =' Populations'!P10 -> 0 | AQ5: =IF(AP5=0,0,($J$5/$AP$5)*100000) -> 0 | AR5: =' Populations'!R10 -> 0 | AS5: =IF(AR5=0,0,($K$5/$AR$5)*100000) -> 0 | AT5: =' Populations'!T10 -> 0 | AU5: =IF(AT5=0,0,($L$5/$AT$5)*100000) -> 0 | AW5: ='Health Regions'!B6 -> 0 | AX5: =IF(AW5=0,0,($M$5/$AW$5)*100000) -> 0 | AY5: ='Health Regions'!D6 -> 0 | AZ5: =IF(AY5=0,0,($N$5/$AY$5)*100000) -> 0 | BA5: ='Health Regions'!F6 -> 0 | BB5: =IF(BA5=0,0,($O$5/$BA$5)*100000) -> 0 | BC5: ='Health Regions'!H6 -> 0 | BD5: =IF(BC5=0,0,($P$5/$BC$5)*100000) -> 0 | BE5: ='Health Regions'!J6 -> 0 | BF5: =IF(BE5=0,0,($Q$5/$BE$5)*100000) -> 0 | BG5: ='Health Regions'!L6 -> 0 | BH5: =IF(BG5=0,0,($R$5/$BG$5)*100000) -> 0 | BI5: ='Health Regions'!N6 -> 0 | BJ5: =IF(BI5=0,0,($S$5/$BI$5)*100000) -> 0 | BK5: ='Health Regions'!P6 -> 0 | BL5: =IF(BK5=0,0,($T$5/$BK$5)*100000) -> 0 | BM5: ='Health Regions'!R6 -> 0 | BN5: =IF(BM5=0,0,($U$5/$BM$5)*100000) -> 0 | BO5: ='Health Regions'!T6 -> 0 | BP5: =IF(BO5=0,0,($V$5/$BO$5)*100000) -> 0 | BQ5: ='Health Regions'!V6 -> 0 | BR5: =IF(BQ5=0,0,($W$5/$BQ$5)*100000) -> 0 | BS5: ='Health Regions'!X6 -> 0 | BT5: =IF(BS5=0,0,($X$5/$BS$5)*100000) -> 0 | BU5: ='Health Regions'!Z6 -> 0 | BV5: =IF(BU5=0,0,($Y$5/$BU$5)*100000) -> 0 | BW5: ='Health Regions'!AB6 -> 0 | BX5: =IF(BW5=0,0,($Z$5/$BW$5)*100000) -> 0 | BZ5: 15192 | CA5: 0.055317 | CC5: 1-4yrs | CD5: =AC5*CA5 -> 0 | CE5: =AE5*CA5 -> 0 | CF5: =AG5*CA5 -> 0 | CG5: =AI5*CA5 -> 0 | CH5: =AK5*CA5 -> 0 | CI5: =AM5*CA5 -> 0 | CJ5: =AO5*CA5 -> 0 | CK5: =AQ5*CA5 -> 0 | CL5: =AS5*CA5 -> 0 | CM5: =AU5*CA5 -> 0 | CN5: =AX5*CA5 -> 0 | CO5: =AZ5*CA5 -> 0 | CP5: =BB5*CA5 -> 0 | CQ5: =BD5*CA5 -> 0 | CR5: =BF5*CA5 -> 0 | CS5: =BH5*CA5 -> 0 | CT5: =BI5*CA5 -> 0 | CU5: =BL5*CA5 -> 0 | CV5: =BN5*CA5 -> 0 | CW5: =BP5*CA5 -> 0 | CX5: =BR5*CA5 -> 0 | CY5: =BT5*CA5 -> 0 | CZ5: =BV5*CA5 -> 0 | DA5: =BX5*CA5 -> 0
B6: 5-9yrs | AB6: =' Populations'!B11 -> 0 | AC6: =IF(AB6=0,0,($C$6/$AB$6)*100000) -> 0 | AD6: =' Populations'!D11 -> 0 | AE6: =IF(AD6=0,0,($D$6/$AD$6)*100000) -> 0 | AF6: =' Populations'!F11 -> 0 | AG6: =IF(AF6=0,0,($E$6/$AF$6)*100000) -> 0 | AH6: =' Populations'!H11 -> 0 | AI6: =IF(AH6=0,0,($F$6/$AH$6)*100000) -> 0 | AJ6: =' Populations'!J11 -> 0 | AK6: =IF(AJ6=0,0,($G$6/$AJ$6)*100000) -> 0 | AL6: =' Populations'!L11 -> 0 | AM6: =IF(AL6=0,0,($G$6/$AL$6)*100000) -> 0 | AN6: =' Populations'!N11 -> 0 | AO6: =IF(AN6=0,0,($I$6/$AN$6)*100000) -> 0 | AP6: =' Populations'!P11 -> 0 | AQ6: =IF(AP6=0,0,($J$6/$AP$6)*100000) -> 0 | AR6: =' Populations'!R11 -> 0 | AS6: =IF(AR6=0,0,($K$6/$AR$6)*100000) -> 0 | AT6: =' Populations'!T11 -> 0 | AU6: =IF(AT6=0,0,($L$6/$AT$6)*100000) -> 0 | AW6: ='Health Regions'!B7 -> 0 | AX6: =IF(AW6=0,0,($M$6/$AW$6)*100000) -> 0 | AY6: ='Health Regions'!D7 -> 0 | AZ6: =IF(AY6=0,0,($N$6/$AY$6)*100000) -> 0 | BA6: ='Health Regions'!F7 -> 0 | BB6: =IF(BA6=0,0,($O$6/$BA$6)*100000) -> 0 | BC6: ='Health Regions'!H7 -> 0 | BD6: =IF(BC6=0,0,($P$6/$BC$6)*100000) -> 0 | BE6: ='Health Regions'!J7 -> 0 | BF6: =IF(BE6=0,0,($Q$6/$BE$6)*100000) -> 0 | BG6: ='Health Regions'!L7 -> 0 | BH6: =IF(BG6=0,0,($R$6/$BG$6)*100000) -> 0 | BI6: ='Health Regions'!N7 -> 0 | BJ6: =IF(BI6=0,0,($S$6/$BI$6)*100000) -> 0 | BK6: ='Health Regions'!P7 -> 0 | BL6: =IF(BK6=0,0,($T$6/$BK$6)*100000) -> 0 | BM6: ='Health Regions'!R7 -> 0 | BN6: =IF(BM6=0,0,($U$6/$BM$6)*100000) -> 0 | BO6: ='Health Regions'!T7 -> 0 | BP6: =IF(BO6=0,0,($V$6/$BO$6)*100000) -> 0 | BQ6: ='Health Regions'!V7 -> 0 | BR6: =IF(BQ6=0,0,($W$6/$BQ$6)*100000) -> 0 | BS6: ='Health Regions'!X7 -> 0 | BT6: =IF(BS6=0,0,($X$6/$BS$6)*100000) -> 0 | BU6: ='Health Regions'!Z7 -> 0 | BV6: =IF(BU6=0,0,($Y$6/$BU$6)*100000) -> 0 | BW6: ='Health Regions'!AB7 -> 0 | BX6: =IF(BW6=0,0,($Z$6/$BW$6)*100000) -> 0 | BZ6: 19920 | CA6: 0.072533 | CC6: 5-9yrs | CD6: =AC6*CA6 -> 0 | CE6: =AE6*CA6 -> 0 | CF6: =AG6*CA6 -> 0 | CG6: =AI6*CA6 -> 0 | CH6: =AK6*CA6 -> 0 | CI6: =AM6*CA6 -> 0 | CJ6: =AO6*CA6 -> 0 | CK6: =AQ6*CA6 -> 0 | CL6: =AS6*CA6 -> 0 | CM6: =AU6*CA6 -> 0 | CN6: =AX6*CA6 -> 0 | CO6: =AZ6*CA6 -> 0 | CP6: =BB6*CA6 -> 0 | CQ6: =BD6*CA6 -> 0 | CR6: =BF6*CA6 -> 0 | CS6: =BH6*CA6 -> 0 | CT6: =BI6*CA6 -> 0 | CU6: =BL6*CA6 -> 0 | CV6: =BN6*CA6 -> 0 | CW6: =BP6*CA6 -> 0 | CX6: =BR6*CA6 -> 0 | CY6: =BT6*CA6 -> 0 | CZ6: =BV6*CA6 -> 0 | DA6: =BX6*CA6 -> 0
B7: 10-14yrs | AB7: =' Populations'!B12 -> 0 | AC7: =IF(AB7=0,0,($C$7/$AB$7)*100000) -> 0 | AD7: =' Populations'!D12 -> 0 | AE7: =IF(AD7=0,0,($D$7/$AD$7)*100000) -> 0 | AF7: =' Populations'!F12 -> 0 | AG7: =IF(AF7=0,0,($E$7/$AF$7)*100000) -> 0 | AH7: =' Populations'!H12 -> 0 | AI7: =IF(AH7=0,0,($F$7/$AH$7)*100000) -> 0 | AJ7: =' Populations'!J12 -> 0 | AK7: =IF(AJ7=0,0,($G$7/$AJ$7)*100000) -> 0 | AL7: =' Populations'!L12 -> 0 | AM7: =IF(AL7=0,0,($G$7/$AL$7)*100000) -> 0 | AN7: =' Populations'!N12 -> 0 | AO7: =IF(AN7=0,0,($I$7/$AN$7)*100000) -> 0 | AP7: =' Populations'!P12 -> 0 | AQ7: =IF(AP7=0,0,($J$7/$AP$7)*100000) -> 0 | AR7: =' Populations'!R12 -> 0 | AS7: =IF(AR7=0,0,($K$7/$AR$7)*100000) -> 0 | AT7: =' Populations'!T12 -> 0 | AU7: =IF(AT7=0,0,($L$7/$AT$7)*100000) -> 0 | AW7: ='Health Regions'!B8 -> 0 | AX7: =IF(AW7=0,0,($M$7/$AW$7)*100000) -> 0 | AY7: ='Health Regions'!D8 -> 0 | AZ7: =IF(AY7=0,0,($N$7/$AY$7)*100000) -> 0 | BA7: ='Health Regions'!F8 -> 0 | BB7: =IF(BA7=0,0,($O$7/$BA$7)*100000) -> 0 | BC7: ='Health Regions'!H8 -> 0 | BD7: =IF(BC7=0,0,($P$7/$BC$7)*100000) -> 0 | BE7: ='Health Regions'!J8 -> 0 | BF7: =IF(BE7=0,0,($Q$7/$BE$7)*100000) -> 0 | BG7: ='Health Regions'!L8 -> 0 | BH7: =IF(BG7=0,0,($R$7/$BG$7)*100000) -> 0 | BI7: ='Health Regions'!N8 -> 0 | BJ7: =IF(BI7=0,0,($S$7/$BI$7)*100000) -> 0 | BK7: ='Health Regions'!P8 -> 0 | BL7: =IF(BK7=0,0,($T$7/$BK$7)*100000) -> 0 | BM7: ='Health Regions'!R8 -> 0 | BN7: =IF(BM7=0,0,($U$7/$BM$7)*100000) -> 0 | BO7: ='Health Regions'!T8 -> 0 | BP7: =IF(BO7=0,0,($V$7/$BO$7)*100000) -> 0 | BQ7: ='Health Regions'!V8 -> 0 | BR7: =IF(BQ7=0,0,($W$7/$BQ$7)*100000) -> 0 | BS7: ='Health Regions'!X8 -> 0 | BT7: =IF(BS7=0,0,($X$7/$BS$7)*100000) -> 0 | BU7: ='Health Regions'!Z8 -> 0 | BV7: =IF(BU7=0,0,($Y$7/$BU$7)*100000) -> 0 | BW7: ='Health Regions'!AB8 -> 0 | BX7: =IF(BW7=0,0,($Z$7/$BW$7)*100000) -> 0 | BZ7: 20057 | CA7: 0.073032 | CC7: 10-14yrs | CD7: =AC7*CA7 -> 0 | CE7: =AE7*CA7 -> 0 | CF7: =AG7*CA7 -> 0 | CG7: =AI7*CA7 -> 0 | CH7: =AK7*CA7 -> 0 | CI7: =AM7*CA7 -> 0 | CJ7: =AO7*CA7 -> 0 | CK7: =AQ7*CA7 -> 0 | CL7: =AS7*CA7 -> 0 | CM7: =AU7*CA7 -> 0 | CN7: =AX7*CA7 -> 0 | CO7: =AZ7*CA7 -> 0 | CP7: =BB7*CA7 -> 0 | CQ7: =BD7*CA7 -> 0 | CR7: =BF7*CA7 -> 0 | CS7: =BH7*CA7 -> 0 | CT7: =BI7*CA7 -> 0 | CU7: =BL7*CA7 -> 0 | CV7: =BN7*CA7 -> 0 | CW7: =BP7*CA7 -> 0 | CX7: =BR7*CA7 -> 0 | CY7: =BT7*CA7 -> 0 | CZ7: =BV7*CA7 -> 0 | DA7: =BX7*CA7 -> 0
B8: 15-19yrs | AB8: =' Populations'!B13 -> 0 | AC8: =IF(AB8=0,0,($C$8/$AB$8)*100000) -> 0 | AD8: =' Populations'!D13 -> 0 | AE8: =IF(AD8=0,0,($D$8/$AD$8)*100000) -> 0 | AF8: =' Populations'!F13 -> 0 | AG8: =IF(AF8=0,0,($E$8/$AF$8)*100000) -> 0 | AH8: =' Populations'!H13 -> 0 | AI8: =IF(AH8=0,0,($F$8/$AH$8)*100000) -> 0 | AJ8: =' Populations'!J13 -> 0 | AK8: =IF(AJ8=0,0,($G$8/$AJ$8)*100000) -> 0 | AL8: =' Populations'!L13 -> 0 | AM8: =IF(AL8=0,0,($G$8/$AL$8)*100000) -> 0 | AN8: =' Populations'!N13 -> 0 | AO8: =IF(AN8=0,0,($I$8/$AN$8)*100000) -> 0 | AP8: =' Populations'!P13 -> 0 | AQ8: =IF(AP8=0,0,($J$8/$AP$8)*100000) -> 0 | AR8: =' Populations'!R13 -> 0 | AS8: =IF(AR8=0,0,($K$8/$AR$8)*100000) -> 0 | AT8: =' Populations'!T13 -> 0 | AU8: =IF(AT8=0,0,($L$8/$AT$8)*100000) -> 0 | AW8: ='Health Regions'!B9 -> 0 | AX8: =IF(AW8=0,0,($M$8/$AW$8)*100000) -> 0 | AY8: ='Health Regions'!D9 -> 0 | AZ8: =IF(AY8=0,0,($N$8/$AY$8)*100000) -> 0 | BA8: ='Health Regions'!F9 -> 0 | BB8: =IF(BA8=0,0,($O$8/$BA$8)*100000) -> 0 | BC8: ='Health Regions'!H9 -> 0 | BD8: =IF(BC8=0,0,($P$8/$BC$8)*100000) -> 0 | BE8: ='Health Regions'!J9 -> 0 | BF8: =IF(BE8=0,0,($Q$8/$BE$8)*100000) -> 0 | BG8: ='Health Regions'!L9 -> 0 | BH8: =IF(BG8=0,0,($R$8/$BG$8)*100000) -> 0 | BI8: ='Health Regions'!N9 -> 0 | BJ8: =IF(BI8=0,0,($S$8/$BI$8)*100000) -> 0 | BK8: ='Health Regions'!P9 -> 0 | BL8: =IF(BK8=0,0,($T$8/$BK$8)*100000) -> 0 | BM8: ='Health Regions'!R9 -> 0 | BN8: =IF(BM8=0,0,($U$8/$AW$8)*100000) -> 0 | BO8: ='Health Regions'!T9 -> 0 | BP8: =IF(BO8=0,0,($V$8/$BO$8)*100000) -> 0 | BQ8: ='Health Regions'!V9 -> 0 | BR8: =IF(BQ8=0,0,($W$8/$BQ$8)*100000) -> 0 | BS8: ='Health Regions'!X9 -> 0 | BT8: =IF(BS8=0,0,($X$8/$BS$8)*100000) -> 0 | BU8: ='Health Regions'!Z9 -> 0 | BV8: =IF(BU8=0,0,($Y$8/$BU$8)*100000) -> 0 | BW8: ='Health Regions'!AB9 -> 0 | BX8: =IF(BW8=0,0,($Z$8/$BW$8)*100000) -> 0 | BZ8: 19820 | CA8: 0.072169 | CC8: 15-19yrs | CD8: =AC8*CA8 -> 0 | CE8: =AE8*CA8 -> 0 | CF8: =AG8*CA8 -> 0 | CG8: =AI8*CA8 -> 0 | CH8: =AK8*CA8 -> 0 | CI8: =AM8*CA8 -> 0 | CJ8: =AO8*CA8 -> 0 | CK8: =AQ8*CA8 -> 0 | CL8: =AS8*CA8 -> 0 | CM8: =AU8*CA8 -> 0 | CN8: =AX8*CA8 -> 0 | CO8: =AZ8*CA8 -> 0 | CP8: =BB8*CA8 -> 0 | CQ8: =BD8*CA8 -> 0 | CR8: =BF8*CA8 -> 0 | CS8: =BH8*CA8 -> 0 | CT8: =BI8*CA8 -> 0 | CU8: =BL8*CA8 -> 0 | CV8: =BN8*CA8 -> 0 | CW8: =BP8*CA8 -> 0 | CX8: =BR8*CA8 -> 0 | CY8: =BT8*CA8 -> 0 | CZ8: =BV8*CA8 -> 0 | DA8: =BX8*CA8 -> 0
B9: 20-24yrs | AB9: =' Populations'!B14 -> 0 | AC9: =IF(AB9=0,0,($C$9/$AB$9)*100000) -> 0 | AD9: =' Populations'!D14 -> 0 | AE9: =IF(AD9=0,0,($D$9/$AD$9)*100000) -> 0 | AF9: =' Populations'!F14 -> 0 | AG9: =IF(AF9=0,0,($E$9/$AF$9)*100000) -> 0 | AH9: =' Populations'!H14 -> 0 | AI9: =IF(AH9=0,0,($F$9/$AH$9)*100000) -> 0 | AJ9: =' Populations'!J14 -> 0 | AK9: =IF(AJ9=0,0,($G$9/$AJ$9)*100000) -> 0 | AL9: =' Populations'!L14 -> 0 | AM9: =IF(AL9=0,0,($G$9/$AL$9)*100000) -> 0 | AN9: =' Populations'!N14 -> 0 | AO9: =IF(AN9=0,0,($I$9/$AN$9)*100000) -> 0 | AP9: =' Populations'!P14 -> 0 | AQ9: =IF(AP9=0,0,($J$9/$AP$9)*100000) -> 0 | AR9: =' Populations'!R14 -> 0 | AS9: =IF(AR9=0,0,($K$9/$AR$9)*100000) -> 0 | AT9: =' Populations'!T14 -> 0 | AU9: =IF(AT9=0,0,($L$9/$AT$9)*100000) -> 0 | AW9: ='Health Regions'!B10 -> 0 | AX9: =IF(AW9=0,0,($M$9/$AW$9)*100000) -> 0 | AY9: ='Health Regions'!D10 -> 0 | AZ9: =IF(AY9=0,0,($N$9/$AY$9)*100000) -> 0 | BA9: ='Health Regions'!F10 -> 0 | BB9: =IF(BA9=0,0,($O$9/$BA$9)*100000) -> 0 | BC9: ='Health Regions'!H10 -> 0 | BD9: =IF(BC9=0,0,($P$9/$BC$9)*100000) -> 0 | BE9: ='Health Regions'!J10 -> 0 | BF9: =IF(BE9=0,0,($Q$9/$BE$9)*100000) -> 0 | BG9: ='Health Regions'!L10 -> 0 | BH9: =IF(BG9=0,0,($R$9/$BG$9)*100000) -> 0 | BI9: ='Health Regions'!N10 -> 0 | BJ9: =IF(BI9=0,0,($S$9/$BI$9)*100000) -> 0 | BK9: ='Health Regions'!P10 -> 0 | BL9: =IF(BK9=0,0,($T$9/$BK$9)*100000) -> 0 | BM9: ='Health Regions'!R10 -> 0 | BN9: =IF(BM9=0,0,($U$9/$BM$9)*100000) -> 0 | BO9: ='Health Regions'!T10 -> 0 | BP9: =IF(BO9=0,0,($V$9/$BO$9)*100000) -> 0 | BQ9: ='Health Regions'!V10 -> 0 | BR9: =IF(BQ9=0,0,($W$9/$BQ$9)*100000) -> 0 | BS9: ='Health Regions'!X10 -> 0 | BT9: =IF(BS9=0,0,($X$9/$BS$9)*100000) -> 0 | BU9: ='Health Regions'!Z10 -> 0 | BV9: =IF(BU9=0,0,($Y$9/$BU$9)*100000) -> 0 | BW9: ='Health Regions'!AB10 -> 0 | BX9: =IF(BW9=0,0,($Z$9/$BW$9)*100000) -> 0 | BZ9: 18257 | CA9: 0.066478 | CC9: 20-24yrs | CD9: =AC9*CA9 -> 0 | CE9: =AE9*CA9 -> 0 | CF9: =AG9*CA9 -> 0 | CG9: =AI9*CA9 -> 0 | CH9: =AK9*CA9 -> 0 | CI9: =AM9*CA9 -> 0 | CJ9: =AO9*CA9 -> 0 | CK9: =AQ9*CA9 -> 0 | CL9: =AS9*CA9 -> 0 | CM9: =AU9*CA9 -> 0 | CN9: =AX9*CA9 -> 0 | CO9: =AZ9*CA9 -> 0 | CP9: =BB9*CA9 -> 0 | CQ9: =BD9*CA9 -> 0 | CR9: =BF9*CA9 -> 0 | CS9: =BH9*CA9 -> 0 | CT9: =BI9*CA9 -> 0 | CU9: =BL9*CA9 -> 0 | CV9: =BN9*CA9 -> 0 | CW9: =BP9*CA9 -> 0 | CX9: =BR9*CA9 -> 0 | CY9: =BT9*CA9 -> 0 | CZ9: =BV9*CA9 -> 0 | DA9: =BX9*CA9 -> 0
B10: 25-34yrs | AB10: =' Populations'!B15 -> 0 | AC10: =IF(AB10=0,0,($C$10/$AB$10)*100000) -> 0 | AD10: =' Populations'!D15 -> 0 | AE10: =IF(AD10=0,0,($D$10/$AD$10)*100000) -> 0 | AF10: =' Populations'!F15 -> 0 | AG10: =IF(AF10=0,0,($E$10/$AF$10)*100000) -> 0 | AH10: =' Populations'!H15 -> 0 | AI10: =IF(AH10=0,0,($F$10/$AH$10)*100000) -> 0 | AJ10: =' Populations'!J15 -> 0 | AK10: =IF(AJ10=0,0,($G$10/$AJ$10)*100000) -> 0 | AL10: =' Populations'!L15 -> 0 | AM10: =IF(AL10=0,0,($G$10/$AL$10)*100000) -> 0 | AN10: =' Populations'!N15 -> 0 | AO10: =IF(AN10=0,0,($I$10/$AN$10)*100000) -> 0 | AP10: =' Populations'!P15 -> 0 | AQ10: =IF(AP10=0,0,($J$10/$AP$10)*100000) -> 0 | AR10: =' Populations'!R15 -> 0 | AS10: =IF(AR10=0,0,($K$10/$AR$10)*100000) -> 0 | AT10: =' Populations'!T15 -> 0 | AU10: =IF(AT10=0,0,($L$10/$AT$10)*100000) -> 0 | AW10: ='Health Regions'!B11 -> 0 | AX10: =IF(AW10=0,0,($M$10/$AW$10)*100000) -> 0 | AY10: ='Health Regions'!D11 -> 0 | AZ10: =IF(AY10=0,0,($N$10/$AY$10)*100000) -> 0 | BA10: ='Health Regions'!F11 -> 0 | BB10: =IF(BA10=0,0,($O$10/$BA$10)*100000) -> 0 | BC10: ='Health Regions'!H11 -> 0 | BD10: =IF(BC10=0,0,($P$10/$BC$10)*100000) -> 0 | BE10: ='Health Regions'!J11 -> 0 | BF10: =IF(BE10=0,0,($Q$10/$BE$10)*100000) -> 0 | BG10: ='Health Regions'!L11 -> 0 | BH10: =IF(BG10=0,0,($R$10/$BG$10)*100000) -> 0 | BI10: ='Health Regions'!N11 -> 0 | BJ10: =IF(BI10=0,0,($S$10/$BI$10)*100000) -> 0 | BK10: ='Health Regions'!P11 -> 0 | BL10: =IF(BK10=0,0,($T$10/$BK$10)*100000) -> 0 | BM10: ='Health Regions'!R11 -> 0 | BN10: =IF(BM10=0,0,($U$10/$BM$10)*100000) -> 0 | BO10: ='Health Regions'!T11 -> 0 | BP10: =IF(BO10=0,0,($V$10/$BO$10)*100000) -> 0 | BQ10: ='Health Regions'!V11 -> 0 | BR10: =IF(BQ10=0,0,($W$10/$BQ$10)*100000) -> 0 | BS10: ='Health Regions'!X11 -> 0 | BT10: =IF(BS10=0,0,($X$10/$BS$10)*100000) -> 0 | BU10: ='Health Regions'!Z11 -> 0 | BV10: =IF(BU10=0,0,($Y$10/$BU$10)*100000) -> 0 | BW10: ='Health Regions'!AB11 -> 0 | BX10: =IF(BW10=0,0,($Z$10/$BW$10)*100000) -> 0 | BZ10: 37233 | CA10: 0.135573 | CC10: 25-34yrs | CD10: =AC10*CA10 -> 0 | CE10: =AE10*CA10 -> 0 | CF10: =AG10*CA10 -> 0 | CG10: =AI10*CA10 -> 0 | CH10: =AK10*CA10 -> 0 | CI10: =AM10*CA10 -> 0 | CJ10: =AO10*CA10 -> 0 | CK10: =AQ10*CA10 -> 0 | CL10: =AS10*CA10 -> 0 | CM10: =AU10*CA10 -> 0 | CN10: =AX10*CA10 -> 0 | CO10: =AZ10*CA10 -> 0 | CP10: =BB10*CA10 -> 0 | CQ10: =BD10*CA10 -> 0 | CR10: =BF10*CA10 -> 0 | CS10: =BH10*CA10 -> 0 | CT10: =BI10*CA10 -> 0 | CU10: =BL10*CA10 -> 0 | CV10: =BN10*CA10 -> 0 | CW10: =BP10*CA10 -> 0 | CX10: =BR10*CA10 -> 0 | CY10: =BT10*CA10 -> 0 | CZ10: =BV10*CA10 -> 0 | DA10: =BX10*CA10 -> 0
B11: 35-44yrs | AB11: =' Populations'!B16 -> 0 | AC11: =IF(AB11=0,0,($C$11/$AB$11)*100000) -> 0 | AD11: =' Populations'!D16 -> 0 | AE11: =IF(AD11=0,0,($D$11/$AD$11)*100000) -> 0 | AF11: =' Populations'!F16 -> 0 | AG11: =IF(AF11=0,0,($E$11/$AF$11)*100000) -> 0 | AH11: =' Populations'!H16 -> 0 | AI11: =IF(AH11=0,0,($F$11/$AH$11)*100000) -> 0 | AJ11: =' Populations'!J16 -> 0 | AK11: =IF(AJ11=0,0,($G$11/$AJ$11)*100000) -> 0 | AL11: =' Populations'!L16 -> 0 | AM11: =IF(AL11=0,0,($G$11/$AL$11)*100000) -> 0 | AN11: =' Populations'!N16 -> 0 | AO11: =IF(AN11=0,0,($I$11/$AN$11)*100000) -> 0 | AP11: =' Populations'!P16 -> 0 | AQ11: =IF(AP11=0,0,($J$11/$AP$11)*100000) -> 0 | AR11: =' Populations'!R16 -> 0 | AS11: =IF(AR11=0,0,($K$11/$AR$11)*100000) -> 0 | AT11: =' Populations'!T16 -> 0 | AU11: =IF(AT11=0,0,($L$11/$AT$11)*100000) -> 0 | AW11: ='Health Regions'!B12 -> 0 | AX11: =IF(AW11=0,0,($M$11/$AW$11)*100000) -> 0 | AY11: ='Health Regions'!D12 -> 0 | AZ11: =IF(AY11=0,0,($N$11/$AY$11)*100000) -> 0 | BA11: ='Health Regions'!F12 -> 0 | BB11: =IF(BA11=0,0,($O$11/$BA$11)*100000) -> 0 | BC11: ='Health Regions'!H12 -> 0 | BD11: =IF(BC11=0,0,($P$11/$BC$11)*100000) -> 0 | BE11: ='Health Regions'!J12 -> 0 | BF11: =IF(BE11=0,0,($Q$11/$BE$11)*100000) -> 0 | BG11: ='Health Regions'!L12 -> 0 | BH11: =IF(BG11=0,0,($R$11/$BG$11)*100000) -> 0 | BI11: ='Health Regions'!N12 -> 0 | BJ11: =IF(BI11=0,0,($S$11/$BI$11)*100000) -> 0 | BK11: ='Health Regions'!P12 -> 0 | BL11: =IF(BK11=0,0,($T$11/$BK$11)*100000) -> 0 | BM11: ='Health Regions'!R12 -> 0 | BN11: =IF(BM11=0,0,($U$11/$BM$11)*100000) -> 0 | BO11: ='Health Regions'!T12 -> 0 | BP11: =IF(BO11=0,0,($V$11/$BO$11)*100000) -> 0 | BQ11: ='Health Regions'!V12 -> 0 | BR11: =IF(BQ11=0,0,($W$11/$BQ$11)*100000) -> 0 | BS11: ='Health Regions'!X12 -> 0 | BT11: =IF(BS11=0,0,($X$11/$BS$11)*100000) -> 0 | BU11: ='Health Regions'!Z12 -> 0 | BV11: =IF(BU11=0,0,($Y$11/$BU$11)*100000) -> 0 | BW11: ='Health Regions'!AB12 -> 0 | BX11: =IF(BW11=0,0,($Z$11/$BW$11)*100000) -> 0 | BZ11: 44659 | CA11: 0.162613 | CC11: 35-44yrs | CD11: =AC11*CA11 -> 0 | CE11: =AE11*CA11 -> 0 | CF11: =AG11*CA11 -> 0 | CG11: =AI11*CA11 -> 0 | CH11: =AK11*CA11 -> 0 | CI11: =AM11*CA11 -> 0 | CJ11: =AO11*CA11 -> 0 | CK11: =AQ11*CA11 -> 0 | CL11: =AS11*CA11 -> 0 | CM11: =AU11*CA11 -> 0 | CN11: =AX11*CA11 -> 0 | CO11: =AZ11*CA11 -> 0 | CP11: =BB11*CA11 -> 0 | CQ11: =BD11*CA11 -> 0 | CR11: =BF11*CA11 -> 0 | CS11: =BH11*CA11 -> 0 | CT11: =BI11*CA11 -> 0 | CU11: =BL11*CA11 -> 0 | CV11: =BN11*CA11 -> 0 | CW11: =BP11*CA11 -> 0 | CX11: =BR11*CA11 -> 0 | CY11: =BT11*CA11 -> 0 | CZ11: =BV11*CA11 -> 0 | DA11: =BX11*CA11 -> 0
B12: 45-54yrs | AB12: =' Populations'!B17 -> 0 | AC12: =IF(AB12=0,0,($C$12/$AB$12)*100000) -> 0 | AD12: =' Populations'!D17 -> 0 | AE12: =IF(AD12=0,0,($D$12/$AD$12)*100000) -> 0 | AF12: =' Populations'!F17 -> 0 | AG12: =IF(AF12=0,0,($E$12/$AF$12)*100000) -> 0 | AH12: =' Populations'!H17 -> 0 | AI12: =IF(AH12=0,0,($F$12/$AH$12)*100000) -> 0 | AJ12: =' Populations'!J17 -> 0 | AK12: =IF(AJ12=0,0,($G$12/$AJ$12)*100000) -> 0 | AL12: =' Populations'!L17 -> 0 | AM12: =IF(AL12=0,0,($G$12/$AL$12)*100000) -> 0 | AN12: =' Populations'!N17 -> 0 | AO12: =IF(AN12=0,0,($I$12/$AN$12)*100000) -> 0 | AP12: =' Populations'!P17 -> 0 | AQ12: =IF(AP12=0,0,($J$12/$AP$12)*100000) -> 0 | AR12: =' Populations'!R17 -> 0 | AS12: =IF(AR12=0,0,($K$12/$AR$12)*100000) -> 0 | AT12: =' Populations'!T17 -> 0 | AU12: =IF(AT12=0,0,($L$12/$AT$12)*100000) -> 0 | AW12: ='Health Regions'!B13 -> 0 | AX12: =IF(AW12=0,0,($M$12/$AW$12)*100000) -> 0 | AY12: ='Health Regions'!D13 -> 0 | AZ12: =IF(AY12=0,0,($N$12/$AY$12)*100000) -> 0 | BA12: ='Health Regions'!F13 -> 0 | BB12: =IF(BA12=0,0,($O$12/$BA$12)*100000) -> 0 | BC12: ='Health Regions'!H13 -> 0 | BD12: =IF(BC12=0,0,($P$12/$BC$12)*100000) -> 0 | BE12: ='Health Regions'!J13 -> 0 | BF12: =IF(BE12=0,0,($Q$12/$BE$12)*100000) -> 0 | BG12: ='Health Regions'!L13 -> 0 | BH12: =IF(BG12=0,0,($R$12/$BG$12)*100000) -> 0 | BI12: ='Health Regions'!N13 -> 0 | BJ12: =IF(BI12=0,0,($S$12/$BI$12)*100000) -> 0 | BK12: ='Health Regions'!P13 -> 0 | BL12: =IF(BK12=0,0,($T$12/$BK$12)*100000) -> 0 | BM12: ='Health Regions'!R13 -> 0 | BN12: =IF(BM12=0,0,($U$12/$BM$12)*100000) -> 0 | BO12: ='Health Regions'!T13 -> 0 | BP12: =IF(BO12=0,0,($V$12/$BO$12)*100000) -> 0 | BQ12: ='Health Regions'!V13 -> 0 | BR12: =IF(BQ12=0,0,($W$12/$BQ$12)*100000) -> 0 | BS12: ='Health Regions'!X13 -> 0 | BT12: =IF(BS12=0,0,($X$12/$BS$12)*100000) -> 0 | BU12: ='Health Regions'!Z13 -> 0 | BV12: =IF(BU12=0,0,($Y$12/$BU$12)*100000) -> 0 | BW12: ='Health Regions'!AB13 -> 0 | BX12: =IF(BW12=0,0,($Z$12/$BW$12)*100000) -> 0 | BZ12: 37030 | CA12: 0.134834 | CC12: 45-54yrs | CD12: =AC12*CA12 -> 0 | CE12: =AE12*CA12 -> 0 | CF12: =AG12*CA12 -> 0 | CG12: =AI12*CA12 -> 0 | CH12: =AK12*CA12 -> 0 | CI12: =AM12*CA12 -> 0 | CJ12: =AO12*CA12 -> 0 | CK12: =AQ12*CA12 -> 0 | CL12: =AS12*CA12 -> 0 | CM12: =AU12*CA12 -> 0 | CN12: =AX12*CA12 -> 0 | CO12: =AZ12*CA12 -> 0 | CP12: =BB12*CA12 -> 0 | CQ12: =BD12*CA12 -> 0 | CR12: =BF12*CA12 -> 0 | CS12: =BH12*CA12 -> 0 | CT12: =BI12*CA12 -> 0 | CU12: =BL12*CA12 -> 0 | CV12: =BN12*CA12 -> 0 | CW12: =BP12*CA12 -> 0 | CX12: =BR12*CA12 -> 0 | CY12: =BT12*CA12 -> 0 | CZ12: =BV12*CA12 -> 0 | DA12: =BX12*CA12 -> 0
B13: 55-64yrs | AB13: =' Populations'!B18 -> 0 | AC13: =IF(AB13=0,0,($C$13/$AB$13)*100000) -> 0 | AD13: =' Populations'!D18 -> 0 | AE13: =IF(AD13=0,0,($D$13/$AD$13)*100000) -> 0 | AF13: =' Populations'!F18 -> 0 | AG13: =IF(AF13=0,0,($E$13/$AF$13)*100000) -> 0 | AH13: =' Populations'!H18 -> 0 | AI13: =IF(AH13=0,0,($F$13/$AH$13)*100000) -> 0 | AJ13: =' Populations'!J18 -> 0 | AK13: =IF(AJ13=0,0,($G$13/$AJ$13)*100000) -> 0 | AL13: =' Populations'!L18 -> 0 | AM13: =IF(AL13=0,0,($G$13/$AL$13)*100000) -> 0 | AN13: =' Populations'!N18 -> 0 | AO13: =IF(AN13=0,0,($I$13/$AN$13)*100000) -> 0 | AP13: =' Populations'!P18 -> 0 | AQ13: =IF(AP13=0,0,($J$13/$AP$13)*100000) -> 0 | AR13: =' Populations'!R18 -> 0 | AS13: =IF(AR13=0,0,($K$13/$AR$13)*100000) -> 0 | AT13: =' Populations'!T18 -> 0 | AU13: =IF(AT13=0,0,($L$13/$AT$13)*100000) -> 0 | AW13: ='Health Regions'!B14 -> 0 | AX13: =IF(AW13=0,0,($M$13/$AW$13)*100000) -> 0 | AY13: ='Health Regions'!D14 -> 0 | AZ13: =IF(AY13=0,0,($N$13/$AY$13)*100000) -> 0 | BA13: ='Health Regions'!F14 -> 0 | BB13: =IF(BA13=0,0,($O$13/$BA$13)*100000) -> 0 | BC13: ='Health Regions'!H14 -> 0 | BD13: =IF(BC13=0,0,($P$13/$BC$13)*100000) -> 0 | BE13: ='Health Regions'!J14 -> 0 | BF13: =IF(BE13=0,0,($Q$13/$BE$13)*100000) -> 0 | BG13: ='Health Regions'!L14 -> 0 | BH13: =IF(BG13=0,0,($R$13/$BG$13)*100000) -> 0 | BI13: ='Health Regions'!N14 -> 0 | BJ13: =IF(BI13=0,0,($S$13/$BI$13)*100000) -> 0 | BK13: ='Health Regions'!P14 -> 0 | BL13: =IF(BK13=0,0,($T$13/$BK$13)*100000) -> 0 | BM13: ='Health Regions'!R14 -> 0 | BN13: =IF(BM13=0,0,($U$13/$BM$13)*100000) -> 0 | BO13: ='Health Regions'!T14 -> 0 | BP13: =IF(BO13=0,0,($V$13/$BO$13)*100000) -> 0 | BQ13: ='Health Regions'!V14 -> 0 | BR13: =IF(BQ13=0,0,($W$13/$BQ$13)*100000) -> 0 | BS13: ='Health Regions'!X14 -> 0 | BT13: =IF(BS13=0,0,($X$13/$BS$13)*100000) -> 0 | BU13: ='Health Regions'!Z14 -> 0 | BV13: =IF(BU13=0,0,($Y$13/$BU$13)*100000) -> 0 | BW13: ='Health Regions'!AB14 -> 0 | BX13: =IF(BW13=0,0,($Z$13/$BW$13)*100000) -> 0 | BZ13: 23961 | CA13: 0.087247 | CC13: 55-64yrs | CD13: =AC13*CA13 -> 0 | CE13: =AE13*CA13 -> 0 | CF13: =AG13*CA13 -> 0 | CG13: =AI13*CA13 -> 0 | CH13: =AK13*CA13 -> 0 | CI13: =AM13*CA13 -> 0 | CJ13: =AO13*CA13 -> 0 | CK13: =AQ13*CA13 -> 0 | CL13: =AS13*CA13 -> 0 | CM13: =AU13*CA13 -> 0 | CN13: =AX13*CA13 -> 0 | CO13: =AZ13*CA13 -> 0 | CP13: =BB13*CA13 -> 0 | CQ13: =BD13*CA13 -> 0 | CR13: =BF13*CA13 -> 0 | CS13: =BH13*CA13 -> 0 | CT13: =BI13*CA13 -> 0 | CU13: =BL13*CA13 -> 0 | CV13: =BN13*CA13 -> 0 | CW13: =BP13*CA13 -> 0 | CX13: =BR13*CA13 -> 0 | CY13: =BT13*CA13 -> 0 | CZ13: =BV13*CA13 -> 0 | DA13: =BX13*CA13 -> 0
B14: 65-74yrs | AB14: =' Populations'!B19 -> 0 | AC14: =IF(AB14=0,0,($C$14/$AB$14)*100000) -> 0 | AD14: =' Populations'!D19 -> 0 | AE14: =IF(AD14=0,0,($D$14/$AD$14)*100000) -> 0 | AF14: =' Populations'!F19 -> 0 | AG14: =IF(AF14=0,0,($E$14/$AF$14)*100000) -> 0 | AH14: =' Populations'!H19 -> 0 | AI14: =IF(AH14=0,0,($F$14/$AH$14)*100000) -> 0 | AJ14: =' Populations'!J19 -> 0 | AK14: =IF(AJ14=0,0,($G$14/$AJ$14)*100000) -> 0 | AL14: =' Populations'!L19 -> 0 | AM14: =IF(AL14=0,0,($G$14/$AL$14)*100000) -> 0 | AN14: =' Populations'!N19 -> 0 | AO14: =IF(AN14=0,0,($I$14/$AN$14)*100000) -> 0 | AP14: =' Populations'!P19 -> 0 | AQ14: =IF(AP14=0,0,($J$14/$AP$14)*100000) -> 0 | AR14: =' Populations'!R19 -> 0 | AS14: =IF(AR14=0,0,($K$14/$AR$14)*100000) -> 0 | AT14: =' Populations'!T19 -> 0 | AU14: =IF(AT14=0,0,($L$14/$AT$14)*100000) -> 0 | AW14: ='Health Regions'!B15 -> 0 | AX14: =IF(AW14=0,0,($M$14/$AW$14)*100000) -> 0 | AY14: ='Health Regions'!D15 -> 0 | AZ14: =IF(AY14=0,0,($N$14/$AY$14)*100000) -> 0 | BA14: ='Health Regions'!F15 -> 0 | BB14: =IF(BA14=0,0,($O$14/$BA$14)*100000) -> 0 | BC14: ='Health Regions'!H15 -> 0 | BD14: =IF(BC14=0,0,($P$14/$BC$14)*100000) -> 0 | BE14: ='Health Regions'!J15 -> 0 | BF14: =IF(BE14=0,0,($Q$14/$BE$14)*100000) -> 0 | BG14: ='Health Regions'!L15 -> 0 | BH14: =IF(BG14=0,0,($R$14/$BG$14)*100000) -> 0 | BI14: ='Health Regions'!N15 -> 0 | BJ14: =IF(BI14=0,0,($S$14/$BI$14)*100000) -> 0 | BK14: ='Health Regions'!P15 -> 0 | BL14: =IF(BK14=0,0,($T$14/$BK$14)*100000) -> 0 | BM14: ='Health Regions'!R15 -> 0 | BN14: =IF(BM14=0,0,($U$14/$BM$14)*100000) -> 0 | BO14: ='Health Regions'!T15 -> 0 | BP14: =IF(BO14=0,0,($V$14/$BO$14)*100000) -> 0 | BQ14: ='Health Regions'!V15 -> 0 | BR14: =IF(BQ14=0,0,($W$14/$BQ$14)*100000) -> 0 | BS14: ='Health Regions'!X15 -> 0 | BT14: =IF(BS14=0,0,($X$14/$BS$14)*100000) -> 0 | BU14: ='Health Regions'!Z15 -> 0 | BV14: =IF(BU14=0,0,($Y$14/$BU$14)*100000) -> 0 | BW14: ='Health Regions'!AB15 -> 0 | BX14: =IF(BW14=0,0,($Z$14/$BW$14)*100000) -> 0 | BZ14: 18136 | CA14: 0.066037 | CC14: 65-74yrs | CD14: =AC14*CA14 -> 0 | CE14: =AE14*CA14 -> 0 | CF14: =AG14*CA14 -> 0 | CG14: =AI14*CA14 -> 0 | CH14: =AK14*CA14 -> 0 | CI14: =AM14*CA14 -> 0 | CJ14: =AO14*CA14 -> 0 | CK14: =AQ14*CA14 -> 0 | CL14: =AS14*CA14 -> 0 | CM14: =AU14*CA14 -> 0 | CN14: =AX14*CA14 -> 0 | CO14: =AZ14*CA14 -> 0 | CP14: =BB14*CA14 -> 0 | CQ14: =BD14*CA14 -> 0 | CR14: =BF14*CA14 -> 0 | CS14: =BH14*CA14 -> 0 | CT14: =BI14*CA14 -> 0 | CU14: =BL14*CA14 -> 0 | CV14: =BN14*CA14 -> 0 | CW14: =BP14*CA14 -> 0 | CX14: =BR14*CA14 -> 0 | CY14: =BT14*CA14 -> 0 | CZ14: =BV14*CA14 -> 0 | DA14: =BX14*CA14 -> 0
B15: 75-84yrs | AB15: =' Populations'!B20 -> 0 | AC15: =IF(AB15=0,0,($C$15/$AB$15)*100000) -> 0 | AD15: =' Populations'!D20 -> 0 | AE15: =IF(AD15=0,0,($D$15/$AD$15)*100000) -> 0 | AF15: =' Populations'!F20 -> 0 | AG15: =IF(AF15=0,0,($E$15/$AF$15)*100000) -> 0 | AH15: =' Populations'!H20 -> 0 | AI15: =IF(AH15=0,0,($F$15/$AH$15)*100000) -> 0 | AJ15: =' Populations'!J20 -> 0 | AK15: =IF(AJ15=0,0,($G$15/$AJ$15)*100000) -> 0 | AL15: =' Populations'!L20 -> 0 | AM15: =IF(AL15=0,0,($G$15/$AL$15)*100000) -> 0 | AN15: =' Populations'!N20 -> 0 | AO15: =IF(AN15=0,0,($I$15/$AN$15)*100000) -> 0 | AP15: =' Populations'!P20 -> 0 | AQ15: =IF(AP15=0,0,($J$15/$AP$15)*100000) -> 0 | AR15: =' Populations'!R20 -> 0 | AS15: =IF(AR15=0,0,($K$15/$AR$15)*100000) -> 0 | AT15: =' Populations'!T20 -> 0 | AU15: =IF(AT15=0,0,($L$15/$AT$15)*100000) -> 0 | AW15: ='Health Regions'!B16 -> 0 | AX15: =IF(AW15=0,0,($M$15/$AW$15)*100000) -> 0 | AY15: ='Health Regions'!D16 -> 0 | AZ15: =IF(AY15=0,0,($N$15/$AY$15)*100000) -> 0 | BA15: ='Health Regions'!F16 -> 0 | BB15: =IF(BA15=0,0,($O$15/$BA$15)*100000) -> 0 | BC15: ='Health Regions'!H16 -> 0 | BD15: =IF(BC15=0,0,($P$15/$BC$15)*100000) -> 0 | BE15: ='Health Regions'!J16 -> 0 | BF15: =IF(BE15=0,0,($Q$15/$BE$15)*100000) -> 0 | BG15: ='Health Regions'!L16 -> 0 | BH15: =IF(BG15=0,0,($R$15/$BG$15)*100000) -> 0 | BI15: ='Health Regions'!N16 -> 0 | BJ15: =IF(BI15=0,0,($S$15/$BI$15)*100000) -> 0 | BK15: ='Health Regions'!P16 -> 0 | BL15: =IF(BK15=0,0,($T$15/$BK$15)*100000) -> 0 | BM15: ='Health Regions'!R16 -> 0 | BN15: =IF(BM15=0,0,($U$15/$BM$15)*100000) -> 0 | BO15: ='Health Regions'!T16 -> 0 | BP15: =IF(BO15=0,0,($V$15/$BO$15)*100000) -> 0 | BQ15: ='Health Regions'!V16 -> 0 | BR15: =IF(BQ15=0,0,($W$15/$BQ$15)*100000) -> 0 | BS15: ='Health Regions'!X16 -> 0 | BT15: =IF(BS15=0,0,($X$15/$BS$15)*100000) -> 0 | BU15: ='Health Regions'!Z16 -> 0 | BV15: =IF(BU15=0,0,($Y$15/$BU$15)*100000) -> 0 | BW15: ='Health Regions'!AB16 -> 0 | BX15: =IF(BW15=0,0,($Z$15/$BW$15)*100000) -> 0 | BZ15: 12315 | CA15: 0.044841 | CC15: 75-84yrs | CD15: =AC15*CA15 -> 0 | CE15: =AE15*CA15 -> 0 | CF15: =AG15*CA15 -> 0 | CG15: =AI15*CA15 -> 0 | CH15: =AK15*CA15 -> 0 | CI15: =AM15*CA15 -> 0 | CJ15: =AO15*CA15 -> 0 | CK15: =AQ15*CA15 -> 0 | CL15: =AS15*CA15 -> 0 | CM15: =AU15*CA15 -> 0 | CN15: =AX15*CA15 -> 0 | CO15: =AZ15*CA15 -> 0 | CP15: =BB15*CA15 -> 0 | CQ15: =BD15*CA15 -> 0 | CR15: =BF15*CA15 -> 0 | CS15: =BH15*CA15 -> 0 | CT15: =BI15*CA15 -> 0 | CU15: =BL15*CA15 -> 0 | CV15: =BN15*CA15 -> 0 | CW15: =BP15*CA15 -> 0 | CX15: =BR15*CA15 -> 0 | CY15: =BT15*CA15 -> 0 | CZ15: =BV15*CA15 -> 0 | DA15: =BX15*CA15 -> 0
B16: 85+ | AB16: =' Populations'!B21 -> 0 | AC16: =IF(AB16=0,0,($C$16/$AB$16)*100000) -> 0 | AD16: =' Populations'!D21 -> 0 | AE16: =IF(AD16=0,0,($D$16/$AD$16)*100000) -> 0 | AF16: =' Populations'!F21 -> 0 | AG16: =IF(AF16=0,0,($E$16/$AF$16)*100000) -> 0 | AH16: =' Populations'!H21 -> 0 | AI16: =IF(AH16=0,0,($F$16/$AH$16)*100000) -> 0 | AJ16: =' Populations'!J21 -> 0 | AK16: =IF(AJ16=0,0,($G$16/$AJ$16)*100000) -> 0 | AL16: =' Populations'!L21 -> 0 | AM16: =IF(AL16=0,0,($G$16/$AL$16)*100000) -> 0 | AN16: =' Populations'!N21 -> 0 | AO16: =IF(AN16=0,0,($I$16/$AN$16)*100000) -> 0 | AP16: =' Populations'!P21 -> 0 | AQ16: =IF(AP16=0,0,($J$16/$AP$16)*100000) -> 0 | AR16: =' Populations'!R21 -> 0 | AS16: =IF(AR16=0,0,($K$16/$AR$16)*100000) -> 0 | AT16: =' Populations'!T21 -> 0 | AU16: =IF(AT16=0,0,($L$16/$AT$16)*100000) -> 0 | AW16: ='Health Regions'!B17 -> 0 | AX16: =IF(AW16=0,0,($M$16/$AW$16)*100000) -> 0 | AY16: ='Health Regions'!D17 -> 0 | AZ16: =IF(AY16=0,0,($N$16/$AY$16)*100000) -> 0 | BA16: ='Health Regions'!F17 -> 0 | BB16: =IF(BA16=0,0,($O$16/$BA$16)*100000) -> 0 | BC16: ='Health Regions'!H17 -> 0 | BD16: =IF(BC16=0,0,($P$16/$BC$16)*100000) -> 0 | BE16: ='Health Regions'!J17 -> 0 | BF16: =IF(BE16=0,0,($Q$16/$BE$16)*100000) -> 0 | BG16: ='Health Regions'!L17 -> 0 | BH16: =IF(BG16=0,0,($R$16/$BG$16)*100000) -> 0 | BI16: ='Health Regions'!N17 -> 0 | BJ16: =IF(BI16=0,0,($S$16/$BI$16)*100000) -> 0 | BK16: ='Health Regions'!P17 -> 0 | BL16: =IF(BK16=0,0,($T$16/$BK$16)*100000) -> 0 | BM16: ='Health Regions'!R17 -> 0 | BN16: =IF(BM16=0,0,($U$16/$BM$16)*100000) -> 0 | BO16: ='Health Regions'!T17 -> 0 | BP16: =IF(BO16=0,0,($V$16/$BO$16)*100000) -> 0 | BQ16: ='Health Regions'!V17 -> 0 | BR16: =IF(BQ16=0,0,($W$16/$BQ$16)*100000) -> 0 | BS16: ='Health Regions'!X17 -> 0 | BT16: =IF(BS16=0,0,($X$16/$BS$16)*100000) -> 0 | BU16: ='Health Regions'!Z17 -> 0 | BV16: =IF(BU16=0,0,($Y$16/$BU$16)*100000) -> 0 | BW16: ='Health Regions'!AB17 -> 0 | BX16: =IF(BW16=0,0,($Z$16/$BW$16)*100000) -> 0 | BZ16: 4259 | CA16: 0.015508 | CC16: 85+ | CD16: =AC16*CA16 -> 0 | CE16: =AE16*CA16 -> 0 | CF16: =AG16*CA16 -> 0 | CG16: =AI16*CA16 -> 0 | CH16: =AK16*CA16 -> 0 | CI16: =AM16*CA16 -> 0 | CJ16: =AO16*CA16 -> 0 | CK16: =AQ16*CA16 -> 0 | CL16: =AS16*CA16 -> 0 | CM16: =AU16*CA16 -> 0 | CN16: =AX16*CA16 -> 0 | CO16: =AZ16*CA16 -> 0 | CP16: =BB16*CA16 -> 0 | CQ16: =BD16*CA16 -> 0 | CR16: =BF16*CA16 -> 0 | CS16: =BH16*CA16 -> 0 | CT16: =BI16*CA16 -> 0 | CU16: =BL16*CA16 -> 0 | CV16: =BN16*CA16 -> 0 | CW16: =BP16*CA16 -> 0 | CX16: =BR16*CA16 -> 0 | CY16: =BT16*CA16 -> 0 | CZ16: =BV16*CA16 -> 0 | DA16: =BX16*CA16 -> 0
B17: total | C17: =SUM(C4:C16) -> 0 | D17: =SUM(D4:D16) -> 0 | E17: =SUM(E4:E16) -> 0 | F17: =SUM(F4:F16) -> 0 | G17: =SUM(G4:G16) -> 0 | H17: =SUM(H4:H16) -> 0 | I17: =SUM(I4:I16) -> 0 | J17: =SUM(J4:J16) -> 0 | ... Z17: =SUM(Z4:Z16) -> 0 | AB17: =SUM(AB4:AB16) -> 0 | AC17: =SUM(AC4:AC16) -> 0 | AD17: =SUM(AD4:AD16) -> 0 | AE17: =SUM(AE4:AE16) -> 0 | AF17: =SUM(AF4:AF16) -> 0 | AG17: =SUM(AG4:AG16) -> 0 | AH17: =SUM(AH4:AH16) -> 0 | AI17: =SUM(AI4:AI16) -> 0 | ... AU17: =SUM(AU4:AU16) -> 0 | AW17: =SUM(AW4:AW16) -> 0 | AX17: =SUM(AX4:AX16) -> 0 | AY17: =SUM(AY4:AY16) -> 0 | AZ17: =SUM(AZ4:AZ16) -> 0 | BA17: =SUM(BA4:BA16) -> 0 | BB17: =SUM(BB4:BB16) -> 0 | BC17: =SUM(BC4:BC16) -> 0 | BD17: =SUM(BD4:BD16) -> 0 | ... BX17: =SUM(BX4:BX16) -> 0 | BZ17: =SUM(BZ4:BZ16) -> 274634 | CC17: total | CD17: =SUM(CD4:CD16) -> 0 | CE17: =SUM(CE4:CE16) -> 0 | CF17: =SUM(CF4:CF16) -> 0 | CG17: =SUM(CG4:CG16) -> 0 | CH17: =SUM(CH4:CH16) -> 0 | CI17: =SUM(CI4:CI16) -> 0 | CJ17: =SUM(CJ4:CJ16) -> 0 | CK17: =SUM(CK4:CK16) -> 0 | ... DA17: =SUM(DA4:DA16) -> 0
D19: Sex Data | F19: Demographic Data | M19: Region Data | CD19: Age-adjusted Rates per 100,000 population
B20: Age | C20: Number of ED visits- Total | D20: Number of ED visits- Male | E20: Number of ED visits- Female | F20: Number of ED visits- White-Not Hispanic | G20: Number of ED visits- Hispanic | H20: Number of ED visits- Black-Not Hispanic | I20: Number of ED visits- Asian | J20: Number of ED visits- American Indian/Alaska Native | K20: =' Populations'!R8 -> Other | L20: =' Populations'!T8 -> Other | M20: Number of ED visits- Region 1 | N20: Number of ED visits- Region 2 | O20: Number of ED visits- Region 3 | P20: Number of ED visits- Region 4 | Q20: Number of ED visits- Region 5 | R20: Number of ED visits- Region 6 | S20: Number of ED visits- Region 7 | T20: Number of ED visits- Region 8 | U20: Number of ED visits- Region 9 | V20: Number of ED visits- Region 10 | W20: Number of ED visits- Region 11 | X20: Number of ED visits- Region 12 | Y20: Number of ED visits- Region 13 | Z20: Number of ED visits- Region 14 | AB20: State population - Total | AC20: Rate | AD20: State population - Male | AE20: Rate | AF20: State population - Female | AG20: Rate | AH20: State population - White-Not Hispanic | AI20: Rate | AJ20: State population - Hispanic | AK20: Rate | AL20: State population - Black-Not Hispanic | AM20: Rate | AN20: State population - Asian | AO20: Rate | AP20: State population - American Indian/Alaska Native | AQ20: Rate | AR20: =' Populations'!R8 -> Other | AS20: Rate | AT20: =' Populations'!T8 -> Other | AU20: Rate | AW20: Region 1 | AX20: Rate | AY20: Region 2 | AZ20: Rate | BA20: Region 3 | BB20: Rate | BC20: Region 4 | BD20: Rate | BE20: Region 5 | BF20: Rate | BG20: Region 6 | BH20: Rate | BI20: Region 7 | BJ20: Rate | BK20: Region 8 | BL20: Rate | BM20: Region 9 | BN20: Rate | BO20: Region 10 | BP20: Rate | BQ20: Region 11 | BR20: Rate | BS20: Region 12 | BT20: Rate | BU20: Region 13 | BV20: Rate | BW20: Region 14 | BX20: Rate | BZ20: 2000 population | CA20: Weight | CC20: Age | CD20: Total | CE20: Male | CF20: Female | CG20: White-Not Hispanic | CH20: Hispanic | CI20: Black-Not Hispanic | CJ20: Asian | CK20: American Indian/Alaska Native | CL20: =' Populations'!R8 -> Other | CM20: =' Populations'!T8 -> Other | CN20: ED visits- Region 1 | CO20: ED visits- Region 2 | CP20: ED visits- Region 3 | CQ20: ED visits- Region 4 | CR20: ED visits- Region 5 | CS20: ED visits- Region 6 | CT20: ED visits- Region 7 | CU20: ED visits- Region 8 | CV20: ED visits- Region 9 | CW20: ED visits- Region 10 | CX20: ED visits- Region 11 | CY20: ED visits- Region 12 | CZ20: ED visits- Region 13 | DA20: ED visits- Region 14
B21: <1yr | AB21: =' Populations'!B9 -> 0 | AC21: =IF(AB21=0,0,($C$21/$AB$21)*100000) -> 0 | AD21: =' Populations'!D9 -> 0 | AE21: =IF(AD21=0,0,($D$21/$AD$21)*100000) -> 0 | AF21: =' Populations'!F9 -> 0 | AG21: =IF(AF21=0,0,($E$21/$AF$21)*100000) -> 0 | AH21: =' Populations'!H9 -> 0 | AI21: =IF(AH21=0,0,($F$21/$AH$21)*100000) -> 0 | AJ21: =' Populations'!J9 -> 0 | AK21: =IF(AJ21=0,0,($G$21/$AJ$21)*100000) -> 0 | AL21: =' Populations'!L9 -> 0 | AM21: =IF(AL21=0,0,($H$21/$AL$21)*100000) -> 0 | AN21: =' Populations'!N9 -> 0 | AO21: =IF(AN21=0,0,($I$21/$AN$21)*100000) -> 0 | AP21: =' Populations'!P9 -> 0 | AQ21: =IF(AP21=0,0,($J$21/$AP$21)*100000) -> 0 | AR21: =' Populations'!R9 -> 0 | AS21: =IF(AR21=0,0,($K$21/$AR$21)*100000) -> 0 | AT21: =' Populations'!T9 -> 0 | AU21: =IF(AT21=0,0,($L$21/$AT$21)*100000) -> 0 | AW21: ='Health Regions'!B5 -> 0 | AX21: =IF(AW21=0,0,($M$21/$AW$21)*100000) -> 0 | AY21: ='Health Regions'!D5 -> 0 | AZ21: =IF(AY21=0,0,($N$21/$AY$21)*100000) -> 0 | BA21: ='Health Regions'!F5 -> 0 | BB21: =IF(BA21=0,0,($O$21/$BA$21)*100000) -> 0 | BC21: ='Health Regions'!H5 -> 0 | BD21: =IF(BC21=0,0,($P$21/$BC$21)*100000) -> 0 | BE21: ='Health Regions'!J5 -> 0 | BF21: =IF(BE21=0,0,($Q$21/$BE$21)*100000) -> 0 | BG21: ='Health Regions'!L5 -> 0 | BH21: =IF(BG21=0,0,($R$21/$BG$21)*100000) -> 0 | BI21: ='Health Regions'!N5 -> 0 | BJ21: =IF(BI21=0,0,($S$21/$BI$21)*100000) -> 0 | BK21: ='Health Regions'!P5 -> 0 | BL21: =IF(BK21=0,0,($T$21/$BK$21)*100000) -> 0 | BM21: ='Health Regions'!R5 -> 0 | BN21: =IF(BM21=0,0,($U$21/$BM$21)*100000) -> 0 | BO21: ='Health Regions'!T5 -> 0 | BP21: =IF(BO21=0,0,($V$21/$BO21)*100000) -> 0 | BQ21: ='Health Regions'!V5 -> 0 | BR21: =IF(BQ21=0,0,($W$21/$BQ$21)*100000) -> 0 | BS21: ='Health Regions'!X5 -> 0 | BT21: =IF(BS21=0,0,($X$21/$BS$21)*100000) -> 0 | BU21: ='Health Regions'!Z5 -> 0 | BV21: =IF(BU21=0,0,($Y$21/$BU$21)*100000) -> 0 | BW21: ='Health Regions'!AB5 -> 0 | BX21: =IF(BW21=0,0,($Z$21/$BW$21)*100000) -> 0 | BZ21: 3795 | CA21: 0.013818 | CC21: <1yr | CD21: =AC21*CA21 -> 0 | CE21: =AE21*CA21 -> 0 | CF21: =AG21*CA21 -> 0 | CG21: =AI21*CA21 -> 0 | CH21: =AK21*CA21 -> 0 | CI21: =AM21*CA21 -> 0 | CJ21: =AO21*CA21 -> 0 | CK21: =AQ21*CA21 -> 0 | CL21: =AS21*CA21 -> 0 | CM21: =AU21*CA21 -> 0 | CN21: =AX21*CA21 -> 0 | CO21: =AZ21*CA21 -> 0 | CP21: =BB21*CA21 -> 0 | CQ21: =BD21*CA21 -> 0 | CR21: =BF21*CA21 -> 0 | CS21: =BH21*CA21 -> 0 | CT21: =BI21*CA21 -> 0 | CU21: =BL21*CA21 -> 0 | CV21: =BN21*CA21 -> 0 | CW21: =BP21*CA21 -> 0 | CX21: =BR21*CA21 -> 0 | CY21: =BT21*CA21 -> 0 | CZ21: =BV21*CA21 -> 0 | DA21: =BX21*CA21 -> 0
B22: 1-4yrs | AB22: =' Populations'!B10 -> 0 | AC22: =IF(AB22=0,0,($C$22/$AB$22)*100000) -> 0 | AD22: =' Populations'!D10 -> 0 | AE22: =IF(AD22=0,0,($D$22/$AD$22)*100000) -> 0 | AF22: =' Populations'!F10 -> 0 | AG22: =IF(AF22=0,0,($E$22/$AF$22)*100000) -> 0 | AH22: =' Populations'!H10 -> 0 | AI22: =IF(AH22=0,0,($F$22/$AH$22)*100000) -> 0 | AJ22: =' Populations'!J10 -> 0 | AK22: =IF(AJ22=0,0,($G$22/$AJ$22)*100000) -> 0 | AL22: =' Populations'!L10 -> 0 | AM22: =IF(AL22=0,0,($H$22/$AL$22)*100000) -> 0 | AN22: =' Populations'!N10 -> 0 | AO22: =IF(AN22=0,0,($I$22/$AN$22)*100000) -> 0 | AP22: =' Populations'!P10 -> 0 | AQ22: =IF(AP22=0,0,($J$22/$AP$22)*100000) -> 0 | AR22: =' Populations'!R10 -> 0 | AS22: =IF(AR22=0,0,($K$22/$AR$22)*100000) -> 0 | AT22: =' Populations'!T10 -> 0 | AU22: =IF(AT22=0,0,($L$22/$AT$22)*100000) -> 0 | AW22: ='Health Regions'!B6 -> 0 | AX22: =IF(AW22=0,0,($M$22/$AW$22)*100000) -> 0 | AY22: ='Health Regions'!D6 -> 0 | AZ22: =IF(AY22=0,0,($N$22/$AY$22)*100000) -> 0 | BA22: ='Health Regions'!F6 -> 0 | BB22: =IF(BA22=0,0,($O$22/$BA$22)*100000) -> 0 | BC22: ='Health Regions'!H6 -> 0 | BD22: =IF(BC22=0,0,($P$22/$BC$22)*100000) -> 0 | BE22: ='Health Regions'!J6 -> 0 | BF22: =IF(BE22=0,0,($Q$22/$BE$22)*100000) -> 0 | BG22: ='Health Regions'!L6 -> 0 | BH22: =IF(BG22=0,0,($R$22/$BG$22)*100000) -> 0 | BI22: ='Health Regions'!N6 -> 0 | BJ22: =IF(BI22=0,0,($S$22/$BI$22)*100000) -> 0 | BK22: ='Health Regions'!P6 -> 0 | BL22: =IF(BK22=0,0,($T$22/$BK$22)*100000) -> 0 | BM22: ='Health Regions'!R6 -> 0 | BN22: =IF(BM22=0,0,($U$22/$BM$22)*100000) -> 0 | BO22: ='Health Regions'!T6 -> 0 | BP22: =IF(BO22=0,0,($V$22/$BO$22)*100000) -> 0 | BQ22: ='Health Regions'!V6 -> 0 | BR22: =IF(BQ22=0,0,($W$22/$BQ$22)*100000) -> 0 | BS22: ='Health Regions'!X6 -> 0 | BT22: =IF(BS22=0,0,($X$22/$BS$22)*100000) -> 0 | BU22: ='Health Regions'!Z6 -> 0 | BV22: =IF(BU22=0,0,($Y$22/$BU$22)*100000) -> 0 | BW22: ='Health Regions'!AB6 -> 0 | BX22: =IF(BW22=0,0,($Z$22/$BW$22)*100000) -> 0 | BZ22: 15192 | CA22: 0.055317 | CC22: 1-4yrs | CD22: =AC22*CA22 -> 0 | CE22: =AE22*CA22 -> 0 | CF22: =AG22*CA22 -> 0 | CG22: =AI22*CA22 -> 0 | CH22: =AK22*CA22 -> 0 | CI22: =AM22*CA22 -> 0 | CJ22: =AO22*CA22 -> 0 | CK22: =AQ22*CA22 -> 0 | CL22: =AS22*CA22 -> 0 | CM22: =AU22*CA22 -> 0 | CN22: =AX22*CA22 -> 0 | CO22: =AZ22*CA22 -> 0 | CP22: =BB22*CA22 -> 0 | CQ22: =BD22*CA22 -> 0 | CR22: =BF22*CA22 -> 0 | CS22: =BH22*CA22 -> 0 | CT22: =BI22*CA22 -> 0 | CU22: =BL22*CA22 -> 0 | CV22: =BN22*CA22 -> 0 | CW22: =BP22*CA22 -> 0 | CX22: =BR22*CA22 -> 0 | CY22: =BT22*CA22 -> 0 | CZ22: =BV22*CA22 -> 0 | DA22: =BX22*CA22 -> 0
B23: 5-9yrs | AB23: =' Populations'!B11 -> 0 | AC23: =IF(AB23=0,0,($C$23/$AB$23)*100000) -> 0 | AD23: =' Populations'!D11 -> 0 | AE23: =IF(AD23=0,0,($D$23/$AD$23)*100000) -> 0 | AF23: =' Populations'!F11 -> 0 | AG23: =IF(AF23=0,0,($E$23/$AF$23)*100000) -> 0 | AH23: =' Populations'!H11 -> 0 | AI23: =IF(AH23=0,0,($F$23/$AH$23)*100000) -> 0 | AJ23: =' Populations'!J11 -> 0 | AK23: =IF(AJ23=0,0,($G$23/$AJ$23)*100000) -> 0 | AL23: =' Populations'!L11 -> 0 | AM23: =IF(AL23=0,0,($H$23/$AL$23)*100000) -> 0 | AN23: =' Populations'!N11 -> 0 | AO23: =IF(AN23=0,0,($I$23/$AN$23)*100000) -> 0 | AP23: =' Populations'!P11 -> 0 | AQ23: =IF(AP23=0,0,($J$23/$AP$23)*100000) -> 0 | AR23: =' Populations'!R11 -> 0 | AS23: =IF(AR23=0,0,($K$23/$AR$23)*100000) -> 0 | AT23: =' Populations'!T11 -> 0 | AU23: =IF(AT23=0,0,($L$23/$AT$23)*100000) -> 0 | AW23: ='Health Regions'!B7 -> 0 | AX23: =IF(AW23=0,0,($M$23/$AW$23)*100000) -> 0 | AY23: ='Health Regions'!D7 -> 0 | AZ23: =IF(AY23=0,0,($N$23/$AY$23)*100000) -> 0 | BA23: ='Health Regions'!F7 -> 0 | BB23: =IF(BA23=0,0,($O$23/$BA$23)*100000) -> 0 | BC23: ='Health Regions'!H7 -> 0 | BD23: =IF(BC23=0,0,($P$23/$BC$23)*100000) -> 0 | BE23: ='Health Regions'!J7 -> 0 | BF23: =IF(BE23=0,0,($Q$23/$BE$23)*100000) -> 0 | BG23: ='Health Regions'!L7 -> 0 | BH23: =IF(BG23=0,0,($R$23/$BG$23)*100000) -> 0 | BI23: ='Health Regions'!N7 -> 0 | BJ23: =IF(BI23=0,0,($S$23/$BI$23)*100000) -> 0 | BK23: ='Health Regions'!P7 -> 0 | BL23: =IF(BK23=0,0,($T$23/$BK$23)*100000) -> 0 | BM23: ='Health Regions'!R7 -> 0 | BN23: =IF(BM23=0,0,($U$23/$BM$23)*100000) -> 0 | BO23: ='Health Regions'!T7 -> 0 | BP23: =IF(BO23=0,0,($V$23/$BO$23)*100000) -> 0 | BQ23: ='Health Regions'!V7 -> 0 | BR23: =IF(BQ23=0,0,($W$23/$BQ$23)*100000) -> 0 | BS23: ='Health Regions'!X7 -> 0 | BT23: =IF(BS23=0,0,($X$23/$BS$23)*100000) -> 0 | BU23: ='Health Regions'!Z7 -> 0 | BV23: =IF(BU23=0,0,($Y$23/$BU$23)*100000) -> 0 | BW23: ='Health Regions'!AB7 -> 0 | BX23: =IF(BW23=0,0,($Z$23/$BW$23)*100000) -> 0 | BZ23: 19920 | CA23: 0.072533 | CC23: 5-9yrs | CD23: =AC23*CA23 -> 0 | CE23: =AE23*CA23 -> 0 | CF23: =AG23*CA23 -> 0 | CG23: =AI23*CA23 -> 0 | CH23: =AK23*CA23 -> 0 | CI23: =AM23*CA23 -> 0 | CJ23: =AO23*CA23 -> 0 | CK23: =AQ23*CA23 -> 0 | CL23: =AS23*CA23 -> 0 | CM23: =AU23*CA23 -> 0 | CN23: =AX23*CA23 -> 0 | CO23: =AZ23*CA23 -> 0 | CP23: =BB23*CA23 -> 0 | CQ23: =BD23*CA23 -> 0 | CR23: =BF23*CA23 -> 0 | CS23: =BH23*CA23 -> 0 | CT23: =BI23*CA23 -> 0 | CU23: =BL23*CA23 -> 0 | CV23: =BN23*CA23 -> 0 | CW23: =BP23*CA23 -> 0 | CX23: =BR23*CA23 -> 0 | CY23: =BT23*CA23 -> 0 | CZ23: =BV23*CA23 -> 0 | DA23: =BX23*CA23 -> 0
B24: 10-14yrs | AB24: =' Populations'!B12 -> 0 | AC24: =IF(AB24=0,0,($C$24/$AB$24)*100000) -> 0 | AD24: =' Populations'!D12 -> 0 | AE24: =IF(AD24=0,0,($D$24/$AD$24)*100000) -> 0 | AF24: =' Populations'!F12 -> 0 | AG24: =IF(AF24=0,0,($E$24/$AF$24)*100000) -> 0 | AH24: =' Populations'!H12 -> 0 | AI24: =IF(AH24=0,0,($F$24/$AH$24)*100000) -> 0 | AJ24: =' Populations'!J12 -> 0 | AK24: =IF(AJ24=0,0,($G$24/$AJ$24)*100000) -> 0 | AL24: =' Populations'!L12 -> 0 | AM24: =IF(AL24=0,0,($H$24/$AL$24)*100000) -> 0 | AN24: =' Populations'!N12 -> 0 | AO24: =IF(AN24=0,0,($I$24/$AN$24)*100000) -> 0 | AP24: =' Populations'!P12 -> 0 | AQ24: =IF(AP24=0,0,($J$24/$AP$24)*100000) -> 0 | AR24: =' Populations'!R12 -> 0 | AS24: =IF(AR24=0,0,($K$24/$AR$24)*100000) -> 0 | AT24: =' Populations'!T12 -> 0 | AU24: =IF(AT24=0,0,($L$24/$AT$24)*100000) -> 0 | AW24: ='Health Regions'!B8 -> 0 | AX24: =IF(AW24=0,0,($M$24/$AW$24)*100000) -> 0 | AY24: ='Health Regions'!D8 -> 0 | AZ24: =IF(AY24=0,0,($N$24/$AY$24)*100000) -> 0 | BA24: ='Health Regions'!F8 -> 0 | BB24: =IF(BA24=0,0,($O$24/$BA$24)*100000) -> 0 | BC24: ='Health Regions'!H8 -> 0 | BD24: =IF(BC24=0,0,($P$24/$BC$24)*100000) -> 0 | BE24: ='Health Regions'!J8 -> 0 | BF24: =IF(BE24=0,0,($Q$24/$BE$24)*100000) -> 0 | BG24: ='Health Regions'!L8 -> 0 | BH24: =IF(BG24=0,0,($R$24/$BG$24)*100000) -> 0 | BI24: ='Health Regions'!N8 -> 0 | BJ24: =IF(BI24=0,0,($S$24/$BI$24)*100000) -> 0 | BK24: ='Health Regions'!P8 -> 0 | BL24: =IF(BK24=0,0,($T$24/$BK$24)*100000) -> 0 | BM24: ='Health Regions'!R8 -> 0 | BN24: =IF(BM24=0,0,($U$24/$BM$24)*100000) -> 0 | BO24: ='Health Regions'!T8 -> 0 | BP24: =IF(BO24=0,0,($V24/$BO$24)*100000) -> 0 | BQ24: ='Health Regions'!V8 -> 0 | BR24: =IF(BQ24=0,0,($W$24/$BQ$24)*100000) -> 0 | BS24: ='Health Regions'!X8 -> 0 | BT24: =IF(BS24=0,0,($X$24/$BS$24)*100000) -> 0 | BU24: ='Health Regions'!Z8 -> 0 | BV24: =IF(BU24=0,0,($Y$24/$BU$24)*100000) -> 0 | BW24: ='Health Regions'!AB8 -> 0 | BX24: =IF(BW24=0,0,($Z$24/$BW$24)*100000) -> 0 | BZ24: 20057 | CA24: 0.073032 | CC24: 10-14yrs | CD24: =AC24*CA24 -> 0 | CE24: =AE24*CA24 -> 0 | CF24: =AG24*CA24 -> 0 | CG24: =AI24*CA24 -> 0 | CH24: =AK24*CA24 -> 0 | CI24: =AM24*CA24 -> 0 | CJ24: =AO24*CA24 -> 0 | CK24: =AQ24*CA24 -> 0 | CL24: =AS24*CA24 -> 0 | CM24: =AU24*CA24 -> 0 | CN24: =AX24*CA24 -> 0 | CO24: =AZ24*CA24 -> 0 | CP24: =BB24*CA24 -> 0 | CQ24: =BD24*CA24 -> 0 | CR24: =BF24*CA24 -> 0 | CS24: =BH24*CA24 -> 0 | CT24: =BI24*CA24 -> 0 | CU24: =BL24*CA24 -> 0 | CV24: =BN24*CA24 -> 0 | CW24: =BP24*CA24 -> 0 | CX24: =BR24*CA24 -> 0 | CY24: =BT24*CA24 -> 0 | CZ24: =BV24*CA24 -> 0 | DA24: =BX24*CA24 -> 0
B25: 15-19yrs | AB25: =' Populations'!B13 -> 0 | AC25: =IF(AB25=0,0,($C$25/$AB$25)*100000) -> 0 | AD25: =' Populations'!D13 -> 0 | AE25: =IF(AD25=0,0,($D$25/$AD$25)*100000) -> 0 | AF25: =' Populations'!F13 -> 0 | AG25: =IF(AF25=0,0,($E$25/$AF$25)*100000) -> 0 | AH25: =' Populations'!H13 -> 0 | AI25: =IF(AH25=0,0,($F$25/$AH$25)*100000) -> 0 | AJ25: =' Populations'!J13 -> 0 | AK25: =IF(AJ25=0,0,($G$25/$AJ$25)*100000) -> 0 | AL25: =' Populations'!L13 -> 0 | AM25: =IF(AL25=0,0,($H$25/$AL$25)*100000) -> 0 | AN25: =' Populations'!N13 -> 0 | AO25: =IF(AN25=0,0,($I$25/$AN$25)*100000) -> 0 | AP25: =' Populations'!P13 -> 0 | AQ25: =IF(AP25=0,0,($J$25/$AP$25)*100000) -> 0 | AR25: =' Populations'!R13 -> 0 | AS25: =IF(AR25=0,0,($K$25/$AR$25)*100000) -> 0 | AT25: =' Populations'!T13 -> 0 | AU25: =IF(AT25=0,0,($L$25/$AT$25)*100000) -> 0 | AW25: ='Health Regions'!B9 -> 0 | AX25: =IF(AW25=0,0,($M$25/$AW$25)*100000) -> 0 | AY25: ='Health Regions'!D9 -> 0 | AZ25: =IF(AY25=0,0,($N$25/$AY$25)*100000) -> 0 | BA25: ='Health Regions'!F9 -> 0 | BB25: =IF(BA25=0,0,($O$25/$BA$25)*100000) -> 0 | BC25: ='Health Regions'!H9 -> 0 | BD25: =IF(BC25=0,0,($P$25/$BC$25)*100000) -> 0 | BE25: ='Health Regions'!J9 -> 0 | BF25: =IF(BE25=0,0,($Q$25/$BE$25)*100000) -> 0 | BG25: ='Health Regions'!L9 -> 0 | BH25: =IF(BG25=0,0,($R$25/$BG$25)*100000) -> 0 | BI25: ='Health Regions'!N9 -> 0 | BJ25: =IF(BI25=0,0,($S$25/$BI$25)*100000) -> 0 | BK25: ='Health Regions'!P9 -> 0 | BL25: =IF(BK25=0,0,($T$25/$BK$25)*100000) -> 0 | BM25: ='Health Regions'!R9 -> 0 | BN25: =IF(BM25=0,0,($U$25/$BM$25)*100000) -> 0 | BO25: ='Health Regions'!T9 -> 0 | BP25: =IF(BO25=0,0,($V$25/$BO$25)*100000) -> 0 | BQ25: ='Health Regions'!V9 -> 0 | BR25: =IF(BQ25=0,0,($W$25/$BQ$25)*100000) -> 0 | BS25: ='Health Regions'!X9 -> 0 | BT25: =IF(BS25=0,0,($X$25/$BS$25)*100000) -> 0 | BU25: ='Health Regions'!Z9 -> 0 | BV25: =IF(BU25=0,0,($Y$25/$BU$25)*100000) -> 0 | BW25: ='Health Regions'!AB9 -> 0 | BX25: =IF(BW25=0,0,($Z$25/$BW$25)*100000) -> 0 | BZ25: 19820 | CA25: 0.072169 | CC25: 15-19yrs | CD25: =AC25*CA25 -> 0 | CE25: =AE25*CA25 -> 0 | CF25: =AG25*CA25 -> 0 | CG25: =AI25*CA25 -> 0 | CH25: =AK25*CA25 -> 0 | CI25: =AM25*CA25 -> 0 | CJ25: =AO25*CA25 -> 0 | CK25: =AQ25*CA25 -> 0 | CL25: =AS25*CA25 -> 0 | CM25: =AU25*CA25 -> 0 | CN25: =AX25*CA25 -> 0 | CO25: =AZ25*CA25 -> 0 | CP25: =BB25*CA25 -> 0 | CQ25: =BD25*CA25 -> 0 | CR25: =BF25*CA25 -> 0 | CS25: =BH25*CA25 -> 0 | CT25: =BI25*CA25 -> 0 | CU25: =BL25*CA25 -> 0 | CV25: =BN25*CA25 -> 0 | CW25: =BP25*CA25 -> 0 | CX25: =BR25*CA25 -> 0 | CY25: =BT25*CA25 -> 0 | CZ25: =BV25*CA25 -> 0 | DA25: =BX25*CA25 -> 0
B26: 20-24yrs | AB26: =' Populations'!B14 -> 0 | AC26: =IF(AB26=0,0,($C$26/$AB$26)*100000) -> 0 | AD26: =' Populations'!D14 -> 0 | AE26: =IF(AD26=0,0,($D$26/$AD$26)*100000) -> 0 | AF26: =' Populations'!F14 -> 0 | AG26: =IF(AF26=0,0,($E$26/$AF$26)*100000) -> 0 | AH26: =' Populations'!H14 -> 0 | AI26: =IF(AH26=0,0,($F$26/$AH$26)*100000) -> 0 | AJ26: =' Populations'!J14 -> 0 | AK26: =IF(AJ26=0,0,($G$26/$AJ$26)*100000) -> 0 | AL26: =' Populations'!L14 -> 0 | AM26: =IF(AL26=0,0,($H$26/$AL$26)*100000) -> 0 | AN26: =' Populations'!N14 -> 0 | AO26: =IF(AN26=0,0,($I$26/$AN$26)*100000) -> 0 | AP26: =' Populations'!P14 -> 0 | AQ26: =IF(AP26=0,0,($J$26/$AP$26)*100000) -> 0 | AR26: =' Populations'!R14 -> 0 | AS26: =IF(AR26=0,0,($K$26/$AR$26)*100000) -> 0 | AT26: =' Populations'!T14 -> 0 | AU26: =IF(AT26=0,0,($L$26/$AT$26)*100000) -> 0 | AW26: ='Health Regions'!B10 -> 0 | AX26: =IF(AW26=0,0,($M$26/$AW$26)*100000) -> 0 | AY26: ='Health Regions'!D10 -> 0 | AZ26: =IF(AY26=0,0,($N$26/$AY$26)*100000) -> 0 | BA26: ='Health Regions'!F10 -> 0 | BB26: =IF(BA26=0,0,($O$26/$BA$26)*100000) -> 0 | BC26: ='Health Regions'!H10 -> 0 | BD26: =IF(BC26=0,0,($P$26/$BC$26)*100000) -> 0 | BE26: ='Health Regions'!J10 -> 0 | BF26: =IF(BE26=0,0,($Q$26/$BE$26)*100000) -> 0 | BG26: ='Health Regions'!L10 -> 0 | BH26: =IF(BG26=0,0,($R$26/$BG$26)*100000) -> 0 | BI26: ='Health Regions'!N10 -> 0 | BJ26: =IF(BI26=0,0,($S$26/$BI$26)*100000) -> 0 | BK26: ='Health Regions'!P10 -> 0 | BL26: =IF(BK26=0,0,($T$26/$BK$26)*100000) -> 0 | BM26: ='Health Regions'!R10 -> 0 | BN26: =IF(BM26=0,0,($PU26/$BM$26)*100000) -> 0 | BO26: ='Health Regions'!T10 -> 0 | BP26: =IF(BO26=0,0,($V$26/$BO$26)*100000) -> 0 | BQ26: ='Health Regions'!V10 -> 0 | BR26: =IF(BQ26=0,0,($W$26/$BQ$26)*100000) -> 0 | BS26: ='Health Regions'!X10 -> 0 | BT26: =IF(BS26=0,0,($X$26/$BS$26)*100000) -> 0 | BU26: ='Health Regions'!Z10 -> 0 | BV26: =IF(BU26=0,0,($Y$26/$BU$26)*100000) -> 0 | BW26: ='Health Regions'!AB10 -> 0 | BX26: =IF(BW26=0,0,($Z$26/$BW$26)*100000) -> 0 | BZ26: 18257 | CA26: 0.066478 | CC26: 20-24yrs | CD26: =AC26*CA26 -> 0 | CE26: =AE26*CA26 -> 0 | CF26: =AG26*CA26 -> 0 | CG26: =AI26*CA26 -> 0 | CH26: =AK26*CA26 -> 0 | CI26: =AM26*CA26 -> 0 | CJ26: =AO26*CA26 -> 0 | CK26: =AQ26*CA26 -> 0 | CL26: =AS26*CA26 -> 0 | CM26: =AU26*CA26 -> 0 | CN26: =AX26*CA26 -> 0 | CO26: =AZ26*CA26 -> 0 | CP26: =BB26*CA26 -> 0 | CQ26: =BD26*CA26 -> 0 | CR26: =BF26*CA26 -> 0 | CS26: =BH26*CA26 -> 0 | CT26: =BI26*CA26 -> 0 | CU26: =BL26*CA26 -> 0 | CV26: =BN26*CA26 -> 0 | CW26: =BP26*CA26 -> 0 | CX26: =BR26*CA26 -> 0 | CY26: =BT26*CA26 -> 0 | CZ26: =BV26*CA26 -> 0 | DA26: =BX26*CA26 -> 0
B27: 25-34yrs | AB27: =' Populations'!B15 -> 0 | AC27: =IF(AB27=0,0,($C$27/$AB$27)*100000) -> 0 | AD27: =' Populations'!D15 -> 0 | AE27: =IF(AD27=0,0,($D$27/$AD$27)*100000) -> 0 | AF27: =' Populations'!F15 -> 0 | AG27: =IF(AF27=0,0,($E$27/$AF$27)*100000) -> 0 | AH27: =' Populations'!H15 -> 0 | AI27: =IF(AH27=0,0,($F$27/$AH$27)*100000) -> 0 | AJ27: =' Populations'!J15 -> 0 | AK27: =IF(AJ27=0,0,($G$27/$AJ$27)*100000) -> 0 | AL27: =' Populations'!L15 -> 0 | AM27: =IF(AL27=0,0,($H$27/$AL$27)*100000) -> 0 | AN27: =' Populations'!N15 -> 0 | AO27: =IF(AN27=0,0,($I$27/$AN$27)*100000) -> 0 | AP27: =' Populations'!P15 -> 0 | AQ27: =IF(AP27=0,0,($J$27/$AP$27)*100000) -> 0 | AR27: =' Populations'!R15 -> 0 | AS27: =IF(AR27=0,0,($K$27/$AR$27)*100000) -> 0 | AT27: =' Populations'!T15 -> 0 | AU27: =IF(AT27=0,0,($L$272/$AT$27)*100000) -> 0 | AW27: ='Health Regions'!B11 -> 0 | AX27: =IF(AW27=0,0,($M$27/$AW$27)*100000) -> 0 | AY27: ='Health Regions'!D11 -> 0 | AZ27: =IF(AY27=0,0,($N$27/$AY$27)*100000) -> 0 | BA27: ='Health Regions'!F11 -> 0 | BB27: =IF(BA27=0,0,($O$27/$BA$27)*100000) -> 0 | BC27: ='Health Regions'!H11 -> 0 | BD27: =IF(BC27=0,0,($P$27/$BC$27)*100000) -> 0 | BE27: ='Health Regions'!J11 -> 0 | BF27: =IF(BE27=0,0,($Q$27/$BE$27)*100000) -> 0 | BG27: ='Health Regions'!L11 -> 0 | BH27: =IF(BG27=0,0,($R$27/$BG$27)*100000) -> 0 | BI27: ='Health Regions'!N11 -> 0 | BJ27: =IF(BI27=0,0,($S$27/$BI$27)*100000) -> 0 | BK27: ='Health Regions'!P11 -> 0 | BL27: =IF(BK27=0,0,($T$27/$BK$27)*100000) -> 0 | BM27: ='Health Regions'!R11 -> 0 | BN27: =IF(BM27=0,0,($U$27/$BM$27)*100000) -> 0 | BO27: ='Health Regions'!T11 -> 0 | BP27: =IF(BO27=0,0,($V$27/$BO$27)*100000) -> 0 | BQ27: ='Health Regions'!V11 -> 0 | BR27: =IF(BQ27=0,0,($W$27/$BQ$27)*100000) -> 0 | BS27: ='Health Regions'!X11 -> 0 | BT27: =IF(BS27=0,0,($X$27/$BS$27)*100000) -> 0 | BU27: ='Health Regions'!Z11 -> 0 | BV27: =IF(BU27=0,0,($Y$27/$BU$27)*100000) -> 0 | BW27: ='Health Regions'!AB11 -> 0 | BX27: =IF(BW27=0,0,($Z$27/$BW$27)*100000) -> 0 | BZ27: 37233 | CA27: 0.135573 | CC27: 25-34yrs | CD27: =AC27*CA27 -> 0 | CE27: =AE27*CA27 -> 0 | CF27: =AG27*CA27 -> 0 | CG27: =AI27*CA27 -> 0 | CH27: =AK27*CA27 -> 0 | CI27: =AM27*CA27 -> 0 | CJ27: =AO27*CA27 -> 0 | CK27: =AQ27*CA27 -> 0 | CL27: =AS27*CA27 -> 0 | CM27: =AU27*CA27 -> 0 | CN27: =AX27*CA27 -> 0 | CO27: =AZ27*CA27 -> 0 | CP27: =BB27*CA27 -> 0 | CQ27: =BD27*CA27 -> 0 | CR27: =BF27*CA27 -> 0 | CS27: =BH27*CA27 -> 0 | CT27: =BI27*CA27 -> 0 | CU27: =BL27*CA27 -> 0 | CV27: =BN27*CA27 -> 0 | CW27: =BP27*CA27 -> 0 | CX27: =BR27*CA27 -> 0 | CY27: =BT27*CA27 -> 0 | CZ27: =BV27*CA27 -> 0 | DA27: =BX27*CA27 -> 0
B28: 35-44yrs | AB28: =' Populations'!B16 -> 0 | AC28: =IF(AB28=0,0,($C$28/$AB$28)*100000) -> 0 | AD28: =' Populations'!D16 -> 0 | AE28: =IF(AD28=0,0,($D$28/$AD$28)*100000) -> 0 | AF28: =' Populations'!F16 -> 0 | AG28: =IF(AF28=0,0,($E$28/$AF$28)*100000) -> 0 | AH28: =' Populations'!H16 -> 0 | AI28: =IF(AH28=0,0,($F$28/$AH$28)*100000) -> 0 | AJ28: =' Populations'!J16 -> 0 | AK28: =IF(AJ28=0,0,($G$28/$AJ$28)*100000) -> 0 | AL28: =' Populations'!L16 -> 0 | AM28: =IF(AL28=0,0,($H$28/$AL$28)*100000) -> 0 | AN28: =' Populations'!N16 -> 0 | AO28: =IF(AN28=0,0,($I$28/$AN$28)*100000) -> 0 | AP28: =' Populations'!P16 -> 0 | AQ28: =IF(AP28=0,0,($J$28/$AP$28)*100000) -> 0 | AR28: =' Populations'!R16 -> 0 | AS28: =IF(AR28=0,0,($K$28/$AR$28)*100000) -> 0 | AT28: =' Populations'!T16 -> 0 | AU28: =IF(AT28=0,0,($L$28/$AT$28)*100000) -> 0 | AW28: ='Health Regions'!B12 -> 0 | AX28: =IF(AW28=0,0,($M$28/$AW$28)*100000) -> 0 | AY28: ='Health Regions'!D12 -> 0 | AZ28: =IF(AY28=0,0,($N$28/$AW$28)*100000) -> 0 | BA28: ='Health Regions'!F12 -> 0 | BB28: =IF(BA28=0,0,($O$28/$BA$28)*100000) -> 0 | BC28: ='Health Regions'!H12 -> 0 | BD28: =IF(BC28=0,0,($P$28/$BC$28)*100000) -> 0 | BE28: ='Health Regions'!J12 -> 0 | BF28: =IF(BE28=0,0,($Q$28/$BE$28)*100000) -> 0 | BG28: ='Health Regions'!L12 -> 0 | BH28: =IF(BG28=0,0,($R$28/$BG$28)*100000) -> 0 | BI28: ='Health Regions'!N12 -> 0 | BJ28: =IF(BI28=0,0,($S$28/$BI$28)*100000) -> 0 | BK28: ='Health Regions'!P12 -> 0 | BL28: =IF(BK28=0,0,($T$28/$BK$28)*100000) -> 0 | BM28: ='Health Regions'!R12 -> 0 | BN28: =IF(BM28=0,0,($U$28/$BM$28)*100000) -> 0 | BO28: ='Health Regions'!T12 -> 0 | BP28: =IF(BO28=0,0,($V$28/$BO$28)*100000) -> 0 | BQ28: ='Health Regions'!V12 -> 0 | BR28: =IF(BQ28=0,0,($W$28/$BQ$28)*100000) -> 0 | BS28: ='Health Regions'!X12 -> 0 | BT28: =IF(BS28=0,0,($X$28/$BS$28)*100000) -> 0 | BU28: ='Health Regions'!Z12 -> 0 | BV28: =IF(BU28=0,0,($Y$28/$BU$28)*100000) -> 0 | BW28: ='Health Regions'!AB12 -> 0 | BX28: =IF(BW28=0,0,($Z$28/$BW$28)*100000) -> 0 | BZ28: 44659 | CA28: 0.162613 | CC28: 35-44yrs | CD28: =AC28*CA28 -> 0 | CE28: =AE28*CA28 -> 0 | CF28: =AG28*CA28 -> 0 | CG28: =AI28*CA28 -> 0 | CH28: =AK28*CA28 -> 0 | CI28: =AM28*CA28 -> 0 | CJ28: =AO28*CA28 -> 0 | CK28: =AQ28*CA28 -> 0 | CL28: =AS28*CA28 -> 0 | CM28: =AU28*CA28 -> 0 | CN28: =AX28*CA28 -> 0 | CO28: =AZ28*CA28 -> 0 | CP28: =BB28*CA28 -> 0 | CQ28: =BD28*CA28 -> 0 | CR28: =BF28*CA28 -> 0 | CS28: =BH28*CA28 -> 0 | CT28: =BI28*CA28 -> 0 | CU28: =BL28*CA28 -> 0 | CV28: =BN28*CA28 -> 0 | CW28: =BP28*CA28 -> 0 | CX28: =BR28*CA28 -> 0 | CY28: =BT28*CA28 -> 0 | CZ28: =BV28*CA28 -> 0 | DA28: =BX28*CA28 -> 0
B29: 45-54yrs | AB29: =' Populations'!B17 -> 0 | AC29: =IF(AB29=0,0,($C$29/$AB$29)*100000) -> 0 | AD29: =' Populations'!D17 -> 0 | AE29: =IF(AD29=0,0,($D$29/$AD$29)*100000) -> 0 | AF29: =' Populations'!F17 -> 0 | AG29: =IF(AF29=0,0,($E$29/$AF$29)*100000) -> 0 | AH29: =' Populations'!H17 -> 0 | AI29: =IF(AH29=0,0,($F$29/$AH$29)*100000) -> 0 | AJ29: =' Populations'!J17 -> 0 | AK29: =IF(AJ29=0,0,($G$29/$AJ$29)*100000) -> 0 | AL29: =' Populations'!L17 -> 0 | AM29: =IF(AL29=0,0,($H$29/$AL$29)*100000) -> 0 | AN29: =' Populations'!N17 -> 0 | AO29: =IF(AN29=0,0,($I$29/$AN$29)*100000) -> 0 | AP29: =' Populations'!P17 -> 0 | AQ29: =IF(AP29=0,0,($J$29/$AP$29)*100000) -> 0 | AR29: =' Populations'!R17 -> 0 | AS29: =IF(AR29=0,0,($K$29/$AR$29)*100000) -> 0 | AT29: =' Populations'!T17 -> 0 | AU29: =IF(AT29=0,0,($L$29/$AT$29)*100000) -> 0 | AW29: ='Health Regions'!B13 -> 0 | AX29: =IF(AW29=0,0,($M$29/$AW$29)*100000) -> 0 | AY29: ='Health Regions'!D13 -> 0 | AZ29: =IF(AY29=0,0,($N$29/$AY$29)*100000) -> 0 | BA29: ='Health Regions'!F13 -> 0 | BB29: =IF(BA29=0,0,($O$29/$BA$29)*100000) -> 0 | BC29: ='Health Regions'!H13 -> 0 | BD29: =IF(BC29=0,0,($P$29/$BC$29)*100000) -> 0 | BE29: ='Health Regions'!J13 -> 0 | BF29: =IF(BE29=0,0,($Q$29/$BE$29)*100000) -> 0 | BG29: ='Health Regions'!L13 -> 0 | BH29: =IF(BG29=0,0,($R$29/$BG$29)*100000) -> 0 | BI29: ='Health Regions'!N13 -> 0 | BJ29: =IF(BI29=0,0,($S$29/$BI$29)*100000) -> 0 | BK29: ='Health Regions'!P13 -> 0 | BL29: =IF(BK29=0,0,($T$29/$BK$29)*100000) -> 0 | BM29: ='Health Regions'!R13 -> 0 | BN29: =IF(BM29=0,0,($U$29/$BM$29)*100000) -> 0 | BO29: ='Health Regions'!T13 -> 0 | BP29: =IF(BO29=0,0,($V$29/$BO$29)*100000) -> 0 | BQ29: ='Health Regions'!V13 -> 0 | BR29: =IF(BQ29=0,0,($W$29/$BQ$29)*100000) -> 0 | BS29: ='Health Regions'!X13 -> 0 | BT29: =IF(BS29=0,0,($X$29/$BS$29)*100000) -> 0 | BU29: ='Health Regions'!Z13 -> 0 | BV29: =IF(BU29=0,0,($Y$29/$BU$29)*100000) -> 0 | BW29: ='Health Regions'!AB13 -> 0 | BX29: =IF(BW29=0,0,($Z$29/$BW$29)*100000) -> 0 | BZ29: 37030 | CA29: 0.134834 | CC29: 45-54yrs | CD29: =AC29*CA29 -> 0 | CE29: =AE29*CA29 -> 0 | CF29: =AG29*CA29 -> 0 | CG29: =AI29*CA29 -> 0 | CH29: =AK29*CA29 -> 0 | CI29: =AM29*CA29 -> 0 | CJ29: =AO29*CA29 -> 0 | CK29: =AQ29*CA29 -> 0 | CL29: =AS29*CA29 -> 0 | CM29: =AU29*CA29 -> 0 | CN29: =AX29*CA29 -> 0 | CO29: =AZ29*CA29 -> 0 | CP29: =BB29*CA29 -> 0 | CQ29: =BD29*CA29 -> 0 | CR29: =BF29*CA29 -> 0 | CS29: =BH29*CA29 -> 0 | CT29: =BI29*CA29 -> 0 | CU29: =BL29*CA29 -> 0 | CV29: =BN29*CA29 -> 0 | CW29: =BP29*CA29 -> 0 | CX29: =BR29*CA29 -> 0 | CY29: =BT29*CA29 -> 0 | CZ29: =BV29*CA29 -> 0 | DA29: =BX29*CA29 -> 0
B30: 55-64yrs | AB30: =' Populations'!B18 -> 0 | AC30: =IF(AB30=0,0,($C$30/$AB$30)*100000) -> 0 | AD30: =' Populations'!D18 -> 0 | AE30: =IF(AD30=0,0,($D$30/$AD$30)*100000) -> 0 | AF30: =' Populations'!F18 -> 0 | AG30: =IF(AF30=0,0,($E$30/$AF$30)*100000) -> 0 | AH30: =' Populations'!H18 -> 0 | AI30: =IF(AH30=0,0,($F$30/$AH$30)*100000) -> 0 | AJ30: =' Populations'!J18 -> 0 | AK30: =IF(AJ30=0,0,($G$30/$AJ$30)*100000) -> 0 | AL30: =' Populations'!L18 -> 0 | AM30: =IF(AL30=0,0,($H$30/$AL$30)*100000) -> 0 | AN30: =' Populations'!N18 -> 0 | AO30: =IF(AN30=0,0,($I$30/$AN$30)*100000) -> 0 | AP30: =' Populations'!P18 -> 0 | AQ30: =IF(AP30=0,0,($J$30/$AP$30)*100000) -> 0 | AR30: =' Populations'!R18 -> 0 | AS30: =IF(AR30=0,0,($K$30/$AR$30)*100000) -> 0 | AT30: =' Populations'!T18 -> 0 | AU30: =IF(AT30=0,0,($L$30/$AT$30)*100000) -> 0 | AW30: ='Health Regions'!B14 -> 0 | AX30: =IF(AW30=0,0,($M$30/$AW$30)*100000) -> 0 | AY30: ='Health Regions'!D14 -> 0 | AZ30: =IF(AY30=0,0,($N$30/$AY$30)*100000) -> 0 | BA30: ='Health Regions'!F14 -> 0 | BB30: =IF(BA30=0,0,($O$30/$BA$30)*100000) -> 0 | BC30: ='Health Regions'!H14 -> 0 | BD30: =IF(BC30=0,0,($P$30/$BC$30)*100000) -> 0 | BE30: ='Health Regions'!J14 -> 0 | BF30: =IF(BE30=0,0,($Q$30/$BE$30)*100000) -> 0 | BG30: ='Health Regions'!L14 -> 0 | BH30: =IF(BG30=0,0,($R$30/$BG$30)*100000) -> 0 | BI30: ='Health Regions'!N14 -> 0 | BJ30: =IF(BI30=0,0,($S$30/$BI$30)*100000) -> 0 | BK30: ='Health Regions'!P14 -> 0 | BL30: =IF(BK30=0,0,($T$30/$BK$30)*100000) -> 0 | BM30: ='Health Regions'!R14 -> 0 | BN30: =IF(BM30=0,0,($U$30/$BM$30)*100000) -> 0 | BO30: ='Health Regions'!T14 -> 0 | BP30: =IF(BO30=0,0,($V$30/$BO$30)*100000) -> 0 | BQ30: ='Health Regions'!V14 -> 0 | BR30: =IF(BQ30=0,0,($W$30/$BQ$30)*100000) -> 0 | BS30: ='Health Regions'!X14 -> 0 | BT30: =IF(BS30=0,0,($X$30/$BS$30)*100000) -> 0 | BU30: ='Health Regions'!Z14 -> 0 | BV30: =IF(BU30=0,0,($Y$30/$BU$30)*100000) -> 0 | BW30: ='Health Regions'!AB14 -> 0 | BX30: =IF(BW30=0,0,($Z$30/$BW$30)*100000) -> 0 | BZ30: 23961 | CA30: 0.087247 | CC30: 55-64yrs | CD30: =AC30*CA30 -> 0 | CE30: =AE30*CA30 -> 0 | CF30: =AG30*CA30 -> 0 | CG30: =AI30*CA30 -> 0 | CH30: =AK30*CA30 -> 0 | CI30: =AM30*CA30 -> 0 | CJ30: =AO30*CA30 -> 0 | CK30: =AQ30*CA30 -> 0 | CL30: =AS30*CA30 -> 0 | CM30: =AU30*CA30 -> 0 | CN30: =AX30*CA30 -> 0 | CO30: =AZ30*CA30 -> 0 | CP30: =BB30*CA30 -> 0 | CQ30: =BD30*CA30 -> 0 | CR30: =BF30*CA30 -> 0 | CS30: =BH30*CA30 -> 0 | CT30: =BI30*CA30 -> 0 | CU30: =BL30*CA30 -> 0 | CV30: =BN30*CA30 -> 0 | CW30: =BP30*CA30 -> 0 | CX30: =BR30*CA30 -> 0 | CY30: =BT30*CA30 -> 0 | CZ30: =BV30*CA30 -> 0 | DA30: =BX30*CA30 -> 0
B31: 65-74yrs | AB31: =' Populations'!B19 -> 0 | AC31: =IF(AB31=0,0,($C$31/$AB$31)*100000) -> 0 | AD31: =' Populations'!D19 -> 0 | AE31: =IF(AD31=0,0,($D$31/$AD$31)*100000) -> 0 | AF31: =' Populations'!F19 -> 0 | AG31: =IF(AF31=0,0,($E$31/$AF$31)*100000) -> 0 | AH31: =' Populations'!H19 -> 0 | AI31: =IF(AH31=0,0,($F$31/$AH$31)*100000) -> 0 | AJ31: =' Populations'!J19 -> 0 | AK31: =IF(AJ31=0,0,($G$31/$AJ$31)*100000) -> 0 | AL31: =' Populations'!L19 -> 0 | AM31: =IF(AL31=0,0,($H$31/$AL$31)*100000) -> 0 | AN31: =' Populations'!N19 -> 0 | AO31: =IF(AN31=0,0,($I$31/$AN$31)*100000) -> 0 | AP31: =' Populations'!P19 -> 0 | AQ31: =IF(AP31=0,0,($J$31/$AP$31)*100000) -> 0 | AR31: =' Populations'!R19 -> 0 | AS31: =IF(AR31=0,0,($K$31/$AR$31)*100000) -> 0 | AT31: =' Populations'!T19 -> 0 | AU31: =IF(AT31=0,0,($L$31/$AT$31)*100000) -> 0 | AW31: ='Health Regions'!B15 -> 0 | AX31: =IF(AW31=0,0,($M$31/$AW$31)*100000) -> 0 | AY31: ='Health Regions'!D15 -> 0 | AZ31: =IF(AY31=0,0,($N$31/$AY$31)*100000) -> 0 | BA31: ='Health Regions'!F15 -> 0 | BB31: =IF(BA31=0,0,($O$31/$BA$31)*100000) -> 0 | BC31: ='Health Regions'!H15 -> 0 | BD31: =IF(BC31=0,0,($P$31/$BC$31)*100000) -> 0 | BE31: ='Health Regions'!J15 -> 0 | BF31: =IF(BE31=0,0,($Q$31/$BE$31)*100000) -> 0 | BG31: ='Health Regions'!L15 -> 0 | BH31: =IF(BG31=0,0,($R$31/$BG$31)*100000) -> 0 | BI31: ='Health Regions'!N15 -> 0 | BJ31: =IF(BI31=0,0,($S$31/$BI$31)*100000) -> 0 | BK31: ='Health Regions'!P15 -> 0 | BL31: =IF(BK31=0,0,($T$31/$BK$31)*100000) -> 0 | BM31: ='Health Regions'!R15 -> 0 | BN31: =IF(BM31=0,0,($U$31/$BM$31)*100000) -> 0 | BO31: ='Health Regions'!T15 -> 0 | BP31: =IF(BO31=0,0,($V$31/$BO$31)*100000) -> 0 | BQ31: ='Health Regions'!V15 -> 0 | BR31: =IF(BQ31=0,0,($W$31/$BQ$31)*100000) -> 0 | BS31: ='Health Regions'!X15 -> 0 | BT31: =IF(BS31=0,0,($X$31/$BS$31)*100000) -> 0 | BU31: ='Health Regions'!Z15 -> 0 | BV31: =IF(BU31=0,0,($Y$31/$BU$31)*100000) -> 0 | BW31: ='Health Regions'!AB15 -> 0 | BX31: =IF(BW31=0,0,($Z$31/$BW$31)*100000) -> 0 | BZ31: 18136 | CA31: 0.066037 | CC31: 65-74yrs | CD31: =AC31*CA31 -> 0 | CE31: =AE31*CA31 -> 0 | CF31: =AG31*CA31 -> 0 | CG31: =AI31*CA31 -> 0 | CH31: =AK31*CA31 -> 0 | CI31: =AM31*CA31 -> 0 | CJ31: =AO31*CA31 -> 0 | CK31: =AQ31*CA31 -> 0 | CL31: =AS31*CA31 -> 0 | CM31: =AU31*CA31 -> 0 | CN31: =AX31*CA31 -> 0 | CO31: =AZ31*CA31 -> 0 | CP31: =BB31*CA31 -> 0 | CQ31: =BD31*CA31 -> 0 | CR31: =BF31*CA31 -> 0 | CS31: =BH31*CA31 -> 0 | CT31: =BI31*CA31 -> 0 | CU31: =BL31*CA31 -> 0 | CV31: =BN31*CA31 -> 0 | CW31: =BP31*CA31 -> 0 | CX31: =BR31*CA31 -> 0 | CY31: =BT31*CA31 -> 0 | CZ31: =BV31*CA31 -> 0 | DA31: =BX31*CA31 -> 0
B32: 75-84yrs | AB32: =' Populations'!B20 -> 0 | AC32: =IF(AB32=0,0,($C$32/$AB$32)*100000) -> 0 | AD32: =' Populations'!D20 -> 0 | AE32: =IF(AD32=0,0,($D$32/$AD$32)*100000) -> 0 | AF32: =' Populations'!F20 -> 0 | AG32: =IF(AF32=0,0,($E$32/$AF$32)*100000) -> 0 | AH32: =' Populations'!H20 -> 0 | AI32: =IF(AH32=0,0,($F$32/$AH$32)*100000) -> 0 | AJ32: =' Populations'!J20 -> 0 | AK32: =IF(AJ32=0,0,($G$32/$AJ$32)*100000) -> 0 | AL32: =' Populations'!L20 -> 0 | AM32: =IF(AL32=0,0,($H$32/$AL$32)*100000) -> 0 | AN32: =' Populations'!N20 -> 0 | AO32: =IF(AN32=0,0,($I$32/$AN$32)*100000) -> 0 | AP32: =' Populations'!P20 -> 0 | AQ32: =IF(AP32=0,0,($J$32/$AP$32)*100000) -> 0 | AR32: =' Populations'!R20 -> 0 | AS32: =IF(AR32=0,0,($K$32/$AR$32)*100000) -> 0 | AT32: =' Populations'!T20 -> 0 | AU32: =IF(AT32=0,0,($L$32/$AT$32)*100000) -> 0 | AW32: ='Health Regions'!B16 -> 0 | AX32: =IF(AW32=0,0,($M$32/$AW$32)*100000) -> 0 | AY32: ='Health Regions'!D16 -> 0 | AZ32: =IF(AY32=0,0,($N$32/$AY$32)*100000) -> 0 | BA32: ='Health Regions'!F16 -> 0 | BB32: =IF(BA32=0,0,($O$32/$BA$32)*100000) -> 0 | BC32: ='Health Regions'!H16 -> 0 | BD32: =IF(BC32=0,0,($P$32/$BC$32)*100000) -> 0 | BE32: ='Health Regions'!J16 -> 0 | BF32: =IF(BE32=0,0,($Q$32/$BE$32)*100000) -> 0 | BG32: ='Health Regions'!L16 -> 0 | BH32: =IF(BG32=0,0,($R$32/$BG$32)*100000) -> 0 | BI32: ='Health Regions'!N16 -> 0 | BJ32: =IF(BI32=0,0,($S$32/$BI$32)*100000) -> 0 | BK32: ='Health Regions'!P16 -> 0 | BL32: =IF(BK32=0,0,($T$32/$BK$32)*100000) -> 0 | BM32: ='Health Regions'!R16 -> 0 | BN32: =IF(BM32=0,0,($U$32/$BM$32)*100000) -> 0 | BO32: ='Health Regions'!T16 -> 0 | BP32: =IF(BO32=0,0,($V$32/$BO$32)*100000) -> 0 | BQ32: ='Health Regions'!V16 -> 0 | BR32: =IF(BQ32=0,0,($W$32/$BQ$32)*100000) -> 0 | BS32: ='Health Regions'!X16 -> 0 | BT32: =IF(BS32=0,0,($X$32/$BS$32)*100000) -> 0 | BU32: ='Health Regions'!Z16 -> 0 | BV32: =IF(BU32=0,0,($Y$32/$BU$32)*100000) -> 0 | BW32: ='Health Regions'!AB16 -> 0 | BX32: =IF(BW32=0,0,($Z$32/$BW$32)*100000) -> 0 | BZ32: 12315 | CA32: 0.044841 | CC32: 75-84yrs | CD32: =AC32*CA32 -> 0 | CE32: =AE32*CA32 -> 0 | CF32: =AG32*CA32 -> 0 | CG32: =AI32*CA32 -> 0 | CH32: =AK32*CA32 -> 0 | CI32: =AM32*CA32 -> 0 | CJ32: =AO32*CA32 -> 0 | CK32: =AQ32*CA32 -> 0 | CL32: =AS32*CA32 -> 0 | CM32: =AU32*CA32 -> 0 | CN32: =AX32*CA32 -> 0 | CO32: =AZ32*CA32 -> 0 | CP32: =BB32*CA32 -> 0 | CQ32: =BD32*CA32 -> 0 | CR32: =BF32*CA32 -> 0 | CS32: =BH32*CA32 -> 0 | CT32: =BI32*CA32 -> 0 | CU32: =BL32*CA32 -> 0 | CV32: =BN32*CA32 -> 0 | CW32: =BP32*CA32 -> 0 | CX32: =BR32*CA32 -> 0 | CY32: =BT32*CA32 -> 0 | CZ32: =BV32*CA32 -> 0 | DA32: =BX32*CA32 -> 0
B33: 85+ | AB33: =' Populations'!B21 -> 0 | AC33: =IF(AB33=0,0,($C$33/$AB$33)*100000) -> 0 | AD33: =' Populations'!D21 -> 0 | AE33: =IF(AD33=0,0,($D$33/$AD$33)*100000) -> 0 | AF33: =' Populations'!F21 -> 0 | AG33: =IF(AF33=0,0,($E$33/$AF$33)*100000) -> 0 | AH33: =' Populations'!H21 -> 0 | AI33: =IF(AH33=0,0,($F$33/$AH$33)*100000) -> 0 | AJ33: =' Populations'!J21 -> 0 | AK33: =IF(AJ33=0,0,($G$33/$AJ$33)*100000) -> 0 | AL33: =' Populations'!L21 -> 0 | AM33: =IF(AL33=0,0,($H$33/$AL$33)*100000) -> 0 | AN33: =' Populations'!N21 -> 0 | AO33: =IF(AN33=0,0,($I$33/$AN$33)*100000) -> 0 | AP33: =' Populations'!P21 -> 0 | AQ33: =IF(AP33=0,0,($J$33/$AP$33)*100000) -> 0 | AR33: =' Populations'!R21 -> 0 | AS33: =IF(AR33=0,0,($K$33/$AR$33)*100000) -> 0 | AT33: =' Populations'!T21 -> 0 | AU33: =IF(AT33=0,0,($L$33/$AT$33)*100000) -> 0 | AW33: ='Health Regions'!B17 -> 0 | AX33: =IF(AW33=0,0,($M$33/$AW$33)*100000) -> 0 | AY33: ='Health Regions'!D17 -> 0 | AZ33: =IF(AY33=0,0,($N$33/$AY$33)*100000) -> 0 | BA33: ='Health Regions'!F34 -> 0 | BB33: =IF(BA33=0,0,($O$33/$BA$33)*100000) -> 0 | BC33: ='Health Regions'!H17 -> 0 | BD33: =IF(BC33=0,0,($P$33/$BC$33)*100000) -> 0 | BE33: ='Health Regions'!J17 -> 0 | BF33: =IF(BE33=0,0,($Q$33/$BE$33)*100000) -> 0 | BG33: ='Health Regions'!L17 -> 0 | BH33: =IF(BG33=0,0,($R$33/$BG$33)*100000) -> 0 | BI33: ='Health Regions'!N17 -> 0 | BJ33: =IF(BI33=0,0,($S$33/$BI$33)*100000) -> 0 | BK33: ='Health Regions'!P17 -> 0 | BL33: =IF(BK33=0,0,($T$33/$BK$33)*100000) -> 0 | BM33: ='Health Regions'!R17 -> 0 | BN33: =IF(BM33=0,0,($U$33/$BM$33)*100000) -> 0 | BO33: ='Health Regions'!T17 -> 0 | BP33: =IF(BO33=0,0,($V$33/$BO$33)*100000) -> 0 | BQ33: ='Health Regions'!V17 -> 0 | BR33: =IF(BQ33=0,0,($W$33/$BQ$33)*100000) -> 0 | BS33: ='Health Regions'!X17 -> 0 | BT33: =IF(BS33=0,0,($X$33/$BS$33)*100000) -> 0 | BU33: ='Health Regions'!Z17 -> 0 | BV33: =IF(BU33=0,0,($Y$33/$BU$33)*100000) -> 0 | BW33: ='Health Regions'!AB17 -> 0 | BX33: =IF(BW33=0,0,($Z$33/$BW$33)*100000) -> 0 | BZ33: 4259 | CA33: 0.015508 | CC33: 85+ | CD33: =AC33*CA33 -> 0 | CE33: =AE33*CA33 -> 0 | CF33: =AG33*CA33 -> 0 | CG33: =AI33*CA33 -> 0 | CH33: =AK33*CA33 -> 0 | CI33: =AM33*CA33 -> 0 | CJ33: =AO33*CA33 -> 0 | CK33: =AQ33*CA33 -> 0 | CL33: =AS33*CA33 -> 0 | CM33: =AU33*CA33 -> 0 | CN33: =AX33*CA33 -> 0 | CO33: =AZ33*CA33 -> 0 | CP33: =BB33*CA33 -> 0 | CQ33: =BD33*CA33 -> 0 | CR33: =BF33*CA33 -> 0 | CS33: =BH33*CA33 -> 0 | CT33: =BI33*CA33 -> 0 | CU33: =BL33*CA33 -> 0 | CV33: =BN33*CA33 -> 0 | CW33: =BP33*CA33 -> 0 | CX33: =BR33*CA33 -> 0 | CY33: =BT33*CA33 -> 0 | CZ33: =BV33*CA33 -> 0 | DA33: =BX33*CA33 -> 0
B34: total | C34: =SUM(C21:C33) -> 0 | D34: =SUM(D21:D33) -> 0 | E34: =SUM(E21:E33) -> 0 | F34: =SUM(F21:F33) -> 0 | G34: =SUM(G21:G33) -> 0 | H34: =SUM(H21:H33) -> 0 | I34: =SUM(I21:I33) -> 0 | J34: =SUM(J21:J33) -> 0 | ... Z34: =SUM(Z21:Z33) -> 0 | AB34: =SUM(AB21:AB33) -> 0 | AC34: =SUM(AC21:AC33) -> 0 | AD34: =SUM(AD21:AD33) -> 0 | AE34: =SUM(AE21:AE33) -> 0 | AF34: =SUM(AF21:AF33) -> 0 | AG34: =SUM(AG21:AG33) -> 0 | AH34: =SUM(AH21:AH33) -> 0 | AI34: =SUM(AI21:AI33) -> 0 | ... AU34: =SUM(AU21:AU33) -> 0 | AW34: =SUM(AW21:AW33) -> 0 | AX34: =SUM(AX21:AX33) -> 0 | AY34: =SUM(AY21:AY33) -> 0 | AZ34: =SUM(AZ21:AZ33) -> 0 | BA34: =SUM(BA21:BA33) -> 0 | BB34: =SUM(BB21:BB33) -> 0 | BC34: =SUM(BC21:BC33) -> 0 | BD34: =SUM(BD21:BD33) -> 0 | ... BX34: =SUM(BX21:BX33) -> 0 | BZ34: =SUM(BZ21:BZ33) -> 274634 | CC34: total | CD34: =SUM(CD21:CD33) -> 0 | CE34: =SUM(CE21:CE33) -> 0 | CF34: =SUM(CF21:CF33) -> 0 | CG34: =SUM(CG21:CG33) -> 0 | CH34: =SUM(CH21:CH33) -> 0 | CI34: =SUM(CI21:CI33) -> 0 | CJ34: =SUM(CJ21:CJ33) -> 0 | CK34: =SUM(CK21:CK33) -> 0 | ... DA34: =SUM(DA21:DA33) -> 0
D36: Sex Data | F36: Demographic Data | M36: Region Data | CD36: Age-adjusted Rates per 100,000 population
B37: Age | C37: Number of deaths- Total | D37: Number of deaths- Male | E37: Number of deaths- Female | F37: Number of deaths- White-Not Hispanic | G37: Number of deaths- Hispanic | H37: Number of deaths- Black-Not Hispanic | I37: Number of deaths- Asian | J37: Number of deaths- American Indian/Alaska Native | K37: =' Populations'!R8 -> Other | L37: =' Populations'!T8 -> Other | M37: Number of deaths- Region 1 | N37: Number of deaths- Region 2 | O37: Number of deaths- Region 3 | P37: Number of deaths- Region 4 | Q37: Number of deaths- Region 5 | R37: Number of deaths- Region 6 | S37: Number of deaths- Region 7 | T37: Number of deaths- Region 8 | U37: Number of deaths- Region 9 | V37: Number of deaths- Region 10 | W37: Number of deaths- Region 11 | X37: Number of deaths- Region 12 | Y37: Number of deaths- Region 13 | Z37: Number of deaths- Region 14 | AB37: State population - Total | AC37: Rate | AD37: State population - Male | AE37: Rate | AF37: State population - Female | AG37: Rate | AH37: State population - White-Not Hispanic | AI37: Rate | AJ37: State population - Hispanic | AK37: Rate | AL37: State population - Black-Not Hispanic | AM37: Rate | AN37: State population - Asian | AO37: Rate | AP37: State population - American Indian/Alaska Native | AQ37: Rate | AR37: =' Populations'!R8 -> Other | AS37: Rate | AT37: =' Populations'!T8 -> Other | AU37: Rate | AW37: Region 1 | AX37: Rate | AY37: Region 2 | AZ37: Rate | BA37: Region 3 | BB37: Rate | BC37: Region 4 | BD37: Rate | BE37: Region 5 | BF37: Rate | BG37: Region 6 | BH37: Rate | BI37: Region 7 | BJ37: Rate | BK37: Region 8 | BL37: Rate | BM37: Region 9 | BN37: Rate | BO37: Region 10 | BP37: Rate | BQ37: Region 11 | BR37: Rate | BS37: Region 12 | BT37: Rate | BU37: Region 13 | BV37: Rate | BW37: Region 14 | BX37: Rate | BZ37: 2000 population | CA37: Weight | CC37: Age | CD37: Total | CE37: Male | CF37: Female | CG37: White-Not Hispanic | CH37: Hispanic | CI37: Black-Not Hispanic | CJ37: Asian | CK37: American Indian/Alaska Native | CL37: =' Populations'!R8 -> Other | CM37: =' Populations'!T8 -> Other | CN37: Deaths- Region 1 | CO37: Deaths- Region 2 | CP37: Deaths- Region 3 | CQ37: Deaths- Region 4 | CR37: Deaths- Region 5 | CS37: Deaths- Region 6 | CT37: Deaths- Region 7 | CU37: Deaths- Region 8 | CV37: Deaths- Region 9 | CW37: Deaths- Region 10 | CX37: Deaths- Region 11 | CY37: Deaths- Region 12 | CZ37: Deaths- Region 13 | DA37: Deaths- Region 14
B38: <1yr | AB38: =' Populations'!B9 -> 0 | AC38: =IF(AB38=0,0,($C$38/$AB$38)*100000) -> 0 | AD38: =' Populations'!D9 -> 0 | AE38: =IF(AD38=0,0,($D$38/$AD$38)*100000) -> 0 | AF38: =' Populations'!F9 -> 0 | AG38: =IF(AF38=0,0,($E$38/$AF$38)*100000) -> 0 | AH38: =' Populations'!H9 -> 0 | AI38: =IF(AH38=0,0,($F$38/$AH$38)*100000) -> 0 | AJ38: =' Populations'!J9 -> 0 | AK38: =IF(AJ38=0,0,($G$38/$AJ$38)*100000) -> 0 | AL38: =' Populations'!L9 -> 0 | AM38: =IF(AL38=0,0,($H$38/$AL$38)*100000) -> 0 | AN38: =' Populations'!N9 -> 0 | AO38: =IF(AN38=0,0,($I$38/$AN$38)*100000) -> 0 | AP38: =' Populations'!P9 -> 0 | AQ38: =IF(AP38=0,0,($J$38/$AP$38)*100000) -> 0 | AR38: =' Populations'!R9 -> 0 | AS38: =IF(AR38=0,0,($K$38/$AR$38)*100000) -> 0 | AT38: =' Populations'!T9 -> 0 | AU38: =IF(AT38=0,0,($L$38/$AT$38)*100000) -> 0 | AW38: ='Health Regions'!B5 -> 0 | AX38: =IF(AW38=0,0,($M$38/$AW$38)*100000) -> 0 | AY38: ='Health Regions'!D5 -> 0 | AZ38: =IF(AY38=0,0,($N$38/$AY$38)*100000) -> 0 | BA38: ='Health Regions'!F5 -> 0 | BB38: =IF(BA38=0,0,($N$38/$BA$38)*100000) -> 0 | BC38: ='Health Regions'!H5 -> 0 | BD38: =IF(BC38=0,0,($N$38/$BC$38)*100000) -> 0 | BE38: ='Health Regions'!J5 -> 0 | BF38: =IF(BE38=0,0,($N$38/$BE$38)*100000) -> 0 | BG38: ='Health Regions'!L5 -> 0 | BH38: =IF(BG38=0,0,($N$38/$BG$38)*100000) -> 0 | BI38: ='Health Regions'!N5 -> 0 | BJ38: =IF(BI38=0,0,($N$38/$BI$38)*100000) -> 0 | BK38: ='Health Regions'!P5 -> 0 | BL38: =IF(BK38=0,0,($N$38/$BK$38)*100000) -> 0 | BM38: ='Health Regions'!R5 -> 0 | BN38: =IF(BM38=0,0,($N$38/$BM$38)*100000) -> 0 | BO38: ='Health Regions'!T5 -> 0 | BP38: =IF(BO38=0,0,($N$38/$BO$38)*100000) -> 0 | BQ38: ='Health Regions'!V5 -> 0 | BR38: =IF(BQ38=0,0,($N$38/$BQ$38)*100000) -> 0 | BS38: ='Health Regions'!X5 -> 0 | BT38: =IF(BS38=0,0,($N$38/$BS$38)*100000) -> 0 | BU38: ='Health Regions'!Z5 -> 0 | BV38: =IF(BU38=0,0,($N$38/$BU$38)*100000) -> 0 | BW38: ='Health Regions'!AB5 -> 0 | BX38: =IF(BW38=0,0,($N$38/$BW$38)*100000) -> 0 | BZ38: 3795 | CA38: 0.013818 | CC38: <1yr | CD38: =AC38*CA38 -> 0 | CE38: =AE38*CA38 -> 0 | CF38: =AG38*CA38 -> 0 | CG38: =AI38*CA38 -> 0 | CH38: =AK38*CA38 -> 0 | CI38: =AM38*CA38 -> 0 | CJ38: =AO38*CA38 -> 0 | CK38: =AQ38*CA38 -> 0 | CL38: =AS38*CA38 -> 0 | CM38: =AU38*CA38 -> 0 | CN38: =AX38*CA38 -> 0 | CO38: =AZ38*CA38 -> 0 | CP38: =BB38*CA38 -> 0 | CQ38: =BD38*CA38 -> 0 | CR38: =BF38*CA38 -> 0 | CS38: =BH38*CA38 -> 0 | CT38: =BI38*CA38 -> 0 | CU38: =BL38*CA38 -> 0 | CV38: =BN38*CA38 -> 0 | CW38: =BP38*CA38 -> 0 | CX38: =BR38*CA38 -> 0 | CY38: =BT38*CA38 -> 0 | CZ38: =BV38*CA38 -> 0 | DA38: =BX38*CA38 -> 0
B39: 1-4yrs | AB39: =' Populations'!B10 -> 0 | AC39: =IF(AB39=0,0,($C$39/$AB$39)*100000) -> 0 | AD39: =' Populations'!D10 -> 0 | AE39: =IF(AD39=0,0,($D$39/$AD$39)*100000) -> 0 | AF39: =' Populations'!F10 -> 0 | AG39: =IF(AF39=0,0,($E$39/$AF$39)*100000) -> 0 | AH39: =' Populations'!H10 -> 0 | AI39: =IF(AH39=0,0,($F$39/$AH$39)*100000) -> 0 | AJ39: =' Populations'!J10 -> 0 | AK39: =IF(AJ39=0,0,($G$39/$AJ$39)*100000) -> 0 | AL39: =' Populations'!L10 -> 0 | AM39: =IF(AL39=0,0,($H$39/$AL$39)*100000) -> 0 | AN39: =' Populations'!N10 -> 0 | AO39: =IF(AN39=0,0,($I$39/$AN$39)*100000) -> 0 | AP39: =' Populations'!P10 -> 0 | AQ39: =IF(AP39=0,0,($J$39/$AP$39)*100000) -> 0 | AR39: =' Populations'!R10 -> 0 | AS39: =IF(AR39=0,0,($K$39/$AR$39)*100000) -> 0 | AT39: =' Populations'!T10 -> 0 | AU39: =IF(AT39=0,0,($L$39/$AT$39)*100000) -> 0 | AW39: ='Health Regions'!B6 -> 0 | AX39: =IF(AW39=0,0,($M$39/$AW$39)*100000) -> 0 | AY39: ='Health Regions'!D6 -> 0 | AZ39: =IF(AY39=0,0,($N$39/$AY$39)*100000) -> 0 | BA39: ='Health Regions'!F6 -> 0 | BB39: =IF(BA39=0,0,($N$39/$BA$39)*100000) -> 0 | BC39: ='Health Regions'!H6 -> 0 | BD39: =IF(BC39=0,0,($N$39/$BC$39)*100000) -> 0 | BE39: ='Health Regions'!J6 -> 0 | BF39: =IF(BE39=0,0,($N$39/$BE$39)*100000) -> 0 | BG39: ='Health Regions'!L6 -> 0 | BH39: =IF(BG39=0,0,($N$39/$BG$39)*100000) -> 0 | BI39: ='Health Regions'!N6 -> 0 | BJ39: =IF(BI39=0,0,($N$39/$BI$39)*100000) -> 0 | BK39: ='Health Regions'!P6 -> 0 | BL39: =IF(BK39=0,0,($N$39/$BK$39)*100000) -> 0 | BM39: ='Health Regions'!R6 -> 0 | BN39: =IF(BM39=0,0,($N$39/$BM$39)*100000) -> 0 | BO39: ='Health Regions'!T6 -> 0 | BP39: =IF(BO39=0,0,($N$39/$BO$39)*100000) -> 0 | BQ39: ='Health Regions'!V6 -> 0 | BR39: =IF(BQ39=0,0,($N$39/$BQ$39)*100000) -> 0 | BS39: ='Health Regions'!X6 -> 0 | BT39: =IF(BS39=0,0,($N$39/$BS$39)*100000) -> 0 | BU39: ='Health Regions'!Z6 -> 0 | BV39: =IF(BU39=0,0,($N$39/$BU$39)*100000) -> 0 | BW39: ='Health Regions'!AB6 -> 0 | BX39: =IF(BW39=0,0,($N$39/$BW$39)*100000) -> 0 | BZ39: 15192 | CA39: 0.055317 | CC39: 1-4yrs | CD39: =AC39*CA39 -> 0 | CE39: =AE39*CA39 -> 0 | CF39: =AG39*CA39 -> 0 | CG39: =AI39*CA39 -> 0 | CH39: =AK39*CA39 -> 0 | CI39: =AM39*CA39 -> 0 | CJ39: =AO39*CA39 -> 0 | CK39: =AQ39*CA39 -> 0 | CL39: =AS39*CA39 -> 0 | CM39: =AU39*CA39 -> 0 | CN39: =AX39*CA39 -> 0 | CO39: =AZ39*CA39 -> 0 | CP39: =BB39*CA39 -> 0 | CQ39: =BD39*CA39 -> 0 | CR39: =BF39*CA39 -> 0 | CS39: =BH39*CA39 -> 0 | CT39: =BI39*CA39 -> 0 | CU39: =BL39*CA39 -> 0 | CV39: =BN39*CA39 -> 0 | CW39: =BP39*CA39 -> 0 | CX39: =BR39*CA39 -> 0 | CY39: =BT39*CA39 -> 0 | CZ39: =BV39*CA39 -> 0 | DA39: =BX39*CA39 -> 0
B40: 5-9yrs | AB40: =' Populations'!B11 -> 0 | AC40: =IF(AB40=0,0,($C$40/$AB$40)*100000) -> 0 | AD40: =' Populations'!D11 -> 0 | AE40: =IF(AD40=0,0,($D$40/$AD$40)*100000) -> 0 | AF40: =' Populations'!F11 -> 0 | AG40: =IF(AF40=0,0,($E$40/$AF$40)*100000) -> 0 | AH40: =' Populations'!H11 -> 0 | AI40: =IF(AH40=0,0,($F$40/$AH$40)*100000) -> 0 | AJ40: =' Populations'!J11 -> 0 | AK40: =IF(AJ40=0,0,($G$40/$AJ$40)*100000) -> 0 | AL40: =' Populations'!L11 -> 0 | AM40: =IF(AL40=0,0,($H$40/$AL$40)*100000) -> 0 | AN40: =' Populations'!N11 -> 0 | AO40: =IF(AN40=0,0,($I$40/$AN$40)*100000) -> 0 | AP40: =' Populations'!P11 -> 0 | AQ40: =IF(AP40=0,0,($J$40/$AP$40)*100000) -> 0 | AR40: =' Populations'!R11 -> 0 | AS40: =IF(AR40=0,0,($K$40/$AR$40)*100000) -> 0 | AT40: =' Populations'!T11 -> 0 | AU40: =IF(AT40=0,0,($L$40/$AT$40)*100000) -> 0 | AW40: ='Health Regions'!B7 -> 0 | AX40: =IF(AW40=0,0,($M$40/$AW$40)*100000) -> 0 | AY40: ='Health Regions'!D7 -> 0 | AZ40: =IF(AY40=0,0,($N$40/$AY$40)*100000) -> 0 | BA40: ='Health Regions'!F7 -> 0 | BB40: =IF(BA40=0,0,($N$40/$BA$40)*100000) -> 0 | BC40: ='Health Regions'!H7 -> 0 | BD40: =IF(BC40=0,0,($N$40/$BC$40)*100000) -> 0 | BE40: ='Health Regions'!J7 -> 0 | BF40: =IF(BE40=0,0,($N$40/$BE$40)*100000) -> 0 | BG40: ='Health Regions'!L7 -> 0 | BH40: =IF(BG40=0,0,($N$40/$BG$40)*100000) -> 0 | BI40: ='Health Regions'!N7 -> 0 | BJ40: =IF(BI40=0,0,($N$40/$BI$40)*100000) -> 0 | BK40: ='Health Regions'!P7 -> 0 | BL40: =IF(BK40=0,0,($N$40/$BK$40)*100000) -> 0 | BM40: ='Health Regions'!R7 -> 0 | BN40: =IF(BM40=0,0,($N$40/$BM$40)*100000) -> 0 | BO40: ='Health Regions'!T7 -> 0 | BP40: =IF(BO40=0,0,($N$40/$BO$40)*100000) -> 0 | BQ40: ='Health Regions'!V7 -> 0 | BR40: =IF(BQ40=0,0,($N$40/$BQ$40)*100000) -> 0 | BS40: ='Health Regions'!X7 -> 0 | BT40: =IF(BS40=0,0,($N$40/$BS$40)*100000) -> 0 | BU40: ='Health Regions'!Z7 -> 0 | BV40: =IF(BU40=0,0,($N$40/$BU$40)*100000) -> 0 | BW40: ='Health Regions'!AB7 -> 0 | BX40: =IF(BW40=0,0,($N$40/$BW$40)*100000) -> 0 | BZ40: 19920 | CA40: 0.072533 | CC40: 5-9yrs | CD40: =AC40*CA40 -> 0 | CE40: =AE40*CA40 -> 0 | CF40: =AG40*CA40 -> 0 | CG40: =AI40*CA40 -> 0 | CH40: =AK40*CA40 -> 0 | CI40: =AM40*CA40 -> 0 | CJ40: =AO40*CA40 -> 0 | CK40: =AQ40*CA40 -> 0 | CL40: =AS40*CA40 -> 0 | CM40: =AU40*CA40 -> 0 | CN40: =AX40*CA40 -> 0 | CO40: =AZ40*CA40 -> 0 | CP40: =BB40*CA40 -> 0 | CQ40: =BD40*CA40 -> 0 | CR40: =BF40*CA40 -> 0 | CS40: =BH40*CA40 -> 0 | CT40: =BI40*CA40 -> 0 | CU40: =BL40*CA40 -> 0 | CV40: =BN40*CA40 -> 0 | CW40: =BP40*CA40 -> 0 | CX40: =BR40*CA40 -> 0 | CY40: =BT40*CA40 -> 0 | CZ40: =BV40*CA40 -> 0 | DA40: =BX40*CA40 -> 0
B41: 10-14yrs | AB41: =' Populations'!B12 -> 0 | AC41: =IF(AB41=0,0,($C$41/$AB$41)*100000) -> 0 | AD41: =' Populations'!D12 -> 0 | AE41: =IF(AD41=0,0,($D$41/$AD$41)*100000) -> 0 | AF41: =' Populations'!F12 -> 0 | AG41: =IF(AF41=0,0,($E$41/$AF$41)*100000) -> 0 | AH41: =' Populations'!H12 -> 0 | AI41: =IF(AH41=0,0,($F$41/$AH$41)*100000) -> 0 | AJ41: =' Populations'!J12 -> 0 | AK41: =IF(AJ41=0,0,($G$41/$AJ$41)*100000) -> 0 | AL41: =' Populations'!L12 -> 0 | AM41: =IF(AL41=0,0,($H$41/$AL$41)*100000) -> 0 | AN41: =' Populations'!N12 -> 0 | AO41: =IF(AN41=0,0,($I$41/$AN$41)*100000) -> 0 | AP41: =' Populations'!P12 -> 0 | AQ41: =IF(AP41=0,0,($J$41/$AP$41)*100000) -> 0 | AR41: =' Populations'!R12 -> 0 | AS41: =IF(AR41=0,0,($K$41/$AR$41)*100000) -> 0 | AT41: =' Populations'!T12 -> 0 | AU41: =IF(AT41=0,0,($L$41/$AT$41)*100000) -> 0 | AW41: ='Health Regions'!B8 -> 0 | AX41: =IF(AW41=0,0,($M$41/$AW$41)*100000) -> 0 | AY41: ='Health Regions'!D8 -> 0 | AZ41: =IF(AY41=0,0,($N$41/$AY$41)*100000) -> 0 | BA41: ='Health Regions'!F8 -> 0 | BB41: =IF(BA41=0,0,($N$41/$BA$41)*100000) -> 0 | BC41: ='Health Regions'!H8 -> 0 | BD41: =IF(BC41=0,0,($N$41/$BC$41)*100000) -> 0 | BE41: ='Health Regions'!J8 -> 0 | BF41: =IF(BE41=0,0,($N$41/$BE$41)*100000) -> 0 | BG41: ='Health Regions'!L8 -> 0 | BH41: =IF(BG41=0,0,($N$41/$BG$41)*100000) -> 0 | BI41: ='Health Regions'!N8 -> 0 | BJ41: =IF(BI41=0,0,($N$41/$BI$41)*100000) -> 0 | BK41: ='Health Regions'!P8 -> 0 | BL41: =IF(BK41=0,0,($N$41/$BK$41)*100000) -> 0 | BM41: ='Health Regions'!R8 -> 0 | BN41: =IF(BM41=0,0,($N$41/$BM$41)*100000) -> 0 | BO41: ='Health Regions'!T8 -> 0 | BP41: =IF(BO41=0,0,($N$41/$BO$41)*100000) -> 0 | BQ41: ='Health Regions'!V8 -> 0 | BR41: =IF(BQ41=0,0,($N$41/$BQ$41)*100000) -> 0 | BS41: ='Health Regions'!X8 -> 0 | BT41: =IF(BS41=0,0,($N$41/$BS$41)*100000) -> 0 | BU41: ='Health Regions'!Z8 -> 0 | BV41: =IF(BU41=0,0,($N$41/$BU$41)*100000) -> 0 | BW41: ='Health Regions'!AB8 -> 0 | BX41: =IF(BW41=0,0,($N$41/$BW$41)*100000) -> 0 | BZ41: 20057 | CA41: 0.073032 | CC41: 10-14yrs | CD41: =AC41*CA41 -> 0 | CE41: =AE41*CA41 -> 0 | CF41: =AG41*CA41 -> 0 | CG41: =AI41*CA41 -> 0 | CH41: =AK41*CA41 -> 0 | CI41: =AM41*CA41 -> 0 | CJ41: =AO41*CA41 -> 0 | CK41: =AQ41*CA41 -> 0 | CL41: =AS41*CA41 -> 0 | CM41: =AU41*CA41 -> 0 | CN41: =AX41*CA41 -> 0 | CO41: =AZ41*CA41 -> 0 | CP41: =BB41*CA41 -> 0 | CQ41: =BD41*CA41 -> 0 | CR41: =BF41*CA41 -> 0 | CS41: =BH41*CA41 -> 0 | CT41: =BI41*CA41 -> 0 | CU41: =BL41*CA41 -> 0 | CV41: =BN41*CA41 -> 0 | CW41: =BP41*CA41 -> 0 | CX41: =BR41*CA41 -> 0 | CY41: =BT41*CA41 -> 0 | CZ41: =BV41*CA41 -> 0 | DA41: =BX41*CA41 -> 0
B42: 15-19yrs | AB42: =' Populations'!B13 -> 0 | AC42: =IF(AB42=0,0,($C$42/$AB$42)*100000) -> 0 | AD42: =' Populations'!D13 -> 0 | AE42: =IF(AD42=0,0,($D$42/$AD$42)*100000) -> 0 | AF42: =' Populations'!F13 -> 0 | AG42: =IF(AF42=0,0,($E$42/$AF$42)*100000) -> 0 | AH42: =' Populations'!H13 -> 0 | AI42: =IF(AH42=0,0,($F$42/$AH$42)*100000) -> 0 | AJ42: =' Populations'!J13 -> 0 | AK42: =IF(AJ42=0,0,($G$42/$AJ$42)*100000) -> 0 | AL42: =' Populations'!L13 -> 0 | AM42: =IF(AL42=0,0,($H$42/$AL$42)*100000) -> 0 | AN42: =' Populations'!N13 -> 0 | AO42: =IF(AN42=0,0,($I$42/$AN$42)*100000) -> 0 | AP42: =' Populations'!P13 -> 0 | AQ42: =IF(AP42=0,0,($J$42/$AP$42)*100000) -> 0 | AR42: =' Populations'!R13 -> 0 | AS42: =IF(AR42=0,0,($K$42/$AR$42)*100000) -> 0 | AT42: =' Populations'!T13 -> 0 | AU42: =IF(AT42=0,0,($L$42/$AT$42)*100000) -> 0 | AW42: ='Health Regions'!B9 -> 0 | AX42: =IF(AW42=0,0,($M$42/$AW$42)*100000) -> 0 | AY42: ='Health Regions'!D9 -> 0 | AZ42: =IF(AY42=0,0,($N$42/$AY$42)*100000) -> 0 | BA42: ='Health Regions'!F9 -> 0 | BB42: =IF(BA42=0,0,($N$42/$BA$42)*100000) -> 0 | BC42: ='Health Regions'!H9 -> 0 | BD42: =IF(BC42=0,0,($N$42/$BC$42)*100000) -> 0 | BE42: ='Health Regions'!J9 -> 0 | BF42: =IF(BE42=0,0,($N$42/$BE$42)*100000) -> 0 | BG42: ='Health Regions'!L9 -> 0 | BH42: =IF(BG42=0,0,($N$42/$BG$42)*100000) -> 0 | BI42: ='Health Regions'!N9 -> 0 | BJ42: =IF(BI42=0,0,($N$42/$BI$42)*100000) -> 0 | BK42: ='Health Regions'!P9 -> 0 | BL42: =IF(BK42=0,0,($N$42/$BK$42)*100000) -> 0 | BM42: ='Health Regions'!R9 -> 0 | BN42: =IF(BM42=0,0,($N$42/$BM$42)*100000) -> 0 | BO42: ='Health Regions'!T9 -> 0 | BP42: =IF(BO42=0,0,($N$42/$BO$42)*100000) -> 0 | BQ42: ='Health Regions'!V9 -> 0 | BR42: =IF(BQ42=0,0,($N$42/$BQ$42)*100000) -> 0 | BS42: ='Health Regions'!X9 -> 0 | BT42: =IF(BS42=0,0,($N$42/$BS$42)*100000) -> 0 | BU42: ='Health Regions'!Z9 -> 0 | BV42: =IF(BU42=0,0,($N$42/$BU$42)*100000) -> 0 | BW42: ='Health Regions'!AB9 -> 0 | BX42: =IF(BW42=0,0,($N$42/$BW$42)*100000) -> 0 | BZ42: 19820 | CA42: 0.072169 | CC42: 15-19yrs | CD42: =AC42*CA42 -> 0 | CE42: =AE42*CA42 -> 0 | CF42: =AG42*CA42 -> 0 | CG42: =AI42*CA42 -> 0 | CH42: =AK42*CA42 -> 0 | CI42: =AM42*CA42 -> 0 | CJ42: =AO42*CA42 -> 0 | CK42: =AQ42*CA42 -> 0 | CL42: =AS42*CA42 -> 0 | CM42: =AU42*CA42 -> 0 | CN42: =AX42*CA42 -> 0 | CO42: =AZ42*CA42 -> 0 | CP42: =BB42*CA42 -> 0 | CQ42: =BD42*CA42 -> 0 | CR42: =BF42*CA42 -> 0 | CS42: =BH42*CA42 -> 0 | CT42: =BI42*CA42 -> 0 | CU42: =BL42*CA42 -> 0 | CV42: =BN42*CA42 -> 0 | CW42: =BP42*CA42 -> 0 | CX42: =BR42*CA42 -> 0 | CY42: =BT42*CA42 -> 0 | CZ42: =BV42*CA42 -> 0 | DA42: =BX42*CA42 -> 0
B43: 20-24yrs | AB43: =' Populations'!B14 -> 0 | AC43: =IF(AB43=0,0,($C$43/$AB$43)*100000) -> 0 | AD43: =' Populations'!D14 -> 0 | AE43: =IF(AD43=0,0,($D$43/$AD$43)*100000) -> 0 | AF43: =' Populations'!F14 -> 0 | AG43: =IF(AF43=0,0,($E$43/$AF$43)*100000) -> 0 | AH43: =' Populations'!H14 -> 0 | AI43: =IF(AH43=0,0,($F$43/$AH$43)*100000) -> 0 | AJ43: =' Populations'!J14 -> 0 | AK43: =IF(AJ43=0,0,($G$43/$AJ$43)*100000) -> 0 | AL43: =' Populations'!L14 -> 0 | AM43: =IF(AL43=0,0,($H$43/$AL$43)*100000) -> 0 | AN43: =' Populations'!N14 -> 0 | AO43: =IF(AN43=0,0,($I$43/$AN$43)*100000) -> 0 | AP43: =' Populations'!P14 -> 0 | AQ43: =IF(AP43=0,0,($J$43/$AP$43)*100000) -> 0 | AR43: =' Populations'!R14 -> 0 | AS43: =IF(AR43=0,0,($K$43/$AR$43)*100000) -> 0 | AT43: =' Populations'!T14 -> 0 | AU43: =IF(AT43=0,0,($L$43/$AT$43)*100000) -> 0 | AW43: ='Health Regions'!B10 -> 0 | AX43: =IF(AW43=0,0,($M$43/$AW$43)*100000) -> 0 | AY43: ='Health Regions'!D10 -> 0 | AZ43: =IF(AY43=0,0,($N$43/$AY$43)*100000) -> 0 | BA43: ='Health Regions'!F10 -> 0 | BB43: =IF(BA43=0,0,($N$43/$BA$43)*100000) -> 0 | BC43: ='Health Regions'!H10 -> 0 | BD43: =IF(BC43=0,0,($N$43/$BC$43)*100000) -> 0 | BE43: ='Health Regions'!J10 -> 0 | BF43: =IF(BE43=0,0,($N$43/$BE$43)*100000) -> 0 | BG43: ='Health Regions'!L10 -> 0 | BH43: =IF(BG43=0,0,($N$43/$BG$43)*100000) -> 0 | BI43: ='Health Regions'!N10 -> 0 | BJ43: =IF(BI43=0,0,($N$43/$BI$43)*100000) -> 0 | BK43: ='Health Regions'!P10 -> 0 | BL43: =IF(BK43=0,0,($N$43/$BK$43)*100000) -> 0 | BM43: ='Health Regions'!R10 -> 0 | BN43: =IF(BM43=0,0,($N$43/$BM$43)*100000) -> 0 | BO43: ='Health Regions'!T10 -> 0 | BP43: =IF(BO43=0,0,($N$43/$BO$43)*100000) -> 0 | BQ43: ='Health Regions'!V10 -> 0 | BR43: =IF(BQ43=0,0,($N$43/$BQ$43)*100000) -> 0 | BS43: ='Health Regions'!X10 -> 0 | BT43: =IF(BS43=0,0,($N$43/$BS$43)*100000) -> 0 | BU43: ='Health Regions'!Z10 -> 0 | BV43: =IF(BU43=0,0,($N$43/$BU$43)*100000) -> 0 | BW43: ='Health Regions'!AB10 -> 0 | BX43: =IF(BW43=0,0,($N$43/$BW$43)*100000) -> 0 | BZ43: 18257 | CA43: 0.066478 | CC43: 20-24yrs | CD43: =AC43*CA43 -> 0 | CE43: =AE43*CA43 -> 0 | CF43: =AG43*CA43 -> 0 | CG43: =AI43*CA43 -> 0 | CH43: =AK43*CA43 -> 0 | CI43: =AM43*CA43 -> 0 | CJ43: =AO43*CA43 -> 0 | CK43: =AQ43*CA43 -> 0 | CL43: =AS43*CA43 -> 0 | CM43: =AU43*CA43 -> 0 | CN43: =AX43*CA43 -> 0 | CO43: =AZ43*CA43 -> 0 | CP43: =BB43*CA43 -> 0 | CQ43: =BD43*CA43 -> 0 | CR43: =BF43*CA43 -> 0 | CS43: =BH43*CA43 -> 0 | CT43: =BI43*CA43 -> 0 | CU43: =BL43*CA43 -> 0 | CV43: =BN43*CA43 -> 0 | CW43: =BP43*CA43 -> 0 | CX43: =BR43*CA43 -> 0 | CY43: =BT43*CA43 -> 0 | CZ43: =BV43*CA43 -> 0 | DA43: =BX43*CA43 -> 0
B44: 25-34yrs | AB44: =' Populations'!B15 -> 0 | AC44: =IF(AB44=0,0,($C$44/$AB$44)*100000) -> 0 | AD44: =' Populations'!D15 -> 0 | AE44: =IF(AD44=0,0,($D$44/$AD$44)*100000) -> 0 | AF44: =' Populations'!F15 -> 0 | AG44: =IF(AF44=0,0,($E$44/$AF$44)*100000) -> 0 | AH44: =' Populations'!H15 -> 0 | AI44: =IF(AH44=0,0,($F$44/$AH$44)*100000) -> 0 | AJ44: =' Populations'!J15 -> 0 | AK44: =IF(AJ44=0,0,($G$44/$AJ$44)*100000) -> 0 | AL44: =' Populations'!L15 -> 0 | AM44: =IF(AL44=0,0,($H$44/$AL$44)*100000) -> 0 | AN44: =' Populations'!N15 -> 0 | AO44: =IF(AN44=0,0,($I$44/$AN$44)*100000) -> 0 | AP44: =' Populations'!P15 -> 0 | AQ44: =IF(AP44=0,0,($J$44/$AP$44)*100000) -> 0 | AR44: =' Populations'!R15 -> 0 | AS44: =IF(AR44=0,0,($K$44/$AR$44)*100000) -> 0 | AT44: =' Populations'!T15 -> 0 | AU44: =IF(AT44=0,0,($L$44/$AT$44)*100000) -> 0 | AW44: ='Health Regions'!B11 -> 0 | AX44: =IF(AW44=0,0,($M$44/$AW$44)*100000) -> 0 | AY44: ='Health Regions'!D11 -> 0 | AZ44: =IF(AY44=0,0,($N$44/$AY$44)*100000) -> 0 | BA44: ='Health Regions'!F11 -> 0 | BB44: =IF(BA44=0,0,($N$44/$BA$44)*100000) -> 0 | BC44: ='Health Regions'!H11 -> 0 | BD44: =IF(BC44=0,0,($N$44/$BC$44)*100000) -> 0 | BE44: ='Health Regions'!J11 -> 0 | BF44: =IF(BE44=0,0,($N$44/$BE$44)*100000) -> 0 | BG44: ='Health Regions'!L11 -> 0 | BH44: =IF(BG44=0,0,($N$44/$BG$44)*100000) -> 0 | BI44: ='Health Regions'!N11 -> 0 | BJ44: =IF(BI44=0,0,($N$44/$BI$44)*100000) -> 0 | BK44: ='Health Regions'!P11 -> 0 | BL44: =IF(BK44=0,0,($N$44/$BK$44)*100000) -> 0 | BM44: ='Health Regions'!R11 -> 0 | BN44: =IF(BM44=0,0,($N$44/$BM$44)*100000) -> 0 | BO44: ='Health Regions'!T11 -> 0 | BP44: =IF(BO44=0,0,($N$44/$BO$44)*100000) -> 0 | BQ44: ='Health Regions'!V11 -> 0 | BR44: =IF(BQ44=0,0,($N$44/$BQ$44)*100000) -> 0 | BS44: ='Health Regions'!X11 -> 0 | BT44: =IF(BS44=0,0,($N$44/$BS$44)*100000) -> 0 | BU44: ='Health Regions'!Z11 -> 0 | BV44: =IF(BU44=0,0,($N$44/$BU$44)*100000) -> 0 | BW44: ='Health Regions'!AB11 -> 0 | BX44: =IF(BW44=0,0,($N$44/$BW$44)*100000) -> 0 | BZ44: 37233 | CA44: 0.135573 | CC44: 25-34yrs | CD44: =AC44*CA44 -> 0 | CE44: =AE44*CA44 -> 0 | CF44: =AG44*CA44 -> 0 | CG44: =AI44*CA44 -> 0 | CH44: =AK44*CA44 -> 0 | CI44: =AM44*CA44 -> 0 | CJ44: =AO44*CA44 -> 0 | CK44: =AQ44*CA44 -> 0 | CL44: =AS44*CA44 -> 0 | CM44: =AU44*CA44 -> 0 | CN44: =AX44*CA44 -> 0 | CO44: =AZ44*CA44 -> 0 | CP44: =BB44*CA44 -> 0 | CQ44: =BD44*CA44 -> 0 | CR44: =BF44*CA44 -> 0 | CS44: =BH44*CA44 -> 0 | CT44: =BI44*CA44 -> 0 | CU44: =BL44*CA44 -> 0 | CV44: =BN44*CA44 -> 0 | CW44: =BP44*CA44 -> 0 | CX44: =BR44*CA44 -> 0 | CY44: =BT44*CA44 -> 0 | CZ44: =BV44*CA44 -> 0 | DA44: =BX44*CA44 -> 0
B45: 35-44yrs | AB45: =' Populations'!B16 -> 0 | AC45: =IF(AB45=0,0,($C$45/$AB$45)*100000) -> 0 | AD45: =' Populations'!D16 -> 0 | AE45: =IF(AD45=0,0,($D$45/$AD$45)*100000) -> 0 | AF45: =' Populations'!F16 -> 0 | AG45: =IF(AF45=0,0,($E$45/$AF$45)*100000) -> 0 | AH45: =' Populations'!H16 -> 0 | AI45: =IF(AH45=0,0,($F$45/$AH$45)*100000) -> 0 | AJ45: =' Populations'!J16 -> 0 | AK45: =IF(AJ45=0,0,($G$45/$AJ$45)*100000) -> 0 | AL45: =' Populations'!L16 -> 0 | AM45: =IF(AL45=0,0,($H$45/$AL$45)*100000) -> 0 | AN45: =' Populations'!N16 -> 0 | AO45: =IF(AN45=0,0,($I$45/$AN$45)*100000) -> 0 | AP45: =' Populations'!P16 -> 0 | AQ45: =IF(AP45=0,0,($J$45/$AP$45)*100000) -> 0 | AR45: =' Populations'!R16 -> 0 | AS45: =IF(AR45=0,0,($K$45/$AR$45)*100000) -> 0 | AT45: =' Populations'!T16 -> 0 | AU45: =IF(AT45=0,0,($L$45/$AT$45)*100000) -> 0 | AW45: ='Health Regions'!B12 -> 0 | AX45: =IF(AW45=0,0,($M$45/$AW$45)*100000) -> 0 | AY45: ='Health Regions'!D12 -> 0 | AZ45: =IF(AY45=0,0,($N$45/$AW$45)*100000) -> 0 | BA45: ='Health Regions'!F12 -> 0 | BB45: =IF(BA45=0,0,($N$45/$BA$45)*100000) -> 0 | BC45: ='Health Regions'!H12 -> 0 | BD45: =IF(BC45=0,0,($N$45/$BC$45)*100000) -> 0 | BE45: ='Health Regions'!J12 -> 0 | BF45: =IF(BE45=0,0,($N$45/$BE$45)*100000) -> 0 | BG45: ='Health Regions'!L12 -> 0 | BH45: =IF(BG45=0,0,($N$45/$BG$45)*100000) -> 0 | BI45: ='Health Regions'!N12 -> 0 | BJ45: =IF(BI45=0,0,($N$45/$BI$45)*100000) -> 0 | BK45: ='Health Regions'!P12 -> 0 | BL45: =IF(BK45=0,0,($N$45/$BK$45)*100000) -> 0 | BM45: ='Health Regions'!R12 -> 0 | BN45: =IF(BM45=0,0,($N$45/$BM$45)*100000) -> 0 | BO45: ='Health Regions'!T12 -> 0 | BP45: =IF(BO45=0,0,($N$45/$BO$45)*100000) -> 0 | BQ45: ='Health Regions'!V12 -> 0 | BR45: =IF(BQ45=0,0,($N$45/$BQ$45)*100000) -> 0 | BS45: ='Health Regions'!X12 -> 0 | BT45: =IF(BS45=0,0,($N$45/$BS$45)*100000) -> 0 | BU45: ='Health Regions'!Z12 -> 0 | BV45: =IF(BU45=0,0,($N$45/$BU$45)*100000) -> 0 | BW45: ='Health Regions'!AB12 -> 0 | BX45: =IF(BW45=0,0,($N$45/$BW$45)*100000) -> 0 | BZ45: 44659 | CA45: 0.162613 | CC45: 35-44yrs | CD45: =AC45*CA45 -> 0 | CE45: =AE45*CA45 -> 0 | CF45: =AG45*CA45 -> 0 | CG45: =AI45*CA45 -> 0 | CH45: =AK45*CA45 -> 0 | CI45: =AM45*CA45 -> 0 | CJ45: =AO45*CA45 -> 0 | CK45: =AQ45*CA45 -> 0 | CL45: =AS45*CA45 -> 0 | CM45: =AU45*CA45 -> 0 | CN45: =AX45*CA45 -> 0 | CO45: =AZ45*CA45 -> 0 | CP45: =BB45*CA45 -> 0 | CQ45: =BD45*CA45 -> 0 | CR45: =BF45*CA45 -> 0 | CS45: =BH45*CA45 -> 0 | CT45: =BI45*CA45 -> 0 | CU45: =BL45*CA45 -> 0 | CV45: =BN45*CA45 -> 0 | CW45: =BP45*CA45 -> 0 | CX45: =BR45*CA45 -> 0 | CY45: =BT45*CA45 -> 0 | CZ45: =BV45*CA45 -> 0 | DA45: =BX45*CA45 -> 0
B46: 45-54yrs | AB46: =' Populations'!B17 -> 0 | AC46: =IF(AB46=0,0,($C$46/$AB$46)*100000) -> 0 | AD46: =' Populations'!D17 -> 0 | AE46: =IF(AD46=0,0,($D$46/$AD$46)*100000) -> 0 | AF46: =' Populations'!F17 -> 0 | AG46: =IF(AF46=0,0,($E$46/$AF$46)*100000) -> 0 | AH46: =' Populations'!H17 -> 0 | AI46: =IF(AH46=0,0,($F$46/$AH$46)*100000) -> 0 | AJ46: =' Populations'!J17 -> 0 | AK46: =IF(AJ46=0,0,($G$46/$AJ$46)*100000) -> 0 | AL46: =' Populations'!L17 -> 0 | AM46: =IF(AL46=0,0,($H$46/$AL$46)*100000) -> 0 | AN46: =' Populations'!N17 -> 0 | AO46: =IF(AN46=0,0,($I$46/$AN$46)*100000) -> 0 | AP46: =' Populations'!P17 -> 0 | AQ46: =IF(AP46=0,0,($J$46/$AP$46)*100000) -> 0 | AR46: =' Populations'!R17 -> 0 | AS46: =IF(AR46=0,0,($K$46/$AR$46)*100000) -> 0 | AT46: =' Populations'!T17 -> 0 | AU46: =IF(AT46=0,0,($L$46/$AT$46)*100000) -> 0 | AW46: ='Health Regions'!B13 -> 0 | AX46: =IF(AW46=0,0,($M$46/$AW$46)*100000) -> 0 | AY46: ='Health Regions'!D13 -> 0 | AZ46: =IF(AY46=0,0,($N$46/$AY$46)*100000) -> 0 | BA46: ='Health Regions'!F13 -> 0 | BB46: =IF(BA46=0,0,($N$46/$BA$46)*100000) -> 0 | BC46: ='Health Regions'!H13 -> 0 | BD46: =IF(BC46=0,0,($N$46/$BC$46)*100000) -> 0 | BE46: ='Health Regions'!J13 -> 0 | BF46: =IF(BE46=0,0,($N$46/$BE$46)*100000) -> 0 | BG46: ='Health Regions'!L13 -> 0 | BH46: =IF(BG46=0,0,($N$46/$BG$46)*100000) -> 0 | BI46: ='Health Regions'!N13 -> 0 | BJ46: =IF(BI46=0,0,($N$46/$BI$46)*100000) -> 0 | BK46: ='Health Regions'!P13 -> 0 | BL46: =IF(BK46=0,0,($N$46/$BK$46)*100000) -> 0 | BM46: ='Health Regions'!R13 -> 0 | BN46: =IF(BM46=0,0,($N$46/$BM$46)*100000) -> 0 | BO46: ='Health Regions'!T13 -> 0 | BP46: =IF(BO46=0,0,($N$46/$BO$46)*100000) -> 0 | BQ46: ='Health Regions'!V13 -> 0 | BR46: =IF(BQ46=0,0,($N$46/$BQ$46)*100000) -> 0 | BS46: ='Health Regions'!X13 -> 0 | BT46: =IF(BS46=0,0,($N$46/$BS$46)*100000) -> 0 | BU46: ='Health Regions'!Z13 -> 0 | BV46: =IF(BU46=0,0,($N$46/$BU$46)*100000) -> 0 | BW46: ='Health Regions'!AB13 -> 0 | BX46: =IF(BW46=0,0,($N$46/$BW$46)*100000) -> 0 | BZ46: 37030 | CA46: 0.134834 | CC46: 45-54yrs | CD46: =AC46*CA46 -> 0 | CE46: =AE46*CA46 -> 0 | CF46: =AG46*CA46 -> 0 | CG46: =AI46*CA46 -> 0 | CH46: =AK46*CA46 -> 0 | CI46: =AM46*CA46 -> 0 | CJ46: =AO46*CA46 -> 0 | CK46: =AQ46*CA46 -> 0 | CL46: =AS46*CA46 -> 0 | CM46: =AU46*CA46 -> 0 | CN46: =AX46*CA46 -> 0 | CO46: =AZ46*CA46 -> 0 | CP46: =BB46*CA46 -> 0 | CQ46: =BD46*CA46 -> 0 | CR46: =BF46*CA46 -> 0 | CS46: =BH46*CA46 -> 0 | CT46: =BI46*CA46 -> 0 | CU46: =BL46*CA46 -> 0 | CV46: =BN46*CA46 -> 0 | CW46: =BP46*CA46 -> 0 | CX46: =BR46*CA46 -> 0 | CY46: =BT46*CA46 -> 0 | CZ46: =BV46*CA46 -> 0 | DA46: =BX46*CA46 -> 0
B47: 55-64yrs | AB47: =' Populations'!B18 -> 0 | AC47: =IF(AB47=0,0,($C$47/$AB$47)*100000) -> 0 | AD47: =' Populations'!D18 -> 0 | AE47: =IF(AD47=0,0,($D$47/$AD$47)*100000) -> 0 | AF47: =' Populations'!F18 -> 0 | AG47: =IF(AF47=0,0,($E$47/$AF$47)*100000) -> 0 | AH47: =' Populations'!H18 -> 0 | AI47: =IF(AH47=0,0,($F$47/$AH$47)*100000) -> 0 | AJ47: =' Populations'!J18 -> 0 | AK47: =IF(AJ47=0,0,($G$47/$AJ$47)*100000) -> 0 | AL47: =' Populations'!L18 -> 0 | AM47: =IF(AL47=0,0,($H$47/$AL$47)*100000) -> 0 | AN47: =' Populations'!N18 -> 0 | AO47: =IF(AN47=0,0,($I$47/$AN$47)*100000) -> 0 | AP47: =' Populations'!P18 -> 0 | AQ47: =IF(AP47=0,0,($J$47/$AP$47)*100000) -> 0 | AR47: =' Populations'!R18 -> 0 | AS47: =IF(AR47=0,0,($K$47/$AR$47)*100000) -> 0 | AT47: =' Populations'!T18 -> 0 | AU47: =IF(AT47=0,0,($L$47/$AT$47)*100000) -> 0 | AW47: ='Health Regions'!B14 -> 0 | AX47: =IF(AW47=0,0,($M$47/$AW$47)*100000) -> 0 | AY47: ='Health Regions'!D14 -> 0 | AZ47: =IF(AY47=0,0,($N$47/$AY$47)*100000) -> 0 | BA47: ='Health Regions'!F14 -> 0 | BB47: =IF(BA47=0,0,($N$47/$BA$47)*100000) -> 0 | BC47: ='Health Regions'!H14 -> 0 | BD47: =IF(BC47=0,0,($N$47/$BC$47)*100000) -> 0 | BE47: ='Health Regions'!J14 -> 0 | BF47: =IF(BE47=0,0,($N$47/$BE$47)*100000) -> 0 | BG47: ='Health Regions'!L14 -> 0 | BH47: =IF(BG47=0,0,($N$47/$BG$47)*100000) -> 0 | BI47: ='Health Regions'!N14 -> 0 | BJ47: =IF(BI47=0,0,($N$47/$BI$47)*100000) -> 0 | BK47: ='Health Regions'!P14 -> 0 | BL47: =IF(BK47=0,0,($N$47/$BK$47)*100000) -> 0 | BM47: ='Health Regions'!R14 -> 0 | BN47: =IF(BM47=0,0,($N$47/$BM$47)*100000) -> 0 | BO47: ='Health Regions'!T14 -> 0 | BP47: =IF(BO47=0,0,($N$47/$BO$47)*100000) -> 0 | BQ47: ='Health Regions'!V14 -> 0 | BR47: =IF(BQ47=0,0,($N$47/$BQ$47)*100000) -> 0 | BS47: ='Health Regions'!X14 -> 0 | BT47: =IF(BS47=0,0,($N$47/$BS$47)*100000) -> 0 | BU47: ='Health Regions'!Z14 -> 0 | BV47: =IF(BU47=0,0,($N$47/$BU$47)*100000) -> 0 | BW47: ='Health Regions'!AB14 -> 0 | BX47: =IF(BW47=0,0,($N$47/$BW$47)*100000) -> 0 | BZ47: 23961 | CA47: 0.087247 | CC47: 55-64yrs | CD47: =AC47*CA47 -> 0 | CE47: =AE47*CA47 -> 0 | CF47: =AG47*CA47 -> 0 | CG47: =AI47*CA47 -> 0 | CH47: =AK47*CA47 -> 0 | CI47: =AM47*CA47 -> 0 | CJ47: =AO47*CA47 -> 0 | CK47: =AQ47*CA47 -> 0 | CL47: =AS47*CA47 -> 0 | CM47: =AU47*CA47 -> 0 | CN47: =AX47*CA47 -> 0 | CO47: =AZ47*CA47 -> 0 | CP47: =BB47*CA47 -> 0 | CQ47: =BD47*CA47 -> 0 | CR47: =BF47*CA47 -> 0 | CS47: =BH47*CA47 -> 0 | CT47: =BI47*CA47 -> 0 | CU47: =BL47*CA47 -> 0 | CV47: =BN47*CA47 -> 0 | CW47: =BP47*CA47 -> 0 | CX47: =BR47*CA47 -> 0 | CY47: =BT47*CA47 -> 0 | CZ47: =BV47*CA47 -> 0 | DA47: =BX47*CA47 -> 0
B48: 65-74yrs | AB48: =' Populations'!B19 -> 0 | AC48: =IF(AB48=0,0,($C$48/$AB$48)*100000) -> 0 | AD48: =' Populations'!D19 -> 0 | AE48: =IF(AD48=0,0,($D$48/$AD$48)*100000) -> 0 | AF48: =' Populations'!F19 -> 0 | AG48: =IF(AF48=0,0,($E$48/$AF$48)*100000) -> 0 | AH48: =' Populations'!H19 -> 0 | AI48: =IF(AH48=0,0,($F$48/$AH$48)*100000) -> 0 | AJ48: =' Populations'!J19 -> 0 | AK48: =IF(AJ48=0,0,($G$48/$AJ$48)*100000) -> 0 | AL48: =' Populations'!L19 -> 0 | AM48: =IF(AL48=0,0,($H$48/$AL$48)*100000) -> 0 | AN48: =' Populations'!N19 -> 0 | AO48: =IF(AN48=0,0,($I$48/$AN$48)*100000) -> 0 | AP48: =' Populations'!P19 -> 0 | AQ48: =IF(AP48=0,0,($J$48/$AP$48)*100000) -> 0 | AR48: =' Populations'!R19 -> 0 | AS48: =IF(AR48=0,0,($K$48/$AR$48)*100000) -> 0 | AT48: =' Populations'!T19 -> 0 | AU48: =IF(AT48=0,0,($L$48/$AT$48)*100000) -> 0 | AW48: ='Health Regions'!B15 -> 0 | AX48: =IF(AW48=0,0,($M$48/$AW$48)*100000) -> 0 | AY48: ='Health Regions'!D15 -> 0 | AZ48: =IF(AY48=0,0,($N$48/$AY$48)*100000) -> 0 | BA48: ='Health Regions'!F15 -> 0 | BB48: =IF(BA48=0,0,($N$48/$BA$48)*100000) -> 0 | BC48: ='Health Regions'!H15 -> 0 | BD48: =IF(BC48=0,0,($N$48/$BC$48)*100000) -> 0 | BE48: ='Health Regions'!J15 -> 0 | BF48: =IF(BE48=0,0,($N$48/$BE$48)*100000) -> 0 | BG48: ='Health Regions'!L15 -> 0 | BH48: =IF(BG48=0,0,($N$48/$BG$48)*100000) -> 0 | BI48: ='Health Regions'!N15 -> 0 | BJ48: =IF(BI48=0,0,($N$48/$BI$48)*100000) -> 0 | BK48: ='Health Regions'!P15 -> 0 | BL48: =IF(BK48=0,0,($N$48/$BK$48)*100000) -> 0 | BM48: ='Health Regions'!R15 -> 0 | BN48: =IF(BM48=0,0,($N$48/$BM$48)*100000) -> 0 | BO48: ='Health Regions'!T15 -> 0 | BP48: =IF(BO48=0,0,($N$48/$BO$48)*100000) -> 0 | BQ48: ='Health Regions'!V15 -> 0 | BR48: =IF(BQ48=0,0,($N$48/$BQ$48)*100000) -> 0 | BS48: ='Health Regions'!X15 -> 0 | BT48: =IF(BS48=0,0,($N$48/$BS$48)*100000) -> 0 | BU48: ='Health Regions'!Z15 -> 0 | BV48: =IF(BU48=0,0,($N$48/$BU$48)*100000) -> 0 | BW48: ='Health Regions'!AB15 -> 0 | BX48: =IF(BW48=0,0,($N$48/$BW$48)*100000) -> 0 | BZ48: 18136 | CA48: 0.066037 | CC48: 65-74yrs | CD48: =AC48*CA48 -> 0 | CE48: =AE48*CA48 -> 0 | CF48: =AG48*CA48 -> 0 | CG48: =AI48*CA48 -> 0 | CH48: =AK48*CA48 -> 0 | CI48: =AM48*CA48 -> 0 | CJ48: =AO48*CA48 -> 0 | CK48: =AQ48*CA48 -> 0 | CL48: =AS48*CA48 -> 0 | CM48: =AU48*CA48 -> 0 | CN48: =AX48*CA48 -> 0 | CO48: =AZ48*CA48 -> 0 | CP48: =BB48*CA48 -> 0 | CQ48: =BD48*CA48 -> 0 | CR48: =BF48*CA48 -> 0 | CS48: =BH48*CA48 -> 0 | CT48: =BI48*CA48 -> 0 | CU48: =BL48*CA48 -> 0 | CV48: =BN48*CA48 -> 0 | CW48: =BP48*CA48 -> 0 | CX48: =BR48*CA48 -> 0 | CY48: =BT48*CA48 -> 0 | CZ48: =BV48*CA48 -> 0 | DA48: =BX48*CA48 -> 0
B49: 75-84yrs | AB49: =' Populations'!B20 -> 0 | AC49: =IF(AB49=0,0,($C$49/$AB$49)*100000) -> 0 | AD49: =' Populations'!D20 -> 0 | AE49: =IF(AD49=0,0,($D$49/$AD$49)*100000) -> 0 | AF49: =' Populations'!F20 -> 0 | AG49: =IF(AF49=0,0,($E$49/$AF$49)*100000) -> 0 | AH49: =' Populations'!H20 -> 0 | AI49: =IF(AH49=0,0,($F$49/$AH$49)*100000) -> 0 | AJ49: =' Populations'!J20 -> 0 | AK49: =IF(AJ49=0,0,($G$49/$AJ$49)*100000) -> 0 | AL49: =' Populations'!L20 -> 0 | AM49: =IF(AL49=0,0,($H$49/$AL$49)*100000) -> 0 | AN49: =' Populations'!N20 -> 0 | AO49: =IF(AN49=0,0,($I$49/$AN$49)*100000) -> 0 | AP49: =' Populations'!P20 -> 0 | AQ49: =IF(AP49=0,0,($J$49/$AP$49)*100000) -> 0 | AR49: =' Populations'!R20 -> 0 | AS49: =IF(AR49=0,0,($K$49/$AR$49)*100000) -> 0 | AT49: =' Populations'!T20 -> 0 | AU49: =IF(AT49=0,0,($L$49/$AT$49)*100000) -> 0 | AW49: ='Health Regions'!B16 -> 0 | AX49: =IF(AW49=0,0,($M$49/$AW$49)*100000) -> 0 | AY49: ='Health Regions'!D16 -> 0 | AZ49: =IF(AY49=0,0,($N$49/$AY$49)*100000) -> 0 | BA49: ='Health Regions'!F16 -> 0 | BB49: =IF(BA49=0,0,($N$49/$BA$49)*100000) -> 0 | BC49: ='Health Regions'!H16 -> 0 | BD49: =IF(BC49=0,0,($N$49/$BC$49)*100000) -> 0 | BE49: ='Health Regions'!J16 -> 0 | BF49: =IF(BE49=0,0,($N$49/$BE$49)*100000) -> 0 | BG49: ='Health Regions'!L16 -> 0 | BH49: =IF(BG49=0,0,($N$49/$BG$49)*100000) -> 0 | BI49: ='Health Regions'!N16 -> 0 | BJ49: =IF(BI49=0,0,($N$49/$BI$49)*100000) -> 0 | BK49: ='Health Regions'!P16 -> 0 | BL49: =IF(BK49=0,0,($N$49/$BK$49)*100000) -> 0 | BM49: ='Health Regions'!R16 -> 0 | BN49: =IF(BM49=0,0,($N$49/$BM$49)*100000) -> 0 | BO49: ='Health Regions'!T16 -> 0 | BP49: =IF(BO49=0,0,($N$49/$BO$49)*100000) -> 0 | BQ49: ='Health Regions'!V16 -> 0 | BR49: =IF(BQ49=0,0,($N$49/$BQ$49)*100000) -> 0 | BS49: ='Health Regions'!X16 -> 0 | BT49: =IF(BS49=0,0,($N$49/$BS$49)*100000) -> 0 | BU49: ='Health Regions'!Z16 -> 0 | BV49: =IF(BU49=0,0,($N$49/$BU$49)*100000) -> 0 | BW49: ='Health Regions'!AB16 -> 0 | BX49: =IF(BW49=0,0,($N$49/$BW$49)*100000) -> 0 | BZ49: 12315 | CA49: 0.044841 | CC49: 75-84yrs | CD49: =AC49*CA49 -> 0 | CE49: =AE49*CA49 -> 0 | CF49: =AG49*CA49 -> 0 | CG49: =AI49*CA49 -> 0 | CH49: =AK49*CA49 -> 0 | CI49: =AM49*CA49 -> 0 | CJ49: =AO49*CA49 -> 0 | CK49: =AQ49*CA49 -> 0 | CL49: =AS49*CA49 -> 0 | CM49: =AU49*CA49 -> 0 | CN49: =AX49*CA49 -> 0 | CO49: =AZ49*CA49 -> 0 | CP49: =BB49*CA49 -> 0 | CQ49: =BD49*CA49 -> 0 | CR49: =BF49*CA49 -> 0 | CS49: =BH49*CA49 -> 0 | CT49: =BI49*CA49 -> 0 | CU49: =BL49*CA49 -> 0 | CV49: =BN49*CA49 -> 0 | CW49: =BP49*CA49 -> 0 | CX49: =BR49*CA49 -> 0 | CY49: =BT49*CA49 -> 0 | CZ49: =BV49*CA49 -> 0 | DA49: =BX49*CA49 -> 0
B50: 85+ | AB50: =' Populations'!B21 -> 0 | AC50: =IF(AB50=0,0,($C$50/$AB$50)*100000) -> 0 | AD50: =' Populations'!D21 -> 0 | AE50: =IF(AD50=0,0,($D$50/$AD$50)*100000) -> 0 | AF50: =' Populations'!F21 -> 0 | AG50: =IF(AF50=0,0,($E$50/$AF$50)*100000) -> 0 | AH50: =' Populations'!H21 -> 0 | AI50: =IF(AH50=0,0,($F$50/$AH$50)*100000) -> 0 | AJ50: =' Populations'!J21 -> 0 | AK50: =IF(AJ50=0,0,($G$50/$AJ$50)*100000) -> 0 | AL50: =' Populations'!L21 -> 0 | AM50: =IF(AL50=0,0,($H$50/$AL$50)*100000) -> 0 | AN50: =' Populations'!N21 -> 0 | AO50: =IF(AN50=0,0,($I$50/$AN$50)*100000) -> 0 | AP50: =' Populations'!P21 -> 0 | AQ50: =IF(AP50=0,0,($J$50/$AP$50)*100000) -> 0 | AR50: =' Populations'!R21 -> 0 | AS50: =IF(AR50=0,0,($K$50/$AR$50)*100000) -> 0 | AT50: =' Populations'!T21 -> 0 | AU50: =IF(AT50=0,0,($L$50/$AT$50)*100000) -> 0 | AW50: ='Health Regions'!B17 -> 0 | AX50: =IF(AW50=0,0,($M$50/$AW$50)*100000) -> 0 | AY50: ='Health Regions'!D17 -> 0 | AZ50: =IF(AY50=0,0,($N$50/$AY$50)*100000) -> 0 | BA50: ='Health Regions'!F17 -> 0 | BB50: =IF(BA50=0,0,($N$50/$BA$50)*100000) -> 0 | BC50: ='Health Regions'!H17 -> 0 | BD50: =IF(BC50=0,0,($N$50/$BC$50)*100000) -> 0 | BE50: ='Health Regions'!J17 -> 0 | BF50: =IF(BE50=0,0,($N$50/$BE$50)*100000) -> 0 | BG50: ='Health Regions'!L17 -> 0 | BH50: =IF(BG50=0,0,($N$50/$BG$50)*100000) -> 0 | BI50: ='Health Regions'!N17 -> 0 | BJ50: =IF(BI50=0,0,($N$50/$BI$50)*100000) -> 0 | BK50: ='Health Regions'!P17 -> 0 | BL50: =IF(BK50=0,0,($N$50/$BK$50)*100000) -> 0 | BM50: ='Health Regions'!R17 -> 0 | BN50: =IF(BM50=0,0,($N$50/$BM$50)*100000) -> 0 | BO50: ='Health Regions'!T17 -> 0 | BP50: =IF(BO50=0,0,($N$50/$BO$50)*100000) -> 0 | BQ50: ='Health Regions'!V17 -> 0 | BR50: =IF(BQ50=0,0,($N$50/$BQ$50)*100000) -> 0 | BS50: ='Health Regions'!X17 -> 0 | BT50: =IF(BS50=0,0,($N$50/$BS$50)*100000) -> 0 | BU50: ='Health Regions'!Z17 -> 0 | BV50: =IF(BU50=0,0,($N$50/$BU$50)*100000) -> 0 | BW50: ='Health Regions'!AB17 -> 0 | BX50: =IF(BW50=0,0,($N$50/$BW$50)*100000) -> 0 | BZ50: 4259 | CA50: 0.015508 | CC50: 85+ | CD50: =AC50*CA50 -> 0 | CE50: =AE50*CA50 -> 0 | CF50: =AG50*CA50 -> 0 | CG50: =AI50*CA50 -> 0 | CH50: =AK50*CA50 -> 0 | CI50: =AM50*CA50 -> 0 | CJ50: =AO50*CA50 -> 0 | CK50: =AQ50*CA50 -> 0 | CL50: =AS50*CA50 -> 0 | CM50: =AU50*CA50 -> 0 | CN50: =AX50*CA50 -> 0 | CO50: =AZ50*CA50 -> 0 | CP50: =BB50*CA50 -> 0 | CQ50: =BD50*CA50 -> 0 | CR50: =BF50*CA50 -> 0 | CS50: =BH50*CA50 -> 0 | CT50: =BI50*CA50 -> 0 | CU50: =BL50*CA50 -> 0 | CV50: =BN50*CA50 -> 0 | CW50: =BP50*CA50 -> 0 | CX50: =BR50*CA50 -> 0 | CY50: =BT50*CA50 -> 0 | CZ50: =BV50*CA50 -> 0 | DA50: =BX50*CA50 -> 0
B51: total | C51: =SUM(C38:C50) -> 0 | D51: =SUM(D38:D50) -> 0 | E51: =SUM(E38:E50) -> 0 | F51: =SUM(F38:F50) -> 0 | G51: =SUM(G38:G50) -> 0 | H51: =SUM(H38:H50) -> 0 | I51: =SUM(I38:I50) -> 0 | J51: =SUM(J38:J50) -> 0 | ... Z51: =SUM(Z38:Z50) -> 0 | AB51: =SUM(AB38:AB50) -> 0 | AC51: =SUM(AC38:AC50) -> 0 | AD51: =SUM(AD38:AD50) -> 0 | AE51: =SUM(AE38:AE50) -> 0 | AF51: =SUM(AF38:AF50) -> 0 | AG51: =SUM(AG38:AG50) -> 0 | AH51: =SUM(AH38:AH50) -> 0 | AI51: =SUM(AI38:AI50) -> 0 | ... AU51: =SUM(AU38:AU50) -> 0 | AW51: =SUM(AW38:AW50) -> 0 | AX51: =SUM(AX38:AX50) -> 0 | AY51: =SUM(AY38:AY50) -> 0 | AZ51: =SUM(AZ38:AZ50) -> 0 | BA51: =SUM(BA38:BA50) -> 0 | BB51: =SUM(BB38:BB50) -> 0 | BC51: =SUM(BC38:BC50) -> 0 | BD51: =SUM(BD38:BD50) -> 0 | ... BX51: =SUM(BX38:BX50) -> 0 | BZ51: =SUM(BZ38:BZ50) -> 274634 | CC51: total | CD51: =SUM(CD38:CD50) -> 0 | CE51: =SUM(CE38:CE50) -> 0 | CF51: =SUM(CF38:CF50) -> 0 | CG51: =SUM(CG38:CG50) -> 0 | CH51: =SUM(CH38:CH50) -> 0 | CI51: =SUM(CI38:CI50) -> 0 | CJ51: =SUM(CJ38:CJ50) -> 0 | CK51: =SUM(CK38:CK50) -> 0 | ... DA51: =SUM(DA38:DA50) -> 0

Sheet Firearms_Injuries (2020)
B1: Data Input Tables Enter your TBI-related injury data in the red cells below. The age-adjusted rates will automatically calculate in the results table. | F1: Optional: Unhide columns G through L to enter demographic data | M1: Optional: Unhide columns N through Z to enter health region data | AB1: Optional: Unhide columns AC through CA to show rate calculations and 2000 population weights | CC1: Results Table Age Adjusted Rates per 100,1000. Results will calculate automatically. | CF1: Optional: Unhide columns CG through DA to show demographic and Regional rates
D2: Sex Data | F2: Demographic Data | M2: Region Data | CD2: Age-adjusted Rates per 100,000 population
B3: Age | C3: Number of hospitalizations- Total | D3: Number of hospitalizations- Male | E3: Number of hospitalizations- Female | F3: Number of hospitalizations- White-Not Hispanic | G3: Number of hospitalizations- Hispanic | H3: Number of hospitalizations- Black-Not Hispanic | I3: Number of hospitalizations- Asian | J3: Number of hospitalizations- American Indian/Alaska Native | K3: =' Populations'!R8 -> Other | L3: =' Populations'!T8 -> Other | M3: Number of hospitalizations- Region 1 | N3: Number of hospitalizations- Region 2 | O3: Number of hospitalizations- Region 3 | P3: Number of hospitalizations- Region 4 | Q3: Number of hospitalizations- Region 5 | R3: Number of hospitalizations- Region 6 | S3: Number of hospitalizations- Region 7 | T3: Number of hospitalizations- Region 8 | U3: Number of hospitalizations- Region 9 | V3: Number of hospitalizations- Region 10 | W3: Number of hospitalizations- Region 11 | X3: Number of hospitalizations- Region 12 | Y3: Number of hospitalizations- Region 13 | Z3: Number of hospitalizations- Region 14 | AB3: State population - Total | AC3: Rate | AD3: State population - Male | AE3: Rate | AF3: State population - Female | AG3: Rate | AH3: State population - White-Not Hispanic | AI3: Rate | AJ3: State population - Hispanic | AK3: Rate | AL3: State population - Black-Not Hispanic | AM3: Rate | AN3: State population - Asian | AO3: Rate | AP3: State population - American Indian/Alaska Native | AQ3: Rate | AR3: =' Populations'!R8 -> Other | AS3: Rate | AT3: =' Populations'!T8 -> Other | AU3: Rate | AW3: Region 1 | AX3: Rate | AY3: Region 2 | AZ3: Rate | BA3: Region 3 | BB3: Rate | BC3: Region 4 | BD3: Rate | BE3: Region 5 | BF3: Rate | BG3: Region 6 | BH3: Rate | BI3: Region 7 | BJ3: Rate | BK3: Region 8 | BL3: Rate | BM3: Region 9 | BN3: Rate | BO3: Region 10 | BP3: Rate | BQ3: Region 11 | BR3: Rate | BS3: Region 12 | BT3: Rate | BU3: Region 13 | BV3: Rate | BW3: Region 14 | BX3: Rate | BZ3: 2000 population | CA3: Weight | CC3: Age | CD3: Total | CE3: Male | CF3: Female | CG3: White-Not Hispanic | CH3: Hispanic | CI3: Black-Not Hispanic | CJ3: Asian | CK3: American Indian/Alaska Native | CL3: =' Populations'!R8 -> Other | CM3: =' Populations'!T8 -> Other | CN3: Hospitalizations- Region 1 | CO3: Hospitalizations- Region 2 | CP3: Hospitalizations- Region 3 | CQ3: Hospitalizations- Region 4 | CR3: Hospitalizations- Region 5 | CS3: Hospitalizations- Region 6 | CT3: Hospitalizations- Region 7 | CU3: Hospitalizations- Region 8 | CV3: Hospitalizations- Region 9 | CW3: Hospitalizations- Region 10 | CX3: Hospitalizations- Region 11 | CY3: Hospitalizations- Region 12 | CZ3: Hospitalizations- Region 13 | DA3: Hospitalizations- Region 14
B4: <1yr | AB4: =' Populations'!B9 -> 0 | AC4: =IF(AB4=0,0,($C$4/$AB$4)*100000) -> 0 | AD4: =' Populations'!D9 -> 0 | AE4: =IF(AD4=0,0,($D$4/$AD$4)*100000) -> 0 | AF4: =' Populations'!F9 -> 0 | AG4: =IF(AF4=0,0,($E$4/$AF$4)*100000) -> 0 | AH4: =' Populations'!H9 -> 0 | AI4: =IF(AH4=0,0,($F$4/$AH$4)*100000) -> 0 | AJ4: =' Populations'!J9 -> 0 | AK4: =IF(AJ4=0,0,($G$4/$AJ$4)*100000) -> 0 | AL4: =' Populations'!L9 -> 0 | AM4: =IF(AL4=0,0,($H$4/$AL$4)*100000) -> 0 | AN4: =' Populations'!N9 -> 0 | AO4: =IF(AN4=0,0,($I$4/$AN$4)*100000) -> 0 | AP4: =' Populations'!P9 -> 0 | AQ4: =IF(AP4=0,0,($J$4/$AP$4)*100000) -> 0 | AR4: =' Populations'!R9 -> 0 | AS4: =IF(AR4=0,0,($K$4/$AR$4)*100000) -> 0 | AT4: =' Populations'!T9 -> 0 | AU4: =IF(AT4=0,0,($L$4/$AT$4)*100000) -> 0 | AW4: ='Health Regions'!B5 -> 0 | AX4: =IF(AW4=0,0,($M$4/$AW$4)*100000) -> 0 | AY4: ='Health Regions'!D5 -> 0 | AZ4: =IF(AY4=0,0,($N$4/$AY$4)*100000) -> 0 | BA4: ='Health Regions'!F5 -> 0 | BB4: =IF(BA4=0,0,($O$4/$BA$4)*100000) -> 0 | BC4: ='Health Regions'!H5 -> 0 | BD4: =IF(BC4=0,0,($P$4/$BC$4)*100000) -> 0 | BE4: ='Health Regions'!J5 -> 0 | BF4: =IF(BE4=0,0,($Q$4/$BE$4)*100000) -> 0 | BG4: ='Health Regions'!L5 -> 0 | BH4: =IF(BG4=0,0,($R$4/$BG$4)*100000) -> 0 | BI4: ='Health Regions'!N5 -> 0 | BJ4: =IF(BI4=0,0,($S$4/$BI$4)*100000) -> 0 | BK4: ='Health Regions'!P5 -> 0 | BL4: =IF(BK4=0,0,($T$4/$BK$4)*100000) -> 0 | BM4: ='Health Regions'!R5 -> 0 | BN4: =IF(BM4=0,0,($U$4/$BM$4)*100000) -> 0 | BO4: ='Health Regions'!T5 -> 0 | BP4: =IF(BO4=0,0,($V$4/$BO$4)*100000) -> 0 | BQ4: ='Health Regions'!V5 -> 0 | BR4: =IF(BQ4=0,0,($W$4/$BQ$4)*100000) -> 0 | BS4: ='Health Regions'!X5 -> 0 | BT4: =IF(BS4=0,0,($X$4/$BS$4)*100000) -> 0 | BU4: ='Health Regions'!Z5 -> 0 | BV4: =IF(BU4=0,0,($Y$4/$BU$4)*100000) -> 0 | BW4: ='Health Regions'!AB5 -> 0 | BX4: =IF(BW4=0,0,($Z$4/$BW$4)*100000) -> 0 | BZ4: 3795 | CA4: 0.013818 | CC4: <1yr | CD4: =AC4*CA4 -> 0 | CE4: =AE4*CA4 -> 0 | CF4: =AG4*CA4 -> 0 | CG4: =AI4*CA4 -> 0 | CH4: =AK4*CA4 -> 0 | CI4: =AM4*CA4 -> 0 | CJ4: =AO4*CA4 -> 0 | CK4: =AQ4*CA4 -> 0 | CL4: =AS4*CA4 -> 0 | CM4: =AU4*CA4 -> 0 | CN4: =AX4*CA4 -> 0 | CO4: =AZ4*CA4 -> 0 | CP4: =BB4*CA4 -> 0 | CQ4: =BD4*CA4 -> 0 | CR4: =BF4*CA4 -> 0 | CS4: =BH4*CA4 -> 0 | CT4: =BI4*CA4 -> 0 | CU4: =BL4*CA4 -> 0 | CV4: =BN4*CA4 -> 0 | CW4: =BP4*CA4 -> 0 | CX4: =BR4*CA4 -> 0 | CY4: =BT4*CA4 -> 0 | CZ4: =BV4*CA4 -> 0 | DA4: =BX4*CA4 -> 0
B5: 1-4yrs | AB5: =' Populations'!B10 -> 0 | AC5: =IF(AB5=0,0,($C$5/$AB$5)*100000) -> 0 | AD5: =' Populations'!D10 -> 0 | AE5: =IF(AD5=0,0,($D$5/$AD$5)*100000) -> 0 | AF5: =' Populations'!F10 -> 0 | AG5: =IF(AF5=0,0,($E$5/$AF$5)*100000) -> 0 | AH5: =' Populations'!H10 -> 0 | AI5: =IF(AH5=0,0,($F$5/$AH$5)*100000) -> 0 | AJ5: =' Populations'!J10 -> 0 | AK5: =IF(AJ5=0,0,($G$5/$AJ$5)*100000) -> 0 | AL5: =' Populations'!L10 -> 0 | AM5: =IF(AL5=0,0,($G$5/$AL$5)*100000) -> 0 | AN5: =' Populations'!N10 -> 0 | AO5: =IF(AN5=0,0,($I$5/$AN$5)*100000) -> 0 | AP5: =' Populations'!P10 -> 0 | AQ5: =IF(AP5=0,0,($J$5/$AP$5)*100000) -> 0 | AR5: =' Populations'!R10 -> 0 | AS5: =IF(AR5=0,0,($K$5/$AR$5)*100000) -> 0 | AT5: =' Populations'!T10 -> 0 | AU5: =IF(AT5=0,0,($L$5/$AT$5)*100000) -> 0 | AW5: ='Health Regions'!B6 -> 0 | AX5: =IF(AW5=0,0,($M$5/$AW$5)*100000) -> 0 | AY5: ='Health Regions'!D6 -> 0 | AZ5: =IF(AY5=0,0,($N$5/$AY$5)*100000) -> 0 | BA5: ='Health Regions'!F6 -> 0 | BB5: =IF(BA5=0,0,($O$5/$BA$5)*100000) -> 0 | BC5: ='Health Regions'!H6 -> 0 | BD5: =IF(BC5=0,0,($P$5/$BC$5)*100000) -> 0 | BE5: ='Health Regions'!J6 -> 0 | BF5: =IF(BE5=0,0,($Q$5/$BE$5)*100000) -> 0 | BG5: ='Health Regions'!L6 -> 0 | BH5: =IF(BG5=0,0,($R$5/$BG$5)*100000) -> 0 | BI5: ='Health Regions'!N6 -> 0 | BJ5: =IF(BI5=0,0,($S$5/$BI$5)*100000) -> 0 | BK5: ='Health Regions'!P6 -> 0 | BL5: =IF(BK5=0,0,($T$5/$BK$5)*100000) -> 0 | BM5: ='Health Regions'!R6 -> 0 | BN5: =IF(BM5=0,0,($U$5/$BM$5)*100000) -> 0 | BO5: ='Health Regions'!T6 -> 0 | BP5: =IF(BO5=0,0,($V$5/$BO$5)*100000) -> 0 | BQ5: ='Health Regions'!V6 -> 0 | BR5: =IF(BQ5=0,0,($W$5/$BQ$5)*100000) -> 0 | BS5: ='Health Regions'!X6 -> 0 | BT5: =IF(BS5=0,0,($X$5/$BS$5)*100000) -> 0 | BU5: ='Health Regions'!Z6 -> 0 | BV5: =IF(BU5=0,0,($Y$5/$BU$5)*100000) -> 0 | BW5: ='Health Regions'!AB6 -> 0 | BX5: =IF(BW5=0,0,($Z$5/$BW$5)*100000) -> 0 | BZ5: 15192 | CA5: 0.055317 | CC5: 1-4yrs | CD5: =AC5*CA5 -> 0 | CE5: =AE5*CA5 -> 0 | CF5: =AG5*CA5 -> 0 | CG5: =AI5*CA5 -> 0 | CH5: =AK5*CA5 -> 0 | CI5: =AM5*CA5 -> 0 | CJ5: =AO5*CA5 -> 0 | CK5: =AQ5*CA5 -> 0 | CL5: =AS5*CA5 -> 0 | CM5: =AU5*CA5 -> 0 | CN5: =AX5*CA5 -> 0 | CO5: =AZ5*CA5 -> 0 | CP5: =BB5*CA5 -> 0 | CQ5: =BD5*CA5 -> 0 | CR5: =BF5*CA5 -> 0 | CS5: =BH5*CA5 -> 0 | CT5: =BI5*CA5 -> 0 | CU5: =BL5*CA5 -> 0 | CV5: =BN5*CA5 -> 0 | CW5: =BP5*CA5 -> 0 | CX5: =BR5*CA5 -> 0 | CY5: =BT5*CA5 -> 0 | CZ5: =BV5*CA5 -> 0 | DA5: =BX5*CA5 -> 0
B6: 5-9yrs | AB6: =' Populations'!B11 -> 0 | AC6: =IF(AB6=0,0,($C$6/$AB$6)*100000) -> 0 | AD6: =' Populations'!D11 -> 0 | AE6: =IF(AD6=0,0,($D$6/$AD$6)*100000) -> 0 | AF6: =' Populations'!F11 -> 0 | AG6: =IF(AF6=0,0,($E$6/$AF$6)*100000) -> 0 | AH6: =' Populations'!H11 -> 0 | AI6: =IF(AH6=0,0,($F$6/$AH$6)*100000) -> 0 | AJ6: =' Populations'!J11 -> 0 | AK6: =IF(AJ6=0,0,($G$6/$AJ$6)*100000) -> 0 | AL6: =' Populations'!L11 -> 0 | AM6: =IF(AL6=0,0,($G$6/$AL$6)*100000) -> 0 | AN6: =' Populations'!N11 -> 0 | AO6: =IF(AN6=0,0,($I$6/$AN$6)*100000) -> 0 | AP6: =' Populations'!P11 -> 0 | AQ6: =IF(AP6=0,0,($J$6/$AP$6)*100000) -> 0 | AR6: =' Populations'!R11 -> 0 | AS6: =IF(AR6=0,0,($K$6/$AR$6)*100000) -> 0 | AT6: =' Populations'!T11 -> 0 | AU6: =IF(AT6=0,0,($L$6/$AT$6)*100000) -> 0 | AW6: ='Health Regions'!B7 -> 0 | AX6: =IF(AW6=0,0,($M$6/$AW$6)*100000) -> 0 | AY6: ='Health Regions'!D7 -> 0 | AZ6: =IF(AY6=0,0,($N$6/$AY$6)*100000) -> 0 | BA6: ='Health Regions'!F7 -> 0 | BB6: =IF(BA6=0,0,($O$6/$BA$6)*100000) -> 0 | BC6: ='Health Regions'!H7 -> 0 | BD6: =IF(BC6=0,0,($P$6/$BC$6)*100000) -> 0 | BE6: ='Health Regions'!J7 -> 0 | BF6: =IF(BE6=0,0,($Q$6/$BE$6)*100000) -> 0 | BG6: ='Health Regions'!L7 -> 0 | BH6: =IF(BG6=0,0,($R$6/$BG$6)*100000) -> 0 | BI6: ='Health Regions'!N7 -> 0 | BJ6: =IF(BI6=0,0,($S$6/$BI$6)*100000) -> 0 | BK6: ='Health Regions'!P7 -> 0 | BL6: =IF(BK6=0,0,($T$6/$BK$6)*100000) -> 0 | BM6: ='Health Regions'!R7 -> 0 | BN6: =IF(BM6=0,0,($U$6/$BM$6)*100000) -> 0 | BO6: ='Health Regions'!T7 -> 0 | BP6: =IF(BO6=0,0,($V$6/$BO$6)*100000) -> 0 | BQ6: ='Health Regions'!V7 -> 0 | BR6: =IF(BQ6=0,0,($W$6/$BQ$6)*100000) -> 0 | BS6: ='Health Regions'!X7 -> 0 | BT6: =IF(BS6=0,0,($X$6/$BS$6)*100000) -> 0 | BU6: ='Health Regions'!Z7 -> 0 | BV6: =IF(BU6=0,0,($Y$6/$BU$6)*100000) -> 0 | BW6: ='Health Regions'!AB7 -> 0 | BX6: =IF(BW6=0,0,($Z$6/$BW$6)*100000) -> 0 | BZ6: 19920 | CA6: 0.072533 | CC6: 5-9yrs | CD6: =AC6*CA6 -> 0 | CE6: =AE6*CA6 -> 0 | CF6: =AG6*CA6 -> 0 | CG6: =AI6*CA6 -> 0 | CH6: =AK6*CA6 -> 0 | CI6: =AM6*CA6 -> 0 | CJ6: =AO6*CA6 -> 0 | CK6: =AQ6*CA6 -> 0 | CL6: =AS6*CA6 -> 0 | CM6: =AU6*CA6 -> 0 | CN6: =AX6*CA6 -> 0 | CO6: =AZ6*CA6 -> 0 | CP6: =BB6*CA6 -> 0 | CQ6: =BD6*CA6 -> 0 | CR6: =BF6*CA6 -> 0 | CS6: =BH6*CA6 -> 0 | CT6: =BI6*CA6 -> 0 | CU6: =BL6*CA6 -> 0 | CV6: =BN6*CA6 -> 0 | CW6: =BP6*CA6 -> 0 | CX6: =BR6*CA6 -> 0 | CY6: =BT6*CA6 -> 0 | CZ6: =BV6*CA6 -> 0 | DA6: =BX6*CA6 -> 0
B7: 10-14yrs | AB7: =' Populations'!B12 -> 0 | AC7: =IF(AB7=0,0,($C$7/$AB$7)*100000) -> 0 | AD7: =' Populations'!D12 -> 0 | AE7: =IF(AD7=0,0,($D$7/$AD$7)*100000) -> 0 | AF7: =' Populations'!F12 -> 0 | AG7: =IF(AF7=0,0,($E$7/$AF$7)*100000) -> 0 | AH7: =' Populations'!H12 -> 0 | AI7: =IF(AH7=0,0,($F$7/$AH$7)*100000) -> 0 | AJ7: =' Populations'!J12 -> 0 | AK7: =IF(AJ7=0,0,($G$7/$AJ$7)*100000) -> 0 | AL7: =' Populations'!L12 -> 0 | AM7: =IF(AL7=0,0,($G$7/$AL$7)*100000) -> 0 | AN7: =' Populations'!N12 -> 0 | AO7: =IF(AN7=0,0,($I$7/$AN$7)*100000) -> 0 | AP7: =' Populations'!P12 -> 0 | AQ7: =IF(AP7=0,0,($J$7/$AP$7)*100000) -> 0 | AR7: =' Populations'!R12 -> 0 | AS7: =IF(AR7=0,0,($K$7/$AR$7)*100000) -> 0 | AT7: =' Populations'!T12 -> 0 | AU7: =IF(AT7=0,0,($L$7/$AT$7)*100000) -> 0 | AW7: ='Health Regions'!B8 -> 0 | AX7: =IF(AW7=0,0,($M$7/$AW$7)*100000) -> 0 | AY7: ='Health Regions'!D8 -> 0 | AZ7: =IF(AY7=0,0,($N$7/$AY$7)*100000) -> 0 | BA7: ='Health Regions'!F8 -> 0 | BB7: =IF(BA7=0,0,($O$7/$BA$7)*100000) -> 0 | BC7: ='Health Regions'!H8 -> 0 | BD7: =IF(BC7=0,0,($P$7/$BC$7)*100000) -> 0 | BE7: ='Health Regions'!J8 -> 0 | BF7: =IF(BE7=0,0,($Q$7/$BE$7)*100000) -> 0 | BG7: ='Health Regions'!L8 -> 0 | BH7: =IF(BG7=0,0,($R$7/$BG$7)*100000) -> 0 | BI7: ='Health Regions'!N8 -> 0 | BJ7: =IF(BI7=0,0,($S$7/$BI$7)*100000) -> 0 | BK7: ='Health Regions'!P8 -> 0 | BL7: =IF(BK7=0,0,($T$7/$BK$7)*100000) -> 0 | BM7: ='Health Regions'!R8 -> 0 | BN7: =IF(BM7=0,0,($U$7/$BM$7)*100000) -> 0 | BO7: ='Health Regions'!T8 -> 0 | BP7: =IF(BO7=0,0,($V$7/$BO$7)*100000) -> 0 | BQ7: ='Health Regions'!V8 -> 0 | BR7: =IF(BQ7=0,0,($W$7/$BQ$7)*100000) -> 0 | BS7: ='Health Regions'!X8 -> 0 | BT7: =IF(BS7=0,0,($X$7/$BS$7)*100000) -> 0 | BU7: ='Health Regions'!Z8 -> 0 | BV7: =IF(BU7=0,0,($Y$7/$BU$7)*100000) -> 0 | BW7: ='Health Regions'!AB8 -> 0 | BX7: =IF(BW7=0,0,($Z$7/$BW$7)*100000) -> 0 | BZ7: 20057 | CA7: 0.073032 | CC7: 10-14yrs | CD7: =AC7*CA7 -> 0 | CE7: =AE7*CA7 -> 0 | CF7: =AG7*CA7 -> 0 | CG7: =AI7*CA7 -> 0 | CH7: =AK7*CA7 -> 0 | CI7: =AM7*CA7 -> 0 | CJ7: =AO7*CA7 -> 0 | CK7: =AQ7*CA7 -> 0 | CL7: =AS7*CA7 -> 0 | CM7: =AU7*CA7 -> 0 | CN7: =AX7*CA7 -> 0 | CO7: =AZ7*CA7 -> 0 | CP7: =BB7*CA7 -> 0 | CQ7: =BD7*CA7 -> 0 | CR7: =BF7*CA7 -> 0 | CS7: =BH7*CA7 -> 0 | CT7: =BI7*CA7 -> 0 | CU7: =BL7*CA7 -> 0 | CV7: =BN7*CA7 -> 0 | CW7: =BP7*CA7 -> 0 | CX7: =BR7*CA7 -> 0 | CY7: =BT7*CA7 -> 0 | CZ7: =BV7*CA7 -> 0 | DA7: =BX7*CA7 -> 0
B8: 15-19yrs | AB8: =' Populations'!B13 -> 0 | AC8: =IF(AB8=0,0,($C$8/$AB$8)*100000) -> 0 | AD8: =' Populations'!D13 -> 0 | AE8: =IF(AD8=0,0,($D$8/$AD$8)*100000) -> 0 | AF8: =' Populations'!F13 -> 0 | AG8: =IF(AF8=0,0,($E$8/$AF$8)*100000) -> 0 | AH8: =' Populations'!H13 -> 0 | AI8: =IF(AH8=0,0,($F$8/$AH$8)*100000) -> 0 | AJ8: =' Populations'!J13 -> 0 | AK8: =IF(AJ8=0,0,($G$8/$AJ$8)*100000) -> 0 | AL8: =' Populations'!L13 -> 0 | AM8: =IF(AL8=0,0,($G$8/$AL$8)*100000) -> 0 | AN8: =' Populations'!N13 -> 0 | AO8: =IF(AN8=0,0,($I$8/$AN$8)*100000) -> 0 | AP8: =' Populations'!P13 -> 0 | AQ8: =IF(AP8=0,0,($J$8/$AP$8)*100000) -> 0 | AR8: =' Populations'!R13 -> 0 | AS8: =IF(AR8=0,0,($K$8/$AR$8)*100000) -> 0 | AT8: =' Populations'!T13 -> 0 | AU8: =IF(AT8=0,0,($L$8/$AT$8)*100000) -> 0 | AW8: ='Health Regions'!B9 -> 0 | AX8: =IF(AW8=0,0,($M$8/$AW$8)*100000) -> 0 | AY8: ='Health Regions'!D9 -> 0 | AZ8: =IF(AY8=0,0,($N$8/$AY$8)*100000) -> 0 | BA8: ='Health Regions'!F9 -> 0 | BB8: =IF(BA8=0,0,($O$8/$BA$8)*100000) -> 0 | BC8: ='Health Regions'!H9 -> 0 | BD8: =IF(BC8=0,0,($P$8/$BC$8)*100000) -> 0 | BE8: ='Health Regions'!J9 -> 0 | BF8: =IF(BE8=0,0,($Q$8/$BE$8)*100000) -> 0 | BG8: ='Health Regions'!L9 -> 0 | BH8: =IF(BG8=0,0,($R$8/$BG$8)*100000) -> 0 | BI8: ='Health Regions'!N9 -> 0 | BJ8: =IF(BI8=0,0,($S$8/$BI$8)*100000) -> 0 | BK8: ='Health Regions'!P9 -> 0 | BL8: =IF(BK8=0,0,($T$8/$BK$8)*100000) -> 0 | BM8: ='Health Regions'!R9 -> 0 | BN8: =IF(BM8=0,0,($U$8/$AW$8)*100000) -> 0 | BO8: ='Health Regions'!T9 -> 0 | BP8: =IF(BO8=0,0,($V$8/$BO$8)*100000) -> 0 | BQ8: ='Health Regions'!V9 -> 0 | BR8: =IF(BQ8=0,0,($W$8/$BQ$8)*100000) -> 0 | BS8: ='Health Regions'!X9 -> 0 | BT8: =IF(BS8=0,0,($X$8/$BS$8)*100000) -> 0 | BU8: ='Health Regions'!Z9 -> 0 | BV8: =IF(BU8=0,0,($Y$8/$BU$8)*100000) -> 0 | BW8: ='Health Regions'!AB9 -> 0 | BX8: =IF(BW8=0,0,($Z$8/$BW$8)*100000) -> 0 | BZ8: 19820 | CA8: 0.072169 | CC8: 15-19yrs | CD8: =AC8*CA8 -> 0 | CE8: =AE8*CA8 -> 0 | CF8: =AG8*CA8 -> 0 | CG8: =AI8*CA8 -> 0 | CH8: =AK8*CA8 -> 0 | CI8: =AM8*CA8 -> 0 | CJ8: =AO8*CA8 -> 0 | CK8: =AQ8*CA8 -> 0 | CL8: =AS8*CA8 -> 0 | CM8: =AU8*CA8 -> 0 | CN8: =AX8*CA8 -> 0 | CO8: =AZ8*CA8 -> 0 | CP8: =BB8*CA8 -> 0 | CQ8: =BD8*CA8 -> 0 | CR8: =BF8*CA8 -> 0 | CS8: =BH8*CA8 -> 0 | CT8: =BI8*CA8 -> 0 | CU8: =BL8*CA8 -> 0 | CV8: =BN8*CA8 -> 0 | CW8: =BP8*CA8 -> 0 | CX8: =BR8*CA8 -> 0 | CY8: =BT8*CA8 -> 0 | CZ8: =BV8*CA8 -> 0 | DA8: =BX8*CA8 -> 0
B9: 20-24yrs | AB9: =' Populations'!B14 -> 0 | AC9: =IF(AB9=0,0,($C$9/$AB$9)*100000) -> 0 | AD9: =' Populations'!D14 -> 0 | AE9: =IF(AD9=0,0,($D$9/$AD$9)*100000) -> 0 | AF9: =' Populations'!F14 -> 0 | AG9: =IF(AF9=0,0,($E$9/$AF$9)*100000) -> 0 | AH9: =' Populations'!H14 -> 0 | AI9: =IF(AH9=0,0,($F$9/$AH$9)*100000) -> 0 | AJ9: =' Populations'!J14 -> 0 | AK9: =IF(AJ9=0,0,($G$9/$AJ$9)*100000) -> 0 | AL9: =' Populations'!L14 -> 0 | AM9: =IF(AL9=0,0,($G$9/$AL$9)*100000) -> 0 | AN9: =' Populations'!N14 -> 0 | AO9: =IF(AN9=0,0,($I$9/$AN$9)*100000) -> 0 | AP9: =' Populations'!P14 -> 0 | AQ9: =IF(AP9=0,0,($J$9/$AP$9)*100000) -> 0 | AR9: =' Populations'!R14 -> 0 | AS9: =IF(AR9=0,0,($K$9/$AR$9)*100000) -> 0 | AT9: =' Populations'!T14 -> 0 | AU9: =IF(AT9=0,0,($L$9/$AT$9)*100000) -> 0 | AW9: ='Health Regions'!B10 -> 0 | AX9: =IF(AW9=0,0,($M$9/$AW$9)*100000) -> 0 | AY9: ='Health Regions'!D10 -> 0 | AZ9: =IF(AY9=0,0,($N$9/$AY$9)*100000) -> 0 | BA9: ='Health Regions'!F10 -> 0 | BB9: =IF(BA9=0,0,($O$9/$BA$9)*100000) -> 0 | BC9: ='Health Regions'!H10 -> 0 | BD9: =IF(BC9=0,0,($P$9/$BC$9)*100000) -> 0 | BE9: ='Health Regions'!J10 -> 0 | BF9: =IF(BE9=0,0,($Q$9/$BE$9)*100000) -> 0 | BG9: ='Health Regions'!L10 -> 0 | BH9: =IF(BG9=0,0,($R$9/$BG$9)*100000) -> 0 | BI9: ='Health Regions'!N10 -> 0 | BJ9: =IF(BI9=0,0,($S$9/$BI$9)*100000) -> 0 | BK9: ='Health Regions'!P10 -> 0 | BL9: =IF(BK9=0,0,($T$9/$BK$9)*100000) -> 0 | BM9: ='Health Regions'!R10 -> 0 | BN9: =IF(BM9=0,0,($U$9/$BM$9)*100000) -> 0 | BO9: ='Health Regions'!T10 -> 0 | BP9: =IF(BO9=0,0,($V$9/$BO$9)*100000) -> 0 | BQ9: ='Health Regions'!V10 -> 0 | BR9: =IF(BQ9=0,0,($W$9/$BQ$9)*100000) -> 0 | BS9: ='Health Regions'!X10 -> 0 | BT9: =IF(BS9=0,0,($X$9/$BS$9)*100000) -> 0 | BU9: ='Health Regions'!Z10 -> 0 | BV9: =IF(BU9=0,0,($Y$9/$BU$9)*100000) -> 0 | BW9: ='Health Regions'!AB10 -> 0 | BX9: =IF(BW9=0,0,($Z$9/$BW$9)*100000) -> 0 | BZ9: 18257 | CA9: 0.066478 | CC9: 20-24yrs | CD9: =AC9*CA9 -> 0 | CE9: =AE9*CA9 -> 0 | CF9: =AG9*CA9 -> 0 | CG9: =AI9*CA9 -> 0 | CH9: =AK9*CA9 -> 0 | CI9: =AM9*CA9 -> 0 | CJ9: =AO9*CA9 -> 0 | CK9: =AQ9*CA9 -> 0 | CL9: =AS9*CA9 -> 0 | CM9: =AU9*CA9 -> 0 | CN9: =AX9*CA9 -> 0 | CO9: =AZ9*CA9 -> 0 | CP9: =BB9*CA9 -> 0 | CQ9: =BD9*CA9 -> 0 | CR9: =BF9*CA9 -> 0 | CS9: =BH9*CA9 -> 0 | CT9: =BI9*CA9 -> 0 | CU9: =BL9*CA9 -> 0 | CV9: =BN9*CA9 -> 0 | CW9: =BP9*CA9 -> 0 | CX9: =BR9*CA9 -> 0 | CY9: =BT9*CA9 -> 0 | CZ9: =BV9*CA9 -> 0 | DA9: =BX9*CA9 -> 0
B10: 25-34yrs | AB10: =' Populations'!B15 -> 0 | AC10: =IF(AB10=0,0,($C$10/$AB$10)*100000) -> 0 | AD10: =' Populations'!D15 -> 0 | AE10: =IF(AD10=0,0,($D$10/$AD$10)*100000) -> 0 | AF10: =' Populations'!F15 -> 0 | AG10: =IF(AF10=0,0,($E$10/$AF$10)*100000) -> 0 | AH10: =' Populations'!H15 -> 0 | AI10: =IF(AH10=0,0,($F$10/$AH$10)*100000) -> 0 | AJ10: =' Populations'!J15 -> 0 | AK10: =IF(AJ10=0,0,($G$10/$AJ$10)*100000) -> 0 | AL10: =' Populations'!L15 -> 0 | AM10: =IF(AL10=0,0,($G$10/$AL$10)*100000) -> 0 | AN10: =' Populations'!N15 -> 0 | AO10: =IF(AN10=0,0,($I$10/$AN$10)*100000) -> 0 | AP10: =' Populations'!P15 -> 0 | AQ10: =IF(AP10=0,0,($J$10/$AP$10)*100000) -> 0 | AR10: =' Populations'!R15 -> 0 | AS10: =IF(AR10=0,0,($K$10/$AR$10)*100000) -> 0 | AT10: =' Populations'!T15 -> 0 | AU10: =IF(AT10=0,0,($L$10/$AT$10)*100000) -> 0 | AW10: ='Health Regions'!B11 -> 0 | AX10: =IF(AW10=0,0,($M$10/$AW$10)*100000) -> 0 | AY10: ='Health Regions'!D11 -> 0 | AZ10: =IF(AY10=0,0,($N$10/$AY$10)*100000) -> 0 | BA10: ='Health Regions'!F11 -> 0 | BB10: =IF(BA10=0,0,($O$10/$BA$10)*100000) -> 0 | BC10: ='Health Regions'!H11 -> 0 | BD10: =IF(BC10=0,0,($P$10/$BC$10)*100000) -> 0 | BE10: ='Health Regions'!J11 -> 0 | BF10: =IF(BE10=0,0,($Q$10/$BE$10)*100000) -> 0 | BG10: ='Health Regions'!L11 -> 0 | BH10: =IF(BG10=0,0,($R$10/$BG$10)*100000) -> 0 | BI10: ='Health Regions'!N11 -> 0 | BJ10: =IF(BI10=0,0,($S$10/$BI$10)*100000) -> 0 | BK10: ='Health Regions'!P11 -> 0 | BL10: =IF(BK10=0,0,($T$10/$BK$10)*100000) -> 0 | BM10: ='Health Regions'!R11 -> 0 | BN10: =IF(BM10=0,0,($U$10/$BM$10)*100000) -> 0 | BO10: ='Health Regions'!T11 -> 0 | BP10: =IF(BO10=0,0,($V$10/$BO$10)*100000) -> 0 | BQ10: ='Health Regions'!V11 -> 0 | BR10: =IF(BQ10=0,0,($W$10/$BQ$10)*100000) -> 0 | BS10: ='Health Regions'!X11 -> 0 | BT10: =IF(BS10=0,0,($X$10/$BS$10)*100000) -> 0 | BU10: ='Health Regions'!Z11 -> 0 | BV10: =IF(BU10=0,0,($Y$10/$BU$10)*100000) -> 0 | BW10: ='Health Regions'!AB11 -> 0 | BX10: =IF(BW10=0,0,($Z$10/$BW$10)*100000) -> 0 | BZ10: 37233 | CA10: 0.135573 | CC10: 25-34yrs | CD10: =AC10*CA10 -> 0 | CE10: =AE10*CA10 -> 0 | CF10: =AG10*CA10 -> 0 | CG10: =AI10*CA10 -> 0 | CH10: =AK10*CA10 -> 0 | CI10: =AM10*CA10 -> 0 | CJ10: =AO10*CA10 -> 0 | CK10: =AQ10*CA10 -> 0 | CL10: =AS10*CA10 -> 0 | CM10: =AU10*CA10 -> 0 | CN10: =AX10*CA10 -> 0 | CO10: =AZ10*CA10 -> 0 | CP10: =BB10*CA10 -> 0 | CQ10: =BD10*CA10 -> 0 | CR10: =BF10*CA10 -> 0 | CS10: =BH10*CA10 -> 0 | CT10: =BI10*CA10 -> 0 | CU10: =BL10*CA10 -> 0 | CV10: =BN10*CA10 -> 0 | CW10: =BP10*CA10 -> 0 | CX10: =BR10*CA10 -> 0 | CY10: =BT10*CA10 -> 0 | CZ10: =BV10*CA10 -> 0 | DA10: =BX10*CA10 -> 0
B11: 35-44yrs | AB11: =' Populations'!B16 -> 0 | AC11: =IF(AB11=0,0,($C$11/$AB$11)*100000) -> 0 | AD11: =' Populations'!D16 -> 0 | AE11: =IF(AD11=0,0,($D$11/$AD$11)*100000) -> 0 | AF11: =' Populations'!F16 -> 0 | AG11: =IF(AF11=0,0,($E$11/$AF$11)*100000) -> 0 | AH11: =' Populations'!H16 -> 0 | AI11: =IF(AH11=0,0,($F$11/$AH$11)*100000) -> 0 | AJ11: =' Populations'!J16 -> 0 | AK11: =IF(AJ11=0,0,($G$11/$AJ$11)*100000) -> 0 | AL11: =' Populations'!L16 -> 0 | AM11: =IF(AL11=0,0,($G$11/$AL$11)*100000) -> 0 | AN11: =' Populations'!N16 -> 0 | AO11: =IF(AN11=0,0,($I$11/$AN$11)*100000) -> 0 | AP11: =' Populations'!P16 -> 0 | AQ11: =IF(AP11=0,0,($J$11/$AP$11)*100000) -> 0 | AR11: =' Populations'!R16 -> 0 | AS11: =IF(AR11=0,0,($K$11/$AR$11)*100000) -> 0 | AT11: =' Populations'!T16 -> 0 | AU11: =IF(AT11=0,0,($L$11/$AT$11)*100000) -> 0 | AW11: ='Health Regions'!B12 -> 0 | AX11: =IF(AW11=0,0,($M$11/$AW$11)*100000) -> 0 | AY11: ='Health Regions'!D12 -> 0 | AZ11: =IF(AY11=0,0,($N$11/$AY$11)*100000) -> 0 | BA11: ='Health Regions'!F12 -> 0 | BB11: =IF(BA11=0,0,($O$11/$BA$11)*100000) -> 0 | BC11: ='Health Regions'!H12 -> 0 | BD11: =IF(BC11=0,0,($P$11/$BC$11)*100000) -> 0 | BE11: ='Health Regions'!J12 -> 0 | BF11: =IF(BE11=0,0,($Q$11/$BE$11)*100000) -> 0 | BG11: ='Health Regions'!L12 -> 0 | BH11: =IF(BG11=0,0,($R$11/$BG$11)*100000) -> 0 | BI11: ='Health Regions'!N12 -> 0 | BJ11: =IF(BI11=0,0,($S$11/$BI$11)*100000) -> 0 | BK11: ='Health Regions'!P12 -> 0 | BL11: =IF(BK11=0,0,($T$11/$BK$11)*100000) -> 0 | BM11: ='Health Regions'!R12 -> 0 | BN11: =IF(BM11=0,0,($U$11/$BM$11)*100000) -> 0 | BO11: ='Health Regions'!T12 -> 0 | BP11: =IF(BO11=0,0,($V$11/$BO$11)*100000) -> 0 | BQ11: ='Health Regions'!V12 -> 0 | BR11: =IF(BQ11=0,0,($W$11/$BQ$11)*100000) -> 0 | BS11: ='Health Regions'!X12 -> 0 | BT11: =IF(BS11=0,0,($X$11/$BS$11)*100000) -> 0 | BU11: ='Health Regions'!Z12 -> 0 | BV11: =IF(BU11=0,0,($Y$11/$BU$11)*100000) -> 0 | BW11: ='Health Regions'!AB12 -> 0 | BX11: =IF(BW11=0,0,($Z$11/$BW$11)*100000) -> 0 | BZ11: 44659 | CA11: 0.162613 | CC11: 35-44yrs | CD11: =AC11*CA11 -> 0 | CE11: =AE11*CA11 -> 0 | CF11: =AG11*CA11 -> 0 | CG11: =AI11*CA11 -> 0 | CH11: =AK11*CA11 -> 0 | CI11: =AM11*CA11 -> 0 | CJ11: =AO11*CA11 -> 0 | CK11: =AQ11*CA11 -> 0 | CL11: =AS11*CA11 -> 0 | CM11: =AU11*CA11 -> 0 | CN11: =AX11*CA11 -> 0 | CO11: =AZ11*CA11 -> 0 | CP11: =BB11*CA11 -> 0 | CQ11: =BD11*CA11 -> 0 | CR11: =BF11*CA11 -> 0 | CS11: =BH11*CA11 -> 0 | CT11: =BI11*CA11 -> 0 | CU11: =BL11*CA11 -> 0 | CV11: =BN11*CA11 -> 0 | CW11: =BP11*CA11 -> 0 | CX11: =BR11*CA11 -> 0 | CY11: =BT11*CA11 -> 0 | CZ11: =BV11*CA11 -> 0 | DA11: =BX11*CA11 -> 0
B12: 45-54yrs | AB12: =' Populations'!B17 -> 0 | AC12: =IF(AB12=0,0,($C$12/$AB$12)*100000) -> 0 | AD12: =' Populations'!D17 -> 0 | AE12: =IF(AD12=0,0,($D$12/$AD$12)*100000) -> 0 | AF12: =' Populations'!F17 -> 0 | AG12: =IF(AF12=0,0,($E$12/$AF$12)*100000) -> 0 | AH12: =' Populations'!H17 -> 0 | AI12: =IF(AH12=0,0,($F$12/$AH$12)*100000) -> 0 | AJ12: =' Populations'!J17 -> 0 | AK12: =IF(AJ12=0,0,($G$12/$AJ$12)*100000) -> 0 | AL12: =' Populations'!L17 -> 0 | AM12: =IF(AL12=0,0,($G$12/$AL$12)*100000) -> 0 | AN12: =' Populations'!N17 -> 0 | AO12: =IF(AN12=0,0,($I$12/$AN$12)*100000) -> 0 | AP12: =' Populations'!P17 -> 0 | AQ12: =IF(AP12=0,0,($J$12/$AP$12)*100000) -> 0 | AR12: =' Populations'!R17 -> 0 | AS12: =IF(AR12=0,0,($K$12/$AR$12)*100000) -> 0 | AT12: =' Populations'!T17 -> 0 | AU12: =IF(AT12=0,0,($L$12/$AT$12)*100000) -> 0 | AW12: ='Health Regions'!B13 -> 0 | AX12: =IF(AW12=0,0,($M$12/$AW$12)*100000) -> 0 | AY12: ='Health Regions'!D13 -> 0 | AZ12: =IF(AY12=0,0,($N$12/$AY$12)*100000) -> 0 | BA12: ='Health Regions'!F13 -> 0 | BB12: =IF(BA12=0,0,($O$12/$BA$12)*100000) -> 0 | BC12: ='Health Regions'!H13 -> 0 | BD12: =IF(BC12=0,0,($P$12/$BC$12)*100000) -> 0 | BE12: ='Health Regions'!J13 -> 0 | BF12: =IF(BE12=0,0,($Q$12/$BE$12)*100000) -> 0 | BG12: ='Health Regions'!L13 -> 0 | BH12: =IF(BG12=0,0,($R$12/$BG$12)*100000) -> 0 | BI12: ='Health Regions'!N13 -> 0 | BJ12: =IF(BI12=0,0,($S$12/$BI$12)*100000) -> 0 | BK12: ='Health Regions'!P13 -> 0 | BL12: =IF(BK12=0,0,($T$12/$BK$12)*100000) -> 0 | BM12: ='Health Regions'!R13 -> 0 | BN12: =IF(BM12=0,0,($U$12/$BM$12)*100000) -> 0 | BO12: ='Health Regions'!T13 -> 0 | BP12: =IF(BO12=0,0,($V$12/$BO$12)*100000) -> 0 | BQ12: ='Health Regions'!V13 -> 0 | BR12: =IF(BQ12=0,0,($W$12/$BQ$12)*100000) -> 0 | BS12: ='Health Regions'!X13 -> 0 | BT12: =IF(BS12=0,0,($X$12/$BS$12)*100000) -> 0 | BU12: ='Health Regions'!Z13 -> 0 | BV12: =IF(BU12=0,0,($Y$12/$BU$12)*100000) -> 0 | BW12: ='Health Regions'!AB13 -> 0 | BX12: =IF(BW12=0,0,($Z$12/$BW$12)*100000) -> 0 | BZ12: 37030 | CA12: 0.134834 | CC12: 45-54yrs | CD12: =AC12*CA12 -> 0 | CE12: =AE12*CA12 -> 0 | CF12: =AG12*CA12 -> 0 | CG12: =AI12*CA12 -> 0 | CH12: =AK12*CA12 -> 0 | CI12: =AM12*CA12 -> 0 | CJ12: =AO12*CA12 -> 0 | CK12: =AQ12*CA12 -> 0 | CL12: =AS12*CA12 -> 0 | CM12: =AU12*CA12 -> 0 | CN12: =AX12*CA12 -> 0 | CO12: =AZ12*CA12 -> 0 | CP12: =BB12*CA12 -> 0 | CQ12: =BD12*CA12 -> 0 | CR12: =BF12*CA12 -> 0 | CS12: =BH12*CA12 -> 0 | CT12: =BI12*CA12 -> 0 | CU12: =BL12*CA12 -> 0 | CV12: =BN12*CA12 -> 0 | CW12: =BP12*CA12 -> 0 | CX12: =BR12*CA12 -> 0 | CY12: =BT12*CA12 -> 0 | CZ12: =BV12*CA12 -> 0 | DA12: =BX12*CA12 -> 0
B13: 55-64yrs | AB13: =' Populations'!B18 -> 0 | AC13: =IF(AB13=0,0,($C$13/$AB$13)*100000) -> 0 | AD13: =' Populations'!D18 -> 0 | AE13: =IF(AD13=0,0,($D$13/$AD$13)*100000) -> 0 | AF13: =' Populations'!F18 -> 0 | AG13: =IF(AF13=0,0,($E$13/$AF$13)*100000) -> 0 | AH13: =' Populations'!H18 -> 0 | AI13: =IF(AH13=0,0,($F$13/$AH$13)*100000) -> 0 | AJ13: =' Populations'!J18 -> 0 | AK13: =IF(AJ13=0,0,($G$13/$AJ$13)*100000) -> 0 | AL13: =' Populations'!L18 -> 0 | AM13: =IF(AL13=0,0,($G$13/$AL$13)*100000) -> 0 | AN13: =' Populations'!N18 -> 0 | AO13: =IF(AN13=0,0,($I$13/$AN$13)*100000) -> 0 | AP13: =' Populations'!P18 -> 0 | AQ13: =IF(AP13=0,0,($J$13/$AP$13)*100000) -> 0 | AR13: =' Populations'!R18 -> 0 | AS13: =IF(AR13=0,0,($K$13/$AR$13)*100000) -> 0 | AT13: =' Populations'!T18 -> 0 | AU13: =IF(AT13=0,0,($L$13/$AT$13)*100000) -> 0 | AW13: ='Health Regions'!B14 -> 0 | AX13: =IF(AW13=0,0,($M$13/$AW$13)*100000) -> 0 | AY13: ='Health Regions'!D14 -> 0 | AZ13: =IF(AY13=0,0,($N$13/$AY$13)*100000) -> 0 | BA13: ='Health Regions'!F14 -> 0 | BB13: =IF(BA13=0,0,($O$13/$BA$13)*100000) -> 0 | BC13: ='Health Regions'!H14 -> 0 | BD13: =IF(BC13=0,0,($P$13/$BC$13)*100000) -> 0 | BE13: ='Health Regions'!J14 -> 0 | BF13: =IF(BE13=0,0,($Q$13/$BE$13)*100000) -> 0 | BG13: ='Health Regions'!L14 -> 0 | BH13: =IF(BG13=0,0,($R$13/$BG$13)*100000) -> 0 | BI13: ='Health Regions'!N14 -> 0 | BJ13: =IF(BI13=0,0,($S$13/$BI$13)*100000) -> 0 | BK13: ='Health Regions'!P14 -> 0 | BL13: =IF(BK13=0,0,($T$13/$BK$13)*100000) -> 0 | BM13: ='Health Regions'!R14 -> 0 | BN13: =IF(BM13=0,0,($U$13/$BM$13)*100000) -> 0 | BO13: ='Health Regions'!T14 -> 0 | BP13: =IF(BO13=0,0,($V$13/$BO$13)*100000) -> 0 | BQ13: ='Health Regions'!V14 -> 0 | BR13: =IF(BQ13=0,0,($W$13/$BQ$13)*100000) -> 0 | BS13: ='Health Regions'!X14 -> 0 | BT13: =IF(BS13=0,0,($X$13/$BS$13)*100000) -> 0 | BU13: ='Health Regions'!Z14 -> 0 | BV13: =IF(BU13=0,0,($Y$13/$BU$13)*100000) -> 0 | BW13: ='Health Regions'!AB14 -> 0 | BX13: =IF(BW13=0,0,($Z$13/$BW$13)*100000) -> 0 | BZ13: 23961 | CA13: 0.087247 | CC13: 55-64yrs | CD13: =AC13*CA13 -> 0 | CE13: =AE13*CA13 -> 0 | CF13: =AG13*CA13 -> 0 | CG13: =AI13*CA13 -> 0 | CH13: =AK13*CA13 -> 0 | CI13: =AM13*CA13 -> 0 | CJ13: =AO13*CA13 -> 0 | CK13: =AQ13*CA13 -> 0 | CL13: =AS13*CA13 -> 0 | CM13: =AU13*CA13 -> 0 | CN13: =AX13*CA13 -> 0 | CO13: =AZ13*CA13 -> 0 | CP13: =BB13*CA13 -> 0 | CQ13: =BD13*CA13 -> 0 | CR13: =BF13*CA13 -> 0 | CS13: =BH13*CA13 -> 0 | CT13: =BI13*CA13 -> 0 | CU13: =BL13*CA13 -> 0 | CV13: =BN13*CA13 -> 0 | CW13: =BP13*CA13 -> 0 | CX13: =BR13*CA13 -> 0 | CY13: =BT13*CA13 -> 0 | CZ13: =BV13*CA13 -> 0 | DA13: =BX13*CA13 -> 0
B14: 65-74yrs | AB14: =' Populations'!B19 -> 0 | AC14: =IF(AB14=0,0,($C$14/$AB$14)*100000) -> 0 | AD14: =' Populations'!D19 -> 0 | AE14: =IF(AD14=0,0,($D$14/$AD$14)*100000) -> 0 | AF14: =' Populations'!F19 -> 0 | AG14: =IF(AF14=0,0,($E$14/$AF$14)*100000) -> 0 | AH14: =' Populations'!H19 -> 0 | AI14: =IF(AH14=0,0,($F$14/$AH$14)*100000) -> 0 | AJ14: =' Populations'!J19 -> 0 | AK14: =IF(AJ14=0,0,($G$14/$AJ$14)*100000) -> 0 | AL14: =' Populations'!L19 -> 0 | AM14: =IF(AL14=0,0,($G$14/$AL$14)*100000) -> 0 | AN14: =' Populations'!N19 -> 0 | AO14: =IF(AN14=0,0,($I$14/$AN$14)*100000) -> 0 | AP14: =' Populations'!P19 -> 0 | AQ14: =IF(AP14=0,0,($J$14/$AP$14)*100000) -> 0 | AR14: =' Populations'!R19 -> 0 | AS14: =IF(AR14=0,0,($K$14/$AR$14)*100000) -> 0 | AT14: =' Populations'!T19 -> 0 | AU14: =IF(AT14=0,0,($L$14/$AT$14)*100000) -> 0 | AW14: ='Health Regions'!B15 -> 0 | AX14: =IF(AW14=0,0,($M$14/$AW$14)*100000) -> 0 | AY14: ='Health Regions'!D15 -> 0 | AZ14: =IF(AY14=0,0,($N$14/$AY$14)*100000) -> 0 | BA14: ='Health Regions'!F15 -> 0 | BB14: =IF(BA14=0,0,($O$14/$BA$14)*100000) -> 0 | BC14: ='Health Regions'!H15 -> 0 | BD14: =IF(BC14=0,0,($P$14/$BC$14)*100000) -> 0 | BE14: ='Health Regions'!J15 -> 0 | BF14: =IF(BE14=0,0,($Q$14/$BE$14)*100000) -> 0 | BG14: ='Health Regions'!L15 -> 0 | BH14: =IF(BG14=0,0,($R$14/$BG$14)*100000) -> 0 | BI14: ='Health Regions'!N15 -> 0 | BJ14: =IF(BI14=0,0,($S$14/$BI$14)*100000) -> 0 | BK14: ='Health Regions'!P15 -> 0 | BL14: =IF(BK14=0,0,($T$14/$BK$14)*100000) -> 0 | BM14: ='Health Regions'!R15 -> 0 | BN14: =IF(BM14=0,0,($U$14/$BM$14)*100000) -> 0 | BO14: ='Health Regions'!T15 -> 0 | BP14: =IF(BO14=0,0,($V$14/$BO$14)*100000) -> 0 | BQ14: ='Health Regions'!V15 -> 0 | BR14: =IF(BQ14=0,0,($W$14/$BQ$14)*100000) -> 0 | BS14: ='Health Regions'!X15 -> 0 | BT14: =IF(BS14=0,0,($X$14/$BS$14)*100000) -> 0 | BU14: ='Health Regions'!Z15 -> 0 | BV14: =IF(BU14=0,0,($Y$14/$BU$14)*100000) -> 0 | BW14: ='Health Regions'!AB15 -> 0 | BX14: =IF(BW14=0,0,($Z$14/$BW$14)*100000) -> 0 | BZ14: 18136 | CA14: 0.066037 | CC14: 65-74yrs | CD14: =AC14*CA14 -> 0 | CE14: =AE14*CA14 -> 0 | CF14: =AG14*CA14 -> 0 | CG14: =AI14*CA14 -> 0 | CH14: =AK14*CA14 -> 0 | CI14: =AM14*CA14 -> 0 | CJ14: =AO14*CA14 -> 0 | CK14: =AQ14*CA14 -> 0 | CL14: =AS14*CA14 -> 0 | CM14: =AU14*CA14 -> 0 | CN14: =AX14*CA14 -> 0 | CO14: =AZ14*CA14 -> 0 | CP14: =BB14*CA14 -> 0 | CQ14: =BD14*CA14 -> 0 | CR14: =BF14*CA14 -> 0 | CS14: =BH14*CA14 -> 0 | CT14: =BI14*CA14 -> 0 | CU14: =BL14*CA14 -> 0 | CV14: =BN14*CA14 -> 0 | CW14: =BP14*CA14 -> 0 | CX14: =BR14*CA14 -> 0 | CY14: =BT14*CA14 -> 0 | CZ14: =BV14*CA14 -> 0 | DA14: =BX14*CA14 -> 0
B15: 75-84yrs | AB15: =' Populations'!B20 -> 0 | AC15: =IF(AB15=0,0,($C$15/$AB$15)*100000) -> 0 | AD15: =' Populations'!D20 -> 0 | AE15: =IF(AD15=0,0,($D$15/$AD$15)*100000) -> 0 | AF15: =' Populations'!F20 -> 0 | AG15: =IF(AF15=0,0,($E$15/$AF$15)*100000) -> 0 | AH15: =' Populations'!H20 -> 0 | AI15: =IF(AH15=0,0,($F$15/$AH$15)*100000) -> 0 | AJ15: =' Populations'!J20 -> 0 | AK15: =IF(AJ15=0,0,($G$15/$AJ$15)*100000) -> 0 | AL15: =' Populations'!L20 -> 0 | AM15: =IF(AL15=0,0,($G$15/$AL$15)*100000) -> 0 | AN15: =' Populations'!N20 -> 0 | AO15: =IF(AN15=0,0,($I$15/$AN$15)*100000) -> 0 | AP15: =' Populations'!P20 -> 0 | AQ15: =IF(AP15=0,0,($J$15/$AP$15)*100000) -> 0 | AR15: =' Populations'!R20 -> 0 | AS15: =IF(AR15=0,0,($K$15/$AR$15)*100000) -> 0 | AT15: =' Populations'!T20 -> 0 | AU15: =IF(AT15=0,0,($L$15/$AT$15)*100000) -> 0 | AW15: ='Health Regions'!B16 -> 0 | AX15: =IF(AW15=0,0,($M$15/$AW$15)*100000) -> 0 | AY15: ='Health Regions'!D16 -> 0 | AZ15: =IF(AY15=0,0,($N$15/$AY$15)*100000) -> 0 | BA15: ='Health Regions'!F16 -> 0 | BB15: =IF(BA15=0,0,($O$15/$BA$15)*100000) -> 0 | BC15: ='Health Regions'!H16 -> 0 | BD15: =IF(BC15=0,0,($P$15/$BC$15)*100000) -> 0 | BE15: ='Health Regions'!J16 -> 0 | BF15: =IF(BE15=0,0,($Q$15/$BE$15)*100000) -> 0 | BG15: ='Health Regions'!L16 -> 0 | BH15: =IF(BG15=0,0,($R$15/$BG$15)*100000) -> 0 | BI15: ='Health Regions'!N16 -> 0 | BJ15: =IF(BI15=0,0,($S$15/$BI$15)*100000) -> 0 | BK15: ='Health Regions'!P16 -> 0 | BL15: =IF(BK15=0,0,($T$15/$BK$15)*100000) -> 0 | BM15: ='Health Regions'!R16 -> 0 | BN15: =IF(BM15=0,0,($U$15/$BM$15)*100000) -> 0 | BO15: ='Health Regions'!T16 -> 0 | BP15: =IF(BO15=0,0,($V$15/$BO$15)*100000) -> 0 | BQ15: ='Health Regions'!V16 -> 0 | BR15: =IF(BQ15=0,0,($W$15/$BQ$15)*100000) -> 0 | BS15: ='Health Regions'!X16 -> 0 | BT15: =IF(BS15=0,0,($X$15/$BS$15)*100000) -> 0 | BU15: ='Health Regions'!Z16 -> 0 | BV15: =IF(BU15=0,0,($Y$15/$BU$15)*100000) -> 0 | BW15: ='Health Regions'!AB16 -> 0 | BX15: =IF(BW15=0,0,($Z$15/$BW$15)*100000) -> 0 | BZ15: 12315 | CA15: 0.044841 | CC15: 75-84yrs | CD15: =AC15*CA15 -> 0 | CE15: =AE15*CA15 -> 0 | CF15: =AG15*CA15 -> 0 | CG15: =AI15*CA15 -> 0 | CH15: =AK15*CA15 -> 0 | CI15: =AM15*CA15 -> 0 | CJ15: =AO15*CA15 -> 0 | CK15: =AQ15*CA15 -> 0 | CL15: =AS15*CA15 -> 0 | CM15: =AU15*CA15 -> 0 | CN15: =AX15*CA15 -> 0 | CO15: =AZ15*CA15 -> 0 | CP15: =BB15*CA15 -> 0 | CQ15: =BD15*CA15 -> 0 | CR15: =BF15*CA15 -> 0 | CS15: =BH15*CA15 -> 0 | CT15: =BI15*CA15 -> 0 | CU15: =BL15*CA15 -> 0 | CV15: =BN15*CA15 -> 0 | CW15: =BP15*CA15 -> 0 | CX15: =BR15*CA15 -> 0 | CY15: =BT15*CA15 -> 0 | CZ15: =BV15*CA15 -> 0 | DA15: =BX15*CA15 -> 0
B16: 85+ | AB16: =' Populations'!B21 -> 0 | AC16: =IF(AB16=0,0,($C$16/$AB$16)*100000) -> 0 | AD16: =' Populations'!D21 -> 0 | AE16: =IF(AD16=0,0,($D$16/$AD$16)*100000) -> 0 | AF16: =' Populations'!F21 -> 0 | AG16: =IF(AF16=0,0,($E$16/$AF$16)*100000) -> 0 | AH16: =' Populations'!H21 -> 0 | AI16: =IF(AH16=0,0,($F$16/$AH$16)*100000) -> 0 | AJ16: =' Populations'!J21 -> 0 | AK16: =IF(AJ16=0,0,($G$16/$AJ$16)*100000) -> 0 | AL16: =' Populations'!L21 -> 0 | AM16: =IF(AL16=0,0,($G$16/$AL$16)*100000) -> 0 | AN16: =' Populations'!N21 -> 0 | AO16: =IF(AN16=0,0,($I$16/$AN$16)*100000) -> 0 | AP16: =' Populations'!P21 -> 0 | AQ16: =IF(AP16=0,0,($J$16/$AP$16)*100000) -> 0 | AR16: =' Populations'!R21 -> 0 | AS16: =IF(AR16=0,0,($K$16/$AR$16)*100000) -> 0 | AT16: =' Populations'!T21 -> 0 | AU16: =IF(AT16=0,0,($L$16/$AT$16)*100000) -> 0 | AW16: ='Health Regions'!B17 -> 0 | AX16: =IF(AW16=0,0,($M$16/$AW$16)*100000) -> 0 | AY16: ='Health Regions'!D17 -> 0 | AZ16: =IF(AY16=0,0,($N$16/$AY$16)*100000) -> 0 | BA16: ='Health Regions'!F17 -> 0 | BB16: =IF(BA16=0,0,($O$16/$BA$16)*100000) -> 0 | BC16: ='Health Regions'!H17 -> 0 | BD16: =IF(BC16=0,0,($P$16/$BC$16)*100000) -> 0 | BE16: ='Health Regions'!J17 -> 0 | BF16: =IF(BE16=0,0,($Q$16/$BE$16)*100000) -> 0 | BG16: ='Health Regions'!L17 -> 0 | BH16: =IF(BG16=0,0,($R$16/$BG$16)*100000) -> 0 | BI16: ='Health Regions'!N17 -> 0 | BJ16: =IF(BI16=0,0,($S$16/$BI$16)*100000) -> 0 | BK16: ='Health Regions'!P17 -> 0 | BL16: =IF(BK16=0,0,($T$16/$BK$16)*100000) -> 0 | BM16: ='Health Regions'!R17 -> 0 | BN16: =IF(BM16=0,0,($U$16/$BM$16)*100000) -> 0 | BO16: ='Health Regions'!T17 -> 0 | BP16: =IF(BO16=0,0,($V$16/$BO$16)*100000) -> 0 | BQ16: ='Health Regions'!V17 -> 0 | BR16: =IF(BQ16=0,0,($W$16/$BQ$16)*100000) -> 0 | BS16: ='Health Regions'!X17 -> 0 | BT16: =IF(BS16=0,0,($X$16/$BS$16)*100000) -> 0 | BU16: ='Health Regions'!Z17 -> 0 | BV16: =IF(BU16=0,0,($Y$16/$BU$16)*100000) -> 0 | BW16: ='Health Regions'!AB17 -> 0 | BX16: =IF(BW16=0,0,($Z$16/$BW$16)*100000) -> 0 | BZ16: 4259 | CA16: 0.015508 | CC16: 85+ | CD16: =AC16*CA16 -> 0 | CE16: =AE16*CA16 -> 0 | CF16: =AG16*CA16 -> 0 | CG16: =AI16*CA16 -> 0 | CH16: =AK16*CA16 -> 0 | CI16: =AM16*CA16 -> 0 | CJ16: =AO16*CA16 -> 0 | CK16: =AQ16*CA16 -> 0 | CL16: =AS16*CA16 -> 0 | CM16: =AU16*CA16 -> 0 | CN16: =AX16*CA16 -> 0 | CO16: =AZ16*CA16 -> 0 | CP16: =BB16*CA16 -> 0 | CQ16: =BD16*CA16 -> 0 | CR16: =BF16*CA16 -> 0 | CS16: =BH16*CA16 -> 0 | CT16: =BI16*CA16 -> 0 | CU16: =BL16*CA16 -> 0 | CV16: =BN16*CA16 -> 0 | CW16: =BP16*CA16 -> 0 | CX16: =BR16*CA16 -> 0 | CY16: =BT16*CA16 -> 0 | CZ16: =BV16*CA16 -> 0 | DA16: =BX16*CA16 -> 0
B17: total | C17: =SUM(C4:C16) -> 0 | D17: =SUM(D4:D16) -> 0 | E17: =SUM(E4:E16) -> 0 | F17: =SUM(F4:F16) -> 0 | G17: =SUM(G4:G16) -> 0 | H17: =SUM(H4:H16) -> 0 | I17: =SUM(I4:I16) -> 0 | J17: =SUM(J4:J16) -> 0 | ... Z17: =SUM(Z4:Z16) -> 0 | AB17: =SUM(AB4:AB16) -> 0 | AC17: =SUM(AC4:AC16) -> 0 | AD17: =SUM(AD4:AD16) -> 0 | AE17: =SUM(AE4:AE16) -> 0 | AF17: =SUM(AF4:AF16) -> 0 | AG17: =SUM(AG4:AG16) -> 0 | AH17: =SUM(AH4:AH16) -> 0 | AI17: =SUM(AI4:AI16) -> 0 | ... AU17: =SUM(AU4:AU16) -> 0 | AW17: =SUM(AW4:AW16) -> 0 | AX17: =SUM(AX4:AX16) -> 0 | AY17: =SUM(AY4:AY16) -> 0 | AZ17: =SUM(AZ4:AZ16) -> 0 | BA17: =SUM(BA4:BA16) -> 0 | BB17: =SUM(BB4:BB16) -> 0 | BC17: =SUM(BC4:BC16) -> 0 | BD17: =SUM(BD4:BD16) -> 0 | ... BX17: =SUM(BX4:BX16) -> 0 | BZ17: =SUM(BZ4:BZ16) -> 274634 | CC17: total | CD17: =SUM(CD4:CD16) -> 0 | CE17: =SUM(CE4:CE16) -> 0 | CF17: =SUM(CF4:CF16) -> 0 | CG17: =SUM(CG4:CG16) -> 0 | CH17: =SUM(CH4:CH16) -> 0 | CI17: =SUM(CI4:CI16) -> 0 | CJ17: =SUM(CJ4:CJ16) -> 0 | CK17: =SUM(CK4:CK16) -> 0 | ... DA17: =SUM(DA4:DA16) -> 0
D19: Sex Data | F19: Demographic Data | M19: Region Data | CD19: Age-adjusted Rates per 100,000 population
B20: Age | C20: Number of ED visits- Total | D20: Number of ED visits- Male | E20: Number of ED visits- Female | F20: Number of ED visits- White-Not Hispanic | G20: Number of ED visits- Hispanic | H20: Number of ED visits- Black-Not Hispanic | I20: Number of ED visits- Asian | J20: Number of ED visits- American Indian/Alaska Native | K20: =' Populations'!R8 -> Other | L20: =' Populations'!T8 -> Other | M20: Number of ED visits- Region 1 | N20: Number of ED visits- Region 2 | O20: Number of ED visits- Region 3 | P20: Number of ED visits- Region 4 | Q20: Number of ED visits- Region 5 | R20: Number of ED visits- Region 6 | S20: Number of ED visits- Region 7 | T20: Number of ED visits- Region 8 | U20: Number of ED visits- Region 9 | V20: Number of ED visits- Region 10 | W20: Number of ED visits- Region 11 | X20: Number of ED visits- Region 12 | Y20: Number of ED visits- Region 13 | Z20: Number of ED visits- Region 14 | AB20: State population - Total | AC20: Rate | AD20: State population - Male | AE20: Rate | AF20: State population - Female | AG20: Rate | AH20: State population - White-Not Hispanic | AI20: Rate | AJ20: State population - Hispanic | AK20: Rate | AL20: State population - Black-Not Hispanic | AM20: Rate | AN20: State population - Asian | AO20: Rate | AP20: State population - American Indian/Alaska Native | AQ20: Rate | AR20: =' Populations'!R8 -> Other | AS20: Rate | AT20: =' Populations'!T8 -> Other | AU20: Rate | AW20: Region 1 | AX20: Rate | AY20: Region 2 | AZ20: Rate | BA20: Region 3 | BB20: Rate | BC20: Region 4 | BD20: Rate | BE20: Region 5 | BF20: Rate | BG20: Region 6 | BH20: Rate | BI20: Region 7 | BJ20: Rate | BK20: Region 8 | BL20: Rate | BM20: Region 9 | BN20: Rate | BO20: Region 10 | BP20: Rate | BQ20: Region 11 | BR20: Rate | BS20: Region 12 | BT20: Rate | BU20: Region 13 | BV20: Rate | BW20: Region 14 | BX20: Rate | BZ20: 2000 population | CA20: Weight | CC20: Age | CD20: Total | CE20: Male | CF20: Female | CG20: White-Not Hispanic | CH20: Hispanic | CI20: Black-Not Hispanic | CJ20: Asian | CK20: American Indian/Alaska Native | CL20: =' Populations'!R8 -> Other | CM20: =' Populations'!T8 -> Other | CN20: ED visits- Region 1 | CO20: ED visits- Region 2 | CP20: ED visits- Region 3 | CQ20: ED visits- Region 4 | CR20: ED visits- Region 5 | CS20: ED visits- Region 6 | CT20: ED visits- Region 7 | CU20: ED visits- Region 8 | CV20: ED visits- Region 9 | CW20: ED visits- Region 10 | CX20: ED visits- Region 11 | CY20: ED visits- Region 12 | CZ20: ED visits- Region 13 | DA20: ED visits- Region 14
B21: <1yr | AB21: =' Populations'!B9 -> 0 | AC21: =IF(AB21=0,0,($C$21/$AB$21)*100000) -> 0 | AD21: =' Populations'!D9 -> 0 | AE21: =IF(AD21=0,0,($D$21/$AD$21)*100000) -> 0 | AF21: =' Populations'!F9 -> 0 | AG21: =IF(AF21=0,0,($E$21/$AF$21)*100000) -> 0 | AH21: =' Populations'!H9 -> 0 | AI21: =IF(AH21=0,0,($F$21/$AH$21)*100000) -> 0 | AJ21: =' Populations'!J9 -> 0 | AK21: =IF(AJ21=0,0,($G$21/$AJ$21)*100000) -> 0 | AL21: =' Populations'!L9 -> 0 | AM21: =IF(AL21=0,0,($H$21/$AL$21)*100000) -> 0 | AN21: =' Populations'!N9 -> 0 | AO21: =IF(AN21=0,0,($I$21/$AN$21)*100000) -> 0 | AP21: =' Populations'!P9 -> 0 | AQ21: =IF(AP21=0,0,($J$21/$AP$21)*100000) -> 0 | AR21: =' Populations'!R9 -> 0 | AS21: =IF(AR21=0,0,($K$21/$AR$21)*100000) -> 0 | AT21: =' Populations'!T9 -> 0 | AU21: =IF(AT21=0,0,($L$21/$AT$21)*100000) -> 0 | AW21: ='Health Regions'!B5 -> 0 | AX21: =IF(AW21=0,0,($M$21/$AW$21)*100000) -> 0 | AY21: ='Health Regions'!D5 -> 0 | AZ21: =IF(AY21=0,0,($N$21/$AY$21)*100000) -> 0 | BA21: ='Health Regions'!F5 -> 0 | BB21: =IF(BA21=0,0,($O$21/$BA$21)*100000) -> 0 | BC21: ='Health Regions'!H5 -> 0 | BD21: =IF(BC21=0,0,($P$21/$BC$21)*100000) -> 0 | BE21: ='Health Regions'!J5 -> 0 | BF21: =IF(BE21=0,0,($Q$21/$BE$21)*100000) -> 0 | BG21: ='Health Regions'!L5 -> 0 | BH21: =IF(BG21=0,0,($R$21/$BG$21)*100000) -> 0 | BI21: ='Health Regions'!N5 -> 0 | BJ21: =IF(BI21=0,0,($S$21/$BI$21)*100000) -> 0 | BK21: ='Health Regions'!P5 -> 0 | BL21: =IF(BK21=0,0,($T$21/$BK$21)*100000) -> 0 | BM21: ='Health Regions'!R5 -> 0 | BN21: =IF(BM21=0,0,($U$21/$BM$21)*100000) -> 0 | BO21: ='Health Regions'!T5 -> 0 | BP21: =IF(BO21=0,0,($V$21/$BO21)*100000) -> 0 | BQ21: ='Health Regions'!V5 -> 0 | BR21: =IF(BQ21=0,0,($W$21/$BQ$21)*100000) -> 0 | BS21: ='Health Regions'!X5 -> 0 | BT21: =IF(BS21=0,0,($X$21/$BS$21)*100000) -> 0 | BU21: ='Health Regions'!Z5 -> 0 | BV21: =IF(BU21=0,0,($Y$21/$BU$21)*100000) -> 0 | BW21: ='Health Regions'!AB5 -> 0 | BX21: =IF(BW21=0,0,($Z$21/$BW$21)*100000) -> 0 | BZ21: 3795 | CA21: 0.013818 | CC21: <1yr | CD21: =AC21*CA21 -> 0 | CE21: =AE21*CA21 -> 0 | CF21: =AG21*CA21 -> 0 | CG21: =AI21*CA21 -> 0 | CH21: =AK21*CA21 -> 0 | CI21: =AM21*CA21 -> 0 | CJ21: =AO21*CA21 -> 0 | CK21: =AQ21*CA21 -> 0 | CL21: =AS21*CA21 -> 0 | CM21: =AU21*CA21 -> 0 | CN21: =AX21*CA21 -> 0 | CO21: =AZ21*CA21 -> 0 | CP21: =BB21*CA21 -> 0 | CQ21: =BD21*CA21 -> 0 | CR21: =BF21*CA21 -> 0 | CS21: =BH21*CA21 -> 0 | CT21: =BI21*CA21 -> 0 | CU21: =BL21*CA21 -> 0 | CV21: =BN21*CA21 -> 0 | CW21: =BP21*CA21 -> 0 | CX21: =BR21*CA21 -> 0 | CY21: =BT21*CA21 -> 0 | CZ21: =BV21*CA21 -> 0 | DA21: =BX21*CA21 -> 0
B22: 1-4yrs | AB22: =' Populations'!B10 -> 0 | AC22: =IF(AB22=0,0,($C$22/$AB$22)*100000) -> 0 | AD22: =' Populations'!D10 -> 0 | AE22: =IF(AD22=0,0,($D$22/$AD$22)*100000) -> 0 | AF22: =' Populations'!F10 -> 0 | AG22: =IF(AF22=0,0,($E$22/$AF$22)*100000) -> 0 | AH22: =' Populations'!H10 -> 0 | AI22: =IF(AH22=0,0,($F$22/$AH$22)*100000) -> 0 | AJ22: =' Populations'!J10 -> 0 | AK22: =IF(AJ22=0,0,($G$22/$AJ$22)*100000) -> 0 | AL22: =' Populations'!L10 -> 0 | AM22: =IF(AL22=0,0,($H$22/$AL$22)*100000) -> 0 | AN22: =' Populations'!N10 -> 0 | AO22: =IF(AN22=0,0,($I$22/$AN$22)*100000) -> 0 | AP22: =' Populations'!P10 -> 0 | AQ22: =IF(AP22=0,0,($J$22/$AP$22)*100000) -> 0 | AR22: =' Populations'!R10 -> 0 | AS22: =IF(AR22=0,0,($K$22/$AR$22)*100000) -> 0 | AT22: =' Populations'!T10 -> 0 | AU22: =IF(AT22=0,0,($L$22/$AT$22)*100000) -> 0 | AW22: ='Health Regions'!B6 -> 0 | AX22: =IF(AW22=0,0,($M$22/$AW$22)*100000) -> 0 | AY22: ='Health Regions'!D6 -> 0 | AZ22: =IF(AY22=0,0,($N$22/$AY$22)*100000) -> 0 | BA22: ='Health Regions'!F6 -> 0 | BB22: =IF(BA22=0,0,($O$22/$BA$22)*100000) -> 0 | BC22: ='Health Regions'!H6 -> 0 | BD22: =IF(BC22=0,0,($P$22/$BC$22)*100000) -> 0 | BE22: ='Health Regions'!J6 -> 0 | BF22: =IF(BE22=0,0,($Q$22/$BE$22)*100000) -> 0 | BG22: ='Health Regions'!L6 -> 0 | BH22: =IF(BG22=0,0,($R$22/$BG$22)*100000) -> 0 | BI22: ='Health Regions'!N6 -> 0 | BJ22: =IF(BI22=0,0,($S$22/$BI$22)*100000) -> 0 | BK22: ='Health Regions'!P6 -> 0 | BL22: =IF(BK22=0,0,($T$22/$BK$22)*100000) -> 0 | BM22: ='Health Regions'!R6 -> 0 | BN22: =IF(BM22=0,0,($U$22/$BM$22)*100000) -> 0 | BO22: ='Health Regions'!T6 -> 0 | BP22: =IF(BO22=0,0,($V$22/$BO$22)*100000) -> 0 | BQ22: ='Health Regions'!V6 -> 0 | BR22: =IF(BQ22=0,0,($W$22/$BQ$22)*100000) -> 0 | BS22: ='Health Regions'!X6 -> 0 | BT22: =IF(BS22=0,0,($X$22/$BS$22)*100000) -> 0 | BU22: ='Health Regions'!Z6 -> 0 | BV22: =IF(BU22=0,0,($Y$22/$BU$22)*100000) -> 0 | BW22: ='Health Regions'!AB6 -> 0 | BX22: =IF(BW22=0,0,($Z$22/$BW$22)*100000) -> 0 | BZ22: 15192 | CA22: 0.055317 | CC22: 1-4yrs | CD22: =AC22*CA22 -> 0 | CE22: =AE22*CA22 -> 0 | CF22: =AG22*CA22 -> 0 | CG22: =AI22*CA22 -> 0 | CH22: =AK22*CA22 -> 0 | CI22: =AM22*CA22 -> 0 | CJ22: =AO22*CA22 -> 0 | CK22: =AQ22*CA22 -> 0 | CL22: =AS22*CA22 -> 0 | CM22: =AU22*CA22 -> 0 | CN22: =AX22*CA22 -> 0 | CO22: =AZ22*CA22 -> 0 | CP22: =BB22*CA22 -> 0 | CQ22: =BD22*CA22 -> 0 | CR22: =BF22*CA22 -> 0 | CS22: =BH22*CA22 -> 0 | CT22: =BI22*CA22 -> 0 | CU22: =BL22*CA22 -> 0 | CV22: =BN22*CA22 -> 0 | CW22: =BP22*CA22 -> 0 | CX22: =BR22*CA22 -> 0 | CY22: =BT22*CA22 -> 0 | CZ22: =BV22*CA22 -> 0 | DA22: =BX22*CA22 -> 0
B23: 5-9yrs | AB23: =' Populations'!B11 -> 0 | AC23: =IF(AB23=0,0,($C$23/$AB$23)*100000) -> 0 | AD23: =' Populations'!D11 -> 0 | AE23: =IF(AD23=0,0,($D$23/$AD$23)*100000) -> 0 | AF23: =' Populations'!F11 -> 0 | AG23: =IF(AF23=0,0,($E$23/$AF$23)*100000) -> 0 | AH23: =' Populations'!H11 -> 0 | AI23: =IF(AH23=0,0,($F$23/$AH$23)*100000) -> 0 | AJ23: =' Populations'!J11 -> 0 | AK23: =IF(AJ23=0,0,($G$23/$AJ$23)*100000) -> 0 | AL23: =' Populations'!L11 -> 0 | AM23: =IF(AL23=0,0,($H$23/$AL$23)*100000) -> 0 | AN23: =' Populations'!N11 -> 0 | AO23: =IF(AN23=0,0,($I$23/$AN$23)*100000) -> 0 | AP23: =' Populations'!P11 -> 0 | AQ23: =IF(AP23=0,0,($J$23/$AP$23)*100000) -> 0 | AR23: =' Populations'!R11 -> 0 | AS23: =IF(AR23=0,0,($K$23/$AR$23)*100000) -> 0 | AT23: =' Populations'!T11 -> 0 | AU23: =IF(AT23=0,0,($L$23/$AT$23)*100000) -> 0 | AW23: ='Health Regions'!B7 -> 0 | AX23: =IF(AW23=0,0,($M$23/$AW$23)*100000) -> 0 | AY23: ='Health Regions'!D7 -> 0 | AZ23: =IF(AY23=0,0,($N$23/$AY$23)*100000) -> 0 | BA23: ='Health Regions'!F7 -> 0 | BB23: =IF(BA23=0,0,($O$23/$BA$23)*100000) -> 0 | BC23: ='Health Regions'!H7 -> 0 | BD23: =IF(BC23=0,0,($P$23/$BC$23)*100000) -> 0 | BE23: ='Health Regions'!J7 -> 0 | BF23: =IF(BE23=0,0,($Q$23/$BE$23)*100000) -> 0 | BG23: ='Health Regions'!L7 -> 0 | BH23: =IF(BG23=0,0,($R$23/$BG$23)*100000) -> 0 | BI23: ='Health Regions'!N7 -> 0 | BJ23: =IF(BI23=0,0,($S$23/$BI$23)*100000) -> 0 | BK23: ='Health Regions'!P7 -> 0 | BL23: =IF(BK23=0,0,($T$23/$BK$23)*100000) -> 0 | BM23: ='Health Regions'!R7 -> 0 | BN23: =IF(BM23=0,0,($U$23/$BM$23)*100000) -> 0 | BO23: ='Health Regions'!T7 -> 0 | BP23: =IF(BO23=0,0,($V$23/$BO$23)*100000) -> 0 | BQ23: ='Health Regions'!V7 -> 0 | BR23: =IF(BQ23=0,0,($W$23/$BQ$23)*100000) -> 0 | BS23: ='Health Regions'!X7 -> 0 | BT23: =IF(BS23=0,0,($X$23/$BS$23)*100000) -> 0 | BU23: ='Health Regions'!Z7 -> 0 | BV23: =IF(BU23=0,0,($Y$23/$BU$23)*100000) -> 0 | BW23: ='Health Regions'!AB7 -> 0 | BX23: =IF(BW23=0,0,($Z$23/$BW$23)*100000) -> 0 | BZ23: 19920 | CA23: 0.072533 | CC23: 5-9yrs | CD23: =AC23*CA23 -> 0 | CE23: =AE23*CA23 -> 0 | CF23: =AG23*CA23 -> 0 | CG23: =AI23*CA23 -> 0 | CH23: =AK23*CA23 -> 0 | CI23: =AM23*CA23 -> 0 | CJ23: =AO23*CA23 -> 0 | CK23: =AQ23*CA23 -> 0 | CL23: =AS23*CA23 -> 0 | CM23: =AU23*CA23 -> 0 | CN23: =AX23*CA23 -> 0 | CO23: =AZ23*CA23 -> 0 | CP23: =BB23*CA23 -> 0 | CQ23: =BD23*CA23 -> 0 | CR23: =BF23*CA23 -> 0 | CS23: =BH23*CA23 -> 0 | CT23: =BI23*CA23 -> 0 | CU23: =BL23*CA23 -> 0 | CV23: =BN23*CA23 -> 0 | CW23: =BP23*CA23 -> 0 | CX23: =BR23*CA23 -> 0 | CY23: =BT23*CA23 -> 0 | CZ23: =BV23*CA23 -> 0 | DA23: =BX23*CA23 -> 0
B24: 10-14yrs | AB24: =' Populations'!B12 -> 0 | AC24: =IF(AB24=0,0,($C$24/$AB$24)*100000) -> 0 | AD24: =' Populations'!D12 -> 0 | AE24: =IF(AD24=0,0,($D$24/$AD$24)*100000) -> 0 | AF24: =' Populations'!F12 -> 0 | AG24: =IF(AF24=0,0,($E$24/$AF$24)*100000) -> 0 | AH24: =' Populations'!H12 -> 0 | AI24: =IF(AH24=0,0,($F$24/$AH$24)*100000) -> 0 | AJ24: =' Populations'!J12 -> 0 | AK24: =IF(AJ24=0,0,($G$24/$AJ$24)*100000) -> 0 | AL24: =' Populations'!L12 -> 0 | AM24: =IF(AL24=0,0,($H$24/$AL$24)*100000) -> 0 | AN24: =' Populations'!N12 -> 0 | AO24: =IF(AN24=0,0,($I$24/$AN$24)*100000) -> 0 | AP24: =' Populations'!P12 -> 0 | AQ24: =IF(AP24=0,0,($J$24/$AP$24)*100000) -> 0 | AR24: =' Populations'!R12 -> 0 | AS24: =IF(AR24=0,0,($K$24/$AR$24)*100000) -> 0 | AT24: =' Populations'!T12 -> 0 | AU24: =IF(AT24=0,0,($L$24/$AT$24)*100000) -> 0 | AW24: ='Health Regions'!B8 -> 0 | AX24: =IF(AW24=0,0,($M$24/$AW$24)*100000) -> 0 | AY24: ='Health Regions'!D8 -> 0 | AZ24: =IF(AY24=0,0,($N$24/$AY$24)*100000) -> 0 | BA24: ='Health Regions'!F8 -> 0 | BB24: =IF(BA24=0,0,($O$24/$BA$24)*100000) -> 0 | BC24: ='Health Regions'!H8 -> 0 | BD24: =IF(BC24=0,0,($P$24/$BC$24)*100000) -> 0 | BE24: ='Health Regions'!J8 -> 0 | BF24: =IF(BE24=0,0,($Q$24/$BE$24)*100000) -> 0 | BG24: ='Health Regions'!L8 -> 0 | BH24: =IF(BG24=0,0,($R$24/$BG$24)*100000) -> 0 | BI24: ='Health Regions'!N8 -> 0 | BJ24: =IF(BI24=0,0,($S$24/$BI$24)*100000) -> 0 | BK24: ='Health Regions'!P8 -> 0 | BL24: =IF(BK24=0,0,($T$24/$BK$24)*100000) -> 0 | BM24: ='Health Regions'!R8 -> 0 | BN24: =IF(BM24=0,0,($U$24/$BM$24)*100000) -> 0 | BO24: ='Health Regions'!T8 -> 0 | BP24: =IF(BO24=0,0,($V24/$BO$24)*100000) -> 0 | BQ24: ='Health Regions'!V8 -> 0 | BR24: =IF(BQ24=0,0,($W$24/$BQ$24)*100000) -> 0 | BS24: ='Health Regions'!X8 -> 0 | BT24: =IF(BS24=0,0,($X$24/$BS$24)*100000) -> 0 | BU24: ='Health Regions'!Z8 -> 0 | BV24: =IF(BU24=0,0,($Y$24/$BU$24)*100000) -> 0 | BW24: ='Health Regions'!AB8 -> 0 | BX24: =IF(BW24=0,0,($Z$24/$BW$24)*100000) -> 0 | BZ24: 20057 | CA24: 0.073032 | CC24: 10-14yrs | CD24: =AC24*CA24 -> 0 | CE24: =AE24*CA24 -> 0 | CF24: =AG24*CA24 -> 0 | CG24: =AI24*CA24 -> 0 | CH24: =AK24*CA24 -> 0 | CI24: =AM24*CA24 -> 0 | CJ24: =AO24*CA24 -> 0 | CK24: =AQ24*CA24 -> 0 | CL24: =AS24*CA24 -> 0 | CM24: =AU24*CA24 -> 0 | CN24: =AX24*CA24 -> 0 | CO24: =AZ24*CA24 -> 0 | CP24: =BB24*CA24 -> 0 | CQ24: =BD24*CA24 -> 0 | CR24: =BF24*CA24 -> 0 | CS24: =BH24*CA24 -> 0 | CT24: =BI24*CA24 -> 0 | CU24: =BL24*CA24 -> 0 | CV24: =BN24*CA24 -> 0 | CW24: =BP24*CA24 -> 0 | CX24: =BR24*CA24 -> 0 | CY24: =BT24*CA24 -> 0 | CZ24: =BV24*CA24 -> 0 | DA24: =BX24*CA24 -> 0
B25: 15-19yrs | AB25: =' Populations'!B13 -> 0 | AC25: =IF(AB25=0,0,($C$25/$AB$25)*100000) -> 0 | AD25: =' Populations'!D13 -> 0 | AE25: =IF(AD25=0,0,($D$25/$AD$25)*100000) -> 0 | AF25: =' Populations'!F13 -> 0 | AG25: =IF(AF25=0,0,($E$25/$AF$25)*100000) -> 0 | AH25: =' Populations'!H13 -> 0 | AI25: =IF(AH25=0,0,($F$25/$AH$25)*100000) -> 0 | AJ25: =' Populations'!J13 -> 0 | AK25: =IF(AJ25=0,0,($G$25/$AJ$25)*100000) -> 0 | AL25: =' Populations'!L13 -> 0 | AM25: =IF(AL25=0,0,($H$25/$AL$25)*100000) -> 0 | AN25: =' Populations'!N13 -> 0 | AO25: =IF(AN25=0,0,($I$25/$AN$25)*100000) -> 0 | AP25: =' Populations'!P13 -> 0 | AQ25: =IF(AP25=0,0,($J$25/$AP$25)*100000) -> 0 | AR25: =' Populations'!R13 -> 0 | AS25: =IF(AR25=0,0,($K$25/$AR$25)*100000) -> 0 | AT25: =' Populations'!T13 -> 0 | AU25: =IF(AT25=0,0,($L$25/$AT$25)*100000) -> 0 | AW25: ='Health Regions'!B9 -> 0 | AX25: =IF(AW25=0,0,($M$25/$AW$25)*100000) -> 0 | AY25: ='Health Regions'!D9 -> 0 | AZ25: =IF(AY25=0,0,($N$25/$AY$25)*100000) -> 0 | BA25: ='Health Regions'!F9 -> 0 | BB25: =IF(BA25=0,0,($O$25/$BA$25)*100000) -> 0 | BC25: ='Health Regions'!H9 -> 0 | BD25: =IF(BC25=0,0,($P$25/$BC$25)*100000) -> 0 | BE25: ='Health Regions'!J9 -> 0 | BF25: =IF(BE25=0,0,($Q$25/$BE$25)*100000) -> 0 | BG25: ='Health Regions'!L9 -> 0 | BH25: =IF(BG25=0,0,($R$25/$BG$25)*100000) -> 0 | BI25: ='Health Regions'!N9 -> 0 | BJ25: =IF(BI25=0,0,($S$25/$BI$25)*100000) -> 0 | BK25: ='Health Regions'!P9 -> 0 | BL25: =IF(BK25=0,0,($T$25/$BK$25)*100000) -> 0 | BM25: ='Health Regions'!R9 -> 0 | BN25: =IF(BM25=0,0,($U$25/$BM$25)*100000) -> 0 | BO25: ='Health Regions'!T9 -> 0 | BP25: =IF(BO25=0,0,($V$25/$BO$25)*100000) -> 0 | BQ25: ='Health Regions'!V9 -> 0 | BR25: =IF(BQ25=0,0,($W$25/$BQ$25)*100000) -> 0 | BS25: ='Health Regions'!X9 -> 0 | BT25: =IF(BS25=0,0,($X$25/$BS$25)*100000) -> 0 | BU25: ='Health Regions'!Z9 -> 0 | BV25: =IF(BU25=0,0,($Y$25/$BU$25)*100000) -> 0 | BW25: ='Health Regions'!AB9 -> 0 | BX25: =IF(BW25=0,0,($Z$25/$BW$25)*100000) -> 0 | BZ25: 19820 | CA25: 0.072169 | CC25: 15-19yrs | CD25: =AC25*CA25 -> 0 | CE25: =AE25*CA25 -> 0 | CF25: =AG25*CA25 -> 0 | CG25: =AI25*CA25 -> 0 | CH25: =AK25*CA25 -> 0 | CI25: =AM25*CA25 -> 0 | CJ25: =AO25*CA25 -> 0 | CK25: =AQ25*CA25 -> 0 | CL25: =AS25*CA25 -> 0 | CM25: =AU25*CA25 -> 0 | CN25: =AX25*CA25 -> 0 | CO25: =AZ25*CA25 -> 0 | CP25: =BB25*CA25 -> 0 | CQ25: =BD25*CA25 -> 0 | CR25: =BF25*CA25 -> 0 | CS25: =BH25*CA25 -> 0 | CT25: =BI25*CA25 -> 0 | CU25: =BL25*CA25 -> 0 | CV25: =BN25*CA25 -> 0 | CW25: =BP25*CA25 -> 0 | CX25: =BR25*CA25 -> 0 | CY25: =BT25*CA25 -> 0 | CZ25: =BV25*CA25 -> 0 | DA25: =BX25*CA25 -> 0
B26: 20-24yrs | AB26: =' Populations'!B14 -> 0 | AC26: =IF(AB26=0,0,($C$26/$AB$26)*100000) -> 0 | AD26: =' Populations'!D14 -> 0 | AE26: =IF(AD26=0,0,($D$26/$AD$26)*100000) -> 0 | AF26: =' Populations'!F14 -> 0 | AG26: =IF(AF26=0,0,($E$26/$AF$26)*100000) -> 0 | AH26: =' Populations'!H14 -> 0 | AI26: =IF(AH26=0,0,($F$26/$AH$26)*100000) -> 0 | AJ26: =' Populations'!J14 -> 0 | AK26: =IF(AJ26=0,0,($G$26/$AJ$26)*100000) -> 0 | AL26: =' Populations'!L14 -> 0 | AM26: =IF(AL26=0,0,($H$26/$AL$26)*100000) -> 0 | AN26: =' Populations'!N14 -> 0 | AO26: =IF(AN26=0,0,($I$26/$AN$26)*100000) -> 0 | AP26: =' Populations'!P14 -> 0 | AQ26: =IF(AP26=0,0,($J$26/$AP$26)*100000) -> 0 | AR26: =' Populations'!R14 -> 0 | AS26: =IF(AR26=0,0,($K$26/$AR$26)*100000) -> 0 | AT26: =' Populations'!T14 -> 0 | AU26: =IF(AT26=0,0,($L$26/$AT$26)*100000) -> 0 | AW26: ='Health Regions'!B10 -> 0 | AX26: =IF(AW26=0,0,($M$26/$AW$26)*100000) -> 0 | AY26: ='Health Regions'!D10 -> 0 | AZ26: =IF(AY26=0,0,($N$26/$AY$26)*100000) -> 0 | BA26: ='Health Regions'!F10 -> 0 | BB26: =IF(BA26=0,0,($O$26/$BA$26)*100000) -> 0 | BC26: ='Health Regions'!H10 -> 0 | BD26: =IF(BC26=0,0,($P$26/$BC$26)*100000) -> 0 | BE26: ='Health Regions'!J10 -> 0 | BF26: =IF(BE26=0,0,($Q$26/$BE$26)*100000) -> 0 | BG26: ='Health Regions'!L10 -> 0 | BH26: =IF(BG26=0,0,($R$26/$BG$26)*100000) -> 0 | BI26: ='Health Regions'!N10 -> 0 | BJ26: =IF(BI26=0,0,($S$26/$BI$26)*100000) -> 0 | BK26: ='Health Regions'!P10 -> 0 | BL26: =IF(BK26=0,0,($T$26/$BK$26)*100000) -> 0 | BM26: ='Health Regions'!R10 -> 0 | BN26: =IF(BM26=0,0,($PU26/$BM$26)*100000) -> 0 | BO26: ='Health Regions'!T10 -> 0 | BP26: =IF(BO26=0,0,($V$26/$BO$26)*100000) -> 0 | BQ26: ='Health Regions'!V10 -> 0 | BR26: =IF(BQ26=0,0,($W$26/$BQ$26)*100000) -> 0 | BS26: ='Health Regions'!X10 -> 0 | BT26: =IF(BS26=0,0,($X$26/$BS$26)*100000) -> 0 | BU26: ='Health Regions'!Z10 -> 0 | BV26: =IF(BU26=0,0,($Y$26/$BU$26)*100000) -> 0 | BW26: ='Health Regions'!AB10 -> 0 | BX26: =IF(BW26=0,0,($Z$26/$BW$26)*100000) -> 0 | BZ26: 18257 | CA26: 0.066478 | CC26: 20-24yrs | CD26: =AC26*CA26 -> 0 | CE26: =AE26*CA26 -> 0 | CF26: =AG26*CA26 -> 0 | CG26: =AI26*CA26 -> 0 | CH26: =AK26*CA26 -> 0 | CI26: =AM26*CA26 -> 0 | CJ26: =AO26*CA26 -> 0 | CK26: =AQ26*CA26 -> 0 | CL26: =AS26*CA26 -> 0 | CM26: =AU26*CA26 -> 0 | CN26: =AX26*CA26 -> 0 | CO26: =AZ26*CA26 -> 0 | CP26: =BB26*CA26 -> 0 | CQ26: =BD26*CA26 -> 0 | CR26: =BF26*CA26 -> 0 | CS26: =BH26*CA26 -> 0 | CT26: =BI26*CA26 -> 0 | CU26: =BL26*CA26 -> 0 | CV26: =BN26*CA26 -> 0 | CW26: =BP26*CA26 -> 0 | CX26: =BR26*CA26 -> 0 | CY26: =BT26*CA26 -> 0 | CZ26: =BV26*CA26 -> 0 | DA26: =BX26*CA26 -> 0
B27: 25-34yrs | AB27: =' Populations'!B15 -> 0 | AC27: =IF(AB27=0,0,($C$27/$AB$27)*100000) -> 0 | AD27: =' Populations'!D15 -> 0 | AE27: =IF(AD27=0,0,($D$27/$AD$27)*100000) -> 0 | AF27: =' Populations'!F15 -> 0 | AG27: =IF(AF27=0,0,($E$27/$AF$27)*100000) -> 0 | AH27: =' Populations'!H15 -> 0 | AI27: =IF(AH27=0,0,($F$27/$AH$27)*100000) -> 0 | AJ27: =' Populations'!J15 -> 0 | AK27: =IF(AJ27=0,0,($G$27/$AJ$27)*100000) -> 0 | AL27: =' Populations'!L15 -> 0 | AM27: =IF(AL27=0,0,($H$27/$AL$27)*100000) -> 0 | AN27: =' Populations'!N15 -> 0 | AO27: =IF(AN27=0,0,($I$27/$AN$27)*100000) -> 0 | AP27: =' Populations'!P15 -> 0 | AQ27: =IF(AP27=0,0,($J$27/$AP$27)*100000) -> 0 | AR27: =' Populations'!R15 -> 0 | AS27: =IF(AR27=0,0,($K$27/$AR$27)*100000) -> 0 | AT27: =' Populations'!T15 -> 0 | AU27: =IF(AT27=0,0,($L$272/$AT$27)*100000) -> 0 | AW27: ='Health Regions'!B11 -> 0 | AX27: =IF(AW27=0,0,($M$27/$AW$27)*100000) -> 0 | AY27: ='Health Regions'!D11 -> 0 | AZ27: =IF(AY27=0,0,($N$27/$AY$27)*100000) -> 0 | BA27: ='Health Regions'!F11 -> 0 | BB27: =IF(BA27=0,0,($O$27/$BA$27)*100000) -> 0 | BC27: ='Health Regions'!H11 -> 0 | BD27: =IF(BC27=0,0,($P$27/$BC$27)*100000) -> 0 | BE27: ='Health Regions'!J11 -> 0 | BF27: =IF(BE27=0,0,($Q$27/$BE$27)*100000) -> 0 | BG27: ='Health Regions'!L11 -> 0 | BH27: =IF(BG27=0,0,($R$27/$BG$27)*100000) -> 0 | BI27: ='Health Regions'!N11 -> 0 | BJ27: =IF(BI27=0,0,($S$27/$BI$27)*100000) -> 0 | BK27: ='Health Regions'!P11 -> 0 | BL27: =IF(BK27=0,0,($T$27/$BK$27)*100000) -> 0 | BM27: ='Health Regions'!R11 -> 0 | BN27: =IF(BM27=0,0,($U$27/$BM$27)*100000) -> 0 | BO27: ='Health Regions'!T11 -> 0 | BP27: =IF(BO27=0,0,($V$27/$BO$27)*100000) -> 0 | BQ27: ='Health Regions'!V11 -> 0 | BR27: =IF(BQ27=0,0,($W$27/$BQ$27)*100000) -> 0 | BS27: ='Health Regions'!X11 -> 0 | BT27: =IF(BS27=0,0,($X$27/$BS$27)*100000) -> 0 | BU27: ='Health Regions'!Z11 -> 0 | BV27: =IF(BU27=0,0,($Y$27/$BU$27)*100000) -> 0 | BW27: ='Health Regions'!AB11 -> 0 | BX27: =IF(BW27=0,0,($Z$27/$BW$27)*100000) -> 0 | BZ27: 37233 | CA27: 0.135573 | CC27: 25-34yrs | CD27: =AC27*CA27 -> 0 | CE27: =AE27*CA27 -> 0 | CF27: =AG27*CA27 -> 0 | CG27: =AI27*CA27 -> 0 | CH27: =AK27*CA27 -> 0 | CI27: =AM27*CA27 -> 0 | CJ27: =AO27*CA27 -> 0 | CK27: =AQ27*CA27 -> 0 | CL27: =AS27*CA27 -> 0 | CM27: =AU27*CA27 -> 0 | CN27: =AX27*CA27 -> 0 | CO27: =AZ27*CA27 -> 0 | CP27: =BB27*CA27 -> 0 | CQ27: =BD27*CA27 -> 0 | CR27: =BF27*CA27 -> 0 | CS27: =BH27*CA27 -> 0 | CT27: =BI27*CA27 -> 0 | CU27: =BL27*CA27 -> 0 | CV27: =BN27*CA27 -> 0 | CW27: =BP27*CA27 -> 0 | CX27: =BR27*CA27 -> 0 | CY27: =BT27*CA27 -> 0 | CZ27: =BV27*CA27 -> 0 | DA27: =BX27*CA27 -> 0
B28: 35-44yrs | AB28: =' Populations'!B16 -> 0 | AC28: =IF(AB28=0,0,($C$28/$AB$28)*100000) -> 0 | AD28: =' Populations'!D16 -> 0 | AE28: =IF(AD28=0,0,($D$28/$AD$28)*100000) -> 0 | AF28: =' Populations'!F16 -> 0 | AG28: =IF(AF28=0,0,($E$28/$AF$28)*100000) -> 0 | AH28: =' Populations'!H16 -> 0 | AI28: =IF(AH28=0,0,($F$28/$AH$28)*100000) -> 0 | AJ28: =' Populations'!J16 -> 0 | AK28: =IF(AJ28=0,0,($G$28/$AJ$28)*100000) -> 0 | AL28: =' Populations'!L16 -> 0 | AM28: =IF(AL28=0,0,($H$28/$AL$28)*100000) -> 0 | AN28: =' Populations'!N16 -> 0 | AO28: =IF(AN28=0,0,($I$28/$AN$28)*100000) -> 0 | AP28: =' Populations'!P16 -> 0 | AQ28: =IF(AP28=0,0,($J$28/$AP$28)*100000) -> 0 | AR28: =' Populations'!R16 -> 0 | AS28: =IF(AR28=0,0,($K$28/$AR$28)*100000) -> 0 | AT28: =' Populations'!T16 -> 0 | AU28: =IF(AT28=0,0,($L$28/$AT$28)*100000) -> 0 | AW28: ='Health Regions'!B12 -> 0 | AX28: =IF(AW28=0,0,($M$28/$AW$28)*100000) -> 0 | AY28: ='Health Regions'!D12 -> 0 | AZ28: =IF(AY28=0,0,($N$28/$AW$28)*100000) -> 0 | BA28: ='Health Regions'!F12 -> 0 | BB28: =IF(BA28=0,0,($O$28/$BA$28)*100000) -> 0 | BC28: ='Health Regions'!H12 -> 0 | BD28: =IF(BC28=0,0,($P$28/$BC$28)*100000) -> 0 | BE28: ='Health Regions'!J12 -> 0 | BF28: =IF(BE28=0,0,($Q$28/$BE$28)*100000) -> 0 | BG28: ='Health Regions'!L12 -> 0 | BH28: =IF(BG28=0,0,($R$28/$BG$28)*100000) -> 0 | BI28: ='Health Regions'!N12 -> 0 | BJ28: =IF(BI28=0,0,($S$28/$BI$28)*100000) -> 0 | BK28: ='Health Regions'!P12 -> 0 | BL28: =IF(BK28=0,0,($T$28/$BK$28)*100000) -> 0 | BM28: ='Health Regions'!R12 -> 0 | BN28: =IF(BM28=0,0,($U$28/$BM$28)*100000) -> 0 | BO28: ='Health Regions'!T12 -> 0 | BP28: =IF(BO28=0,0,($V$28/$BO$28)*100000) -> 0 | BQ28: ='Health Regions'!V12 -> 0 | BR28: =IF(BQ28=0,0,($W$28/$BQ$28)*100000) -> 0 | BS28: ='Health Regions'!X12 -> 0 | BT28: =IF(BS28=0,0,($X$28/$BS$28)*100000) -> 0 | BU28: ='Health Regions'!Z12 -> 0 | BV28: =IF(BU28=0,0,($Y$28/$BU$28)*100000) -> 0 | BW28: ='Health Regions'!AB12 -> 0 | BX28: =IF(BW28=0,0,($Z$28/$BW$28)*100000) -> 0 | BZ28: 44659 | CA28: 0.162613 | CC28: 35-44yrs | CD28: =AC28*CA28 -> 0 | CE28: =AE28*CA28 -> 0 | CF28: =AG28*CA28 -> 0 | CG28: =AI28*CA28 -> 0 | CH28: =AK28*CA28 -> 0 | CI28: =AM28*CA28 -> 0 | CJ28: =AO28*CA28 -> 0 | CK28: =AQ28*CA28 -> 0 | CL28: =AS28*CA28 -> 0 | CM28: =AU28*CA28 -> 0 | CN28: =AX28*CA28 -> 0 | CO28: =AZ28*CA28 -> 0 | CP28: =BB28*CA28 -> 0 | CQ28: =BD28*CA28 -> 0 | CR28: =BF28*CA28 -> 0 | CS28: =BH28*CA28 -> 0 | CT28: =BI28*CA28 -> 0 | CU28: =BL28*CA28 -> 0 | CV28: =BN28*CA28 -> 0 | CW28: =BP28*CA28 -> 0 | CX28: =BR28*CA28 -> 0 | CY28: =BT28*CA28 -> 0 | CZ28: =BV28*CA28 -> 0 | DA28: =BX28*CA28 -> 0
B29: 45-54yrs | AB29: =' Populations'!B17 -> 0 | AC29: =IF(AB29=0,0,($C$29/$AB$29)*100000) -> 0 | AD29: =' Populations'!D17 -> 0 | AE29: =IF(AD29=0,0,($D$29/$AD$29)*100000) -> 0 | AF29: =' Populations'!F17 -> 0 | AG29: =IF(AF29=0,0,($E$29/$AF$29)*100000) -> 0 | AH29: =' Populations'!H17 -> 0 | AI29: =IF(AH29=0,0,($F$29/$AH$29)*100000) -> 0 | AJ29: =' Populations'!J17 -> 0 | AK29: =IF(AJ29=0,0,($G$29/$AJ$29)*100000) -> 0 | AL29: =' Populations'!L17 -> 0 | AM29: =IF(AL29=0,0,($H$29/$AL$29)*100000) -> 0 | AN29: =' Populations'!N17 -> 0 | AO29: =IF(AN29=0,0,($I$29/$AN$29)*100000) -> 0 | AP29: =' Populations'!P17 -> 0 | AQ29: =IF(AP29=0,0,($J$29/$AP$29)*100000) -> 0 | AR29: =' Populations'!R17 -> 0 | AS29: =IF(AR29=0,0,($K$29/$AR$29)*100000) -> 0 | AT29: =' Populations'!T17 -> 0 | AU29: =IF(AT29=0,0,($L$29/$AT$29)*100000) -> 0 | AW29: ='Health Regions'!B13 -> 0 | AX29: =IF(AW29=0,0,($M$29/$AW$29)*100000) -> 0 | AY29: ='Health Regions'!D13 -> 0 | AZ29: =IF(AY29=0,0,($N$29/$AY$29)*100000) -> 0 | BA29: ='Health Regions'!F13 -> 0 | BB29: =IF(BA29=0,0,($O$29/$BA$29)*100000) -> 0 | BC29: ='Health Regions'!H13 -> 0 | BD29: =IF(BC29=0,0,($P$29/$BC$29)*100000) -> 0 | BE29: ='Health Regions'!J13 -> 0 | BF29: =IF(BE29=0,0,($Q$29/$BE$29)*100000) -> 0 | BG29: ='Health Regions'!L13 -> 0 | BH29: =IF(BG29=0,0,($R$29/$BG$29)*100000) -> 0 | BI29: ='Health Regions'!N13 -> 0 | BJ29: =IF(BI29=0,0,($S$29/$BI$29)*100000) -> 0 | BK29: ='Health Regions'!P13 -> 0 | BL29: =IF(BK29=0,0,($T$29/$BK$29)*100000) -> 0 | BM29: ='Health Regions'!R13 -> 0 | BN29: =IF(BM29=0,0,($U$29/$BM$29)*100000) -> 0 | BO29: ='Health Regions'!T13 -> 0 | BP29: =IF(BO29=0,0,($V$29/$BO$29)*100000) -> 0 | BQ29: ='Health Regions'!V13 -> 0 | BR29: =IF(BQ29=0,0,($W$29/$BQ$29)*100000) -> 0 | BS29: ='Health Regions'!X13 -> 0 | BT29: =IF(BS29=0,0,($X$29/$BS$29)*100000) -> 0 | BU29: ='Health Regions'!Z13 -> 0 | BV29: =IF(BU29=0,0,($Y$29/$BU$29)*100000) -> 0 | BW29: ='Health Regions'!AB13 -> 0 | BX29: =IF(BW29=0,0,($Z$29/$BW$29)*100000) -> 0 | BZ29: 37030 | CA29: 0.134834 | CC29: 45-54yrs | CD29: =AC29*CA29 -> 0 | CE29: =AE29*CA29 -> 0 | CF29: =AG29*CA29 -> 0 | CG29: =AI29*CA29 -> 0 | CH29: =AK29*CA29 -> 0 | CI29: =AM29*CA29 -> 0 | CJ29: =AO29*CA29 -> 0 | CK29: =AQ29*CA29 -> 0 | CL29: =AS29*CA29 -> 0 | CM29: =AU29*CA29 -> 0 | CN29: =AX29*CA29 -> 0 | CO29: =AZ29*CA29 -> 0 | CP29: =BB29*CA29 -> 0 | CQ29: =BD29*CA29 -> 0 | CR29: =BF29*CA29 -> 0 | CS29: =BH29*CA29 -> 0 | CT29: =BI29*CA29 -> 0 | CU29: =BL29*CA29 -> 0 | CV29: =BN29*CA29 -> 0 | CW29: =BP29*CA29 -> 0 | CX29: =BR29*CA29 -> 0 | CY29: =BT29*CA29 -> 0 | CZ29: =BV29*CA29 -> 0 | DA29: =BX29*CA29 -> 0
B30: 55-64yrs | AB30: =' Populations'!B18 -> 0 | AC30: =IF(AB30=0,0,($C$30/$AB$30)*100000) -> 0 | AD30: =' Populations'!D18 -> 0 | AE30: =IF(AD30=0,0,($D$30/$AD$30)*100000) -> 0 | AF30: =' Populations'!F18 -> 0 | AG30: =IF(AF30=0,0,($E$30/$AF$30)*100000) -> 0 | AH30: =' Populations'!H18 -> 0 | AI30: =IF(AH30=0,0,($F$30/$AH$30)*100000) -> 0 | AJ30: =' Populations'!J18 -> 0 | AK30: =IF(AJ30=0,0,($G$30/$AJ$30)*100000) -> 0 | AL30: =' Populations'!L18 -> 0 | AM30: =IF(AL30=0,0,($H$30/$AL$30)*100000) -> 0 | AN30: =' Populations'!N18 -> 0 | AO30: =IF(AN30=0,0,($I$30/$AN$30)*100000) -> 0 | AP30: =' Populations'!P18 -> 0 | AQ30: =IF(AP30=0,0,($J$30/$AP$30)*100000) -> 0 | AR30: =' Populations'!R18 -> 0 | AS30: =IF(AR30=0,0,($K$30/$AR$30)*100000) -> 0 | AT30: =' Populations'!T18 -> 0 | AU30: =IF(AT30=0,0,($L$30/$AT$30)*100000) -> 0 | AW30: ='Health Regions'!B14 -> 0 | AX30: =IF(AW30=0,0,($M$30/$AW$30)*100000) -> 0 | AY30: ='Health Regions'!D14 -> 0 | AZ30: =IF(AY30=0,0,($N$30/$AY$30)*100000) -> 0 | BA30: ='Health Regions'!F14 -> 0 | BB30: =IF(BA30=0,0,($O$30/$BA$30)*100000) -> 0 | BC30: ='Health Regions'!H14 -> 0 | BD30: =IF(BC30=0,0,($P$30/$BC$30)*100000) -> 0 | BE30: ='Health Regions'!J14 -> 0 | BF30: =IF(BE30=0,0,($Q$30/$BE$30)*100000) -> 0 | BG30: ='Health Regions'!L14 -> 0 | BH30: =IF(BG30=0,0,($R$30/$BG$30)*100000) -> 0 | BI30: ='Health Regions'!N14 -> 0 | BJ30: =IF(BI30=0,0,($S$30/$BI$30)*100000) -> 0 | BK30: ='Health Regions'!P14 -> 0 | BL30: =IF(BK30=0,0,($T$30/$BK$30)*100000) -> 0 | BM30: ='Health Regions'!R14 -> 0 | BN30: =IF(BM30=0,0,($U$30/$BM$30)*100000) -> 0 | BO30: ='Health Regions'!T14 -> 0 | BP30: =IF(BO30=0,0,($V$30/$BO$30)*100000) -> 0 | BQ30: ='Health Regions'!V14 -> 0 | BR30: =IF(BQ30=0,0,($W$30/$BQ$30)*100000) -> 0 | BS30: ='Health Regions'!X14 -> 0 | BT30: =IF(BS30=0,0,($X$30/$BS$30)*100000) -> 0 | BU30: ='Health Regions'!Z14 -> 0 | BV30: =IF(BU30=0,0,($Y$30/$BU$30)*100000) -> 0 | BW30: ='Health Regions'!AB14 -> 0 | BX30: =IF(BW30=0,0,($Z$30/$BW$30)*100000) -> 0 | BZ30: 23961 | CA30: 0.087247 | CC30: 55-64yrs | CD30: =AC30*CA30 -> 0 | CE30: =AE30*CA30 -> 0 | CF30: =AG30*CA30 -> 0 | CG30: =AI30*CA30 -> 0 | CH30: =AK30*CA30 -> 0 | CI30: =AM30*CA30 -> 0 | CJ30: =AO30*CA30 -> 0 | CK30: =AQ30*CA30 -> 0 | CL30: =AS30*CA30 -> 0 | CM30: =AU30*CA30 -> 0 | CN30: =AX30*CA30 -> 0 | CO30: =AZ30*CA30 -> 0 | CP30: =BB30*CA30 -> 0 | CQ30: =BD30*CA30 -> 0 | CR30: =BF30*CA30 -> 0 | CS30: =BH30*CA30 -> 0 | CT30: =BI30*CA30 -> 0 | CU30: =BL30*CA30 -> 0 | CV30: =BN30*CA30 -> 0 | CW30: =BP30*CA30 -> 0 | CX30: =BR30*CA30 -> 0 | CY30: =BT30*CA30 -> 0 | CZ30: =BV30*CA30 -> 0 | DA30: =BX30*CA30 -> 0
B31: 65-74yrs | AB31: =' Populations'!B19 -> 0 | AC31: =IF(AB31=0,0,($C$31/$AB$31)*100000) -> 0 | AD31: =' Populations'!D19 -> 0 | AE31: =IF(AD31=0,0,($D$31/$AD$31)*100000) -> 0 | AF31: =' Populations'!F19 -> 0 | AG31: =IF(AF31=0,0,($E$31/$AF$31)*100000) -> 0 | AH31: =' Populations'!H19 -> 0 | AI31: =IF(AH31=0,0,($F$31/$AH$31)*100000) -> 0 | AJ31: =' Populations'!J19 -> 0 | AK31: =IF(AJ31=0,0,($G$31/$AJ$31)*100000) -> 0 | AL31: =' Populations'!L19 -> 0 | AM31: =IF(AL31=0,0,($H$31/$AL$31)*100000) -> 0 | AN31: =' Populations'!N19 -> 0 | AO31: =IF(AN31=0,0,($I$31/$AN$31)*100000) -> 0 | AP31: =' Populations'!P19 -> 0 | AQ31: =IF(AP31=0,0,($J$31/$AP$31)*100000) -> 0 | AR31: =' Populations'!R19 -> 0 | AS31: =IF(AR31=0,0,($K$31/$AR$31)*100000) -> 0 | AT31: =' Populations'!T19 -> 0 | AU31: =IF(AT31=0,0,($L$31/$AT$31)*100000) -> 0 | AW31: ='Health Regions'!B15 -> 0 | AX31: =IF(AW31=0,0,($M$31/$AW$31)*100000) -> 0 | AY31: ='Health Regions'!D15 -> 0 | AZ31: =IF(AY31=0,0,($N$31/$AY$31)*100000) -> 0 | BA31: ='Health Regions'!F15 -> 0 | BB31: =IF(BA31=0,0,($O$31/$BA$31)*100000) -> 0 | BC31: ='Health Regions'!H15 -> 0 | BD31: =IF(BC31=0,0,($P$31/$BC$31)*100000) -> 0 | BE31: ='Health Regions'!J15 -> 0 | BF31: =IF(BE31=0,0,($Q$31/$BE$31)*100000) -> 0 | BG31: ='Health Regions'!L15 -> 0 | BH31: =IF(BG31=0,0,($R$31/$BG$31)*100000) -> 0 | BI31: ='Health Regions'!N15 -> 0 | BJ31: =IF(BI31=0,0,($S$31/$BI$31)*100000) -> 0 | BK31: ='Health Regions'!P15 -> 0 | BL31: =IF(BK31=0,0,($T$31/$BK$31)*100000) -> 0 | BM31: ='Health Regions'!R15 -> 0 | BN31: =IF(BM31=0,0,($U$31/$BM$31)*100000) -> 0 | BO31: ='Health Regions'!T15 -> 0 | BP31: =IF(BO31=0,0,($V$31/$BO$31)*100000) -> 0 | BQ31: ='Health Regions'!V15 -> 0 | BR31: =IF(BQ31=0,0,($W$31/$BQ$31)*100000) -> 0 | BS31: ='Health Regions'!X15 -> 0 | BT31: =IF(BS31=0,0,($X$31/$BS$31)*100000) -> 0 | BU31: ='Health Regions'!Z15 -> 0 | BV31: =IF(BU31=0,0,($Y$31/$BU$31)*100000) -> 0 | BW31: ='Health Regions'!AB15 -> 0 | BX31: =IF(BW31=0,0,($Z$31/$BW$31)*100000) -> 0 | BZ31: 18136 | CA31: 0.066037 | CC31: 65-74yrs | CD31: =AC31*CA31 -> 0 | CE31: =AE31*CA31 -> 0 | CF31: =AG31*CA31 -> 0 | CG31: =AI31*CA31 -> 0 | CH31: =AK31*CA31 -> 0 | CI31: =AM31*CA31 -> 0 | CJ31: =AO31*CA31 -> 0 | CK31: =AQ31*CA31 -> 0 | CL31: =AS31*CA31 -> 0 | CM31: =AU31*CA31 -> 0 | CN31: =AX31*CA31 -> 0 | CO31: =AZ31*CA31 -> 0 | CP31: =BB31*CA31 -> 0 | CQ31: =BD31*CA31 -> 0 | CR31: =BF31*CA31 -> 0 | CS31: =BH31*CA31 -> 0 | CT31: =BI31*CA31 -> 0 | CU31: =BL31*CA31 -> 0 | CV31: =BN31*CA31 -> 0 | CW31: =BP31*CA31 -> 0 | CX31: =BR31*CA31 -> 0 | CY31: =BT31*CA31 -> 0 | CZ31: =BV31*CA31 -> 0 | DA31: =BX31*CA31 -> 0
B32: 75-84yrs | AB32: =' Populations'!B20 -> 0 | AC32: =IF(AB32=0,0,($C$32/$AB$32)*100000) -> 0 | AD32: =' Populations'!D20 -> 0 | AE32: =IF(AD32=0,0,($D$32/$AD$32)*100000) -> 0 | AF32: =' Populations'!F20 -> 0 | AG32: =IF(AF32=0,0,($E$32/$AF$32)*100000) -> 0 | AH32: =' Populations'!H20 -> 0 | AI32: =IF(AH32=0,0,($F$32/$AH$32)*100000) -> 0 | AJ32: =' Populations'!J20 -> 0 | AK32: =IF(AJ32=0,0,($G$32/$AJ$32)*100000) -> 0 | AL32: =' Populations'!L20 -> 0 | AM32: =IF(AL32=0,0,($H$32/$AL$32)*100000) -> 0 | AN32: =' Populations'!N20 -> 0 | AO32: =IF(AN32=0,0,($I$32/$AN$32)*100000) -> 0 | AP32: =' Populations'!P20 -> 0 | AQ32: =IF(AP32=0,0,($J$32/$AP$32)*100000) -> 0 | AR32: =' Populations'!R20 -> 0 | AS32: =IF(AR32=0,0,($K$32/$AR$32)*100000) -> 0 | AT32: =' Populations'!T20 -> 0 | AU32: =IF(AT32=0,0,($L$32/$AT$32)*100000) -> 0 | AW32: ='Health Regions'!B16 -> 0 | AX32: =IF(AW32=0,0,($M$32/$AW$32)*100000) -> 0 | AY32: ='Health Regions'!D16 -> 0 | AZ32: =IF(AY32=0,0,($N$32/$AY$32)*100000) -> 0 | BA32: ='Health Regions'!F16 -> 0 | BB32: =IF(BA32=0,0,($O$32/$BA$32)*100000) -> 0 | BC32: ='Health Regions'!H16 -> 0 | BD32: =IF(BC32=0,0,($P$32/$BC$32)*100000) -> 0 | BE32: ='Health Regions'!J16 -> 0 | BF32: =IF(BE32=0,0,($Q$32/$BE$32)*100000) -> 0 | BG32: ='Health Regions'!L16 -> 0 | BH32: =IF(BG32=0,0,($R$32/$BG$32)*100000) -> 0 | BI32: ='Health Regions'!N16 -> 0 | BJ32: =IF(BI32=0,0,($S$32/$BI$32)*100000) -> 0 | BK32: ='Health Regions'!P16 -> 0 | BL32: =IF(BK32=0,0,($T$32/$BK$32)*100000) -> 0 | BM32: ='Health Regions'!R16 -> 0 | BN32: =IF(BM32=0,0,($U$32/$BM$32)*100000) -> 0 | BO32: ='Health Regions'!T16 -> 0 | BP32: =IF(BO32=0,0,($V$32/$BO$32)*100000) -> 0 | BQ32: ='Health Regions'!V16 -> 0 | BR32: =IF(BQ32=0,0,($W$32/$BQ$32)*100000) -> 0 | BS32: ='Health Regions'!X16 -> 0 | BT32: =IF(BS32=0,0,($X$32/$BS$32)*100000) -> 0 | BU32: ='Health Regions'!Z16 -> 0 | BV32: =IF(BU32=0,0,($Y$32/$BU$32)*100000) -> 0 | BW32: ='Health Regions'!AB16 -> 0 | BX32: =IF(BW32=0,0,($Z$32/$BW$32)*100000) -> 0 | BZ32: 12315 | CA32: 0.044841 | CC32: 75-84yrs | CD32: =AC32*CA32 -> 0 | CE32: =AE32*CA32 -> 0 | CF32: =AG32*CA32 -> 0 | CG32: =AI32*CA32 -> 0 | CH32: =AK32*CA32 -> 0 | CI32: =AM32*CA32 -> 0 | CJ32: =AO32*CA32 -> 0 | CK32: =AQ32*CA32 -> 0 | CL32: =AS32*CA32 -> 0 | CM32: =AU32*CA32 -> 0 | CN32: =AX32*CA32 -> 0 | CO32: =AZ32*CA32 -> 0 | CP32: =BB32*CA32 -> 0 | CQ32: =BD32*CA32 -> 0 | CR32: =BF32*CA32 -> 0 | CS32: =BH32*CA32 -> 0 | CT32: =BI32*CA32 -> 0 | CU32: =BL32*CA32 -> 0 | CV32: =BN32*CA32 -> 0 | CW32: =BP32*CA32 -> 0 | CX32: =BR32*CA32 -> 0 | CY32: =BT32*CA32 -> 0 | CZ32: =BV32*CA32 -> 0 | DA32: =BX32*CA32 -> 0
B33: 85+ | AB33: =' Populations'!B21 -> 0 | AC33: =IF(AB33=0,0,($C$33/$AB$33)*100000) -> 0 | AD33: =' Populations'!D21 -> 0 | AE33: =IF(AD33=0,0,($D$33/$AD$33)*100000) -> 0 | AF33: =' Populations'!F21 -> 0 | AG33: =IF(AF33=0,0,($E$33/$AF$33)*100000) -> 0 | AH33: =' Populations'!H21 -> 0 | AI33: =IF(AH33=0,0,($F$33/$AH$33)*100000) -> 0 | AJ33: =' Populations'!J21 -> 0 | AK33: =IF(AJ33=0,0,($G$33/$AJ$33)*100000) -> 0 | AL33: =' Populations'!L21 -> 0 | AM33: =IF(AL33=0,0,($H$33/$AL$33)*100000) -> 0 | AN33: =' Populations'!N21 -> 0 | AO33: =IF(AN33=0,0,($I$33/$AN$33)*100000) -> 0 | AP33: =' Populations'!P21 -> 0 | AQ33: =IF(AP33=0,0,($J$33/$AP$33)*100000) -> 0 | AR33: =' Populations'!R21 -> 0 | AS33: =IF(AR33=0,0,($K$33/$AR$33)*100000) -> 0 | AT33: =' Populations'!T21 -> 0 | AU33: =IF(AT33=0,0,($L$33/$AT$33)*100000) -> 0 | AW33: ='Health Regions'!B17 -> 0 | AX33: =IF(AW33=0,0,($M$33/$AW$33)*100000) -> 0 | AY33: ='Health Regions'!D17 -> 0 | AZ33: =IF(AY33=0,0,($N$33/$AY$33)*100000) -> 0 | BA33: ='Health Regions'!F34 -> 0 | BB33: =IF(BA33=0,0,($O$33/$BA$33)*100000) -> 0 | BC33: ='Health Regions'!H17 -> 0 | BD33: =IF(BC33=0,0,($P$33/$BC$33)*100000) -> 0 | BE33: ='Health Regions'!J17 -> 0 | BF33: =IF(BE33=0,0,($Q$33/$BE$33)*100000) -> 0 | BG33: ='Health Regions'!L17 -> 0 | BH33: =IF(BG33=0,0,($R$33/$BG$33)*100000) -> 0 | BI33: ='Health Regions'!N17 -> 0 | BJ33: =IF(BI33=0,0,($S$33/$BI$33)*100000) -> 0 | BK33: ='Health Regions'!P17 -> 0 | BL33: =IF(BK33=0,0,($T$33/$BK$33)*100000) -> 0 | BM33: ='Health Regions'!R17 -> 0 | BN33: =IF(BM33=0,0,($U$33/$BM$33)*100000) -> 0 | BO33: ='Health Regions'!T17 -> 0 | BP33: =IF(BO33=0,0,($V$33/$BO$33)*100000) -> 0 | BQ33: ='Health Regions'!V17 -> 0 | BR33: =IF(BQ33=0,0,($W$33/$BQ$33)*100000) -> 0 | BS33: ='Health Regions'!X17 -> 0 | BT33: =IF(BS33=0,0,($X$33/$BS$33)*100000) -> 0 | BU33: ='Health Regions'!Z17 -> 0 | BV33: =IF(BU33=0,0,($Y$33/$BU$33)*100000) -> 0 | BW33: ='Health Regions'!AB17 -> 0 | BX33: =IF(BW33=0,0,($Z$33/$BW$33)*100000) -> 0 | BZ33: 4259 | CA33: 0.015508 | CC33: 85+ | CD33: =AC33*CA33 -> 0 | CE33: =AE33*CA33 -> 0 | CF33: =AG33*CA33 -> 0 | CG33: =AI33*CA33 -> 0 | CH33: =AK33*CA33 -> 0 | CI33: =AM33*CA33 -> 0 | CJ33: =AO33*CA33 -> 0 | CK33: =AQ33*CA33 -> 0 | CL33: =AS33*CA33 -> 0 | CM33: =AU33*CA33 -> 0 | CN33: =AX33*CA33 -> 0 | CO33: =AZ33*CA33 -> 0 | CP33: =BB33*CA33 -> 0 | CQ33: =BD33*CA33 -> 0 | CR33: =BF33*CA33 -> 0 | CS33: =BH33*CA33 -> 0 | CT33: =BI33*CA33 -> 0 | CU33: =BL33*CA33 -> 0 | CV33: =BN33*CA33 -> 0 | CW33: =BP33*CA33 -> 0 | CX33: =BR33*CA33 -> 0 | CY33: =BT33*CA33 -> 0 | CZ33: =BV33*CA33 -> 0 | DA33: =BX33*CA33 -> 0
B34: total | C34: =SUM(C21:C33) -> 0 | D34: =SUM(D21:D33) -> 0 | E34: =SUM(E21:E33) -> 0 | F34: =SUM(F21:F33) -> 0 | G34: =SUM(G21:G33) -> 0 | H34: =SUM(H21:H33) -> 0 | I34: =SUM(I21:I33) -> 0 | J34: =SUM(J21:J33) -> 0 | ... Z34: =SUM(Z21:Z33) -> 0 | AB34: =SUM(AB21:AB33) -> 0 | AC34: =SUM(AC21:AC33) -> 0 | AD34: =SUM(AD21:AD33) -> 0 | AE34: =SUM(AE21:AE33) -> 0 | AF34: =SUM(AF21:AF33) -> 0 | AG34: =SUM(AG21:AG33) -> 0 | AH34: =SUM(AH21:AH33) -> 0 | AI34: =SUM(AI21:AI33) -> 0 | ... AU34: =SUM(AU21:AU33) -> 0 | AW34: =SUM(AW21:AW33) -> 0 | AX34: =SUM(AX21:AX33) -> 0 | AY34: =SUM(AY21:AY33) -> 0 | AZ34: =SUM(AZ21:AZ33) -> 0 | BA34: =SUM(BA21:BA33) -> 0 | BB34: =SUM(BB21:BB33) -> 0 | BC34: =SUM(BC21:BC33) -> 0 | BD34: =SUM(BD21:BD33) -> 0 | ... BX34: =SUM(BX21:BX33) -> 0 | BZ34: =SUM(BZ21:BZ33) -> 274634 | CC34: total | CD34: =SUM(CD21:CD33) -> 0 | CE34: =SUM(CE21:CE33) -> 0 | CF34: =SUM(CF21:CF33) -> 0 | CG34: =SUM(CG21:CG33) -> 0 | CH34: =SUM(CH21:CH33) -> 0 | CI34: =SUM(CI21:CI33) -> 0 | CJ34: =SUM(CJ21:CJ33) -> 0 | CK34: =SUM(CK21:CK33) -> 0 | ... DA34: =SUM(DA21:DA33) -> 0
D36: Sex Data | F36: Demographic Data | M36: Region Data | CD36: Age-adjusted Rates per 100,000 population
