Workbook

Sheet Instructions
A1: Step 1: Preparing State Data | F1: Step 2: Entering Data
A2: Name | B2: ICD-10-CM code | C2: ICD-10-CM notes
A3: 1a. Create Nonfatal TBI-Specific Injury Hospitalizations Data Set - The TBI-specific hospitalization indicators should be calculated based on first creating a TBI-related injury hospitalization subset. This is done using the ICD-10-CM codes for the TBI-related hospital discharge indicator in the State Injury Indicators listed below. For hospitalizations, one of these codes should be in the primary/principal diagnosis field for the case to be in the injury subset. *Only include cases if the 7th character of the code is A, B, C, or missing (reflects initial encounter, active treatment). T30-T32 do not have a 7th character. Create an injury hospitalization subset using the ICD-10-CM codes below:
A5: Nonfatal injury hospitalization for all injuries | B5: S00-S99
B6: T07-T34
B7: T36-T50 | C7: T36-T50 with a 6th character of 1, 2, 3, or 4 Note: Include T36.9, T37.9, T39.9, T41.4, T42.7, T43.9, T45.9, T47.9, and T49.9 with 5th character of 1, 2, 3, or 4) (Intent information for these codes is included in the 5th character and not the 6th)
B8: T51-T65
B9: T66-T76
B10: T79
B11: O9A.2-O9A.5
B12: M97
A13: 1b. Select hospitalizations with any of the TBI ICD-10-CM codes in any diagnosis field listed below: *Only Include cases if the 7th character of the code is A, B, or missing (reflects initial encounter, active treatment)
A16: Nonfatal TBI-related injury hospitalization | B16: S02.0
B17: S02.1
B18: S02.8
B19: S02.91
B20: S04.02
B21: S04.03
B22: S04.04
B23: S06
B24: S07.1
B25: T74.4
A26: 1c. For the other TBI-related indicators, use the external-cause-of-injury ICD-10-CM codes listed below: *Only Include cases if the 7th character of the code is A or missing (reflects initial encounter, active treatment
A28: Nonfatal unintentional fall-related hospitalization | B28: V00 | C28: with 6th character=1
B29: W00-W15, W17, W19
B30: W16 | C30: with 6th character=2, W16.42, W16.92
B31: W18.1-W18.3
A32: Nonfatal Firearm-related hospitalization | B32: W32, W33, W34.00, W34.09, W34.10, W34.19
B33: X72, X73, X74.8, X74.9
B34: X93, X94, X95.8, X95.9
B35: Y38.4
B36: Y22, Y23, Y24.8, Y24.9
B37: Y35.00-Y35.03, Y35.09
A40: Nonfatal Assault-related hospitalization | B40: X92-Y09
B41: T36-T50 | C41: T36-T50 with 6th character=3 Note: Include T36.9, T37.9, T39.9, T41.4, T42.7, T43.9, T45.9, T47.9, and T49.9 with 5th character=3)(Intent information for these codes is included in the 5thcharacter and not the 6th
B42: T51-T65 | C42: T51-T65 with 6th character=3 Note: Include T51.9, T52.9, T53.9, T54.9, T56.9, T57.9, T58.0, T58.1, T58.9, T59.9, T60.9, T61.0, T61.1, T61.9, T62.9, T63.9, T64.0, T64.8, and T65.9 with a 5th character = 3 (Intent information for these codes is included in the 5thcharacter and not the 6th)
B43: T71 | C43: with 6th character = 3
B44: T74
B45: T76
B46: Y38
...

Sheet  Populations
A1: TBI-Specific State Injury Indicators Report
A2: State Population Data
A3: State: | D3: Data year:
B4: Enter your state name in A4 | E4: Enter the data year in D4
B7: Enter total population data by age group below | D7: Enter male population data by age group below | F7: Enter female population data by age group below | H7: Optional: Enter demographic population data | J7: Optional: Enter demographic population data | L7: Optional: Enter demographic population data | N7: Optional: Enter demographic population data | P7: Optional: Enter demographic population data | R7: Optional: Enter demographic population data | T7: Optional: Enter demographic population data
A8: Age | B8: Total | D8: Male | F8: Female | H8: White-Not Hispanic | J8: Hispanic | L8: Black-Not Hispanic | N8: Asian | P8: American Indian/Alaska Native | R8: Other | S8: Enter name of "Other" category in R8 | T8: Other | U8: Enter name of "Other" category in T8
A9: <1yr
A10: 1-4yrs
A11: 5-9yrs
A12: 10-14yrs
A13: 15-19yrs
A14: 20-24yrs
A15: 25-34yrs
A16: 35-44yrs
A17: 45-54yrs
A18: 55-64yrs
A19: 65-74yrs
A20: 75-84yrs
A21: 85+
A22: TOTAL | B22: =SUM(B9:B21) -> 0 | D22: =SUM(D9:D21) -> 0 | F22: =SUM(F9:F21) -> 0 | H22: =SUM(H9:H21) -> 0 | J22: =SUM(J9:J21) -> 0 | L22: =SUM(L9:L21) -> 0 | N22: =SUM(N9:N21) -> 0 | P22: =SUM(P9:P21) -> 0 | R22: =SUM(R9:R21) -> 0 | T22: =SUM(T9:T21) -> 0

Sheet Health Regions
A1: TBI-Specific State Injury Indicators Report
A2: Health Regions Data
A4: Age | B4: Region 1 | D4: Region 2 | F4: Region 3 | H4: Region 4 | J4: Region 5 | L4: Region 6 | N4: Region 7 | P4: Region 8 | R4: Region 9 | T4: Region 10 | V4: Region 11 | X4: Region 12 | Z4: Region 13 | AB4: Region 14
A5: <1yr
A6: 1-4yrs
A7: 5-9yrs
A8: 10-14yrs
A9: 15-19yrs
A10: 20-24yrs
A11: 25-34yrs
A12: 35-44yrs
A13: 45-54yrs
A14: 55-64yrs
A15: 65-74yrs
A16: 75-84yrs
A17: 85+
A18: TOTAL | B18: =SUM(B5:B17) -> 0 | D18: =SUM(D5:D17) -> 0 | F18: =SUM(F5:F17) -> 0 | H18: =SUM(H5:H17) -> 0 | J18: =SUM(J5:J17) -> 0 | L18: =SUM(L5:L17) -> 0 | N18: =SUM(N5:N17) -> 0 | P18: =SUM(P5:P17) -> 0 | R18: =SUM(R5:R17) -> 0 | T18: =SUM(T5:T17) -> 0 | V18: =SUM(V5:V17) -> 0 | X18: =SUM(X5:X17) -> 0 | Z18: =SUM(Z5:Z17) -> 0 | AB18: =SUM(AB5:AB17) -> 0

Sheet Fall-related_Injuries (2020)
B1: Data Input Tables Instructions: Enter your TBI-related injury data in the red cells below. The age-adjusted rates will automatically calculate in the results table. | F1: Optional: Unhide columns G through L to enter demographic data | M1: Optional: Unhide columns N through Z to enter health region data | AB1: Optional: Unhide columns AC through CA to show rate calculations and 2000 population weights | CC1: Results Table Age Adjusted Rates per 100,1000. Results will calculate automatically. | CF1: Optional: Unhide columns CG through DA to show demographic and Regional rates
D2: Sex Data | F2: Demographic Data | M2: Region Data | CD2: Age-adjusted Rates per 100,000 population
B3: Age | C3: Number of hospitalizations- Total | D3: Number of hospitalizations- Male | E3: Number of hospitalizations- Female | F3: Number of hospitalizations- White-Not Hispanic | G3: Number of hospitalizations- Hispanic | H3: Number of hospitalizations- Black-Not Hispanic | I3: Number of hospitalizations- Asian | J3: Number of hospitalizations- American Indian/Alaska Native | K3: =' Populations'!R8 -> Other | L3: =' Populations'!T8 -> Other | M3: Number of hospitalizations- Region 1 | N3: Number of hospitalizations- Region 2 | O3: Number of hospitalizations- Region 3 | P3: Number of hospitalizations- Region 4 | Q3: Number of hospitalizations- Region 5 | R3: Number of hospitalizations- Region 6 | S3: Number of hospitalizations- Region 7 | T3: Number of hospitalizations- Region 8 | U3: Number of hospitalizations- Region 9 | V3: Number of hospitalizations- Region 10 | W3: Number of hospitalizations- Region 11 | X3: Number of hospitalizations- Region 12 | Y3: Number of hospitalizations- Region 13 | Z3: Number of hospitalizations- Region 14 | AB3: State population - Total | AC3: Rate | AD3: State population - Male | AE3: Rate | AF3: State population - Female | AG3: Rate | AH3: State population - White-Not Hispanic | AI3: Rate | AJ3: State population - Hispanic | AK3: Rate | AL3: State population - Black-Not Hispanic | AM3: Rate | AN3: State population - Asian | AO3: Rate | AP3: State population - American Indian/Alaska Native | AQ3: Rate | AR3: =' Populations'!R8 -> Other | AS3: Rate | AT3: =' Populations'!T8 -> Other | AU3: Rate | AW3: Region 1 | AX3: Rate | AY3: Region 2 | AZ3: Rate | BA3: Region 3 | BB3: Rate | BC3: Region 4 | BD3: Rate | BE3: Region 5 | BF3: Rate | BG3: Region 6 | BH3: Rate | BI3: Region 7 | BJ3: Rate | BK3: Region 8 | BL3: Rate | BM3: Region 9 | BN3: Rate | BO3: Region 10 | BP3: Rate | BQ3: Region 11 | BR3: Rate | BS3: Region 12 | BT3: Rate | BU3: Region 13 | BV3: Rate | BW3: Region 14 | BX3: Rate | BZ3: 2000 population | CA3: Weight | CC3: Age | CD3: Total | CE3: Male | CF3: Female | CG3: White-Not Hispanic | CH3: Hispanic | CI3: Black-Not Hispanic | CJ3: Asian | CK3: American Indian/Alaska Native | CL3: =' Populations'!R8 -> Other | CM3: =' Populations'!T8 -> Other | CN3: Hospitalizations- Region 1 | CO3: Hospitalizations- Region 2 | CP3: Hospitalizations- Region 3 | CQ3: Hospitalizations- Region 4 | CR3: Hospitalizations- Region 5 | CS3: Hospitalizations- Region 6 | CT3: Hospitalizations- Region 7 | CU3: Hospitalizations- Region 8 | CV3: Hospitalizations- Region 9 | CW3: Hospitalizations- Region 10 | CX3: Hospitalizations- Region 11 | CY3: Hospitalizations- Region 12 | CZ3: Hospitalizations- Region 13 | DA3: Hospitalizations- Region 14
B4: <1yr | AB4: =' Populations'!B9 -> 0 | AC4: =IF(AB4=0,0,($C$4/$AB$4)*100000) -> 0 | AD4: =' Populations'!D9 -> 0 | AE4: =IF(AD4=0,0,($D$4/$AD$4)*100000) -> 0 | AF4: =' Populations'!F9 -> 0 | AG4: =IF(AF4=0,0,($E$4/$AF$4)*100000) -> 0 | AH4: =' Populations'!H9 -> 0 | AI4: =IF(AH4=0,0,($F$4/$AH$4)*100000) -> 0 | AJ4: =' Populations'!J9 -> 0 | AK4: =IF(AJ4=0,0,($G$4/$AJ$4)*100000) -> 0 | AL4: =' Populations'!L9 -> 0 | AM4: =IF(AL4=0,0,($H$4/$AL$4)*100000) -> 0 | AN4: =' Populations'!N9 -> 0 | AO4: =IF(AN4=0,0,($I$4/$AN$4)*100000) -> 0 | AP4: =' Populations'!P9 -> 0 | AQ4: =IF(AP4=0,0,($J$4/$AP$4)*100000) -> 0 | AR4: =' Populations'!R9 -> 0 | AS4: =IF(AR4=0,0,($K$4/$AR$4)*100000) -> 0 | AT4: =' Populations'!T9 -> 0 | AU4: =IF(AT4=0,0,($L$4/$AT$4)*100000) -> 0 | AW4: ='Health Regions'!B5 -> 0 | AX4: =IF(AW4=0,0,($M$4/$AW$4)*100000) -> 0 | AY4: ='Health Regions'!D5 -> 0 | AZ4: =IF(AY4=0,0,($N$4/$AY$4)*100000) -> 0 | BA4: ='Health Regions'!F5 -> 0 | BB4: =IF(BA4=0,0,($O$4/$BA$4)*100000) -> 0 | BC4: ='Health Regions'!H5 -> 0 | BD4: =IF(BC4=0,0,($P$4/$BC$4)*100000) -> 0 | BE4: ='Health Regions'!J5 -> 0 | BF4: =IF(BE4=0,0,($Q$4/$BE$4)*100000) -> 0 | BG4: ='Health Regions'!L5 -> 0 | BH4: =IF(BG4=0,0,($R$4/$BG$4)*100000) -> 0 | BI4: ='Health Regions'!N5 -> 0 | BJ4: =IF(BI4=0,0,($S$4/$BI$4)*100000) -> 0 | BK4: ='Health Regions'!P5 -> 0 | BL4: =IF(BK4=0,0,($T$4/$BK$4)*100000) -> 0 | BM4: ='Health Regions'!R5 -> 0 | BN4: =IF(BM4=0,0,($U$4/$BM$4)*100000) -> 0 | BO4: ='Health Regions'!T5 -> 0 | BP4: =IF(BO4=0,0,($V$4/$BO$4)*100000) -> 0 | BQ4: ='Health Regions'!V5 -> 0 | BR4: =IF(BQ4=0,0,($W$4/$BQ$4)*100000) -> 0 | BS4: ='Health Regions'!X5 -> 0 | BT4: =IF(BS4=0,0,($X$4/$BS$4)*100000) -> 0 | BU4: ='Health Regions'!Z5 -> 0 | BV4: =IF(BU4=0,0,($Y$4/$BU$4)*100000) -> 0 | BW4: ='Health Regions'!AB5 -> 0 | BX4: =IF(BW4=0,0,($Z$4/$BW$4)*100000) -> 0 | BZ4: 3795 | CA4: 0.013818 | CC4: <1yr | CD4: =AC4*CA4 -> 0 | CE4: =AE4*CA4 -> 0 | CF4: =AG4*CA4 -> 0 | CG4: =AI4*CA4 -> 0 | CH4: =AK4*CA4 -> 0 | CI4: =AM4*CA4 -> 0 | CJ4: =AO4*CA4 -> 0 | CK4: =AQ4*CA4 -> 0 | CL4: =AS4*CA4 -> 0 | CM4: =AU4*CA4 -> 0 | CN4: =AX4*CA4 -> 0 | CO4: =AZ4*CA4 -> 0 | CP4: =BB4*CA4 -> 0 | CQ4: =BD4*CA4 -> 0 | CR4: =BF4*CA4 -> 0 | CS4: =BH4*CA4 -> 0 | CT4: =BI4*CA4 -> 0 | CU4: =BL4*CA4 -> 0 | CV4: =BN4*CA4 -> 0 | CW4: =BP4*CA4 -> 0 | CX4: =BR4*CA4 -> 0 | CY4: =BT4*CA4 -> 0 | CZ4: =BV4*CA4 -> 0 | DA4: =BX4*CA4 -> 0
B5: 1-4yrs | AB5: =' Populations'!B10 -> 0 | AC5: =IF(AB5=0,0,($C$5/$AB$5)*100000) -> 0 | AD5: =' Populations'!D10 -> 0 | AE5: =IF(AD5=0,0,($D$5/$AD$5)*100000) -> 0 | AF5: =' Populations'!F10 -> 0 | AG5: =IF(AF5=0,0,($E$5/$AF$5)*100000) -> 0 | AH5: =' Populations'!H10 -> 0 | AI5: =IF(AH5=0,0,($F$5/$AH$5)*100000) -> 0 | AJ5: =' Populations'!J10 -> 0 | AK5: =IF(AJ5=0,0,($G$5/$AJ$5)*100000) -> 0 | AL5: =' Populations'!L10 -> 0 | AM5: =IF(AL5=0,0,($G$5/$AL$5)*100000) -> 0 | AN5: =' Populations'!N10 -> 0 | AO5: =IF(AN5=0,0,($I$5/$AN$5)*100000) -> 0 | AP5: =' Populations'!P10 -> 0 | AQ5: =IF(AP5=0,0,($J$5/$AP$5)*100000) -> 0 | AR5: =' Populations'!R10 -> 0 | AS5: =IF(AR5=0,0,($K$5/$AR$5)*100000) -> 0 | AT5: =' Populations'!T10 -> 0 | AU5: =IF(AT5=0,0,($L$5/$AT$5)*100000) -> 0 | AW5: ='Health Regions'!B6 -> 0 | AX5: =IF(AW5=0,0,($M$5/$AW$5)*100000) -> 0 | AY5: ='Health Regions'!D6 -> 0 | AZ5: =IF(AY5=0,0,($N$5/$AY$5)*100000) -> 0 | BA5: ='Health Regions'!F6 -> 0 | BB5: =IF(BA5=0,0,($O$5/$BA$5)*100000) -> 0 | BC5: ='Health Regions'!H6 -> 0 | BD5: =IF(BC5=0,0,($P$5/$BC$5)*100000) -> 0 | BE5: ='Health Regions'!J6 -> 0 | BF5: =IF(BE5=0,0,($Q$5/$BE$5)*100000) -> 0 | BG5: ='Health Regions'!L6 -> 0 | BH5: =IF(BG5=0,0,($R$5/$BG$5)*100000) -> 0 | BI5: ='Health Regions'!N6 -> 0 | BJ5: =IF(BI5=0,0,($S$5/$BI$5)*100000) -> 0 | BK5: ='Health Regions'!P6 -> 0 | BL5: =IF(BK5=0,0,($T$5/$BK$5)*100000) -> 0 | BM5: ='Health Regions'!R6 -> 0 | BN5: =IF(BM5=0,0,($U$5/$BM$5)*100000) -> 0 | BO5: ='Health Regions'!T6 -> 0 | BP5: =IF(BO5=0,0,($V$5/$BO$5)*100000) -> 0 | BQ5: ='Health Regions'!V6 -> 0 | BR5: =IF(BQ5=0,0,($W$5/$BQ$5)*100000) -> 0 | BS5: ='Health Regions'!X6 -> 0 | BT5: =IF(BS5=0,0,($X$5/$BS$5)*100000) -> 0 | BU5: ='Health Regions'!Z6 -> 0 | BV5: =IF(BU5=0,0,($Y$5/$BU$5)*100000) -> 0 | BW5: ='Health Regions'!AB6 -> 0 | BX5: =IF(BW5=0,0,($Z$5/$BW$5)*100000) -> 0 | BZ5: 15192 | CA5: 0.055317 | CC5: 1-4yrs | CD5: =AC5*CA5 -> 0 | CE5: =AE5*CA5 -> 0 | CF5: =AG5*CA5 -> 0 | CG5: =AI5*CA5 -> 0 | CH5: =AK5*CA5 -> 0 | CI5: =AM5*CA5 -> 0 | CJ5: =AO5*CA5 -> 0 | CK5: =AQ5*CA5 -> 0 | CL5: =AS5*CA5 -> 0 | CM5: =AU5*CA5 -> 0 | CN5: =AX5*CA5 -> 0 | CO5: =AZ5*CA5 -> 0 | CP5: =BB5*CA5 -> 0 | CQ5: =BD5*CA5 -> 0 | CR5: =BF5*CA5 -> 0 | CS5: =BH5*CA5 -> 0 | CT5: =BI5*CA5 -> 0 | CU5: =BL5*CA5 -> 0 | CV5: =BN5*CA5 -> 0 | CW5: =BP5*CA5 -> 0 | CX5: =BR5*CA5 -> 0 | CY5: =BT5*CA5 -> 0 | CZ5: =BV5*CA5 -> 0 | DA5: =BX5*CA5 -> 0
B6: 5-9yrs | AB6: =' Populations'!B11 -> 0 | AC6: =IF(AB6=0,0,($C$6/$AB$6)*100000) -> 0 | AD6: =' Populations'!D11 -> 0 | AE6: =IF(AD6=0,0,($D$6/$AD$6)*100000) -> 0 | AF6: =' Populations'!F11 -> 0 | AG6: =IF(AF6=0,0,($E$6/$AF$6)*100000) -> 0 | AH6: =' Populations'!H11 -> 0 | AI6: =IF(AH6=0,0,($F$6/$AH$6)*100000) -> 0 | AJ6: =' Populations'!J11 -> 0 | AK6: =IF(AJ6=0,0,($G$6/$AJ$6)*100000) -> 0 | AL6: =' Populations'!L11 -> 0 | AM6: =IF(AL6=0,0,($G$6/$AL$6)*100000) -> 0 | AN6: =' Populations'!N11 -> 0 | AO6: =IF(AN6=0,0,($I$6/$AN$6)*100000) -> 0 | AP6: =' Populations'!P11 -> 0 | AQ6: =IF(AP6=0,0,($J$6/$AP$6)*100000) -> 0 | AR6: =' Populations'!R11 -> 0 | AS6: =IF(AR6=0,0,($K$6/$AR$6)*100000) -> 0 | AT6: =' Populations'!T11 -> 0 | AU6: =IF(AT6=0,0,($L$6/$AT$6)*100000) -> 0 | AW6: ='Health Regions'!B7 -> 0 | AX6: =IF(AW6=0,0,($M$6/$AW$6)*100000) -> 0 | AY6: ='Health Regions'!D7 -> 0 | AZ6: =IF(AY6=0,0,($N$6/$AY$6)*100000) -> 0 | BA6: ='Health Regions'!F7 -> 0 | BB6: =IF(BA6=0,0,($O$6/$BA$6)*100000) -> 0 | BC6: ='Health Regions'!H7 -> 0 | BD6: =IF(BC6=0,0,($P$6/$BC$6)*100000) -> 0 | BE6: ='Health Regions'!J7 -> 0 | BF6: =IF(BE6=0,0,($Q$6/$BE$6)*100000) -> 0 | BG6: ='Health Regions'!L7 -> 0 | BH6: =IF(BG6=0,0,($R$6/$BG$6)*100000) -> 0 | BI6: ='Health Regions'!N7 -> 0 | BJ6: =IF(BI6=0,0,($S$6/$BI$6)*100000) -> 0 | BK6: ='Health Regions'!P7 -> 0 | BL6: =IF(BK6=0,0,($T$6/$BK$6)*100000) -> 0 | BM6: ='Health Regions'!R7 -> 0 | BN6: =IF(BM6=0,0,($U$6/$BM$6)*100000) -> 0 | BO6: ='Health Regions'!T7 -> 0 | BP6: =IF(BO6=0,0,($V$6/$BO$6)*100000) -> 0 | BQ6: ='Health Regions'!V7 -> 0 | BR6: =IF(BQ6=0,0,($W$6/$BQ$6)*100000) -> 0 | BS6: ='Health Regions'!X7 -> 0 | BT6: =IF(BS6=0,0,($X$6/$BS$6)*100000) -> 0 | BU6: ='Health Regions'!Z7 -> 0 | BV6: =IF(BU6=0,0,($Y$6/$BU$6)*100000) -> 0 | BW6: ='Health Regions'!AB7 -> 0 | BX6: =IF(BW6=0,0,($Z$6/$BW$6)*100000) -> 0 | BZ6: 19920 | CA6: 0.072533 | CC6: 5-9yrs | CD6: =AC6*CA6 -> 0 | CE6: =AE6*CA6 -> 0 | CF6: =AG6*CA6 -> 0 | CG6: =AI6*CA6 -> 0 | CH6: =AK6*CA6 -> 0 | CI6: =AM6*CA6 -> 0 | CJ6: =AO6*CA6 -> 0 | CK6: =AQ6*CA6 -> 0 | CL6: =AS6*CA6 -> 0 | CM6: =AU6*CA6 -> 0 | CN6: =AX6*CA6 -> 0 | CO6: =AZ6*CA6 -> 0 | CP6: =BB6*CA6 -> 0 | CQ6: =BD6*CA6 -> 0 | CR6: =BF6*CA6 -> 0 | CS6: =BH6*CA6 -> 0 | CT6: =BI6*CA6 -> 0 | CU6: =BL6*CA6 -> 0 | CV6: =BN6*CA6 -> 0 | CW6: =BP6*CA6 -> 0 | CX6: =BR6*CA6 -> 0 | CY6: =BT6*CA6 -> 0 | CZ6: =BV6*CA6 -> 0 | DA6: =BX6*CA6 -> 0
B7: 10-14yrs | AB7: =' Populations'!B12 -> 0 | AC7: =IF(AB7=0,0,($C$7/$AB$7)*100000) -> 0 | AD7: =' Populations'!D12 -> 0 | AE7: =IF(AD7=0,0,($D$7/$AD$7)*100000) -> 0 | AF7: =' Populations'!F12 -> 0 | AG7: =IF(AF7=0,0,($E$7/$AF$7)*100000) -> 0 | AH7: =' Populations'!H12 -> 0 | AI7: =IF(AH7=0,0,($F$7/$AH$7)*100000) -> 0 | AJ7: =' Populations'!J12 -> 0 | AK7: =IF(AJ7=0,0,($G$7/$AJ$7)*100000) -> 0 | AL7: =' Populations'!L12 -> 0 | AM7: =IF(AL7=0,0,($G$7/$AL$7)*100000) -> 0 | AN7: =' Populations'!N12 -> 0 | AO7: =IF(AN7=0,0,($I$7/$AN$7)*100000) -> 0 | AP7: =' Populations'!P12 -> 0 | AQ7: =IF(AP7=0,0,($J$7/$AP$7)*100000) -> 0 | AR7: =' Populations'!R12 -> 0 | AS7: =IF(AR7=0,0,($K$7/$AR$7)*100000) -> 0 | AT7: =' Populations'!T12 -> 0 | AU7: =IF(AT7=0,0,($L$7/$AT$7)*100000) -> 0 | AW7: ='Health Regions'!B8 -> 0 | AX7: =IF(AW7=0,0,($M$7/$AW$7)*100000) -> 0 | AY7: ='Health Regions'!D8 -> 0 | AZ7: =IF(AY7=0,0,($N$7/$AY$7)*100000) -> 0 | BA7: ='Health Regions'!F8 -> 0 | BB7: =IF(BA7=0,0,($O$7/$BA$7)*100000) -> 0 | BC7: ='Health Regions'!H8 -> 0 | BD7: =IF(BC7=0,0,($P$7/$BC$7)*100000) -> 0 | BE7: ='Health Regions'!J8 -> 0 | BF7: =IF(BE7=0,0,($Q$7/$BE$7)*100000) -> 0 | BG7: ='Health Regions'!L8 -> 0 | BH7: =IF(BG7=0,0,($R$7/$BG$7)*100000) -> 0 | BI7: ='Health Regions'!N8 -> 0 | BJ7: =IF(BI7=0,0,($S$7/$BI$7)*100000) -> 0 | BK7: ='Health Regions'!P8 -> 0 | BL7: =IF(BK7=0,0,($T$7/$BK$7)*100000) -> 0 | BM7: ='Health Regions'!R8 -> 0 | BN7: =IF(BM7=0,0,($U$7/$BM$7)*100000) -> 0 | BO7: ='Health Regions'!T8 -> 0 | BP7: =IF(BO7=0,0,($V$7/$BO$7)*100000) -> 0 | BQ7: ='Health Regions'!V8 -> 0 | BR7: =IF(BQ7=0,0,($W$7/$BQ$7)*100000) -> 0 | BS7: ='Health Regions'!X8 -> 0 | BT7: =IF(BS7=0,0,($X$7/$BS$7)*100000) -> 0 | BU7: ='Health Regions'!Z8 -> 0 | BV7: =IF(BU7=0,0,($Y$7/$BU$7)*100000) -> 0 | BW7: ='Health Regions'!AB8 -> 0 | BX7: =IF(BW7=0,0,($Z$7/$BW$7)*100000) -> 0 | BZ7: 20057 | CA7: 0.073032 | CC7: 10-14yrs | CD7: =AC7*CA7 -> 0 | CE7: =AE7*CA7 -> 0 | CF7: =AG7*CA7 -> 0 | CG7: =AI7*CA7 -> 0 | CH7: =AK7*CA7 -> 0 | CI7: =AM7*CA7 -> 0 | CJ7: =AO7*CA7 -> 0 | CK7: =AQ7*CA7 -> 0 | CL7: =AS7*CA7 -> 0 | CM7: =AU7*CA7 -> 0 | CN7: =AX7*CA7 -> 0 | CO7: =AZ7*CA7 -> 0 | CP7: =BB7*CA7 -> 0 | CQ7: =BD7*CA7 -> 0 | CR7: =BF7*CA7 -> 0 | CS7: =BH7*CA7 -> 0 | CT7: =BI7*CA7 -> 0 | CU7: =BL7*CA7 -> 0 | CV7: =BN7*CA7 -> 0 | CW7: =BP7*CA7 -> 0 | CX7: =BR7*CA7 -> 0 | CY7: =BT7*CA7 -> 0 | CZ7: =BV7*CA7 -> 0 | DA7: =BX7*CA7 -> 0
B8: 15-19yrs | AB8: =' Populations'!B13 -> 0 | AC8: =IF(AB8=0,0,($C$8/$AB$8)*100000) -> 0 | AD8: =' Populations'!D13 -> 0 | AE8: =IF(AD8=0,0,($D$8/$AD$8)*100000) -> 0 | AF8: =' Populations'!F13 -> 0 | AG8: =IF(AF8=0,0,($E$8/$AF$8)*100000) -> 0 | AH8: =' Populations'!H13 -> 0 | AI8: =IF(AH8=0,0,($F$8/$AH$8)*100000) -> 0 | AJ8: =' Populations'!J13 -> 0 | AK8: =IF(AJ8=0,0,($G$8/$AJ$8)*100000) -> 0 | AL8: =' Populations'!L13 -> 0 | AM8: =IF(AL8=0,0,($G$8/$AL$8)*100000) -> 0 | AN8: =' Populations'!N13 -> 0 | AO8: =IF(AN8=0,0,($I$8/$AN$8)*100000) -> 0 | AP8: =' Populations'!P13 -> 0 | AQ8: =IF(AP8=0,0,($J$8/$AP$8)*100000) -> 0 | AR8: =' Populations'!R13 -> 0 | AS8: =IF(AR8=0,0,($K$8/$AR$8)*100000) -> 0 | AT8: =' Populations'!T13 -> 0 | AU8: =IF(AT8=0,0,($L$8/$AT$8)*100000) -> 0 | AW8: ='Health Regions'!B9 -> 0 | AX8: =IF(AW8=0,0,($M$8/$AW$8)*100000) -> 0 | AY8: ='Health Regions'!D9 -> 0 | AZ8: =IF(AY8=0,0,($N$8/$AY$8)*100000) -> 0 | BA8: ='Health Regions'!F9 -> 0 | BB8: =IF(BA8=0,0,($O$8/$BA$8)*100000) -> 0 | BC8: ='Health Regions'!H9 -> 0 | BD8: =IF(BC8=0,0,($P$8/$BC$8)*100000) -> 0 | BE8: ='Health Regions'!J9 -> 0 | BF8: =IF(BE8=0,0,($Q$8/$BE$8)*100000) -> 0 | BG8: ='Health Regions'!L9 -> 0 | BH8: =IF(BG8=0,0,($R$8/$BG$8)*100000) -> 0 | BI8: ='Health Regions'!N9 -> 0 | BJ8: =IF(BI8=0,0,($S$8/$BI$8)*100000) -> 0 | BK8: ='Health Regions'!P9 -> 0 | BL8: =IF(BK8=0,0,($T$8/$BK$8)*100000) -> 0 | BM8: ='Health Regions'!R9 -> 0 | BN8: =IF(BM8=0,0,($U$8/$AW$8)*100000) -> 0 | BO8: ='Health Regions'!T9 -> 0 | BP8: =IF(BO8=0,0,($V$8/$BO$8)*100000) -> 0 | BQ8: ='Health Regions'!V9 -> 0 | BR8: =IF(BQ8=0,0,($W$8/$BQ$8)*100000) -> 0 | BS8: ='Health Regions'!X9 -> 0 | BT8: =IF(BS8=0,0,($X$8/$BS$8)*100000) -> 0 | BU8: ='Health Regions'!Z9 -> 0 | BV8: =IF(BU8=0,0,($Y$8/$BU$8)*100000) -> 0 | BW8: ='Health Regions'!AB9 -> 0 | BX8: =IF(BW8=0,0,($Z$8/$BW$8)*100000) -> 0 | BZ8: 19820 | CA8: 0.072169 | CC8: 15-19yrs | CD8: =AC8*CA8 -> 0 | CE8: =AE8*CA8 -> 0 | CF8: =AG8*CA8 -> 0 | CG8: =AI8*CA8 -> 0 | CH8: =AK8*CA8 -> 0 | CI8: =AM8*CA8 -> 0 | CJ8: =AO8*CA8 -> 0 | CK8: =AQ8*CA8 -> 0 | CL8: =AS8*CA8 -> 0 | CM8: =AU8*CA8 -> 0 | CN8: =AX8*CA8 -> 0 | CO8: =AZ8*CA8 -> 0 | CP8: =BB8*CA8 -> 0 | CQ8: =BD8*CA8 -> 0 | CR8: =BF8*CA8 -> 0 | CS8: =BH8*CA8 -> 0 | CT8: =BI8*CA8 -> 0 | CU8: =BL8*CA8 -> 0 | CV8: =BN8*CA8 -> 0 | CW8: =BP8*CA8 -> 0 | CX8: =BR8*CA8 -> 0 | CY8: =BT8*CA8 -> 0 | CZ8: =BV8*CA8 -> 0 | DA8: =BX8*CA8 -> 0
B9: 20-24yrs | AB9: =' Populations'!B14 -> 0 | AC9: =IF(AB9=0,0,($C$9/$AB$9)*100000) -> 0 | AD9: =' Populations'!D14 -> 0 | AE9: =IF(AD9=0,0,($D$9/$AD$9)*100000) -> 0 | AF9: =' Populations'!F14 -> 0 | AG9: =IF(AF9=0,0,($E$9/$AF$9)*100000) -> 0 | AH9: =' Populations'!H14 -> 0 | AI9: =IF(AH9=0,0,($F$9/$AH$9)*100000) -> 0 | AJ9: =' Populations'!J14 -> 0 | AK9: =IF(AJ9=0,0,($G$9/$AJ$9)*100000) -> 0 | AL9: =' Populations'!L14 -> 0 | AM9: =IF(AL9=0,0,($G$9/$AL$9)*100000) -> 0 | AN9: =' Populations'!N14 -> 0 | AO9: =IF(AN9=0,0,($I$9/$AN$9)*100000) -> 0 | AP9: =' Populations'!P14 -> 0 | AQ9: =IF(AP9=0,0,($J$9/$AP$9)*100000) -> 0 | AR9: =' Populations'!R14 -> 0 | AS9: =IF(AR9=0,0,($K$9/$AR$9)*100000) -> 0 | AT9: =' Populations'!T14 -> 0 | AU9: =IF(AT9=0,0,($L$9/$AT$9)*100000) -> 0 | AW9: ='Health Regions'!B10 -> 0 | AX9: =IF(AW9=0,0,($M$9/$AW$9)*100000) -> 0 | AY9: ='Health Regions'!D10 -> 0 | AZ9: =IF(AY9=0,0,($N$9/$AY$9)*100000) -> 0 | BA9: ='Health Regions'!F10 -> 0 | BB9: =IF(BA9=0,0,($O$9/$BA$9)*100000) -> 0 | BC9: ='Health Regions'!H10 -> 0 | BD9: =IF(BC9=0,0,($P$9/$BC$9)*100000) -> 0 | BE9: ='Health Regions'!J10 -> 0 | BF9: =IF(BE9=0,0,($Q$9/$BE$9)*100000) -> 0 | BG9: ='Health Regions'!L10 -> 0 | BH9: =IF(BG9=0,0,($R$9/$BG$9)*100000) -> 0 | BI9: ='Health Regions'!N10 -> 0 | BJ9: =IF(BI9=0,0,($S$9/$BI$9)*100000) -> 0 | BK9: ='Health Regions'!P10 -> 0 | BL9: =IF(BK9=0,0,($T$9/$BK$9)*100000) -> 0 | BM9: ='Health Regions'!R10 -> 0 | BN9: =IF(BM9=0,0,($U$9/$BM$9)*100000) -> 0 | BO9: ='Health Regions'!T10 -> 0 | BP9: =IF(BO9=0,0,($V$9/$BO$9)*100000) -> 0 | BQ9: ='Health Regions'!V10 -> 0 | BR9: =IF(BQ9=0,0,($W$9/$BQ$9)*100000) -> 0 | BS9: ='Health Regions'!X10 -> 0 | BT9: =IF(BS9=0,0,($X$9/$BS$9)*100000) -> 0 | BU9: ='Health Regions'!Z10 -> 0 | BV9: =IF(BU9=0,0,($Y$9/$BU$9)*100000) -> 0 | BW9: ='Health Regions'!AB10 -> 0 | BX9: =IF(BW9=0,0,($Z$9/$BW$9)*100000) -> 0 | BZ9: 18257 | CA9: 0.066478 | CC9: 20-24yrs | CD9: =AC9*CA9 -> 0 | CE9: =AE9*CA9 -> 0 | CF9: =AG9*CA9 -> 0 | CG9: =AI9*CA9 -> 0 | CH9: =AK9*CA9 -> 0 | CI9: =AM9*CA9 -> 0 | CJ9: =AO9*CA9 -> 0 | CK9: =AQ9*CA9 -> 0 | CL9: =AS9*CA9 -> 0 | CM9: =AU9*CA9 -> 0 | CN9: =AX9*CA9 -> 0 | CO9: =AZ9*CA9 -> 0 | CP9: =BB9*CA9 -> 0 | CQ9: =BD9*CA9 -> 0 | CR9: =BF9*CA9 -> 0 | CS9: =BH9*CA9 -> 0 | CT9: =BI9*CA9 -> 0 | CU9: =BL9*CA9 -> 0 | CV9: =BN9*CA9 -> 0 | CW9: =BP9*CA9 -> 0 | CX9: =BR9*CA9 -> 0 | CY9: =BT9*CA9 -> 0 | CZ9: =BV9*CA9 -> 0 | DA9: =BX9*CA9 -> 0
B10: 25-34yrs | AB10: =' Populations'!B15 -> 0 | AC10: =IF(AB10=0,0,($C$10/$AB$10)*100000) -> 0 | AD10: =' Populations'!D15 -> 0 | AE10: =IF(AD10=0,0,($D$10/$AD$10)*100000) -> 0 | AF10: =' Populations'!F15 -> 0 | AG10: =IF(AF10=0,0,($E$10/$AF$10)*100000) -> 0 | AH10: =' Populations'!H15 -> 0 | AI10: =IF(AH10=0,0,($F$10/$AH$10)*100000) -> 0 | AJ10: =' Populations'!J15 -> 0 | AK10: =IF(AJ10=0,0,($G$10/$AJ$10)*100000) -> 0 | AL10: =' Populations'!L15 -> 0 | AM10: =IF(AL10=0,0,($G$10/$AL$10)*100000) -> 0 | AN10: =' Populations'!N15 -> 0 | AO10: =IF(AN10=0,0,($I$10/$AN$10)*100000) -> 0 | AP10: =' Populations'!P15 -> 0 | AQ10: =IF(AP10=0,0,($J$10/$AP$10)*100000) -> 0 | AR10: =' Populations'!R15 -> 0 | AS10: =IF(AR10=0,0,($K$10/$AR$10)*100000) -> 0 | AT10: =' Populations'!T15 -> 0 | AU10: =IF(AT10=0,0,($L$10/$AT$10)*100000) -> 0 | AW10: ='Health Regions'!B11 -> 0 | AX10: =IF(AW10=0,0,($M$10/$AW$10)*100000) -> 0 | AY10: ='Health Regions'!D11 -> 0 | AZ10: =IF(AY10=0,0,($N$10/$AY$10)*100000) -> 0 | BA10: ='Health Regions'!F11 -> 0 | BB10: =IF(BA10=0,0,($O$10/$BA$10)*100000) -> 0 | BC10: ='Health Regions'!H11 -> 0 | BD10: =IF(BC10=0,0,($P$10/$BC$10)*100000) -> 0 | BE10: ='Health Regions'!J11 -> 0 | BF10: =IF(BE10=0,0,($Q$10/$BE$10)*100000) -> 0 | BG10: ='Health Regions'!L11 -> 0 | BH10: =IF(BG10=0,0,($R$10/$BG$10)*100000) -> 0 | BI10: ='Health Regions'!N11 -> 0 | BJ10: =IF(BI10=0,0,($S$10/$BI$10)*100000) -> 0 | BK10: ='Health Regions'!P11 -> 0 | BL10: =IF(BK10=0,0,($T$10/$BK$10)*100000) -> 0 | BM10: ='Health Regions'!R11 -> 0 | BN10: =IF(BM10=0,0,($U$10/$BM$10)*100000) -> 0 | BO10: ='Health Regions'!T11 -> 0 | BP10: =IF(BO10=0,0,($V$10/$BO$10)*100000) -> 0 | BQ10: ='Health Regions'!V11 -> 0 | BR10: =IF(BQ10=0,0,($W$10/$BQ$10)*100000) -> 0 | BS10: ='Health Regions'!X11 -> 0 | BT10: =IF(BS10=0,0,($X$10/$BS$10)*100000) -> 0 | BU10: ='Health Regions'!Z11 -> 0 | BV10: =IF(BU10=0,0,($Y$10/$BU$10)*100000) -> 0 | BW10: ='Health Regions'!AB11 -> 0 | BX10: =IF(BW10=0,0,($Z$10/$BW$10)*100000) -> 0 | BZ10: 37233 | CA10: 0.135573 | CC10: 25-34yrs | CD10: =AC10*CA10 -> 0 | CE10: =AE10*CA10 -> 0 | CF10: =AG10*CA10 -> 0 | CG10: =AI10*CA10 -> 0 | CH10: =AK10*CA10 -> 0 | CI10: =AM10*CA10 -> 0 | CJ10: =AO10*CA10 -> 0 | CK10: =AQ10*CA10 -> 0 | CL10: =AS10*CA10 -> 0 | CM10: =AU10*CA10 -> 0 | CN10: =AX10*CA10 -> 0 | CO10: =AZ10*CA10 -> 0 | CP10: =BB10*CA10 -> 0 | CQ10: =BD10*CA10 -> 0 | CR10: =BF10*CA10 -> 0 | CS10: =BH10*CA10 -> 0 | CT10: =BI10*CA10 -> 0 | CU10: =BL10*CA10 -> 0 | CV10: =BN10*CA10 -> 0 | CW10: =BP10*CA10 -> 0 | CX10: =BR10*CA10 -> 0 | CY10: =BT10*CA10 -> 0 | CZ10: =BV10*CA10 -> 0 | DA10: =BX10*CA10 -> 0
B11: 35-44yrs | AB11: =' Populations'!B16 -> 0 | AC11: =IF(AB11=0,0,($C$11/$AB$11)*100000) -> 0 | AD11: =' Populations'!D16 -> 0 | AE11: =IF(AD11=0,0,($D$11/$AD$11)*100000) -> 0 | AF11: =' Populations'!F16 -> 0 | AG11: =IF(AF11=0,0,($E$11/$AF$11)*100000) -> 0 | AH11: =' Populations'!H16 -> 0 | AI11: =IF(AH11=0,0,($F$11/$AH$11)*100000) -> 0 | AJ11: =' Populations'!J16 -> 0 | AK11: =IF(AJ11=0,0,($G$11/$AJ$11)*100000) -> 0 | AL11: =' Populations'!L16 -> 0 | AM11: =IF(AL11=0,0,($G$11/$AL$11)*100000) -> 0 | AN11: =' Populations'!N16 -> 0 | AO11: =IF(AN11=0,0,($I$11/$AN$11)*100000) -> 0 | AP11: =' Populations'!P16 -> 0 | AQ11: =IF(AP11=0,0,($J$11/$AP$11)*100000) -> 0 | AR11: =' Populations'!R16 -> 0 | AS11: =IF(AR11=0,0,($K$11/$AR$11)*100000) -> 0 | AT11: =' Populations'!T16 -> 0 | AU11: =IF(AT11=0,0,($L$11/$AT$11)*100000) -> 0 | AW11: ='Health Regions'!B12 -> 0 | AX11: =IF(AW11=0,0,($M$11/$AW$11)*100000) -> 0 | AY11: ='Health Regions'!D12 -> 0 | AZ11: =IF(AY11=0,0,($N$11/$AY$11)*100000) -> 0 | BA11: ='Health Regions'!F12 -> 0 | BB11: =IF(BA11=0,0,($O$11/$BA$11)*100000) -> 0 | BC11: ='Health Regions'!H12 -> 0 | BD11: =IF(BC11=0,0,($P$11/$BC$11)*100000) -> 0 | BE11: ='Health Regions'!J12 -> 0 | BF11: =IF(BE11=0,0,($Q$11/$BE$11)*100000) -> 0 | BG11: ='Health Regions'!L12 -> 0 | BH11: =IF(BG11=0,0,($R$11/$BG$11)*100000) -> 0 | BI11: ='Health Regions'!N12 -> 0 | BJ11: =IF(BI11=0,0,($S$11/$BI$11)*100000) -> 0 | BK11: ='Health Regions'!P12 -> 0 | BL11: =IF(BK11=0,0,($T$11/$BK$11)*100000) -> 0 | BM11: ='Health Regions'!R12 -> 0 | BN11: =IF(BM11=0,0,($U$11/$BM$11)*100000) -> 0 | BO11: ='Health Regions'!T12 -> 0 | BP11: =IF(BO11=0,0,($V$11/$BO$11)*100000) -> 0 | BQ11: ='Health Regions'!V12 -> 0 | BR11: =IF(BQ11=0,0,($W$11/$BQ$11)*100000) -> 0 | BS11: ='Health Regions'!X12 -> 0 | BT11: =IF(BS11=0,0,($X$11/$BS$11)*100000) -> 0 | BU11: ='Health Regions'!Z12 -> 0 | BV11: =IF(BU11=0,0,($Y$11/$BU$11)*100000) -> 0 | BW11: ='Health Regions'!AB12 -> 0 | BX11: =IF(BW11=0,0,($Z$11/$BW$11)*100000) -> 0 | BZ11: 44659 | CA11: 0.162613 | CC11: 35-44yrs | CD11: =AC11*CA11 -> 0 | CE11: =AE11*CA11 -> 0 | CF11: =AG11*CA11 -> 0 | CG11: =AI11*CA11 -> 0 | CH11: =AK11*CA11 -> 0 | CI11: =AM11*CA11 -> 0 | CJ11: =AO11*CA11 -> 0 | CK11: =AQ11*CA11 -> 0 | CL11: =AS11*CA11 -> 0 | CM11: =AU11*CA11 -> 0 | CN11: =AX11*CA11 -> 0 | CO11: =AZ11*CA11 -> 0 | CP11: =BB11*CA11 -> 0 | CQ11: =BD11*CA11 -> 0 | CR11: =BF11*CA11 -> 0 | CS11: =BH11*CA11 -> 0 | CT11: =BI11*CA11 -> 0 | CU11: =BL11*CA11 -> 0 | CV11: =BN11*CA11 -> 0 | CW11: =BP11*CA11 -> 0 | CX11: =BR11*CA11 -> 0 | CY11: =BT11*CA11 -> 0 | CZ11: =BV11*CA11 -> 0 | DA11: =BX11*CA11 -> 0
B12: 45-54yrs | AB12: =' Populations'!B17 -> 0 | AC12: =IF(AB12=0,0,($C$12/$AB$12)*100000) -> 0 | AD12: =' Populations'!D17 -> 0 | AE12: =IF(AD12=0,0,($D$12/$AD$12)*100000) -> 0 | AF12: =' Populations'!F17 -> 0 | AG12: =IF(AF12=0,0,($E$12/$AF$12)*100000) -> 0 | AH12: =' Populations'!H17 -> 0 | AI12: =IF(AH12=0,0,($F$12/$AH$12)*100000) -> 0 | AJ12: =' Populations'!J17 -> 0 | AK12: =IF(AJ12=0,0,($G$12/$AJ$12)*100000) -> 0 | AL12: =' Populations'!L17 -> 0 | AM12: =IF(AL12=0,0,($G$12/$AL$12)*100000) -> 0 | AN12: =' Populations'!N17 -> 0 | AO12: =IF(AN12=0,0,($I$12/$AN$12)*100000) -> 0 | AP12: =' Populations'!P17 -> 0 | AQ12: =IF(AP12=0,0,($J$12/$AP$12)*100000) -> 0 | AR12: =' Populations'!R17 -> 0 | AS12: =IF(AR12=0,0,($K$12/$AR$12)*100000) -> 0 | AT12: =' Populations'!T17 -> 0 | AU12: =IF(AT12=0,0,($L$12/$AT$12)*100000) -> 0 | AW12: ='Health Regions'!B13 -> 0 | AX12: =IF(AW12=0,0,($M$12/$AW$12)*100000) -> 0 | AY12: ='Health Regions'!D13 -> 0 | AZ12: =IF(AY12=0,0,($N$12/$AY$12)*100000) -> 0 | BA12: ='Health Regions'!F13 -> 0 | BB12: =IF(BA12=0,0,($O$12/$BA$12)*100000) -> 0 | BC12: ='Health Regions'!H13 -> 0 | BD12: =IF(BC12=0,0,($P$12/$BC$12)*100000) -> 0 | BE12: ='Health Regions'!J13 -> 0 | BF12: =IF(BE12=0,0,($Q$12/$BE$12)*100000) -> 0 | BG12: ='Health Regions'!L13 -> 0 | BH12: =IF(BG12=0,0,($R$12/$BG$12)*100000) -> 0 | BI12: ='Health Regions'!N13 -> 0 | BJ12: =IF(BI12=0,0,($S$12/$BI$12)*100000) -> 0 | BK12: ='Health Regions'!P13 -> 0 | BL12: =IF(BK12=0,0,($T$12/$BK$12)*100000) -> 0 | BM12: ='Health Regions'!R13 -> 0 | BN12: =IF(BM12=0,0,($U$12/$BM$12)*100000) -> 0 | BO12: ='Health Regions'!T13 -> 0 | BP12: =IF(BO12=0,0,($V$12/$BO$12)*100000) -> 0 | BQ12: ='Health Regions'!V13 -> 0 | BR12: =IF(BQ12=0,0,($W$12/$BQ$12)*100000) -> 0 | BS12: ='Health Regions'!X13 -> 0 | BT12: =IF(BS12=0,0,($X$12/$BS$12)*100000) -> 0 | BU12: ='Health Regions'!Z13 -> 0 | BV12: =IF(BU12=0,0,($Y$12/$BU$12)*100000) -> 0 | BW12: ='Health Regions'!AB13 -> 0 | BX12: =IF(BW12=0,0,($Z$12/$BW$12)*100000) -> 0 | BZ12: 37030 | CA12: 0.134834 | CC12: 45-54yrs | CD12: =AC12*CA12 -> 0 | CE12: =AE12*CA12 -> 0 | CF12: =AG12*CA12 -> 0 | CG12: =AI12*CA12 -> 0 | CH12: =AK12*CA12 -> 0 | CI12: =AM12*CA12 -> 0 | CJ12: =AO12*CA12 -> 0 | CK12: =AQ12*CA12 -> 0 | CL12: =AS12*CA12 -> 0 | CM12: =AU12*CA12 -> 0 | CN12: =AX12*CA12 -> 0 | CO12: =AZ12*CA12 -> 0 | CP12: =BB12*CA12 -> 0 | CQ12: =BD12*CA12 -> 0 | CR12: =BF12*CA12 -> 0 | CS12: =BH12*CA12 -> 0 | CT12: =BI12*CA12 -> 0 | CU12: =BL12*CA12 -> 0 | CV12: =BN12*CA12 -> 0 | CW12: =BP12*CA12 -> 0 | CX12: =BR12*CA12 -> 0 | CY12: =BT12*CA12 -> 0 | CZ12: =BV12*CA12 -> 0 | DA12: =BX12*CA12 -> 0
B13: 55-64yrs | AB13: =' Populations'!B18 -> 0 | AC13: =IF(AB13=0,0,($C$13/$AB$13)*100000) -> 0 | AD13: =' Populations'!D18 -> 0 | AE13: =IF(AD13=0,0,($D$13/$AD$13)*100000) -> 0 | AF13: =' Populations'!F18 -> 0 | AG13: =IF(AF13=0,0,($E$13/$AF$13)*100000) -> 0 | AH13: =' Populations'!H18 -> 0 | AI13: =IF(AH13=0,0,($F$13/$AH$13)*100000) -> 0 | AJ13: =' Populations'!J18 -> 0 | AK13: =IF(AJ13=0,0,($G$13/$AJ$13)*100000) -> 0 | AL13: =' Populations'!L18 -> 0 | AM13: =IF(AL13=0,0,($G$13/$AL$13)*100000) -> 0 | AN13: =' Populations'!N18 -> 0 | AO13: =IF(AN13=0,0,($I$13/$AN$13)*100000) -> 0 | AP13: =' Populations'!P18 -> 0 | AQ13: =IF(AP13=0,0,($J$13/$AP$13)*100000) -> 0 | AR13: =' Populations'!R18 -> 0 | AS13: =IF(AR13=0,0,($K$13/$AR$13)*100000) -> 0 | AT13: =' Populations'!T18 -> 0 | AU13: =IF(AT13=0,0,($L$13/$AT$13)*100000) -> 0 | AW13: ='Health Regions'!B14 -> 0 | AX13: =IF(AW13=0,0,($M$13/$AW$13)*100000) -> 0 | AY13: ='Health Regions'!D14 -> 0 | AZ13: =IF(AY13=0,0,($N$13/$AY$13)*100000) -> 0 | BA13: ='Health Regions'!F14 -> 0 | BB13: =IF(BA13=0,0,($O$13/$BA$13)*100000) -> 0 | BC13: ='Health Regions'!H14 -> 0 | BD13: =IF(BC13=0,0,($P$13/$BC$13)*100000) -> 0 | BE13: ='Health Regions'!J14 -> 0 | BF13: =IF(BE13=0,0,($Q$13/$BE$13)*100000) -> 0 | BG13: ='Health Regions'!L14 -> 0 | BH13: =IF(BG13=0,0,($R$13/$BG$13)*100000) -> 0 | BI13: ='Health Regions'!N14 -> 0 | BJ13: =IF(BI13=0,0,($S$13/$BI$13)*100000) -> 0 | BK13: ='Health Regions'!P14 -> 0 | BL13: =IF(BK13=0,0,($T$13/$BK$13)*100000) -> 0 | BM13: ='Health Regions'!R14 -> 0 | BN13: =IF(BM13=0,0,($U$13/$BM$13)*100000) -> 0 | BO13: ='Health Regions'!T14 -> 0 | BP13: =IF(BO13=0,0,($V$13/$BO$13)*100000) -> 0 | BQ13: ='Health Regions'!V14 -> 0 | BR13: =IF(BQ13=0,0,($W$13/$BQ$13)*100000) -> 0 | BS13: ='Health Regions'!X14 -> 0 | BT13: =IF(BS13=0,0,($X$13/$BS$13)*100000) -> 0 | BU13: ='Health Regions'!Z14 -> 0 | BV13: =IF(BU13=0,0,($Y$13/$BU$13)*100000) -> 0 | BW13: ='Health Regions'!AB14 -> 0 | BX13: =IF(BW13=0,0,($Z$13/$BW$13)*100000) -> 0 | BZ13: 23961 | CA13: 0.087247 | CC13: 55-64yrs | CD13: =AC13*CA13 -> 0 | CE13: =AE13*CA13 -> 0 | CF13: =AG13*CA13 -> 0 | CG13: =AI13*CA13 -> 0 | CH13: =AK13*CA13 -> 0 | CI13: =AM13*CA13 -> 0 | CJ13: =AO13*CA13 -> 0 | CK13: =AQ13*CA13 -> 0 | CL13: =AS13*CA13 -> 0 | CM13: =AU13*CA13 -> 0 | CN13: =AX13*CA13 -> 0 | CO13: =AZ13*CA13 -> 0 | CP13: =BB13*CA13 -> 0 | CQ13: =BD13*CA13 -> 0 | CR13: =BF13*CA13 -> 0 | CS13: =BH13*CA13 -> 0 | CT13: =BI13*CA13 -> 0 | CU13: =BL13*CA13 -> 0 | CV13: =BN13*CA13 -> 0 | CW13: =BP13*CA13 -> 0 | CX13: =BR13*CA13 -> 0 | CY13: =BT13*CA13 -> 0 | CZ13: =BV13*CA13 -> 0 | DA13: =BX13*CA13 -> 0
B14: 65-74yrs | AB14: =' Populations'!B19 -> 0 | AC14: =IF(AB14=0,0,($C$14/$AB$14)*100000) -> 0 | AD14: =' Populations'!D19 -> 0 | AE14: =IF(AD14=0,0,($D$14/$AD$14)*100000) -> 0 | AF14: =' Populations'!F19 -> 0 | AG14: =IF(AF14=0,0,($E$14/$AF$14)*100000) -> 0 | AH14: =' Populations'!H19 -> 0 | AI14: =IF(AH14=0,0,($F$14/$AH$14)*100000) -> 0 | AJ14: =' Populations'!J19 -> 0 | AK14: =IF(AJ14=0,0,($G$14/$AJ$14)*100000) -> 0 | AL14: =' Populations'!L19 -> 0 | AM14: =IF(AL14=0,0,($G$14/$AL$14)*100000) -> 0 | AN14: =' Populations'!N19 -> 0 | AO14: =IF(AN14=0,0,($I$14/$AN$14)*100000) -> 0 | AP14: =' Populations'!P19 -> 0 | AQ14: =IF(AP14=0,0,($J$14/$AP$14)*100000) -> 0 | AR14: =' Populations'!R19 -> 0 | AS14: =IF(AR14=0,0,($K$14/$AR$14)*100000) -> 0 | AT14: =' Populations'!T19 -> 0 | AU14: =IF(AT14=0,0,($L$14/$AT$14)*100000) -> 0 | AW14: ='Health Regions'!B15 -> 0 | AX14: =IF(AW14=0,0,($M$14/$AW$14)*100000) -> 0 | AY14: ='Health Regions'!D15 -> 0 | AZ14: =IF(AY14=0,0,($N$14/$AY$14)*100000) -> 0 | BA14: ='Health Regions'!F15 -> 0 | BB14: =IF(BA14=0,0,($O$14/$BA$14)*100000) -> 0 | BC14: ='Health Regions'!H15 -> 0 | BD14: =IF(BC14=0,0,($P$14/$BC$14)*100000) -> 0 | BE14: ='Health Regions'!J15 -> 0 | BF14: =IF(BE14=0,0,($Q$14/$BE$14)*100000) -> 0 | BG14: ='Health Regions'!L15 -> 0 | BH14: =IF(BG14=0,0,($R$14/$BG$14)*100000) -> 0 | BI14: ='Health Regions'!N15 -> 0 | BJ14: =IF(BI14=0,0,($S$14/$BI$14)*100000) -> 0 | BK14: ='Health Regions'!P15 -> 0 | BL14: =IF(BK14=0,0,($T$14/$BK$14)*100000) -> 0 | BM14: ='Health Regions'!R15 -> 0 | BN14: =IF(BM14=0,0,($U$14/$BM$14)*100000) -> 0 | BO14: ='Health Regions'!T15 -> 0 | BP14: =IF(BO14=0,0,($V$14/$BO$14)*100000) -> 0 | BQ14: ='Health Regions'!V15 -> 0 | BR14: =IF(BQ14=0,0,($W$14/$BQ$14)*100000) -> 0 | BS14: ='Health Regions'!X15 -> 0 | BT14: =IF(BS14=0,0,($X$14/$BS$14)*100000) -> 0 | BU14: ='Health Regions'!Z15 -> 0 | BV14: =IF(BU14=0,0,($Y$14/$BU$14)*100000) -> 0 | BW14: ='Health Regions'!AB15 -> 0 | BX14: =IF(BW14=0,0,($Z$14/$BW$14)*100000) -> 0 | BZ14: 18136 | CA14: 0.066037 | CC14: 65-74yrs | CD14: =AC14*CA14 -> 0 | CE14: =AE14*CA14 -> 0 | CF14: =AG14*CA14 -> 0 | CG14: =AI14*CA14 -> 0 | CH14: =AK14*CA14 -> 0 | CI14: =AM14*CA14 -> 0 | CJ14: =AO14*CA14 -> 0 | CK14: =AQ14*CA14 -> 0 | CL14: =AS14*CA14 -> 0 | CM14: =AU14*CA14 -> 0 | CN14: =AX14*CA14 -> 0 | CO14: =AZ14*CA14 -> 0 | CP14: =BB14*CA14 -> 0 | CQ14: =BD14*CA14 -> 0 | CR14: =BF14*CA14 -> 0 | CS14: =BH14*CA14 -> 0 | CT14: =BI14*CA14 -> 0 | CU14: =BL14*CA14 -> 0 | CV14: =BN14*CA14 -> 0 | CW14: =BP14*CA14 -> 0 | CX14: =BR14*CA14 -> 0 | CY14: =BT14*CA14 -> 0 | CZ14: =BV14*CA14 -> 0 | DA14: =BX14*CA14 -> 0
B15: 75-84yrs | AB15: =' Populations'!B20 -> 0 | AC15: =IF(AB15=0,0,($C$15/$AB$15)*100000) -> 0 | AD15: =' Populations'!D20 -> 0 | AE15: =IF(AD15=0,0,($D$15/$AD$15)*100000) -> 0 | AF15: =' Populations'!F20 -> 0 | AG15: =IF(AF15=0,0,($E$15/$AF$15)*100000) -> 0 | AH15: =' Populations'!H20 -> 0 | AI15: =IF(AH15=0,0,($F$15/$AH$15)*100000) -> 0 | AJ15: =' Populations'!J20 -> 0 | AK15: =IF(AJ15=0,0,($G$15/$AJ$15)*100000) -> 0 | AL15: =' Populations'!L20 -> 0 | AM15: =IF(AL15=0,0,($G$15/$AL$15)*100000) -> 0 | AN15: =' Populations'!N20 -> 0 | AO15: =IF(AN15=0,0,($I$15/$AN$15)*100000) -> 0 | AP15: =' Populations'!P20 -> 0 | AQ15: =IF(AP15=0,0,($J$15/$AP$15)*100000) -> 0 | AR15: =' Populations'!R20 -> 0 | AS15: =IF(AR15=0,0,($K$15/$AR$15)*100000) -> 0 | AT15: =' Populations'!T20 -> 0 | AU15: =IF(AT15=0,0,($L$15/$AT$15)*100000) -> 0 | AW15: ='Health Regions'!B16 -> 0 | AX15: =IF(AW15=0,0,($M$15/$AW$15)*100000) -> 0 | AY15: ='Health Regions'!D16 -> 0 | AZ15: =IF(AY15=0,0,($N$15/$AY$15)*100000) -> 0 | BA15: ='Health Regions'!F16 -> 0 | BB15: =IF(BA15=0,0,($O$15/$BA$15)*100000) -> 0 | BC15: ='Health Regions'!H16 -> 0 | BD15: =IF(BC15=0,0,($P$15/$BC$15)*100000) -> 0 | BE15: ='Health Regions'!J16 -> 0 | BF15: =IF(BE15=0,0,($Q$15/$BE$15)*100000) -> 0 | BG15: ='Health Regions'!L16 -> 0 | BH15: =IF(BG15=0,0,($R$15/$BG$15)*100000) -> 0 | BI15: ='Health Regions'!N16 -> 0 | BJ15: =IF(BI15=0,0,($S$15/$BI$15)*100000) -> 0 | BK15: ='Health Regions'!P16 -> 0 | BL15: =IF(BK15=0,0,($T$15/$BK$15)*100000) -> 0 | BM15: ='Health Regions'!R16 -> 0 | BN15: =IF(BM15=0,0,($U$15/$BM$15)*100000) -> 0 | BO15: ='Health Regions'!T16 -> 0 | BP15: =IF(BO15=0,0,($V$15/$BO$15)*100000) -> 0 | BQ15: ='Health Regions'!V16 -> 0 | BR15: =IF(BQ15=0,0,($W$15/$BQ$15)*100000) -> 0 | BS15: ='Health Regions'!X16 -> 0 | BT15: =IF(BS15=0,0,($X$15/$BS$15)*100000) -> 0 | BU15: ='Health Regions'!Z16 -> 0 | BV15: =IF(BU15=0,0,($Y$15/$BU$15)*100000) -> 0 | BW15: ='Health Regions'!AB16 -> 0 | BX15: =IF(BW15=0,0,($Z$15/$BW$15)*100000) -> 0 | BZ15: 12315 | CA15: 0.044841 | CC15: 75-84yrs | CD15: =AC15*CA15 -> 0 | CE15: =AE15*CA15 -> 0 | CF15: =AG15*CA15 -> 0 | CG15: =AI15*CA15 -> 0 | CH15: =AK15*CA15 -> 0 | CI15: =AM15*CA15 -> 0 | CJ15: =AO15*CA15 -> 0 | CK15: =AQ15*CA15 -> 0 | CL15: =AS15*CA15 -> 0 | CM15: =AU15*CA15 -> 0 | CN15: =AX15*CA15 -> 0 | CO15: =AZ15*CA15 -> 0 | CP15: =BB15*CA15 -> 0 | CQ15: =BD15*CA15 -> 0 | CR15: =BF15*CA15 -> 0 | CS15: =BH15*CA15 -> 0 | CT15: =BI15*CA15 -> 0 | CU15: =BL15*CA15 -> 0 | CV15: =BN15*CA15 -> 0 | CW15: =BP15*CA15 -> 0 | CX15: =BR15*CA15 -> 0 | CY15: =BT15*CA15 -> 0 | CZ15: =BV15*CA15 -> 0 | DA15: =BX15*CA15 -> 0
B16: 85+ | AB16: =' Populations'!B21 -> 0 | AC16: =IF(AB16=0,0,($C$16/$AB$16)*100000) -> 0 | AD16: =' Populations'!D21 -> 0 | AE16: =IF(AD16=0,0,($D$16/$AD$16)*100000) -> 0 | AF16: =' Populations'!F21 -> 0 | AG16: =IF(AF16=0,0,($E$16/$AF$16)*100000) -> 0 | AH16: =' Populations'!H21 -> 0 | AI16: =IF(AH16=0,0,($F$16/$AH$16)*100000) -> 0 | AJ16: =' Populations'!J21 -> 0 | AK16: =IF(AJ16=0,0,($G$16/$AJ$16)*100000) -> 0 | AL16: =' Populations'!L21 -> 0 | AM16: =IF(AL16=0,0,($G$16/$AL$16)*100000) -> 0 | AN16: =' Populations'!N21 -> 0 | AO16: =IF(AN16=0,0,($I$16/$AN$16)*100000) -> 0 | AP16: =' Populations'!P21 -> 0 | AQ16: =IF(AP16=0,0,($J$16/$AP$16)*100000) -> 0 | AR16: =' Populations'!R21 -> 0 | AS16: =IF(AR16=0,0,($K$16/$AR$16)*100000) -> 0 | AT16: =' Populations'!T21 -> 0 | AU16: =IF(AT16=0,0,($L$16/$AT$16)*100000) -> 0 | AW16: ='Health Regions'!B17 -> 0 | AX16: =IF(AW16=0,0,($M$16/$AW$16)*100000) -> 0 | AY16: ='Health Regions'!D17 -> 0 | AZ16: =IF(AY16=0,0,($N$16/$AY$16)*100000) -> 0 | BA16: ='Health Regions'!F17 -> 0 | BB16: =IF(BA16=0,0,($O$16/$BA$16)*100000) -> 0 | BC16: ='Health Regions'!H17 -> 0 | BD16: =IF(BC16=0,0,($P$16/$BC$16)*100000) -> 0 | BE16: ='Health Regions'!J17 -> 0 | BF16: =IF(BE16=0,0,($Q$16/$BE$16)*100000) -> 0 | BG16: ='Health Regions'!L17 -> 0 | BH16: =IF(BG16=0,0,($R$16/$BG$16)*100000) -> 0 | BI16: ='Health Regions'!N17 -> 0 | BJ16: =IF(BI16=0,0,($S$16/$BI$16)*100000) -> 0 | BK16: ='Health Regions'!P17 -> 0 | BL16: =IF(BK16=0,0,($T$16/$BK$16)*100000) -> 0 | BM16: ='Health Regions'!R17 -> 0 | BN16: =IF(BM16=0,0,($U$16/$BM$16)*100000) -> 0 | BO16: ='Health Regions'!T17 -> 0 | BP16: =IF(BO16=0,0,($V$16/$BO$16)*100000) -> 0 | BQ16: ='Health Regions'!V17 -> 0 | BR16: =IF(BQ16=0,0,($W$16/$BQ$16)*100000) -> 0 | BS16: ='Health Regions'!X17 -> 0 | BT16: =IF(BS16=0,0,($X$16/$BS$16)*100000) -> 0 | BU16: ='Health Regions'!Z17 -> 0 | BV16: =IF(BU16=0,0,($Y$16/$BU$16)*100000) -> 0 | BW16: ='Health Regions'!AB17 -> 0 | BX16: =IF(BW16=0,0,($Z$16/$BW$16)*100000) -> 0 | BZ16: 4259 | CA16: 0.015508 | CC16: 85+ | CD16: =AC16*CA16 -> 0 | CE16: =AE16*CA16 -> 0 | CF16: =AG16*CA16 -> 0 | CG16: =AI16*CA16 -> 0 | CH16: =AK16*CA16 -> 0 | CI16: =AM16*CA16 -> 0 | CJ16: =AO16*CA16 -> 0 | CK16: =AQ16*CA16 -> 0 | CL16: =AS16*CA16 -> 0 | CM16: =AU16*CA16 -> 0 | CN16: =AX16*CA16 -> 0 | CO16: =AZ16*CA16 -> 0 | CP16: =BB16*CA16 -> 0 | CQ16: =BD16*CA16 -> 0 | CR16: =BF16*CA16 -> 0 | CS16: =BH16*CA16 -> 0 | CT16: =BI16*CA16 -> 0 | CU16: =BL16*CA16 -> 0 | CV16: =BN16*CA16 -> 0 | CW16: =BP16*CA16 -> 0 | CX16: =BR16*CA16 -> 0 | CY16: =BT16*CA16 -> 0 | CZ16: =BV16*CA16 -> 0 | DA16: =BX16*CA16 -> 0
B17: total | C17: =SUM(C4:C16) -> 0 | D17: =SUM(D4:D16) -> 0 | E17: =SUM(E4:E16) -> 0 | F17: =SUM(F4:F16) -> 0 | G17: =SUM(G4:G16) -> 0 | H17: =SUM(H4:H16) -> 0 | I17: =SUM(I4:I16) -> 0 | J17: =SUM(J4:J16) -> 0 | ... Z17: =SUM(Z4:Z16) -> 0 | AB17: =SUM(AB4:AB16) -> 0 | AC17: =SUM(AC4:AC16) -> 0 | AD17: =SUM(AD4:AD16) -> 0 | AE17: =SUM(AE4:AE16) -> 0 | AF17: =SUM(AF4:AF16) -> 0 | AG17: =SUM(AG4:AG16) -> 0 | AH17: =SUM(AH4:AH16) -> 0 | AI17: =SUM(AI4:AI16) -> 0 | ... AU17: =SUM(AU4:AU16) -> 0 | AW17: =SUM(AW4:AW16) -> 0 | AX17: =SUM(AX4:AX16) -> 0 | AY17: =SUM(AY4:AY16) -> 0 | AZ17: =SUM(AZ4:AZ16) -> 0 | BA17: =SUM(BA4:BA16) -> 0 | BB17: =SUM(BB4:BB16) -> 0 | BC17: =SUM(BC4:BC16) -> 0 | BD17: =SUM(BD4:BD16) -> 0 | ... BX17: =SUM(BX4:BX16) -> 0 | BZ17: =SUM(BZ4:BZ16) -> 274634 | CC17: total | CD17: =SUM(CD4:CD16) -> 0 | CE17: =SUM(CE4:CE16) -> 0 | CF17: =SUM(CF4:CF16) -> 0 | CG17: =SUM(CG4:CG16) -> 0 | CH17: =SUM(CH4:CH16) -> 0 | CI17: =SUM(CI4:CI16) -> 0 | CJ17: =SUM(CJ4:CJ16) -> 0 | CK17: =SUM(CK4:CK16) -> 0 | ... DA17: =SUM(DA4:DA16) -> 0
D19: Sex Data | F19: Demographic Data | M19: Region Data | CD19: Age-adjusted Rates per 100,000 population
B20: Age | C20: Number of ED visits- Total | D20: Number of ED visits- Male | E20: Number of ED visits- Female | F20: Number of ED visits- White-Not Hispanic | G20: Number of ED visits- Hispanic | H20: Number of ED visits- Black-Not Hispanic | I20: Number of ED visits- Asian | J20: Number of ED visits- American Indian/Alaska Native | K20: =' Populations'!R8 -> Other | L20: =' Populations'!T8 -> Other | M20: Number of ED visits- Region 1 | N20: Number of ED visits- Region 2 | O20: Number of ED visits- Region 3 | P20: Number of ED visits- Region 4 | Q20: Number of ED visits- Region 5 | R20: Number of ED visits- Region 6 | S20: Number of ED visits- Region 7 | T20: Number of ED visits- Region 8 | U20: Number of ED visits- Region 9 | V20: Number of ED visits- Region 10 | W20: Number of ED visits- Region 11 | X20: Number of ED visits- Region 12 | Y20: Number of ED visits- Region 13 | Z20: Number of ED visits- Region 14 | AB20: State population - Total | AC20: Rate | AD20: State population - Male | AE20: Rate | AF20: State population - Female | AG20: Rate | AH20: State population - White-Not Hispanic | AI20: Rate | AJ20: State population - Hispanic | AK20: Rate | AL20: State population - Black-Not Hispanic | AM20: Rate | AN20: State population - Asian | AO20: Rate | AP20: State population - American Indian/Alaska Native | AQ20: Rate | AR20: =' Populations'!R8 -> Other | AS20: Rate | AT20: =' Populations'!T8 -> Other | AU20: Rate | AW20: Region 1 | AX20: Rate | AY20: Region 2 | AZ20: Rate | BA20: Region 3 | BB20: Rate | BC20: Region 4 | BD20: Rate | BE20: Region 5 | BF20: Rate | BG20: Region 6 | BH20: Rate | BI20: Region 7 | BJ20: Rate | BK20: Region 8 | BL20: Rate | BM20: Region 9 | BN20: Rate | BO20: Region 10 | BP20: Rate | BQ20: Region 11 | BR20: Rate | BS20: Region 12 | BT20: Rate | BU20: Region 13 | BV20: Rate | BW20: Region 14 | BX20: Rate | BZ20: 2000 population | CA20: Weight | CC20: Age | CD20: Total | CE20: Male | CF20: Female | CG20: White-Not Hispanic | CH20: Hispanic | CI20: Black-Not Hispanic | CJ20: Asian | CK20: American Indian/Alaska Native | CL20: =' Populations'!R8 -> Other | CM20: =' Populations'!T8 -> Other | CN20: ED visits- Region 1 | CO20: ED visits- Region 2 | CP20: ED visits- Region 3 | CQ20: ED visits- Region 4 | CR20: ED visits- Region 5 | CS20: ED visits- Region 6 | CT20: ED visits- Region 7 | CU20: ED visits- Region 8 | CV20: ED visits- Region 9 | CW20: ED visits- Region 10 | CX20: ED visits- Region 11 | CY20: ED visits- Region 12 | CZ20: ED visits- Region 13 | DA20: ED visits- Region 14
B21: <1yr | AB21: =' Populations'!B9 -> 0 | AC21: =IF(AB21=0,0,($C$21/$AB$21)*100000) -> 0 | AD21: =' Populations'!D9 -> 0 | AE21: =IF(AD21=0,0,($D$21/$AD$21)*100000) -> 0 | AF21: =' Populations'!F9 -> 0 | AG21: =IF(AF21=0,0,($E$21/$AF$21)*100000) -> 0 | AH21: =' Populations'!H9 -> 0 | AI21: =IF(AH21=0,0,($F$21/$AH$21)*100000) -> 0 | AJ21: =' Populations'!J9 -> 0 | AK21: =IF(AJ21=0,0,($G$21/$AJ$21)*100000) -> 0 | AL21: =' Populations'!L9 -> 0 | AM21: =IF(AL21=0,0,($H$21/$AL$21)*100000) -> 0 | AN21: =' Populations'!N9 -> 0 | AO21: =IF(AN21=0,0,($I$21/$AN$21)*100000) -> 0 | AP21: =' Populations'!P9 -> 0 | AQ21: =IF(AP21=0,0,($J$21/$AP$21)*100000) -> 0 | AR21: =' Populations'!R9 -> 0 | AS21: =IF(AR21=0,0,($K$21/$AR$21)*100000) -> 0 | AT21: =' Populations'!T9 -> 0 | AU21: =IF(AT21=0,0,($L$21/$AT$21)*100000) -> 0 | AW21: ='Health Regions'!B5 -> 0 | AX21: =IF(AW21=0,0,($M$21/$AW$21)*100000) -> 0 | AY21: ='Health Regions'!D5 -> 0 | AZ21: =IF(AY21=0,0,($N$21/$AY$21)*100000) -> 0 | BA21: ='Health Regions'!F5 -> 0 | BB21: =IF(BA21=0,0,($O$21/$BA$21)*100000) -> 0 | BC21: ='Health Regions'!H5 -> 0 | BD21: =IF(BC21=0,0,($P$21/$BC$21)*100000) -> 0 | BE21: ='Health Regions'!J5 -> 0 | BF21: =IF(BE21=0,0,($Q$21/$BE$21)*100000) -> 0 | BG21: ='Health Regions'!L5 -> 0 | BH21: =IF(BG21=0,0,($R$21/$BG$21)*100000) -> 0 | BI21: ='Health Regions'!N5 -> 0 | BJ21: =IF(BI21=0,0,($S$21/$BI$21)*100000) -> 0 | BK21: ='Health Regions'!P5 -> 0 | BL21: =IF(BK21=0,0,($T$21/$BK$21)*100000) -> 0 | BM21: ='Health Regions'!R5 -> 0 | BN21: =IF(BM21=0,0,($U$21/$BM$21)*100000) -> 0 | BO21: ='Health Regions'!T5 -> 0 | BP21: =IF(BO21=0,0,($V$21/$BO21)*100000) -> 0 | BQ21: ='Health Regions'!V5 -> 0 | BR21: =IF(BQ21=0,0,($W$21/$BQ$21)*100000) -> 0 | BS21: ='Health Regions'!X5 -> 0 | BT21: =IF(BS21=0,0,($X$21/$BS$21)*100000) -> 0 | BU21: ='Health Regions'!Z5 -> 0 | BV21: =IF(BU21=0,0,($Y$21/$BU$21)*100000) -> 0 | BW21: ='Health Regions'!AB5 -> 0 | BX21: =IF(BW21=0,0,($Z$21/$BW$21)*100000) -> 0 | BZ21: 3795 | CA21: 0.013818 | CC21: <1yr | CD21: =AC21*CA21 -> 0 | CE21: =AE21*CA21 -> 0 | CF21: =AG21*CA21 -> 0 | CG21: =AI21*CA21 -> 0 | CH21: =AK21*CA21 -> 0 | CI21: =AM21*CA21 -> 0 | CJ21: =AO21*CA21 -> 0 | CK21: =AQ21*CA21 -> 0 | CL21: =AS21*CA21 -> 0 | CM21: =AU21*CA21 -> 0 | CN21: =AX21*CA21 -> 0 | CO21: =AZ21*CA21 -> 0 | CP21: =BB21*CA21 -> 0 | CQ21: =BD21*CA21 -> 0 | CR21: =BF21*CA21 -> 0 | CS21: =BH21*CA21 -> 0 | CT21: =BI21*CA21 -> 0 | CU21: =BL21*CA21 -> 0 | CV21: =BN21*CA21 -> 0 | CW21: =BP21*CA21 -> 0 | CX21: =BR21*CA21 -> 0 | CY21: =BT21*CA21 -> 0 | CZ21: =BV21*CA21 -> 0 | DA21: =BX21*CA21 -> 0
B22: 1-4yrs | AB22: =' Populations'!B10 -> 0 | AC22: =IF(AB22=0,0,($C$22/$AB$22)*100000) -> 0 | AD22: =' Populations'!D10 -> 0 | AE22: =IF(AD22=0,0,($D$22/$AD$22)*100000) -> 0 | AF22: =' Populations'!F10 -> 0 | AG22: =IF(AF22=0,0,($E$22/$AF$22)*100000) -> 0 | AH22: =' Populations'!H10 -> 0 | AI22: =IF(AH22=0,0,($F$22/$AH$22)*100000) -> 0 | AJ22: =' Populations'!J10 -> 0 | AK22: =IF(AJ22=0,0,($G$22/$AJ$22)*100000) -> 0 | AL22: =' Populations'!L10 -> 0 | AM22: =IF(AL22=0,0,($H$22/$AL$22)*100000) -> 0 | AN22: =' Populations'!N10 -> 0 | AO22: =IF(AN22=0,0,($I$22/$AN$22)*100000) -> 0 | AP22: =' Populations'!P10 -> 0 | AQ22: =IF(AP22=0,0,($J$22/$AP$22)*100000) -> 0 | AR22: =' Populations'!R10 -> 0 | AS22: =IF(AR22=0,0,($K$22/$AR$22)*100000) -> 0 | AT22: =' Populations'!T10 -> 0 | AU22: =IF(AT22=0,0,($L$22/$AT$22)*100000) -> 0 | AW22: ='Health Regions'!B6 -> 0 | AX22: =IF(AW22=0,0,($M$22/$AW$22)*100000) -> 0 | AY22: ='Health Regions'!D6 -> 0 | AZ22: =IF(AY22=0,0,($N$22/$AY$22)*100000) -> 0 | BA22: ='Health Regions'!F6 -> 0 | BB22: =IF(BA22=0,0,($O$22/$BA$22)*100000) -> 0 | BC22: ='Health Regions'!H6 -> 0 | BD22: =IF(BC22=0,0,($P$22/$BC$22)*100000) -> 0 | BE22: ='Health Regions'!J6 -> 0 | BF22: =IF(BE22=0,0,($Q$22/$BE$22)*100000) -> 0 | BG22: ='Health Regions'!L6 -> 0 | BH22: =IF(BG22=0,0,($R$22/$BG$22)*100000) -> 0 | BI22: ='Health Regions'!N6 -> 0 | BJ22: =IF(BI22=0,0,($S$22/$BI$22)*100000) -> 0 | BK22: ='Health Regions'!P6 -> 0 | BL22: =IF(BK22=0,0,($T$22/$BK$22)*100000) -> 0 | BM22: ='Health Regions'!R6 -> 0 | BN22: =IF(BM22=0,0,($U$22/$BM$22)*100000) -> 0 | BO22: ='Health Regions'!T6 -> 0 | BP22: =IF(BO22=0,0,($V$22/$BO$22)*100000) -> 0 | BQ22: ='Health Regions'!V6 -> 0 | BR22: =IF(BQ22=0,0,($W$22/$BQ$22)*100000) -> 0 | BS22: ='Health Regions'!X6 -> 0 | BT22: =IF(BS22=0,0,($X$22/$BS$22)*100000) -> 0 | BU22: ='Health Regions'!Z6 -> 0 | BV22: =IF(BU22=0,0,($Y$22/$BU$22)*100000) -> 0 | BW22: ='Health Regions'!AB6 -> 0 | BX22: =IF(BW22=0,0,($Z$22/$BW$22)*100000) -> 0 | BZ22: 15192 | CA22: 0.055317 | CC22: 1-4yrs | CD22: =AC22*CA22 -> 0 | CE22: =AE22*CA22 -> 0 | CF22: =AG22*CA22 -> 0 | CG22: =AI22*CA22 -> 0 | CH22: =AK22*CA22 -> 0 | CI22: =AM22*CA22 -> 0 | CJ22: =AO22*CA22 -> 0 | CK22: =AQ22*CA22 -> 0 | CL22: =AS22*CA22 -> 0 | CM22: =AU22*CA22 -> 0 | CN22: =AX22*CA22 -> 0 | CO22: =AZ22*CA22 -> 0 | CP22: =BB22*CA22 -> 0 | CQ22: =BD22*CA22 -> 0 | CR22: =BF22*CA22 -> 0 | CS22: =BH22*CA22 -> 0 | CT22: =BI22*CA22 -> 0 | CU22: =BL22*CA22 -> 0 | CV22: =BN22*CA22 -> 0 | CW22: =BP22*CA22 -> 0 | CX22: =BR22*CA22 -> 0 | CY22: =BT22*CA22 -> 0 | CZ22: =BV22*CA22 -> 0 | DA22: =BX22*CA22 -> 0
B23: 5-9yrs | AB23: =' Populations'!B11 -> 0 | AC23: =IF(AB23=0,0,($C$23/$AB$23)*100000) -> 0 | AD23: =' Populations'!D11 -> 0 | AE23: =IF(AD23=0,0,($D$23/$AD$23)*100000) -> 0 | AF23: =' Populations'!F11 -> 0 | AG23: =IF(AF23=0,0,($E$23/$AF$23)*100000) -> 0 | AH23: =' Populations'!H11 -> 0 | AI23: =IF(AH23=0,0,($F$23/$AH$23)*100000) -> 0 | AJ23: =' Populations'!J11 -> 0 | AK23: =IF(AJ23=0,0,($G$23/$AJ$23)*100000) -> 0 | AL23: =' Populations'!L11 -> 0 | AM23: =IF(AL23=0,0,($H$23/$AL$23)*100000) -> 0 | AN23: =' Populations'!N11 -> 0 | AO23: =IF(AN23=0,0,($I$23/$AN$23)*100000) -> 0 | AP23: =' Populations'!P11 -> 0 | AQ23: =IF(AP23=0,0,($J$23/$AP$23)*100000) -> 0 | AR23: =' Populations'!R11 -> 0 | AS23: =IF(AR23=0,0,($K$23/$AR$23)*100000) -> 0 | AT23: =' Populations'!T11 -> 0 | AU23: =IF(AT23=0,0,($L$23/$AT$23)*100000) -> 0 | AW23: ='Health Regions'!B7 -> 0 | AX23: =IF(AW23=0,0,($M$23/$AW$23)*100000) -> 0 | AY23: ='Health Regions'!D7 -> 0 | AZ23: =IF(AY23=0,0,($N$23/$AY$23)*100000) -> 0 | BA23: ='Health Regions'!F7 -> 0 | BB23: =IF(BA23=0,0,($O$23/$BA$23)*100000) -> 0 | BC23: ='Health Regions'!H7 -> 0 | BD23: =IF(BC23=0,0,($P$23/$BC$23)*100000) -> 0 | BE23: ='Health Regions'!J7 -> 0 | BF23: =IF(BE23=0,0,($Q$23/$BE$23)*100000) -> 0 | BG23: ='Health Regions'!L7 -> 0 | BH23: =IF(BG23=0,0,($R$23/$BG$23)*100000) -> 0 | BI23: ='Health Regions'!N7 -> 0 | BJ23: =IF(BI23=0,0,($S$23/$BI$23)*100000) -> 0 | BK23: ='Health Regions'!P7 -> 0 | BL23: =IF(BK23=0,0,($T$23/$BK$23)*100000) -> 0 | BM23: ='Health Regions'!R7 -> 0 | BN23: =IF(BM23=0,0,($U$23/$BM$23)*100000) -> 0 | BO23: ='Health Regions'!T7 -> 0 | BP23: =IF(BO23=0,0,($V$23/$BO$23)*100000) -> 0 | BQ23: ='Health Regions'!V7 -> 0 | BR23: =IF(BQ23=0,0,($W$23/$BQ$23)*100000) -> 0 | BS23: ='Health Regions'!X7 -> 0 | BT23: =IF(BS23=0,0,($X$23/$BS$23)*100000) -> 0 | BU23: ='Health Regions'!Z7 -> 0 | BV23: =IF(BU23=0,0,($Y$23/$BU$23)*100000) -> 0 | BW23: ='Health Regions'!AB7 -> 0 | BX23: =IF(BW23=0,0,($Z$23/$BW$23)*100000) -> 0 | BZ23: 19920 | CA23: 0.072533 | CC23: 5-9yrs | CD23: =AC23*CA23 -> 0 | CE23: =AE23*CA23 -> 0 | CF23: =AG23*CA23 -> 0 | CG23: =AI23*CA23 -> 0 | CH23: =AK23*CA23 -> 0 | CI23: =AM23*CA23 -> 0 | CJ23: =AO23*CA23 -> 0 | CK23: =AQ23*CA23 -> 0 | CL23: =AS23*CA23 -> 0 | CM23: =AU23*CA23 -> 0 | CN23: =AX23*CA23 -> 0 | CO23: =AZ23*CA23 -> 0 | CP23: =BB23*CA23 -> 0 | CQ23: =BD23*CA23 -> 0 | CR23: =BF23*CA23 -> 0 | CS23: =BH23*CA23 -> 0 | CT23: =BI23*CA23 -> 0 | CU23: =BL23*CA23 -> 0 | CV23: =BN23*CA23 -> 0 | CW23: =BP23*CA23 -> 0 | CX23: =BR23*CA23 -> 0 | CY23: =BT23*CA23 -> 0 | CZ23: =BV23*CA23 -> 0 | DA23: =BX23*CA23 -> 0
B24: 10-14yrs | AB24: =' Populations'!B12 -> 0 | AC24: =IF(AB24=0,0,($C$24/$AB$24)*100000) -> 0 | AD24: =' Populations'!D12 -> 0 | AE24: =IF(AD24=0,0,($D$24/$AD$24)*100000) -> 0 | AF24: =' Populations'!F12 -> 0 | AG24: =IF(AF24=0,0,($E$24/$AF$24)*100000) -> 0 | AH24: =' Populations'!H12 -> 0 | AI24: =IF(AH24=0,0,($F$24/$AH$24)*100000) -> 0 | AJ24: =' Populations'!J12 -> 0 | AK24: =IF(AJ24=0,0,($G$24/$AJ$24)*100000) -> 0 | AL24: =' Populations'!L12 -> 0 | AM24: =IF(AL24=0,0,($H$24/$AL$24)*100000) -> 0 | AN24: =' Populations'!N12 -> 0 | AO24: =IF(AN24=0,0,($I$24/$AN$24)*100000) -> 0 | AP24: =' Populations'!P12 -> 0 | AQ24: =IF(AP24=0,0,($J$24/$AP$24)*100000) -> 0 | AR24: =' Populations'!R12 -> 0 | AS24: =IF(AR24=0,0,($K$24/$AR$24)*100000) -> 0 | AT24: =' Populations'!T12 -> 0 | AU24: =IF(AT24=0,0,($L$24/$AT$24)*100000) -> 0 | AW24: ='Health Regions'!B8 -> 0 | AX24: =IF(AW24=0,0,($M$24/$AW$24)*100000) -> 0 | AY24: ='Health Regions'!D8 -> 0 | AZ24: =IF(AY24=0,0,($N$24/$AY$24)*100000) -> 0 | BA24: ='Health Regions'!F8 -> 0 | BB24: =IF(BA24=0,0,($O$24/$BA$24)*100000) -> 0 | BC24: ='Health Regions'!H8 -> 0 | BD24: =IF(BC24=0,0,($P$24/$BC$24)*100000) -> 0 | BE24: ='Health Regions'!J8 -> 0 | BF24: =IF(BE24=0,0,($Q$24/$BE$24)*100000) -> 0 | BG24: ='Health Regions'!L8 -> 0 | BH24: =IF(BG24=0,0,($R$24/$BG$24)*100000) -> 0 | BI24: ='Health Regions'!N8 -> 0 | BJ24: =IF(BI24=0,0,($S$24/$BI$24)*100000) -> 0 | BK24: ='Health Regions'!P8 -> 0 | BL24: =IF(BK24=0,0,($T$24/$BK$24)*100000) -> 0 | BM24: ='Health Regions'!R8 -> 0 | BN24: =IF(BM24=0,0,($U$24/$BM$24)*100000) -> 0 | BO24: ='Health Regions'!T8 -> 0 | BP24: =IF(BO24=0,0,($V24/$BO$24)*100000) -> 0 | BQ24: ='Health Regions'!V8 -> 0 | BR24: =IF(BQ24=0,0,($W$24/$BQ$24)*100000) -> 0 | BS24: ='Health Regions'!X8 -> 0 | BT24: =IF(BS24=0,0,($X$24/$BS$24)*100000) -> 0 | BU24: ='Health Regions'!Z8 -> 0 | BV24: =IF(BU24=0,0,($Y$24/$BU$24)*100000) -> 0 | BW24: ='Health Regions'!AB8 -> 0 | BX24: =IF(BW24=0,0,($Z$24/$BW$24)*100000) -> 0 | BZ24: 20057 | CA24: 0.073032 | CC24: 10-14yrs | CD24: =AC24*CA24 -> 0 | CE24: =AE24*CA24 -> 0 | CF24: =AG24*CA24 -> 0 | CG24: =AI24*CA24 -> 0 | CH24: =AK24*CA24 -> 0 | CI24: =AM24*CA24 -> 0 | CJ24: =AO24*CA24 -> 0 | CK24: =AQ24*CA24 -> 0 | CL24: =AS24*CA24 -> 0 | CM24: =AU24*CA24 -> 0 | CN24: =AX24*CA24 -> 0 | CO24: =AZ24*CA24 -> 0 | CP24: =BB24*CA24 -> 0 | CQ24: =BD24*CA24 -> 0 | CR24: =BF24*CA24 -> 0 | CS24: =BH24*CA24 -> 0 | CT24: =BI24*CA24 -> 0 | CU24: =BL24*CA24 -> 0 | CV24: =BN24*CA24 -> 0 | CW24: =BP24*CA24 -> 0 | CX24: =BR24*CA24 -> 0 | CY24: =BT24*CA24 -> 0 | CZ24: =BV24*CA24 -> 0 | DA24: =BX24*CA24 -> 0
B25: 15-19yrs | AB25: =' Populations'!B13 -> 0 | AC25: =IF(AB25=0,0,($C$25/$AB$25)*100000) -> 0 | AD25: =' Populations'!D13 -> 0 | AE25: =IF(AD25=0,0,($D$25/$AD$25)*100000) -> 0 | AF25: =' Populations'!F13 -> 0 | AG25: =IF(AF25=0,0,($E$25/$AF$25)*100000) -> 0 | AH25: =' Populations'!H13 -> 0 | AI25: =IF(AH25=0,0,($F$25/$AH$25)*100000) -> 0 | AJ25: =' Populations'!J13 -> 0 | AK25: =IF(AJ25=0,0,($G$25/$AJ$25)*100000) -> 0 | AL25: =' Populations'!L13 -> 0 | AM25: =IF(AL25=0,0,($H$25/$AL$25)*100000) -> 0 | AN25: =' Populations'!N13 -> 0 | AO25: =IF(AN25=0,0,($I$25/$AN$25)*100000) -> 0 | AP25: =' Populations'!P13 -> 0 | AQ25: =IF(AP25=0,0,($J$25/$AP$25)*100000) -> 0 | AR25: =' Populations'!R13 -> 0 | AS25: =IF(AR25=0,0,($K$25/$AR$25)*100000) -> 0 | AT25: =' Populations'!T13 -> 0 | AU25: =IF(AT25=0,0,($L$25/$AT$25)*100000) -> 0 | AW25: ='Health Regions'!B9 -> 0 | AX25: =IF(AW25=0,0,($M$25/$AW$25)*100000) -> 0 | AY25: ='Health Regions'!D9 -> 0 | AZ25: =IF(AY25=0,0,($N$25/$AY$25)*100000) -> 0 | BA25: ='Health Regions'!F9 -> 0 | BB25: =IF(BA25=0,0,($O$25/$BA$25)*100000) -> 0 | BC25: ='Health Regions'!H9 -> 0 | BD25: =IF(BC25=0,0,($P$25/$BC$25)*100000) -> 0 | BE25: ='Health Regions'!J9 -> 0 | BF25: =IF(BE25=0,0,($Q$25/$BE$25)*100000) -> 0 | BG25: ='Health Regions'!L9 -> 0 | BH25: =IF(BG25=0,0,($R$25/$BG$25)*100000) -> 0 | BI25: ='Health Regions'!N9 -> 0 | BJ25: =IF(BI25=0,0,($S$25/$BI$25)*100000) -> 0 | BK25: ='Health Regions'!P9 -> 0 | BL25: =IF(BK25=0,0,($T$25/$BK$25)*100000) -> 0 | BM25: ='Health Regions'!R9 -> 0 | BN25: =IF(BM25=0,0,($U$25/$BM$25)*100000) -> 0 | BO25: ='Health Regions'!T9 -> 0 | BP25: =IF(BO25=0,0,($V$25/$BO$25)*100000) -> 0 | BQ25: ='Health Regions'!V9 -> 0 | BR25: =IF(BQ25=0,0,($W$25/$BQ$25)*100000) -> 0 | BS25: ='Health Regions'!X9 -> 0 | BT25: =IF(BS25=0,0,($X$25/$BS$25)*100000) -> 0 | BU25: ='Health Regions'!Z9 -> 0 | BV25: =IF(BU25=0,0,($Y$25/$BU$25)*100000) -> 0 | BW25: ='Health Regions'!AB9 -> 0 | BX25: =IF(BW25=0,0,($Z$25/$BW$25)*100000) -> 0 | BZ25: 19820 | CA25: 0.072169 | CC25: 15-19yrs | CD25: =AC25*CA25 -> 0 | CE25: =AE25*CA25 -> 0 | CF25: =AG25*CA25 -> 0 | CG25: =AI25*CA25 -> 0 | CH25: =AK25*CA25 -> 0 | CI25: =AM25*CA25 -> 0 | CJ25: =AO25*CA25 -> 0 | CK25: =AQ25*CA25 -> 0 | CL25: =AS25*CA25 -> 0 | CM25: =AU25*CA25 -> 0 | CN25: =AX25*CA25 -> 0 | CO25: =AZ25*CA25 -> 0 | CP25: =BB25*CA25 -> 0 | CQ25: =BD25*CA25 -> 0 | CR25: =BF25*CA25 -> 0 | CS25: =BH25*CA25 -> 0 | CT25: =BI25*CA25 -> 0 | CU25: =BL25*CA25 -> 0 | CV25: =BN25*CA25 -> 0 | CW25: =BP25*CA25 -> 0 | CX25: =BR25*CA25 -> 0 | CY25: =BT25*CA25 -> 0 | CZ25: =BV25*CA25 -> 0 | DA25: =BX25*CA25 -> 0
