Workbook

Sheet Instructions
A1: Step 1: Preparing State/Territory Data | F1: Step 2: Entering Data | T1: Step 3: Creating Special Emphasis Report
A3: Name | B3: ICD-10-CM code | C3: ICD-10-CM notes
A4: 1. Create Suicide-specific Deaths Data Set - The Suicide-specific death indicators should be calculated based on first creating a Suicide-related injury death subset using the following indicators.
A5: Suicides | B5: X60-X84
B6: Y87.0
B7: U03

Sheet  Populations
B1: Suicide -Specific State Injury Indicators Report
B2: State/Territor Population Data
B3: State/Territory: | E3: Reporting year: | I3: Most recent data year:
C4: Enter your state name in B4 | F4: Enter the reporting year in E4 | J4: Enter the data year in I4
I6: Demographic categories can be updated to reflect desired groups (race/ethnicity, veteran status, sexual orientation, etc.)
C7: Enter total population data by age group below | E7: Enter male population data by age group below | G7: Enter female population data by age group below | I7: Optional: Enter demographic population data | K7: Optional: Enter demographic population data | M7: Optional: Enter demographic population data | O7: Optional: Enter demographic population data | Q7: Optional: Enter demographic population data | S7: Optional: Enter demographic population data | U7: Optional: Enter demographic population data | W7: Optional: Enter regional population data | Y7: Optional: Enter regional population data | AA7: Optional: Enter regional population data | AC7: Optional: Enter regional population data | AE7: Optional: Enter regional population data | AG7: Optional: Enter regional population data | AI7: Optional: Enter regional population data | AK7: Optional: Enter regional population data | AM7: Optional: Enter regional population data | AO7: Optional: Enter regional population data | AQ7: Optional: Enter regional population data | AS7: Optional: Enter regional population data | AU7: Optional: Enter regional population data | AW7: Optional: Enter regional population data | AY7: Optional: Enter regional population data | BA7: Optional: Enter regional population data | BC7: Optional: Enter regional population data | BE7: Optional: Enter regional population data | BG7: Optional: Enter regional population data | BI7: Optional: Enter regional population data
A8: Enter most recent data year | B8: Age | C8: Total | E8: Male | G8: Female | I8: White-Not Hispanic | K8: Hispanic | M8: Black-Not Hispanic | O8: Asian | Q8: American Indian/Alaska Native | S8: Other | T8: Enter name of "Other" category in S8 | U8: Other | V8: Enter name of "Other" category in U8 | W8: Region 1 | Y8: Region 2 | AA8: Region 3 | AC8: Region 4 | AE8: Region 5 | AG8: Region 6 | AI8: Region 7 | AK8: Region 8 | AM8: Region 9 | AO8: Region 10 | AQ8: Region 11 | AS8: Region 12 | AU8: Region 13 | AW8: Region 14 | AY8: Region 15 | BA8: Region 16 | BC8: Region 17 | BE8: Region 18 | BG8: Region 19 | BI8: Region 20
B9: <1
B10: 1-4
B11: 5-9
B12: 10-14
B13: 15-19
B14: 20-24
B15: 25-34
B16: 35-44
B17: 45-54
B18: 55-64
B19: 65-74
B20: 75-84
B21: 85+
B22: Total for Year | C22: =SUM(C9:C21) -> 0 | E22: =SUM(E9:E21) -> 0 | G22: =SUM(G9:G21) -> 0 | I22: =SUM(I9:I21) -> 0 | K22: =SUM(K9:K21) -> 0 | M22: =SUM(M9:M21) -> 0 | O22: =SUM(O9:O21) -> 0 | Q22: =SUM(Q9:Q21) -> 0 | S22: =SUM(S9:S21) -> 0 | U22: =SUM(U9:U21) -> 0 | W22: =SUM(W9:W21) -> 0 | Y22: =SUM(Y9:Y21) -> 0 | AA22: =SUM(AA9:AA21) -> 0 | AC22: =SUM(AC9:AC21) -> 0 | AE22: =SUM(AE9:AE21) -> 0 | AG22: =SUM(AG9:AG21) -> 0 | AI22: =SUM(AI9:AI21) -> 0 | AK22: =SUM(AK9:AK21) -> 0 | AM22: =SUM(AM9:AM21) -> 0 | AO22: =SUM(AO9:AO21) -> 0 | AQ22: =SUM(AQ9:AQ21) -> 0 | AS22: =SUM(AS9:AS21) -> 0 | AU22: =SUM(AU9:AU21) -> 0 | AW22: =SUM(AW9:AW21) -> 0 | AY22: =SUM(AY9:AY21) -> 0 | BA22: =SUM(BA9:BA21) -> 0 | BC22: =SUM(BC9:BC21) -> 0 | BE22: =SUM(BE9:BE21) -> 0 | BG22: =SUM(BG9:BG21) -> 0 | BI22: =SUM(BI9:BI21) -> 0
C25: Enter total population data by age group below | E25: Enter male population data by age group below | G25: Enter female population data by age group below | I25: Optional: Enter demographic population data | K25: Optional: Enter demographic population data | M25: Optional: Enter demographic population data | O25: Optional: Enter demographic population data | Q25: Optional: Enter demographic population data | S25: Optional: Enter demographic population data | U25: Optional: Enter demographic population data
A26: Enter proceeding year | B26: Age | C26: Total | E26: Male | G26: Female | I26: White-Not Hispanic | K26: Hispanic | M26: Black-Not Hispanic | O26: Asian | Q26: American Indian/Alaska Native | S26: Other | T26: Enter name of "Other" category in R8 | U26: Other | V26: Enter name of "Other" category in T8
B27: <1
B28: 1-4
B29: 5-9
B30: 10-14
B31: 15-19
B32: 20-24
B33: 25-34
B34: 35-44
B35: 45-54
B36: 55-64
B37: 65-74
B38: 75-84
B39: 85+
B40: Total for Year | C40: =SUM(C27:C39) -> 0 | E40: =SUM(E27:E39) -> 0 | G40: =SUM(G27:G39) -> 0 | I40: =SUM(I27:I39) -> 0 | K40: =SUM(K27:K39) -> 0 | M40: =SUM(M27:M39) -> 0 | O40: =SUM(O27:O39) -> 0 | Q40: =SUM(Q27:Q39) -> 0 | S40: =SUM(S27:S39) -> 0 | U40: =SUM(U27:U39) -> 0
C43: Enter total population data by age group below | E43: Enter male population data by age group below | G43: Enter female population data by age group below | I43: Optional: Enter demographic population data | K43: Optional: Enter demographic population data | M43: Optional: Enter demographic population data | O43: Optional: Enter demographic population data | Q43: Optional: Enter demographic population data | S43: Optional: Enter demographic population data | U43: Optional: Enter demographic population data
A44: Enter proceeding year | B44: Age | C44: Total | E44: Male | G44: Female | I44: White-Not Hispanic | K44: Hispanic | M44: Black-Not Hispanic | O44: Asian | Q44: American Indian/Alaska Native | S44: Other | T44: Enter name of "Other" category in R8 | U44: Other | V44: Enter name of "Other" category in T8
B45: <1
...

Sheet Poisoning by Year
B1: Data Input Tables Instructions: Enter your Suicide-related injury data in the red cells below. The rates will automatically calculate in the results table. | F1: Optional: Unhide columns G through L to enter demographic data | M1: Optional: Unhide columns N through Y to enter age data | AA1: Optional: Unhide columns AC through BU to show rate calculations weights
D2: Sex Data | F2: Demographic Data | M2: Age Data
B3: Year (insert 10 most recent data years, starting with the most recent) | C3: Number of deaths- Total | D3: Number of deaths- Male | E3: Number of deaths- Female | F3: =' Populations'!$I$8 -> White-Not Hispanic | G3: =' Populations'!$K$8 -> Hispanic | H3: =' Populations'!$M$8 -> Black-Not Hispanic | I3: =' Populations'!$O$8 -> Asian | J3: =' Populations'!$Q$8 -> American Indian/Alaska Native | K3: =' Populations'!$S$8 -> Other | L3: =' Populations'!$U$8 -> Other | M3: =' Populations'!B9 -> <1 | N3: =' Populations'!B10 -> 1-4 | O3: =' Populations'!B11 -> 5-9 | P3: =' Populations'!B12 -> 10-14 | Q3: =' Populations'!B13 -> 15-19 | R3: =' Populations'!B14 -> 20-24 | S3: =' Populations'!B15 -> 25-34 | T3: =' Populations'!B16 -> 35-44 | U3: =' Populations'!B17 -> 45-54 | V3: =' Populations'!B18 -> 55-64 | W3: =' Populations'!B19 -> 65-74 | X3: =' Populations'!B20 -> 75-84 | Y3: =' Populations'!B21 -> 85+ | AA3: State population - Total | AB3: Rate | AC3: State population - Male | AD3: Rate | AE3: State population - Female | AF3: Rate | AG3: =' Populations'!$I$8 -> White-Not Hispanic | AH3: Rate | AI3: =' Populations'!$K$8 -> Hispanic | AJ3: Rate | AK3: =' Populations'!$M$8 -> Black-Not Hispanic | AL3: Rate | AM3: =' Populations'!$O$8 -> Asian | AN3: Rate | AO3: =' Populations'!$Q$8 -> American Indian/Alaska Native | AP3: Rate | AQ3: =' Populations'!$S$8 -> Other | AR3: Rate | AS3: =' Populations'!$U$8 -> Other | AT3: Rate | AV3: =' Populations'!B9 -> <1 | AW3: Rate | AX3: =' Populations'!B10 -> 1-4 | AY3: Rate | AZ3: =' Populations'!B11 -> 5-9 | BA3: Rate | BB3: =' Populations'!B12 -> 10-14 | BC3: Rate | BD3: =' Populations'!B13 -> 15-19 | BE3: Rate | BF3: =' Populations'!B14 -> 20-24 | BG3: Rate | BH3: =' Populations'!B15 -> 25-34 | BI3: Rate | BJ3: =' Populations'!B16 -> 35-44 | BK3: Rate | BL3: =' Populations'!B17 -> 45-54 | BM3: Rate | BN3: =' Populations'!B18 -> 55-64 | BO3: Rate | BP3: =' Populations'!B19 -> 65-74 | BQ3: Rate | BR3: =' Populations'!B20 -> 75-84 | BS3: Rate | BT3: =' Populations'!B21 -> 85+ | BU3: Rate
B4: 2018 | AA4: =' Populations'!C9 -> 0 | AB4: =IF(AA4=0,0,($C$4/$AA$4)*100000) -> 0 | AC4: =' Populations'!E9 -> 0 | AD4: =IF(AC4=0,0,($D$4/$AC$4)*100000) -> 0 | AE4: =' Populations'!G9 -> 0 | AF4: =IF(AE4=0,0,($E$4/$AE$4)*100000) -> 0 | AG4: =' Populations'!I9 -> 0 | AH4: =IF(AG4=0,0,($F$4/$AG$4)*100000) -> 0 | AI4: =' Populations'!K9 -> 0 | AJ4: =IF(AI4=0,0,($G$4/$AI$4)*100000) -> 0 | AK4: =' Populations'!M9 -> 0 | AL4: =IF(AK4=0,0,($H$4/$AK$4)*100000) -> 0 | AM4: =' Populations'!O9 -> 0 | AN4: =IF(AM4=0,0,($I$4/$AM$4)*100000) -> 0 | AO4: =' Populations'!Q9 -> 0 | AP4: =IF(AO4=0,0,($J$4/$AO$4)*100000) -> 0 | AQ4: =' Populations'!S9 -> 0 | AR4: =IF(AQ4=0,0,($K$4/$AQ$4)*100000) -> 0 | AS4: =' Populations'!U9 -> 0 | AT4: =IF(AS4=0,0,($L$4/$AS$4)*100000) -> 0 | AV4: =' Populations'!#REF! -> #REF! | AW4: =IF(AV4=0,0,($M$4/$AV$4)*100000) -> #REF! | AX4: =' Populations'!#REF! -> #REF! | AY4: =IF(AX4=0,0,($N$4/$AX$4)*100000) -> #REF! | AZ4: =' Populations'!#REF! -> #REF! | BA4: =IF(AZ4=0,0,($O$4/$AZ$4)*100000) -> #REF! | BB4: =' Populations'!#REF! -> #REF! | BC4: =IF(BB4=0,0,($P$4/$BB$4)*100000) -> #REF! | BD4: =' Populations'!#REF! -> #REF! | BE4: =IF(BD4=0,0,($Q$4/$BD$4)*100000) -> #REF! | BF4: =' Populations'!#REF! -> #REF! | BG4: =IF(BF4=0,0,($R$4/$BF$4)*100000) -> #REF! | BH4: =' Populations'!#REF! -> #REF! | BI4: =IF(BH4=0,0,($S$4/$BH$4)*100000) -> #REF! | BJ4: =' Populations'!#REF! -> #REF! | BK4: =IF(BJ4=0,0,($T$4/$BJ$4)*100000) -> #REF! | BL4: =' Populations'!#REF! -> #REF! | BM4: =IF(BL4=0,0,($U$5/$BL$5)*100000) -> #REF! | BN4: =' Populations'!#REF! -> #REF! | BO4: =IF(BN4=0,0,($V$4/$BN$4)*100000) -> #REF! | BP4: =' Populations'!#REF! -> #REF! | BQ4: =IF(BP4=0,0,($W$4/$BP$4)*100000) -> #REF! | BR4: =' Populations'!#REF! -> #REF! | BS4: =IF(BR4=0,0,($X$4/$BR$4)*100000) -> #REF! | BT4: =' Populations'!#REF! -> #REF! | BU4: =IF(BT4=0,0,($Y$4/$BT$4)*100000) -> #REF!
B5: 2017 | AA5: =' Populations'!C10 -> 0 | AB5: =IF(AA5=0,0,($C$5/$AA$5)*100000) -> 0 | AC5: =' Populations'!E10 -> 0 | AD5: =IF(AC5=0,0,($D$5/$AC$5)*100000) -> 0 | AE5: =' Populations'!G10 -> 0 | AF5: =IF(AE5=0,0,($E$5/$AE$5)*100000) -> 0 | AG5: =' Populations'!I10 -> 0 | AH5: =IF(AG5=0,0,($F$5/$AG$5)*100000) -> 0 | AI5: =' Populations'!K10 -> 0 | AJ5: =IF(AI5=0,0,($G$5/$AI$5)*100000) -> 0 | AK5: =' Populations'!M10 -> 0 | AL5: =IF(AK5=0,0,($G$5/$AK$5)*100000) -> 0 | AM5: =' Populations'!O10 -> 0 | AN5: =IF(AM5=0,0,($I$5/$AM$5)*100000) -> 0 | AO5: =' Populations'!Q10 -> 0 | AP5: =IF(AO5=0,0,($J$5/$AO$5)*100000) -> 0 | AQ5: =' Populations'!S10 -> 0 | AR5: =IF(AQ5=0,0,($K$5/$AQ$5)*100000) -> 0 | AS5: =' Populations'!U10 -> 0 | AT5: =IF(AS5=0,0,($L$5/$AS$5)*100000) -> 0 | AV5: =' Populations'!#REF! -> #REF! | AW5: =IF(AV5=0,0,($M$5/$AV$5)*100000) -> #REF! | AX5: =' Populations'!#REF! -> #REF! | AY5: =IF(AX5=0,0,($N$5/$AX$5)*100000) -> #REF! | AZ5: =' Populations'!#REF! -> #REF! | BA5: =IF(AZ5=0,0,($O$5/$AZ$5)*100000) -> #REF! | BB5: =' Populations'!#REF! -> #REF! | BC5: =IF(BB5=0,0,($P$5/$BB$5)*100000) -> #REF! | BD5: =' Populations'!#REF! -> #REF! | BE5: =IF(BD5=0,0,($Q$5/$BD$5)*100000) -> #REF! | BF5: =' Populations'!#REF! -> #REF! | BG5: =IF(BF5=0,0,($R$5/$BF$5)*100000) -> #REF! | BH5: =' Populations'!#REF! -> #REF! | BI5: =IF(BH5=0,0,($S$5/$BH$5)*100000) -> #REF! | BJ5: =' Populations'!#REF! -> #REF! | BK5: =IF(BJ5=0,0,($T$5/$BJ$5)*100000) -> #REF! | BL5: =' Populations'!#REF! -> #REF! | BM5: =IF(BL5=0,0,($U$5/$BL$5)*100000) -> #REF! | BN5: =' Populations'!#REF! -> #REF! | BO5: =IF(BN5=0,0,($V$5/$BN$5)*100000) -> #REF! | BP5: =' Populations'!#REF! -> #REF! | BQ5: =IF(BP5=0,0,($W$5/$BP$5)*100000) -> #REF! | BR5: =' Populations'!#REF! -> #REF! | BS5: =IF(BR5=0,0,($X$5/$BR$5)*100000) -> #REF! | BT5: =' Populations'!#REF! -> #REF! | BU5: =IF(BT5=0,0,($Y$5/$BT$5)*100000) -> #REF!
B6: 2016 | AA6: =' Populations'!C11 -> 0 | AB6: =IF(AA6=0,0,($C$6/$AA$6)*100000) -> 0 | AC6: =' Populations'!E11 -> 0 | AD6: =IF(AC6=0,0,($D$6/$AC$6)*100000) -> 0 | AE6: =' Populations'!G11 -> 0 | AF6: =IF(AE6=0,0,($E$6/$AE$6)*100000) -> 0 | AG6: =' Populations'!I11 -> 0 | AH6: =IF(AG6=0,0,($F$6/$AG$6)*100000) -> 0 | AI6: =' Populations'!K11 -> 0 | AJ6: =IF(AI6=0,0,($G$6/$AI$6)*100000) -> 0 | AK6: =' Populations'!M11 -> 0 | AL6: =IF(AK6=0,0,($G$6/$AK$6)*100000) -> 0 | AM6: =' Populations'!O11 -> 0 | AN6: =IF(AM6=0,0,($I$6/$AM$6)*100000) -> 0 | AO6: =' Populations'!Q11 -> 0 | AP6: =IF(AO6=0,0,($J$6/$AO$6)*100000) -> 0 | AQ6: =' Populations'!S11 -> 0 | AR6: =IF(AQ6=0,0,($K$6/$AQ$6)*100000) -> 0 | AS6: =' Populations'!U11 -> 0 | AT6: =IF(AS6=0,0,($L$6/$AS$6)*100000) -> 0 | AV6: =' Populations'!#REF! -> #REF! | AW6: =IF(AV6=0,0,($M$6/$AV$6)*100000) -> #REF! | AX6: =' Populations'!#REF! -> #REF! | AY6: =IF(AX6=0,0,($N$6/$AX$6)*100000) -> #REF! | AZ6: =' Populations'!#REF! -> #REF! | BA6: =IF(AZ6=0,0,($O$6/$AZ$6)*100000) -> #REF! | BB6: =' Populations'!#REF! -> #REF! | BC6: =IF(BB6=0,0,($P$6/$BB$6)*100000) -> #REF! | BD6: =' Populations'!#REF! -> #REF! | BE6: =IF(BD6=0,0,($Q$6/$BD$6)*100000) -> #REF! | BF6: =' Populations'!#REF! -> #REF! | BG6: =IF(BF6=0,0,($R$6/$BF$6)*100000) -> #REF! | BH6: =' Populations'!#REF! -> #REF! | BI6: =IF(BH6=0,0,($S$6/$BH$6)*100000) -> #REF! | BJ6: =' Populations'!#REF! -> #REF! | BK6: =IF(BJ6=0,0,($T$6/$BJ$6)*100000) -> #REF! | BL6: =' Populations'!#REF! -> #REF! | BM6: =IF(BL6=0,0,($U$6/$BL$6)*100000) -> #REF! | BN6: =' Populations'!#REF! -> #REF! | BO6: =IF(BN6=0,0,($V$6/$BN$6)*100000) -> #REF! | BP6: =' Populations'!#REF! -> #REF! | BQ6: =IF(BP6=0,0,($W$6/$BP$6)*100000) -> #REF! | BR6: =' Populations'!#REF! -> #REF! | BS6: =IF(BR6=0,0,($X$6/$BR$6)*100000) -> #REF! | BT6: =' Populations'!#REF! -> #REF! | BU6: =IF(BT6=0,0,($Y$6/$BT$6)*100000) -> #REF!
B7: 2015 | AA7: =' Populations'!C12 -> 0 | AB7: =IF(AA7=0,0,($C$7/$AA$7)*100000) -> 0 | AC7: =' Populations'!E12 -> 0 | AD7: =IF(AC7=0,0,($D$7/$AC$7)*100000) -> 0 | AE7: =' Populations'!G12 -> 0 | AF7: =IF(AE7=0,0,($E$7/$AE$7)*100000) -> 0 | AG7: =' Populations'!I12 -> 0 | AH7: =IF(AG7=0,0,($F$7/$AG$7)*100000) -> 0 | AI7: =' Populations'!K12 -> 0 | AJ7: =IF(AI7=0,0,($G$7/$AI$7)*100000) -> 0 | AK7: =' Populations'!M12 -> 0 | AL7: =IF(AK7=0,0,($G$7/$AK$7)*100000) -> 0 | AM7: =' Populations'!O12 -> 0 | AN7: =IF(AM7=0,0,($I$7/$AM$7)*100000) -> 0 | AO7: =' Populations'!Q12 -> 0 | AP7: =IF(AO7=0,0,($J$7/$AO$7)*100000) -> 0 | AQ7: =' Populations'!S12 -> 0 | AR7: =IF(AQ7=0,0,($K$7/$AQ$7)*100000) -> 0 | AS7: =' Populations'!U12 -> 0 | AT7: =IF(AS7=0,0,($L$7/$AS$7)*100000) -> 0 | AV7: =' Populations'!#REF! -> #REF! | AW7: =IF(AV7=0,0,($M$7/$AV$7)*100000) -> #REF! | AX7: =' Populations'!#REF! -> #REF! | AY7: =IF(AX7=0,0,($N$7/$AX$7)*100000) -> #REF! | AZ7: =' Populations'!#REF! -> #REF! | BA7: =IF(AZ7=0,0,($O$7/$AZ$7)*100000) -> #REF! | BB7: =' Populations'!#REF! -> #REF! | BC7: =IF(BB7=0,0,($P$7/$BB$7)*100000) -> #REF! | BD7: =' Populations'!#REF! -> #REF! | BE7: =IF(BD7=0,0,($Q$7/$BD$7)*100000) -> #REF! | BF7: =' Populations'!#REF! -> #REF! | BG7: =IF(BF7=0,0,($R$7/$BF$7)*100000) -> #REF! | BH7: =' Populations'!#REF! -> #REF! | BI7: =IF(BH7=0,0,($S$7/$BH$7)*100000) -> #REF! | BJ7: =' Populations'!#REF! -> #REF! | BK7: =IF(BJ7=0,0,($T$7/$BJ$7)*100000) -> #REF! | BL7: =' Populations'!#REF! -> #REF! | BM7: =IF(BL7=0,0,($U$7/$BL$7)*100000) -> #REF! | BN7: =' Populations'!#REF! -> #REF! | BO7: =IF(BN7=0,0,($V$7/$BN$7)*100000) -> #REF! | BP7: =' Populations'!#REF! -> #REF! | BQ7: =IF(BP7=0,0,($W$7/$BP$7)*100000) -> #REF! | BR7: =' Populations'!#REF! -> #REF! | BS7: =IF(BR7=0,0,($X$7/$BR$7)*100000) -> #REF! | BT7: =' Populations'!#REF! -> #REF! | BU7: =IF(BT7=0,0,($Y$7/$BT$7)*100000) -> #REF!
B8: 2014 | AA8: =' Populations'!C13 -> 0 | AB8: =IF(AA8=0,0,($C$8/$AA$8)*100000) -> 0 | AC8: =' Populations'!E13 -> 0 | AD8: =IF(AC8=0,0,($D$8/$AC$8)*100000) -> 0 | AE8: =' Populations'!G13 -> 0 | AF8: =IF(AE8=0,0,($E$8/$AE$8)*100000) -> 0 | AG8: =' Populations'!I13 -> 0 | AH8: =IF(AG8=0,0,($F$8/$AG$8)*100000) -> 0 | AI8: =' Populations'!K13 -> 0 | AJ8: =IF(AI8=0,0,($G$8/$AI$8)*100000) -> 0 | AK8: =' Populations'!M13 -> 0 | AL8: =IF(AK8=0,0,($G$8/$AK$8)*100000) -> 0 | AM8: =' Populations'!O13 -> 0 | AN8: =IF(AM8=0,0,($I$8/$AM$8)*100000) -> 0 | AO8: =' Populations'!Q13 -> 0 | AP8: =IF(AO8=0,0,($J$8/$AO$8)*100000) -> 0 | AQ8: =' Populations'!S13 -> 0 | AR8: =IF(AQ8=0,0,($K$8/$AQ$8)*100000) -> 0 | AS8: =' Populations'!U13 -> 0 | AT8: =IF(AS8=0,0,($L$8/$AS$8)*100000) -> 0 | AV8: =' Populations'!#REF! -> #REF! | AW8: =IF(AV8=0,0,($M$8/$AV$8)*100000) -> #REF! | AX8: =' Populations'!#REF! -> #REF! | AY8: =IF(AX8=0,0,($N$8/$AX$8)*100000) -> #REF! | AZ8: =' Populations'!#REF! -> #REF! | BA8: =IF(AZ8=0,0,($O$8/$AZ$8)*100000) -> #REF! | BB8: =' Populations'!#REF! -> #REF! | BC8: =IF(BB8=0,0,($P$8/$BB$8)*100000) -> #REF! | BD8: =' Populations'!#REF! -> #REF! | BE8: =IF(BD8=0,0,($Q$8/$BD$8)*100000) -> #REF! | BF8: =' Populations'!#REF! -> #REF! | BG8: =IF(BF8=0,0,($R$8/$BF$8)*100000) -> #REF! | BH8: =' Populations'!#REF! -> #REF! | BI8: =IF(BH8=0,0,($S$8/$BH$8)*100000) -> #REF! | BJ8: =' Populations'!#REF! -> #REF! | BK8: =IF(BJ8=0,0,($T$8/$BJ$8)*100000) -> #REF! | BL8: =' Populations'!#REF! -> #REF! | BM8: =IF(BL8=0,0,($U$8/$AV$8)*100000) -> #REF! | BN8: =' Populations'!#REF! -> #REF! | BO8: =IF(BN8=0,0,($V$8/$BN$8)*100000) -> #REF! | BP8: =' Populations'!#REF! -> #REF! | BQ8: =IF(BP8=0,0,($W$8/$BP$8)*100000) -> #REF! | BR8: =' Populations'!#REF! -> #REF! | BS8: =IF(BR8=0,0,($X$8/$BR$8)*100000) -> #REF! | BT8: =' Populations'!#REF! -> #REF! | BU8: =IF(BT8=0,0,($Y$8/$BT$8)*100000) -> #REF!
B9: 2013 | AA9: =' Populations'!C14 -> 0 | AB9: =IF(AA9=0,0,($C$9/$AA$9)*100000) -> 0 | AC9: =' Populations'!E14 -> 0 | AD9: =IF(AC9=0,0,($D$9/$AC$9)*100000) -> 0 | AE9: =' Populations'!G14 -> 0 | AF9: =IF(AE9=0,0,($E$9/$AE$9)*100000) -> 0 | AG9: =' Populations'!I14 -> 0 | AH9: =IF(AG9=0,0,($F$9/$AG$9)*100000) -> 0 | AI9: =' Populations'!K14 -> 0 | AJ9: =IF(AI9=0,0,($G$9/$AI$9)*100000) -> 0 | AK9: =' Populations'!M14 -> 0 | AL9: =IF(AK9=0,0,($G$9/$AK$9)*100000) -> 0 | AM9: =' Populations'!O14 -> 0 | AN9: =IF(AM9=0,0,($I$9/$AM$9)*100000) -> 0 | AO9: =' Populations'!Q14 -> 0 | AP9: =IF(AO9=0,0,($J$9/$AO$9)*100000) -> 0 | AQ9: =' Populations'!S14 -> 0 | AR9: =IF(AQ9=0,0,($K$9/$AQ$9)*100000) -> 0 | AS9: =' Populations'!U14 -> 0 | AT9: =IF(AS9=0,0,($L$9/$AS$9)*100000) -> 0 | AV9: =' Populations'!#REF! -> #REF! | AW9: =IF(AV9=0,0,($M$9/$AV$9)*100000) -> #REF! | AX9: =' Populations'!#REF! -> #REF! | AY9: =IF(AX9=0,0,($N$9/$AX$9)*100000) -> #REF! | AZ9: =' Populations'!#REF! -> #REF! | BA9: =IF(AZ9=0,0,($O$9/$AZ$9)*100000) -> #REF! | BB9: =' Populations'!#REF! -> #REF! | BC9: =IF(BB9=0,0,($P$9/$BB$9)*100000) -> #REF! | BD9: =' Populations'!#REF! -> #REF! | BE9: =IF(BD9=0,0,($Q$9/$BD$9)*100000) -> #REF! | BF9: =' Populations'!#REF! -> #REF! | BG9: =IF(BF9=0,0,($R$9/$BF$9)*100000) -> #REF! | BH9: =' Populations'!#REF! -> #REF! | BI9: =IF(BH9=0,0,($S$9/$BH$9)*100000) -> #REF! | BJ9: =' Populations'!#REF! -> #REF! | BK9: =IF(BJ9=0,0,($T$9/$BJ$9)*100000) -> #REF! | BL9: =' Populations'!#REF! -> #REF! | BM9: =IF(BL9=0,0,($U$9/$BL$9)*100000) -> #REF! | BN9: =' Populations'!#REF! -> #REF! | BO9: =IF(BN9=0,0,($V$9/$BN$9)*100000) -> #REF! | BP9: =' Populations'!#REF! -> #REF! | BQ9: =IF(BP9=0,0,($W$9/$BP$9)*100000) -> #REF! | BR9: =' Populations'!#REF! -> #REF! | BS9: =IF(BR9=0,0,($X$9/$BR$9)*100000) -> #REF! | BT9: =' Populations'!#REF! -> #REF! | BU9: =IF(BT9=0,0,($Y$9/$BT$9)*100000) -> #REF!
B10: 2012 | AA10: =' Populations'!C15 -> 0 | AB10: =IF(AA10=0,0,($C$10/$AA$10)*100000) -> 0 | AC10: =' Populations'!E15 -> 0 | AD10: =IF(AC10=0,0,($D$10/$AC$10)*100000) -> 0 | AE10: =' Populations'!G15 -> 0 | AF10: =IF(AE10=0,0,($E$10/$AE$10)*100000) -> 0 | AG10: =' Populations'!I15 -> 0 | AH10: =IF(AG10=0,0,($F$10/$AG$10)*100000) -> 0 | AI10: =' Populations'!K15 -> 0 | AJ10: =IF(AI10=0,0,($G$10/$AI$10)*100000) -> 0 | AK10: =' Populations'!M15 -> 0 | AL10: =IF(AK10=0,0,($G$10/$AK$10)*100000) -> 0 | AM10: =' Populations'!O15 -> 0 | AN10: =IF(AM10=0,0,($I$10/$AM$10)*100000) -> 0 | AO10: =' Populations'!Q15 -> 0 | AP10: =IF(AO10=0,0,($J$10/$AO$10)*100000) -> 0 | AQ10: =' Populations'!S15 -> 0 | AR10: =IF(AQ10=0,0,($K$10/$AQ$10)*100000) -> 0 | AS10: =' Populations'!U15 -> 0 | AT10: =IF(AS10=0,0,($L$10/$AS$10)*100000) -> 0 | AV10: =' Populations'!#REF! -> #REF! | AW10: =IF(AV10=0,0,($M$10/$AV$10)*100000) -> #REF! | AX10: =' Populations'!#REF! -> #REF! | AY10: =IF(AX10=0,0,($N$10/$AX$10)*100000) -> #REF! | AZ10: =' Populations'!#REF! -> #REF! | BA10: =IF(AZ10=0,0,($O$10/$AZ$10)*100000) -> #REF! | BB10: =' Populations'!#REF! -> #REF! | BC10: =IF(BB10=0,0,($P$10/$BB$10)*100000) -> #REF! | BD10: =' Populations'!#REF! -> #REF! | BE10: =IF(BD10=0,0,($Q$10/$BD$10)*100000) -> #REF! | BF10: =' Populations'!#REF! -> #REF! | BG10: =IF(BF10=0,0,($R$10/$BF$10)*100000) -> #REF! | BH10: =' Populations'!#REF! -> #REF! | BI10: =IF(BH10=0,0,($S$10/$BH$10)*100000) -> #REF! | BJ10: =' Populations'!#REF! -> #REF! | BK10: =IF(BJ10=0,0,($T$10/$BJ$10)*100000) -> #REF! | BL10: =' Populations'!#REF! -> #REF! | BM10: =IF(BL10=0,0,($U$10/$BL$10)*100000) -> #REF! | BN10: =' Populations'!#REF! -> #REF! | BO10: =IF(BN10=0,0,($V$10/$BN$10)*100000) -> #REF! | BP10: =' Populations'!#REF! -> #REF! | BQ10: =IF(BP10=0,0,($W$10/$BP$10)*100000) -> #REF! | BR10: =' Populations'!#REF! -> #REF! | BS10: =IF(BR10=0,0,($X$10/$BR$10)*100000) -> #REF! | BT10: =' Populations'!#REF! -> #REF! | BU10: =IF(BT10=0,0,($Y$10/$BT$10)*100000) -> #REF!
B11: 2011 | AA11: =' Populations'!C16 -> 0 | AB11: =IF(AA11=0,0,($C$11/$AA$11)*100000) -> 0 | AC11: =' Populations'!E16 -> 0 | AD11: =IF(AC11=0,0,($D$11/$AC$11)*100000) -> 0 | AE11: =' Populations'!G16 -> 0 | AF11: =IF(AE11=0,0,($E$11/$AE$11)*100000) -> 0 | AG11: =' Populations'!I16 -> 0 | AH11: =IF(AG11=0,0,($F$11/$AG$11)*100000) -> 0 | AI11: =' Populations'!K16 -> 0 | AJ11: =IF(AI11=0,0,($G$11/$AI$11)*100000) -> 0 | AK11: =' Populations'!M16 -> 0 | AL11: =IF(AK11=0,0,($G$11/$AK$11)*100000) -> 0 | AM11: =' Populations'!O16 -> 0 | AN11: =IF(AM11=0,0,($I$11/$AM$11)*100000) -> 0 | AO11: =' Populations'!Q16 -> 0 | AP11: =IF(AO11=0,0,($J$11/$AO$11)*100000) -> 0 | AQ11: =' Populations'!S16 -> 0 | AR11: =IF(AQ11=0,0,($K$11/$AQ$11)*100000) -> 0 | AS11: =' Populations'!U16 -> 0 | AT11: =IF(AS11=0,0,($L$11/$AS$11)*100000) -> 0 | AV11: =' Populations'!#REF! -> #REF! | AW11: =IF(AV11=0,0,($M$11/$AV$11)*100000) -> #REF! | AX11: =' Populations'!#REF! -> #REF! | AY11: =IF(AX11=0,0,($N$11/$AX$11)*100000) -> #REF! | AZ11: =' Populations'!#REF! -> #REF! | BA11: =IF(AZ11=0,0,($O$11/$AZ$11)*100000) -> #REF! | BB11: =' Populations'!#REF! -> #REF! | BC11: =IF(BB11=0,0,($P$11/$BB$11)*100000) -> #REF! | BD11: =' Populations'!#REF! -> #REF! | BE11: =IF(BD11=0,0,($Q$11/$BD$11)*100000) -> #REF! | BF11: =' Populations'!#REF! -> #REF! | BG11: =IF(BF11=0,0,($R$11/$BF$11)*100000) -> #REF! | BH11: =' Populations'!#REF! -> #REF! | BI11: =IF(BH11=0,0,($S$11/$BH$11)*100000) -> #REF! | BJ11: =' Populations'!#REF! -> #REF! | BK11: =IF(BJ11=0,0,($T$11/$BJ$11)*100000) -> #REF! | BL11: =' Populations'!#REF! -> #REF! | BM11: =IF(BL11=0,0,($U$11/$BL$11)*100000) -> #REF! | BN11: =' Populations'!#REF! -> #REF! | BO11: =IF(BN11=0,0,($V$11/$BN$11)*100000) -> #REF! | BP11: =' Populations'!#REF! -> #REF! | BQ11: =IF(BP11=0,0,($W$11/$BP$11)*100000) -> #REF! | BR11: =' Populations'!#REF! -> #REF! | BS11: =IF(BR11=0,0,($X$11/$BR$11)*100000) -> #REF! | BT11: =' Populations'!#REF! -> #REF! | BU11: =IF(BT11=0,0,($Y$11/$BT$11)*100000) -> #REF!
B12: 2010 | AA12: =' Populations'!C17 -> 0 | AB12: =IF(AA12=0,0,($C$12/$AA$12)*100000) -> 0 | AC12: =' Populations'!E17 -> 0 | AD12: =IF(AC12=0,0,($D$12/$AC$12)*100000) -> 0 | AE12: =' Populations'!G17 -> 0 | AF12: =IF(AE12=0,0,($E$12/$AE$12)*100000) -> 0 | AG12: =' Populations'!I17 -> 0 | AH12: =IF(AG12=0,0,($F$12/$AG$12)*100000) -> 0 | AI12: =' Populations'!K17 -> 0 | AJ12: =IF(AI12=0,0,($G$12/$AI$12)*100000) -> 0 | AK12: =' Populations'!M17 -> 0 | AL12: =IF(AK12=0,0,($G$12/$AK$12)*100000) -> 0 | AM12: =' Populations'!O17 -> 0 | AN12: =IF(AM12=0,0,($I$12/$AM$12)*100000) -> 0 | AO12: =' Populations'!Q17 -> 0 | AP12: =IF(AO12=0,0,($J$12/$AO$12)*100000) -> 0 | AQ12: =' Populations'!S17 -> 0 | AR12: =IF(AQ12=0,0,($K$12/$AQ$12)*100000) -> 0 | AS12: =' Populations'!U17 -> 0 | AT12: =IF(AS12=0,0,($L$12/$AS$12)*100000) -> 0 | AV12: =' Populations'!#REF! -> #REF! | AW12: =IF(AV12=0,0,($M$12/$AV$12)*100000) -> #REF! | AX12: =' Populations'!#REF! -> #REF! | AY12: =IF(AX12=0,0,($N$12/$AX$12)*100000) -> #REF! | AZ12: =' Populations'!#REF! -> #REF! | BA12: =IF(AZ12=0,0,($O$12/$AZ$12)*100000) -> #REF! | BB12: =' Populations'!#REF! -> #REF! | BC12: =IF(BB12=0,0,($P$12/$BB$12)*100000) -> #REF! | BD12: =' Populations'!#REF! -> #REF! | BE12: =IF(BD12=0,0,($Q$12/$BD$12)*100000) -> #REF! | BF12: =' Populations'!#REF! -> #REF! | BG12: =IF(BF12=0,0,($R$12/$BF$12)*100000) -> #REF! | BH12: =' Populations'!#REF! -> #REF! | BI12: =IF(BH12=0,0,($S$12/$BH$12)*100000) -> #REF! | BJ12: =' Populations'!#REF! -> #REF! | BK12: =IF(BJ12=0,0,($T$12/$BJ$12)*100000) -> #REF! | BL12: =' Populations'!#REF! -> #REF! | BM12: =IF(BL12=0,0,($U$12/$BL$12)*100000) -> #REF! | BN12: =' Populations'!#REF! -> #REF! | BO12: =IF(BN12=0,0,($V$12/$BN$12)*100000) -> #REF! | BP12: =' Populations'!#REF! -> #REF! | BQ12: =IF(BP12=0,0,($W$12/$BP$12)*100000) -> #REF! | BR12: =' Populations'!#REF! -> #REF! | BS12: =IF(BR12=0,0,($X$12/$BR$12)*100000) -> #REF! | BT12: =' Populations'!#REF! -> #REF! | BU12: =IF(BT12=0,0,($Y$12/$BT$12)*100000) -> #REF!
B13: 2009 | AA13: =' Populations'!C18 -> 0 | AB13: =IF(AA13=0,0,($C$13/$AA$13)*100000) -> 0 | AC13: =' Populations'!E18 -> 0 | AD13: =IF(AC13=0,0,($D$13/$AC$13)*100000) -> 0 | AE13: =' Populations'!G18 -> 0 | AF13: =IF(AE13=0,0,($E$13/$AE$13)*100000) -> 0 | AG13: =' Populations'!I18 -> 0 | AH13: =IF(AG13=0,0,($F$13/$AG$13)*100000) -> 0 | AI13: =' Populations'!K18 -> 0 | AJ13: =IF(AI13=0,0,($G$13/$AI$13)*100000) -> 0 | AK13: =' Populations'!M18 -> 0 | AL13: =IF(AK13=0,0,($G$13/$AK$13)*100000) -> 0 | AM13: =' Populations'!O18 -> 0 | AN13: =IF(AM13=0,0,($I$13/$AM$13)*100000) -> 0 | AO13: =' Populations'!Q18 -> 0 | AP13: =IF(AO13=0,0,($J$13/$AO$13)*100000) -> 0 | AQ13: =' Populations'!S18 -> 0 | AR13: =IF(AQ13=0,0,($K$13/$AQ$13)*100000) -> 0 | AS13: =' Populations'!U18 -> 0 | AT13: =IF(AS13=0,0,($L$13/$AS$13)*100000) -> 0 | AV13: =' Populations'!#REF! -> #REF! | AW13: =IF(AV13=0,0,($M$13/$AV$13)*100000) -> #REF! | AX13: =' Populations'!#REF! -> #REF! | AY13: =IF(AX13=0,0,($N$13/$AX$13)*100000) -> #REF! | AZ13: =' Populations'!#REF! -> #REF! | BA13: =IF(AZ13=0,0,($O$13/$AZ$13)*100000) -> #REF! | BB13: =' Populations'!#REF! -> #REF! | BC13: =IF(BB13=0,0,($P$13/$BB$13)*100000) -> #REF! | BD13: =' Populations'!#REF! -> #REF! | BE13: =IF(BD13=0,0,($Q$13/$BD$13)*100000) -> #REF! | BF13: =' Populations'!#REF! -> #REF! | BG13: =IF(BF13=0,0,($R$13/$BF$13)*100000) -> #REF! | BH13: =' Populations'!#REF! -> #REF! | BI13: =IF(BH13=0,0,($S$13/$BH$13)*100000) -> #REF! | BJ13: =' Populations'!#REF! -> #REF! | BK13: =IF(BJ13=0,0,($T$13/$BJ$13)*100000) -> #REF! | BL13: =' Populations'!#REF! -> #REF! | BM13: =IF(BL13=0,0,($U$13/$BL$13)*100000) -> #REF! | BN13: =' Populations'!#REF! -> #REF! | BO13: =IF(BN13=0,0,($V$13/$BN$13)*100000) -> #REF! | BP13: =' Populations'!#REF! -> #REF! | BQ13: =IF(BP13=0,0,($W$13/$BP$13)*100000) -> #REF! | BR13: =' Populations'!#REF! -> #REF! | BS13: =IF(BR13=0,0,($X$13/$BR$13)*100000) -> #REF! | BT13: =' Populations'!#REF! -> #REF! | BU13: =IF(BT13=0,0,($Y$13/$BT$13)*100000) -> #REF!
AA14: =' Populations'!C19 -> 0 | AB14: =IF(AA14=0,0,($C$14/$AA$14)*100000) -> 0 | AC14: =' Populations'!E19 -> 0 | AD14: =IF(AC14=0,0,($D$14/$AC$14)*100000) -> 0 | AE14: =' Populations'!G19 -> 0 | AF14: =IF(AE14=0,0,($E$14/$AE$14)*100000) -> 0 | AG14: =' Populations'!I19 -> 0 | AH14: =IF(AG14=0,0,($F$14/$AG$14)*100000) -> 0 | AI14: =' Populations'!K19 -> 0 | AJ14: =IF(AI14=0,0,($G$14/$AI$14)*100000) -> 0 | AK14: =' Populations'!M19 -> 0 | AL14: =IF(AK14=0,0,($G$14/$AK$14)*100000) -> 0 | AM14: =' Populations'!O19 -> 0 | AN14: =IF(AM14=0,0,($I$14/$AM$14)*100000) -> 0 | AO14: =' Populations'!Q19 -> 0 | AP14: =IF(AO14=0,0,($J$14/$AO$14)*100000) -> 0 | AQ14: =' Populations'!S19 -> 0 | AR14: =IF(AQ14=0,0,($K$14/$AQ$14)*100000) -> 0 | AS14: =' Populations'!U19 -> 0 | AT14: =IF(AS14=0,0,($L$14/$AS$14)*100000) -> 0 | AV14: =' Populations'!#REF! -> #REF! | AW14: =IF(AV14=0,0,($M$14/$AV$14)*100000) -> #REF! | AX14: =' Populations'!#REF! -> #REF! | AY14: =IF(AX14=0,0,($N$14/$AX$14)*100000) -> #REF! | AZ14: =' Populations'!#REF! -> #REF! | BA14: =IF(AZ14=0,0,($O$14/$AZ$14)*100000) -> #REF! | BB14: =' Populations'!#REF! -> #REF! | BC14: =IF(BB14=0,0,($P$14/$BB$14)*100000) -> #REF! | BD14: =' Populations'!#REF! -> #REF! | BE14: =IF(BD14=0,0,($Q$14/$BD$14)*100000) -> #REF! | BF14: =' Populations'!#REF! -> #REF! | BG14: =IF(BF14=0,0,($R$14/$BF$14)*100000) -> #REF! | BH14: =' Populations'!#REF! -> #REF! | BI14: =IF(BH14=0,0,($S$14/$BH$14)*100000) -> #REF! | BJ14: =' Populations'!#REF! -> #REF! | BK14: =IF(BJ14=0,0,($T$14/$BJ$14)*100000) -> #REF! | BL14: =' Populations'!#REF! -> #REF! | BM14: =IF(BL14=0,0,($U$13/$BL$13)*100000) -> #REF! | BN14: =' Populations'!#REF! -> #REF! | BO14: =IF(BN14=0,0,($V$14/$BN$14)*100000) -> #REF! | BP14: =' Populations'!#REF! -> #REF! | BQ14: =IF(BP14=0,0,($W$14/$BP$14)*100000) -> #REF! | BR14: =' Populations'!#REF! -> #REF! | BS14: =IF(BR14=0,0,($X$14/$BR$14)*100000) -> #REF! | BT14: =' Populations'!#REF! -> #REF! | BU14: =IF(BT14=0,0,($Y$14/$BT$14)*100000) -> #REF!
AA15: =' Populations'!C20 -> 0 | AB15: =IF(AA15=0,0,($C$15/$AA$15)*100000) -> 0 | AC15: =' Populations'!E20 -> 0 | AD15: =IF(AC15=0,0,($D$15/$AC$15)*100000) -> 0 | AE15: =' Populations'!G20 -> 0 | AF15: =IF(AE15=0,0,($E$15/$AE$15)*100000) -> 0 | AG15: =' Populations'!I20 -> 0 | AH15: =IF(AG15=0,0,($F$15/$AG$15)*100000) -> 0 | AI15: =' Populations'!K20 -> 0 | AJ15: =IF(AI15=0,0,($G$15/$AI$15)*100000) -> 0 | AK15: =' Populations'!M20 -> 0 | AL15: =IF(AK15=0,0,($G$15/$AK$15)*100000) -> 0 | AM15: =' Populations'!O20 -> 0 | AN15: =IF(AM15=0,0,($I$15/$AM$15)*100000) -> 0 | AO15: =' Populations'!Q20 -> 0 | AP15: =IF(AO15=0,0,($J$15/$AO$15)*100000) -> 0 | AQ15: =' Populations'!S20 -> 0 | AR15: =IF(AQ15=0,0,($K$15/$AQ$15)*100000) -> 0 | AS15: =' Populations'!U20 -> 0 | AT15: =IF(AS15=0,0,($L$15/$AS$15)*100000) -> 0 | AV15: =' Populations'!#REF! -> #REF! | AW15: =IF(AV15=0,0,($M$15/$AV$15)*100000) -> #REF! | AX15: =' Populations'!#REF! -> #REF! | AY15: =IF(AX15=0,0,($N$15/$AX$15)*100000) -> #REF! | AZ15: =' Populations'!#REF! -> #REF! | BA15: =IF(AZ15=0,0,($O$15/$AZ$15)*100000) -> #REF! | BB15: =' Populations'!#REF! -> #REF! | BC15: =IF(BB15=0,0,($P$15/$BB$15)*100000) -> #REF! | BD15: =' Populations'!#REF! -> #REF! | BE15: =IF(BD15=0,0,($Q$15/$BD$15)*100000) -> #REF! | BF15: =' Populations'!#REF! -> #REF! | BG15: =IF(BF15=0,0,($R$15/$BF$15)*100000) -> #REF! | BH15: =' Populations'!#REF! -> #REF! | BI15: =IF(BH15=0,0,($S$15/$BH$15)*100000) -> #REF! | BJ15: =' Populations'!#REF! -> #REF! | BK15: =IF(BJ15=0,0,($T$15/$BJ$15)*100000) -> #REF! | BL15: =' Populations'!#REF! -> #REF! | BM15: =IF(BL15=0,0,($U$13/$BL$13)*100000) -> #REF! | BN15: =' Populations'!#REF! -> #REF! | BO15: =IF(BN15=0,0,($V$15/$BN$15)*100000) -> #REF! | BP15: =' Populations'!#REF! -> #REF! | BQ15: =IF(BP15=0,0,($W$15/$BP$15)*100000) -> #REF! | BR15: =' Populations'!#REF! -> #REF! | BS15: =IF(BR15=0,0,($X$15/$BR$15)*100000) -> #REF! | BT15: =' Populations'!#REF! -> #REF! | BU15: =IF(BT15=0,0,($Y$15/$BT$15)*100000) -> #REF!
AA16: =' Populations'!C21 -> 0 | AB16: =IF(AA16=0,0,($C$16/$AA$16)*100000) -> 0 | AC16: =' Populations'!E21 -> 0 | AD16: =IF(AC16=0,0,($D$16/$AC$16)*100000) -> 0 | AE16: =' Populations'!G21 -> 0 | AF16: =IF(AE16=0,0,($E$16/$AE$16)*100000) -> 0 | AG16: =' Populations'!I21 -> 0 | AH16: =IF(AG16=0,0,($F$16/$AG$16)*100000) -> 0 | AI16: =' Populations'!K21 -> 0 | AJ16: =IF(AI16=0,0,($G$16/$AI$16)*100000) -> 0 | AK16: =' Populations'!M21 -> 0 | AL16: =IF(AK16=0,0,($G$16/$AK$16)*100000) -> 0 | AM16: =' Populations'!O21 -> 0 | AN16: =IF(AM16=0,0,($I$16/$AM$16)*100000) -> 0 | AO16: =' Populations'!Q21 -> 0 | AP16: =IF(AO16=0,0,($J$16/$AO$16)*100000) -> 0 | AQ16: =' Populations'!S21 -> 0 | AR16: =IF(AQ16=0,0,($K$16/$AQ$16)*100000) -> 0 | AS16: =' Populations'!U21 -> 0 | AT16: =IF(AS16=0,0,($L$16/$AS$16)*100000) -> 0 | AV16: =' Populations'!#REF! -> #REF! | AW16: =IF(AV16=0,0,($M$16/$AV$16)*100000) -> #REF! | AX16: =' Populations'!#REF! -> #REF! | AY16: =IF(AX16=0,0,($N$16/$AX$16)*100000) -> #REF! | AZ16: =' Populations'!#REF! -> #REF! | BA16: =IF(AZ16=0,0,($O$16/$AZ$16)*100000) -> #REF! | BB16: =' Populations'!#REF! -> #REF! | BC16: =IF(BB16=0,0,($P$16/$BB$16)*100000) -> #REF! | BD16: =' Populations'!#REF! -> #REF! | BE16: =IF(BD16=0,0,($Q$16/$BD$16)*100000) -> #REF! | BF16: =' Populations'!#REF! -> #REF! | BG16: =IF(BF16=0,0,($R$16/$BF$16)*100000) -> #REF! | BH16: =' Populations'!#REF! -> #REF! | BI16: =IF(BH16=0,0,($S$16/$BH$16)*100000) -> #REF! | BJ16: =' Populations'!#REF! -> #REF! | BK16: =IF(BJ16=0,0,($T$16/$BJ$16)*100000) -> #REF! | BL16: =' Populations'!#REF! -> #REF! | BM16: =IF(BL16=0,0,($U$13/$BL$13)*100000) -> #REF! | BN16: =' Populations'!#REF! -> #REF! | BO16: =IF(BN16=0,0,($V$16/$BN$16)*100000) -> #REF! | BP16: =' Populations'!#REF! -> #REF! | BQ16: =IF(BP16=0,0,($W$16/$BP$16)*100000) -> #REF! | BR16: =' Populations'!#REF! -> #REF! | BS16: =IF(BR16=0,0,($X$16/$BR$16)*100000) -> #REF! | BT16: =' Populations'!#REF! -> #REF! | BU16: =IF(BT16=0,0,($Y$16/$BT$16)*100000) -> #REF!
B17: total | C17: =SUM(C4:C16) -> 0 | D17: =SUM(D4:D16) -> 0 | E17: =SUM(E4:E16) -> 0 | F17: =SUM(F4:F16) -> 0 | G17: =SUM(G4:G16) -> 0 | H17: =SUM(H4:H16) -> 0 | I17: =SUM(I4:I16) -> 0 | J17: =SUM(J4:J16) -> 0 | ... Y17: =SUM(Y4:Y16) -> 0 | AA17: =SUM(AA4:AA16) -> 0 | AB17: =SUM(AB4:AB16) -> 0 | AC17: =SUM(AC4:AC16) -> 0 | AD17: =SUM(AD4:AD16) -> 0 | AE17: =SUM(AE4:AE16) -> 0 | AF17: =SUM(AF4:AF16) -> 0 | AG17: =SUM(AG4:AG16) -> 0 | AH17: =SUM(AH4:AH16) -> 0 | ... AT17: =SUM(AT4:AT16) -> 0 | AV17: =' Populations'!#REF! -> #REF! | AW17: =SUM(AW4:AW16) -> #REF! | AX17: =' Populations'!#REF! -> #REF! | AY17: =SUM(AY4:AY16) -> #REF! | AZ17: =' Populations'!#REF! -> #REF! | BA17: =SUM(BA4:BA16) -> #REF! | BB17: =' Populations'!#REF! -> #REF! | BC17: =SUM(BC4:BC16) -> #REF! | BD17: =' Populations'!#REF! -> #REF! | BE17: =SUM(BE4:BE16) -> #REF! | BF17: =' Populations'!#REF! -> #REF! | BG17: =SUM(BG4:BG16) -> #REF! | BH17: =' Populations'!#REF! -> #REF! | BI17: =SUM(BI4:BI16) -> #REF! | BJ17: =' Populations'!#REF! -> #REF! | BK17: =SUM(BK4:BK16) -> #REF! | BL17: =' Populations'!#REF! -> #REF! | BM17: =IF(BL17=0,0,($U$13/$BL$13)*100000) -> #REF! | BN17: =' Populations'!#REF! -> #REF! | BO17: =SUM(BO4:BO16) -> #REF! | BP17: =' Populations'!#REF! -> #REF! | BQ17: =SUM(BQ4:BQ16) -> #REF! | BR17: =' Populations'!#REF! -> #REF! | BS17: =SUM(BS4:BS16) -> #REF! | BT17: =' Populations'!#REF! -> #REF! | BU17: =SUM(BU4:BU16) -> #REF!
A18: change over time (red indicates a decrease over time) | C18: =C4-C13 -> 0 | D18: =D4-D13 -> 0 | E18: =E4-E13 -> 0 | F18: =F4-F13 -> 0 | G18: =G4-G13 -> 0 | H18: =H4-H13 -> 0 | I18: =I4-I13 -> 0 | J18: =J4-J13 -> 0 | ... Y18: =Y4-Y13 -> 0 | AB18: =AB4-AB13 -> 0 | AD18: =AD4-AD13 -> 0 | AF18: =AF4-AF13 -> 0 | AH18: =AH4-AH13 -> 0 | AJ18: =AJ4-AJ13 -> 0 | AL18: =AL4-AL13 -> 0 | AN18: =AN4-AN13 -> 0 | AP18: =AP4-AP13 -> 0 | AR18: =AR4-AR13 -> 0 | AT18: =AT4-AT13 -> 0 | AW18: =AW4-AW13 -> #REF! | AY18: =AY4-AY13 -> #REF! | BA18: =BA4-BA13 -> #REF! | BC18: =BC4-BC13 -> #REF!

Sheet Poisoning
B1: Data Input Tables Instructions: Enter your Suicide-related injury data in the red cells below. The age-adjusted rates will automatically calculate in the results table. | F1: Optional: Unhide columns G through L to enter demographic data | M1: Optional: Unhide columns N through AF to enter health region data | AH1: Optional: Unhide columns AI through CS to show rate calculations and 2000 population weights | CU1: Results Table Age Adjusted Rates per 100,1000. Results will calculate automatically. | CX1: Optional: Unhide columns CY through DY to show demographic and regional rates
A2: Most Recent Date Year | C2: =' Populations'!A10 -> 0 | D2: Sex Data | F2: Demographic Data | M2: Region Data | CV2: Age-adjusted Rates per 100,000 population
B3: Age | C3: Number of deaths- Total | D3: Number of deaths- Male | E3: Number of deaths- Female | F3: =' Populations'!$I$8 -> White-Not Hispanic | G3: =' Populations'!$K$8 -> Hispanic | H3: =' Populations'!$M$8 -> Black-Not Hispanic | I3: =' Populations'!$O$8 -> Asian | J3: =' Populations'!$Q$8 -> American Indian/Alaska Native | K3: =' Populations'!$S$8 -> Other | L3: =' Populations'!$U$8 -> Other | M3: =' Populations'!W8 -> Region 1 | N3: =' Populations'!Y8 -> Region 2 | O3: =' Populations'!AA8 -> Region 3 | P3: =' Populations'!AC8 -> Region 4 | Q3: =' Populations'!AE8 -> Region 5 | R3: =' Populations'!AG8 -> Region 6 | S3: =' Populations'!AI8 -> Region 7 | T3: =' Populations'!AK8 -> Region 8 | U3: =' Populations'!AM8 -> Region 9 | V3: =' Populations'!AO8 -> Region 10 | W3: =' Populations'!AQ8 -> Region 11 | X3: =' Populations'!AS8 -> Region 12 | Y3: =' Populations'!AU8 -> Region 13 | Z3: =' Populations'!AW8 -> Region 14 | AA3: =' Populations'!AY8 -> Region 15 | AB3: =' Populations'!BA8 -> Region 16 | AC3: =' Populations'!BC8 -> Region 17 | AD3: =' Populations'!BE8 -> Region 18 | AE3: =' Populations'!BG8 -> Region 19 | AF3: =' Populations'!BI8 -> Region 20 | AH3: State population - Total | AI3: Rate | AJ3: State population - Male | AK3: Rate | AL3: State population - Female | AM3: Rate | AN3: =' Populations'!$I$8 -> White-Not Hispanic | AO3: Rate | AP3: =' Populations'!$K$8 -> Hispanic | AQ3: Rate | AR3: =' Populations'!$M$8 -> Black-Not Hispanic | AS3: Rate | AT3: =' Populations'!$O$8 -> Asian | AU3: Rate | AV3: =' Populations'!$Q$8 -> American Indian/Alaska Native | AW3: Rate | AX3: =' Populations'!$S$8 -> Other | AY3: Rate | AZ3: =' Populations'!$U$8 -> Other | BA3: Rate | BC3: =M3 -> Region 1 | BD3: Rate | BE3: =N3 -> Region 2 | BF3: Rate | BG3: =O3 -> Region 3 | BH3: Rate | BI3: =P3 -> Region 4 | BJ3: Rate | BK3: =Q3 -> Region 5 | BL3: Rate | BM3: =R3 -> Region 6 | BN3: Rate | BO3: =S3 -> Region 7 | BP3: Rate | BQ3: =T3 -> Region 8 | BR3: Rate | BS3: =U3 -> Region 9 | BT3: Rate | BU3: =V3 -> Region 10 | BV3: Rate | BW3: =W3 -> Region 11 | BX3: Rate | BY3: =X3 -> Region 12 | BZ3: Rate | CA3: =Y3 -> Region 13 | CB3: Rate | CC3: =Z3 -> Region 14 | CD3: Rate | CE3: =AA3 -> Region 15 | CF3: Rate | CG3: =AB3 -> Region 16 | CH3: Rate | CI3: =AC3 -> Region 17 | CJ3: Rate | CK3: =AD3 -> Region 18 | CL3: Rate | CM3: =AE3 -> Region 19 | CN3: Rate | CO3: =AF3 -> Region 20 | CP3: Rate | CS3: 2000 Population Weight | CU3: Age | CV3: Total | CW3: Male | CX3: Female | CY3: =' Populations'!$I$8 -> White-Not Hispanic | CZ3: =' Populations'!$K$8 -> Hispanic | DA3: =' Populations'!$M$8 -> Black-Not Hispanic | DB3: =' Populations'!$O$8 -> Asian | DC3: =' Populations'!$Q$8 -> American Indian/Alaska Native | DD3: =' Populations'!$S$8 -> Other | DE3: =' Populations'!$U$8 -> Other | DF3: =M3 -> Region 1 | DG3: =N3 -> Region 2 | DH3: =O3 -> Region 3 | DI3: =P3 -> Region 4 | DJ3: =Q3 -> Region 5 | DK3: =R3 -> Region 6 | DL3: =S3 -> Region 7 | DM3: =T3 -> Region 8 | ... DY3: =AF3 -> Region 20
B4: =' Populations'!$B$9 -> <1 | S4: 0 | T4: 0 | U4: 0 | V4: 0 | W4: 0 | X4: 0 | Y4: 0 | Z4: 0 | AA4: 0 | AB4: 0 | AC4: 0 | AD4: 0 | AE4: 0 | AF4: 0 | AH4: =' Populations'!C9 -> 0 | AI4: =IF(AH4=0,0,($C$4/$AH$4)*100000) -> 0 | AJ4: =' Populations'!E9 -> 0 | AK4: =IF(AJ4=0,0,($D$4/$AJ$4)*100000) -> 0 | AL4: =' Populations'!G9 -> 0 | AM4: =IF(AL4=0,0,($E$4/$AL$4)*100000) -> 0 | AN4: =' Populations'!I9 -> 0 | AO4: =IF(AN4=0,0,($F$4/$AN$4)*100000) -> 0 | AP4: =' Populations'!K9 -> 0 | AQ4: =IF(AP4=0,0,($G$4/$AP$4)*100000) -> 0 | AR4: =' Populations'!M9 -> 0 | AS4: =IF(AR4=0,0,($H$4/$AR$4)*100000) -> 0 | AT4: =' Populations'!O9 -> 0 | AU4: =IF(AT4=0,0,($I$4/$AT$4)*100000) -> 0 | AV4: =' Populations'!Q9 -> 0 | AW4: =IF(AV4=0,0,($J$4/$AV$4)*100000) -> 0 | AX4: =' Populations'!S9 -> 0 | AY4: =IF(AX4=0,0,($K$4/$AX$4)*100000) -> 0 | AZ4: =' Populations'!U9 -> 0 | BA4: =IF(AZ4=0,0,($L$4/$AZ$4)*100000) -> 0 | BC4: =' Populations'!W9 -> 0 | BD4: =IF(BC4=0,0,($M$4/$BC$4)*100000) -> 0 | BE4: =' Populations'!Y9 -> 0 | BF4: =IF(BE4=0,0,($N$4/$BE$4)*100000) -> 0 | BG4: =' Populations'!AA9 -> 0 | BH4: =IF(BG4=0,0,($O$4/$BG$4)*100000) -> 0 | BI4: =' Populations'!AC9 -> 0 | BJ4: =IF(BI4=0,0,($P$4/$BI$4)*100000) -> 0 | BK4: =' Populations'!AE9 -> 0 | BL4: =IF(BK4=0,0,($Q$4/$BK$4)*100000) -> 0 | BM4: =' Populations'!AG9 -> 0 | BN4: =IF(BM4=0,0,($R$4/$BM$4)*100000) -> 0 | BO4: =' Populations'!AI9 -> 0 | BP4: =IF(BO4=0,0,($S$4/$BO$4)*100000) -> 0 | BQ4: =' Populations'!AK9 -> 0 | BR4: =IF(BQ4=0,0,($T$4/$BQ$4)*100000) -> 0 | BS4: =' Populations'!AM9 -> 0 | BT4: =IF(BS4=0,0,($U$4/$BS$4)*100000) -> 0 | BU4: =' Populations'!AO9 -> 0 | BV4: =IF(BU4=0,0,($V$4/$BU$4)*100000) -> 0 | BW4: =' Populations'!AQ9 -> 0 | BX4: =IF(BW4=0,0,($W$4/$BW$4)*100000) -> 0 | BY4: =' Populations'!AS9 -> 0 | BZ4: =IF(BY4=0,0,($X$4/$BY$4)*100000) -> 0 | CA4: =' Populations'!AU9 -> 0 | CB4: =IF(CA4=0,0,($Y$4/$CA$4)*100000) -> 0 | CC4: =' Populations'!AW9 -> 0 | CD4: =IF(CC4=0,0,($Z$4/$CC$4)*100000) -> 0 | CE4: =' Populations'!AY9 -> 0 | CF4: =IF(CE4=0,0,($AA$4/$CE$4)*100000) -> 0 | CG4: =' Populations'!BA9 -> 0 | CH4: =IF(CG4=0,0,($AB$4/$CG$4)*100000) -> 0 | CI4: =' Populations'!BC9 -> 0 | CJ4: =IF(CI4=0,0,($AC$4/$CI$4)*100000) -> 0 | CK4: =' Populations'!BE9 -> 0 | CL4: =IF(CK4=0,0,($AD$4/$CK$4)*100000) -> 0 | CM4: =' Populations'!BG9 -> 0 | CN4: =IF(CM4=0,0,($AE$4/$CM$4)*100000) -> 0 | CO4: =' Populations'!BI9 -> 0 | CP4: =IF(CO4=0,0,($AF$4/$CO$4)*100000) -> 0 | CS4: 0.013818 | CU4: =' Populations'!$B$9 -> <1 | CV4: =AI4*CS4 -> 0 | CW4: =AK4*CS4 -> 0 | CX4: =AM4*CS4 -> 0 | CY4: =AO4*CS4 -> 0 | CZ4: =AQ4*CS4 -> 0 | DA4: =AS4*CS4 -> 0 | DB4: =AU4*CS4 -> 0 | DC4: =AW4*CS4 -> 0 | DD4: =AY4*CS4 -> 0 | DE4: =BA4*CS4 -> 0 | DF4: =BD4*CS4 -> 0 | DG4: =BF4*CS4 -> 0 | DH4: =BH4*CS4 -> 0 | DI4: =BJ4*CS4 -> 0 | DJ4: =BL4*CS4 -> 0 | DK4: =BN4*CS4 -> 0 | DL4: =BO4*CS4 -> 0 | DM4: =BR4*CS4 -> 0 | DN4: =BT4*CS4 -> 0 | DO4: =BV4*CS4 -> 0 | DP4: =BX4*CS4 -> 0 | DQ4: =BZ4*CS4 -> 0 | DR4: =CB4*CS4 -> 0 | DS4: =CD4*CS4 -> 0 | DT4: =CE4*CS4 -> 0 | DU4: =CF4*CS4 -> 0 | DV4: =CG4*CS4 -> 0 | DW4: =CH4*CS4 -> 0 | DX4: =CI4*CS4 -> 0 | DY4: =CJ4*CS4 -> 0
B5: =' Populations'!$B$10 -> 1-4 | S5: 0 | T5: 0 | U5: 0 | V5: 0 | W5: 0 | X5: 0 | Y5: 0 | Z5: 0 | AA5: 0 | AB5: 0 | AC5: 0 | AD5: 0 | AE5: 0 | AF5: 0 | AH5: =' Populations'!C10 -> 0 | AI5: =IF(AH5=0,0,($C$5/$AH$5)*100000) -> 0 | AJ5: =' Populations'!E10 -> 0 | AK5: =IF(AJ5=0,0,($D$5/$AJ$5)*100000) -> 0 | AL5: =' Populations'!G10 -> 0 | AM5: =IF(AL5=0,0,($E$5/$AL$5)*100000) -> 0 | AN5: =' Populations'!I10 -> 0 | AO5: =IF(AN5=0,0,($F$5/$AN$5)*100000) -> 0 | AP5: =' Populations'!K10 -> 0 | AQ5: =IF(AP5=0,0,($G$5/$AP$5)*100000) -> 0 | AR5: =' Populations'!M10 -> 0 | AS5: =IF(AR5=0,0,($G$5/$AR$5)*100000) -> 0 | AT5: =' Populations'!O10 -> 0 | AU5: =IF(AT5=0,0,($I$5/$AT$5)*100000) -> 0 | AV5: =' Populations'!Q10 -> 0 | AW5: =IF(AV5=0,0,($J$5/$AV$5)*100000) -> 0 | AX5: =' Populations'!S10 -> 0 | AY5: =IF(AX5=0,0,($K$5/$AX$5)*100000) -> 0 | AZ5: =' Populations'!U10 -> 0 | BA5: =IF(AZ5=0,0,($L$5/$AZ$5)*100000) -> 0 | BC5: =' Populations'!W10 -> 0 | BD5: =IF(BC5=0,0,($M$5/$BC$5)*100000) -> 0 | BE5: =' Populations'!Y10 -> 0 | BF5: =IF(BE5=0,0,($N$5/$BE$5)*100000) -> 0 | BG5: =' Populations'!AA10 -> 0 | BH5: =IF(BG5=0,0,($O$5/$BG$5)*100000) -> 0 | BI5: =' Populations'!AC10 -> 0 | BJ5: =IF(BI5=0,0,($P$5/$BI$5)*100000) -> 0 | BK5: =' Populations'!AE10 -> 0 | BL5: =IF(BK5=0,0,($Q$5/$BK$5)*100000) -> 0 | BM5: =' Populations'!AG10 -> 0 | BN5: =IF(BM5=0,0,($R$5/$BM$5)*100000) -> 0 | BO5: =' Populations'!AI10 -> 0 | BP5: =IF(BO5=0,0,($S$5/$BO$5)*100000) -> 0 | BQ5: =' Populations'!AK10 -> 0 | BR5: =IF(BQ5=0,0,($T$5/$BQ$5)*100000) -> 0 | BS5: =' Populations'!AM10 -> 0 | BT5: =IF(BS5=0,0,($U$5/$BS$5)*100000) -> 0 | BU5: =' Populations'!AO10 -> 0 | BV5: =IF(BU5=0,0,($V$5/$BU$5)*100000) -> 0 | BW5: =' Populations'!AQ10 -> 0 | BX5: =IF(BW5=0,0,($W$5/$BW$5)*100000) -> 0 | BY5: =' Populations'!AS10 -> 0 | BZ5: =IF(BY5=0,0,($X$5/$BY$5)*100000) -> 0 | CA5: =' Populations'!AU10 -> 0 | CB5: =IF(CA5=0,0,($Y$5/$CA$5)*100000) -> 0 | CC5: =' Populations'!AW10 -> 0 | CD5: =IF(CC5=0,0,($Z$5/$CC$5)*100000) -> 0 | CE5: =' Populations'!AY10 -> 0 | CF5: =IF(CE5=0,0,($AA$5/$CE$5)*100000) -> 0 | CG5: =' Populations'!BA10 -> 0 | CH5: =IF(CG5=0,0,($AB$4/$CG$5)*100000) -> 0 | CI5: =' Populations'!BC10 -> 0 | CJ5: =IF(CI5=0,0,($AC$4/$CI$5)*100000) -> 0 | CK5: =' Populations'!BE10 -> 0 | CL5: =IF(CK5=0,0,($AD$4/$CK$5)*100000) -> 0 | CM5: =' Populations'!BG10 -> 0 | CN5: =IF(CM5=0,0,($AE$4/$CM$5)*100000) -> 0 | CO5: =' Populations'!BI10 -> 0 | CP5: =IF(CO5=0,0,($AF$4/$CO$5)*100000) -> 0 | CS5: 0.055317 | CU5: =' Populations'!$B$10 -> 1-4 | CV5: =AI5*CS5 -> 0 | CW5: =AK5*CS5 -> 0 | CX5: =AM5*CS5 -> 0 | CY5: =AO5*CS5 -> 0 | CZ5: =AQ5*CS5 -> 0 | DA5: =AS5*CS5 -> 0 | DB5: =AU5*CS5 -> 0 | DC5: =AW5*CS5 -> 0 | DD5: =AY5*CS5 -> 0 | DE5: =BA5*CS5 -> 0 | DF5: =BD5*CS5 -> 0 | DG5: =BF5*CS5 -> 0 | DH5: =BH5*CS5 -> 0 | DI5: =BJ5*CS5 -> 0 | DJ5: =BL5*CS5 -> 0 | DK5: =BN5*CS5 -> 0 | DL5: =BO5*CS5 -> 0 | DM5: =BR5*CS5 -> 0 | DN5: =BT5*CS5 -> 0 | DO5: =BV5*CS5 -> 0 | DP5: =BX5*CS5 -> 0 | DQ5: =BZ5*CS5 -> 0 | DR5: =CB5*CS5 -> 0 | DS5: =CD5*CS5 -> 0 | DT5: =CE5*CS5 -> 0 | DU5: =CF5*CS5 -> 0 | DV5: =CG5*CS5 -> 0 | DW5: =CH5*CS5 -> 0 | DX5: =CI5*CS5 -> 0 | DY5: =CJ5*CS5 -> 0
B6: =' Populations'!$B$11 -> 5-9 | S6: 0 | T6: 0 | U6: 0 | V6: 0 | W6: 0 | X6: 0 | Y6: 0 | Z6: 0 | AA6: 0 | AB6: 0 | AC6: 0 | AD6: 0 | AE6: 0 | AF6: 0 | AH6: =' Populations'!C11 -> 0 | AI6: =IF(AH6=0,0,($C$6/$AH$6)*100000) -> 0 | AJ6: =' Populations'!E11 -> 0 | AK6: =IF(AJ6=0,0,($D$6/$AJ$6)*100000) -> 0 | AL6: =' Populations'!G11 -> 0 | AM6: =IF(AL6=0,0,($E$6/$AL$6)*100000) -> 0 | AN6: =' Populations'!I11 -> 0 | AO6: =IF(AN6=0,0,($F$6/$AN$6)*100000) -> 0 | AP6: =' Populations'!K11 -> 0 | AQ6: =IF(AP6=0,0,($G$6/$AP$6)*100000) -> 0 | AR6: =' Populations'!M11 -> 0 | AS6: =IF(AR6=0,0,($G$6/$AR$6)*100000) -> 0 | AT6: =' Populations'!O11 -> 0 | AU6: =IF(AT6=0,0,($I$6/$AT$6)*100000) -> 0 | AV6: =' Populations'!Q11 -> 0 | AW6: =IF(AV6=0,0,($J$6/$AV$6)*100000) -> 0 | AX6: =' Populations'!S11 -> 0 | AY6: =IF(AX6=0,0,($K$6/$AX$6)*100000) -> 0 | AZ6: =' Populations'!U11 -> 0 | BA6: =IF(AZ6=0,0,($L$6/$AZ$6)*100000) -> 0 | BC6: =' Populations'!W11 -> 0 | BD6: =IF(BC6=0,0,($M$6/$BC$6)*100000) -> 0 | BE6: =' Populations'!Y11 -> 0 | BF6: =IF(BE6=0,0,($N$6/$BE$6)*100000) -> 0 | BG6: =' Populations'!AA11 -> 0 | BH6: =IF(BG6=0,0,($O$6/$BG$6)*100000) -> 0 | BI6: =' Populations'!AC11 -> 0 | BJ6: =IF(BI6=0,0,($P$6/$BI$6)*100000) -> 0 | BK6: =' Populations'!AE11 -> 0 | BL6: =IF(BK6=0,0,($Q$6/$BK$6)*100000) -> 0 | BM6: =' Populations'!AG11 -> 0 | BN6: =IF(BM6=0,0,($R$6/$BM$6)*100000) -> 0 | BO6: =' Populations'!AI11 -> 0 | BP6: =IF(BO6=0,0,($S$6/$BO$6)*100000) -> 0 | BQ6: =' Populations'!AK11 -> 0 | BR6: =IF(BQ6=0,0,($T$6/$BQ$6)*100000) -> 0 | BS6: =' Populations'!AM11 -> 0 | BT6: =IF(BS6=0,0,($U$6/$BS$6)*100000) -> 0 | BU6: =' Populations'!AO11 -> 0 | BV6: =IF(BU6=0,0,($V$6/$BU$6)*100000) -> 0 | BW6: =' Populations'!AQ11 -> 0 | BX6: =IF(BW6=0,0,($W$6/$BW$6)*100000) -> 0 | BY6: =' Populations'!AS11 -> 0 | BZ6: =IF(BY6=0,0,($X$6/$BY$6)*100000) -> 0 | CA6: =' Populations'!AU11 -> 0 | CB6: =IF(CA6=0,0,($Y$6/$CA$6)*100000) -> 0 | CC6: =' Populations'!AW11 -> 0 | CD6: =IF(CC6=0,0,($Z$6/$CC$6)*100000) -> 0 | CE6: =' Populations'!AY11 -> 0 | CF6: =IF(CE6=0,0,($AA$6/$CE$6)*100000) -> 0 | CG6: =' Populations'!BA11 -> 0 | CH6: =IF(CG6=0,0,($AB$4/$CG$6)*100000) -> 0 | CI6: =' Populations'!BC11 -> 0 | CJ6: =IF(CI6=0,0,($AC$4/$CI$6)*100000) -> 0 | CK6: =' Populations'!BE11 -> 0 | CL6: =IF(CK6=0,0,($AD$4/$CK$6)*100000) -> 0 | CM6: =' Populations'!BG11 -> 0 | CN6: =IF(CM6=0,0,($AE$4/$CM$6)*100000) -> 0 | CO6: =' Populations'!BI11 -> 0 | CP6: =IF(CO6=0,0,($AF$4/$CO$6)*100000) -> 0 | CS6: 0.072533 | CU6: =' Populations'!$B$11 -> 5-9 | CV6: =AI6*CS6 -> 0 | CW6: =AK6*CS6 -> 0 | CX6: =AM6*CS6 -> 0 | CY6: =AO6*CS6 -> 0 | CZ6: =AQ6*CS6 -> 0 | DA6: =AS6*CS6 -> 0 | DB6: =AU6*CS6 -> 0 | DC6: =AW6*CS6 -> 0 | DD6: =AY6*CS6 -> 0 | DE6: =BA6*CS6 -> 0 | DF6: =BD6*CS6 -> 0 | DG6: =BF6*CS6 -> 0 | DH6: =BH6*CS6 -> 0 | DI6: =BJ6*CS6 -> 0 | DJ6: =BL6*CS6 -> 0 | DK6: =BN6*CS6 -> 0 | DL6: =BO6*CS6 -> 0 | DM6: =BR6*CS6 -> 0 | DN6: =BT6*CS6 -> 0 | DO6: =BV6*CS6 -> 0 | DP6: =BX6*CS6 -> 0 | DQ6: =BZ6*CS6 -> 0 | DR6: =CB6*CS6 -> 0 | DS6: =CD6*CS6 -> 0 | DT6: =CE6*CS6 -> 0 | DU6: =CF6*CS6 -> 0 | DV6: =CG6*CS6 -> 0 | DW6: =CH6*CS6 -> 0 | DX6: =CI6*CS6 -> 0 | DY6: =CJ6*CS6 -> 0
B7: =' Populations'!$B$12 -> 10-14 | AH7: =' Populations'!C12 -> 0 | AI7: =IF(AH7=0,0,($C$7/$AH$7)*100000) -> 0 | AJ7: =' Populations'!E12 -> 0 | AK7: =IF(AJ7=0,0,($D$7/$AJ$7)*100000) -> 0 | AL7: =' Populations'!G12 -> 0 | AM7: =IF(AL7=0,0,($E$7/$AL$7)*100000) -> 0 | AN7: =' Populations'!I12 -> 0 | AO7: =IF(AN7=0,0,($F$7/$AN$7)*100000) -> 0 | AP7: =' Populations'!K12 -> 0 | AQ7: =IF(AP7=0,0,($G$7/$AP$7)*100000) -> 0 | AR7: =' Populations'!M12 -> 0 | AS7: =IF(AR7=0,0,($G$7/$AR$7)*100000) -> 0 | AT7: =' Populations'!O12 -> 0 | AU7: =IF(AT7=0,0,($I$7/$AT$7)*100000) -> 0 | AV7: =' Populations'!Q12 -> 0 | AW7: =IF(AV7=0,0,($J$7/$AV$7)*100000) -> 0 | AX7: =' Populations'!S12 -> 0 | AY7: =IF(AX7=0,0,($K$7/$AX$7)*100000) -> 0 | AZ7: =' Populations'!U12 -> 0 | BA7: =IF(AZ7=0,0,($L$7/$AZ$7)*100000) -> 0 | BC7: =' Populations'!W12 -> 0 | BD7: =IF(BC7=0,0,($M$7/$BC$7)*100000) -> 0 | BE7: =' Populations'!Y12 -> 0 | BF7: =IF(BE7=0,0,($N$7/$BE$7)*100000) -> 0 | BG7: =' Populations'!AA12 -> 0 | BH7: =IF(BG7=0,0,($O$7/$BG$7)*100000) -> 0 | BI7: =' Populations'!AC12 -> 0 | BJ7: =IF(BI7=0,0,($P$7/$BI$7)*100000) -> 0 | BK7: =' Populations'!AE12 -> 0 | BL7: =IF(BK7=0,0,($Q$7/$BK$7)*100000) -> 0 | BM7: =' Populations'!AG12 -> 0 | BN7: =IF(BM7=0,0,($R$7/$BM$7)*100000) -> 0 | BO7: =' Populations'!AI12 -> 0 | BP7: =IF(BO7=0,0,($S$7/$BO$7)*100000) -> 0 | BQ7: =' Populations'!AK12 -> 0 | BR7: =IF(BQ7=0,0,($T$7/$BQ$7)*100000) -> 0 | BS7: =' Populations'!AM12 -> 0 | BT7: =IF(BS7=0,0,($U$7/$BS$7)*100000) -> 0 | BU7: =' Populations'!AO12 -> 0 | BV7: =IF(BU7=0,0,($V$7/$BU$7)*100000) -> 0 | BW7: =' Populations'!AQ12 -> 0 | BX7: =IF(BW7=0,0,($W$7/$BW$7)*100000) -> 0 | BY7: =' Populations'!AS12 -> 0 | BZ7: =IF(BY7=0,0,($X$7/$BY$7)*100000) -> 0 | CA7: =' Populations'!AU12 -> 0 | CB7: =IF(CA7=0,0,($Y$7/$CA$7)*100000) -> 0 | CC7: =' Populations'!AW12 -> 0 | CD7: =IF(CC7=0,0,($Z$7/$CC$7)*100000) -> 0 | CE7: =' Populations'!AY12 -> 0 | CF7: =IF(CE7=0,0,($AA$7/$CE$7)*100000) -> 0 | CG7: =' Populations'!BA12 -> 0 | CH7: =IF(CG7=0,0,($AB$4/$CG$7)*100000) -> 0 | CI7: =' Populations'!BC12 -> 0 | CJ7: =IF(CI7=0,0,($AC$4/$CI$7)*100000) -> 0 | CK7: =' Populations'!BE12 -> 0 | CL7: =IF(CK7=0,0,($AD$4/$CK$7)*100000) -> 0 | CM7: =' Populations'!BG12 -> 0 | CN7: =IF(CM7=0,0,($AE$4/$CM$7)*100000) -> 0 | CO7: =' Populations'!BI12 -> 0 | CP7: =IF(CO7=0,0,($AF$4/$CO$7)*100000) -> 0 | CS7: 0.073032 | CU7: =' Populations'!$B$12 -> 10-14 | CV7: =AI7*CS7 -> 0 | CW7: =AK7*CS7 -> 0 | CX7: =AM7*CS7 -> 0 | CY7: =AO7*CS7 -> 0 | CZ7: =AQ7*CS7 -> 0 | DA7: =AS7*CS7 -> 0 | DB7: =AU7*CS7 -> 0 | DC7: =AW7*CS7 -> 0 | DD7: =AY7*CS7 -> 0 | DE7: =BA7*CS7 -> 0 | DF7: =BD7*CS7 -> 0 | DG7: =BF7*CS7 -> 0 | DH7: =BH7*CS7 -> 0 | DI7: =BJ7*CS7 -> 0 | DJ7: =BL7*CS7 -> 0 | DK7: =BN7*CS7 -> 0 | DL7: =BO7*CS7 -> 0 | DM7: =BR7*CS7 -> 0 | DN7: =BT7*CS7 -> 0 | DO7: =BV7*CS7 -> 0 | DP7: =BX7*CS7 -> 0 | DQ7: =BZ7*CS7 -> 0 | DR7: =CB7*CS7 -> 0 | DS7: =CD7*CS7 -> 0 | DT7: =CE7*CS7 -> 0 | DU7: =CF7*CS7 -> 0 | DV7: =CG7*CS7 -> 0 | DW7: =CH7*CS7 -> 0 | DX7: =CI7*CS7 -> 0 | DY7: =CJ7*CS7 -> 0
B8: =' Populations'!$B$13 -> 15-19 | AH8: =' Populations'!C13 -> 0 | AI8: =IF(AH8=0,0,($C$8/$AH$8)*100000) -> 0 | AJ8: =' Populations'!E13 -> 0 | AK8: =IF(AJ8=0,0,($D$8/$AJ$8)*100000) -> 0 | AL8: =' Populations'!G13 -> 0 | AM8: =IF(AL8=0,0,($E$8/$AL$8)*100000) -> 0 | AN8: =' Populations'!I13 -> 0 | AO8: =IF(AN8=0,0,($F$8/$AN$8)*100000) -> 0 | AP8: =' Populations'!K13 -> 0 | AQ8: =IF(AP8=0,0,($G$8/$AP$8)*100000) -> 0 | AR8: =' Populations'!M13 -> 0 | AS8: =IF(AR8=0,0,($G$8/$AR$8)*100000) -> 0 | AT8: =' Populations'!O13 -> 0 | AU8: =IF(AT8=0,0,($I$8/$AT$8)*100000) -> 0 | AV8: =' Populations'!Q13 -> 0 | AW8: =IF(AV8=0,0,($J$8/$AV$8)*100000) -> 0 | AX8: =' Populations'!S13 -> 0 | AY8: =IF(AX8=0,0,($K$8/$AX$8)*100000) -> 0 | AZ8: =' Populations'!U13 -> 0 | BA8: =IF(AZ8=0,0,($L$8/$AZ$8)*100000) -> 0 | BC8: =' Populations'!W13 -> 0 | BD8: =IF(BC8=0,0,($M$8/$BC$8)*100000) -> 0 | BE8: =' Populations'!Y13 -> 0 | BF8: =IF(BE8=0,0,($N$8/$BE$8)*100000) -> 0 | BG8: =' Populations'!AA13 -> 0 | BH8: =IF(BG8=0,0,($O$8/$BG$8)*100000) -> 0 | BI8: =' Populations'!AC13 -> 0 | BJ8: =IF(BI8=0,0,($P$8/$BI$8)*100000) -> 0 | BK8: =' Populations'!AE13 -> 0 | BL8: =IF(BK8=0,0,($Q$8/$BK$8)*100000) -> 0 | BM8: =' Populations'!AG13 -> 0 | BN8: =IF(BM8=0,0,($R$8/$BM$8)*100000) -> 0 | BO8: =' Populations'!AI13 -> 0 | BP8: =IF(BO8=0,0,($S$8/$BO$8)*100000) -> 0 | BQ8: =' Populations'!AK13 -> 0 | BR8: =IF(BQ8=0,0,($T$8/$BQ$8)*100000) -> 0 | BS8: =' Populations'!AM13 -> 0 | BT8: =IF(BS8=0,0,($U$8/$BC$8)*100000) -> 0 | BU8: =' Populations'!AO13 -> 0 | BV8: =IF(BU8=0,0,($V$8/$BU$8)*100000) -> 0 | BW8: =' Populations'!AQ13 -> 0 | BX8: =IF(BW8=0,0,($W$8/$BW$8)*100000) -> 0 | BY8: =' Populations'!AS13 -> 0 | BZ8: =IF(BY8=0,0,($X$8/$BY$8)*100000) -> 0 | CA8: =' Populations'!AU13 -> 0 | CB8: =IF(CA8=0,0,($Y$8/$CA$8)*100000) -> 0 | CC8: =' Populations'!AW13 -> 0 | CD8: =IF(CC8=0,0,($Z$8/$CC$8)*100000) -> 0 | CE8: =' Populations'!AY13 -> 0 | CF8: =IF(CE8=0,0,($AA$8/$CE$8)*100000) -> 0 | CG8: =' Populations'!BA13 -> 0 | CH8: =IF(CG8=0,0,($AB$4/$CG$8)*100000) -> 0 | CI8: =' Populations'!BC13 -> 0 | CJ8: =IF(CI8=0,0,($AC$4/$CI$8)*100000) -> 0 | CK8: =' Populations'!BE13 -> 0 | CL8: =IF(CK8=0,0,($AD$4/$CK$8)*100000) -> 0 | CM8: =' Populations'!BG13 -> 0 | CN8: =IF(CM8=0,0,($AE$4/$CM$8)*100000) -> 0 | CO8: =' Populations'!BI13 -> 0 | CP8: =IF(CO8=0,0,($AF$4/$CO$8)*100000) -> 0 | CS8: 0.072169 | CU8: =' Populations'!$B$13 -> 15-19 | CV8: =AI8*CS8 -> 0 | CW8: =AK8*CS8 -> 0 | CX8: =AM8*CS8 -> 0 | CY8: =AO8*CS8 -> 0 | CZ8: =AQ8*CS8 -> 0 | DA8: =AS8*CS8 -> 0 | DB8: =AU8*CS8 -> 0 | DC8: =AW8*CS8 -> 0 | DD8: =AY8*CS8 -> 0 | DE8: =BA8*CS8 -> 0 | DF8: =BD8*CS8 -> 0 | DG8: =BF8*CS8 -> 0 | DH8: =BH8*CS8 -> 0 | DI8: =BJ8*CS8 -> 0 | DJ8: =BL8*CS8 -> 0 | DK8: =BN8*CS8 -> 0 | DL8: =BO8*CS8 -> 0 | DM8: =BR8*CS8 -> 0 | DN8: =BT8*CS8 -> 0 | DO8: =BV8*CS8 -> 0 | DP8: =BX8*CS8 -> 0 | DQ8: =BZ8*CS8 -> 0 | DR8: =CB8*CS8 -> 0 | DS8: =CD8*CS8 -> 0 | DT8: =CE8*CS8 -> 0 | DU8: =CF8*CS8 -> 0 | DV8: =CG8*CS8 -> 0 | DW8: =CH8*CS8 -> 0 | DX8: =CI8*CS8 -> 0 | DY8: =CJ8*CS8 -> 0
B9: =' Populations'!$B$14 -> 20-24 | AH9: =' Populations'!C14 -> 0 | AI9: =IF(AH9=0,0,($C$9/$AH$9)*100000) -> 0 | AJ9: =' Populations'!E14 -> 0 | AK9: =IF(AJ9=0,0,($D$9/$AJ$9)*100000) -> 0 | AL9: =' Populations'!G14 -> 0 | AM9: =IF(AL9=0,0,($E$9/$AL$9)*100000) -> 0 | AN9: =' Populations'!I14 -> 0 | AO9: =IF(AN9=0,0,($F$9/$AN$9)*100000) -> 0 | AP9: =' Populations'!K14 -> 0 | AQ9: =IF(AP9=0,0,($G$9/$AP$9)*100000) -> 0 | AR9: =' Populations'!M14 -> 0 | AS9: =IF(AR9=0,0,($G$9/$AR$9)*100000) -> 0 | AT9: =' Populations'!O14 -> 0 | AU9: =IF(AT9=0,0,($I$9/$AT$9)*100000) -> 0 | AV9: =' Populations'!Q14 -> 0 | AW9: =IF(AV9=0,0,($J$9/$AV$9)*100000) -> 0 | AX9: =' Populations'!S14 -> 0 | AY9: =IF(AX9=0,0,($K$9/$AX$9)*100000) -> 0 | AZ9: =' Populations'!U14 -> 0 | BA9: =IF(AZ9=0,0,($L$9/$AZ$9)*100000) -> 0 | BC9: =' Populations'!W14 -> 0 | BD9: =IF(BC9=0,0,($M$9/$BC$9)*100000) -> 0 | BE9: =' Populations'!Y14 -> 0 | BF9: =IF(BE9=0,0,($N$9/$BE$9)*100000) -> 0 | BG9: =' Populations'!AA14 -> 0 | BH9: =IF(BG9=0,0,($O$9/$BG$9)*100000) -> 0 | BI9: =' Populations'!AC14 -> 0 | BJ9: =IF(BI9=0,0,($P$9/$BI$9)*100000) -> 0 | BK9: =' Populations'!AE14 -> 0 | BL9: =IF(BK9=0,0,($Q$9/$BK$9)*100000) -> 0 | BM9: =' Populations'!AG14 -> 0 | BN9: =IF(BM9=0,0,($R$9/$BM$9)*100000) -> 0 | BO9: =' Populations'!AI14 -> 0 | BP9: =IF(BO9=0,0,($S$9/$BO$9)*100000) -> 0 | BQ9: =' Populations'!AK14 -> 0 | BR9: =IF(BQ9=0,0,($T$9/$BQ$9)*100000) -> 0 | BS9: =' Populations'!AM14 -> 0 | BT9: =IF(BS9=0,0,($U$9/$BS$9)*100000) -> 0 | BU9: =' Populations'!AO14 -> 0 | BV9: =IF(BU9=0,0,($V$9/$BU$9)*100000) -> 0 | BW9: =' Populations'!AQ14 -> 0 | BX9: =IF(BW9=0,0,($W$9/$BW$9)*100000) -> 0 | BY9: =' Populations'!AS14 -> 0 | BZ9: =IF(BY9=0,0,($X$9/$BY$9)*100000) -> 0 | CA9: =' Populations'!AU14 -> 0 | CB9: =IF(CA9=0,0,($Y$9/$CA$9)*100000) -> 0 | CC9: =' Populations'!AW14 -> 0 | CD9: =IF(CC9=0,0,($Z$9/$CC$9)*100000) -> 0 | CE9: =' Populations'!AY14 -> 0 | CF9: =IF(CE9=0,0,($AA$9/$CE$9)*100000) -> 0 | CG9: =' Populations'!BA14 -> 0 | CH9: =IF(CG9=0,0,($AB$4/$CG$9)*100000) -> 0 | CI9: =' Populations'!BC14 -> 0 | CJ9: =IF(CI9=0,0,($AC$4/$CI$9)*100000) -> 0 | CK9: =' Populations'!BE14 -> 0 | CL9: =IF(CK9=0,0,($AD$4/$CK$9)*100000) -> 0 | CM9: =' Populations'!BG14 -> 0 | CN9: =IF(CM9=0,0,($AE$4/$CM$9)*100000) -> 0 | CO9: =' Populations'!BI14 -> 0 | CP9: =IF(CO9=0,0,($AF$4/$CO$9)*100000) -> 0 | CS9: 0.066478 | CU9: =' Populations'!$B$14 -> 20-24 | CV9: =AI9*CS9 -> 0 | CW9: =AK9*CS9 -> 0 | CX9: =AM9*CS9 -> 0 | CY9: =AO9*CS9 -> 0 | CZ9: =AQ9*CS9 -> 0 | DA9: =AS9*CS9 -> 0 | DB9: =AU9*CS9 -> 0 | DC9: =AW9*CS9 -> 0 | DD9: =AY9*CS9 -> 0 | DE9: =BA9*CS9 -> 0 | DF9: =BD9*CS9 -> 0 | DG9: =BF9*CS9 -> 0 | DH9: =BH9*CS9 -> 0 | DI9: =BJ9*CS9 -> 0 | DJ9: =BL9*CS9 -> 0 | DK9: =BN9*CS9 -> 0 | DL9: =BO9*CS9 -> 0 | DM9: =BR9*CS9 -> 0 | DN9: =BT9*CS9 -> 0 | DO9: =BV9*CS9 -> 0 | DP9: =BX9*CS9 -> 0 | DQ9: =BZ9*CS9 -> 0 | DR9: =CB9*CS9 -> 0 | DS9: =CD9*CS9 -> 0 | DT9: =CE9*CS9 -> 0 | DU9: =CF9*CS9 -> 0 | DV9: =CG9*CS9 -> 0 | DW9: =CH9*CS9 -> 0 | DX9: =CI9*CS9 -> 0 | DY9: =CJ9*CS9 -> 0
