Workbook

Sheet Instructions
A1: Step 1: Preparing State/Territory Data | F1: Step 2: Entering Data | T1: Step 3: Creating Special Emphasis Report
A3: Name | B3: ICD-10-CM code | C3: ICD-10-CM notes
A4: 1. Create Suicide-specific Deaths Data Set - The Suicide-specific death indicators should be calculated based on first creating a Suicide-related injury death subset using the following indicators.
A5: Suicides | B5: X60-X84
B6: Y87.0
B7: U03

Sheet  Populations
B1: Suicide -Specific State Injury Indicators Report
B2: State/Territor Population Data
B3: State/Territory: | E3: Reporting year: | I3: Most recent data year:
C4: Enter your state name in B4 | F4: Enter the reporting year in E4 | J4: Enter the data year in I4
I6: Demographic categories can be updated to reflect desired groups (race/ethnicity, veteran status, sexual orientation, etc.)
C7: Enter total population data by age group below | E7: Enter male population data by age group below | G7: Enter female population data by age group below | I7: Optional: Enter demographic population data | K7: Optional: Enter demographic population data | M7: Optional: Enter demographic population data | O7: Optional: Enter demographic population data | Q7: Optional: Enter demographic population data | S7: Optional: Enter demographic population data | U7: Optional: Enter demographic population data | W7: Optional: Enter regional population data | Y7: Optional: Enter regional population data | AA7: Optional: Enter regional population data | AC7: Optional: Enter regional population data | AE7: Optional: Enter regional population data | AG7: Optional: Enter regional population data | AI7: Optional: Enter regional population data | AK7: Optional: Enter regional population data | AM7: Optional: Enter regional population data | AO7: Optional: Enter regional population data | AQ7: Optional: Enter regional population data | AS7: Optional: Enter regional population data | AU7: Optional: Enter regional population data | AW7: Optional: Enter regional population data | AY7: Optional: Enter regional population data | BA7: Optional: Enter regional population data | BC7: Optional: Enter regional population data | BE7: Optional: Enter regional population data | BG7: Optional: Enter regional population data | BI7: Optional: Enter regional population data
A8: Enter most recent data year | B8: Age | C8: Total | E8: Male | G8: Female | I8: White-Not Hispanic | K8: Hispanic | M8: Black-Not Hispanic | O8: Asian | Q8: American Indian/Alaska Native | S8: Other | T8: Enter name of "Other" category in S8 | U8: Other | V8: Enter name of "Other" category in U8 | W8: Region 1 | Y8: Region 2 | AA8: Region 3 | AC8: Region 4 | AE8: Region 5 | AG8: Region 6 | AI8: Region 7 | AK8: Region 8 | AM8: Region 9 | AO8: Region 10 | AQ8: Region 11 | AS8: Region 12 | AU8: Region 13 | AW8: Region 14 | AY8: Region 15 | BA8: Region 16 | BC8: Region 17 | BE8: Region 18 | BG8: Region 19 | BI8: Region 20
B9: <1
B10: 1-4
B11: 5-9
B12: 10-14
B13: 15-19
B14: 20-24
B15: 25-34
B16: 35-44
B17: 45-54
B18: 55-64
B19: 65-74
B20: 75-84
B21: 85+
B22: Total for Year | C22: =SUM(C9:C21) -> 0 | E22: =SUM(E9:E21) -> 0 | G22: =SUM(G9:G21) -> 0 | I22: =SUM(I9:I21) -> 0 | K22: =SUM(K9:K21) -> 0 | M22: =SUM(M9:M21) -> 0 | O22: =SUM(O9:O21) -> 0 | Q22: =SUM(Q9:Q21) -> 0 | S22: =SUM(S9:S21) -> 0 | U22: =SUM(U9:U21) -> 0 | W22: =SUM(W9:W21) -> 0 | Y22: =SUM(Y9:Y21) -> 0 | AA22: =SUM(AA9:AA21) -> 0 | AC22: =SUM(AC9:AC21) -> 0 | AE22: =SUM(AE9:AE21) -> 0 | AG22: =SUM(AG9:AG21) -> 0 | AI22: =SUM(AI9:AI21) -> 0 | AK22: =SUM(AK9:AK21) -> 0 | AM22: =SUM(AM9:AM21) -> 0 | AO22: =SUM(AO9:AO21) -> 0 | AQ22: =SUM(AQ9:AQ21) -> 0 | AS22: =SUM(AS9:AS21) -> 0 | AU22: =SUM(AU9:AU21) -> 0 | AW22: =SUM(AW9:AW21) -> 0 | AY22: =SUM(AY9:AY21) -> 0 | BA22: =SUM(BA9:BA21) -> 0 | BC22: =SUM(BC9:BC21) -> 0 | BE22: =SUM(BE9:BE21) -> 0 | BG22: =SUM(BG9:BG21) -> 0 | BI22: =SUM(BI9:BI21) -> 0
C25: Enter total population data by age group below | E25: Enter male population data by age group below | G25: Enter female population data by age group below | I25: Optional: Enter demographic population data | K25: Optional: Enter demographic population data | M25: Optional: Enter demographic population data | O25: Optional: Enter demographic population data | Q25: Optional: Enter demographic population data | S25: Optional: Enter demographic population data | U25: Optional: Enter demographic population data
A26: Enter proceeding year | B26: Age | C26: Total | E26: Male | G26: Female | I26: White-Not Hispanic | K26: Hispanic | M26: Black-Not Hispanic | O26: Asian | Q26: American Indian/Alaska Native | S26: Other | T26: Enter name of "Other" category in R8 | U26: Other | V26: Enter name of "Other" category in T8
B27: <1
B28: 1-4
B29: 5-9
B30: 10-14
B31: 15-19
B32: 20-24
B33: 25-34
B34: 35-44
B35: 45-54
B36: 55-64
B37: 65-74
B38: 75-84
B39: 85+
B40: Total for Year | C40: =SUM(C27:C39) -> 0 | E40: =SUM(E27:E39) -> 0 | G40: =SUM(G27:G39) -> 0 | I40: =SUM(I27:I39) -> 0 | K40: =SUM(K27:K39) -> 0 | M40: =SUM(M27:M39) -> 0 | O40: =SUM(O27:O39) -> 0 | Q40: =SUM(Q27:Q39) -> 0 | S40: =SUM(S27:S39) -> 0 | U40: =SUM(U27:U39) -> 0
C43: Enter total population data by age group below | E43: Enter male population data by age group below | G43: Enter female population data by age group below | I43: Optional: Enter demographic population data | K43: Optional: Enter demographic population data | M43: Optional: Enter demographic population data | O43: Optional: Enter demographic population data | Q43: Optional: Enter demographic population data | S43: Optional: Enter demographic population data | U43: Optional: Enter demographic population data
A44: Enter proceeding year | B44: Age | C44: Total | E44: Male | G44: Female | I44: White-Not Hispanic | K44: Hispanic | M44: Black-Not Hispanic | O44: Asian | Q44: American Indian/Alaska Native | S44: Other | T44: Enter name of "Other" category in R8 | U44: Other | V44: Enter name of "Other" category in T8
B45: <1
B46: 1-4
B47: 5-9
B48: 10-14
B49: 15-19
B50: 20-24
B51: 25-34
B52: 35-44
B53: 45-54
B54: 55-64
B55: 65-74
B56: 75-84
B57: 85+
B58: Total for Year | C58: =SUM(C45:C57) -> 0 | E58: =SUM(E45:E57) -> 0 | G58: =SUM(G45:G57) -> 0 | I58: =SUM(I45:I57) -> 0 | K58: =SUM(K45:K57) -> 0 | M58: =SUM(M45:M57) -> 0 | O58: =SUM(O45:O57) -> 0 | Q58: =SUM(Q45:Q57) -> 0 | S58: =SUM(S45:S57) -> 0 | U58: =SUM(U45:U57) -> 0
C61: Enter total population data by age group below | E61: Enter male population data by age group below | G61: Enter female population data by age group below | I61: Optional: Enter demographic population data | K61: Optional: Enter demographic population data | M61: Optional: Enter demographic population data | O61: Optional: Enter demographic population data | Q61: Optional: Enter demographic population data | S61: Optional: Enter demographic population data | U61: Optional: Enter demographic population data
A62: Enter proceeding year | B62: Age | C62: Total | E62: Male | G62: Female | I62: White-Not Hispanic | K62: Hispanic | M62: Black-Not Hispanic | O62: Asian | Q62: American Indian/Alaska Native | S62: Other | T62: Enter name of "Other" category in R8 | U62: Other | V62: Enter name of "Other" category in T8
B63: <1
B64: 1-4
B65: 5-9
B66: 10-14
B67: 15-19
B68: 20-24
B69: 25-34
B70: 35-44
B71: 45-54
B72: 55-64
B73: 65-74
B74: 75-84
B75: 85+
B76: Total for Year | C76: =SUM(C63:C75) -> 0 | E76: =SUM(E63:E75) -> 0 | G76: =SUM(G63:G75) -> 0 | I76: =SUM(I63:I75) -> 0 | K76: =SUM(K63:K75) -> 0 | M76: =SUM(M63:M75) -> 0 | O76: =SUM(O63:O75) -> 0 | Q76: =SUM(Q63:Q75) -> 0 | S76: =SUM(S63:S75) -> 0 | U76: =SUM(U63:U75) -> 0
C79: Enter total population data by age group below | E79: Enter male population data by age group below | G79: Enter female population data by age group below | I79: Optional: Enter demographic population data | K79: Optional: Enter demographic population data | M79: Optional: Enter demographic population data | O79: Optional: Enter demographic population data | Q79: Optional: Enter demographic population data | S79: Optional: Enter demographic population data | U79: Optional: Enter demographic population data
A80: Enter proceeding year | B80: Age | C80: Total | E80: Male | G80: Female | I80: White-Not Hispanic | K80: Hispanic | M80: Black-Not Hispanic | O80: Asian | Q80: American Indian/Alaska Native | S80: Other | T80: Enter name of "Other" category in R8 | U80: Other | V80: Enter name of "Other" category in T8
B81: <1
B82: 1-4
B83: 5-9
B84: 10-14
B85: 15-19
B86: 20-24
B87: 25-34
B88: 35-44
B89: 45-54
B90: 55-64
B91: 65-74
B92: 75-84
B93: 85+
B94: Total for Year | C94: =SUM(C81:C93) -> 0 | E94: =SUM(E81:E93) -> 0 | G94: =SUM(G81:G93) -> 0 | I94: =SUM(I81:I93) -> 0 | K94: =SUM(K81:K93) -> 0 | M94: =SUM(M81:M93) -> 0 | O94: =SUM(O81:O93) -> 0 | Q94: =SUM(Q81:Q93) -> 0 | S94: =SUM(S81:S93) -> 0 | U94: =SUM(U81:U93) -> 0
C97: Enter total population data by age group below | E97: Enter male population data by age group below | G97: Enter female population data by age group below | I97: Optional: Enter demographic population data | K97: Optional: Enter demographic population data | M97: Optional: Enter demographic population data | O97: Optional: Enter demographic population data | Q97: Optional: Enter demographic population data | S97: Optional: Enter demographic population data | U97: Optional: Enter demographic population data
A98: Enter proceeding year | B98: Age | C98: Total | E98: Male | G98: Female | I98: White-Not Hispanic | K98: Hispanic | M98: Black-Not Hispanic | O98: Asian | Q98: American Indian/Alaska Native | S98: Other | T98: Enter name of "Other" category in R8 | U98: Other | V98: Enter name of "Other" category in T8
B99: <1
B100: 1-4
B101: 5-9
B102: 10-14
B103: 15-19
B104: 20-24
B105: 25-34
B106: 35-44
B107: 45-54
B108: 55-64
B109: 65-74
B110: 75-84
B111: 85+
...

Sheet Poisoning by Year
B1: Data Input Tables Instructions: Enter your Suicide-related injury data in the red cells below. The rates will automatically calculate in the results table. | F1: Optional: Unhide columns G through L to enter demographic data | M1: Optional: Unhide columns N through Y to enter age data | AA1: Optional: Unhide columns AC through BU to show rate calculations weights
D2: Sex Data | F2: Demographic Data | M2: Age Data
B3: Year (insert 10 most recent data years, starting with the most recent) | C3: Number of deaths- Total | D3: Number of deaths- Male | E3: Number of deaths- Female | F3: =' Populations'!$I$8 -> White-Not Hispanic | G3: =' Populations'!$K$8 -> Hispanic | H3: =' Populations'!$M$8 -> Black-Not Hispanic | I3: =' Populations'!$O$8 -> Asian | J3: =' Populations'!$Q$8 -> American Indian/Alaska Native | K3: =' Populations'!$S$8 -> Other | L3: =' Populations'!$U$8 -> Other | M3: =' Populations'!B9 -> <1 | N3: =' Populations'!B10 -> 1-4 | O3: =' Populations'!B11 -> 5-9 | P3: =' Populations'!B12 -> 10-14 | Q3: =' Populations'!B13 -> 15-19 | R3: =' Populations'!B14 -> 20-24 | S3: =' Populations'!B15 -> 25-34 | T3: =' Populations'!B16 -> 35-44 | U3: =' Populations'!B17 -> 45-54 | V3: =' Populations'!B18 -> 55-64 | W3: =' Populations'!B19 -> 65-74 | X3: =' Populations'!B20 -> 75-84 | Y3: =' Populations'!B21 -> 85+ | AA3: State population - Total | AB3: Rate | AC3: State population - Male | AD3: Rate | AE3: State population - Female | AF3: Rate | AG3: =' Populations'!$I$8 -> White-Not Hispanic | AH3: Rate | AI3: =' Populations'!$K$8 -> Hispanic | AJ3: Rate | AK3: =' Populations'!$M$8 -> Black-Not Hispanic | AL3: Rate | AM3: =' Populations'!$O$8 -> Asian | AN3: Rate | AO3: =' Populations'!$Q$8 -> American Indian/Alaska Native | AP3: Rate | AQ3: =' Populations'!$S$8 -> Other | AR3: Rate | AS3: =' Populations'!$U$8 -> Other | AT3: Rate | AV3: =' Populations'!B9 -> <1 | AW3: Rate | AX3: =' Populations'!B10 -> 1-4 | AY3: Rate | AZ3: =' Populations'!B11 -> 5-9 | BA3: Rate | BB3: =' Populations'!B12 -> 10-14 | BC3: Rate | BD3: =' Populations'!B13 -> 15-19 | BE3: Rate | BF3: =' Populations'!B14 -> 20-24 | BG3: Rate | BH3: =' Populations'!B15 -> 25-34 | BI3: Rate | BJ3: =' Populations'!B16 -> 35-44 | BK3: Rate | BL3: =' Populations'!B17 -> 45-54 | BM3: Rate | BN3: =' Populations'!B18 -> 55-64 | BO3: Rate | BP3: =' Populations'!B19 -> 65-74 | BQ3: Rate | BR3: =' Populations'!B20 -> 75-84 | BS3: Rate | BT3: =' Populations'!B21 -> 85+ | BU3: Rate
B4: 2018 | AA4: =' Populations'!C9 -> 0 | AB4: =IF(AA4=0,0,($C$4/$AA$4)*100000) -> 0 | AC4: =' Populations'!E9 -> 0 | AD4: =IF(AC4=0,0,($D$4/$AC$4)*100000) -> 0 | AE4: =' Populations'!G9 -> 0 | AF4: =IF(AE4=0,0,($E$4/$AE$4)*100000) -> 0 | AG4: =' Populations'!I9 -> 0 | AH4: =IF(AG4=0,0,($F$4/$AG$4)*100000) -> 0 | AI4: =' Populations'!K9 -> 0 | AJ4: =IF(AI4=0,0,($G$4/$AI$4)*100000) -> 0 | AK4: =' Populations'!M9 -> 0 | AL4: =IF(AK4=0,0,($H$4/$AK$4)*100000) -> 0 | AM4: =' Populations'!O9 -> 0 | AN4: =IF(AM4=0,0,($I$4/$AM$4)*100000) -> 0 | AO4: =' Populations'!Q9 -> 0 | AP4: =IF(AO4=0,0,($J$4/$AO$4)*100000) -> 0 | AQ4: =' Populations'!S9 -> 0 | AR4: =IF(AQ4=0,0,($K$4/$AQ$4)*100000) -> 0 | AS4: =' Populations'!U9 -> 0 | AT4: =IF(AS4=0,0,($L$4/$AS$4)*100000) -> 0 | AV4: =' Populations'!#REF! -> #REF! | AW4: =IF(AV4=0,0,($M$4/$AV$4)*100000) -> #REF! | AX4: =' Populations'!#REF! -> #REF! | AY4: =IF(AX4=0,0,($N$4/$AX$4)*100000) -> #REF! | AZ4: =' Populations'!#REF! -> #REF! | BA4: =IF(AZ4=0,0,($O$4/$AZ$4)*100000) -> #REF! | BB4: =' Populations'!#REF! -> #REF! | BC4: =IF(BB4=0,0,($P$4/$BB$4)*100000) -> #REF! | BD4: =' Populations'!#REF! -> #REF! | BE4: =IF(BD4=0,0,($Q$4/$BD$4)*100000) -> #REF! | BF4: =' Populations'!#REF! -> #REF! | BG4: =IF(BF4=0,0,($R$4/$BF$4)*100000) -> #REF! | BH4: =' Populations'!#REF! -> #REF! | BI4: =IF(BH4=0,0,($S$4/$BH$4)*100000) -> #REF! | BJ4: =' Populations'!#REF! -> #REF! | BK4: =IF(BJ4=0,0,($T$4/$BJ$4)*100000) -> #REF! | BL4: =' Populations'!#REF! -> #REF! | BM4: =IF(BL4=0,0,($U$5/$BL$5)*100000) -> #REF! | BN4: =' Populations'!#REF! -> #REF! | BO4: =IF(BN4=0,0,($V$4/$BN$4)*100000) -> #REF! | BP4: =' Populations'!#REF! -> #REF! | BQ4: =IF(BP4=0,0,($W$4/$BP$4)*100000) -> #REF! | BR4: =' Populations'!#REF! -> #REF! | BS4: =IF(BR4=0,0,($X$4/$BR$4)*100000) -> #REF! | BT4: =' Populations'!#REF! -> #REF! | BU4: =IF(BT4=0,0,($Y$4/$BT$4)*100000) -> #REF!
B5: 2017 | AA5: =' Populations'!C10 -> 0 | AB5: =IF(AA5=0,0,($C$5/$AA$5)*100000) -> 0 | AC5: =' Populations'!E10 -> 0 | AD5: =IF(AC5=0,0,($D$5/$AC$5)*100000) -> 0 | AE5: =' Populations'!G10 -> 0 | AF5: =IF(AE5=0,0,($E$5/$AE$5)*100000) -> 0 | AG5: =' Populations'!I10 -> 0 | AH5: =IF(AG5=0,0,($F$5/$AG$5)*100000) -> 0 | AI5: =' Populations'!K10 -> 0 | AJ5: =IF(AI5=0,0,($G$5/$AI$5)*100000) -> 0 | AK5: =' Populations'!M10 -> 0 | AL5: =IF(AK5=0,0,($G$5/$AK$5)*100000) -> 0 | AM5: =' Populations'!O10 -> 0 | AN5: =IF(AM5=0,0,($I$5/$AM$5)*100000) -> 0 | AO5: =' Populations'!Q10 -> 0 | AP5: =IF(AO5=0,0,($J$5/$AO$5)*100000) -> 0 | AQ5: =' Populations'!S10 -> 0 | AR5: =IF(AQ5=0,0,($K$5/$AQ$5)*100000) -> 0 | AS5: =' Populations'!U10 -> 0 | AT5: =IF(AS5=0,0,($L$5/$AS$5)*100000) -> 0 | AV5: =' Populations'!#REF! -> #REF! | AW5: =IF(AV5=0,0,($M$5/$AV$5)*100000) -> #REF! | AX5: =' Populations'!#REF! -> #REF! | AY5: =IF(AX5=0,0,($N$5/$AX$5)*100000) -> #REF! | AZ5: =' Populations'!#REF! -> #REF! | BA5: =IF(AZ5=0,0,($O$5/$AZ$5)*100000) -> #REF! | BB5: =' Populations'!#REF! -> #REF! | BC5: =IF(BB5=0,0,($P$5/$BB$5)*100000) -> #REF! | BD5: =' Populations'!#REF! -> #REF! | BE5: =IF(BD5=0,0,($Q$5/$BD$5)*100000) -> #REF! | BF5: =' Populations'!#REF! -> #REF! | BG5: =IF(BF5=0,0,($R$5/$BF$5)*100000) -> #REF! | BH5: =' Populations'!#REF! -> #REF! | BI5: =IF(BH5=0,0,($S$5/$BH$5)*100000) -> #REF! | BJ5: =' Populations'!#REF! -> #REF! | BK5: =IF(BJ5=0,0,($T$5/$BJ$5)*100000) -> #REF! | BL5: =' Populations'!#REF! -> #REF! | BM5: =IF(BL5=0,0,($U$5/$BL$5)*100000) -> #REF! | BN5: =' Populations'!#REF! -> #REF! | BO5: =IF(BN5=0,0,($V$5/$BN$5)*100000) -> #REF! | BP5: =' Populations'!#REF! -> #REF! | BQ5: =IF(BP5=0,0,($W$5/$BP$5)*100000) -> #REF! | BR5: =' Populations'!#REF! -> #REF! | BS5: =IF(BR5=0,0,($X$5/$BR$5)*100000) -> #REF! | BT5: =' Populations'!#REF! -> #REF! | BU5: =IF(BT5=0,0,($Y$5/$BT$5)*100000) -> #REF!
B6: 2016 | AA6: =' Populations'!C11 -> 0 | AB6: =IF(AA6=0,0,($C$6/$AA$6)*100000) -> 0 | AC6: =' Populations'!E11 -> 0 | AD6: =IF(AC6=0,0,($D$6/$AC$6)*100000) -> 0 | AE6: =' Populations'!G11 -> 0 | AF6: =IF(AE6=0,0,($E$6/$AE$6)*100000) -> 0 | AG6: =' Populations'!I11 -> 0 | AH6: =IF(AG6=0,0,($F$6/$AG$6)*100000) -> 0 | AI6: =' Populations'!K11 -> 0 | AJ6: =IF(AI6=0,0,($G$6/$AI$6)*100000) -> 0 | AK6: =' Populations'!M11 -> 0 | AL6: =IF(AK6=0,0,($G$6/$AK$6)*100000) -> 0 | AM6: =' Populations'!O11 -> 0 | AN6: =IF(AM6=0,0,($I$6/$AM$6)*100000) -> 0 | AO6: =' Populations'!Q11 -> 0 | AP6: =IF(AO6=0,0,($J$6/$AO$6)*100000) -> 0 | AQ6: =' Populations'!S11 -> 0 | AR6: =IF(AQ6=0,0,($K$6/$AQ$6)*100000) -> 0 | AS6: =' Populations'!U11 -> 0 | AT6: =IF(AS6=0,0,($L$6/$AS$6)*100000) -> 0 | AV6: =' Populations'!#REF! -> #REF! | AW6: =IF(AV6=0,0,($M$6/$AV$6)*100000) -> #REF! | AX6: =' Populations'!#REF! -> #REF! | AY6: =IF(AX6=0,0,($N$6/$AX$6)*100000) -> #REF! | AZ6: =' Populations'!#REF! -> #REF! | BA6: =IF(AZ6=0,0,($O$6/$AZ$6)*100000) -> #REF! | BB6: =' Populations'!#REF! -> #REF! | BC6: =IF(BB6=0,0,($P$6/$BB$6)*100000) -> #REF! | BD6: =' Populations'!#REF! -> #REF! | BE6: =IF(BD6=0,0,($Q$6/$BD$6)*100000) -> #REF! | BF6: =' Populations'!#REF! -> #REF! | BG6: =IF(BF6=0,0,($R$6/$BF$6)*100000) -> #REF! | BH6: =' Populations'!#REF! -> #REF! | BI6: =IF(BH6=0,0,($S$6/$BH$6)*100000) -> #REF! | BJ6: =' Populations'!#REF! -> #REF! | BK6: =IF(BJ6=0,0,($T$6/$BJ$6)*100000) -> #REF! | BL6: =' Populations'!#REF! -> #REF! | BM6: =IF(BL6=0,0,($U$6/$BL$6)*100000) -> #REF! | BN6: =' Populations'!#REF! -> #REF! | BO6: =IF(BN6=0,0,($V$6/$BN$6)*100000) -> #REF! | BP6: =' Populations'!#REF! -> #REF! | BQ6: =IF(BP6=0,0,($W$6/$BP$6)*100000) -> #REF! | BR6: =' Populations'!#REF! -> #REF! | BS6: =IF(BR6=0,0,($X$6/$BR$6)*100000) -> #REF! | BT6: =' Populations'!#REF! -> #REF! | BU6: =IF(BT6=0,0,($Y$6/$BT$6)*100000) -> #REF!
B7: 2015 | AA7: =' Populations'!C12 -> 0 | AB7: =IF(AA7=0,0,($C$7/$AA$7)*100000) -> 0 | AC7: =' Populations'!E12 -> 0 | AD7: =IF(AC7=0,0,($D$7/$AC$7)*100000) -> 0 | AE7: =' Populations'!G12 -> 0 | AF7: =IF(AE7=0,0,($E$7/$AE$7)*100000) -> 0 | AG7: =' Populations'!I12 -> 0 | AH7: =IF(AG7=0,0,($F$7/$AG$7)*100000) -> 0 | AI7: =' Populations'!K12 -> 0 | AJ7: =IF(AI7=0,0,($G$7/$AI$7)*100000) -> 0 | AK7: =' Populations'!M12 -> 0 | AL7: =IF(AK7=0,0,($G$7/$AK$7)*100000) -> 0 | AM7: =' Populations'!O12 -> 0 | AN7: =IF(AM7=0,0,($I$7/$AM$7)*100000) -> 0 | AO7: =' Populations'!Q12 -> 0 | AP7: =IF(AO7=0,0,($J$7/$AO$7)*100000) -> 0 | AQ7: =' Populations'!S12 -> 0 | AR7: =IF(AQ7=0,0,($K$7/$AQ$7)*100000) -> 0 | AS7: =' Populations'!U12 -> 0 | AT7: =IF(AS7=0,0,($L$7/$AS$7)*100000) -> 0 | AV7: =' Populations'!#REF! -> #REF! | AW7: =IF(AV7=0,0,($M$7/$AV$7)*100000) -> #REF! | AX7: =' Populations'!#REF! -> #REF! | AY7: =IF(AX7=0,0,($N$7/$AX$7)*100000) -> #REF! | AZ7: =' Populations'!#REF! -> #REF! | BA7: =IF(AZ7=0,0,($O$7/$AZ$7)*100000) -> #REF! | BB7: =' Populations'!#REF! -> #REF! | BC7: =IF(BB7=0,0,($P$7/$BB$7)*100000) -> #REF! | BD7: =' Populations'!#REF! -> #REF! | BE7: =IF(BD7=0,0,($Q$7/$BD$7)*100000) -> #REF! | BF7: =' Populations'!#REF! -> #REF! | BG7: =IF(BF7=0,0,($R$7/$BF$7)*100000) -> #REF! | BH7: =' Populations'!#REF! -> #REF! | BI7: =IF(BH7=0,0,($S$7/$BH$7)*100000) -> #REF! | BJ7: =' Populations'!#REF! -> #REF! | BK7: =IF(BJ7=0,0,($T$7/$BJ$7)*100000) -> #REF! | BL7: =' Populations'!#REF! -> #REF! | BM7: =IF(BL7=0,0,($U$7/$BL$7)*100000) -> #REF! | BN7: =' Populations'!#REF! -> #REF! | BO7: =IF(BN7=0,0,($V$7/$BN$7)*100000) -> #REF! | BP7: =' Populations'!#REF! -> #REF! | BQ7: =IF(BP7=0,0,($W$7/$BP$7)*100000) -> #REF! | BR7: =' Populations'!#REF! -> #REF! | BS7: =IF(BR7=0,0,($X$7/$BR$7)*100000) -> #REF! | BT7: =' Populations'!#REF! -> #REF! | BU7: =IF(BT7=0,0,($Y$7/$BT$7)*100000) -> #REF!
B8: 2014 | AA8: =' Populations'!C13 -> 0 | AB8: =IF(AA8=0,0,($C$8/$AA$8)*100000) -> 0 | AC8: =' Populations'!E13 -> 0 | AD8: =IF(AC8=0,0,($D$8/$AC$8)*100000) -> 0 | AE8: =' Populations'!G13 -> 0 | AF8: =IF(AE8=0,0,($E$8/$AE$8)*100000) -> 0 | AG8: =' Populations'!I13 -> 0 | AH8: =IF(AG8=0,0,($F$8/$AG$8)*100000) -> 0 | AI8: =' Populations'!K13 -> 0 | AJ8: =IF(AI8=0,0,($G$8/$AI$8)*100000) -> 0 | AK8: =' Populations'!M13 -> 0 | AL8: =IF(AK8=0,0,($G$8/$AK$8)*100000) -> 0 | AM8: =' Populations'!O13 -> 0 | AN8: =IF(AM8=0,0,($I$8/$AM$8)*100000) -> 0 | AO8: =' Populations'!Q13 -> 0 | AP8: =IF(AO8=0,0,($J$8/$AO$8)*100000) -> 0 | AQ8: =' Populations'!S13 -> 0 | AR8: =IF(AQ8=0,0,($K$8/$AQ$8)*100000) -> 0 | AS8: =' Populations'!U13 -> 0 | AT8: =IF(AS8=0,0,($L$8/$AS$8)*100000) -> 0 | AV8: =' Populations'!#REF! -> #REF! | AW8: =IF(AV8=0,0,($M$8/$AV$8)*100000) -> #REF! | AX8: =' Populations'!#REF! -> #REF! | AY8: =IF(AX8=0,0,($N$8/$AX$8)*100000) -> #REF! | AZ8: =' Populations'!#REF! -> #REF! | BA8: =IF(AZ8=0,0,($O$8/$AZ$8)*100000) -> #REF! | BB8: =' Populations'!#REF! -> #REF! | BC8: =IF(BB8=0,0,($P$8/$BB$8)*100000) -> #REF! | BD8: =' Populations'!#REF! -> #REF! | BE8: =IF(BD8=0,0,($Q$8/$BD$8)*100000) -> #REF! | BF8: =' Populations'!#REF! -> #REF! | BG8: =IF(BF8=0,0,($R$8/$BF$8)*100000) -> #REF! | BH8: =' Populations'!#REF! -> #REF! | BI8: =IF(BH8=0,0,($S$8/$BH$8)*100000) -> #REF! | BJ8: =' Populations'!#REF! -> #REF! | BK8: =IF(BJ8=0,0,($T$8/$BJ$8)*100000) -> #REF! | BL8: =' Populations'!#REF! -> #REF! | BM8: =IF(BL8=0,0,($U$8/$AV$8)*100000) -> #REF! | BN8: =' Populations'!#REF! -> #REF! | BO8: =IF(BN8=0,0,($V$8/$BN$8)*100000) -> #REF! | BP8: =' Populations'!#REF! -> #REF! | BQ8: =IF(BP8=0,0,($W$8/$BP$8)*100000) -> #REF! | BR8: =' Populations'!#REF! -> #REF! | BS8: =IF(BR8=0,0,($X$8/$BR$8)*100000) -> #REF! | BT8: =' Populations'!#REF! -> #REF! | BU8: =IF(BT8=0,0,($Y$8/$BT$8)*100000) -> #REF!
B9: 2013 | AA9: =' Populations'!C14 -> 0 | AB9: =IF(AA9=0,0,($C$9/$AA$9)*100000) -> 0 | AC9: =' Populations'!E14 -> 0 | AD9: =IF(AC9=0,0,($D$9/$AC$9)*100000) -> 0 | AE9: =' Populations'!G14 -> 0 | AF9: =IF(AE9=0,0,($E$9/$AE$9)*100000) -> 0 | AG9: =' Populations'!I14 -> 0 | AH9: =IF(AG9=0,0,($F$9/$AG$9)*100000) -> 0 | AI9: =' Populations'!K14 -> 0 | AJ9: =IF(AI9=0,0,($G$9/$AI$9)*100000) -> 0 | AK9: =' Populations'!M14 -> 0 | AL9: =IF(AK9=0,0,($G$9/$AK$9)*100000) -> 0 | AM9: =' Populations'!O14 -> 0 | AN9: =IF(AM9=0,0,($I$9/$AM$9)*100000) -> 0 | AO9: =' Populations'!Q14 -> 0 | AP9: =IF(AO9=0,0,($J$9/$AO$9)*100000) -> 0 | AQ9: =' Populations'!S14 -> 0 | AR9: =IF(AQ9=0,0,($K$9/$AQ$9)*100000) -> 0 | AS9: =' Populations'!U14 -> 0 | AT9: =IF(AS9=0,0,($L$9/$AS$9)*100000) -> 0 | AV9: =' Populations'!#REF! -> #REF! | AW9: =IF(AV9=0,0,($M$9/$AV$9)*100000) -> #REF! | AX9: =' Populations'!#REF! -> #REF! | AY9: =IF(AX9=0,0,($N$9/$AX$9)*100000) -> #REF! | AZ9: =' Populations'!#REF! -> #REF! | BA9: =IF(AZ9=0,0,($O$9/$AZ$9)*100000) -> #REF! | BB9: =' Populations'!#REF! -> #REF! | BC9: =IF(BB9=0,0,($P$9/$BB$9)*100000) -> #REF! | BD9: =' Populations'!#REF! -> #REF! | BE9: =IF(BD9=0,0,($Q$9/$BD$9)*100000) -> #REF! | BF9: =' Populations'!#REF! -> #REF! | BG9: =IF(BF9=0,0,($R$9/$BF$9)*100000) -> #REF! | BH9: =' Populations'!#REF! -> #REF! | BI9: =IF(BH9=0,0,($S$9/$BH$9)*100000) -> #REF! | BJ9: =' Populations'!#REF! -> #REF! | BK9: =IF(BJ9=0,0,($T$9/$BJ$9)*100000) -> #REF! | BL9: =' Populations'!#REF! -> #REF! | BM9: =IF(BL9=0,0,($U$9/$BL$9)*100000) -> #REF! | BN9: =' Populations'!#REF! -> #REF! | BO9: =IF(BN9=0,0,($V$9/$BN$9)*100000) -> #REF! | BP9: =' Populations'!#REF! -> #REF! | BQ9: =IF(BP9=0,0,($W$9/$BP$9)*100000) -> #REF! | BR9: =' Populations'!#REF! -> #REF! | BS9: =IF(BR9=0,0,($X$9/$BR$9)*100000) -> #REF! | BT9: =' Populations'!#REF! -> #REF! | BU9: =IF(BT9=0,0,($Y$9/$BT$9)*100000) -> #REF!
B10: 2012 | AA10: =' Populations'!C15 -> 0 | AB10: =IF(AA10=0,0,($C$10/$AA$10)*100000) -> 0 | AC10: =' Populations'!E15 -> 0 | AD10: =IF(AC10=0,0,($D$10/$AC$10)*100000) -> 0 | AE10: =' Populations'!G15 -> 0 | AF10: =IF(AE10=0,0,($E$10/$AE$10)*100000) -> 0 | AG10: =' Populations'!I15 -> 0 | AH10: =IF(AG10=0,0,($F$10/$AG$10)*100000) -> 0 | AI10: =' Populations'!K15 -> 0 | AJ10: =IF(AI10=0,0,($G$10/$AI$10)*100000) -> 0 | AK10: =' Populations'!M15 -> 0 | AL10: =IF(AK10=0,0,($G$10/$AK$10)*100000) -> 0 | AM10: =' Populations'!O15 -> 0 | AN10: =IF(AM10=0,0,($I$10/$AM$10)*100000) -> 0 | AO10: =' Populations'!Q15 -> 0 | AP10: =IF(AO10=0,0,($J$10/$AO$10)*100000) -> 0 | AQ10: =' Populations'!S15 -> 0 | AR10: =IF(AQ10=0,0,($K$10/$AQ$10)*100000) -> 0 | AS10: =' Populations'!U15 -> 0 | AT10: =IF(AS10=0,0,($L$10/$AS$10)*100000) -> 0 | AV10: =' Populations'!#REF! -> #REF! | AW10: =IF(AV10=0,0,($M$10/$AV$10)*100000) -> #REF! | AX10: =' Populations'!#REF! -> #REF! | AY10: =IF(AX10=0,0,($N$10/$AX$10)*100000) -> #REF! | AZ10: =' Populations'!#REF! -> #REF! | BA10: =IF(AZ10=0,0,($O$10/$AZ$10)*100000) -> #REF! | BB10: =' Populations'!#REF! -> #REF! | BC10: =IF(BB10=0,0,($P$10/$BB$10)*100000) -> #REF! | BD10: =' Populations'!#REF! -> #REF! | BE10: =IF(BD10=0,0,($Q$10/$BD$10)*100000) -> #REF! | BF10: =' Populations'!#REF! -> #REF! | BG10: =IF(BF10=0,0,($R$10/$BF$10)*100000) -> #REF! | BH10: =' Populations'!#REF! -> #REF! | BI10: =IF(BH10=0,0,($S$10/$BH$10)*100000) -> #REF! | BJ10: =' Populations'!#REF! -> #REF! | BK10: =IF(BJ10=0,0,($T$10/$BJ$10)*100000) -> #REF! | BL10: =' Populations'!#REF! -> #REF! | BM10: =IF(BL10=0,0,($U$10/$BL$10)*100000) -> #REF! | BN10: =' Populations'!#REF! -> #REF! | BO10: =IF(BN10=0,0,($V$10/$BN$10)*100000) -> #REF! | BP10: =' Populations'!#REF! -> #REF! | BQ10: =IF(BP10=0,0,($W$10/$BP$10)*100000) -> #REF! | BR10: =' Populations'!#REF! -> #REF! | BS10: =IF(BR10=0,0,($X$10/$BR$10)*100000) -> #REF! | BT10: =' Populations'!#REF! -> #REF! | BU10: =IF(BT10=0,0,($Y$10/$BT$10)*100000) -> #REF!
B11: 2011 | AA11: =' Populations'!C16 -> 0 | AB11: =IF(AA11=0,0,($C$11/$AA$11)*100000) -> 0 | AC11: =' Populations'!E16 -> 0 | AD11: =IF(AC11=0,0,($D$11/$AC$11)*100000) -> 0 | AE11: =' Populations'!G16 -> 0 | AF11: =IF(AE11=0,0,($E$11/$AE$11)*100000) -> 0 | AG11: =' Populations'!I16 -> 0 | AH11: =IF(AG11=0,0,($F$11/$AG$11)*100000) -> 0 | AI11: =' Populations'!K16 -> 0 | AJ11: =IF(AI11=0,0,($G$11/$AI$11)*100000) -> 0 | AK11: =' Populations'!M16 -> 0 | AL11: =IF(AK11=0,0,($G$11/$AK$11)*100000) -> 0 | AM11: =' Populations'!O16 -> 0 | AN11: =IF(AM11=0,0,($I$11/$AM$11)*100000) -> 0 | AO11: =' Populations'!Q16 -> 0 | AP11: =IF(AO11=0,0,($J$11/$AO$11)*100000) -> 0 | AQ11: =' Populations'!S16 -> 0 | AR11: =IF(AQ11=0,0,($K$11/$AQ$11)*100000) -> 0 | AS11: =' Populations'!U16 -> 0 | AT11: =IF(AS11=0,0,($L$11/$AS$11)*100000) -> 0 | AV11: =' Populations'!#REF! -> #REF! | AW11: =IF(AV11=0,0,($M$11/$AV$11)*100000) -> #REF! | AX11: =' Populations'!#REF! -> #REF! | AY11: =IF(AX11=0,0,($N$11/$AX$11)*100000) -> #REF! | AZ11: =' Populations'!#REF! -> #REF! | BA11: =IF(AZ11=0,0,($O$11/$AZ$11)*100000) -> #REF! | BB11: =' Populations'!#REF! -> #REF! | BC11: =IF(BB11=0,0,($P$11/$BB$11)*100000) -> #REF! | BD11: =' Populations'!#REF! -> #REF! | BE11: =IF(BD11=0,0,($Q$11/$BD$11)*100000) -> #REF! | BF11: =' Populations'!#REF! -> #REF! | BG11: =IF(BF11=0,0,($R$11/$BF$11)*100000) -> #REF! | BH11: =' Populations'!#REF! -> #REF! | BI11: =IF(BH11=0,0,($S$11/$BH$11)*100000) -> #REF! | BJ11: =' Populations'!#REF! -> #REF! | BK11: =IF(BJ11=0,0,($T$11/$BJ$11)*100000) -> #REF! | BL11: =' Populations'!#REF! -> #REF! | BM11: =IF(BL11=0,0,($U$11/$BL$11)*100000) -> #REF! | BN11: =' Populations'!#REF! -> #REF! | BO11: =IF(BN11=0,0,($V$11/$BN$11)*100000) -> #REF! | BP11: =' Populations'!#REF! -> #REF! | BQ11: =IF(BP11=0,0,($W$11/$BP$11)*100000) -> #REF! | BR11: =' Populations'!#REF! -> #REF! | BS11: =IF(BR11=0,0,($X$11/$BR$11)*100000) -> #REF! | BT11: =' Populations'!#REF! -> #REF! | BU11: =IF(BT11=0,0,($Y$11/$BT$11)*100000) -> #REF!
B12: 2010 | AA12: =' Populations'!C17 -> 0 | AB12: =IF(AA12=0,0,($C$12/$AA$12)*100000) -> 0 | AC12: =' Populations'!E17 -> 0 | AD12: =IF(AC12=0,0,($D$12/$AC$12)*100000) -> 0 | AE12: =' Populations'!G17 -> 0 | AF12: =IF(AE12=0,0,($E$12/$AE$12)*100000) -> 0 | AG12: =' Populations'!I17 -> 0 | AH12: =IF(AG12=0,0,($F$12/$AG$12)*100000) -> 0 | AI12: =' Populations'!K17 -> 0 | AJ12: =IF(AI12=0,0,($G$12/$AI$12)*100000) -> 0 | AK12: =' Populations'!M17 -> 0 | AL12: =IF(AK12=0,0,($G$12/$AK$12)*100000) -> 0 | AM12: =' Populations'!O17 -> 0 | AN12: =IF(AM12=0,0,($I$12/$AM$12)*100000) -> 0 | AO12: =' Populations'!Q17 -> 0 | AP12: =IF(AO12=0,0,($J$12/$AO$12)*100000) -> 0 | AQ12: =' Populations'!S17 -> 0 | AR12: =IF(AQ12=0,0,($K$12/$AQ$12)*100000) -> 0 | AS12: =' Populations'!U17 -> 0 | AT12: =IF(AS12=0,0,($L$12/$AS$12)*100000) -> 0 | AV12: =' Populations'!#REF! -> #REF! | AW12: =IF(AV12=0,0,($M$12/$AV$12)*100000) -> #REF! | AX12: =' Populations'!#REF! -> #REF! | AY12: =IF(AX12=0,0,($N$12/$AX$12)*100000) -> #REF! | AZ12: =' Populations'!#REF! -> #REF! | BA12: =IF(AZ12=0,0,($O$12/$AZ$12)*100000) -> #REF! | BB12: =' Populations'!#REF! -> #REF! | BC12: =IF(BB12=0,0,($P$12/$BB$12)*100000) -> #REF! | BD12: =' Populations'!#REF! -> #REF! | BE12: =IF(BD12=0,0,($Q$12/$BD$12)*100000) -> #REF! | BF12: =' Populations'!#REF! -> #REF! | BG12: =IF(BF12=0,0,($R$12/$BF$12)*100000) -> #REF! | BH12: =' Populations'!#REF! -> #REF! | BI12: =IF(BH12=0,0,($S$12/$BH$12)*100000) -> #REF! | BJ12: =' Populations'!#REF! -> #REF! | BK12: =IF(BJ12=0,0,($T$12/$BJ$12)*100000) -> #REF! | BL12: =' Populations'!#REF! -> #REF! | BM12: =IF(BL12=0,0,($U$12/$BL$12)*100000) -> #REF! | BN12: =' Populations'!#REF! -> #REF! | BO12: =IF(BN12=0,0,($V$12/$BN$12)*100000) -> #REF! | BP12: =' Populations'!#REF! -> #REF! | BQ12: =IF(BP12=0,0,($W$12/$BP$12)*100000) -> #REF! | BR12: =' Populations'!#REF! -> #REF! | BS12: =IF(BR12=0,0,($X$12/$BR$12)*100000) -> #REF! | BT12: =' Populations'!#REF! -> #REF! | BU12: =IF(BT12=0,0,($Y$12/$BT$12)*100000) -> #REF!
B13: 2009 | AA13: =' Populations'!C18 -> 0 | AB13: =IF(AA13=0,0,($C$13/$AA$13)*100000) -> 0 | AC13: =' Populations'!E18 -> 0 | AD13: =IF(AC13=0,0,($D$13/$AC$13)*100000) -> 0 | AE13: =' Populations'!G18 -> 0 | AF13: =IF(AE13=0,0,($E$13/$AE$13)*100000) -> 0 | AG13: =' Populations'!I18 -> 0 | AH13: =IF(AG13=0,0,($F$13/$AG$13)*100000) -> 0 | AI13: =' Populations'!K18 -> 0 | AJ13: =IF(AI13=0,0,($G$13/$AI$13)*100000) -> 0 | AK13: =' Populations'!M18 -> 0 | AL13: =IF(AK13=0,0,($G$13/$AK$13)*100000) -> 0 | AM13: =' Populations'!O18 -> 0 | AN13: =IF(AM13=0,0,($I$13/$AM$13)*100000) -> 0 | AO13: =' Populations'!Q18 -> 0 | AP13: =IF(AO13=0,0,($J$13/$AO$13)*100000) -> 0 | AQ13: =' Populations'!S18 -> 0 | AR13: =IF(AQ13=0,0,($K$13/$AQ$13)*100000) -> 0 | AS13: =' Populations'!U18 -> 0 | AT13: =IF(AS13=0,0,($L$13/$AS$13)*100000) -> 0 | AV13: =' Populations'!#REF! -> #REF! | AW13: =IF(AV13=0,0,($M$13/$AV$13)*100000) -> #REF! | AX13: =' Populations'!#REF! -> #REF! | AY13: =IF(AX13=0,0,($N$13/$AX$13)*100000) -> #REF! | AZ13: =' Populations'!#REF! -> #REF! | BA13: =IF(AZ13=0,0,($O$13/$AZ$13)*100000) -> #REF! | BB13: =' Populations'!#REF! -> #REF! | BC13: =IF(BB13=0,0,($P$13/$BB$13)*100000) -> #REF! | BD13: =' Populations'!#REF! -> #REF! | BE13: =IF(BD13=0,0,($Q$13/$BD$13)*100000) -> #REF! | BF13: =' Populations'!#REF! -> #REF! | BG13: =IF(BF13=0,0,($R$13/$BF$13)*100000) -> #REF! | BH13: =' Populations'!#REF! -> #REF! | BI13: =IF(BH13=0,0,($S$13/$BH$13)*100000) -> #REF! | BJ13: =' Populations'!#REF! -> #REF! | BK13: =IF(BJ13=0,0,($T$13/$BJ$13)*100000) -> #REF! | BL13: =' Populations'!#REF! -> #REF! | BM13: =IF(BL13=0,0,($U$13/$BL$13)*100000) -> #REF! | BN13: =' Populations'!#REF! -> #REF! | BO13: =IF(BN13=0,0,($V$13/$BN$13)*100000) -> #REF! | BP13: =' Populations'!#REF! -> #REF! | BQ13: =IF(BP13=0,0,($W$13/$BP$13)*100000) -> #REF! | BR13: =' Populations'!#REF! -> #REF! | BS13: =IF(BR13=0,0,($X$13/$BR$13)*100000) -> #REF! | BT13: =' Populations'!#REF! -> #REF! | BU13: =IF(BT13=0,0,($Y$13/$BT$13)*100000) -> #REF!
AA14: =' Populations'!C19 -> 0 | AB14: =IF(AA14=0,0,($C$14/$AA$14)*100000) -> 0 | AC14: =' Populations'!E19 -> 0 | AD14: =IF(AC14=0,0,($D$14/$AC$14)*100000) -> 0 | AE14: =' Populations'!G19 -> 0 | AF14: =IF(AE14=0,0,($E$14/$AE$14)*100000) -> 0 | AG14: =' Populations'!I19 -> 0 | AH14: =IF(AG14=0,0,($F$14/$AG$14)*100000) -> 0 | AI14: =' Populations'!K19 -> 0 | AJ14: =IF(AI14=0,0,($G$14/$AI$14)*100000) -> 0 | AK14: =' Populations'!M19 -> 0 | AL14: =IF(AK14=0,0,($G$14/$AK$14)*100000) -> 0 | AM14: =' Populations'!O19 -> 0 | AN14: =IF(AM14=0,0,($I$14/$AM$14)*100000) -> 0 | AO14: =' Populations'!Q19 -> 0 | AP14: =IF(AO14=0,0,($J$14/$AO$14)*100000) -> 0 | AQ14: =' Populations'!S19 -> 0 | AR14: =IF(AQ14=0,0,($K$14/$AQ$14)*100000) -> 0 | AS14: =' Populations'!U19 -> 0 | AT14: =IF(AS14=0,0,($L$14/$AS$14)*100000) -> 0 | AV14: =' Populations'!#REF! -> #REF! | AW14: =IF(AV14=0,0,($M$14/$AV$14)*100000) -> #REF! | AX14: =' Populations'!#REF! -> #REF! | AY14: =IF(AX14=0,0,($N$14/$AX$14)*100000) -> #REF! | AZ14: =' Populations'!#REF! -> #REF! | BA14: =IF(AZ14=0,0,($O$14/$AZ$14)*100000) -> #REF! | BB14: =' Populations'!#REF! -> #REF! | BC14: =IF(BB14=0,0,($P$14/$BB$14)*100000) -> #REF! | BD14: =' Populations'!#REF! -> #REF! | BE14: =IF(BD14=0,0,($Q$14/$BD$14)*100000) -> #REF! | BF14: =' Populations'!#REF! -> #REF! | BG14: =IF(BF14=0,0,($R$14/$BF$14)*100000) -> #REF! | BH14: =' Populations'!#REF! -> #REF! | BI14: =IF(BH14=0,0,($S$14/$BH$14)*100000) -> #REF! | BJ14: =' Populations'!#REF! -> #REF! | BK14: =IF(BJ14=0,0,($T$14/$BJ$14)*100000) -> #REF! | BL14: =' Populations'!#REF! -> #REF! | BM14: =IF(BL14=0,0,($U$13/$BL$13)*100000) -> #REF! | BN14: =' Populations'!#REF! -> #REF! | BO14: =IF(BN14=0,0,($V$14/$BN$14)*100000) -> #REF! | BP14: =' Populations'!#REF! -> #REF! | BQ14: =IF(BP14=0,0,($W$14/$BP$14)*100000) -> #REF! | BR14: =' Populations'!#REF! -> #REF! | BS14: =IF(BR14=0,0,($X$14/$BR$14)*100000) -> #REF! | BT14: =' Populations'!#REF! -> #REF! | BU14: =IF(BT14=0,0,($Y$14/$BT$14)*100000) -> #REF!
AA15: =' Populations'!C20 -> 0 | AB15: =IF(AA15=0,0,($C$15/$AA$15)*100000) -> 0 | AC15: =' Populations'!E20 -> 0 | AD15: =IF(AC15=0,0,($D$15/$AC$15)*100000) -> 0 | AE15: =' Populations'!G20 -> 0 | AF15: =IF(AE15=0,0,($E$15/$AE$15)*100000) -> 0 | AG15: =' Populations'!I20 -> 0 | AH15: =IF(AG15=0,0,($F$15/$AG$15)*100000) -> 0 | AI15: =' Populations'!K20 -> 0 | AJ15: =IF(AI15=0,0,($G$15/$AI$15)*100000) -> 0 | AK15: =' Populations'!M20 -> 0 | AL15: =IF(AK15=0,0,($G$15/$AK$15)*100000) -> 0 | AM15: =' Populations'!O20 -> 0 | AN15: =IF(AM15=0,0,($I$15/$AM$15)*100000) -> 0 | AO15: =' Populations'!Q20 -> 0 | AP15: =IF(AO15=0,0,($J$15/$AO$15)*100000) -> 0 | AQ15: =' Populations'!S20 -> 0 | AR15: =IF(AQ15=0,0,($K$15/$AQ$15)*100000) -> 0 | AS15: =' Populations'!U20 -> 0 | AT15: =IF(AS15=0,0,($L$15/$AS$15)*100000) -> 0 | AV15: =' Populations'!#REF! -> #REF! | AW15: =IF(AV15=0,0,($M$15/$AV$15)*100000) -> #REF! | AX15: =' Populations'!#REF! -> #REF! | AY15: =IF(AX15=0,0,($N$15/$AX$15)*100000) -> #REF! | AZ15: =' Populations'!#REF! -> #REF! | BA15: =IF(AZ15=0,0,($O$15/$AZ$15)*100000) -> #REF! | BB15: =' Populations'!#REF! -> #REF! | BC15: =IF(BB15=0,0,($P$15/$BB$15)*100000) -> #REF! | BD15: =' Populations'!#REF! -> #REF! | BE15: =IF(BD15=0,0,($Q$15/$BD$15)*100000) -> #REF! | BF15: =' Populations'!#REF! -> #REF! | BG15: =IF(BF15=0,0,($R$15/$BF$15)*100000) -> #REF! | BH15: =' Populations'!#REF! -> #REF! | BI15: =IF(BH15=0,0,($S$15/$BH$15)*100000) -> #REF! | BJ15: =' Populations'!#REF! -> #REF! | BK15: =IF(BJ15=0,0,($T$15/$BJ$15)*100000) -> #REF! | BL15: =' Populations'!#REF! -> #REF! | BM15: =IF(BL15=0,0,($U$13/$BL$13)*100000) -> #REF! | BN15: =' Populations'!#REF! -> #REF! | BO15: =IF(BN15=0,0,($V$15/$BN$15)*100000) -> #REF! | BP15: =' Populations'!#REF! -> #REF! | BQ15: =IF(BP15=0,0,($W$15/$BP$15)*100000) -> #REF! | BR15: =' Populations'!#REF! -> #REF! | BS15: =IF(BR15=0,0,($X$15/$BR$15)*100000) -> #REF! | BT15: =' Populations'!#REF! -> #REF! | BU15: =IF(BT15=0,0,($Y$15/$BT$15)*100000) -> #REF!
AA16: =' Populations'!C21 -> 0 | AB16: =IF(AA16=0,0,($C$16/$AA$16)*100000) -> 0 | AC16: =' Populations'!E21 -> 0 | AD16: =IF(AC16=0,0,($D$16/$AC$16)*100000) -> 0 | AE16: =' Populations'!G21 -> 0 | AF16: =IF(AE16=0,0,($E$16/$AE$16)*100000) -> 0 | AG16: =' Populations'!I21 -> 0 | AH16: =IF(AG16=0,0,($F$16/$AG$16)*100000) -> 0 | AI16: =' Populations'!K21 -> 0 | AJ16: =IF(AI16=0,0,($G$16/$AI$16)*100000) -> 0 | AK16: =' Populations'!M21 -> 0 | AL16: =IF(AK16=0,0,($G$16/$AK$16)*100000) -> 0 | AM16: =' Populations'!O21 -> 0 | AN16: =IF(AM16=0,0,($I$16/$AM$16)*100000) -> 0 | AO16: =' Populations'!Q21 -> 0 | AP16: =IF(AO16=0,0,($J$16/$AO$16)*100000) -> 0 | AQ16: =' Populations'!S21 -> 0 | AR16: =IF(AQ16=0,0,($K$16/$AQ$16)*100000) -> 0 | AS16: =' Populations'!U21 -> 0 | AT16: =IF(AS16=0,0,($L$16/$AS$16)*100000) -> 0 | AV16: =' Populations'!#REF! -> #REF! | AW16: =IF(AV16=0,0,($M$16/$AV$16)*100000) -> #REF! | AX16: =' Populations'!#REF! -> #REF! | AY16: =IF(AX16=0,0,($N$16/$AX$16)*100000) -> #REF! | AZ16: =' Populations'!#REF! -> #REF! | BA16: =IF(AZ16=0,0,($O$16/$AZ$16)*100000) -> #REF! | BB16: =' Populations'!#REF! -> #REF! | BC16: =IF(BB16=0,0,($P$16/$BB$16)*100000) -> #REF! | BD16: =' Populations'!#REF! -> #REF! | BE16: =IF(BD16=0,0,($Q$16/$BD$16)*100000) -> #REF! | BF16: =' Populations'!#REF! -> #REF! | BG16: =IF(BF16=0,0,($R$16/$BF$16)*100000) -> #REF! | BH16: =' Populations'!#REF! -> #REF! | BI16: =IF(BH16=0,0,($S$16/$BH$16)*100000) -> #REF! | BJ16: =' Populations'!#REF! -> #REF! | BK16: =IF(BJ16=0,0,($T$16/$BJ$16)*100000) -> #REF! | BL16: =' Populations'!#REF! -> #REF! | BM16: =IF(BL16=0,0,($U$13/$BL$13)*100000) -> #REF! | BN16: =' Populations'!#REF! -> #REF! | BO16: =IF(BN16=0,0,($V$16/$BN$16)*100000) -> #REF! | BP16: =' Populations'!#REF! -> #REF! | BQ16: =IF(BP16=0,0,($W$16/$BP$16)*100000) -> #REF! | BR16: =' Populations'!#REF! -> #REF! | BS16: =IF(BR16=0,0,($X$16/$BR$16)*100000) -> #REF! | BT16: =' Populations'!#REF! -> #REF! | BU16: =IF(BT16=0,0,($Y$16/$BT$16)*100000) -> #REF!
B17: total | C17: =SUM(C4:C16) -> 0 | D17: =SUM(D4:D16) -> 0 | E17: =SUM(E4:E16) -> 0 | F17: =SUM(F4:F16) -> 0 | G17: =SUM(G4:G16) -> 0 | H17: =SUM(H4:H16) -> 0 | I17: =SUM(I4:I16) -> 0 | J17: =SUM(J4:J16) -> 0 | ... Y17: =SUM(Y4:Y16) -> 0 | AA17: =SUM(AA4:AA16) -> 0 | AB17: =SUM(AB4:AB16) -> 0 | AC17: =SUM(AC4:AC16) -> 0 | AD17: =SUM(AD4:AD16) -> 0 | AE17: =SUM(AE4:AE16) -> 0 | AF17: =SUM(AF4:AF16) -> 0 | AG17: =SUM(AG4:AG16) -> 0 | AH17: =SUM(AH4:AH16) -> 0 | ... AT17: =SUM(AT4:AT16) -> 0 | AV17: =' Populations'!#REF! -> #REF! | AW17: =SUM(AW4:AW16) -> #REF! | AX17: =' Populations'!#REF! -> #REF! | AY17: =SUM(AY4:AY16) -> #REF! | AZ17: =' Populations'!#REF! -> #REF! | BA17: =SUM(BA4:BA16) -> #REF! | BB17: =' Populations'!#REF! -> #REF! | BC17: =SUM(BC4:BC16) -> #REF! | BD17: =' Populations'!#REF! -> #REF! | BE17: =SUM(BE4:BE16) -> #REF! | BF17: =' Populations'!#REF! -> #REF! | BG17: =SUM(BG4:BG16) -> #REF! | BH17: =' Populations'!#REF! -> #REF! | BI17: =SUM(BI4:BI16) -> #REF! | BJ17: =' Populations'!#REF! -> #REF! | BK17: =SUM(BK4:BK16) -> #REF! | BL17: =' Populations'!#REF! -> #REF! | BM17: =IF(BL17=0,0,($U$13/$BL$13)*100000) -> #REF! | BN17: =' Populations'!#REF! -> #REF! | BO17: =SUM(BO4:BO16) -> #REF! | BP17: =' Populations'!#REF! -> #REF! | BQ17: =SUM(BQ4:BQ16) -> #REF! | BR17: =' Populations'!#REF! -> #REF! | BS17: =SUM(BS4:BS16) -> #REF! | BT17: =' Populations'!#REF! -> #REF! | BU17: =SUM(BU4:BU16) -> #REF!
A18: change over time (red indicates a decrease over time) | C18: =C4-C13 -> 0 | D18: =D4-D13 -> 0 | E18: =E4-E13 -> 0 | F18: =F4-F13 -> 0 | G18: =G4-G13 -> 0 | H18: =H4-H13 -> 0 | I18: =I4-I13 -> 0 | J18: =J4-J13 -> 0 | ... Y18: =Y4-Y13 -> 0 | AB18: =AB4-AB13 -> 0 | AD18: =AD4-AD13 -> 0 | AF18: =AF4-AF13 -> 0 | AH18: =AH4-AH13 -> 0 | AJ18: =AJ4-AJ13 -> 0 | AL18: =AL4-AL13 -> 0 | AN18: =AN4-AN13 -> 0 | AP18: =AP4-AP13 -> 0 | AR18: =AR4-AR13 -> 0 | AT18: =AT4-AT13 -> 0 | AW18: =AW4-AW13 -> #REF! | AY18: =AY4-AY13 -> #REF! | BA18: =BA4-BA13 -> #REF! | BC18: =BC4-BC13 -> #REF!

Sheet Poisoning
B1: Data Input Tables Instructions: Enter your Suicide-related injury data in the red cells below. The age-adjusted rates will automatically calculate in the results table. | F1: Optional: Unhide columns G through L to enter demographic data | M1: Optional: Unhide columns N through AF to enter health region data | AH1: Optional: Unhide columns AI through CS to show rate calculations and 2000 population weights | CU1: Results Table Age Adjusted Rates per 100,1000. Results will calculate automatically. | CX1: Optional: Unhide columns CY through DY to show demographic and regional rates
A2: Most Recent Date Year | C2: =' Populations'!A10 -> 0 | D2: Sex Data | F2: Demographic Data | M2: Region Data | CV2: Age-adjusted Rates per 100,000 population
B3: Age | C3: Number of deaths- Total | D3: Number of deaths- Male | E3: Number of deaths- Female | F3: =' Populations'!$I$8 -> White-Not Hispanic | G3: =' Populations'!$K$8 -> Hispanic | H3: =' Populations'!$M$8 -> Black-Not Hispanic | I3: =' Populations'!$O$8 -> Asian | J3: =' Populations'!$Q$8 -> American Indian/Alaska Native | K3: =' Populations'!$S$8 -> Other | L3: =' Populations'!$U$8 -> Other | M3: =' Populations'!W8 -> Region 1 | N3: =' Populations'!Y8 -> Region 2 | O3: =' Populations'!AA8 -> Region 3 | P3: =' Populations'!AC8 -> Region 4 | Q3: =' Populations'!AE8 -> Region 5 | R3: =' Populations'!AG8 -> Region 6 | S3: =' Populations'!AI8 -> Region 7 | T3: =' Populations'!AK8 -> Region 8 | U3: =' Populations'!AM8 -> Region 9 | V3: =' Populations'!AO8 -> Region 10 | W3: =' Populations'!AQ8 -> Region 11 | X3: =' Populations'!AS8 -> Region 12 | Y3: =' Populations'!AU8 -> Region 13 | Z3: =' Populations'!AW8 -> Region 14 | AA3: =' Populations'!AY8 -> Region 15 | AB3: =' Populations'!BA8 -> Region 16 | AC3: =' Populations'!BC8 -> Region 17 | AD3: =' Populations'!BE8 -> Region 18 | AE3: =' Populations'!BG8 -> Region 19 | AF3: =' Populations'!BI8 -> Region 20 | AH3: State population - Total | AI3: Rate | AJ3: State population - Male | AK3: Rate | AL3: State population - Female | AM3: Rate | AN3: =' Populations'!$I$8 -> White-Not Hispanic | AO3: Rate | AP3: =' Populations'!$K$8 -> Hispanic | AQ3: Rate | AR3: =' Populations'!$M$8 -> Black-Not Hispanic | AS3: Rate | AT3: =' Populations'!$O$8 -> Asian | AU3: Rate | AV3: =' Populations'!$Q$8 -> American Indian/Alaska Native | AW3: Rate | AX3: =' Populations'!$S$8 -> Other | AY3: Rate | AZ3: =' Populations'!$U$8 -> Other | BA3: Rate | BC3: =M3 -> Region 1 | BD3: Rate | BE3: =N3 -> Region 2 | BF3: Rate | BG3: =O3 -> Region 3 | BH3: Rate | BI3: =P3 -> Region 4 | BJ3: Rate | BK3: =Q3 -> Region 5 | BL3: Rate | BM3: =R3 -> Region 6 | BN3: Rate | BO3: =S3 -> Region 7 | BP3: Rate | BQ3: =T3 -> Region 8 | BR3: Rate | BS3: =U3 -> Region 9 | BT3: Rate | BU3: =V3 -> Region 10 | BV3: Rate | BW3: =W3 -> Region 11 | BX3: Rate | BY3: =X3 -> Region 12 | BZ3: Rate | CA3: =Y3 -> Region 13 | CB3: Rate | CC3: =Z3 -> Region 14 | CD3: Rate | CE3: =AA3 -> Region 15 | CF3: Rate | CG3: =AB3 -> Region 16 | CH3: Rate | CI3: =AC3 -> Region 17 | CJ3: Rate | CK3: =AD3 -> Region 18 | CL3: Rate | CM3: =AE3 -> Region 19 | CN3: Rate | CO3: =AF3 -> Region 20 | CP3: Rate | CS3: 2000 Population Weight | CU3: Age | CV3: Total | CW3: Male | CX3: Female | CY3: =' Populations'!$I$8 -> White-Not Hispanic | CZ3: =' Populations'!$K$8 -> Hispanic | DA3: =' Populations'!$M$8 -> Black-Not Hispanic | DB3: =' Populations'!$O$8 -> Asian | DC3: =' Populations'!$Q$8 -> American Indian/Alaska Native | DD3: =' Populations'!$S$8 -> Other | DE3: =' Populations'!$U$8 -> Other | DF3: =M3 -> Region 1 | DG3: =N3 -> Region 2 | DH3: =O3 -> Region 3 | DI3: =P3 -> Region 4 | DJ3: =Q3 -> Region 5 | DK3: =R3 -> Region 6 | DL3: =S3 -> Region 7 | DM3: =T3 -> Region 8 | ... DY3: =AF3 -> Region 20
B4: =' Populations'!$B$9 -> <1 | S4: 0 | T4: 0 | U4: 0 | V4: 0 | W4: 0 | X4: 0 | Y4: 0 | Z4: 0 | AA4: 0 | AB4: 0 | AC4: 0 | AD4: 0 | AE4: 0 | AF4: 0 | AH4: =' Populations'!C9 -> 0 | AI4: =IF(AH4=0,0,($C$4/$AH$4)*100000) -> 0 | AJ4: =' Populations'!E9 -> 0 | AK4: =IF(AJ4=0,0,($D$4/$AJ$4)*100000) -> 0 | AL4: =' Populations'!G9 -> 0 | AM4: =IF(AL4=0,0,($E$4/$AL$4)*100000) -> 0 | AN4: =' Populations'!I9 -> 0 | AO4: =IF(AN4=0,0,($F$4/$AN$4)*100000) -> 0 | AP4: =' Populations'!K9 -> 0 | AQ4: =IF(AP4=0,0,($G$4/$AP$4)*100000) -> 0 | AR4: =' Populations'!M9 -> 0 | AS4: =IF(AR4=0,0,($H$4/$AR$4)*100000) -> 0 | AT4: =' Populations'!O9 -> 0 | AU4: =IF(AT4=0,0,($I$4/$AT$4)*100000) -> 0 | AV4: =' Populations'!Q9 -> 0 | AW4: =IF(AV4=0,0,($J$4/$AV$4)*100000) -> 0 | AX4: =' Populations'!S9 -> 0 | AY4: =IF(AX4=0,0,($K$4/$AX$4)*100000) -> 0 | AZ4: =' Populations'!U9 -> 0 | BA4: =IF(AZ4=0,0,($L$4/$AZ$4)*100000) -> 0 | BC4: =' Populations'!W9 -> 0 | BD4: =IF(BC4=0,0,($M$4/$BC$4)*100000) -> 0 | BE4: =' Populations'!Y9 -> 0 | BF4: =IF(BE4=0,0,($N$4/$BE$4)*100000) -> 0 | BG4: =' Populations'!AA9 -> 0 | BH4: =IF(BG4=0,0,($O$4/$BG$4)*100000) -> 0 | BI4: =' Populations'!AC9 -> 0 | BJ4: =IF(BI4=0,0,($P$4/$BI$4)*100000) -> 0 | BK4: =' Populations'!AE9 -> 0 | BL4: =IF(BK4=0,0,($Q$4/$BK$4)*100000) -> 0 | BM4: =' Populations'!AG9 -> 0 | BN4: =IF(BM4=0,0,($R$4/$BM$4)*100000) -> 0 | BO4: =' Populations'!AI9 -> 0 | BP4: =IF(BO4=0,0,($S$4/$BO$4)*100000) -> 0 | BQ4: =' Populations'!AK9 -> 0 | BR4: =IF(BQ4=0,0,($T$4/$BQ$4)*100000) -> 0 | BS4: =' Populations'!AM9 -> 0 | BT4: =IF(BS4=0,0,($U$4/$BS$4)*100000) -> 0 | BU4: =' Populations'!AO9 -> 0 | BV4: =IF(BU4=0,0,($V$4/$BU$4)*100000) -> 0 | BW4: =' Populations'!AQ9 -> 0 | BX4: =IF(BW4=0,0,($W$4/$BW$4)*100000) -> 0 | BY4: =' Populations'!AS9 -> 0 | BZ4: =IF(BY4=0,0,($X$4/$BY$4)*100000) -> 0 | CA4: =' Populations'!AU9 -> 0 | CB4: =IF(CA4=0,0,($Y$4/$CA$4)*100000) -> 0 | CC4: =' Populations'!AW9 -> 0 | CD4: =IF(CC4=0,0,($Z$4/$CC$4)*100000) -> 0 | CE4: =' Populations'!AY9 -> 0 | CF4: =IF(CE4=0,0,($AA$4/$CE$4)*100000) -> 0 | CG4: =' Populations'!BA9 -> 0 | CH4: =IF(CG4=0,0,($AB$4/$CG$4)*100000) -> 0 | CI4: =' Populations'!BC9 -> 0 | CJ4: =IF(CI4=0,0,($AC$4/$CI$4)*100000) -> 0 | CK4: =' Populations'!BE9 -> 0 | CL4: =IF(CK4=0,0,($AD$4/$CK$4)*100000) -> 0 | CM4: =' Populations'!BG9 -> 0 | CN4: =IF(CM4=0,0,($AE$4/$CM$4)*100000) -> 0 | CO4: =' Populations'!BI9 -> 0 | CP4: =IF(CO4=0,0,($AF$4/$CO$4)*100000) -> 0 | CS4: 0.013818 | CU4: =' Populations'!$B$9 -> <1 | CV4: =AI4*CS4 -> 0 | CW4: =AK4*CS4 -> 0 | CX4: =AM4*CS4 -> 0 | CY4: =AO4*CS4 -> 0 | CZ4: =AQ4*CS4 -> 0 | DA4: =AS4*CS4 -> 0 | DB4: =AU4*CS4 -> 0 | DC4: =AW4*CS4 -> 0 | DD4: =AY4*CS4 -> 0 | DE4: =BA4*CS4 -> 0 | DF4: =BD4*CS4 -> 0 | DG4: =BF4*CS4 -> 0 | DH4: =BH4*CS4 -> 0 | DI4: =BJ4*CS4 -> 0 | DJ4: =BL4*CS4 -> 0 | DK4: =BN4*CS4 -> 0 | DL4: =BO4*CS4 -> 0 | DM4: =BR4*CS4 -> 0 | DN4: =BT4*CS4 -> 0 | DO4: =BV4*CS4 -> 0 | DP4: =BX4*CS4 -> 0 | DQ4: =BZ4*CS4 -> 0 | DR4: =CB4*CS4 -> 0 | DS4: =CD4*CS4 -> 0 | DT4: =CE4*CS4 -> 0 | DU4: =CF4*CS4 -> 0 | DV4: =CG4*CS4 -> 0 | DW4: =CH4*CS4 -> 0 | DX4: =CI4*CS4 -> 0 | DY4: =CJ4*CS4 -> 0
B5: =' Populations'!$B$10 -> 1-4 | S5: 0 | T5: 0 | U5: 0 | V5: 0 | W5: 0 | X5: 0 | Y5: 0 | Z5: 0 | AA5: 0 | AB5: 0 | AC5: 0 | AD5: 0 | AE5: 0 | AF5: 0 | AH5: =' Populations'!C10 -> 0 | AI5: =IF(AH5=0,0,($C$5/$AH$5)*100000) -> 0 | AJ5: =' Populations'!E10 -> 0 | AK5: =IF(AJ5=0,0,($D$5/$AJ$5)*100000) -> 0 | AL5: =' Populations'!G10 -> 0 | AM5: =IF(AL5=0,0,($E$5/$AL$5)*100000) -> 0 | AN5: =' Populations'!I10 -> 0 | AO5: =IF(AN5=0,0,($F$5/$AN$5)*100000) -> 0 | AP5: =' Populations'!K10 -> 0 | AQ5: =IF(AP5=0,0,($G$5/$AP$5)*100000) -> 0 | AR5: =' Populations'!M10 -> 0 | AS5: =IF(AR5=0,0,($G$5/$AR$5)*100000) -> 0 | AT5: =' Populations'!O10 -> 0 | AU5: =IF(AT5=0,0,($I$5/$AT$5)*100000) -> 0 | AV5: =' Populations'!Q10 -> 0 | AW5: =IF(AV5=0,0,($J$5/$AV$5)*100000) -> 0 | AX5: =' Populations'!S10 -> 0 | AY5: =IF(AX5=0,0,($K$5/$AX$5)*100000) -> 0 | AZ5: =' Populations'!U10 -> 0 | BA5: =IF(AZ5=0,0,($L$5/$AZ$5)*100000) -> 0 | BC5: =' Populations'!W10 -> 0 | BD5: =IF(BC5=0,0,($M$5/$BC$5)*100000) -> 0 | BE5: =' Populations'!Y10 -> 0 | BF5: =IF(BE5=0,0,($N$5/$BE$5)*100000) -> 0 | BG5: =' Populations'!AA10 -> 0 | BH5: =IF(BG5=0,0,($O$5/$BG$5)*100000) -> 0 | BI5: =' Populations'!AC10 -> 0 | BJ5: =IF(BI5=0,0,($P$5/$BI$5)*100000) -> 0 | BK5: =' Populations'!AE10 -> 0 | BL5: =IF(BK5=0,0,($Q$5/$BK$5)*100000) -> 0 | BM5: =' Populations'!AG10 -> 0 | BN5: =IF(BM5=0,0,($R$5/$BM$5)*100000) -> 0 | BO5: =' Populations'!AI10 -> 0 | BP5: =IF(BO5=0,0,($S$5/$BO$5)*100000) -> 0 | BQ5: =' Populations'!AK10 -> 0 | BR5: =IF(BQ5=0,0,($T$5/$BQ$5)*100000) -> 0 | BS5: =' Populations'!AM10 -> 0 | BT5: =IF(BS5=0,0,($U$5/$BS$5)*100000) -> 0 | BU5: =' Populations'!AO10 -> 0 | BV5: =IF(BU5=0,0,($V$5/$BU$5)*100000) -> 0 | BW5: =' Populations'!AQ10 -> 0 | BX5: =IF(BW5=0,0,($W$5/$BW$5)*100000) -> 0 | BY5: =' Populations'!AS10 -> 0 | BZ5: =IF(BY5=0,0,($X$5/$BY$5)*100000) -> 0 | CA5: =' Populations'!AU10 -> 0 | CB5: =IF(CA5=0,0,($Y$5/$CA$5)*100000) -> 0 | CC5: =' Populations'!AW10 -> 0 | CD5: =IF(CC5=0,0,($Z$5/$CC$5)*100000) -> 0 | CE5: =' Populations'!AY10 -> 0 | CF5: =IF(CE5=0,0,($AA$5/$CE$5)*100000) -> 0 | CG5: =' Populations'!BA10 -> 0 | CH5: =IF(CG5=0,0,($AB$4/$CG$5)*100000) -> 0 | CI5: =' Populations'!BC10 -> 0 | CJ5: =IF(CI5=0,0,($AC$4/$CI$5)*100000) -> 0 | CK5: =' Populations'!BE10 -> 0 | CL5: =IF(CK5=0,0,($AD$4/$CK$5)*100000) -> 0 | CM5: =' Populations'!BG10 -> 0 | CN5: =IF(CM5=0,0,($AE$4/$CM$5)*100000) -> 0 | CO5: =' Populations'!BI10 -> 0 | CP5: =IF(CO5=0,0,($AF$4/$CO$5)*100000) -> 0 | CS5: 0.055317 | CU5: =' Populations'!$B$10 -> 1-4 | CV5: =AI5*CS5 -> 0 | CW5: =AK5*CS5 -> 0 | CX5: =AM5*CS5 -> 0 | CY5: =AO5*CS5 -> 0 | CZ5: =AQ5*CS5 -> 0 | DA5: =AS5*CS5 -> 0 | DB5: =AU5*CS5 -> 0 | DC5: =AW5*CS5 -> 0 | DD5: =AY5*CS5 -> 0 | DE5: =BA5*CS5 -> 0 | DF5: =BD5*CS5 -> 0 | DG5: =BF5*CS5 -> 0 | DH5: =BH5*CS5 -> 0 | DI5: =BJ5*CS5 -> 0 | DJ5: =BL5*CS5 -> 0 | DK5: =BN5*CS5 -> 0 | DL5: =BO5*CS5 -> 0 | DM5: =BR5*CS5 -> 0 | DN5: =BT5*CS5 -> 0 | DO5: =BV5*CS5 -> 0 | DP5: =BX5*CS5 -> 0 | DQ5: =BZ5*CS5 -> 0 | DR5: =CB5*CS5 -> 0 | DS5: =CD5*CS5 -> 0 | DT5: =CE5*CS5 -> 0 | DU5: =CF5*CS5 -> 0 | DV5: =CG5*CS5 -> 0 | DW5: =CH5*CS5 -> 0 | DX5: =CI5*CS5 -> 0 | DY5: =CJ5*CS5 -> 0
B6: =' Populations'!$B$11 -> 5-9 | S6: 0 | T6: 0 | U6: 0 | V6: 0 | W6: 0 | X6: 0 | Y6: 0 | Z6: 0 | AA6: 0 | AB6: 0 | AC6: 0 | AD6: 0 | AE6: 0 | AF6: 0 | AH6: =' Populations'!C11 -> 0 | AI6: =IF(AH6=0,0,($C$6/$AH$6)*100000) -> 0 | AJ6: =' Populations'!E11 -> 0 | AK6: =IF(AJ6=0,0,($D$6/$AJ$6)*100000) -> 0 | AL6: =' Populations'!G11 -> 0 | AM6: =IF(AL6=0,0,($E$6/$AL$6)*100000) -> 0 | AN6: =' Populations'!I11 -> 0 | AO6: =IF(AN6=0,0,($F$6/$AN$6)*100000) -> 0 | AP6: =' Populations'!K11 -> 0 | AQ6: =IF(AP6=0,0,($G$6/$AP$6)*100000) -> 0 | AR6: =' Populations'!M11 -> 0 | AS6: =IF(AR6=0,0,($G$6/$AR$6)*100000) -> 0 | AT6: =' Populations'!O11 -> 0 | AU6: =IF(AT6=0,0,($I$6/$AT$6)*100000) -> 0 | AV6: =' Populations'!Q11 -> 0 | AW6: =IF(AV6=0,0,($J$6/$AV$6)*100000) -> 0 | AX6: =' Populations'!S11 -> 0 | AY6: =IF(AX6=0,0,($K$6/$AX$6)*100000) -> 0 | AZ6: =' Populations'!U11 -> 0 | BA6: =IF(AZ6=0,0,($L$6/$AZ$6)*100000) -> 0 | BC6: =' Populations'!W11 -> 0 | BD6: =IF(BC6=0,0,($M$6/$BC$6)*100000) -> 0 | BE6: =' Populations'!Y11 -> 0 | BF6: =IF(BE6=0,0,($N$6/$BE$6)*100000) -> 0 | BG6: =' Populations'!AA11 -> 0 | BH6: =IF(BG6=0,0,($O$6/$BG$6)*100000) -> 0 | BI6: =' Populations'!AC11 -> 0 | BJ6: =IF(BI6=0,0,($P$6/$BI$6)*100000) -> 0 | BK6: =' Populations'!AE11 -> 0 | BL6: =IF(BK6=0,0,($Q$6/$BK$6)*100000) -> 0 | BM6: =' Populations'!AG11 -> 0 | BN6: =IF(BM6=0,0,($R$6/$BM$6)*100000) -> 0 | BO6: =' Populations'!AI11 -> 0 | BP6: =IF(BO6=0,0,($S$6/$BO$6)*100000) -> 0 | BQ6: =' Populations'!AK11 -> 0 | BR6: =IF(BQ6=0,0,($T$6/$BQ$6)*100000) -> 0 | BS6: =' Populations'!AM11 -> 0 | BT6: =IF(BS6=0,0,($U$6/$BS$6)*100000) -> 0 | BU6: =' Populations'!AO11 -> 0 | BV6: =IF(BU6=0,0,($V$6/$BU$6)*100000) -> 0 | BW6: =' Populations'!AQ11 -> 0 | BX6: =IF(BW6=0,0,($W$6/$BW$6)*100000) -> 0 | BY6: =' Populations'!AS11 -> 0 | BZ6: =IF(BY6=0,0,($X$6/$BY$6)*100000) -> 0 | CA6: =' Populations'!AU11 -> 0 | CB6: =IF(CA6=0,0,($Y$6/$CA$6)*100000) -> 0 | CC6: =' Populations'!AW11 -> 0 | CD6: =IF(CC6=0,0,($Z$6/$CC$6)*100000) -> 0 | CE6: =' Populations'!AY11 -> 0 | CF6: =IF(CE6=0,0,($AA$6/$CE$6)*100000) -> 0 | CG6: =' Populations'!BA11 -> 0 | CH6: =IF(CG6=0,0,($AB$4/$CG$6)*100000) -> 0 | CI6: =' Populations'!BC11 -> 0 | CJ6: =IF(CI6=0,0,($AC$4/$CI$6)*100000) -> 0 | CK6: =' Populations'!BE11 -> 0 | CL6: =IF(CK6=0,0,($AD$4/$CK$6)*100000) -> 0 | CM6: =' Populations'!BG11 -> 0 | CN6: =IF(CM6=0,0,($AE$4/$CM$6)*100000) -> 0 | CO6: =' Populations'!BI11 -> 0 | CP6: =IF(CO6=0,0,($AF$4/$CO$6)*100000) -> 0 | CS6: 0.072533 | CU6: =' Populations'!$B$11 -> 5-9 | CV6: =AI6*CS6 -> 0 | CW6: =AK6*CS6 -> 0 | CX6: =AM6*CS6 -> 0 | CY6: =AO6*CS6 -> 0 | CZ6: =AQ6*CS6 -> 0 | DA6: =AS6*CS6 -> 0 | DB6: =AU6*CS6 -> 0 | DC6: =AW6*CS6 -> 0 | DD6: =AY6*CS6 -> 0 | DE6: =BA6*CS6 -> 0 | DF6: =BD6*CS6 -> 0 | DG6: =BF6*CS6 -> 0 | DH6: =BH6*CS6 -> 0 | DI6: =BJ6*CS6 -> 0 | DJ6: =BL6*CS6 -> 0 | DK6: =BN6*CS6 -> 0 | DL6: =BO6*CS6 -> 0 | DM6: =BR6*CS6 -> 0 | DN6: =BT6*CS6 -> 0 | DO6: =BV6*CS6 -> 0 | DP6: =BX6*CS6 -> 0 | DQ6: =BZ6*CS6 -> 0 | DR6: =CB6*CS6 -> 0 | DS6: =CD6*CS6 -> 0 | DT6: =CE6*CS6 -> 0 | DU6: =CF6*CS6 -> 0 | DV6: =CG6*CS6 -> 0 | DW6: =CH6*CS6 -> 0 | DX6: =CI6*CS6 -> 0 | DY6: =CJ6*CS6 -> 0
B7: =' Populations'!$B$12 -> 10-14 | AH7: =' Populations'!C12 -> 0 | AI7: =IF(AH7=0,0,($C$7/$AH$7)*100000) -> 0 | AJ7: =' Populations'!E12 -> 0 | AK7: =IF(AJ7=0,0,($D$7/$AJ$7)*100000) -> 0 | AL7: =' Populations'!G12 -> 0 | AM7: =IF(AL7=0,0,($E$7/$AL$7)*100000) -> 0 | AN7: =' Populations'!I12 -> 0 | AO7: =IF(AN7=0,0,($F$7/$AN$7)*100000) -> 0 | AP7: =' Populations'!K12 -> 0 | AQ7: =IF(AP7=0,0,($G$7/$AP$7)*100000) -> 0 | AR7: =' Populations'!M12 -> 0 | AS7: =IF(AR7=0,0,($G$7/$AR$7)*100000) -> 0 | AT7: =' Populations'!O12 -> 0 | AU7: =IF(AT7=0,0,($I$7/$AT$7)*100000) -> 0 | AV7: =' Populations'!Q12 -> 0 | AW7: =IF(AV7=0,0,($J$7/$AV$7)*100000) -> 0 | AX7: =' Populations'!S12 -> 0 | AY7: =IF(AX7=0,0,($K$7/$AX$7)*100000) -> 0 | AZ7: =' Populations'!U12 -> 0 | BA7: =IF(AZ7=0,0,($L$7/$AZ$7)*100000) -> 0 | BC7: =' Populations'!W12 -> 0 | BD7: =IF(BC7=0,0,($M$7/$BC$7)*100000) -> 0 | BE7: =' Populations'!Y12 -> 0 | BF7: =IF(BE7=0,0,($N$7/$BE$7)*100000) -> 0 | BG7: =' Populations'!AA12 -> 0 | BH7: =IF(BG7=0,0,($O$7/$BG$7)*100000) -> 0 | BI7: =' Populations'!AC12 -> 0 | BJ7: =IF(BI7=0,0,($P$7/$BI$7)*100000) -> 0 | BK7: =' Populations'!AE12 -> 0 | BL7: =IF(BK7=0,0,($Q$7/$BK$7)*100000) -> 0 | BM7: =' Populations'!AG12 -> 0 | BN7: =IF(BM7=0,0,($R$7/$BM$7)*100000) -> 0 | BO7: =' Populations'!AI12 -> 0 | BP7: =IF(BO7=0,0,($S$7/$BO$7)*100000) -> 0 | BQ7: =' Populations'!AK12 -> 0 | BR7: =IF(BQ7=0,0,($T$7/$BQ$7)*100000) -> 0 | BS7: =' Populations'!AM12 -> 0 | BT7: =IF(BS7=0,0,($U$7/$BS$7)*100000) -> 0 | BU7: =' Populations'!AO12 -> 0 | BV7: =IF(BU7=0,0,($V$7/$BU$7)*100000) -> 0 | BW7: =' Populations'!AQ12 -> 0 | BX7: =IF(BW7=0,0,($W$7/$BW$7)*100000) -> 0 | BY7: =' Populations'!AS12 -> 0 | BZ7: =IF(BY7=0,0,($X$7/$BY$7)*100000) -> 0 | CA7: =' Populations'!AU12 -> 0 | CB7: =IF(CA7=0,0,($Y$7/$CA$7)*100000) -> 0 | CC7: =' Populations'!AW12 -> 0 | CD7: =IF(CC7=0,0,($Z$7/$CC$7)*100000) -> 0 | CE7: =' Populations'!AY12 -> 0 | CF7: =IF(CE7=0,0,($AA$7/$CE$7)*100000) -> 0 | CG7: =' Populations'!BA12 -> 0 | CH7: =IF(CG7=0,0,($AB$4/$CG$7)*100000) -> 0 | CI7: =' Populations'!BC12 -> 0 | CJ7: =IF(CI7=0,0,($AC$4/$CI$7)*100000) -> 0 | CK7: =' Populations'!BE12 -> 0 | CL7: =IF(CK7=0,0,($AD$4/$CK$7)*100000) -> 0 | CM7: =' Populations'!BG12 -> 0 | CN7: =IF(CM7=0,0,($AE$4/$CM$7)*100000) -> 0 | CO7: =' Populations'!BI12 -> 0 | CP7: =IF(CO7=0,0,($AF$4/$CO$7)*100000) -> 0 | CS7: 0.073032 | CU7: =' Populations'!$B$12 -> 10-14 | CV7: =AI7*CS7 -> 0 | CW7: =AK7*CS7 -> 0 | CX7: =AM7*CS7 -> 0 | CY7: =AO7*CS7 -> 0 | CZ7: =AQ7*CS7 -> 0 | DA7: =AS7*CS7 -> 0 | DB7: =AU7*CS7 -> 0 | DC7: =AW7*CS7 -> 0 | DD7: =AY7*CS7 -> 0 | DE7: =BA7*CS7 -> 0 | DF7: =BD7*CS7 -> 0 | DG7: =BF7*CS7 -> 0 | DH7: =BH7*CS7 -> 0 | DI7: =BJ7*CS7 -> 0 | DJ7: =BL7*CS7 -> 0 | DK7: =BN7*CS7 -> 0 | DL7: =BO7*CS7 -> 0 | DM7: =BR7*CS7 -> 0 | DN7: =BT7*CS7 -> 0 | DO7: =BV7*CS7 -> 0 | DP7: =BX7*CS7 -> 0 | DQ7: =BZ7*CS7 -> 0 | DR7: =CB7*CS7 -> 0 | DS7: =CD7*CS7 -> 0 | DT7: =CE7*CS7 -> 0 | DU7: =CF7*CS7 -> 0 | DV7: =CG7*CS7 -> 0 | DW7: =CH7*CS7 -> 0 | DX7: =CI7*CS7 -> 0 | DY7: =CJ7*CS7 -> 0
B8: =' Populations'!$B$13 -> 15-19 | AH8: =' Populations'!C13 -> 0 | AI8: =IF(AH8=0,0,($C$8/$AH$8)*100000) -> 0 | AJ8: =' Populations'!E13 -> 0 | AK8: =IF(AJ8=0,0,($D$8/$AJ$8)*100000) -> 0 | AL8: =' Populations'!G13 -> 0 | AM8: =IF(AL8=0,0,($E$8/$AL$8)*100000) -> 0 | AN8: =' Populations'!I13 -> 0 | AO8: =IF(AN8=0,0,($F$8/$AN$8)*100000) -> 0 | AP8: =' Populations'!K13 -> 0 | AQ8: =IF(AP8=0,0,($G$8/$AP$8)*100000) -> 0 | AR8: =' Populations'!M13 -> 0 | AS8: =IF(AR8=0,0,($G$8/$AR$8)*100000) -> 0 | AT8: =' Populations'!O13 -> 0 | AU8: =IF(AT8=0,0,($I$8/$AT$8)*100000) -> 0 | AV8: =' Populations'!Q13 -> 0 | AW8: =IF(AV8=0,0,($J$8/$AV$8)*100000) -> 0 | AX8: =' Populations'!S13 -> 0 | AY8: =IF(AX8=0,0,($K$8/$AX$8)*100000) -> 0 | AZ8: =' Populations'!U13 -> 0 | BA8: =IF(AZ8=0,0,($L$8/$AZ$8)*100000) -> 0 | BC8: =' Populations'!W13 -> 0 | BD8: =IF(BC8=0,0,($M$8/$BC$8)*100000) -> 0 | BE8: =' Populations'!Y13 -> 0 | BF8: =IF(BE8=0,0,($N$8/$BE$8)*100000) -> 0 | BG8: =' Populations'!AA13 -> 0 | BH8: =IF(BG8=0,0,($O$8/$BG$8)*100000) -> 0 | BI8: =' Populations'!AC13 -> 0 | BJ8: =IF(BI8=0,0,($P$8/$BI$8)*100000) -> 0 | BK8: =' Populations'!AE13 -> 0 | BL8: =IF(BK8=0,0,($Q$8/$BK$8)*100000) -> 0 | BM8: =' Populations'!AG13 -> 0 | BN8: =IF(BM8=0,0,($R$8/$BM$8)*100000) -> 0 | BO8: =' Populations'!AI13 -> 0 | BP8: =IF(BO8=0,0,($S$8/$BO$8)*100000) -> 0 | BQ8: =' Populations'!AK13 -> 0 | BR8: =IF(BQ8=0,0,($T$8/$BQ$8)*100000) -> 0 | BS8: =' Populations'!AM13 -> 0 | BT8: =IF(BS8=0,0,($U$8/$BC$8)*100000) -> 0 | BU8: =' Populations'!AO13 -> 0 | BV8: =IF(BU8=0,0,($V$8/$BU$8)*100000) -> 0 | BW8: =' Populations'!AQ13 -> 0 | BX8: =IF(BW8=0,0,($W$8/$BW$8)*100000) -> 0 | BY8: =' Populations'!AS13 -> 0 | BZ8: =IF(BY8=0,0,($X$8/$BY$8)*100000) -> 0 | CA8: =' Populations'!AU13 -> 0 | CB8: =IF(CA8=0,0,($Y$8/$CA$8)*100000) -> 0 | CC8: =' Populations'!AW13 -> 0 | CD8: =IF(CC8=0,0,($Z$8/$CC$8)*100000) -> 0 | CE8: =' Populations'!AY13 -> 0 | CF8: =IF(CE8=0,0,($AA$8/$CE$8)*100000) -> 0 | CG8: =' Populations'!BA13 -> 0 | CH8: =IF(CG8=0,0,($AB$4/$CG$8)*100000) -> 0 | CI8: =' Populations'!BC13 -> 0 | CJ8: =IF(CI8=0,0,($AC$4/$CI$8)*100000) -> 0 | CK8: =' Populations'!BE13 -> 0 | CL8: =IF(CK8=0,0,($AD$4/$CK$8)*100000) -> 0 | CM8: =' Populations'!BG13 -> 0 | CN8: =IF(CM8=0,0,($AE$4/$CM$8)*100000) -> 0 | CO8: =' Populations'!BI13 -> 0 | CP8: =IF(CO8=0,0,($AF$4/$CO$8)*100000) -> 0 | CS8: 0.072169 | CU8: =' Populations'!$B$13 -> 15-19 | CV8: =AI8*CS8 -> 0 | CW8: =AK8*CS8 -> 0 | CX8: =AM8*CS8 -> 0 | CY8: =AO8*CS8 -> 0 | CZ8: =AQ8*CS8 -> 0 | DA8: =AS8*CS8 -> 0 | DB8: =AU8*CS8 -> 0 | DC8: =AW8*CS8 -> 0 | DD8: =AY8*CS8 -> 0 | DE8: =BA8*CS8 -> 0 | DF8: =BD8*CS8 -> 0 | DG8: =BF8*CS8 -> 0 | DH8: =BH8*CS8 -> 0 | DI8: =BJ8*CS8 -> 0 | DJ8: =BL8*CS8 -> 0 | DK8: =BN8*CS8 -> 0 | DL8: =BO8*CS8 -> 0 | DM8: =BR8*CS8 -> 0 | DN8: =BT8*CS8 -> 0 | DO8: =BV8*CS8 -> 0 | DP8: =BX8*CS8 -> 0 | DQ8: =BZ8*CS8 -> 0 | DR8: =CB8*CS8 -> 0 | DS8: =CD8*CS8 -> 0 | DT8: =CE8*CS8 -> 0 | DU8: =CF8*CS8 -> 0 | DV8: =CG8*CS8 -> 0 | DW8: =CH8*CS8 -> 0 | DX8: =CI8*CS8 -> 0 | DY8: =CJ8*CS8 -> 0
B9: =' Populations'!$B$14 -> 20-24 | AH9: =' Populations'!C14 -> 0 | AI9: =IF(AH9=0,0,($C$9/$AH$9)*100000) -> 0 | AJ9: =' Populations'!E14 -> 0 | AK9: =IF(AJ9=0,0,($D$9/$AJ$9)*100000) -> 0 | AL9: =' Populations'!G14 -> 0 | AM9: =IF(AL9=0,0,($E$9/$AL$9)*100000) -> 0 | AN9: =' Populations'!I14 -> 0 | AO9: =IF(AN9=0,0,($F$9/$AN$9)*100000) -> 0 | AP9: =' Populations'!K14 -> 0 | AQ9: =IF(AP9=0,0,($G$9/$AP$9)*100000) -> 0 | AR9: =' Populations'!M14 -> 0 | AS9: =IF(AR9=0,0,($G$9/$AR$9)*100000) -> 0 | AT9: =' Populations'!O14 -> 0 | AU9: =IF(AT9=0,0,($I$9/$AT$9)*100000) -> 0 | AV9: =' Populations'!Q14 -> 0 | AW9: =IF(AV9=0,0,($J$9/$AV$9)*100000) -> 0 | AX9: =' Populations'!S14 -> 0 | AY9: =IF(AX9=0,0,($K$9/$AX$9)*100000) -> 0 | AZ9: =' Populations'!U14 -> 0 | BA9: =IF(AZ9=0,0,($L$9/$AZ$9)*100000) -> 0 | BC9: =' Populations'!W14 -> 0 | BD9: =IF(BC9=0,0,($M$9/$BC$9)*100000) -> 0 | BE9: =' Populations'!Y14 -> 0 | BF9: =IF(BE9=0,0,($N$9/$BE$9)*100000) -> 0 | BG9: =' Populations'!AA14 -> 0 | BH9: =IF(BG9=0,0,($O$9/$BG$9)*100000) -> 0 | BI9: =' Populations'!AC14 -> 0 | BJ9: =IF(BI9=0,0,($P$9/$BI$9)*100000) -> 0 | BK9: =' Populations'!AE14 -> 0 | BL9: =IF(BK9=0,0,($Q$9/$BK$9)*100000) -> 0 | BM9: =' Populations'!AG14 -> 0 | BN9: =IF(BM9=0,0,($R$9/$BM$9)*100000) -> 0 | BO9: =' Populations'!AI14 -> 0 | BP9: =IF(BO9=0,0,($S$9/$BO$9)*100000) -> 0 | BQ9: =' Populations'!AK14 -> 0 | BR9: =IF(BQ9=0,0,($T$9/$BQ$9)*100000) -> 0 | BS9: =' Populations'!AM14 -> 0 | BT9: =IF(BS9=0,0,($U$9/$BS$9)*100000) -> 0 | BU9: =' Populations'!AO14 -> 0 | BV9: =IF(BU9=0,0,($V$9/$BU$9)*100000) -> 0 | BW9: =' Populations'!AQ14 -> 0 | BX9: =IF(BW9=0,0,($W$9/$BW$9)*100000) -> 0 | BY9: =' Populations'!AS14 -> 0 | BZ9: =IF(BY9=0,0,($X$9/$BY$9)*100000) -> 0 | CA9: =' Populations'!AU14 -> 0 | CB9: =IF(CA9=0,0,($Y$9/$CA$9)*100000) -> 0 | CC9: =' Populations'!AW14 -> 0 | CD9: =IF(CC9=0,0,($Z$9/$CC$9)*100000) -> 0 | CE9: =' Populations'!AY14 -> 0 | CF9: =IF(CE9=0,0,($AA$9/$CE$9)*100000) -> 0 | CG9: =' Populations'!BA14 -> 0 | CH9: =IF(CG9=0,0,($AB$4/$CG$9)*100000) -> 0 | CI9: =' Populations'!BC14 -> 0 | CJ9: =IF(CI9=0,0,($AC$4/$CI$9)*100000) -> 0 | CK9: =' Populations'!BE14 -> 0 | CL9: =IF(CK9=0,0,($AD$4/$CK$9)*100000) -> 0 | CM9: =' Populations'!BG14 -> 0 | CN9: =IF(CM9=0,0,($AE$4/$CM$9)*100000) -> 0 | CO9: =' Populations'!BI14 -> 0 | CP9: =IF(CO9=0,0,($AF$4/$CO$9)*100000) -> 0 | CS9: 0.066478 | CU9: =' Populations'!$B$14 -> 20-24 | CV9: =AI9*CS9 -> 0 | CW9: =AK9*CS9 -> 0 | CX9: =AM9*CS9 -> 0 | CY9: =AO9*CS9 -> 0 | CZ9: =AQ9*CS9 -> 0 | DA9: =AS9*CS9 -> 0 | DB9: =AU9*CS9 -> 0 | DC9: =AW9*CS9 -> 0 | DD9: =AY9*CS9 -> 0 | DE9: =BA9*CS9 -> 0 | DF9: =BD9*CS9 -> 0 | DG9: =BF9*CS9 -> 0 | DH9: =BH9*CS9 -> 0 | DI9: =BJ9*CS9 -> 0 | DJ9: =BL9*CS9 -> 0 | DK9: =BN9*CS9 -> 0 | DL9: =BO9*CS9 -> 0 | DM9: =BR9*CS9 -> 0 | DN9: =BT9*CS9 -> 0 | DO9: =BV9*CS9 -> 0 | DP9: =BX9*CS9 -> 0 | DQ9: =BZ9*CS9 -> 0 | DR9: =CB9*CS9 -> 0 | DS9: =CD9*CS9 -> 0 | DT9: =CE9*CS9 -> 0 | DU9: =CF9*CS9 -> 0 | DV9: =CG9*CS9 -> 0 | DW9: =CH9*CS9 -> 0 | DX9: =CI9*CS9 -> 0 | DY9: =CJ9*CS9 -> 0
B10: =' Populations'!$B$15 -> 25-34 | AH10: =' Populations'!C15 -> 0 | AI10: =IF(AH10=0,0,($C$10/$AH$10)*100000) -> 0 | AJ10: =' Populations'!E15 -> 0 | AK10: =IF(AJ10=0,0,($D$10/$AJ$10)*100000) -> 0 | AL10: =' Populations'!G15 -> 0 | AM10: =IF(AL10=0,0,($E$10/$AL$10)*100000) -> 0 | AN10: =' Populations'!I15 -> 0 | AO10: =IF(AN10=0,0,($F$10/$AN$10)*100000) -> 0 | AP10: =' Populations'!K15 -> 0 | AQ10: =IF(AP10=0,0,($G$10/$AP$10)*100000) -> 0 | AR10: =' Populations'!M15 -> 0 | AS10: =IF(AR10=0,0,($G$10/$AR$10)*100000) -> 0 | AT10: =' Populations'!O15 -> 0 | AU10: =IF(AT10=0,0,($I$10/$AT$10)*100000) -> 0 | AV10: =' Populations'!Q15 -> 0 | AW10: =IF(AV10=0,0,($J$10/$AV$10)*100000) -> 0 | AX10: =' Populations'!S15 -> 0 | AY10: =IF(AX10=0,0,($K$10/$AX$10)*100000) -> 0 | AZ10: =' Populations'!U15 -> 0 | BA10: =IF(AZ10=0,0,($L$10/$AZ$10)*100000) -> 0 | BC10: =' Populations'!W15 -> 0 | BD10: =IF(BC10=0,0,($M$10/$BC$10)*100000) -> 0 | BE10: =' Populations'!Y15 -> 0 | BF10: =IF(BE10=0,0,($N$10/$BE$10)*100000) -> 0 | BG10: =' Populations'!AA15 -> 0 | BH10: =IF(BG10=0,0,($O$10/$BG$10)*100000) -> 0 | BI10: =' Populations'!AC15 -> 0 | BJ10: =IF(BI10=0,0,($P$10/$BI$10)*100000) -> 0 | BK10: =' Populations'!AE15 -> 0 | BL10: =IF(BK10=0,0,($Q$10/$BK$10)*100000) -> 0 | BM10: =' Populations'!AG15 -> 0 | BN10: =IF(BM10=0,0,($R$10/$BM$10)*100000) -> 0 | BO10: =' Populations'!AI15 -> 0 | BP10: =IF(BO10=0,0,($S$10/$BO$10)*100000) -> 0 | BQ10: =' Populations'!AK15 -> 0 | BR10: =IF(BQ10=0,0,($T$10/$BQ$10)*100000) -> 0 | BS10: =' Populations'!AM15 -> 0 | BT10: =IF(BS10=0,0,($U$10/$BS$10)*100000) -> 0 | BU10: =' Populations'!AO15 -> 0 | BV10: =IF(BU10=0,0,($V$10/$BU$10)*100000) -> 0 | BW10: =' Populations'!AQ15 -> 0 | BX10: =IF(BW10=0,0,($W$10/$BW$10)*100000) -> 0 | BY10: =' Populations'!AS15 -> 0 | BZ10: =IF(BY10=0,0,($X$10/$BY$10)*100000) -> 0 | CA10: =' Populations'!AU15 -> 0 | CB10: =IF(CA10=0,0,($Y$10/$CA$10)*100000) -> 0 | CC10: =' Populations'!AW15 -> 0 | CD10: =IF(CC10=0,0,($Z$10/$CC$10)*100000) -> 0 | CE10: =' Populations'!AY15 -> 0 | CF10: =IF(CE10=0,0,($AA$10/$CE$10)*100000) -> 0 | CG10: =' Populations'!BA15 -> 0 | CH10: =IF(CG10=0,0,(ABZ$4/$CG$10)*100000) -> 0 | CI10: =' Populations'!BC15 -> 0 | CJ10: =IF(CI10=0,0,($AC$4/$CI$10)*100000) -> 0 | CK10: =' Populations'!BE15 -> 0 | CL10: =IF(CK10=0,0,($AD$4/$CK$10)*100000) -> 0 | CM10: =' Populations'!BG15 -> 0 | CN10: =IF(CM10=0,0,($AE$4/$CM$10)*100000) -> 0 | CO10: =' Populations'!BI15 -> 0 | CP10: =IF(CO10=0,0,($AF$4/$CO$10)*100000) -> 0 | CS10: 0.135573 | CU10: =' Populations'!$B$15 -> 25-34 | CV10: =AI10*CS10 -> 0 | CW10: =AK10*CS10 -> 0 | CX10: =AM10*CS10 -> 0 | CY10: =AO10*CS10 -> 0 | CZ10: =AQ10*CS10 -> 0 | DA10: =AS10*CS10 -> 0 | DB10: =AU10*CS10 -> 0 | DC10: =AW10*CS10 -> 0 | DD10: =AY10*CS10 -> 0 | DE10: =BA10*CS10 -> 0 | DF10: =BD10*CS10 -> 0 | DG10: =BF10*CS10 -> 0 | DH10: =BH10*CS10 -> 0 | DI10: =BJ10*CS10 -> 0 | DJ10: =BL10*CS10 -> 0 | DK10: =BN10*CS10 -> 0 | DL10: =BO10*CS10 -> 0 | DM10: =BR10*CS10 -> 0 | DN10: =BT10*CS10 -> 0 | DO10: =BV10*CS10 -> 0 | DP10: =BX10*CS10 -> 0 | DQ10: =BZ10*CS10 -> 0 | DR10: =CB10*CS10 -> 0 | DS10: =CD10*CS10 -> 0 | DT10: =CE10*CS10 -> 0 | DU10: =CF10*CS10 -> 0 | DV10: =CG10*CS10 -> 0 | DW10: =CH10*CS10 -> 0 | DX10: =CI10*CS10 -> 0 | DY10: =CJ10*CS10 -> 0
B11: =' Populations'!$B$16 -> 35-44 | AH11: =' Populations'!C16 -> 0 | AI11: =IF(AH11=0,0,($C$11/$AH$11)*100000) -> 0 | AJ11: =' Populations'!E16 -> 0 | AK11: =IF(AJ11=0,0,($D$11/$AJ$11)*100000) -> 0 | AL11: =' Populations'!G16 -> 0 | AM11: =IF(AL11=0,0,($E$11/$AL$11)*100000) -> 0 | AN11: =' Populations'!I16 -> 0 | AO11: =IF(AN11=0,0,($F$11/$AN$11)*100000) -> 0 | AP11: =' Populations'!K16 -> 0 | AQ11: =IF(AP11=0,0,($G$11/$AP$11)*100000) -> 0 | AR11: =' Populations'!M16 -> 0 | AS11: =IF(AR11=0,0,($G$11/$AR$11)*100000) -> 0 | AT11: =' Populations'!O16 -> 0 | AU11: =IF(AT11=0,0,($I$11/$AT$11)*100000) -> 0 | AV11: =' Populations'!Q16 -> 0 | AW11: =IF(AV11=0,0,($J$11/$AV$11)*100000) -> 0 | AX11: =' Populations'!S16 -> 0 | AY11: =IF(AX11=0,0,($K$11/$AX$11)*100000) -> 0 | AZ11: =' Populations'!U16 -> 0 | BA11: =IF(AZ11=0,0,($L$11/$AZ$11)*100000) -> 0 | BC11: =' Populations'!W16 -> 0 | BD11: =IF(BC11=0,0,($M$11/$BC$11)*100000) -> 0 | BE11: =' Populations'!Y16 -> 0 | BF11: =IF(BE11=0,0,($N$11/$BE$11)*100000) -> 0 | BG11: =' Populations'!AA16 -> 0 | BH11: =IF(BG11=0,0,($O$11/$BG$11)*100000) -> 0 | BI11: =' Populations'!AC16 -> 0 | BJ11: =IF(BI11=0,0,($P$11/$BI$11)*100000) -> 0 | BK11: =' Populations'!AE16 -> 0 | BL11: =IF(BK11=0,0,($Q$11/$BK$11)*100000) -> 0 | BM11: =' Populations'!AG16 -> 0 | BN11: =IF(BM11=0,0,($R$11/$BM$11)*100000) -> 0 | BO11: =' Populations'!AI16 -> 0 | BP11: =IF(BO11=0,0,($S$11/$BO$11)*100000) -> 0 | BQ11: =' Populations'!AK16 -> 0 | BR11: =IF(BQ11=0,0,($T$11/$BQ$11)*100000) -> 0 | BS11: =' Populations'!AM16 -> 0 | BT11: =IF(BS11=0,0,($U$11/$BS$11)*100000) -> 0 | BU11: =' Populations'!AO16 -> 0 | BV11: =IF(BU11=0,0,($V$11/$BU$11)*100000) -> 0 | BW11: =' Populations'!AQ16 -> 0 | BX11: =IF(BW11=0,0,($W$11/$BW$11)*100000) -> 0 | BY11: =' Populations'!AS16 -> 0 | BZ11: =IF(BY11=0,0,($X$11/$BY$11)*100000) -> 0 | CA11: =' Populations'!AU16 -> 0 | CB11: =IF(CA11=0,0,($Y$11/$CA$11)*100000) -> 0 | CC11: =' Populations'!AW16 -> 0 | CD11: =IF(CC11=0,0,($Z$11/$CC$11)*100000) -> 0 | CE11: =' Populations'!AY16 -> 0 | CF11: =IF(CE11=0,0,($AA$11/$CE$11)*100000) -> 0 | CG11: =' Populations'!BA16 -> 0 | CH11: =IF(CG11=0,0,(ABZ$4/$CG$11)*100000) -> 0 | CI11: =' Populations'!BC16 -> 0 | CJ11: =IF(CI11=0,0,($AC$4/$CI$11)*100000) -> 0 | CK11: =' Populations'!BE16 -> 0 | CL11: =IF(CK11=0,0,($AD$4/$CK$11)*100000) -> 0 | CM11: =' Populations'!BG16 -> 0 | CN11: =IF(CM11=0,0,($AE$4/$CM$11)*100000) -> 0 | CO11: =' Populations'!BI16 -> 0 | CP11: =IF(CO11=0,0,($AF$4/$CO$11)*100000) -> 0 | CS11: 0.162613 | CU11: =' Populations'!$B$16 -> 35-44 | CV11: =AI11*CS11 -> 0 | CW11: =AK11*CS11 -> 0 | CX11: =AM11*CS11 -> 0 | CY11: =AO11*CS11 -> 0 | CZ11: =AQ11*CS11 -> 0 | DA11: =AS11*CS11 -> 0 | DB11: =AU11*CS11 -> 0 | DC11: =AW11*CS11 -> 0 | DD11: =AY11*CS11 -> 0 | DE11: =BA11*CS11 -> 0 | DF11: =BD11*CS11 -> 0 | DG11: =BF11*CS11 -> 0 | DH11: =BH11*CS11 -> 0 | DI11: =BJ11*CS11 -> 0 | DJ11: =BL11*CS11 -> 0 | DK11: =BN11*CS11 -> 0 | DL11: =BO11*CS11 -> 0 | DM11: =BR11*CS11 -> 0 | DN11: =BT11*CS11 -> 0 | DO11: =BV11*CS11 -> 0 | DP11: =BX11*CS11 -> 0 | DQ11: =BZ11*CS11 -> 0 | DR11: =CB11*CS11 -> 0 | DS11: =CD11*CS11 -> 0 | DT11: =CE11*CS11 -> 0 | DU11: =CF11*CS11 -> 0 | DV11: =CG11*CS11 -> 0 | DW11: =CH11*CS11 -> 0 | DX11: =CI11*CS11 -> 0 | DY11: =CJ11*CS11 -> 0
B12: =' Populations'!$B$17 -> 45-54 | AH12: =' Populations'!C17 -> 0 | AI12: =IF(AH12=0,0,($C$12/$AH$12)*100000) -> 0 | AJ12: =' Populations'!E17 -> 0 | AK12: =IF(AJ12=0,0,($D$12/$AJ$12)*100000) -> 0 | AL12: =' Populations'!G17 -> 0 | AM12: =IF(AL12=0,0,($E$12/$AL$12)*100000) -> 0 | AN12: =' Populations'!I17 -> 0 | AO12: =IF(AN12=0,0,($F$12/$AN$12)*100000) -> 0 | AP12: =' Populations'!K17 -> 0 | AQ12: =IF(AP12=0,0,($G$12/$AP$12)*100000) -> 0 | AR12: =' Populations'!M17 -> 0 | AS12: =IF(AR12=0,0,($G$12/$AR$12)*100000) -> 0 | AT12: =' Populations'!O17 -> 0 | AU12: =IF(AT12=0,0,($I$12/$AT$12)*100000) -> 0 | AV12: =' Populations'!Q17 -> 0 | AW12: =IF(AV12=0,0,($J$12/$AV$12)*100000) -> 0 | AX12: =' Populations'!S17 -> 0 | AY12: =IF(AX12=0,0,($K$12/$AX$12)*100000) -> 0 | AZ12: =' Populations'!U17 -> 0 | BA12: =IF(AZ12=0,0,($L$12/$AZ$12)*100000) -> 0 | BC12: =' Populations'!W17 -> 0 | BD12: =IF(BC12=0,0,($M$12/$BC$12)*100000) -> 0 | BE12: =' Populations'!Y17 -> 0 | BF12: =IF(BE12=0,0,($N$12/$BE$12)*100000) -> 0 | BG12: =' Populations'!AA17 -> 0 | BH12: =IF(BG12=0,0,($O$12/$BG$12)*100000) -> 0 | BI12: =' Populations'!AC17 -> 0 | BJ12: =IF(BI12=0,0,($P$12/$BI$12)*100000) -> 0 | BK12: =' Populations'!AE17 -> 0 | BL12: =IF(BK12=0,0,($Q$12/$BK$12)*100000) -> 0 | BM12: =' Populations'!AG17 -> 0 | BN12: =IF(BM12=0,0,($R$12/$BM$12)*100000) -> 0 | BO12: =' Populations'!AI17 -> 0 | BP12: =IF(BO12=0,0,($S$12/$BO$12)*100000) -> 0 | BQ12: =' Populations'!AK17 -> 0 | BR12: =IF(BQ12=0,0,($T$12/$BQ$12)*100000) -> 0 | BS12: =' Populations'!AM17 -> 0 | BT12: =IF(BS12=0,0,($U$12/$BS$12)*100000) -> 0 | BU12: =' Populations'!AO17 -> 0 | BV12: =IF(BU12=0,0,($V$12/$BU$12)*100000) -> 0 | BW12: =' Populations'!AQ17 -> 0 | BX12: =IF(BW12=0,0,($W$12/$BW$12)*100000) -> 0 | BY12: =' Populations'!AS17 -> 0 | BZ12: =IF(BY12=0,0,($X$12/$BY$12)*100000) -> 0 | CA12: =' Populations'!AU17 -> 0 | CB12: =IF(CA12=0,0,($Y$12/$CA$12)*100000) -> 0 | CC12: =' Populations'!AW17 -> 0 | CD12: =IF(CC12=0,0,($Z$12/$CC$12)*100000) -> 0 | CE12: =' Populations'!AY17 -> 0 | CF12: =IF(CE12=0,0,($AA$12/$CE$12)*100000) -> 0 | CG12: =' Populations'!BA17 -> 0 | CH12: =IF(CG12=0,0,($AB$4/$CG$12)*100000) -> 0 | CI12: =' Populations'!BC17 -> 0 | CJ12: =IF(CI12=0,0,($AC$4/$CI$12)*100000) -> 0 | CK12: =' Populations'!BE17 -> 0 | CL12: =IF(CK12=0,0,($AD$4/$CK$12)*100000) -> 0 | CM12: =' Populations'!BG17 -> 0 | CN12: =IF(CM12=0,0,($AE$4/$CM$12)*100000) -> 0 | CO12: =' Populations'!BI17 -> 0 | CP12: =IF(CO12=0,0,($AF$4/$CO$12)*100000) -> 0 | CS12: 0.134834 | CU12: =' Populations'!$B$17 -> 45-54 | CV12: =AI12*CS12 -> 0 | CW12: =AK12*CS12 -> 0 | CX12: =AM12*CS12 -> 0 | CY12: =AO12*CS12 -> 0 | CZ12: =AQ12*CS12 -> 0 | DA12: =AS12*CS12 -> 0 | DB12: =AU12*CS12 -> 0 | DC12: =AW12*CS12 -> 0 | DD12: =AY12*CS12 -> 0 | DE12: =BA12*CS12 -> 0 | DF12: =BD12*CS12 -> 0 | DG12: =BF12*CS12 -> 0 | DH12: =BH12*CS12 -> 0 | DI12: =BJ12*CS12 -> 0 | DJ12: =BL12*CS12 -> 0 | DK12: =BN12*CS12 -> 0 | DL12: =BO12*CS12 -> 0 | DM12: =BR12*CS12 -> 0 | DN12: =BT12*CS12 -> 0 | DO12: =BV12*CS12 -> 0 | DP12: =BX12*CS12 -> 0 | DQ12: =BZ12*CS12 -> 0 | DR12: =CB12*CS12 -> 0 | DS12: =CD12*CS12 -> 0 | DT12: =CE12*CS12 -> 0 | DU12: =CF12*CS12 -> 0 | DV12: =CG12*CS12 -> 0 | DW12: =CH12*CS12 -> 0 | DX12: =CI12*CS12 -> 0 | DY12: =CJ12*CS12 -> 0
B13: =' Populations'!$B$18 -> 55-64 | AH13: =' Populations'!C18 -> 0 | AI13: =IF(AH13=0,0,($C$13/$AH$13)*100000) -> 0 | AJ13: =' Populations'!E18 -> 0 | AK13: =IF(AJ13=0,0,($D$13/$AJ$13)*100000) -> 0 | AL13: =' Populations'!G18 -> 0 | AM13: =IF(AL13=0,0,($E$13/$AL$13)*100000) -> 0 | AN13: =' Populations'!I18 -> 0 | AO13: =IF(AN13=0,0,($F$13/$AN$13)*100000) -> 0 | AP13: =' Populations'!K18 -> 0 | AQ13: =IF(AP13=0,0,($G$13/$AP$13)*100000) -> 0 | AR13: =' Populations'!M18 -> 0 | AS13: =IF(AR13=0,0,($G$13/$AR$13)*100000) -> 0 | AT13: =' Populations'!O18 -> 0 | AU13: =IF(AT13=0,0,($I$13/$AT$13)*100000) -> 0 | AV13: =' Populations'!Q18 -> 0 | AW13: =IF(AV13=0,0,($J$13/$AV$13)*100000) -> 0 | AX13: =' Populations'!S18 -> 0 | AY13: =IF(AX13=0,0,($K$13/$AX$13)*100000) -> 0 | AZ13: =' Populations'!U18 -> 0 | BA13: =IF(AZ13=0,0,($L$13/$AZ$13)*100000) -> 0 | BC13: =' Populations'!W18 -> 0 | BD13: =IF(BC13=0,0,($M$13/$BC$13)*100000) -> 0 | BE13: =' Populations'!Y18 -> 0 | BF13: =IF(BE13=0,0,($N$13/$BE$13)*100000) -> 0 | BG13: =' Populations'!AA18 -> 0 | BH13: =IF(BG13=0,0,($O$13/$BG$13)*100000) -> 0 | BI13: =' Populations'!AC18 -> 0 | BJ13: =IF(BI13=0,0,($P$13/$BI$13)*100000) -> 0 | BK13: =' Populations'!AE18 -> 0 | BL13: =IF(BK13=0,0,($Q$13/$BK$13)*100000) -> 0 | BM13: =' Populations'!AG18 -> 0 | BN13: =IF(BM13=0,0,($R$13/$BM$13)*100000) -> 0 | BO13: =' Populations'!AI18 -> 0 | BP13: =IF(BO13=0,0,($S$13/$BO$13)*100000) -> 0 | BQ13: =' Populations'!AK18 -> 0 | BR13: =IF(BQ13=0,0,($T$13/$BQ$13)*100000) -> 0 | BS13: =' Populations'!AM18 -> 0 | BT13: =IF(BS13=0,0,($U$13/$BS$13)*100000) -> 0 | BU13: =' Populations'!AO18 -> 0 | BV13: =IF(BU13=0,0,($V$13/$BU$13)*100000) -> 0 | BW13: =' Populations'!AQ18 -> 0 | BX13: =IF(BW13=0,0,($W$13/$BW$13)*100000) -> 0 | BY13: =' Populations'!AS18 -> 0 | BZ13: =IF(BY13=0,0,($X$13/$BY$13)*100000) -> 0 | CA13: =' Populations'!AU18 -> 0 | CB13: =IF(CA13=0,0,($Y$13/$CA$13)*100000) -> 0 | CC13: =' Populations'!AW18 -> 0 | CD13: =IF(CC13=0,0,($Z$13/$CC$13)*100000) -> 0 | CE13: =' Populations'!AY18 -> 0 | CF13: =IF(CE13=0,0,($AA$13/$CE$13)*100000) -> 0 | CG13: =' Populations'!BA18 -> 0 | CH13: =IF(CG13=0,0,($AB$4/$CG$13)*100000) -> 0 | CI13: =' Populations'!BC18 -> 0 | CJ13: =IF(CI13=0,0,($AC$4/$CI$13)*100000) -> 0 | CK13: =' Populations'!BE18 -> 0 | CL13: =IF(CK13=0,0,($AD$4/$CK$13)*100000) -> 0 | CM13: =' Populations'!BG18 -> 0 | CN13: =IF(CM13=0,0,($AE$4/$CM$13)*100000) -> 0 | CO13: =' Populations'!BI18 -> 0 | CP13: =IF(CO13=0,0,($AF$4/$CO$13)*100000) -> 0 | CS13: 0.087247 | CU13: =' Populations'!$B$18 -> 55-64 | CV13: =AI13*CS13 -> 0 | CW13: =AK13*CS13 -> 0 | CX13: =AM13*CS13 -> 0 | CY13: =AO13*CS13 -> 0 | CZ13: =AQ13*CS13 -> 0 | DA13: =AS13*CS13 -> 0 | DB13: =AU13*CS13 -> 0 | DC13: =AW13*CS13 -> 0 | DD13: =AY13*CS13 -> 0 | DE13: =BA13*CS13 -> 0 | DF13: =BD13*CS13 -> 0 | DG13: =BF13*CS13 -> 0 | DH13: =BH13*CS13 -> 0 | DI13: =BJ13*CS13 -> 0 | DJ13: =BL13*CS13 -> 0 | DK13: =BN13*CS13 -> 0 | DL13: =BO13*CS13 -> 0 | DM13: =BR13*CS13 -> 0 | DN13: =BT13*CS13 -> 0 | DO13: =BV13*CS13 -> 0 | DP13: =BX13*CS13 -> 0 | DQ13: =BZ13*CS13 -> 0 | DR13: =CB13*CS13 -> 0 | DS13: =CD13*CS13 -> 0 | DT13: =CE13*CS13 -> 0 | DU13: =CF13*CS13 -> 0 | DV13: =CG13*CS13 -> 0 | DW13: =CH13*CS13 -> 0 | DX13: =CI13*CS13 -> 0 | DY13: =CJ13*CS13 -> 0
B14: =' Populations'!$B$19 -> 65-74 | AH14: =' Populations'!C19 -> 0 | AI14: =IF(AH14=0,0,($C$14/$AH$14)*100000) -> 0 | AJ14: =' Populations'!E19 -> 0 | AK14: =IF(AJ14=0,0,($D$14/$AJ$14)*100000) -> 0 | AL14: =' Populations'!G19 -> 0 | AM14: =IF(AL14=0,0,($E$14/$AL$14)*100000) -> 0 | AN14: =' Populations'!I19 -> 0 | AO14: =IF(AN14=0,0,($F$14/$AN$14)*100000) -> 0 | AP14: =' Populations'!K19 -> 0 | AQ14: =IF(AP14=0,0,($G$14/$AP$14)*100000) -> 0 | AR14: =' Populations'!M19 -> 0 | AS14: =IF(AR14=0,0,($G$14/$AR$14)*100000) -> 0 | AT14: =' Populations'!O19 -> 0 | AU14: =IF(AT14=0,0,($I$14/$AT$14)*100000) -> 0 | AV14: =' Populations'!Q19 -> 0 | AW14: =IF(AV14=0,0,($J$14/$AV$14)*100000) -> 0 | AX14: =' Populations'!S19 -> 0 | AY14: =IF(AX14=0,0,($K$14/$AX$14)*100000) -> 0 | AZ14: =' Populations'!U19 -> 0 | BA14: =IF(AZ14=0,0,($L$14/$AZ$14)*100000) -> 0 | BC14: =' Populations'!W19 -> 0 | BD14: =IF(BC14=0,0,($M$14/$BC$14)*100000) -> 0 | BE14: =' Populations'!Y19 -> 0 | BF14: =IF(BE14=0,0,($N$14/$BE$14)*100000) -> 0 | BG14: =' Populations'!AA19 -> 0 | BH14: =IF(BG14=0,0,($O$14/$BG$14)*100000) -> 0 | BI14: =' Populations'!AC19 -> 0 | BJ14: =IF(BI14=0,0,($P$14/$BI$14)*100000) -> 0 | BK14: =' Populations'!AE19 -> 0 | BL14: =IF(BK14=0,0,($Q$14/$BK$14)*100000) -> 0 | BM14: =' Populations'!AG19 -> 0 | BN14: =IF(BM14=0,0,($R$14/$BM$14)*100000) -> 0 | BO14: =' Populations'!AI19 -> 0 | BP14: =IF(BO14=0,0,($S$14/$BO$14)*100000) -> 0 | BQ14: =' Populations'!AK19 -> 0 | BR14: =IF(BQ14=0,0,($T$14/$BQ$14)*100000) -> 0 | BS14: =' Populations'!AM19 -> 0 | BT14: =IF(BS14=0,0,($U$14/$BS$14)*100000) -> 0 | BU14: =' Populations'!AO19 -> 0 | BV14: =IF(BU14=0,0,($V$14/$BU$14)*100000) -> 0 | BW14: =' Populations'!AQ19 -> 0 | BX14: =IF(BW14=0,0,($W$14/$BW$14)*100000) -> 0 | BY14: =' Populations'!AS19 -> 0 | BZ14: =IF(BY14=0,0,($X$14/$BY$14)*100000) -> 0 | CA14: =' Populations'!AU19 -> 0 | CB14: =IF(CA14=0,0,($Y$14/$CA$14)*100000) -> 0 | CC14: =' Populations'!AW19 -> 0 | CD14: =IF(CC14=0,0,($Z$14/$CC$14)*100000) -> 0 | CE14: =' Populations'!AY19 -> 0 | CF14: =IF(CE14=0,0,($AA$14/$CE$14)*100000) -> 0 | CG14: =' Populations'!BA19 -> 0 | CH14: =IF(CG14=0,0,($AB$4/$CG$14)*100000) -> 0 | CI14: =' Populations'!BC19 -> 0 | CJ14: =IF(CI14=0,0,($AC$4/$CI$14)*100000) -> 0 | CK14: =' Populations'!BE19 -> 0 | CL14: =IF(CK14=0,0,($AD$4/$CK$14)*100000) -> 0 | CM14: =' Populations'!BG19 -> 0 | CN14: =IF(CM14=0,0,($AE$4/$CM$14)*100000) -> 0 | CO14: =' Populations'!BI19 -> 0 | CP14: =IF(CO14=0,0,($AF$4/$CO$14)*100000) -> 0 | CS14: 0.066037 | CU14: =' Populations'!$B$19 -> 65-74 | CV14: =AI14*CS14 -> 0 | CW14: =AK14*CS14 -> 0 | CX14: =AM14*CS14 -> 0 | CY14: =AO14*CS14 -> 0 | CZ14: =AQ14*CS14 -> 0 | DA14: =AS14*CS14 -> 0 | DB14: =AU14*CS14 -> 0 | DC14: =AW14*CS14 -> 0 | DD14: =AY14*CS14 -> 0 | DE14: =BA14*CS14 -> 0 | DF14: =BD14*CS14 -> 0 | DG14: =BF14*CS14 -> 0 | DH14: =BH14*CS14 -> 0 | DI14: =BJ14*CS14 -> 0 | DJ14: =BL14*CS14 -> 0 | DK14: =BN14*CS14 -> 0 | DL14: =BO14*CS14 -> 0 | DM14: =BR14*CS14 -> 0 | DN14: =BT14*CS14 -> 0 | DO14: =BV14*CS14 -> 0 | DP14: =BX14*CS14 -> 0 | DQ14: =BZ14*CS14 -> 0 | DR14: =CB14*CS14 -> 0 | DS14: =CD14*CS14 -> 0 | DT14: =CE14*CS14 -> 0 | DU14: =CF14*CS14 -> 0 | DV14: =CG14*CS14 -> 0 | DW14: =CH14*CS14 -> 0 | DX14: =CI14*CS14 -> 0 | DY14: =CJ14*CS14 -> 0
B15: =' Populations'!$B$20 -> 75-84 | AH15: =' Populations'!C20 -> 0 | AI15: =IF(AH15=0,0,($C$15/$AH$15)*100000) -> 0 | AJ15: =' Populations'!E20 -> 0 | AK15: =IF(AJ15=0,0,($D$15/$AJ$15)*100000) -> 0 | AL15: =' Populations'!G20 -> 0 | AM15: =IF(AL15=0,0,($E$15/$AL$15)*100000) -> 0 | AN15: =' Populations'!I20 -> 0 | AO15: =IF(AN15=0,0,($F$15/$AN$15)*100000) -> 0 | AP15: =' Populations'!K20 -> 0 | AQ15: =IF(AP15=0,0,($G$15/$AP$15)*100000) -> 0 | AR15: =' Populations'!M20 -> 0 | AS15: =IF(AR15=0,0,($G$15/$AR$15)*100000) -> 0 | AT15: =' Populations'!O20 -> 0 | AU15: =IF(AT15=0,0,($I$15/$AT$15)*100000) -> 0 | AV15: =' Populations'!Q20 -> 0 | AW15: =IF(AV15=0,0,($J$15/$AV$15)*100000) -> 0 | AX15: =' Populations'!S20 -> 0 | AY15: =IF(AX15=0,0,($K$15/$AX$15)*100000) -> 0 | AZ15: =' Populations'!U20 -> 0 | BA15: =IF(AZ15=0,0,($L$15/$AZ$15)*100000) -> 0 | BC15: =' Populations'!W20 -> 0 | BD15: =IF(BC15=0,0,($M$15/$BC$15)*100000) -> 0 | BE15: =' Populations'!Y20 -> 0 | BF15: =IF(BE15=0,0,($N$15/$BE$15)*100000) -> 0 | BG15: =' Populations'!AA20 -> 0 | BH15: =IF(BG15=0,0,($O$15/$BG$15)*100000) -> 0 | BI15: =' Populations'!AC20 -> 0 | BJ15: =IF(BI15=0,0,($P$15/$BI$15)*100000) -> 0 | BK15: =' Populations'!AE20 -> 0 | BL15: =IF(BK15=0,0,($Q$15/$BK$15)*100000) -> 0 | BM15: =' Populations'!AG20 -> 0 | BN15: =IF(BM15=0,0,($R$15/$BM$15)*100000) -> 0 | BO15: =' Populations'!AI20 -> 0 | BP15: =IF(BO15=0,0,($S$15/$BO$15)*100000) -> 0 | BQ15: =' Populations'!AK20 -> 0 | BR15: =IF(BQ15=0,0,($T$15/$BQ$15)*100000) -> 0 | BS15: =' Populations'!AM20 -> 0 | BT15: =IF(BS15=0,0,($U$15/$BS$15)*100000) -> 0 | BU15: =' Populations'!AO20 -> 0 | BV15: =IF(BU15=0,0,($V$15/$BU$15)*100000) -> 0 | BW15: =' Populations'!AQ20 -> 0 | BX15: =IF(BW15=0,0,($W$15/$BW$15)*100000) -> 0 | BY15: =' Populations'!AS20 -> 0 | BZ15: =IF(BY15=0,0,($X$15/$BY$15)*100000) -> 0 | CA15: =' Populations'!AU20 -> 0 | CB15: =IF(CA15=0,0,($Y$15/$CA$15)*100000) -> 0 | CC15: =' Populations'!AW20 -> 0 | CD15: =IF(CC15=0,0,($Z$15/$CC$15)*100000) -> 0 | CE15: =' Populations'!AY20 -> 0 | CF15: =IF(CE15=0,0,($AA$15/$CE$15)*100000) -> 0 | CG15: =' Populations'!BA20 -> 0 | CH15: =IF(CG15=0,0,($AB$4/$CG$15)*100000) -> 0 | CI15: =' Populations'!BC20 -> 0 | CJ15: =IF(CI15=0,0,($AC$4/$CI$15)*100000) -> 0 | CK15: =' Populations'!BE20 -> 0 | CL15: =IF(CK15=0,0,($AD$4/$CK$15)*100000) -> 0 | CM15: =' Populations'!BG20 -> 0 | CN15: =IF(CM15=0,0,($AE$4/$CM$15)*100000) -> 0 | CO15: =' Populations'!BI20 -> 0 | CP15: =IF(CO15=0,0,($AF$4/$CO$15)*100000) -> 0 | CS15: 0.044841 | CU15: =' Populations'!$B$20 -> 75-84 | CV15: =AI15*CS15 -> 0 | CW15: =AK15*CS15 -> 0 | CX15: =AM15*CS15 -> 0 | CY15: =AO15*CS15 -> 0 | CZ15: =AQ15*CS15 -> 0 | DA15: =AS15*CS15 -> 0 | DB15: =AU15*CS15 -> 0 | DC15: =AW15*CS15 -> 0 | DD15: =AY15*CS15 -> 0 | DE15: =BA15*CS15 -> 0 | DF15: =BD15*CS15 -> 0 | DG15: =BF15*CS15 -> 0 | DH15: =BH15*CS15 -> 0 | DI15: =BJ15*CS15 -> 0 | DJ15: =BL15*CS15 -> 0 | DK15: =BN15*CS15 -> 0 | DL15: =BO15*CS15 -> 0 | DM15: =BR15*CS15 -> 0 | DN15: =BT15*CS15 -> 0 | DO15: =BV15*CS15 -> 0 | DP15: =BX15*CS15 -> 0 | DQ15: =BZ15*CS15 -> 0 | DR15: =CB15*CS15 -> 0 | DS15: =CD15*CS15 -> 0 | DT15: =CE15*CS15 -> 0 | DU15: =CF15*CS15 -> 0 | DV15: =CG15*CS15 -> 0 | DW15: =CH15*CS15 -> 0 | DX15: =CI15*CS15 -> 0 | DY15: =CJ15*CS15 -> 0
B16: =' Populations'!$B$21 -> 85+ | AH16: =' Populations'!C21 -> 0 | AI16: =IF(AH16=0,0,($C$16/$AH$16)*100000) -> 0 | AJ16: =' Populations'!E21 -> 0 | AK16: =IF(AJ16=0,0,($D$16/$AJ$16)*100000) -> 0 | AL16: =' Populations'!G21 -> 0 | AM16: =IF(AL16=0,0,($E$16/$AL$16)*100000) -> 0 | AN16: =' Populations'!I21 -> 0 | AO16: =IF(AN16=0,0,($F$16/$AN$16)*100000) -> 0 | AP16: =' Populations'!K21 -> 0 | AQ16: =IF(AP16=0,0,($G$16/$AP$16)*100000) -> 0 | AR16: =' Populations'!M21 -> 0 | AS16: =IF(AR16=0,0,($G$16/$AR$16)*100000) -> 0 | AT16: =' Populations'!O21 -> 0 | AU16: =IF(AT16=0,0,($I$16/$AT$16)*100000) -> 0 | AV16: =' Populations'!Q21 -> 0 | AW16: =IF(AV16=0,0,($J$16/$AV$16)*100000) -> 0 | AX16: =' Populations'!S21 -> 0 | AY16: =IF(AX16=0,0,($K$16/$AX$16)*100000) -> 0 | AZ16: =' Populations'!U21 -> 0 | BA16: =IF(AZ16=0,0,($L$16/$AZ$16)*100000) -> 0 | BC16: =' Populations'!W21 -> 0 | BD16: =IF(BC16=0,0,($M$16/$BC$16)*100000) -> 0 | BE16: =' Populations'!Y21 -> 0 | BF16: =IF(BE16=0,0,($N$16/$BE$16)*100000) -> 0 | BG16: =' Populations'!AA21 -> 0 | BH16: =IF(BG16=0,0,($O$16/$BG$16)*100000) -> 0 | BI16: =' Populations'!AC21 -> 0 | BJ16: =IF(BI16=0,0,($P$16/$BI$16)*100000) -> 0 | BK16: =' Populations'!AE21 -> 0 | BL16: =IF(BK16=0,0,($Q$16/$BK$16)*100000) -> 0 | BM16: =' Populations'!AG21 -> 0 | BN16: =IF(BM16=0,0,($R$16/$BM$16)*100000) -> 0 | BO16: =' Populations'!AI21 -> 0 | BP16: =IF(BO16=0,0,($S$16/$BO$16)*100000) -> 0 | BQ16: =' Populations'!AK21 -> 0 | BR16: =IF(BQ16=0,0,($T$16/$BQ$16)*100000) -> 0 | BS16: =' Populations'!AM21 -> 0 | BT16: =IF(BS16=0,0,($U$16/$BS$16)*100000) -> 0 | BU16: =' Populations'!AO21 -> 0 | BV16: =IF(BU16=0,0,($V$16/$BU$16)*100000) -> 0 | BW16: =' Populations'!AQ21 -> 0 | BX16: =IF(BW16=0,0,($W$16/$BW$16)*100000) -> 0 | BY16: =' Populations'!AS21 -> 0 | BZ16: =IF(BY16=0,0,($X$16/$BY$16)*100000) -> 0 | CA16: =' Populations'!AU21 -> 0 | CB16: =IF(CA16=0,0,($Y$16/$CA$16)*100000) -> 0 | CC16: =' Populations'!AW21 -> 0 | CD16: =IF(CC16=0,0,($Z$16/$CC$16)*100000) -> 0 | CE16: =' Populations'!AY21 -> 0 | CF16: =IF(CE16=0,0,($AA$16/$CE$16)*100000) -> 0 | CG16: =' Populations'!BA21 -> 0 | CH16: =IF(CG16=0,0,($AB$4/$CG$16)*100000) -> 0 | CI16: =' Populations'!BC21 -> 0 | CJ16: =IF(CI16=0,0,($AC$4/$CI$16)*100000) -> 0 | CK16: =' Populations'!BE21 -> 0 | CL16: =IF(CK16=0,0,($AD$4/$CK$16)*100000) -> 0 | CM16: =' Populations'!BG21 -> 0 | CN16: =IF(CM16=0,0,($AE$4/$CM$16)*100000) -> 0 | CO16: =' Populations'!BI21 -> 0 | CP16: =IF(CO16=0,0,($AF$4/$CO$16)*100000) -> 0 | CS16: 0.015508 | CU16: =' Populations'!$B$21 -> 85+ | CV16: =AI16*CS16 -> 0 | CW16: =AK16*CS16 -> 0 | CX16: =AM16*CS16 -> 0 | CY16: =AO16*CS16 -> 0 | CZ16: =AQ16*CS16 -> 0 | DA16: =AS16*CS16 -> 0 | DB16: =AU16*CS16 -> 0 | DC16: =AW16*CS16 -> 0 | DD16: =AY16*CS16 -> 0 | DE16: =BA16*CS16 -> 0 | DF16: =BD16*CS16 -> 0 | DG16: =BF16*CS16 -> 0 | DH16: =BH16*CS16 -> 0 | DI16: =BJ16*CS16 -> 0 | DJ16: =BL16*CS16 -> 0 | DK16: =BN16*CS16 -> 0 | DL16: =BO16*CS16 -> 0 | DM16: =BR16*CS16 -> 0 | DN16: =BT16*CS16 -> 0 | DO16: =BV16*CS16 -> 0 | DP16: =BX16*CS16 -> 0 | DQ16: =BZ16*CS16 -> 0 | DR16: =CB16*CS16 -> 0 | DS16: =CD16*CS16 -> 0 | DT16: =CE16*CS16 -> 0 | DU16: =CF16*CS16 -> 0 | DV16: =CG16*CS16 -> 0 | DW16: =CH16*CS16 -> 0 | DX16: =CI16*CS16 -> 0 | DY16: =CJ16*CS16 -> 0
B17: total | C17: =SUM(C4:C16) -> 0 | D17: =SUM(D4:D16) -> 0 | E17: =SUM(E4:E16) -> 0 | F17: =SUM(F4:F16) -> 0 | G17: =SUM(G4:G16) -> 0 | H17: =SUM(H4:H16) -> 0 | I17: =SUM(I4:I16) -> 0 | J17: =SUM(J4:J16) -> 0 | ... AF17: =SUM(AF4:AF16) -> 0 | AH17: =SUM(AH4:AH16) -> 0 | AI17: =SUM(AI4:AI16) -> 0 | AJ17: =SUM(AJ4:AJ16) -> 0 | AK17: =SUM(AK4:AK16) -> 0 | AL17: =SUM(AL4:AL16) -> 0 | AM17: =SUM(AM4:AM16) -> 0 | AN17: =SUM(AN4:AN16) -> 0 | AO17: =SUM(AO4:AO16) -> 0 | ... BA17: =SUM(BA4:BA16) -> 0 | BC17: =' Populations'!W22 -> 0 | BD17: =SUM(BD4:BD16) -> 0 | BE17: =' Populations'!Y22 -> 0 | BF17: =SUM(BF4:BF16) -> 0 | BG17: =' Populations'!AA22 -> 0 | BH17: =SUM(BH4:BH16) -> 0 | BI17: =' Populations'!AC22 -> 0 | BJ17: =SUM(BJ4:BJ16) -> 0 | BK17: =' Populations'!AE22 -> 0 | BL17: =SUM(BL4:BL16) -> 0 | BM17: =' Populations'!AG22 -> 0 | BN17: =SUM(BN4:BN16) -> 0 | BO17: =' Populations'!AI22 -> 0 | BP17: =SUM(BP4:BP16) -> 0 | BQ17: =' Populations'!AK22 -> 0 | BR17: =SUM(BR4:BR16) -> 0 | BS17: =' Populations'!AM22 -> 0 | BT17: =SUM(BT4:BT16) -> 0 | BU17: =' Populations'!AO22 -> 0 | BV17: =SUM(BV4:BV16) -> 0 | BW17: =' Populations'!AQ22 -> 0 | BX17: =SUM(BX4:BX16) -> 0 | BY17: =' Populations'!AS22 -> 0 | BZ17: =SUM(BZ4:BZ16) -> 0 | CA17: =' Populations'!AU22 -> 0 | CB17: =SUM(CB4:CB16) -> 0 | CC17: =' Populations'!AW22 -> 0 | CD17: =SUM(CD4:CD16) -> 0 | CE17: =' Populations'!AY22 -> 0 | CF17: =IF(CE17=0,0,($AA$17/$CE$17)*100000) -> 0 | CG17: =' Populations'!BA22 -> 0 | CH17: =IF(CG17=0,0,($AB$4/$CG$17)*100000) -> 0 | CI17: =' Populations'!BC22 -> 0 | CJ17: =IF(CI17=0,0,($AC$4/$CI$17)*100000) -> 0 | CK17: =' Populations'!BE22 -> 0 | CL17: =IF(CK17=0,0,($AD$4/$CK$17)*100000) -> 0 | CM17: =' Populations'!BG22 -> 0 | CN17: =IF(CM17=0,0,($AE$4/$CM$17)*100000) -> 0 | CO17: =' Populations'!BI22 -> 0 | CP17: =IF(CO17=0,0,($AF$4/$CO$17)*100000) -> 0 | CU17: total | CV17: =SUM(CV4:CV16) -> 0 | CW17: =SUM(CW4:CW16) -> 0 | CX17: =SUM(CX4:CX16) -> 0 | CY17: =SUM(CY4:CY16) -> 0 | CZ17: =SUM(CZ4:CZ16) -> 0 | DA17: =SUM(DA4:DA16) -> 0 | DB17: =SUM(DB4:DB16) -> 0 | DC17: =SUM(DC4:DC16) -> 0 | ... DT17: =SUM(DT4:DT16) -> 0 | DU17: =CF17*CS17 -> 0 | DV17: =SUM(DV4:DV16) -> 0 | DW17: =SUM(DW4:DW16) -> 0 | DX17: =SUM(DX4:DX16) -> 0 | DY17: =SUM(DY4:DY16) -> 0
A20: Previous Year: | C20: =' Populations'!A28 -> 0 | D20: Sex Data | F20: Demographic Data | CV20: Age-adjusted Rates per 100,000 population
B21: Age | C21: Number of deaths- Total | D21: Number of deaths- Male | E21: Number of deaths- Female | F21: =' Populations'!$I$8 -> White-Not Hispanic | G21: =' Populations'!$K$8 -> Hispanic | H21: =' Populations'!$M$8 -> Black-Not Hispanic | I21: =' Populations'!$O$8 -> Asian | J21: =' Populations'!$Q$8 -> American Indian/Alaska Native | K21: =' Populations'!$S$8 -> Other | L21: =' Populations'!$U$8 -> Other | AH21: State population - Total | AI21: Rate | AJ21: State population - Male | AK21: Rate | AL21: State population - Female | AM21: Rate | AN21: =' Populations'!$I$8 -> White-Not Hispanic | AO21: Rate | AP21: =' Populations'!$K$8 -> Hispanic | AQ21: Rate | AR21: =' Populations'!$M$8 -> Black-Not Hispanic | AS21: Rate | AT21: =' Populations'!$O$8 -> Asian | AU21: Rate | AV21: =' Populations'!$Q$8 -> American Indian/Alaska Native | AW21: Rate | AX21: =' Populations'!$S$8 -> Other | AY21: Rate | AZ21: =' Populations'!$U$8 -> Other | BA21: Rate | CS21: 2000 Population Weight | CU21: Age | CV21: Total | CW21: Male | CX21: Female | CY21: =' Populations'!$I$8 -> White-Not Hispanic | CZ21: =' Populations'!$K$8 -> Hispanic | DA21: =' Populations'!$M$8 -> Black-Not Hispanic | DB21: =' Populations'!$O$8 -> Asian | DC21: =' Populations'!$Q$8 -> American Indian/Alaska Native | DD21: =' Populations'!$S$8 -> Other | DE21: =' Populations'!$U$8 -> Other
B22: =' Populations'!$B$9 -> <1 | AH22: =' Populations'!C27 -> 0 | AI22: =IF(AH22=0,0,($C$4/$AH$4)*100000) -> 0 | AJ22: =' Populations'!E27 -> 0 | AK22: =IF(AJ22=0,0,($D$4/$AJ$4)*100000) -> 0 | AL22: =' Populations'!G27 -> 0 | AM22: =IF(AL22=0,0,($E$4/$AL$4)*100000) -> 0 | AN22: =' Populations'!I27 -> 0 | AO22: =IF(AN22=0,0,($F$4/$AN$4)*100000) -> 0 | AP22: =' Populations'!K27 -> 0 | AQ22: =IF(AP22=0,0,($G$4/$AP$4)*100000) -> 0 | AR22: =' Populations'!M27 -> 0 | AS22: =IF(AR22=0,0,($H$4/$AR$4)*100000) -> 0 | AT22: =' Populations'!O27 -> 0 | AU22: =IF(AT22=0,0,($I$4/$AT$4)*100000) -> 0 | AV22: =' Populations'!Q27 -> 0 | AW22: =IF(AV22=0,0,($J$4/$AV$4)*100000) -> 0 | AX22: =' Populations'!S27 -> 0 | AY22: =IF(AX22=0,0,($K$4/$AX$4)*100000) -> 0 | AZ22: =' Populations'!U27 -> 0 | BA22: =IF(AZ22=0,0,($L$4/$AZ$4)*100000) -> 0 | CS22: 0.013818 | CU22: =' Populations'!$B$9 -> <1 | CV22: =AI22*CS22 -> 0 | CW22: =AK22*CS22 -> 0 | CX22: =AM22*CS22 -> 0 | CY22: =AO22*CS22 -> 0 | CZ22: =AQ22*CS22 -> 0 | DA22: =AS22*CS22 -> 0 | DB22: =AU22*CS22 -> 0 | DC22: =AW22*CS22 -> 0 | DD22: =AY22*CS22 -> 0 | DE22: =BA22*CS22 -> 0
B23: =' Populations'!$B$10 -> 1-4 | AH23: =' Populations'!C28 -> 0 | AI23: =IF(AH23=0,0,($C$5/$AH$5)*100000) -> 0 | AJ23: =' Populations'!E28 -> 0 | AK23: =IF(AJ23=0,0,($D$5/$AJ$5)*100000) -> 0 | AL23: =' Populations'!G28 -> 0 | AM23: =IF(AL23=0,0,($E$5/$AL$5)*100000) -> 0 | AN23: =' Populations'!I28 -> 0 | AO23: =IF(AN23=0,0,($F$5/$AN$5)*100000) -> 0 | AP23: =' Populations'!K28 -> 0 | AQ23: =IF(AP23=0,0,($G$5/$AP$5)*100000) -> 0 | AR23: =' Populations'!M28 -> 0 | AS23: =IF(AR23=0,0,($G$5/$AR$5)*100000) -> 0 | AT23: =' Populations'!O28 -> 0 | AU23: =IF(AT23=0,0,($I$5/$AT$5)*100000) -> 0 | AV23: =' Populations'!Q28 -> 0 | AW23: =IF(AV23=0,0,($J$5/$AV$5)*100000) -> 0 | AX23: =' Populations'!S28 -> 0 | AY23: =IF(AX23=0,0,($K$5/$AX$5)*100000) -> 0 | AZ23: =' Populations'!U28 -> 0 | BA23: =IF(AZ23=0,0,($L$5/$AZ$5)*100000) -> 0 | CS23: 0.055317 | CU23: =' Populations'!$B$10 -> 1-4 | CV23: =AI23*CS23 -> 0 | CW23: =AK23*CS23 -> 0 | CX23: =AM23*CS23 -> 0 | CY23: =AO23*CS23 -> 0 | CZ23: =AQ23*CS23 -> 0 | DA23: =AS23*CS23 -> 0 | DB23: =AU23*CS23 -> 0 | DC23: =AW23*CS23 -> 0 | DD23: =AY23*CS23 -> 0 | DE23: =BA23*CS23 -> 0
B24: =' Populations'!$B$11 -> 5-9 | AH24: =' Populations'!C29 -> 0 | AI24: =IF(AH24=0,0,($C$24/$AH$24)*100000) -> 0 | AJ24: =' Populations'!E29 -> 0 | AK24: =IF(AJ24=0,0,($D$6/$AJ$6)*100000) -> 0 | AL24: =' Populations'!G29 -> 0 | AM24: =IF(AL24=0,0,($E$6/$AL$6)*100000) -> 0 | AN24: =' Populations'!I29 -> 0 | AO24: =IF(AN24=0,0,($F$6/$AN$6)*100000) -> 0 | AP24: =' Populations'!K29 -> 0 | AQ24: =IF(AP24=0,0,($G$6/$AP$6)*100000) -> 0 | AR24: =' Populations'!M29 -> 0 | AS24: =IF(AR24=0,0,($G$6/$AR$6)*100000) -> 0 | AT24: =' Populations'!O29 -> 0 | AU24: =IF(AT24=0,0,($I$6/$AT$6)*100000) -> 0 | AV24: =' Populations'!Q29 -> 0 | AW24: =IF(AV24=0,0,($J$6/$AV$6)*100000) -> 0 | AX24: =' Populations'!S29 -> 0 | AY24: =IF(AX24=0,0,($K$6/$AX$6)*100000) -> 0 | AZ24: =' Populations'!U29 -> 0 | BA24: =IF(AZ24=0,0,($L$6/$AZ$6)*100000) -> 0 | CS24: 0.072533 | CU24: =' Populations'!$B$11 -> 5-9 | CV24: =AI24*CS24 -> 0 | CW24: =AK24*CS24 -> 0 | CX24: =AM24*CS24 -> 0 | CY24: =AO24*CS24 -> 0 | CZ24: =AQ24*CS24 -> 0 | DA24: =AS24*CS24 -> 0 | DB24: =AU24*CS24 -> 0 | DC24: =AW24*CS24 -> 0 | DD24: =AY24*CS24 -> 0 | DE24: =BA24*CS24 -> 0
B25: =' Populations'!$B$12 -> 10-14 | AH25: =' Populations'!C30 -> 0 | AI25: =IF(AH25=0,0,($C$24/$AH$24)*100000) -> 0 | AJ25: =' Populations'!E30 -> 0 | AK25: =IF(AJ25=0,0,($D$7/$AJ$7)*100000) -> 0 | AL25: =' Populations'!G30 -> 0 | AM25: =IF(AL25=0,0,($E$7/$AL$7)*100000) -> 0 | AN25: =' Populations'!I30 -> 0 | AO25: =IF(AN25=0,0,($F$7/$AN$7)*100000) -> 0 | AP25: =' Populations'!K30 -> 0 | AQ25: =IF(AP25=0,0,($G$7/$AP$7)*100000) -> 0 | AR25: =' Populations'!M30 -> 0 | AS25: =IF(AR25=0,0,($G$7/$AR$7)*100000) -> 0 | AT25: =' Populations'!O30 -> 0 | AU25: =IF(AT25=0,0,($I$7/$AT$7)*100000) -> 0 | AV25: =' Populations'!Q30 -> 0 | AW25: =IF(AV25=0,0,($J$7/$AV$7)*100000) -> 0 | AX25: =' Populations'!S30 -> 0 | AY25: =IF(AX25=0,0,($K$7/$AX$7)*100000) -> 0 | AZ25: =' Populations'!U30 -> 0 | BA25: =IF(AZ25=0,0,($L$7/$AZ$7)*100000) -> 0 | CS25: 0.073032 | CU25: =' Populations'!$B$12 -> 10-14 | CV25: =AI25*CS25 -> 0 | CW25: =AK25*CS25 -> 0 | CX25: =AM25*CS25 -> 0 | CY25: =AO25*CS25 -> 0 | CZ25: =AQ25*CS25 -> 0 | DA25: =AS25*CS25 -> 0 | DB25: =AU25*CS25 -> 0 | DC25: =AW25*CS25 -> 0 | DD25: =AY25*CS25 -> 0 | DE25: =BA25*CS25 -> 0
B26: =' Populations'!$B$13 -> 15-19 | AH26: =' Populations'!C31 -> 0 | AI26: =IF(AH26=0,0,($C$24/$AH$24)*100000) -> 0 | AJ26: =' Populations'!E31 -> 0 | AK26: =IF(AJ26=0,0,($D$8/$AJ$8)*100000) -> 0 | AL26: =' Populations'!G31 -> 0 | AM26: =IF(AL26=0,0,($E$8/$AL$8)*100000) -> 0 | AN26: =' Populations'!I31 -> 0 | AO26: =IF(AN26=0,0,($F$8/$AN$8)*100000) -> 0 | AP26: =' Populations'!K31 -> 0 | AQ26: =IF(AP26=0,0,($G$8/$AP$8)*100000) -> 0 | AR26: =' Populations'!M31 -> 0 | AS26: =IF(AR26=0,0,($G$8/$AR$8)*100000) -> 0 | AT26: =' Populations'!O31 -> 0 | AU26: =IF(AT26=0,0,($I$8/$AT$8)*100000) -> 0 | AV26: =' Populations'!Q31 -> 0 | AW26: =IF(AV26=0,0,($J$8/$AV$8)*100000) -> 0 | AX26: =' Populations'!S31 -> 0 | AY26: =IF(AX26=0,0,($K$8/$AX$8)*100000) -> 0 | AZ26: =' Populations'!U31 -> 0 | BA26: =IF(AZ26=0,0,($L$8/$AZ$8)*100000) -> 0 | CS26: 0.072169 | CU26: =' Populations'!$B$13 -> 15-19 | CV26: =AI26*CS26 -> 0 | CW26: =AK26*CS26 -> 0 | CX26: =AM26*CS26 -> 0 | CY26: =AO26*CS26 -> 0 | CZ26: =AQ26*CS26 -> 0 | DA26: =AS26*CS26 -> 0 | DB26: =AU26*CS26 -> 0 | DC26: =AW26*CS26 -> 0 | DD26: =AY26*CS26 -> 0 | DE26: =BA26*CS26 -> 0
B27: =' Populations'!$B$14 -> 20-24 | AH27: =' Populations'!C32 -> 0 | AI27: =IF(AH27=0,0,($C$24/$AH$24)*100000) -> 0 | AJ27: =' Populations'!E32 -> 0 | AK27: =IF(AJ27=0,0,($D$9/$AJ$9)*100000) -> 0 | AL27: =' Populations'!G32 -> 0 | AM27: =IF(AL27=0,0,($E$9/$AL$9)*100000) -> 0 | AN27: =' Populations'!I32 -> 0 | AO27: =IF(AN27=0,0,($F$9/$AN$9)*100000) -> 0 | AP27: =' Populations'!K32 -> 0 | AQ27: =IF(AP27=0,0,($G$9/$AP$9)*100000) -> 0 | AR27: =' Populations'!M32 -> 0 | AS27: =IF(AR27=0,0,($G$9/$AR$9)*100000) -> 0 | AT27: =' Populations'!O32 -> 0 | AU27: =IF(AT27=0,0,($I$9/$AT$9)*100000) -> 0 | AV27: =' Populations'!Q32 -> 0 | AW27: =IF(AV27=0,0,($J$9/$AV$9)*100000) -> 0 | AX27: =' Populations'!S32 -> 0 | AY27: =IF(AX27=0,0,($K$9/$AX$9)*100000) -> 0 | AZ27: =' Populations'!U32 -> 0 | BA27: =IF(AZ27=0,0,($L$9/$AZ$9)*100000) -> 0 | CS27: 0.066478 | CU27: =' Populations'!$B$14 -> 20-24 | CV27: =AI27*CS27 -> 0 | CW27: =AK27*CS27 -> 0 | CX27: =AM27*CS27 -> 0 | CY27: =AO27*CS27 -> 0 | CZ27: =AQ27*CS27 -> 0 | DA27: =AS27*CS27 -> 0 | DB27: =AU27*CS27 -> 0 | DC27: =AW27*CS27 -> 0 | DD27: =AY27*CS27 -> 0 | DE27: =BA27*CS27 -> 0
B28: =' Populations'!$B$15 -> 25-34 | AH28: =' Populations'!C33 -> 0 | AI28: =IF(AH28=0,0,($C$24/$AH$24)*100000) -> 0 | AJ28: =' Populations'!E33 -> 0 | AK28: =IF(AJ28=0,0,($D$10/$AJ$10)*100000) -> 0 | AL28: =' Populations'!G33 -> 0 | AM28: =IF(AL28=0,0,($E$10/$AL$10)*100000) -> 0 | AN28: =' Populations'!I33 -> 0 | AO28: =IF(AN28=0,0,($F$10/$AN$10)*100000) -> 0 | AP28: =' Populations'!K33 -> 0 | AQ28: =IF(AP28=0,0,($G$10/$AP$10)*100000) -> 0 | AR28: =' Populations'!M33 -> 0 | AS28: =IF(AR28=0,0,($G$10/$AR$10)*100000) -> 0 | AT28: =' Populations'!O33 -> 0 | AU28: =IF(AT28=0,0,($I$10/$AT$10)*100000) -> 0 | AV28: =' Populations'!Q33 -> 0 | AW28: =IF(AV28=0,0,($J$10/$AV$10)*100000) -> 0 | AX28: =' Populations'!S33 -> 0 | AY28: =IF(AX28=0,0,($K$10/$AX$10)*100000) -> 0 | AZ28: =' Populations'!U33 -> 0 | BA28: =IF(AZ28=0,0,($L$10/$AZ$10)*100000) -> 0 | CS28: 0.135573 | CU28: =' Populations'!$B$15 -> 25-34 | CV28: =AI28*CS28 -> 0 | CW28: =AK28*CS28 -> 0 | CX28: =AM28*CS28 -> 0 | CY28: =AO28*CS28 -> 0 | CZ28: =AQ28*CS28 -> 0 | DA28: =AS28*CS28 -> 0 | DB28: =AU28*CS28 -> 0 | DC28: =AW28*CS28 -> 0 | DD28: =AY28*CS28 -> 0 | DE28: =BA28*CS28 -> 0
B29: =' Populations'!$B$16 -> 35-44 | AH29: =' Populations'!C34 -> 0 | AI29: =IF(AH29=0,0,($C$24/$AH$24)*100000) -> 0 | AJ29: =' Populations'!E34 -> 0 | AK29: =IF(AJ29=0,0,($D$11/$AJ$11)*100000) -> 0 | AL29: =' Populations'!G34 -> 0 | AM29: =IF(AL29=0,0,($E$11/$AL$11)*100000) -> 0 | AN29: =' Populations'!I34 -> 0 | AO29: =IF(AN29=0,0,($F$11/$AN$11)*100000) -> 0 | AP29: =' Populations'!K34 -> 0 | AQ29: =IF(AP29=0,0,($G$11/$AP$11)*100000) -> 0 | AR29: =' Populations'!M34 -> 0 | AS29: =IF(AR29=0,0,($G$11/$AR$11)*100000) -> 0 | AT29: =' Populations'!O34 -> 0 | AU29: =IF(AT29=0,0,($I$11/$AT$11)*100000) -> 0 | AV29: =' Populations'!Q34 -> 0 | AW29: =IF(AV29=0,0,($J$11/$AV$11)*100000) -> 0 | AX29: =' Populations'!S34 -> 0 | AY29: =IF(AX29=0,0,($K$11/$AX$11)*100000) -> 0 | AZ29: =' Populations'!U34 -> 0 | BA29: =IF(AZ29=0,0,($L$11/$AZ$11)*100000) -> 0 | CS29: 0.162613 | CU29: =' Populations'!$B$16 -> 35-44 | CV29: =AI29*CS29 -> 0 | CW29: =AK29*CS29 -> 0 | CX29: =AM29*CS29 -> 0 | CY29: =AO29*CS29 -> 0 | CZ29: =AQ29*CS29 -> 0 | DA29: =AS29*CS29 -> 0 | DB29: =AU29*CS29 -> 0 | DC29: =AW29*CS29 -> 0 | DD29: =AY29*CS29 -> 0 | DE29: =BA29*CS29 -> 0
B30: =' Populations'!$B$17 -> 45-54 | AH30: =' Populations'!C35 -> 0 | AI30: =IF(AH30=0,0,($C$24/$AH$24)*100000) -> 0 | AJ30: =' Populations'!E35 -> 0 | AK30: =IF(AJ30=0,0,($D$12/$AJ$12)*100000) -> 0 | AL30: =' Populations'!G35 -> 0 | AM30: =IF(AL30=0,0,($E$12/$AL$12)*100000) -> 0 | AN30: =' Populations'!I35 -> 0 | AO30: =IF(AN30=0,0,($F$12/$AN$12)*100000) -> 0 | AP30: =' Populations'!K35 -> 0 | AQ30: =IF(AP30=0,0,($G$12/$AP$12)*100000) -> 0 | AR30: =' Populations'!M35 -> 0 | AS30: =IF(AR30=0,0,($G$12/$AR$12)*100000) -> 0 | AT30: =' Populations'!O35 -> 0 | AU30: =IF(AT30=0,0,($I$12/$AT$12)*100000) -> 0 | AV30: =' Populations'!Q35 -> 0 | AW30: =IF(AV30=0,0,($J$12/$AV$12)*100000) -> 0 | AX30: =' Populations'!S35 -> 0 | AY30: =IF(AX30=0,0,($K$12/$AX$12)*100000) -> 0 | AZ30: =' Populations'!U35 -> 0 | BA30: =IF(AZ30=0,0,($L$12/$AZ$12)*100000) -> 0 | CS30: 0.134834 | CU30: =' Populations'!$B$17 -> 45-54 | CV30: =AI30*CS30 -> 0 | CW30: =AK30*CS30 -> 0 | CX30: =AM30*CS30 -> 0 | CY30: =AO30*CS30 -> 0 | CZ30: =AQ30*CS30 -> 0 | DA30: =AS30*CS30 -> 0 | DB30: =AU30*CS30 -> 0 | DC30: =AW30*CS30 -> 0 | DD30: =AY30*CS30 -> 0 | DE30: =BA30*CS30 -> 0
B31: =' Populations'!$B$18 -> 55-64 | AH31: =' Populations'!C36 -> 0 | AI31: =IF(AH31=0,0,($C$24/$AH$24)*100000) -> 0 | AJ31: =' Populations'!E36 -> 0 | AK31: =IF(AJ31=0,0,($D$13/$AJ$13)*100000) -> 0 | AL31: =' Populations'!G36 -> 0 | AM31: =IF(AL31=0,0,($E$13/$AL$13)*100000) -> 0 | AN31: =' Populations'!I36 -> 0 | AO31: =IF(AN31=0,0,($F$13/$AN$13)*100000) -> 0 | AP31: =' Populations'!K36 -> 0 | AQ31: =IF(AP31=0,0,($G$13/$AP$13)*100000) -> 0 | AR31: =' Populations'!M36 -> 0 | AS31: =IF(AR31=0,0,($G$13/$AR$13)*100000) -> 0 | AT31: =' Populations'!O36 -> 0 | AU31: =IF(AT31=0,0,($I$13/$AT$13)*100000) -> 0 | AV31: =' Populations'!Q36 -> 0 | AW31: =IF(AV31=0,0,($J$13/$AV$13)*100000) -> 0 | AX31: =' Populations'!S36 -> 0 | AY31: =IF(AX31=0,0,($K$13/$AX$13)*100000) -> 0 | AZ31: =' Populations'!U36 -> 0 | BA31: =IF(AZ31=0,0,($L$13/$AZ$13)*100000) -> 0 | CS31: 0.087247 | CU31: =' Populations'!$B$18 -> 55-64 | CV31: =AI31*CS31 -> 0 | CW31: =AK31*CS31 -> 0 | CX31: =AM31*CS31 -> 0 | CY31: =AO31*CS31 -> 0 | CZ31: =AQ31*CS31 -> 0 | DA31: =AS31*CS31 -> 0 | DB31: =AU31*CS31 -> 0 | DC31: =AW31*CS31 -> 0 | DD31: =AY31*CS31 -> 0 | DE31: =BA31*CS31 -> 0
B32: =' Populations'!$B$19 -> 65-74 | AH32: =' Populations'!C37 -> 0 | AI32: =IF(AH32=0,0,($C$24/$AH$24)*100000) -> 0 | AJ32: =' Populations'!E37 -> 0 | AK32: =IF(AJ32=0,0,($D$14/$AJ$14)*100000) -> 0 | AL32: =' Populations'!G37 -> 0 | AM32: =IF(AL32=0,0,($E$14/$AL$14)*100000) -> 0 | AN32: =' Populations'!I37 -> 0 | AO32: =IF(AN32=0,0,($F$14/$AN$14)*100000) -> 0 | AP32: =' Populations'!K37 -> 0 | AQ32: =IF(AP32=0,0,($G$14/$AP$14)*100000) -> 0 | AR32: =' Populations'!M37 -> 0 | AS32: =IF(AR32=0,0,($G$14/$AR$14)*100000) -> 0 | AT32: =' Populations'!O37 -> 0 | AU32: =IF(AT32=0,0,($I$14/$AT$14)*100000) -> 0 | AV32: =' Populations'!Q37 -> 0 | AW32: =IF(AV32=0,0,($J$14/$AV$14)*100000) -> 0 | AX32: =' Populations'!S37 -> 0 | AY32: =IF(AX32=0,0,($K$14/$AX$14)*100000) -> 0 | AZ32: =' Populations'!U37 -> 0 | BA32: =IF(AZ32=0,0,($L$14/$AZ$14)*100000) -> 0 | CS32: 0.066037 | CU32: =' Populations'!$B$19 -> 65-74 | CV32: =AI32*CS32 -> 0 | CW32: =AK32*CS32 -> 0 | CX32: =AM32*CS32 -> 0 | CY32: =AO32*CS32 -> 0 | CZ32: =AQ32*CS32 -> 0 | DA32: =AS32*CS32 -> 0 | DB32: =AU32*CS32 -> 0 | DC32: =AW32*CS32 -> 0 | DD32: =AY32*CS32 -> 0 | DE32: =BA32*CS32 -> 0
B33: =' Populations'!$B$20 -> 75-84 | AH33: =' Populations'!C38 -> 0 | AI33: =IF(AH33=0,0,($C$24/$AH$24)*100000) -> 0 | AJ33: =' Populations'!E38 -> 0 | AK33: =IF(AJ33=0,0,($D$15/$AJ$15)*100000) -> 0 | AL33: =' Populations'!G38 -> 0 | AM33: =IF(AL33=0,0,($E$15/$AL$15)*100000) -> 0 | AN33: =' Populations'!I38 -> 0 | AO33: =IF(AN33=0,0,($F$15/$AN$15)*100000) -> 0 | AP33: =' Populations'!K38 -> 0 | AQ33: =IF(AP33=0,0,($G$15/$AP$15)*100000) -> 0 | AR33: =' Populations'!M38 -> 0 | AS33: =IF(AR33=0,0,($G$15/$AR$15)*100000) -> 0 | AT33: =' Populations'!O38 -> 0 | AU33: =IF(AT33=0,0,($I$15/$AT$15)*100000) -> 0 | AV33: =' Populations'!Q38 -> 0 | AW33: =IF(AV33=0,0,($J$15/$AV$15)*100000) -> 0 | AX33: =' Populations'!S38 -> 0 | AY33: =IF(AX33=0,0,($K$15/$AX$15)*100000) -> 0 | AZ33: =' Populations'!U38 -> 0 | BA33: =IF(AZ33=0,0,($L$15/$AZ$15)*100000) -> 0 | CS33: 0.044841 | CU33: =' Populations'!$B$20 -> 75-84 | CV33: =AI33*CS33 -> 0 | CW33: =AK33*CS33 -> 0 | CX33: =AM33*CS33 -> 0 | CY33: =AO33*CS33 -> 0 | CZ33: =AQ33*CS33 -> 0 | DA33: =AS33*CS33 -> 0 | DB33: =AU33*CS33 -> 0 | DC33: =AW33*CS33 -> 0 | DD33: =AY33*CS33 -> 0 | DE33: =BA33*CS33 -> 0
B34: =' Populations'!$B$21 -> 85+ | AH34: =' Populations'!C39 -> 0 | AI34: =IF(AH34=0,0,($C$24/$AH$24)*100000) -> 0 | AJ34: =' Populations'!E39 -> 0 | AK34: =IF(AJ34=0,0,($D$16/$AJ$16)*100000) -> 0 | AL34: =' Populations'!G39 -> 0 | AM34: =IF(AL34=0,0,($E$16/$AL$16)*100000) -> 0 | AN34: =' Populations'!I39 -> 0 | AO34: =IF(AN34=0,0,($F$16/$AN$16)*100000) -> 0 | AP34: =' Populations'!K39 -> 0 | AQ34: =IF(AP34=0,0,($G$16/$AP$16)*100000) -> 0 | AR34: =' Populations'!M39 -> 0 | AS34: =IF(AR34=0,0,($G$16/$AR$16)*100000) -> 0 | AT34: =' Populations'!O39 -> 0 | AU34: =IF(AT34=0,0,($I$16/$AT$16)*100000) -> 0 | AV34: =' Populations'!Q39 -> 0 | AW34: =IF(AV34=0,0,($J$16/$AV$16)*100000) -> 0 | AX34: =' Populations'!S39 -> 0 | AY34: =IF(AX34=0,0,($K$16/$AX$16)*100000) -> 0 | AZ34: =' Populations'!U39 -> 0 | BA34: =IF(AZ34=0,0,($L$16/$AZ$16)*100000) -> 0 | CS34: 0.015508 | CU34: =' Populations'!$B$21 -> 85+ | CV34: =AI34*CS34 -> 0 | CW34: =AK34*CS34 -> 0 | CX34: =AM34*CS34 -> 0 | CY34: =AO34*CS34 -> 0 | CZ34: =AQ34*CS34 -> 0 | DA34: =AS34*CS34 -> 0 | DB34: =AU34*CS34 -> 0 | DC34: =AW34*CS34 -> 0 | DD34: =AY34*CS34 -> 0 | DE34: =BA34*CS34 -> 0
B35: total | C35: =SUM(C22:C34) -> 0 | D35: =SUM(D22:D34) -> 0 | E35: =SUM(E22:E34) -> 0 | F35: =SUM(F22:F34) -> 0 | G35: =SUM(G22:G34) -> 0 | H35: =SUM(H22:H34) -> 0 | I35: =SUM(I22:I34) -> 0 | J35: =SUM(J22:J34) -> 0 | ... L35: =SUM(L22:L34) -> 0 | AH35: =SUM(AH22:AH34) -> 0 | AI35: =SUM(AI22:AI34) -> 0 | AJ35: =SUM(AJ22:AJ34) -> 0 | AK35: =SUM(AK22:AK34) -> 0 | AL35: =SUM(AL22:AL34) -> 0 | AM35: =SUM(AM22:AM34) -> 0 | AN35: =SUM(AN22:AN34) -> 0 | AO35: =SUM(AO22:AO34) -> 0 | ... BA35: =SUM(BA22:BA34) -> 0 | CU35: total | CV35: =SUM(CV22:CV34) -> 0 | CW35: =SUM(CW22:CW34) -> 0 | CX35: =SUM(CX22:CX34) -> 0 | CY35: =SUM(CY22:CY34) -> 0 | CZ35: =SUM(CZ22:CZ34) -> 0 | DA35: =SUM(DA22:DA34) -> 0 | DB35: =SUM(DB22:DB34) -> 0 | DC35: =SUM(DC22:DC34) -> 0 | ... DE35: =SUM(DE22:DE34) -> 0
A38: Previous Year: | C38: =' Populations'!A46 -> 0 | D38: Sex Data | F38: Demographic Data | CV38: Age-adjusted Rates per 100,000 population
B39: Age | C39: Number of deaths- Total | D39: Number of deaths- Male | E39: Number of deaths- Female | F39: =' Populations'!$I$8 -> White-Not Hispanic | G39: =' Populations'!$K$8 -> Hispanic | H39: =' Populations'!$M$8 -> Black-Not Hispanic | I39: =' Populations'!$O$8 -> Asian | J39: =' Populations'!$Q$8 -> American Indian/Alaska Native | K39: =' Populations'!$S$8 -> Other | L39: =' Populations'!$U$8 -> Other | AH39: State population - Total | AI39: Rate | AJ39: State population - Male | AK39: Rate | AL39: State population - Female | AM39: Rate | AN39: =' Populations'!$I$8 -> White-Not Hispanic | AO39: Rate | AP39: =' Populations'!$K$8 -> Hispanic | AQ39: Rate | AR39: =' Populations'!$M$8 -> Black-Not Hispanic | AS39: Rate | AT39: =' Populations'!$O$8 -> Asian | AU39: Rate | AV39: =' Populations'!$Q$8 -> American Indian/Alaska Native | AW39: Rate | AX39: =' Populations'!$S$8 -> Other | AY39: Rate | AZ39: =' Populations'!$U$8 -> Other | BA39: Rate | CS39: 2000 Population Weight | CU39: Age | CV39: Total | CW39: Male | CX39: Female | CY39: =' Populations'!$I$8 -> White-Not Hispanic | CZ39: =' Populations'!$K$8 -> Hispanic | DA39: =' Populations'!$M$8 -> Black-Not Hispanic | DB39: =' Populations'!$O$8 -> Asian | DC39: =' Populations'!$Q$8 -> American Indian/Alaska Native | DD39: =' Populations'!$S$8 -> Other | DE39: =' Populations'!$U$8 -> Other
B40: =' Populations'!$B$9 -> <1 | AH40: =' Populations'!C45 -> 0 | AI40: =IF(AH40=0,0,($C$4/$AH$4)*100000) -> 0 | AJ40: =' Populations'!E45 -> 0 | AK40: =IF(AJ40=0,0,($D$4/$AJ$4)*100000) -> 0 | AL40: =' Populations'!G45 -> 0 | AM40: =IF(AL40=0,0,($E$4/$AL$4)*100000) -> 0 | AN40: =' Populations'!I45 -> 0 | AO40: =IF(AN40=0,0,($F$4/$AN$4)*100000) -> 0 | AP40: =' Populations'!K45 -> 0 | AQ40: =IF(AP40=0,0,($G$4/$AP$4)*100000) -> 0 | AR40: =' Populations'!M45 -> 0 | AS40: =IF(AR40=0,0,($H$4/$AR$4)*100000) -> 0 | AT40: =' Populations'!O45 -> 0 | AU40: =IF(AT40=0,0,($I$4/$AT$4)*100000) -> 0 | AV40: =' Populations'!Q45 -> 0 | AW40: =IF(AV40=0,0,($J$4/$AV$4)*100000) -> 0 | AX40: =' Populations'!S45 -> 0 | AY40: =IF(AX40=0,0,($K$4/$AX$4)*100000) -> 0 | AZ40: =' Populations'!U45 -> 0 | BA40: =IF(AZ40=0,0,($L$4/$AZ$4)*100000) -> 0 | CS40: 0.013818 | CU40: =' Populations'!$B$9 -> <1 | CV40: =AI40*CS40 -> 0 | CW40: =AK40*CS40 -> 0 | CX40: =AM40*CS40 -> 0 | CY40: =AO40*CS40 -> 0 | CZ40: =AQ40*CS40 -> 0 | DA40: =AS40*CS40 -> 0 | DB40: =AU40*CS40 -> 0 | DC40: =AW40*CS40 -> 0 | DD40: =AY40*CS40 -> 0 | DE40: =BA40*CS40 -> 0
B41: =' Populations'!$B$10 -> 1-4 | AH41: =' Populations'!C46 -> 0 | AI41: =IF(AH41=0,0,($C$5/$AH$5)*100000) -> 0 | AJ41: =' Populations'!E46 -> 0 | AK41: =IF(AJ41=0,0,($D$5/$AJ$5)*100000) -> 0 | AL41: =' Populations'!G46 -> 0 | AM41: =IF(AL41=0,0,($E$5/$AL$5)*100000) -> 0 | AN41: =' Populations'!I46 -> 0 | AO41: =IF(AN41=0,0,($F$5/$AN$5)*100000) -> 0 | AP41: =' Populations'!K46 -> 0 | AQ41: =IF(AP41=0,0,($G$5/$AP$5)*100000) -> 0 | AR41: =' Populations'!M46 -> 0 | AS41: =IF(AR41=0,0,($G$5/$AR$5)*100000) -> 0 | AT41: =' Populations'!O46 -> 0 | AU41: =IF(AT41=0,0,($I$5/$AT$5)*100000) -> 0 | AV41: =' Populations'!Q46 -> 0 | AW41: =IF(AV41=0,0,($J$5/$AV$5)*100000) -> 0 | AX41: =' Populations'!S46 -> 0 | AY41: =IF(AX41=0,0,($K$5/$AX$5)*100000) -> 0 | AZ41: =' Populations'!U46 -> 0 | BA41: =IF(AZ41=0,0,($L$5/$AZ$5)*100000) -> 0 | CS41: 0.055317 | CU41: =' Populations'!$B$10 -> 1-4 | CV41: =AI41*CS41 -> 0 | CW41: =AK41*CS41 -> 0 | CX41: =AM41*CS41 -> 0 | CY41: =AO41*CS41 -> 0 | CZ41: =AQ41*CS41 -> 0 | DA41: =AS41*CS41 -> 0 | DB41: =AU41*CS41 -> 0 | DC41: =AW41*CS41 -> 0 | DD41: =AY41*CS41 -> 0 | DE41: =BA41*CS41 -> 0
B42: =' Populations'!$B$11 -> 5-9 | AH42: =' Populations'!C47 -> 0 | AI42: =IF(AH42=0,0,($C$42/$AH$42)*100000) -> 0 | AJ42: =' Populations'!E47 -> 0 | AK42: =IF(AJ42=0,0,($D$6/$AJ$6)*100000) -> 0 | AL42: =' Populations'!G47 -> 0 | AM42: =IF(AL42=0,0,($E$6/$AL$6)*100000) -> 0 | AN42: =' Populations'!I47 -> 0 | AO42: =IF(AN42=0,0,($F$6/$AN$6)*100000) -> 0 | AP42: =' Populations'!K47 -> 0 | AQ42: =IF(AP42=0,0,($G$6/$AP$6)*100000) -> 0 | AR42: =' Populations'!M47 -> 0 | AS42: =IF(AR42=0,0,($G$6/$AR$6)*100000) -> 0 | AT42: =' Populations'!O47 -> 0 | AU42: =IF(AT42=0,0,($I$6/$AT$6)*100000) -> 0 | AV42: =' Populations'!Q47 -> 0 | AW42: =IF(AV42=0,0,($J$6/$AV$6)*100000) -> 0 | AX42: =' Populations'!S47 -> 0 | AY42: =IF(AX42=0,0,($K$6/$AX$6)*100000) -> 0 | AZ42: =' Populations'!U47 -> 0 | BA42: =IF(AZ42=0,0,($L$6/$AZ$6)*100000) -> 0 | CS42: 0.072533 | CU42: =' Populations'!$B$11 -> 5-9 | CV42: =AI42*CS42 -> 0 | CW42: =AK42*CS42 -> 0 | CX42: =AM42*CS42 -> 0 | CY42: =AO42*CS42 -> 0 | CZ42: =AQ42*CS42 -> 0 | DA42: =AS42*CS42 -> 0 | DB42: =AU42*CS42 -> 0 | DC42: =AW42*CS42 -> 0 | DD42: =AY42*CS42 -> 0 | DE42: =BA42*CS42 -> 0
B43: =' Populations'!$B$12 -> 10-14 | AH43: =' Populations'!C48 -> 0 | AI43: =IF(AH43=0,0,($C$42/$AH$42)*100000) -> 0 | AJ43: =' Populations'!E48 -> 0 | AK43: =IF(AJ43=0,0,($D$7/$AJ$7)*100000) -> 0 | AL43: =' Populations'!G48 -> 0 | AM43: =IF(AL43=0,0,($E$7/$AL$7)*100000) -> 0 | AN43: =' Populations'!I48 -> 0 | AO43: =IF(AN43=0,0,($F$7/$AN$7)*100000) -> 0 | AP43: =' Populations'!K48 -> 0 | AQ43: =IF(AP43=0,0,($G$7/$AP$7)*100000) -> 0 | AR43: =' Populations'!M48 -> 0 | AS43: =IF(AR43=0,0,($G$7/$AR$7)*100000) -> 0 | AT43: =' Populations'!O48 -> 0 | AU43: =IF(AT43=0,0,($I$7/$AT$7)*100000) -> 0 | AV43: =' Populations'!Q48 -> 0 | AW43: =IF(AV43=0,0,($J$7/$AV$7)*100000) -> 0 | AX43: =' Populations'!S48 -> 0 | AY43: =IF(AX43=0,0,($K$7/$AX$7)*100000) -> 0 | AZ43: =' Populations'!U48 -> 0 | BA43: =IF(AZ43=0,0,($L$7/$AZ$7)*100000) -> 0 | CS43: 0.073032 | CU43: =' Populations'!$B$12 -> 10-14 | CV43: =AI43*CS43 -> 0 | CW43: =AK43*CS43 -> 0 | CX43: =AM43*CS43 -> 0 | CY43: =AO43*CS43 -> 0 | CZ43: =AQ43*CS43 -> 0 | DA43: =AS43*CS43 -> 0 | DB43: =AU43*CS43 -> 0 | DC43: =AW43*CS43 -> 0 | DD43: =AY43*CS43 -> 0 | DE43: =BA43*CS43 -> 0
B44: =' Populations'!$B$13 -> 15-19 | AH44: =' Populations'!C49 -> 0 | AI44: =IF(AH44=0,0,($C$42/$AH$42)*100000) -> 0 | AJ44: =' Populations'!E49 -> 0 | AK44: =IF(AJ44=0,0,($D$8/$AJ$8)*100000) -> 0 | AL44: =' Populations'!G49 -> 0 | AM44: =IF(AL44=0,0,($E$8/$AL$8)*100000) -> 0 | AN44: =' Populations'!I49 -> 0 | AO44: =IF(AN44=0,0,($F$8/$AN$8)*100000) -> 0 | AP44: =' Populations'!K49 -> 0 | AQ44: =IF(AP44=0,0,($G$8/$AP$8)*100000) -> 0 | AR44: =' Populations'!M49 -> 0 | AS44: =IF(AR44=0,0,($G$8/$AR$8)*100000) -> 0 | AT44: =' Populations'!O49 -> 0 | AU44: =IF(AT44=0,0,($I$8/$AT$8)*100000) -> 0 | AV44: =' Populations'!Q49 -> 0 | AW44: =IF(AV44=0,0,($J$8/$AV$8)*100000) -> 0 | AX44: =' Populations'!S49 -> 0 | AY44: =IF(AX44=0,0,($K$8/$AX$8)*100000) -> 0 | AZ44: =' Populations'!U49 -> 0 | BA44: =IF(AZ44=0,0,($L$8/$AZ$8)*100000) -> 0 | CS44: 0.072169 | CU44: =' Populations'!$B$13 -> 15-19 | CV44: =AI44*CS44 -> 0 | CW44: =AK44*CS44 -> 0 | CX44: =AM44*CS44 -> 0 | CY44: =AO44*CS44 -> 0 | CZ44: =AQ44*CS44 -> 0 | DA44: =AS44*CS44 -> 0 | DB44: =AU44*CS44 -> 0 | DC44: =AW44*CS44 -> 0 | DD44: =AY44*CS44 -> 0 | DE44: =BA44*CS44 -> 0
B45: =' Populations'!$B$14 -> 20-24 | AH45: =' Populations'!C50 -> 0 | AI45: =IF(AH45=0,0,($C$42/$AH$42)*100000) -> 0 | AJ45: =' Populations'!E50 -> 0 | AK45: =IF(AJ45=0,0,($D$9/$AJ$9)*100000) -> 0 | AL45: =' Populations'!G50 -> 0 | AM45: =IF(AL45=0,0,($E$9/$AL$9)*100000) -> 0 | AN45: =' Populations'!I50 -> 0 | AO45: =IF(AN45=0,0,($F$9/$AN$9)*100000) -> 0 | AP45: =' Populations'!K50 -> 0 | AQ45: =IF(AP45=0,0,($G$9/$AP$9)*100000) -> 0 | AR45: =' Populations'!M50 -> 0 | AS45: =IF(AR45=0,0,($G$9/$AR$9)*100000) -> 0 | AT45: =' Populations'!O50 -> 0 | AU45: =IF(AT45=0,0,($I$9/$AT$9)*100000) -> 0 | AV45: =' Populations'!Q50 -> 0 | AW45: =IF(AV45=0,0,($J$9/$AV$9)*100000) -> 0 | AX45: =' Populations'!S50 -> 0 | AY45: =IF(AX45=0,0,($K$9/$AX$9)*100000) -> 0 | AZ45: =' Populations'!U50 -> 0 | BA45: =IF(AZ45=0,0,($L$9/$AZ$9)*100000) -> 0 | CS45: 0.066478 | CU45: =' Populations'!$B$14 -> 20-24 | CV45: =AI45*CS45 -> 0 | CW45: =AK45*CS45 -> 0 | CX45: =AM45*CS45 -> 0 | CY45: =AO45*CS45 -> 0 | CZ45: =AQ45*CS45 -> 0 | DA45: =AS45*CS45 -> 0 | DB45: =AU45*CS45 -> 0 | DC45: =AW45*CS45 -> 0 | DD45: =AY45*CS45 -> 0 | DE45: =BA45*CS45 -> 0
B46: =' Populations'!$B$15 -> 25-34 | AH46: =' Populations'!C51 -> 0 | AI46: =IF(AH46=0,0,($C$42/$AH$42)*100000) -> 0 | AJ46: =' Populations'!E51 -> 0 | AK46: =IF(AJ46=0,0,($D$10/$AJ$10)*100000) -> 0 | AL46: =' Populations'!G51 -> 0 | AM46: =IF(AL46=0,0,($E$10/$AL$10)*100000) -> 0 | AN46: =' Populations'!I51 -> 0 | AO46: =IF(AN46=0,0,($F$10/$AN$10)*100000) -> 0 | AP46: =' Populations'!K51 -> 0 | AQ46: =IF(AP46=0,0,($G$10/$AP$10)*100000) -> 0 | AR46: =' Populations'!M51 -> 0 | AS46: =IF(AR46=0,0,($G$10/$AR$10)*100000) -> 0 | AT46: =' Populations'!O51 -> 0 | AU46: =IF(AT46=0,0,($I$10/$AT$10)*100000) -> 0 | AV46: =' Populations'!Q51 -> 0 | AW46: =IF(AV46=0,0,($J$10/$AV$10)*100000) -> 0 | AX46: =' Populations'!S51 -> 0 | AY46: =IF(AX46=0,0,($K$10/$AX$10)*100000) -> 0 | AZ46: =' Populations'!U51 -> 0 | BA46: =IF(AZ46=0,0,($L$10/$AZ$10)*100000) -> 0 | CS46: 0.135573 | CU46: =' Populations'!$B$15 -> 25-34 | CV46: =AI46*CS46 -> 0 | CW46: =AK46*CS46 -> 0 | CX46: =AM46*CS46 -> 0 | CY46: =AO46*CS46 -> 0 | CZ46: =AQ46*CS46 -> 0 | DA46: =AS46*CS46 -> 0 | DB46: =AU46*CS46 -> 0 | DC46: =AW46*CS46 -> 0 | DD46: =AY46*CS46 -> 0 | DE46: =BA46*CS46 -> 0
B47: =' Populations'!$B$16 -> 35-44 | AH47: =' Populations'!C52 -> 0 | AI47: =IF(AH47=0,0,($C$42/$AH$42)*100000) -> 0 | AJ47: =' Populations'!E52 -> 0 | AK47: =IF(AJ47=0,0,($D$11/$AJ$11)*100000) -> 0 | AL47: =' Populations'!G52 -> 0 | AM47: =IF(AL47=0,0,($E$11/$AL$11)*100000) -> 0 | AN47: =' Populations'!I52 -> 0 | AO47: =IF(AN47=0,0,($F$11/$AN$11)*100000) -> 0 | AP47: =' Populations'!K52 -> 0 | AQ47: =IF(AP47=0,0,($G$11/$AP$11)*100000) -> 0 | AR47: =' Populations'!M52 -> 0 | AS47: =IF(AR47=0,0,($G$11/$AR$11)*100000) -> 0 | AT47: =' Populations'!O52 -> 0 | AU47: =IF(AT47=0,0,($I$11/$AT$11)*100000) -> 0 | AV47: =' Populations'!Q52 -> 0 | AW47: =IF(AV47=0,0,($J$11/$AV$11)*100000) -> 0 | AX47: =' Populations'!S52 -> 0 | AY47: =IF(AX47=0,0,($K$11/$AX$11)*100000) -> 0 | AZ47: =' Populations'!U52 -> 0 | BA47: =IF(AZ47=0,0,($L$11/$AZ$11)*100000) -> 0 | CS47: 0.162613 | CU47: =' Populations'!$B$16 -> 35-44 | CV47: =AI47*CS47 -> 0 | CW47: =AK47*CS47 -> 0 | CX47: =AM47*CS47 -> 0 | CY47: =AO47*CS47 -> 0 | CZ47: =AQ47*CS47 -> 0 | DA47: =AS47*CS47 -> 0 | DB47: =AU47*CS47 -> 0 | DC47: =AW47*CS47 -> 0 | DD47: =AY47*CS47 -> 0 | DE47: =BA47*CS47 -> 0
B48: =' Populations'!$B$17 -> 45-54 | AH48: =' Populations'!C53 -> 0 | AI48: =IF(AH48=0,0,($C$42/$AH$42)*100000) -> 0 | AJ48: =' Populations'!E53 -> 0 | AK48: =IF(AJ48=0,0,($D$12/$AJ$12)*100000) -> 0 | AL48: =' Populations'!G53 -> 0 | AM48: =IF(AL48=0,0,($E$12/$AL$12)*100000) -> 0 | AN48: =' Populations'!I53 -> 0 | AO48: =IF(AN48=0,0,($F$12/$AN$12)*100000) -> 0 | AP48: =' Populations'!K53 -> 0 | AQ48: =IF(AP48=0,0,($G$12/$AP$12)*100000) -> 0 | AR48: =' Populations'!M53 -> 0 | AS48: =IF(AR48=0,0,($G$12/$AR$12)*100000) -> 0 | AT48: =' Populations'!O53 -> 0 | AU48: =IF(AT48=0,0,($I$12/$AT$12)*100000) -> 0 | AV48: =' Populations'!Q53 -> 0 | AW48: =IF(AV48=0,0,($J$12/$AV$12)*100000) -> 0 | AX48: =' Populations'!S53 -> 0 | AY48: =IF(AX48=0,0,($K$12/$AX$12)*100000) -> 0 | AZ48: =' Populations'!U53 -> 0 | BA48: =IF(AZ48=0,0,($L$12/$AZ$12)*100000) -> 0 | CS48: 0.134834 | CU48: =' Populations'!$B$17 -> 45-54 | CV48: =AI48*CS48 -> 0 | CW48: =AK48*CS48 -> 0 | CX48: =AM48*CS48 -> 0 | CY48: =AO48*CS48 -> 0 | CZ48: =AQ48*CS48 -> 0 | DA48: =AS48*CS48 -> 0 | DB48: =AU48*CS48 -> 0 | DC48: =AW48*CS48 -> 0 | DD48: =AY48*CS48 -> 0 | DE48: =BA48*CS48 -> 0
B49: =' Populations'!$B$18 -> 55-64 | AH49: =' Populations'!C54 -> 0 | AI49: =IF(AH49=0,0,($C$42/$AH$42)*100000) -> 0 | AJ49: =' Populations'!E54 -> 0 | AK49: =IF(AJ49=0,0,($D$13/$AJ$13)*100000) -> 0 | AL49: =' Populations'!G54 -> 0 | AM49: =IF(AL49=0,0,($E$13/$AL$13)*100000) -> 0 | AN49: =' Populations'!I54 -> 0 | AO49: =IF(AN49=0,0,($F$13/$AN$13)*100000) -> 0 | AP49: =' Populations'!K54 -> 0 | AQ49: =IF(AP49=0,0,($G$13/$AP$13)*100000) -> 0 | AR49: =' Populations'!M54 -> 0 | AS49: =IF(AR49=0,0,($G$13/$AR$13)*100000) -> 0 | AT49: =' Populations'!O54 -> 0 | AU49: =IF(AT49=0,0,($I$13/$AT$13)*100000) -> 0 | AV49: =' Populations'!Q54 -> 0 | AW49: =IF(AV49=0,0,($J$13/$AV$13)*100000) -> 0 | AX49: =' Populations'!S54 -> 0 | AY49: =IF(AX49=0,0,($K$13/$AX$13)*100000) -> 0 | AZ49: =' Populations'!U54 -> 0 | BA49: =IF(AZ49=0,0,($L$13/$AZ$13)*100000) -> 0 | CS49: 0.087247 | CU49: =' Populations'!$B$18 -> 55-64 | CV49: =AI49*CS49 -> 0 | CW49: =AK49*CS49 -> 0 | CX49: =AM49*CS49 -> 0 | CY49: =AO49*CS49 -> 0 | CZ49: =AQ49*CS49 -> 0 | DA49: =AS49*CS49 -> 0 | DB49: =AU49*CS49 -> 0 | DC49: =AW49*CS49 -> 0 | DD49: =AY49*CS49 -> 0 | DE49: =BA49*CS49 -> 0
B50: =' Populations'!$B$19 -> 65-74 | AH50: =' Populations'!C55 -> 0 | AI50: =IF(AH50=0,0,($C$42/$AH$42)*100000) -> 0 | AJ50: =' Populations'!E55 -> 0 | AK50: =IF(AJ50=0,0,($D$14/$AJ$14)*100000) -> 0 | AL50: =' Populations'!G55 -> 0 | AM50: =IF(AL50=0,0,($E$14/$AL$14)*100000) -> 0 | AN50: =' Populations'!I55 -> 0 | AO50: =IF(AN50=0,0,($F$14/$AN$14)*100000) -> 0 | AP50: =' Populations'!K55 -> 0 | AQ50: =IF(AP50=0,0,($G$14/$AP$14)*100000) -> 0 | AR50: =' Populations'!M55 -> 0 | AS50: =IF(AR50=0,0,($G$14/$AR$14)*100000) -> 0 | AT50: =' Populations'!O55 -> 0 | AU50: =IF(AT50=0,0,($I$14/$AT$14)*100000) -> 0 | AV50: =' Populations'!Q55 -> 0 | AW50: =IF(AV50=0,0,($J$14/$AV$14)*100000) -> 0 | AX50: =' Populations'!S55 -> 0 | AY50: =IF(AX50=0,0,($K$14/$AX$14)*100000) -> 0 | AZ50: =' Populations'!U55 -> 0 | BA50: =IF(AZ50=0,0,($L$14/$AZ$14)*100000) -> 0 | CS50: 0.066037 | CU50: =' Populations'!$B$19 -> 65-74 | CV50: =AI50*CS50 -> 0 | CW50: =AK50*CS50 -> 0 | CX50: =AM50*CS50 -> 0 | CY50: =AO50*CS50 -> 0 | CZ50: =AQ50*CS50 -> 0 | DA50: =AS50*CS50 -> 0 | DB50: =AU50*CS50 -> 0 | DC50: =AW50*CS50 -> 0 | DD50: =AY50*CS50 -> 0 | DE50: =BA50*CS50 -> 0
B51: =' Populations'!$B$20 -> 75-84 | AH51: =' Populations'!C56 -> 0 | AI51: =IF(AH51=0,0,($C$42/$AH$42)*100000) -> 0 | AJ51: =' Populations'!E56 -> 0 | AK51: =IF(AJ51=0,0,($D$15/$AJ$15)*100000) -> 0 | AL51: =' Populations'!G56 -> 0 | AM51: =IF(AL51=0,0,($E$15/$AL$15)*100000) -> 0 | AN51: =' Populations'!I56 -> 0 | AO51: =IF(AN51=0,0,($F$15/$AN$15)*100000) -> 0 | AP51: =' Populations'!K56 -> 0 | AQ51: =IF(AP51=0,0,($G$15/$AP$15)*100000) -> 0 | AR51: =' Populations'!M56 -> 0 | AS51: =IF(AR51=0,0,($G$15/$AR$15)*100000) -> 0 | AT51: =' Populations'!O56 -> 0 | AU51: =IF(AT51=0,0,($I$15/$AT$15)*100000) -> 0 | AV51: =' Populations'!Q56 -> 0 | AW51: =IF(AV51=0,0,($J$15/$AV$15)*100000) -> 0 | AX51: =' Populations'!S56 -> 0 | AY51: =IF(AX51=0,0,($K$15/$AX$15)*100000) -> 0 | AZ51: =' Populations'!U56 -> 0 | BA51: =IF(AZ51=0,0,($L$15/$AZ$15)*100000) -> 0 | CS51: 0.044841 | CU51: =' Populations'!$B$20 -> 75-84 | CV51: =AI51*CS51 -> 0 | CW51: =AK51*CS51 -> 0 | CX51: =AM51*CS51 -> 0 | CY51: =AO51*CS51 -> 0 | CZ51: =AQ51*CS51 -> 0 | DA51: =AS51*CS51 -> 0 | DB51: =AU51*CS51 -> 0 | DC51: =AW51*CS51 -> 0 | DD51: =AY51*CS51 -> 0 | DE51: =BA51*CS51 -> 0
B52: =' Populations'!$B$21 -> 85+ | AH52: =' Populations'!C57 -> 0 | AI52: =IF(AH52=0,0,($C$42/$AH$42)*100000) -> 0 | AJ52: =' Populations'!E57 -> 0 | AK52: =IF(AJ52=0,0,($D$16/$AJ$16)*100000) -> 0 | AL52: =' Populations'!G57 -> 0 | AM52: =IF(AL52=0,0,($E$16/$AL$16)*100000) -> 0 | AN52: =' Populations'!I57 -> 0 | AO52: =IF(AN52=0,0,($F$16/$AN$16)*100000) -> 0 | AP52: =' Populations'!K57 -> 0 | AQ52: =IF(AP52=0,0,($G$16/$AP$16)*100000) -> 0 | AR52: =' Populations'!M57 -> 0 | AS52: =IF(AR52=0,0,($G$16/$AR$16)*100000) -> 0 | AT52: =' Populations'!O57 -> 0 | AU52: =IF(AT52=0,0,($I$16/$AT$16)*100000) -> 0 | AV52: =' Populations'!Q57 -> 0 | AW52: =IF(AV52=0,0,($J$16/$AV$16)*100000) -> 0 | AX52: =' Populations'!S57 -> 0 | AY52: =IF(AX52=0,0,($K$16/$AX$16)*100000) -> 0 | AZ52: =' Populations'!U57 -> 0 | BA52: =IF(AZ52=0,0,($L$16/$AZ$16)*100000) -> 0 | CS52: 0.015508 | CU52: =' Populations'!$B$21 -> 85+ | CV52: =AI52*CS52 -> 0 | CW52: =AK52*CS52 -> 0 | CX52: =AM52*CS52 -> 0 | CY52: =AO52*CS52 -> 0 | CZ52: =AQ52*CS52 -> 0 | DA52: =AS52*CS52 -> 0 | DB52: =AU52*CS52 -> 0 | DC52: =AW52*CS52 -> 0 | DD52: =AY52*CS52 -> 0 | DE52: =BA52*CS52 -> 0
B53: total | C53: =SUM(C40:C52) -> 0 | D53: =SUM(D40:D52) -> 0 | E53: =SUM(E40:E52) -> 0 | F53: =SUM(F40:F52) -> 0 | G53: =SUM(G40:G52) -> 0 | H53: =SUM(H40:H52) -> 0 | I53: =SUM(I40:I52) -> 0 | J53: =SUM(J40:J52) -> 0 | ... L53: =SUM(L40:L52) -> 0 | AH53: =SUM(AH40:AH52) -> 0 | AI53: =SUM(AI40:AI52) -> 0 | AJ53: =SUM(AJ40:AJ52) -> 0 | AK53: =SUM(AK40:AK52) -> 0 | AL53: =SUM(AL40:AL52) -> 0 | AM53: =SUM(AM40:AM52) -> 0 | AN53: =SUM(AN40:AN52) -> 0 | AO53: =SUM(AO40:AO52) -> 0 | ... BA53: =SUM(BA40:BA52) -> 0 | CU53: total | CV53: =SUM(CV40:CV52) -> 0 | CW53: =SUM(CW40:CW52) -> 0 | CX53: =SUM(CX40:CX52) -> 0 | CY53: =SUM(CY40:CY52) -> 0 | CZ53: =SUM(CZ40:CZ52) -> 0 | DA53: =SUM(DA40:DA52) -> 0 | DB53: =SUM(DB40:DB52) -> 0 | DC53: =SUM(DC40:DC52) -> 0 | ... DE53: =SUM(DE40:DE52) -> 0
A56: Previous Year: | C56: =' Populations'!A64 -> 0 | D56: Sex Data | F56: Demographic Data | CV56: Age-adjusted Rates per 100,000 population
B57: Age | C57: Number of deaths- Total | D57: Number of deaths- Male | E57: Number of deaths- Female | F57: =' Populations'!$I$8 -> White-Not Hispanic | G57: =' Populations'!$K$8 -> Hispanic | H57: =' Populations'!$M$8 -> Black-Not Hispanic | I57: =' Populations'!$O$8 -> Asian | J57: =' Populations'!$Q$8 -> American Indian/Alaska Native | K57: =' Populations'!$S$8 -> Other | L57: =' Populations'!$U$8 -> Other | AH57: State population - Total | AI57: Rate | AJ57: State population - Male | AK57: Rate | AL57: State population - Female | AM57: Rate | AN57: =' Populations'!$I$8 -> White-Not Hispanic | AO57: Rate | AP57: =' Populations'!$K$8 -> Hispanic | AQ57: Rate | AR57: =' Populations'!$M$8 -> Black-Not Hispanic | AS57: Rate | AT57: =' Populations'!$O$8 -> Asian | AU57: Rate | AV57: =' Populations'!$Q$8 -> American Indian/Alaska Native | AW57: Rate | AX57: =' Populations'!$S$8 -> Other | AY57: Rate | AZ57: =' Populations'!$U$8 -> Other | BA57: Rate | CS57: 2000 Population Weight | CU57: Age | CV57: Total | CW57: Male | CX57: Female | CY57: =' Populations'!$I$8 -> White-Not Hispanic | CZ57: =' Populations'!$K$8 -> Hispanic | DA57: =' Populations'!$M$8 -> Black-Not Hispanic | DB57: =' Populations'!$O$8 -> Asian | DC57: =' Populations'!$Q$8 -> American Indian/Alaska Native | DD57: =' Populations'!$S$8 -> Other | DE57: =' Populations'!$U$8 -> Other
B58: =' Populations'!$B$9 -> <1 | AH58: =' Populations'!C63 -> 0 | AI58: =IF(AH58=0,0,($C$4/$AH$4)*100000) -> 0 | AJ58: =' Populations'!E63 -> 0 | AK58: =IF(AJ58=0,0,($D$4/$AJ$4)*100000) -> 0 | AL58: =' Populations'!G63 -> 0 | AM58: =IF(AL58=0,0,($E$4/$AL$4)*100000) -> 0 | AN58: =' Populations'!I63 -> 0 | AO58: =IF(AN58=0,0,($F$4/$AN$4)*100000) -> 0 | AP58: =' Populations'!K63 -> 0 | AQ58: =IF(AP58=0,0,($G$4/$AP$4)*100000) -> 0 | AR58: =' Populations'!M63 -> 0 | AS58: =IF(AR58=0,0,($H$4/$AR$4)*100000) -> 0 | AT58: =' Populations'!O63 -> 0 | AU58: =IF(AT58=0,0,($I$4/$AT$4)*100000) -> 0 | AV58: =' Populations'!Q63 -> 0 | AW58: =IF(AV58=0,0,($J$4/$AV$4)*100000) -> 0 | AX58: =' Populations'!S63 -> 0 | AY58: =IF(AX58=0,0,($K$4/$AX$4)*100000) -> 0 | AZ58: =' Populations'!U63 -> 0 | BA58: =IF(AZ58=0,0,($L$4/$AZ$4)*100000) -> 0 | CS58: 0.013818 | CU58: =' Populations'!$B$9 -> <1 | CV58: =AI58*CS58 -> 0 | CW58: =AK58*CS58 -> 0 | CX58: =AM58*CS58 -> 0 | CY58: =AO58*CS58 -> 0 | CZ58: =AQ58*CS58 -> 0 | DA58: =AS58*CS58 -> 0 | DB58: =AU58*CS58 -> 0 | DC58: =AW58*CS58 -> 0 | DD58: =AY58*CS58 -> 0 | DE58: =BA58*CS58 -> 0
B59: =' Populations'!$B$10 -> 1-4 | AH59: =' Populations'!C64 -> 0 | AI59: =IF(AH59=0,0,($C$5/$AH$5)*100000) -> 0 | AJ59: =' Populations'!E64 -> 0 | AK59: =IF(AJ59=0,0,($D$5/$AJ$5)*100000) -> 0 | AL59: =' Populations'!G64 -> 0 | AM59: =IF(AL59=0,0,($E$5/$AL$5)*100000) -> 0 | AN59: =' Populations'!I64 -> 0 | AO59: =IF(AN59=0,0,($F$5/$AN$5)*100000) -> 0 | AP59: =' Populations'!K64 -> 0 | AQ59: =IF(AP59=0,0,($G$5/$AP$5)*100000) -> 0 | AR59: =' Populations'!M64 -> 0 | AS59: =IF(AR59=0,0,($G$5/$AR$5)*100000) -> 0 | AT59: =' Populations'!O64 -> 0 | AU59: =IF(AT59=0,0,($I$5/$AT$5)*100000) -> 0 | AV59: =' Populations'!Q64 -> 0 | AW59: =IF(AV59=0,0,($J$5/$AV$5)*100000) -> 0 | AX59: =' Populations'!S64 -> 0 | AY59: =IF(AX59=0,0,($K$5/$AX$5)*100000) -> 0 | AZ59: =' Populations'!U64 -> 0 | BA59: =IF(AZ59=0,0,($L$5/$AZ$5)*100000) -> 0 | CS59: 0.055317 | CU59: =' Populations'!$B$10 -> 1-4 | CV59: =AI59*CS59 -> 0 | CW59: =AK59*CS59 -> 0 | CX59: =AM59*CS59 -> 0 | CY59: =AO59*CS59 -> 0 | CZ59: =AQ59*CS59 -> 0 | DA59: =AS59*CS59 -> 0 | DB59: =AU59*CS59 -> 0 | DC59: =AW59*CS59 -> 0 | DD59: =AY59*CS59 -> 0 | DE59: =BA59*CS59 -> 0
B60: =' Populations'!$B$11 -> 5-9 | AH60: =' Populations'!C65 -> 0 | AI60: =IF(AH60=0,0,($C$60/$AH$60)*100000) -> 0 | AJ60: =' Populations'!E65 -> 0 | AK60: =IF(AJ60=0,0,($D$6/$AJ$6)*100000) -> 0 | AL60: =' Populations'!G65 -> 0 | AM60: =IF(AL60=0,0,($E$6/$AL$6)*100000) -> 0 | AN60: =' Populations'!I65 -> 0 | AO60: =IF(AN60=0,0,($F$6/$AN$6)*100000) -> 0 | AP60: =' Populations'!K65 -> 0 | AQ60: =IF(AP60=0,0,($G$6/$AP$6)*100000) -> 0 | AR60: =' Populations'!M65 -> 0 | AS60: =IF(AR60=0,0,($G$6/$AR$6)*100000) -> 0 | AT60: =' Populations'!O65 -> 0 | AU60: =IF(AT60=0,0,($I$6/$AT$6)*100000) -> 0 | AV60: =' Populations'!Q65 -> 0 | AW60: =IF(AV60=0,0,($J$6/$AV$6)*100000) -> 0 | AX60: =' Populations'!S65 -> 0 | AY60: =IF(AX60=0,0,($K$6/$AX$6)*100000) -> 0 | AZ60: =' Populations'!U65 -> 0 | BA60: =IF(AZ60=0,0,($L$6/$AZ$6)*100000) -> 0 | CS60: 0.072533 | CU60: =' Populations'!$B$11 -> 5-9 | CV60: =AI60*CS60 -> 0 | CW60: =AK60*CS60 -> 0 | CX60: =AM60*CS60 -> 0 | CY60: =AO60*CS60 -> 0 | CZ60: =AQ60*CS60 -> 0 | DA60: =AS60*CS60 -> 0 | DB60: =AU60*CS60 -> 0 | DC60: =AW60*CS60 -> 0 | DD60: =AY60*CS60 -> 0 | DE60: =BA60*CS60 -> 0
B61: =' Populations'!$B$12 -> 10-14 | AH61: =' Populations'!C66 -> 0 | AI61: =IF(AH61=0,0,($C$60/$AH$60)*100000) -> 0 | AJ61: =' Populations'!E66 -> 0 | AK61: =IF(AJ61=0,0,($D$7/$AJ$7)*100000) -> 0 | AL61: =' Populations'!G66 -> 0 | AM61: =IF(AL61=0,0,($E$7/$AL$7)*100000) -> 0 | AN61: =' Populations'!I66 -> 0 | AO61: =IF(AN61=0,0,($F$7/$AN$7)*100000) -> 0 | AP61: =' Populations'!K66 -> 0 | AQ61: =IF(AP61=0,0,($G$7/$AP$7)*100000) -> 0 | AR61: =' Populations'!M66 -> 0 | AS61: =IF(AR61=0,0,($G$7/$AR$7)*100000) -> 0 | AT61: =' Populations'!O66 -> 0 | AU61: =IF(AT61=0,0,($I$7/$AT$7)*100000) -> 0 | AV61: =' Populations'!Q66 -> 0 | AW61: =IF(AV61=0,0,($J$7/$AV$7)*100000) -> 0 | AX61: =' Populations'!S66 -> 0 | AY61: =IF(AX61=0,0,($K$7/$AX$7)*100000) -> 0 | AZ61: =' Populations'!U66 -> 0 | BA61: =IF(AZ61=0,0,($L$7/$AZ$7)*100000) -> 0 | CS61: 0.073032 | CU61: =' Populations'!$B$12 -> 10-14 | CV61: =AI61*CS61 -> 0 | CW61: =AK61*CS61 -> 0 | CX61: =AM61*CS61 -> 0 | CY61: =AO61*CS61 -> 0 | CZ61: =AQ61*CS61 -> 0 | DA61: =AS61*CS61 -> 0 | DB61: =AU61*CS61 -> 0 | DC61: =AW61*CS61 -> 0 | DD61: =AY61*CS61 -> 0 | DE61: =BA61*CS61 -> 0
B62: =' Populations'!$B$13 -> 15-19 | AH62: =' Populations'!C67 -> 0 | AI62: =IF(AH62=0,0,($C$60/$AH$60)*100000) -> 0 | AJ62: =' Populations'!E67 -> 0 | AK62: =IF(AJ62=0,0,($D$8/$AJ$8)*100000) -> 0 | AL62: =' Populations'!G67 -> 0 | AM62: =IF(AL62=0,0,($E$8/$AL$8)*100000) -> 0 | AN62: =' Populations'!I67 -> 0 | AO62: =IF(AN62=0,0,($F$8/$AN$8)*100000) -> 0 | AP62: =' Populations'!K67 -> 0 | AQ62: =IF(AP62=0,0,($G$8/$AP$8)*100000) -> 0 | AR62: =' Populations'!M67 -> 0 | AS62: =IF(AR62=0,0,($G$8/$AR$8)*100000) -> 0 | AT62: =' Populations'!O67 -> 0 | AU62: =IF(AT62=0,0,($I$8/$AT$8)*100000) -> 0 | AV62: =' Populations'!Q67 -> 0 | AW62: =IF(AV62=0,0,($J$8/$AV$8)*100000) -> 0 | AX62: =' Populations'!S67 -> 0 | AY62: =IF(AX62=0,0,($K$8/$AX$8)*100000) -> 0 | AZ62: =' Populations'!U67 -> 0 | BA62: =IF(AZ62=0,0,($L$8/$AZ$8)*100000) -> 0 | CS62: 0.072169 | CU62: =' Populations'!$B$13 -> 15-19 | CV62: =AI62*CS62 -> 0 | CW62: =AK62*CS62 -> 0 | CX62: =AM62*CS62 -> 0 | CY62: =AO62*CS62 -> 0 | CZ62: =AQ62*CS62 -> 0 | DA62: =AS62*CS62 -> 0 | DB62: =AU62*CS62 -> 0 | DC62: =AW62*CS62 -> 0 | DD62: =AY62*CS62 -> 0 | DE62: =BA62*CS62 -> 0
B63: =' Populations'!$B$14 -> 20-24 | AH63: =' Populations'!C68 -> 0 | AI63: =IF(AH63=0,0,($C$60/$AH$60)*100000) -> 0 | AJ63: =' Populations'!E68 -> 0 | AK63: =IF(AJ63=0,0,($D$9/$AJ$9)*100000) -> 0 | AL63: =' Populations'!G68 -> 0 | AM63: =IF(AL63=0,0,($E$9/$AL$9)*100000) -> 0 | AN63: =' Populations'!I68 -> 0 | AO63: =IF(AN63=0,0,($F$9/$AN$9)*100000) -> 0 | AP63: =' Populations'!K68 -> 0 | AQ63: =IF(AP63=0,0,($G$9/$AP$9)*100000) -> 0 | AR63: =' Populations'!M68 -> 0 | AS63: =IF(AR63=0,0,($G$9/$AR$9)*100000) -> 0 | AT63: =' Populations'!O68 -> 0 | AU63: =IF(AT63=0,0,($I$9/$AT$9)*100000) -> 0 | AV63: =' Populations'!Q68 -> 0 | AW63: =IF(AV63=0,0,($J$9/$AV$9)*100000) -> 0 | AX63: =' Populations'!S68 -> 0 | AY63: =IF(AX63=0,0,($K$9/$AX$9)*100000) -> 0 | AZ63: =' Populations'!U68 -> 0 | BA63: =IF(AZ63=0,0,($L$9/$AZ$9)*100000) -> 0 | CS63: 0.066478 | CU63: =' Populations'!$B$14 -> 20-24 | CV63: =AI63*CS63 -> 0 | CW63: =AK63*CS63 -> 0 | CX63: =AM63*CS63 -> 0 | CY63: =AO63*CS63 -> 0 | CZ63: =AQ63*CS63 -> 0 | DA63: =AS63*CS63 -> 0 | DB63: =AU63*CS63 -> 0 | DC63: =AW63*CS63 -> 0 | DD63: =AY63*CS63 -> 0 | DE63: =BA63*CS63 -> 0
B64: =' Populations'!$B$15 -> 25-34 | AH64: =' Populations'!C69 -> 0 | AI64: =IF(AH64=0,0,($C$60/$AH$60)*100000) -> 0 | AJ64: =' Populations'!E69 -> 0 | AK64: =IF(AJ64=0,0,($D$10/$AJ$10)*100000) -> 0 | AL64: =' Populations'!G69 -> 0 | AM64: =IF(AL64=0,0,($E$10/$AL$10)*100000) -> 0 | AN64: =' Populations'!I69 -> 0 | AO64: =IF(AN64=0,0,($F$10/$AN$10)*100000) -> 0 | AP64: =' Populations'!K69 -> 0 | AQ64: =IF(AP64=0,0,($G$10/$AP$10)*100000) -> 0 | AR64: =' Populations'!M69 -> 0 | AS64: =IF(AR64=0,0,($G$10/$AR$10)*100000) -> 0 | AT64: =' Populations'!O69 -> 0 | AU64: =IF(AT64=0,0,($I$10/$AT$10)*100000) -> 0 | AV64: =' Populations'!Q69 -> 0 | AW64: =IF(AV64=0,0,($J$10/$AV$10)*100000) -> 0 | AX64: =' Populations'!S69 -> 0 | AY64: =IF(AX64=0,0,($K$10/$AX$10)*100000) -> 0 | AZ64: =' Populations'!U69 -> 0 | BA64: =IF(AZ64=0,0,($L$10/$AZ$10)*100000) -> 0 | CS64: 0.135573 | CU64: =' Populations'!$B$15 -> 25-34 | CV64: =AI64*CS64 -> 0 | CW64: =AK64*CS64 -> 0 | CX64: =AM64*CS64 -> 0 | CY64: =AO64*CS64 -> 0 | CZ64: =AQ64*CS64 -> 0 | DA64: =AS64*CS64 -> 0 | DB64: =AU64*CS64 -> 0 | DC64: =AW64*CS64 -> 0 | DD64: =AY64*CS64 -> 0 | DE64: =BA64*CS64 -> 0
B65: =' Populations'!$B$16 -> 35-44 | AH65: =' Populations'!C70 -> 0 | AI65: =IF(AH65=0,0,($C$60/$AH$60)*100000) -> 0 | AJ65: =' Populations'!E70 -> 0 | AK65: =IF(AJ65=0,0,($D$11/$AJ$11)*100000) -> 0 | AL65: =' Populations'!G70 -> 0 | AM65: =IF(AL65=0,0,($E$11/$AL$11)*100000) -> 0 | AN65: =' Populations'!I70 -> 0 | AO65: =IF(AN65=0,0,($F$11/$AN$11)*100000) -> 0 | AP65: =' Populations'!K70 -> 0 | AQ65: =IF(AP65=0,0,($G$11/$AP$11)*100000) -> 0 | AR65: =' Populations'!M70 -> 0 | AS65: =IF(AR65=0,0,($G$11/$AR$11)*100000) -> 0 | AT65: =' Populations'!O70 -> 0 | AU65: =IF(AT65=0,0,($I$11/$AT$11)*100000) -> 0 | AV65: =' Populations'!Q70 -> 0 | AW65: =IF(AV65=0,0,($J$11/$AV$11)*100000) -> 0 | AX65: =' Populations'!S70 -> 0 | AY65: =IF(AX65=0,0,($K$11/$AX$11)*100000) -> 0 | AZ65: =' Populations'!U70 -> 0 | BA65: =IF(AZ65=0,0,($L$11/$AZ$11)*100000) -> 0 | CS65: 0.162613 | CU65: =' Populations'!$B$16 -> 35-44 | CV65: =AI65*CS65 -> 0 | CW65: =AK65*CS65 -> 0 | CX65: =AM65*CS65 -> 0 | CY65: =AO65*CS65 -> 0 | CZ65: =AQ65*CS65 -> 0 | DA65: =AS65*CS65 -> 0 | DB65: =AU65*CS65 -> 0 | DC65: =AW65*CS65 -> 0 | DD65: =AY65*CS65 -> 0 | DE65: =BA65*CS65 -> 0
B66: =' Populations'!$B$17 -> 45-54 | AH66: =' Populations'!C71 -> 0 | AI66: =IF(AH66=0,0,($C$60/$AH$60)*100000) -> 0 | AJ66: =' Populations'!E71 -> 0 | AK66: =IF(AJ66=0,0,($D$12/$AJ$12)*100000) -> 0 | AL66: =' Populations'!G71 -> 0 | AM66: =IF(AL66=0,0,($E$12/$AL$12)*100000) -> 0 | AN66: =' Populations'!I71 -> 0 | AO66: =IF(AN66=0,0,($F$12/$AN$12)*100000) -> 0 | AP66: =' Populations'!K71 -> 0 | AQ66: =IF(AP66=0,0,($G$12/$AP$12)*100000) -> 0 | AR66: =' Populations'!M71 -> 0 | AS66: =IF(AR66=0,0,($G$12/$AR$12)*100000) -> 0 | AT66: =' Populations'!O71 -> 0 | AU66: =IF(AT66=0,0,($I$12/$AT$12)*100000) -> 0 | AV66: =' Populations'!Q71 -> 0 | AW66: =IF(AV66=0,0,($J$12/$AV$12)*100000) -> 0 | AX66: =' Populations'!S71 -> 0 | AY66: =IF(AX66=0,0,($K$12/$AX$12)*100000) -> 0 | AZ66: =' Populations'!U71 -> 0 | BA66: =IF(AZ66=0,0,($L$12/$AZ$12)*100000) -> 0 | CS66: 0.134834 | CU66: =' Populations'!$B$17 -> 45-54 | CV66: =AI66*CS66 -> 0 | CW66: =AK66*CS66 -> 0 | CX66: =AM66*CS66 -> 0 | CY66: =AO66*CS66 -> 0 | CZ66: =AQ66*CS66 -> 0 | DA66: =AS66*CS66 -> 0 | DB66: =AU66*CS66 -> 0 | DC66: =AW66*CS66 -> 0 | DD66: =AY66*CS66 -> 0 | DE66: =BA66*CS66 -> 0
B67: =' Populations'!$B$18 -> 55-64 | AH67: =' Populations'!C72 -> 0 | AI67: =IF(AH67=0,0,($C$60/$AH$60)*100000) -> 0 | AJ67: =' Populations'!E72 -> 0 | AK67: =IF(AJ67=0,0,($D$13/$AJ$13)*100000) -> 0 | AL67: =' Populations'!G72 -> 0 | AM67: =IF(AL67=0,0,($E$13/$AL$13)*100000) -> 0 | AN67: =' Populations'!I72 -> 0 | AO67: =IF(AN67=0,0,($F$13/$AN$13)*100000) -> 0 | AP67: =' Populations'!K72 -> 0 | AQ67: =IF(AP67=0,0,($G$13/$AP$13)*100000) -> 0 | AR67: =' Populations'!M72 -> 0 | AS67: =IF(AR67=0,0,($G$13/$AR$13)*100000) -> 0 | AT67: =' Populations'!O72 -> 0 | AU67: =IF(AT67=0,0,($I$13/$AT$13)*100000) -> 0 | AV67: =' Populations'!Q72 -> 0 | AW67: =IF(AV67=0,0,($J$13/$AV$13)*100000) -> 0 | AX67: =' Populations'!S72 -> 0 | AY67: =IF(AX67=0,0,($K$13/$AX$13)*100000) -> 0 | AZ67: =' Populations'!U72 -> 0 | BA67: =IF(AZ67=0,0,($L$13/$AZ$13)*100000) -> 0 | CS67: 0.087247 | CU67: =' Populations'!$B$18 -> 55-64 | CV67: =AI67*CS67 -> 0 | CW67: =AK67*CS67 -> 0 | CX67: =AM67*CS67 -> 0 | CY67: =AO67*CS67 -> 0 | CZ67: =AQ67*CS67 -> 0 | DA67: =AS67*CS67 -> 0 | DB67: =AU67*CS67 -> 0 | DC67: =AW67*CS67 -> 0 | DD67: =AY67*CS67 -> 0 | DE67: =BA67*CS67 -> 0
B68: =' Populations'!$B$19 -> 65-74 | AH68: =' Populations'!C73 -> 0 | AI68: =IF(AH68=0,0,($C$60/$AH$60)*100000) -> 0 | AJ68: =' Populations'!E73 -> 0 | AK68: =IF(AJ68=0,0,($D$14/$AJ$14)*100000) -> 0 | AL68: =' Populations'!G73 -> 0 | AM68: =IF(AL68=0,0,($E$14/$AL$14)*100000) -> 0 | AN68: =' Populations'!I73 -> 0 | AO68: =IF(AN68=0,0,($F$14/$AN$14)*100000) -> 0 | AP68: =' Populations'!K73 -> 0 | AQ68: =IF(AP68=0,0,($G$14/$AP$14)*100000) -> 0 | AR68: =' Populations'!M73 -> 0 | AS68: =IF(AR68=0,0,($G$14/$AR$14)*100000) -> 0 | AT68: =' Populations'!O73 -> 0 | AU68: =IF(AT68=0,0,($I$14/$AT$14)*100000) -> 0 | AV68: =' Populations'!Q73 -> 0 | AW68: =IF(AV68=0,0,($J$14/$AV$14)*100000) -> 0 | AX68: =' Populations'!S73 -> 0 | AY68: =IF(AX68=0,0,($K$14/$AX$14)*100000) -> 0 | AZ68: =' Populations'!U73 -> 0 | BA68: =IF(AZ68=0,0,($L$14/$AZ$14)*100000) -> 0 | CS68: 0.066037 | CU68: =' Populations'!$B$19 -> 65-74 | CV68: =AI68*CS68 -> 0 | CW68: =AK68*CS68 -> 0 | CX68: =AM68*CS68 -> 0 | CY68: =AO68*CS68 -> 0 | CZ68: =AQ68*CS68 -> 0 | DA68: =AS68*CS68 -> 0 | DB68: =AU68*CS68 -> 0 | DC68: =AW68*CS68 -> 0 | DD68: =AY68*CS68 -> 0 | DE68: =BA68*CS68 -> 0
B69: =' Populations'!$B$20 -> 75-84 | AH69: =' Populations'!C74 -> 0 | AI69: =IF(AH69=0,0,($C$60/$AH$60)*100000) -> 0 | AJ69: =' Populations'!E74 -> 0 | AK69: =IF(AJ69=0,0,($D$15/$AJ$15)*100000) -> 0 | AL69: =' Populations'!G74 -> 0 | AM69: =IF(AL69=0,0,($E$15/$AL$15)*100000) -> 0 | AN69: =' Populations'!I74 -> 0 | AO69: =IF(AN69=0,0,($F$15/$AN$15)*100000) -> 0 | AP69: =' Populations'!K74 -> 0 | AQ69: =IF(AP69=0,0,($G$15/$AP$15)*100000) -> 0 | AR69: =' Populations'!M74 -> 0 | AS69: =IF(AR69=0,0,($G$15/$AR$15)*100000) -> 0 | AT69: =' Populations'!O74 -> 0 | AU69: =IF(AT69=0,0,($I$15/$AT$15)*100000) -> 0 | AV69: =' Populations'!Q74 -> 0 | AW69: =IF(AV69=0,0,($J$15/$AV$15)*100000) -> 0 | AX69: =' Populations'!S74 -> 0 | AY69: =IF(AX69=0,0,($K$15/$AX$15)*100000) -> 0 | AZ69: =' Populations'!U74 -> 0 | BA69: =IF(AZ69=0,0,($L$15/$AZ$15)*100000) -> 0 | CS69: 0.044841 | CU69: =' Populations'!$B$20 -> 75-84 | CV69: =AI69*CS69 -> 0 | CW69: =AK69*CS69 -> 0 | CX69: =AM69*CS69 -> 0 | CY69: =AO69*CS69 -> 0 | CZ69: =AQ69*CS69 -> 0 | DA69: =AS69*CS69 -> 0 | DB69: =AU69*CS69 -> 0 | DC69: =AW69*CS69 -> 0 | DD69: =AY69*CS69 -> 0 | DE69: =BA69*CS69 -> 0
B70: =' Populations'!$B$21 -> 85+ | AH70: =' Populations'!C75 -> 0 | AI70: =IF(AH70=0,0,($C$60/$AH$60)*100000) -> 0 | AJ70: =' Populations'!E75 -> 0 | AK70: =IF(AJ70=0,0,($D$16/$AJ$16)*100000) -> 0 | AL70: =' Populations'!G75 -> 0 | AM70: =IF(AL70=0,0,($E$16/$AL$16)*100000) -> 0 | AN70: =' Populations'!I75 -> 0 | AO70: =IF(AN70=0,0,($F$16/$AN$16)*100000) -> 0 | AP70: =' Populations'!K75 -> 0 | AQ70: =IF(AP70=0,0,($G$16/$AP$16)*100000) -> 0 | AR70: =' Populations'!M75 -> 0 | AS70: =IF(AR70=0,0,($G$16/$AR$16)*100000) -> 0 | AT70: =' Populations'!O75 -> 0 | AU70: =IF(AT70=0,0,($I$16/$AT$16)*100000) -> 0 | AV70: =' Populations'!Q75 -> 0 | AW70: =IF(AV70=0,0,($J$16/$AV$16)*100000) -> 0 | AX70: =' Populations'!S75 -> 0 | AY70: =IF(AX70=0,0,($K$16/$AX$16)*100000) -> 0 | AZ70: =' Populations'!U75 -> 0 | BA70: =IF(AZ70=0,0,($L$16/$AZ$16)*100000) -> 0 | CS70: 0.015508 | CU70: =' Populations'!$B$21 -> 85+ | CV70: =AI70*CS70 -> 0 | CW70: =AK70*CS70 -> 0 | CX70: =AM70*CS70 -> 0 | CY70: =AO70*CS70 -> 0 | CZ70: =AQ70*CS70 -> 0 | DA70: =AS70*CS70 -> 0 | DB70: =AU70*CS70 -> 0 | DC70: =AW70*CS70 -> 0 | DD70: =AY70*CS70 -> 0 | DE70: =BA70*CS70 -> 0
B71: total | C71: =SUM(C58:C70) -> 0 | D71: =SUM(D58:D70) -> 0 | E71: =SUM(E58:E70) -> 0 | F71: =SUM(F58:F70) -> 0 | G71: =SUM(G58:G70) -> 0 | H71: =SUM(H58:H70) -> 0 | I71: =SUM(I58:I70) -> 0 | J71: =SUM(J58:J70) -> 0 | ... L71: =SUM(L58:L70) -> 0 | AH71: =SUM(AH58:AH70) -> 0 | AI71: =SUM(AI58:AI70) -> 0 | AJ71: =SUM(AJ58:AJ70) -> 0 | AK71: =SUM(AK58:AK70) -> 0 | AL71: =SUM(AL58:AL70) -> 0 | AM71: =SUM(AM58:AM70) -> 0 | AN71: =SUM(AN58:AN70) -> 0 | AO71: =SUM(AO58:AO70) -> 0 | ... BA71: =SUM(BA58:BA70) -> 0 | CU71: total | CV71: =SUM(CV58:CV70) -> 0 | CW71: =SUM(CW58:CW70) -> 0 | CX71: =SUM(CX58:CX70) -> 0 | CY71: =SUM(CY58:CY70) -> 0 | CZ71: =SUM(CZ58:CZ70) -> 0 | DA71: =SUM(DA58:DA70) -> 0 | DB71: =SUM(DB58:DB70) -> 0 | DC71: =SUM(DC58:DC70) -> 0 | ... DE71: =SUM(DE58:DE70) -> 0
A74: Previous Year: | C74: =' Populations'!A82 -> 0 | D74: Sex Data | F74: Demographic Data | CV74: Age-adjusted Rates per 100,000 population
B75: Age | C75: Number of deaths- Total | D75: Number of deaths- Male | E75: Number of deaths- Female | F75: =' Populations'!$I$8 -> White-Not Hispanic | G75: =' Populations'!$K$8 -> Hispanic | H75: =' Populations'!$M$8 -> Black-Not Hispanic | I75: =' Populations'!$O$8 -> Asian | J75: =' Populations'!$Q$8 -> American Indian/Alaska Native | K75: =' Populations'!$S$8 -> Other | L75: =' Populations'!$U$8 -> Other | AH75: State population - Total | AI75: Rate | AJ75: State population - Male | AK75: Rate | AL75: State population - Female | AM75: Rate | AN75: =' Populations'!$I$8 -> White-Not Hispanic | AO75: Rate | AP75: =' Populations'!$K$8 -> Hispanic | AQ75: Rate | AR75: =' Populations'!$M$8 -> Black-Not Hispanic | AS75: Rate | AT75: =' Populations'!$O$8 -> Asian | AU75: Rate | AV75: =' Populations'!$Q$8 -> American Indian/Alaska Native | AW75: Rate | AX75: =' Populations'!$S$8 -> Other | AY75: Rate | AZ75: =' Populations'!$U$8 -> Other | BA75: Rate | CS75: 2000 Population Weight | CU75: Age | CV75: Total | CW75: Male | CX75: Female | CY75: =' Populations'!$I$8 -> White-Not Hispanic | CZ75: =' Populations'!$K$8 -> Hispanic | DA75: =' Populations'!$M$8 -> Black-Not Hispanic | DB75: =' Populations'!$O$8 -> Asian | DC75: =' Populations'!$Q$8 -> American Indian/Alaska Native | DD75: =' Populations'!$S$8 -> Other | DE75: =' Populations'!$U$8 -> Other
B76: =' Populations'!$B$9 -> <1 | AH76: =' Populations'!C81 -> 0 | AI76: =IF(AH76=0,0,($C$4/$AH$4)*100000) -> 0 | AJ76: =' Populations'!E81 -> 0 | AK76: =IF(AJ76=0,0,($D$4/$AJ$4)*100000) -> 0 | AL76: =' Populations'!G81 -> 0 | AM76: =IF(AL76=0,0,($E$4/$AL$4)*100000) -> 0 | AN76: =' Populations'!I81 -> 0 | AO76: =IF(AN76=0,0,($F$4/$AN$4)*100000) -> 0 | AP76: =' Populations'!K81 -> 0 | AQ76: =IF(AP76=0,0,($G$4/$AP$4)*100000) -> 0 | AR76: =' Populations'!M81 -> 0 | AS76: =IF(AR76=0,0,($H$4/$AR$4)*100000) -> 0 | AT76: =' Populations'!O81 -> 0 | AU76: =IF(AT76=0,0,($I$4/$AT$4)*100000) -> 0 | AV76: =' Populations'!Q81 -> 0 | AW76: =IF(AV76=0,0,($J$4/$AV$4)*100000) -> 0 | AX76: =' Populations'!S81 -> 0 | AY76: =IF(AX76=0,0,($K$4/$AX$4)*100000) -> 0 | AZ76: =' Populations'!U81 -> 0 | BA76: =IF(AZ76=0,0,($L$4/$AZ$4)*100000) -> 0 | CS76: 0.013818 | CU76: =' Populations'!$B$9 -> <1 | CV76: =AI76*CS76 -> 0 | CW76: =AK76*CS76 -> 0 | CX76: =AM76*CS76 -> 0 | CY76: =AO76*CS76 -> 0 | CZ76: =AQ76*CS76 -> 0 | DA76: =AS76*CS76 -> 0 | DB76: =AU76*CS76 -> 0 | DC76: =AW76*CS76 -> 0 | DD76: =AY76*CS76 -> 0 | DE76: =BA76*CS76 -> 0
B77: =' Populations'!$B$10 -> 1-4 | AH77: =' Populations'!C82 -> 0 | AI77: =IF(AH77=0,0,($C$5/$AH$5)*100000) -> 0 | AJ77: =' Populations'!E82 -> 0 | AK77: =IF(AJ77=0,0,($D$5/$AJ$5)*100000) -> 0 | AL77: =' Populations'!G82 -> 0 | AM77: =IF(AL77=0,0,($E$5/$AL$5)*100000) -> 0 | AN77: =' Populations'!I82 -> 0 | AO77: =IF(AN77=0,0,($F$5/$AN$5)*100000) -> 0 | AP77: =' Populations'!K82 -> 0 | AQ77: =IF(AP77=0,0,($G$5/$AP$5)*100000) -> 0 | AR77: =' Populations'!M82 -> 0 | AS77: =IF(AR77=0,0,($G$5/$AR$5)*100000) -> 0 | AT77: =' Populations'!O82 -> 0 | AU77: =IF(AT77=0,0,($I$5/$AT$5)*100000) -> 0 | AV77: =' Populations'!Q82 -> 0 | AW77: =IF(AV77=0,0,($J$5/$AV$5)*100000) -> 0 | AX77: =' Populations'!S82 -> 0 | AY77: =IF(AX77=0,0,($K$5/$AX$5)*100000) -> 0 | AZ77: =' Populations'!U82 -> 0 | BA77: =IF(AZ77=0,0,($L$5/$AZ$5)*100000) -> 0 | CS77: 0.055317 | CU77: =' Populations'!$B$10 -> 1-4 | CV77: =AI77*CS77 -> 0 | CW77: =AK77*CS77 -> 0 | CX77: =AM77*CS77 -> 0 | CY77: =AO77*CS77 -> 0 | CZ77: =AQ77*CS77 -> 0 | DA77: =AS77*CS77 -> 0 | DB77: =AU77*CS77 -> 0 | DC77: =AW77*CS77 -> 0 | DD77: =AY77*CS77 -> 0 | DE77: =BA77*CS77 -> 0
B78: =' Populations'!$B$11 -> 5-9 | AH78: =' Populations'!C83 -> 0 | AI78: =IF(AH78=0,0,($C$78/$AH$78)*100000) -> 0 | AJ78: =' Populations'!E83 -> 0 | AK78: =IF(AJ78=0,0,($D$6/$AJ$6)*100000) -> 0 | AL78: =' Populations'!G83 -> 0 | AM78: =IF(AL78=0,0,($E$6/$AL$6)*100000) -> 0 | AN78: =' Populations'!I83 -> 0 | AO78: =IF(AN78=0,0,($F$6/$AN$6)*100000) -> 0 | AP78: =' Populations'!K83 -> 0 | AQ78: =IF(AP78=0,0,($G$6/$AP$6)*100000) -> 0 | AR78: =' Populations'!M83 -> 0 | AS78: =IF(AR78=0,0,($G$6/$AR$6)*100000) -> 0 | AT78: =' Populations'!O83 -> 0 | AU78: =IF(AT78=0,0,($I$6/$AT$6)*100000) -> 0 | AV78: =' Populations'!Q83 -> 0 | AW78: =IF(AV78=0,0,($J$6/$AV$6)*100000) -> 0 | AX78: =' Populations'!S83 -> 0 | AY78: =IF(AX78=0,0,($K$6/$AX$6)*100000) -> 0 | AZ78: =' Populations'!U83 -> 0 | BA78: =IF(AZ78=0,0,($L$6/$AZ$6)*100000) -> 0 | CS78: 0.072533 | CU78: =' Populations'!$B$11 -> 5-9 | CV78: =AI78*CS78 -> 0 | CW78: =AK78*CS78 -> 0 | CX78: =AM78*CS78 -> 0 | CY78: =AO78*CS78 -> 0 | CZ78: =AQ78*CS78 -> 0 | DA78: =AS78*CS78 -> 0 | DB78: =AU78*CS78 -> 0 | DC78: =AW78*CS78 -> 0 | DD78: =AY78*CS78 -> 0 | DE78: =BA78*CS78 -> 0
B79: =' Populations'!$B$12 -> 10-14 | AH79: =' Populations'!C84 -> 0 | AI79: =IF(AH79=0,0,($C$78/$AH$78)*100000) -> 0 | AJ79: =' Populations'!E84 -> 0 | AK79: =IF(AJ79=0,0,($D$7/$AJ$7)*100000) -> 0 | AL79: =' Populations'!G84 -> 0 | AM79: =IF(AL79=0,0,($E$7/$AL$7)*100000) -> 0 | AN79: =' Populations'!I84 -> 0 | AO79: =IF(AN79=0,0,($F$7/$AN$7)*100000) -> 0 | AP79: =' Populations'!K84 -> 0 | AQ79: =IF(AP79=0,0,($G$7/$AP$7)*100000) -> 0 | AR79: =' Populations'!M84 -> 0 | AS79: =IF(AR79=0,0,($G$7/$AR$7)*100000) -> 0 | AT79: =' Populations'!O84 -> 0 | AU79: =IF(AT79=0,0,($I$7/$AT$7)*100000) -> 0 | AV79: =' Populations'!Q84 -> 0 | AW79: =IF(AV79=0,0,($J$7/$AV$7)*100000) -> 0 | AX79: =' Populations'!S84 -> 0 | AY79: =IF(AX79=0,0,($K$7/$AX$7)*100000) -> 0 | AZ79: =' Populations'!U84 -> 0 | BA79: =IF(AZ79=0,0,($L$7/$AZ$7)*100000) -> 0 | CS79: 0.073032 | CU79: =' Populations'!$B$12 -> 10-14 | CV79: =AI79*CS79 -> 0 | CW79: =AK79*CS79 -> 0 | CX79: =AM79*CS79 -> 0 | CY79: =AO79*CS79 -> 0 | CZ79: =AQ79*CS79 -> 0 | DA79: =AS79*CS79 -> 0 | DB79: =AU79*CS79 -> 0 | DC79: =AW79*CS79 -> 0 | DD79: =AY79*CS79 -> 0 | DE79: =BA79*CS79 -> 0
B80: =' Populations'!$B$13 -> 15-19 | AH80: =' Populations'!C85 -> 0 | AI80: =IF(AH80=0,0,($C$78/$AH$78)*100000) -> 0 | AJ80: =' Populations'!E85 -> 0 | AK80: =IF(AJ80=0,0,($D$8/$AJ$8)*100000) -> 0 | AL80: =' Populations'!G85 -> 0 | AM80: =IF(AL80=0,0,($E$8/$AL$8)*100000) -> 0 | AN80: =' Populations'!I85 -> 0 | AO80: =IF(AN80=0,0,($F$8/$AN$8)*100000) -> 0 | AP80: =' Populations'!K85 -> 0 | AQ80: =IF(AP80=0,0,($G$8/$AP$8)*100000) -> 0 | AR80: =' Populations'!M85 -> 0 | AS80: =IF(AR80=0,0,($G$8/$AR$8)*100000) -> 0 | AT80: =' Populations'!O85 -> 0 | AU80: =IF(AT80=0,0,($I$8/$AT$8)*100000) -> 0 | AV80: =' Populations'!Q85 -> 0 | AW80: =IF(AV80=0,0,($J$8/$AV$8)*100000) -> 0 | AX80: =' Populations'!S85 -> 0 | AY80: =IF(AX80=0,0,($K$8/$AX$8)*100000) -> 0 | AZ80: =' Populations'!U85 -> 0 | BA80: =IF(AZ80=0,0,($L$8/$AZ$8)*100000) -> 0 | CS80: 0.072169 | CU80: =' Populations'!$B$13 -> 15-19 | CV80: =AI80*CS80 -> 0 | CW80: =AK80*CS80 -> 0 | CX80: =AM80*CS80 -> 0 | CY80: =AO80*CS80 -> 0 | CZ80: =AQ80*CS80 -> 0 | DA80: =AS80*CS80 -> 0 | DB80: =AU80*CS80 -> 0 | DC80: =AW80*CS80 -> 0 | DD80: =AY80*CS80 -> 0 | DE80: =BA80*CS80 -> 0
B81: =' Populations'!$B$14 -> 20-24 | AH81: =' Populations'!C86 -> 0 | AI81: =IF(AH81=0,0,($C$78/$AH$78)*100000) -> 0 | AJ81: =' Populations'!E86 -> 0 | AK81: =IF(AJ81=0,0,($D$9/$AJ$9)*100000) -> 0 | AL81: =' Populations'!G86 -> 0 | AM81: =IF(AL81=0,0,($E$9/$AL$9)*100000) -> 0 | AN81: =' Populations'!I86 -> 0 | AO81: =IF(AN81=0,0,($F$9/$AN$9)*100000) -> 0 | AP81: =' Populations'!K86 -> 0 | AQ81: =IF(AP81=0,0,($G$9/$AP$9)*100000) -> 0 | AR81: =' Populations'!M86 -> 0 | AS81: =IF(AR81=0,0,($G$9/$AR$9)*100000) -> 0 | AT81: =' Populations'!O86 -> 0 | AU81: =IF(AT81=0,0,($I$9/$AT$9)*100000) -> 0 | AV81: =' Populations'!Q86 -> 0 | AW81: =IF(AV81=0,0,($J$9/$AV$9)*100000) -> 0 | AX81: =' Populations'!S86 -> 0 | AY81: =IF(AX81=0,0,($K$9/$AX$9)*100000) -> 0 | AZ81: =' Populations'!U86 -> 0 | BA81: =IF(AZ81=0,0,($L$9/$AZ$9)*100000) -> 0 | CS81: 0.066478 | CU81: =' Populations'!$B$14 -> 20-24 | CV81: =AI81*CS81 -> 0 | CW81: =AK81*CS81 -> 0 | CX81: =AM81*CS81 -> 0 | CY81: =AO81*CS81 -> 0 | CZ81: =AQ81*CS81 -> 0 | DA81: =AS81*CS81 -> 0 | DB81: =AU81*CS81 -> 0 | DC81: =AW81*CS81 -> 0 | DD81: =AY81*CS81 -> 0 | DE81: =BA81*CS81 -> 0
B82: =' Populations'!$B$15 -> 25-34 | AH82: =' Populations'!C87 -> 0 | AI82: =IF(AH82=0,0,($C$78/$AH$78)*100000) -> 0 | AJ82: =' Populations'!E87 -> 0 | AK82: =IF(AJ82=0,0,($D$10/$AJ$10)*100000) -> 0 | AL82: =' Populations'!G87 -> 0 | AM82: =IF(AL82=0,0,($E$10/$AL$10)*100000) -> 0 | AN82: =' Populations'!I87 -> 0 | AO82: =IF(AN82=0,0,($F$10/$AN$10)*100000) -> 0 | AP82: =' Populations'!K87 -> 0 | AQ82: =IF(AP82=0,0,($G$10/$AP$10)*100000) -> 0 | AR82: =' Populations'!M87 -> 0 | AS82: =IF(AR82=0,0,($G$10/$AR$10)*100000) -> 0 | AT82: =' Populations'!O87 -> 0 | AU82: =IF(AT82=0,0,($I$10/$AT$10)*100000) -> 0 | AV82: =' Populations'!Q87 -> 0 | AW82: =IF(AV82=0,0,($J$10/$AV$10)*100000) -> 0 | AX82: =' Populations'!S87 -> 0 | AY82: =IF(AX82=0,0,($K$10/$AX$10)*100000) -> 0 | AZ82: =' Populations'!U87 -> 0 | BA82: =IF(AZ82=0,0,($L$10/$AZ$10)*100000) -> 0 | CS82: 0.135573 | CU82: =' Populations'!$B$15 -> 25-34 | CV82: =AI82*CS82 -> 0 | CW82: =AK82*CS82 -> 0 | CX82: =AM82*CS82 -> 0 | CY82: =AO82*CS82 -> 0 | CZ82: =AQ82*CS82 -> 0 | DA82: =AS82*CS82 -> 0 | DB82: =AU82*CS82 -> 0 | DC82: =AW82*CS82 -> 0 | DD82: =AY82*CS82 -> 0 | DE82: =BA82*CS82 -> 0
B83: =' Populations'!$B$16 -> 35-44 | AH83: =' Populations'!C88 -> 0 | AI83: =IF(AH83=0,0,($C$78/$AH$78)*100000) -> 0 | AJ83: =' Populations'!E88 -> 0 | AK83: =IF(AJ83=0,0,($D$11/$AJ$11)*100000) -> 0 | AL83: =' Populations'!G88 -> 0 | AM83: =IF(AL83=0,0,($E$11/$AL$11)*100000) -> 0 | AN83: =' Populations'!I88 -> 0 | AO83: =IF(AN83=0,0,($F$11/$AN$11)*100000) -> 0 | AP83: =' Populations'!K88 -> 0 | AQ83: =IF(AP83=0,0,($G$11/$AP$11)*100000) -> 0 | AR83: =' Populations'!M88 -> 0 | AS83: =IF(AR83=0,0,($G$11/$AR$11)*100000) -> 0 | AT83: =' Populations'!O88 -> 0 | AU83: =IF(AT83=0,0,($I$11/$AT$11)*100000) -> 0 | AV83: =' Populations'!Q88 -> 0 | AW83: =IF(AV83=0,0,($J$11/$AV$11)*100000) -> 0 | AX83: =' Populations'!S88 -> 0 | AY83: =IF(AX83=0,0,($K$11/$AX$11)*100000) -> 0 | AZ83: =' Populations'!U88 -> 0 | BA83: =IF(AZ83=0,0,($L$11/$AZ$11)*100000) -> 0 | CS83: 0.162613 | CU83: =' Populations'!$B$16 -> 35-44 | CV83: =AI83*CS83 -> 0 | CW83: =AK83*CS83 -> 0 | CX83: =AM83*CS83 -> 0 | CY83: =AO83*CS83 -> 0 | CZ83: =AQ83*CS83 -> 0 | DA83: =AS83*CS83 -> 0 | DB83: =AU83*CS83 -> 0 | DC83: =AW83*CS83 -> 0 | DD83: =AY83*CS83 -> 0 | DE83: =BA83*CS83 -> 0
B84: =' Populations'!$B$17 -> 45-54 | AH84: =' Populations'!C89 -> 0 | AI84: =IF(AH84=0,0,($C$78/$AH$78)*100000) -> 0 | AJ84: =' Populations'!E89 -> 0 | AK84: =IF(AJ84=0,0,($D$12/$AJ$12)*100000) -> 0 | AL84: =' Populations'!G89 -> 0 | AM84: =IF(AL84=0,0,($E$12/$AL$12)*100000) -> 0 | AN84: =' Populations'!I89 -> 0 | AO84: =IF(AN84=0,0,($F$12/$AN$12)*100000) -> 0 | AP84: =' Populations'!K89 -> 0 | AQ84: =IF(AP84=0,0,($G$12/$AP$12)*100000) -> 0 | AR84: =' Populations'!M89 -> 0 | AS84: =IF(AR84=0,0,($G$12/$AR$12)*100000) -> 0 | AT84: =' Populations'!O89 -> 0 | AU84: =IF(AT84=0,0,($I$12/$AT$12)*100000) -> 0 | AV84: =' Populations'!Q89 -> 0 | AW84: =IF(AV84=0,0,($J$12/$AV$12)*100000) -> 0 | AX84: =' Populations'!S89 -> 0 | AY84: =IF(AX84=0,0,($K$12/$AX$12)*100000) -> 0 | AZ84: =' Populations'!U89 -> 0 | BA84: =IF(AZ84=0,0,($L$12/$AZ$12)*100000) -> 0 | CS84: 0.134834 | CU84: =' Populations'!$B$17 -> 45-54 | CV84: =AI84*CS84 -> 0 | CW84: =AK84*CS84 -> 0 | CX84: =AM84*CS84 -> 0 | CY84: =AO84*CS84 -> 0 | CZ84: =AQ84*CS84 -> 0 | DA84: =AS84*CS84 -> 0 | DB84: =AU84*CS84 -> 0 | DC84: =AW84*CS84 -> 0 | DD84: =AY84*CS84 -> 0 | DE84: =BA84*CS84 -> 0
B85: =' Populations'!$B$18 -> 55-64 | AH85: =' Populations'!C90 -> 0 | AI85: =IF(AH85=0,0,($C$78/$AH$78)*100000) -> 0 | AJ85: =' Populations'!E90 -> 0 | AK85: =IF(AJ85=0,0,($D$13/$AJ$13)*100000) -> 0 | AL85: =' Populations'!G90 -> 0 | AM85: =IF(AL85=0,0,($E$13/$AL$13)*100000) -> 0 | AN85: =' Populations'!I90 -> 0 | AO85: =IF(AN85=0,0,($F$13/$AN$13)*100000) -> 0 | AP85: =' Populations'!K90 -> 0 | AQ85: =IF(AP85=0,0,($G$13/$AP$13)*100000) -> 0 | AR85: =' Populations'!M90 -> 0 | AS85: =IF(AR85=0,0,($G$13/$AR$13)*100000) -> 0 | AT85: =' Populations'!O90 -> 0 | AU85: =IF(AT85=0,0,($I$13/$AT$13)*100000) -> 0 | AV85: =' Populations'!Q90 -> 0 | AW85: =IF(AV85=0,0,($J$13/$AV$13)*100000) -> 0 | AX85: =' Populations'!S90 -> 0 | AY85: =IF(AX85=0,0,($K$13/$AX$13)*100000) -> 0 | AZ85: =' Populations'!U90 -> 0 | BA85: =IF(AZ85=0,0,($L$13/$AZ$13)*100000) -> 0 | CS85: 0.087247 | CU85: =' Populations'!$B$18 -> 55-64 | CV85: =AI85*CS85 -> 0 | CW85: =AK85*CS85 -> 0 | CX85: =AM85*CS85 -> 0 | CY85: =AO85*CS85 -> 0 | CZ85: =AQ85*CS85 -> 0 | DA85: =AS85*CS85 -> 0 | DB85: =AU85*CS85 -> 0 | DC85: =AW85*CS85 -> 0 | DD85: =AY85*CS85 -> 0 | DE85: =BA85*CS85 -> 0
B86: =' Populations'!$B$19 -> 65-74 | AH86: =' Populations'!C91 -> 0 | AI86: =IF(AH86=0,0,($C$78/$AH$78)*100000) -> 0 | AJ86: =' Populations'!E91 -> 0 | AK86: =IF(AJ86=0,0,($D$14/$AJ$14)*100000) -> 0 | AL86: =' Populations'!G91 -> 0 | AM86: =IF(AL86=0,0,($E$14/$AL$14)*100000) -> 0 | AN86: =' Populations'!I91 -> 0 | AO86: =IF(AN86=0,0,($F$14/$AN$14)*100000) -> 0 | AP86: =' Populations'!K91 -> 0 | AQ86: =IF(AP86=0,0,($G$14/$AP$14)*100000) -> 0 | AR86: =' Populations'!M91 -> 0 | AS86: =IF(AR86=0,0,($G$14/$AR$14)*100000) -> 0 | AT86: =' Populations'!O91 -> 0 | AU86: =IF(AT86=0,0,($I$14/$AT$14)*100000) -> 0 | AV86: =' Populations'!Q91 -> 0 | AW86: =IF(AV86=0,0,($J$14/$AV$14)*100000) -> 0 | AX86: =' Populations'!S91 -> 0 | AY86: =IF(AX86=0,0,($K$14/$AX$14)*100000) -> 0 | AZ86: =' Populations'!U91 -> 0 | BA86: =IF(AZ86=0,0,($L$14/$AZ$14)*100000) -> 0 | CS86: 0.066037 | CU86: =' Populations'!$B$19 -> 65-74 | CV86: =AI86*CS86 -> 0 | CW86: =AK86*CS86 -> 0 | CX86: =AM86*CS86 -> 0 | CY86: =AO86*CS86 -> 0 | CZ86: =AQ86*CS86 -> 0 | DA86: =AS86*CS86 -> 0 | DB86: =AU86*CS86 -> 0 | DC86: =AW86*CS86 -> 0 | DD86: =AY86*CS86 -> 0 | DE86: =BA86*CS86 -> 0
B87: =' Populations'!$B$20 -> 75-84 | AH87: =' Populations'!C92 -> 0 | AI87: =IF(AH87=0,0,($C$78/$AH$78)*100000) -> 0 | AJ87: =' Populations'!E92 -> 0 | AK87: =IF(AJ87=0,0,($D$15/$AJ$15)*100000) -> 0 | AL87: =' Populations'!G92 -> 0 | AM87: =IF(AL87=0,0,($E$15/$AL$15)*100000) -> 0 | AN87: =' Populations'!I92 -> 0 | AO87: =IF(AN87=0,0,($F$15/$AN$15)*100000) -> 0 | AP87: =' Populations'!K92 -> 0 | AQ87: =IF(AP87=0,0,($G$15/$AP$15)*100000) -> 0 | AR87: =' Populations'!M92 -> 0 | AS87: =IF(AR87=0,0,($G$15/$AR$15)*100000) -> 0 | AT87: =' Populations'!O92 -> 0 | AU87: =IF(AT87=0,0,($I$15/$AT$15)*100000) -> 0 | AV87: =' Populations'!Q92 -> 0 | AW87: =IF(AV87=0,0,($J$15/$AV$15)*100000) -> 0 | AX87: =' Populations'!S92 -> 0 | AY87: =IF(AX87=0,0,($K$15/$AX$15)*100000) -> 0 | AZ87: =' Populations'!U92 -> 0 | BA87: =IF(AZ87=0,0,($L$15/$AZ$15)*100000) -> 0 | CS87: 0.044841 | CU87: =' Populations'!$B$20 -> 75-84 | CV87: =AI87*CS87 -> 0 | CW87: =AK87*CS87 -> 0 | CX87: =AM87*CS87 -> 0 | CY87: =AO87*CS87 -> 0 | CZ87: =AQ87*CS87 -> 0 | DA87: =AS87*CS87 -> 0 | DB87: =AU87*CS87 -> 0 | DC87: =AW87*CS87 -> 0 | DD87: =AY87*CS87 -> 0 | DE87: =BA87*CS87 -> 0
B88: =' Populations'!$B$21 -> 85+ | AH88: =' Populations'!C93 -> 0 | AI88: =IF(AH88=0,0,($C$78/$AH$78)*100000) -> 0 | AJ88: =' Populations'!E93 -> 0 | AK88: =IF(AJ88=0,0,($D$16/$AJ$16)*100000) -> 0 | AL88: =' Populations'!G93 -> 0 | AM88: =IF(AL88=0,0,($E$16/$AL$16)*100000) -> 0 | AN88: =' Populations'!I93 -> 0 | AO88: =IF(AN88=0,0,($F$16/$AN$16)*100000) -> 0 | AP88: =' Populations'!K93 -> 0 | AQ88: =IF(AP88=0,0,($G$16/$AP$16)*100000) -> 0 | AR88: =' Populations'!M93 -> 0 | AS88: =IF(AR88=0,0,($G$16/$AR$16)*100000) -> 0 | AT88: =' Populations'!O93 -> 0 | AU88: =IF(AT88=0,0,($I$16/$AT$16)*100000) -> 0 | AV88: =' Populations'!Q93 -> 0 | AW88: =IF(AV88=0,0,($J$16/$AV$16)*100000) -> 0 | AX88: =' Populations'!S93 -> 0 | AY88: =IF(AX88=0,0,($K$16/$AX$16)*100000) -> 0 | AZ88: =' Populations'!U93 -> 0 | BA88: =IF(AZ88=0,0,($L$16/$AZ$16)*100000) -> 0 | CS88: 0.015508 | CU88: =' Populations'!$B$21 -> 85+ | CV88: =AI88*CS88 -> 0 | CW88: =AK88*CS88 -> 0 | CX88: =AM88*CS88 -> 0 | CY88: =AO88*CS88 -> 0 | CZ88: =AQ88*CS88 -> 0 | DA88: =AS88*CS88 -> 0 | DB88: =AU88*CS88 -> 0 | DC88: =AW88*CS88 -> 0 | DD88: =AY88*CS88 -> 0 | DE88: =BA88*CS88 -> 0
B89: total | C89: =SUM(C76:C88) -> 0 | D89: =SUM(D76:D88) -> 0 | E89: =SUM(E76:E88) -> 0 | F89: =SUM(F76:F88) -> 0 | G89: =SUM(G76:G88) -> 0 | H89: =SUM(H76:H88) -> 0 | I89: =SUM(I76:I88) -> 0 | J89: =SUM(J76:J88) -> 0 | ... L89: =SUM(L76:L88) -> 0 | AH89: =SUM(AH76:AH88) -> 0 | AI89: =SUM(AI76:AI88) -> 0 | AJ89: =SUM(AJ76:AJ88) -> 0 | AK89: =SUM(AK76:AK88) -> 0 | AL89: =SUM(AL76:AL88) -> 0 | AM89: =SUM(AM76:AM88) -> 0 | AN89: =SUM(AN76:AN88) -> 0 | AO89: =SUM(AO76:AO88) -> 0 | ... BA89: =SUM(BA76:BA88) -> 0 | CU89: total | CV89: =SUM(CV76:CV88) -> 0 | CW89: =SUM(CW76:CW88) -> 0 | CX89: =SUM(CX76:CX88) -> 0 | CY89: =SUM(CY76:CY88) -> 0 | CZ89: =SUM(CZ76:CZ88) -> 0 | DA89: =SUM(DA76:DA88) -> 0 | DB89: =SUM(DB76:DB88) -> 0 | DC89: =SUM(DC76:DC88) -> 0 | ... DE89: =SUM(DE76:DE88) -> 0
A92: Previous Year: | C92: =' Populations'!A100 -> 0 | D92: Sex Data | F92: Demographic Data | CV92: Age-adjusted Rates per 100,000 population
B93: Age | C93: Number of deaths- Total | D93: Number of deaths- Male | E93: Number of deaths- Female | F93: =' Populations'!$I$8 -> White-Not Hispanic | G93: =' Populations'!$K$8 -> Hispanic | H93: =' Populations'!$M$8 -> Black-Not Hispanic | I93: =' Populations'!$O$8 -> Asian | J93: =' Populations'!$Q$8 -> American Indian/Alaska Native | K93: =' Populations'!$S$8 -> Other | L93: =' Populations'!$U$8 -> Other | AH93: State population - Total | AI93: Rate | AJ93: State population - Male | AK93: Rate | AL93: State population - Female | AM93: Rate | AN93: =' Populations'!$I$8 -> White-Not Hispanic | AO93: Rate | AP93: =' Populations'!$K$8 -> Hispanic | AQ93: Rate | AR93: =' Populations'!$M$8 -> Black-Not Hispanic | AS93: Rate | AT93: =' Populations'!$O$8 -> Asian | AU93: Rate | AV93: =' Populations'!$Q$8 -> American Indian/Alaska Native | AW93: Rate | AX93: =' Populations'!$S$8 -> Other | AY93: Rate | AZ93: =' Populations'!$U$8 -> Other | BA93: Rate | CS93: 2000 Population Weight | CU93: Age | CV93: Total | CW93: Male | CX93: Female | CY93: =' Populations'!$I$8 -> White-Not Hispanic | CZ93: =' Populations'!$K$8 -> Hispanic | DA93: =' Populations'!$M$8 -> Black-Not Hispanic | DB93: =' Populations'!$O$8 -> Asian | DC93: =' Populations'!$Q$8 -> American Indian/Alaska Native | DD93: =' Populations'!$S$8 -> Other | DE93: =' Populations'!$U$8 -> Other
B94: =' Populations'!$B$9 -> <1 | AH94: =' Populations'!C99 -> 0 | AI94: =IF(AH94=0,0,($C$4/$AH$4)*100000) -> 0 | AJ94: =' Populations'!E99 -> 0 | AK94: =IF(AJ94=0,0,($D$4/$AJ$4)*100000) -> 0 | AL94: =' Populations'!G99 -> 0 | AM94: =IF(AL94=0,0,($E$4/$AL$4)*100000) -> 0 | AN94: =' Populations'!I99 -> 0 | AO94: =IF(AN94=0,0,($F$4/$AN$4)*100000) -> 0 | AP94: =' Populations'!K99 -> 0 | AQ94: =IF(AP94=0,0,($G$4/$AP$4)*100000) -> 0 | AR94: =' Populations'!M99 -> 0 | AS94: =IF(AR94=0,0,($H$4/$AR$4)*100000) -> 0 | AT94: =' Populations'!O99 -> 0 | AU94: =IF(AT94=0,0,($I$4/$AT$4)*100000) -> 0 | AV94: =' Populations'!Q99 -> 0 | AW94: =IF(AV94=0,0,($J$4/$AV$4)*100000) -> 0 | AX94: =' Populations'!S99 -> 0 | AY94: =IF(AX94=0,0,($K$4/$AX$4)*100000) -> 0 | AZ94: =' Populations'!U99 -> 0 | BA94: =IF(AZ94=0,0,($L$4/$AZ$4)*100000) -> 0 | CS94: 0.013818 | CU94: =' Populations'!$B$9 -> <1 | CV94: =AI94*CS94 -> 0 | CW94: =AK94*CS94 -> 0 | CX94: =AM94*CS94 -> 0 | CY94: =AO94*CS94 -> 0 | CZ94: =AQ94*CS94 -> 0 | DA94: =AS94*CS94 -> 0 | DB94: =AU94*CS94 -> 0 | DC94: =AW94*CS94 -> 0 | DD94: =AY94*CS94 -> 0 | DE94: =BA94*CS94 -> 0
B95: =' Populations'!$B$10 -> 1-4 | AH95: =' Populations'!C100 -> 0 | AI95: =IF(AH95=0,0,($C$5/$AH$5)*100000) -> 0 | AJ95: =' Populations'!E100 -> 0 | AK95: =IF(AJ95=0,0,($D$5/$AJ$5)*100000) -> 0 | AL95: =' Populations'!G100 -> 0 | AM95: =IF(AL95=0,0,($E$5/$AL$5)*100000) -> 0 | AN95: =' Populations'!I100 -> 0 | AO95: =IF(AN95=0,0,($F$5/$AN$5)*100000) -> 0 | AP95: =' Populations'!K100 -> 0 | AQ95: =IF(AP95=0,0,($G$5/$AP$5)*100000) -> 0 | AR95: =' Populations'!M100 -> 0 | AS95: =IF(AR95=0,0,($G$5/$AR$5)*100000) -> 0 | AT95: =' Populations'!O100 -> 0 | AU95: =IF(AT95=0,0,($I$5/$AT$5)*100000) -> 0 | AV95: =' Populations'!Q100 -> 0 | AW95: =IF(AV95=0,0,($J$5/$AV$5)*100000) -> 0 | AX95: =' Populations'!S100 -> 0 | AY95: =IF(AX95=0,0,($K$5/$AX$5)*100000) -> 0 | AZ95: =' Populations'!U100 -> 0 | BA95: =IF(AZ95=0,0,($L$5/$AZ$5)*100000) -> 0 | CS95: 0.055317 | CU95: =' Populations'!$B$10 -> 1-4 | CV95: =AI95*CS95 -> 0 | CW95: =AK95*CS95 -> 0 | CX95: =AM95*CS95 -> 0 | CY95: =AO95*CS95 -> 0 | CZ95: =AQ95*CS95 -> 0 | DA95: =AS95*CS95 -> 0 | DB95: =AU95*CS95 -> 0 | DC95: =AW95*CS95 -> 0 | DD95: =AY95*CS95 -> 0 | DE95: =BA95*CS95 -> 0
B96: =' Populations'!$B$11 -> 5-9 | AH96: =' Populations'!C101 -> 0 | AI96: =IF(AH96=0,0,($C$6/$AH$6)*100000) -> 0 | AJ96: =' Populations'!E101 -> 0 | AK96: =IF(AJ96=0,0,($D$6/$AJ$6)*100000) -> 0 | AL96: =' Populations'!G101 -> 0 | AM96: =IF(AL96=0,0,($E$6/$AL$6)*100000) -> 0 | AN96: =' Populations'!I101 -> 0 | AO96: =IF(AN96=0,0,($F$6/$AN$6)*100000) -> 0 | AP96: =' Populations'!K101 -> 0 | AQ96: =IF(AP96=0,0,($G$6/$AP$6)*100000) -> 0 | AR96: =' Populations'!M101 -> 0 | AS96: =IF(AR96=0,0,($G$6/$AR$6)*100000) -> 0 | AT96: =' Populations'!O101 -> 0 | AU96: =IF(AT96=0,0,($I$6/$AT$6)*100000) -> 0 | AV96: =' Populations'!Q101 -> 0 | AW96: =IF(AV96=0,0,($J$6/$AV$6)*100000) -> 0 | AX96: =' Populations'!S101 -> 0 | AY96: =IF(AX96=0,0,($K$6/$AX$6)*100000) -> 0 | AZ96: =' Populations'!U101 -> 0 | BA96: =IF(AZ96=0,0,($L$6/$AZ$6)*100000) -> 0 | CS96: 0.072533 | CU96: =' Populations'!$B$11 -> 5-9 | CV96: =AI96*CS96 -> 0 | CW96: =AK96*CS96 -> 0 | CX96: =AM96*CS96 -> 0 | CY96: =AO96*CS96 -> 0 | CZ96: =AQ96*CS96 -> 0 | DA96: =AS96*CS96 -> 0 | DB96: =AU96*CS96 -> 0 | DC96: =AW96*CS96 -> 0 | DD96: =AY96*CS96 -> 0 | DE96: =BA96*CS96 -> 0
B97: =' Populations'!$B$12 -> 10-14 | AH97: =' Populations'!C102 -> 0 | AI97: =IF(AH97=0,0,($C$7/$AH$7)*100000) -> 0 | AJ97: =' Populations'!E102 -> 0 | AK97: =IF(AJ97=0,0,($D$7/$AJ$7)*100000) -> 0 | AL97: =' Populations'!G102 -> 0 | AM97: =IF(AL97=0,0,($E$7/$AL$7)*100000) -> 0 | AN97: =' Populations'!I102 -> 0 | AO97: =IF(AN97=0,0,($F$7/$AN$7)*100000) -> 0 | AP97: =' Populations'!K102 -> 0 | AQ97: =IF(AP97=0,0,($G$7/$AP$7)*100000) -> 0 | AR97: =' Populations'!M102 -> 0 | AS97: =IF(AR97=0,0,($G$7/$AR$7)*100000) -> 0 | AT97: =' Populations'!O102 -> 0 | AU97: =IF(AT97=0,0,($I$7/$AT$7)*100000) -> 0 | AV97: =' Populations'!Q102 -> 0 | AW97: =IF(AV97=0,0,($J$7/$AV$7)*100000) -> 0 | AX97: =' Populations'!S102 -> 0 | AY97: =IF(AX97=0,0,($K$7/$AX$7)*100000) -> 0 | AZ97: =' Populations'!U102 -> 0 | BA97: =IF(AZ97=0,0,($L$7/$AZ$7)*100000) -> 0 | CS97: 0.073032 | CU97: =' Populations'!$B$12 -> 10-14 | CV97: =AI97*CS97 -> 0 | CW97: =AK97*CS97 -> 0 | CX97: =AM97*CS97 -> 0 | CY97: =AO97*CS97 -> 0 | CZ97: =AQ97*CS97 -> 0 | DA97: =AS97*CS97 -> 0 | DB97: =AU97*CS97 -> 0 | DC97: =AW97*CS97 -> 0 | DD97: =AY97*CS97 -> 0 | DE97: =BA97*CS97 -> 0
B98: =' Populations'!$B$13 -> 15-19 | AH98: =' Populations'!C103 -> 0 | AI98: =IF(AH98=0,0,($C$8/$AH$8)*100000) -> 0 | AJ98: =' Populations'!E103 -> 0 | AK98: =IF(AJ98=0,0,($D$8/$AJ$8)*100000) -> 0 | AL98: =' Populations'!G103 -> 0 | AM98: =IF(AL98=0,0,($E$8/$AL$8)*100000) -> 0 | AN98: =' Populations'!I103 -> 0 | AO98: =IF(AN98=0,0,($F$8/$AN$8)*100000) -> 0 | AP98: =' Populations'!K103 -> 0 | AQ98: =IF(AP98=0,0,($G$8/$AP$8)*100000) -> 0 | AR98: =' Populations'!M103 -> 0 | AS98: =IF(AR98=0,0,($G$8/$AR$8)*100000) -> 0 | AT98: =' Populations'!O103 -> 0 | AU98: =IF(AT98=0,0,($I$8/$AT$8)*100000) -> 0 | AV98: =' Populations'!Q103 -> 0 | AW98: =IF(AV98=0,0,($J$8/$AV$8)*100000) -> 0 | AX98: =' Populations'!S103 -> 0 | AY98: =IF(AX98=0,0,($K$8/$AX$8)*100000) -> 0 | AZ98: =' Populations'!U103 -> 0 | BA98: =IF(AZ98=0,0,($L$8/$AZ$8)*100000) -> 0 | CS98: 0.072169 | CU98: =' Populations'!$B$13 -> 15-19 | CV98: =AI98*CS98 -> 0 | CW98: =AK98*CS98 -> 0 | CX98: =AM98*CS98 -> 0 | CY98: =AO98*CS98 -> 0 | CZ98: =AQ98*CS98 -> 0 | DA98: =AS98*CS98 -> 0 | DB98: =AU98*CS98 -> 0 | DC98: =AW98*CS98 -> 0 | DD98: =AY98*CS98 -> 0 | DE98: =BA98*CS98 -> 0
B99: =' Populations'!$B$14 -> 20-24 | AH99: =' Populations'!C104 -> 0 | AI99: =IF(AH99=0,0,($C$9/$AH$9)*100000) -> 0 | AJ99: =' Populations'!E104 -> 0 | AK99: =IF(AJ99=0,0,($D$9/$AJ$9)*100000) -> 0 | AL99: =' Populations'!G104 -> 0 | AM99: =IF(AL99=0,0,($E$9/$AL$9)*100000) -> 0 | AN99: =' Populations'!I104 -> 0 | AO99: =IF(AN99=0,0,($F$9/$AN$9)*100000) -> 0 | AP99: =' Populations'!K104 -> 0 | AQ99: =IF(AP99=0,0,($G$9/$AP$9)*100000) -> 0 | AR99: =' Populations'!M104 -> 0 | AS99: =IF(AR99=0,0,($G$9/$AR$9)*100000) -> 0 | AT99: =' Populations'!O104 -> 0 | AU99: =IF(AT99=0,0,($I$9/$AT$9)*100000) -> 0 | AV99: =' Populations'!Q104 -> 0 | AW99: =IF(AV99=0,0,($J$9/$AV$9)*100000) -> 0 | AX99: =' Populations'!S104 -> 0 | AY99: =IF(AX99=0,0,($K$9/$AX$9)*100000) -> 0 | AZ99: =' Populations'!U104 -> 0 | BA99: =IF(AZ99=0,0,($L$9/$AZ$9)*100000) -> 0 | CS99: 0.066478 | CU99: =' Populations'!$B$14 -> 20-24 | CV99: =AI99*CS99 -> 0 | CW99: =AK99*CS99 -> 0 | CX99: =AM99*CS99 -> 0 | CY99: =AO99*CS99 -> 0 | CZ99: =AQ99*CS99 -> 0 | DA99: =AS99*CS99 -> 0 | DB99: =AU99*CS99 -> 0 | DC99: =AW99*CS99 -> 0 | DD99: =AY99*CS99 -> 0 | DE99: =BA99*CS99 -> 0
B100: =' Populations'!$B$15 -> 25-34 | AH100: =' Populations'!C105 -> 0 | AI100: =IF(AH100=0,0,($C$10/$AH$10)*100000) -> 0 | AJ100: =' Populations'!E105 -> 0 | AK100: =IF(AJ100=0,0,($D$10/$AJ$10)*100000) -> 0 | AL100: =' Populations'!G105 -> 0 | AM100: =IF(AL100=0,0,($E$10/$AL$10)*100000) -> 0 | AN100: =' Populations'!I105 -> 0 | AO100: =IF(AN100=0,0,($F$10/$AN$10)*100000) -> 0 | AP100: =' Populations'!K105 -> 0 | AQ100: =IF(AP100=0,0,($G$10/$AP$10)*100000) -> 0 | AR100: =' Populations'!M105 -> 0 | AS100: =IF(AR100=0,0,($G$10/$AR$10)*100000) -> 0 | AT100: =' Populations'!O105 -> 0 | AU100: =IF(AT100=0,0,($I$10/$AT$10)*100000) -> 0 | AV100: =' Populations'!Q105 -> 0 | AW100: =IF(AV100=0,0,($J$10/$AV$10)*100000) -> 0 | AX100: =' Populations'!S105 -> 0 | AY100: =IF(AX100=0,0,($K$10/$AX$10)*100000) -> 0 | AZ100: =' Populations'!U105 -> 0 | BA100: =IF(AZ100=0,0,($L$10/$AZ$10)*100000) -> 0 | CS100: 0.135573 | CU100: =' Populations'!$B$15 -> 25-34 | CV100: =AI100*CS100 -> 0 | CW100: =AK100*CS100 -> 0 | CX100: =AM100*CS100 -> 0 | CY100: =AO100*CS100 -> 0 | CZ100: =AQ100*CS100 -> 0 | DA100: =AS100*CS100 -> 0 | DB100: =AU100*CS100 -> 0 | DC100: =AW100*CS100 -> 0 | DD100: =AY100*CS100 -> 0 | DE100: =BA100*CS100 -> 0
B101: =' Populations'!$B$16 -> 35-44 | AH101: =' Populations'!C106 -> 0 | AI101: =IF(AH101=0,0,($C$11/$AH$11)*100000) -> 0 | AJ101: =' Populations'!E106 -> 0 | AK101: =IF(AJ101=0,0,($D$11/$AJ$11)*100000) -> 0 | AL101: =' Populations'!G106 -> 0 | AM101: =IF(AL101=0,0,($E$11/$AL$11)*100000) -> 0 | AN101: =' Populations'!I106 -> 0 | AO101: =IF(AN101=0,0,($F$11/$AN$11)*100000) -> 0 | AP101: =' Populations'!K106 -> 0 | AQ101: =IF(AP101=0,0,($G$11/$AP$11)*100000) -> 0 | AR101: =' Populations'!M106 -> 0 | AS101: =IF(AR101=0,0,($G$11/$AR$11)*100000) -> 0 | AT101: =' Populations'!O106 -> 0 | AU101: =IF(AT101=0,0,($I$11/$AT$11)*100000) -> 0 | AV101: =' Populations'!Q106 -> 0 | AW101: =IF(AV101=0,0,($J$11/$AV$11)*100000) -> 0 | AX101: =' Populations'!S106 -> 0 | AY101: =IF(AX101=0,0,($K$11/$AX$11)*100000) -> 0 | AZ101: =' Populations'!U106 -> 0 | BA101: =IF(AZ101=0,0,($L$11/$AZ$11)*100000) -> 0 | CS101: 0.162613 | CU101: =' Populations'!$B$16 -> 35-44 | CV101: =AI101*CS101 -> 0 | CW101: =AK101*CS101 -> 0 | CX101: =AM101*CS101 -> 0 | CY101: =AO101*CS101 -> 0 | CZ101: =AQ101*CS101 -> 0 | DA101: =AS101*CS101 -> 0 | DB101: =AU101*CS101 -> 0 | DC101: =AW101*CS101 -> 0 | DD101: =AY101*CS101 -> 0 | DE101: =BA101*CS101 -> 0
B102: =' Populations'!$B$17 -> 45-54 | AH102: =' Populations'!C107 -> 0 | AI102: =IF(AH102=0,0,($C$12/$AH$12)*100000) -> 0 | AJ102: =' Populations'!E107 -> 0 | AK102: =IF(AJ102=0,0,($D$12/$AJ$12)*100000) -> 0 | AL102: =' Populations'!G107 -> 0 | AM102: =IF(AL102=0,0,($E$12/$AL$12)*100000) -> 0 | AN102: =' Populations'!I107 -> 0 | AO102: =IF(AN102=0,0,($F$12/$AN$12)*100000) -> 0 | AP102: =' Populations'!K107 -> 0 | AQ102: =IF(AP102=0,0,($G$12/$AP$12)*100000) -> 0 | AR102: =' Populations'!M107 -> 0 | AS102: =IF(AR102=0,0,($G$12/$AR$12)*100000) -> 0 | AT102: =' Populations'!O107 -> 0 | AU102: =IF(AT102=0,0,($I$12/$AT$12)*100000) -> 0 | AV102: =' Populations'!Q107 -> 0 | AW102: =IF(AV102=0,0,($J$12/$AV$12)*100000) -> 0 | AX102: =' Populations'!S107 -> 0 | AY102: =IF(AX102=0,0,($K$12/$AX$12)*100000) -> 0 | AZ102: =' Populations'!U107 -> 0 | BA102: =IF(AZ102=0,0,($L$12/$AZ$12)*100000) -> 0 | CS102: 0.134834 | CU102: =' Populations'!$B$17 -> 45-54 | CV102: =AI102*CS102 -> 0 | CW102: =AK102*CS102 -> 0 | CX102: =AM102*CS102 -> 0 | CY102: =AO102*CS102 -> 0 | CZ102: =AQ102*CS102 -> 0 | DA102: =AS102*CS102 -> 0 | DB102: =AU102*CS102 -> 0 | DC102: =AW102*CS102 -> 0 | DD102: =AY102*CS102 -> 0 | DE102: =BA102*CS102 -> 0
B103: =' Populations'!$B$18 -> 55-64 | AH103: =' Populations'!C108 -> 0 | AI103: =IF(AH103=0,0,($C$13/$AH$13)*100000) -> 0 | AJ103: =' Populations'!E108 -> 0 | AK103: =IF(AJ103=0,0,($D$13/$AJ$13)*100000) -> 0 | AL103: =' Populations'!G108 -> 0 | AM103: =IF(AL103=0,0,($E$13/$AL$13)*100000) -> 0 | AN103: =' Populations'!I108 -> 0 | AO103: =IF(AN103=0,0,($F$13/$AN$13)*100000) -> 0 | AP103: =' Populations'!K108 -> 0 | AQ103: =IF(AP103=0,0,($G$13/$AP$13)*100000) -> 0 | AR103: =' Populations'!M108 -> 0 | AS103: =IF(AR103=0,0,($G$13/$AR$13)*100000) -> 0 | AT103: =' Populations'!O108 -> 0 | AU103: =IF(AT103=0,0,($I$13/$AT$13)*100000) -> 0 | AV103: =' Populations'!Q108 -> 0 | AW103: =IF(AV103=0,0,($J$13/$AV$13)*100000) -> 0 | AX103: =' Populations'!S108 -> 0 | AY103: =IF(AX103=0,0,($K$13/$AX$13)*100000) -> 0 | AZ103: =' Populations'!U108 -> 0 | BA103: =IF(AZ103=0,0,($L$13/$AZ$13)*100000) -> 0 | CS103: 0.087247 | CU103: =' Populations'!$B$18 -> 55-64 | CV103: =AI103*CS103 -> 0 | CW103: =AK103*CS103 -> 0 | CX103: =AM103*CS103 -> 0 | CY103: =AO103*CS103 -> 0 | CZ103: =AQ103*CS103 -> 0 | DA103: =AS103*CS103 -> 0 | DB103: =AU103*CS103 -> 0 | DC103: =AW103*CS103 -> 0 | DD103: =AY103*CS103 -> 0 | DE103: =BA103*CS103 -> 0
B104: =' Populations'!$B$19 -> 65-74 | AH104: =' Populations'!C109 -> 0 | AI104: =IF(AH104=0,0,($C$14/$AH$14)*100000) -> 0 | AJ104: =' Populations'!E109 -> 0 | AK104: =IF(AJ104=0,0,($D$14/$AJ$14)*100000) -> 0 | AL104: =' Populations'!G109 -> 0 | AM104: =IF(AL104=0,0,($E$14/$AL$14)*100000) -> 0 | AN104: =' Populations'!I109 -> 0 | AO104: =IF(AN104=0,0,($F$14/$AN$14)*100000) -> 0 | AP104: =' Populations'!K109 -> 0 | AQ104: =IF(AP104=0,0,($G$14/$AP$14)*100000) -> 0 | AR104: =' Populations'!M109 -> 0 | AS104: =IF(AR104=0,0,($G$14/$AR$14)*100000) -> 0 | AT104: =' Populations'!O109 -> 0 | AU104: =IF(AT104=0,0,($I$14/$AT$14)*100000) -> 0 | AV104: =' Populations'!Q109 -> 0 | AW104: =IF(AV104=0,0,($J$14/$AV$14)*100000) -> 0 | AX104: =' Populations'!S109 -> 0 | AY104: =IF(AX104=0,0,($K$14/$AX$14)*100000) -> 0 | AZ104: =' Populations'!U109 -> 0 | BA104: =IF(AZ104=0,0,($L$14/$AZ$14)*100000) -> 0 | CS104: 0.066037 | CU104: =' Populations'!$B$19 -> 65-74 | CV104: =AI104*CS104 -> 0 | CW104: =AK104*CS104 -> 0 | CX104: =AM104*CS104 -> 0 | CY104: =AO104*CS104 -> 0 | CZ104: =AQ104*CS104 -> 0 | DA104: =AS104*CS104 -> 0 | DB104: =AU104*CS104 -> 0 | DC104: =AW104*CS104 -> 0 | DD104: =AY104*CS104 -> 0 | DE104: =BA104*CS104 -> 0
B105: =' Populations'!$B$20 -> 75-84 | AH105: =' Populations'!C110 -> 0 | AI105: =IF(AH105=0,0,($C$15/$AH$15)*100000) -> 0 | AJ105: =' Populations'!E110 -> 0 | AK105: =IF(AJ105=0,0,($D$15/$AJ$15)*100000) -> 0 | AL105: =' Populations'!G110 -> 0 | AM105: =IF(AL105=0,0,($E$15/$AL$15)*100000) -> 0 | AN105: =' Populations'!I110 -> 0 | AO105: =IF(AN105=0,0,($F$15/$AN$15)*100000) -> 0 | AP105: =' Populations'!K110 -> 0 | AQ105: =IF(AP105=0,0,($G$15/$AP$15)*100000) -> 0 | AR105: =' Populations'!M110 -> 0 | AS105: =IF(AR105=0,0,($G$15/$AR$15)*100000) -> 0 | AT105: =' Populations'!O110 -> 0 | AU105: =IF(AT105=0,0,($I$15/$AT$15)*100000) -> 0 | AV105: =' Populations'!Q110 -> 0 | AW105: =IF(AV105=0,0,($J$15/$AV$15)*100000) -> 0 | AX105: =' Populations'!S110 -> 0 | AY105: =IF(AX105=0,0,($K$15/$AX$15)*100000) -> 0 | AZ105: =' Populations'!U110 -> 0 | BA105: =IF(AZ105=0,0,($L$15/$AZ$15)*100000) -> 0 | CS105: 0.044841 | CU105: =' Populations'!$B$20 -> 75-84 | CV105: =AI105*CS105 -> 0 | CW105: =AK105*CS105 -> 0 | CX105: =AM105*CS105 -> 0 | CY105: =AO105*CS105 -> 0 | CZ105: =AQ105*CS105 -> 0 | DA105: =AS105*CS105 -> 0 | DB105: =AU105*CS105 -> 0 | DC105: =AW105*CS105 -> 0 | DD105: =AY105*CS105 -> 0 | DE105: =BA105*CS105 -> 0
B106: =' Populations'!$B$21 -> 85+ | AH106: =' Populations'!C111 -> 0 | AI106: =IF(AH106=0,0,($C$16/$AH$16)*100000) -> 0 | AJ106: =' Populations'!E111 -> 0 | AK106: =IF(AJ106=0,0,($D$16/$AJ$16)*100000) -> 0 | AL106: =' Populations'!G111 -> 0 | AM106: =IF(AL106=0,0,($E$16/$AL$16)*100000) -> 0 | AN106: =' Populations'!I111 -> 0 | AO106: =IF(AN106=0,0,($F$16/$AN$16)*100000) -> 0 | AP106: =' Populations'!K111 -> 0 | AQ106: =IF(AP106=0,0,($G$16/$AP$16)*100000) -> 0 | AR106: =' Populations'!M111 -> 0 | AS106: =IF(AR106=0,0,($G$16/$AR$16)*100000) -> 0 | AT106: =' Populations'!O111 -> 0 | AU106: =IF(AT106=0,0,($I$16/$AT$16)*100000) -> 0 | AV106: =' Populations'!Q111 -> 0 | AW106: =IF(AV106=0,0,($J$16/$AV$16)*100000) -> 0 | AX106: =' Populations'!S111 -> 0 | AY106: =IF(AX106=0,0,($K$16/$AX$16)*100000) -> 0 | AZ106: =' Populations'!U111 -> 0 | BA106: =IF(AZ106=0,0,($L$16/$AZ$16)*100000) -> 0 | CS106: 0.015508 | CU106: =' Populations'!$B$21 -> 85+ | CV106: =AI106*CS106 -> 0 | CW106: =AK106*CS106 -> 0 | CX106: =AM106*CS106 -> 0 | CY106: =AO106*CS106 -> 0 | CZ106: =AQ106*CS106 -> 0 | DA106: =AS106*CS106 -> 0 | DB106: =AU106*CS106 -> 0 | DC106: =AW106*CS106 -> 0 | DD106: =AY106*CS106 -> 0 | DE106: =BA106*CS106 -> 0
B107: total | C107: =SUM(C94:C106) -> 0 | D107: =SUM(D94:D106) -> 0 | E107: =SUM(E94:E106) -> 0 | F107: =SUM(F94:F106) -> 0 | G107: =SUM(G94:G106) -> 0 | H107: =SUM(H94:H106) -> 0 | I107: =SUM(I94:I106) -> 0 | J107: =SUM(J94:J106) -> 0 | ... L107: =SUM(L94:L106) -> 0 | AH107: =SUM(AH94:AH106) -> 0 | AI107: =SUM(AI94:AI106) -> 0 | AJ107: =SUM(AJ94:AJ106) -> 0 | AK107: =SUM(AK94:AK106) -> 0 | AL107: =SUM(AL94:AL106) -> 0 | AM107: =SUM(AM94:AM106) -> 0 | AN107: =SUM(AN94:AN106) -> 0 | AO107: =SUM(AO94:AO106) -> 0 | ... BA107: =SUM(BA94:BA106) -> 0 | CU107: total | CV107: =SUM(CV94:CV106) -> 0 | CW107: =SUM(CW94:CW106) -> 0 | CX107: =SUM(CX94:CX106) -> 0 | CY107: =SUM(CY94:CY106) -> 0 | CZ107: =SUM(CZ94:CZ106) -> 0 | DA107: =SUM(DA94:DA106) -> 0 | DB107: =SUM(DB94:DB106) -> 0 | DC107: =SUM(DC94:DC106) -> 0 | ... DE107: =SUM(DE94:DE106) -> 0
A110: Previous Year: | C110: =' Populations'!A118 -> 0 | D110: Sex Data | F110: Demographic Data | CV110: Age-adjusted Rates per 100,000 population
B111: Age | C111: Number of deaths- Total | D111: Number of deaths- Male | E111: Number of deaths- Female | F111: =' Populations'!$I$8 -> White-Not Hispanic | G111: =' Populations'!$K$8 -> Hispanic | H111: =' Populations'!$M$8 -> Black-Not Hispanic | I111: =' Populations'!$O$8 -> Asian | J111: =' Populations'!$Q$8 -> American Indian/Alaska Native | K111: =' Populations'!$S$8 -> Other | L111: =' Populations'!$U$8 -> Other | AH111: State population - Total | AI111: Rate | AJ111: State population - Male | AK111: Rate | AL111: State population - Female | AM111: Rate | AN111: =' Populations'!$I$8 -> White-Not Hispanic | AO111: Rate | AP111: =' Populations'!$K$8 -> Hispanic | AQ111: Rate | AR111: =' Populations'!$M$8 -> Black-Not Hispanic | AS111: Rate | AT111: =' Populations'!$O$8 -> Asian | AU111: Rate | AV111: =' Populations'!$Q$8 -> American Indian/Alaska Native | AW111: Rate | AX111: =' Populations'!$S$8 -> Other | AY111: Rate | AZ111: =' Populations'!$U$8 -> Other | BA111: Rate | CS111: 2000 Population Weight | CU111: Age | CV111: Total | CW111: Male | CX111: Female | CY111: =' Populations'!$I$8 -> White-Not Hispanic | CZ111: =' Populations'!$K$8 -> Hispanic | DA111: =' Populations'!$M$8 -> Black-Not Hispanic | DB111: =' Populations'!$O$8 -> Asian | DC111: =' Populations'!$Q$8 -> American Indian/Alaska Native | DD111: =' Populations'!$S$8 -> Other | DE111: =' Populations'!$U$8 -> Other
B112: =' Populations'!$B$9 -> <1 | AH112: =' Populations'!C117 -> 0 | AI112: =IF(AH112=0,0,($C$4/$AH$4)*100000) -> 0 | AJ112: =' Populations'!E117 -> 0 | AK112: =IF(AJ112=0,0,($D$4/$AJ$4)*100000) -> 0 | AL112: =' Populations'!G117 -> 0 | AM112: =IF(AL112=0,0,($E$4/$AL$4)*100000) -> 0 | AN112: =' Populations'!I117 -> 0 | AO112: =IF(AN112=0,0,($F$4/$AN$4)*100000) -> 0 | AP112: =' Populations'!K117 -> 0 | AQ112: =IF(AP112=0,0,($G$4/$AP$4)*100000) -> 0 | AR112: =' Populations'!M117 -> 0 | AS112: =IF(AR112=0,0,($H$4/$AR$4)*100000) -> 0 | AT112: =' Populations'!O117 -> 0 | AU112: =IF(AT112=0,0,($I$4/$AT$4)*100000) -> 0 | AV112: =' Populations'!Q117 -> 0 | AW112: =IF(AV112=0,0,($J$4/$AV$4)*100000) -> 0 | AX112: =' Populations'!S117 -> 0 | AY112: =IF(AX112=0,0,($K$4/$AX$4)*100000) -> 0 | AZ112: =' Populations'!U117 -> 0 | BA112: =IF(AZ112=0,0,($L$4/$AZ$4)*100000) -> 0 | CS112: 0.013818 | CU112: =' Populations'!$B$9 -> <1 | CV112: =AI112*CS112 -> 0 | CW112: =AK112*CS112 -> 0 | CX112: =AM112*CS112 -> 0 | CY112: =AO112*CS112 -> 0 | CZ112: =AQ112*CS112 -> 0 | DA112: =AS112*CS112 -> 0 | DB112: =AU112*CS112 -> 0 | DC112: =AW112*CS112 -> 0 | DD112: =AY112*CS112 -> 0 | DE112: =BA112*CS112 -> 0
...

Sheet Jumping
B1: Data Input Tables Instructions: Enter your Suicide-related injury data in the red cells below. The age-adjusted rates will automatically calculate in the results table. | F1: Optional: Unhide columns G through L to enter demographic data | M1: Optional: Unhide columns N through Z to enter health region data | AH1: Optional: Unhide columns AC through CA to show rate calculations and 2000 population weights | CU1: Results Table Age Adjusted Rates per 100,000. Results will calculate automatically. | CX1: Optional: Unhide columns CG through DA to show demographic and Regional rates
D2: Sex Data | F2: Demographic Data | M2: Region Data | CV2: Age-adjusted Rates per 100,000 population
B3: Age | C3: Number of deaths- Total | D3: Number of deaths- Male | E3: Number of deaths- Female | F3: =' Populations'!$I$8 -> White-Not Hispanic | G3: =' Populations'!$K$8 -> Hispanic | H3: =' Populations'!$M$8 -> Black-Not Hispanic | I3: =' Populations'!$O$8 -> Asian | J3: =' Populations'!$Q$8 -> American Indian/Alaska Native | K3: =' Populations'!$S$8 -> Other | L3: =' Populations'!$U$8 -> Other | M3: =#REF! -> #REF! | N3: =#REF! -> #REF! | O3: =#REF! -> #REF! | P3: =#REF! -> #REF! | Q3: =#REF! -> #REF! | R3: =#REF! -> #REF! | S3: =#REF! -> #REF! | T3: =#REF! -> #REF! | ... AF3: =#REF! -> #REF! | AH3: State population - Total | AI3: Rate | AJ3: State population - Male | AK3: Rate | AL3: State population - Female | AM3: Rate | AN3: =' Populations'!$I$8 -> White-Not Hispanic | AO3: Rate | AP3: =' Populations'!$K$8 -> Hispanic | AQ3: Rate | AR3: =' Populations'!$M$8 -> Black-Not Hispanic | AS3: Rate | AT3: =' Populations'!$O$8 -> Asian | AU3: Rate | AV3: =' Populations'!$Q$8 -> American Indian/Alaska Native | AW3: Rate | AX3: =' Populations'!$S$8 -> Other | AY3: Rate | AZ3: =' Populations'!$U$8 -> Other | BA3: Rate | BC3: =#REF! -> #REF! | BD3: Rate | BE3: =#REF! -> #REF! | BF3: Rate | BG3: =#REF! -> #REF! | BH3: Rate | BI3: =#REF! -> #REF! | BJ3: Rate | BK3: =#REF! -> #REF! | BL3: Rate | BM3: =#REF! -> #REF! | BN3: Rate | BO3: =#REF! -> #REF! | BP3: Rate | BQ3: =#REF! -> #REF! | BR3: Rate | BS3: =#REF! -> #REF! | BT3: Rate | BU3: =#REF! -> #REF! | BV3: Rate | BW3: =#REF! -> #REF! | BX3: Rate | BY3: =#REF! -> #REF! | BZ3: Rate | CA3: =#REF! -> #REF! | CB3: Rate | CC3: =#REF! -> #REF! | CD3: Rate | CE3: =#REF! -> #REF! | CF3: Rate | CG3: =#REF! -> #REF! | CH3: Rate | CI3: =#REF! -> #REF! | CJ3: Rate | CK3: =#REF! -> #REF! | CL3: Rate | CM3: =#REF! -> #REF! | CN3: Rate | CO3: =#REF! -> #REF! | CP3: Rate | CR3: 2000 population | CS3: Weight | CU3: Age | CV3: Total | CW3: Male | CX3: Female | CY3: =' Populations'!$I$8 -> White-Not Hispanic | CZ3: =' Populations'!$K$8 -> Hispanic | DA3: =' Populations'!$M$8 -> Black-Not Hispanic | DB3: =' Populations'!$O$8 -> Asian | DC3: =' Populations'!$Q$8 -> American Indian/Alaska Native | DD3: =' Populations'!$S$8 -> Other | DE3: =' Populations'!$U$8 -> Other | DF3: =#REF! -> #REF! | DG3: =#REF! -> #REF! | DH3: =#REF! -> #REF! | DI3: =#REF! -> #REF! | DJ3: =#REF! -> #REF! | DK3: =#REF! -> #REF! | DL3: =#REF! -> #REF! | DM3: =#REF! -> #REF! | ... DY3: =#REF! -> #REF!
B4: =' Populations'!$B$9 -> <1 | AH4: =' Populations'!C9 -> 0 | AI4: =IF(AH4=0,0,($C$4/$AH$4)*100000) -> 0 | AJ4: =' Populations'!E9 -> 0 | AK4: =IF(AJ4=0,0,($D$4/$AJ$4)*100000) -> 0 | AL4: =' Populations'!G9 -> 0 | AM4: =IF(AL4=0,0,($E$4/$AL$4)*100000) -> 0 | AN4: =' Populations'!I9 -> 0 | AO4: =IF(AN4=0,0,($F$4/$AN$4)*100000) -> 0 | AP4: =' Populations'!K9 -> 0 | AQ4: =IF(AP4=0,0,($G$4/$AP$4)*100000) -> 0 | AR4: =' Populations'!M9 -> 0 | AS4: =IF(AR4=0,0,($H$4/$AR$4)*100000) -> 0 | AT4: =' Populations'!O9 -> 0 | AU4: =IF(AT4=0,0,($I$4/$AT$4)*100000) -> 0 | AV4: =' Populations'!Q9 -> 0 | AW4: =IF(AV4=0,0,($J$4/$AV$4)*100000) -> 0 | AX4: =' Populations'!S9 -> 0 | AY4: =IF(AX4=0,0,($K$4/$AX$4)*100000) -> 0 | AZ4: =' Populations'!U9 -> 0 | BA4: =IF(AZ4=0,0,($L$4/$AZ$4)*100000) -> 0 | BC4: =#REF! -> #REF! | BD4: =IF(BC4=0,0,($M$4/$BC$4)*100000) -> #REF! | BE4: =#REF! -> #REF! | BF4: =IF(BE4=0,0,($N$4/$BE$4)*100000) -> #REF! | BG4: =#REF! -> #REF! | BH4: =IF(BG4=0,0,($O$4/$BG$4)*100000) -> #REF! | BI4: =#REF! -> #REF! | BJ4: =IF(BI4=0,0,($P$4/$BI$4)*100000) -> #REF! | BK4: =#REF! -> #REF! | BL4: =IF(BK4=0,0,($Q$4/$BK$4)*100000) -> #REF! | BM4: =#REF! -> #REF! | BN4: =IF(BM4=0,0,($R$4/$BM$4)*100000) -> #REF! | BO4: =#REF! -> #REF! | BP4: =IF(BO4=0,0,($S$4/$BO$4)*100000) -> #REF! | BQ4: =#REF! -> #REF! | BR4: =IF(BQ4=0,0,($T$4/$BQ$4)*100000) -> #REF! | BS4: =#REF! -> #REF! | BT4: =IF(BS4=0,0,($U$4/$BS$4)*100000) -> #REF! | BU4: =#REF! -> #REF! | BV4: =IF(BU4=0,0,($V$4/$BU$4)*100000) -> #REF! | BW4: =#REF! -> #REF! | BX4: =IF(BW4=0,0,($W$4/$BW$4)*100000) -> #REF! | BY4: =#REF! -> #REF! | BZ4: =IF(BY4=0,0,($X$4/$BY$4)*100000) -> #REF! | CA4: =#REF! -> #REF! | CB4: =IF(CA4=0,0,($Y$4/$CA$4)*100000) -> #REF! | CC4: =#REF! -> #REF! | CD4: =IF(CC4=0,0,($Z$4/$CC$4)*100000) -> #REF! | CE4: =#REF! -> #REF! | CF4: =IF(CE4=0,0,($AA$4/$CE$4)*100000) -> #REF! | CG4: =#REF! -> #REF! | CH4: =IF(CG4=0,0,($AB$4/$CG$4)*100000) -> #REF! | CI4: =#REF! -> #REF! | CJ4: =IF(CI4=0,0,($AC$4/$CI$4)*100000) -> #REF! | CK4: =#REF! -> #REF! | CL4: =IF(CK4=0,0,($AD$4/$CK$4)*100000) -> #REF! | CM4: =#REF! -> #REF! | CN4: =IF(CM4=0,0,($AE$4/$CM$4)*100000) -> #REF! | CO4: =#REF! -> #REF! | CP4: =IF(CO4=0,0,($AF$4/$CO$4)*100000) -> #REF! | CR4: 3795 | CS4: 0.013818 | CU4: =' Populations'!$B$9 -> <1 | CV4: =AI4*CS4 -> 0 | CW4: =AK4*CS4 -> 0 | CX4: =AM4*CS4 -> 0 | CY4: =AO4*CS4 -> 0 | CZ4: =AQ4*CS4 -> 0 | DA4: =AS4*CS4 -> 0 | DB4: =AU4*CS4 -> 0 | DC4: =AW4*CS4 -> 0 | DD4: =AY4*CS4 -> 0 | DE4: =BA4*CS4 -> 0 | DF4: =BD4*CS4 -> #REF! | DG4: =BF4*CS4 -> #REF! | DH4: =BH4*CS4 -> #REF! | DI4: =BJ4*CS4 -> #REF! | DJ4: =BL4*CS4 -> #REF! | DK4: =BN4*CS4 -> #REF! | DL4: =BO4*CS4 -> #REF! | DM4: =BR4*CS4 -> #REF! | DN4: =BT4*CS4 -> #REF! | DO4: =BV4*CS4 -> #REF! | DP4: =BX4*CS4 -> #REF! | DQ4: =BZ4*CS4 -> #REF! | DR4: =CB4*CS4 -> #REF! | DS4: =CD4*CS4 -> #REF! | DT4: =CE4*CS4 -> #REF! | DU4: =CF4*CS4 -> #REF! | DV4: =CG4*CS4 -> #REF! | DW4: =CH4*CS4 -> #REF! | DX4: =CI4*CS4 -> #REF! | DY4: =CJ4*CS4 -> #REF!
B5: =' Populations'!$B$10 -> 1-4 | AH5: =' Populations'!C10 -> 0 | AI5: =IF(AH5=0,0,($C$5/$AH$5)*100000) -> 0 | AJ5: =' Populations'!E10 -> 0 | AK5: =IF(AJ5=0,0,($D$5/$AJ$5)*100000) -> 0 | AL5: =' Populations'!G10 -> 0 | AM5: =IF(AL5=0,0,($E$5/$AL$5)*100000) -> 0 | AN5: =' Populations'!I10 -> 0 | AO5: =IF(AN5=0,0,($F$5/$AN$5)*100000) -> 0 | AP5: =' Populations'!K10 -> 0 | AQ5: =IF(AP5=0,0,($G$5/$AP$5)*100000) -> 0 | AR5: =' Populations'!M10 -> 0 | AS5: =IF(AR5=0,0,($G$5/$AR$5)*100000) -> 0 | AT5: =' Populations'!O10 -> 0 | AU5: =IF(AT5=0,0,($I$5/$AT$5)*100000) -> 0 | AV5: =' Populations'!Q10 -> 0 | AW5: =IF(AV5=0,0,($J$5/$AV$5)*100000) -> 0 | AX5: =' Populations'!S10 -> 0 | AY5: =IF(AX5=0,0,($K$5/$AX$5)*100000) -> 0 | AZ5: =' Populations'!U10 -> 0 | BA5: =IF(AZ5=0,0,($L$5/$AZ$5)*100000) -> 0 | BC5: =#REF! -> #REF! | BD5: =IF(BC5=0,0,($M$5/$BC$5)*100000) -> #REF! | BE5: =#REF! -> #REF! | BF5: =IF(BE5=0,0,($N$5/$BE$5)*100000) -> #REF! | BG5: =#REF! -> #REF! | BH5: =IF(BG5=0,0,($O$5/$BG$5)*100000) -> #REF! | BI5: =#REF! -> #REF! | BJ5: =IF(BI5=0,0,($P$5/$BI$5)*100000) -> #REF! | BK5: =#REF! -> #REF! | BL5: =IF(BK5=0,0,($Q$5/$BK$5)*100000) -> #REF! | BM5: =#REF! -> #REF! | BN5: =IF(BM5=0,0,($R$5/$BM$5)*100000) -> #REF! | BO5: =#REF! -> #REF! | BP5: =IF(BO5=0,0,($S$5/$BO$5)*100000) -> #REF! | BQ5: =#REF! -> #REF! | BR5: =IF(BQ5=0,0,($T$5/$BQ$5)*100000) -> #REF! | BS5: =#REF! -> #REF! | BT5: =IF(BS5=0,0,($U$5/$BS$5)*100000) -> #REF! | BU5: =#REF! -> #REF! | BV5: =IF(BU5=0,0,($V$5/$BU$5)*100000) -> #REF! | BW5: =#REF! -> #REF! | BX5: =IF(BW5=0,0,($W$5/$BW$5)*100000) -> #REF! | BY5: =#REF! -> #REF! | BZ5: =IF(BY5=0,0,($X$5/$BY$5)*100000) -> #REF! | CA5: =#REF! -> #REF! | CB5: =IF(CA5=0,0,($Y$5/$CA$5)*100000) -> #REF! | CC5: =#REF! -> #REF! | CD5: =IF(CC5=0,0,($Z$5/$CC$5)*100000) -> #REF! | CE5: =#REF! -> #REF! | CF5: =IF(CE5=0,0,($AA$5/$CE$5)*100000) -> #REF! | CG5: =#REF! -> #REF! | CH5: =IF(CG5=0,0,($AB$4/$CG$5)*100000) -> #REF! | CI5: =#REF! -> #REF! | CJ5: =IF(CI5=0,0,($AC$4/$CI$5)*100000) -> #REF! | CK5: =#REF! -> #REF! | CL5: =IF(CK5=0,0,($AD$4/$CK$5)*100000) -> #REF! | CM5: =#REF! -> #REF! | CN5: =IF(CM5=0,0,($AE$4/$CM$5)*100000) -> #REF! | CO5: =#REF! -> #REF! | CP5: =IF(CO5=0,0,($AF$4/$CO$5)*100000) -> #REF! | CR5: 15192 | CS5: 0.055317 | CU5: =' Populations'!$B$10 -> 1-4 | CV5: =AI5*CS5 -> 0 | CW5: =AK5*CS5 -> 0 | CX5: =AM5*CS5 -> 0 | CY5: =AO5*CS5 -> 0 | CZ5: =AQ5*CS5 -> 0 | DA5: =AS5*CS5 -> 0 | DB5: =AU5*CS5 -> 0 | DC5: =AW5*CS5 -> 0 | DD5: =AY5*CS5 -> 0 | DE5: =BA5*CS5 -> 0 | DF5: =BD5*CS5 -> #REF! | DG5: =BF5*CS5 -> #REF! | DH5: =BH5*CS5 -> #REF! | DI5: =BJ5*CS5 -> #REF! | DJ5: =BL5*CS5 -> #REF! | DK5: =BN5*CS5 -> #REF! | DL5: =BO5*CS5 -> #REF! | DM5: =BR5*CS5 -> #REF! | DN5: =BT5*CS5 -> #REF! | DO5: =BV5*CS5 -> #REF! | DP5: =BX5*CS5 -> #REF! | DQ5: =BZ5*CS5 -> #REF! | DR5: =CB5*CS5 -> #REF! | DS5: =CD5*CS5 -> #REF! | DT5: =CE5*CS5 -> #REF! | DU5: =CF5*CS5 -> #REF! | DV5: =CG5*CS5 -> #REF! | DW5: =CH5*CS5 -> #REF! | DX5: =CI5*CS5 -> #REF! | DY5: =CJ5*CS5 -> #REF!
B6: =' Populations'!$B$11 -> 5-9 | AH6: =' Populations'!C11 -> 0 | AI6: =IF(AH6=0,0,($C$6/$AH$6)*100000) -> 0 | AJ6: =' Populations'!E11 -> 0 | AK6: =IF(AJ6=0,0,($D$6/$AJ$6)*100000) -> 0 | AL6: =' Populations'!G11 -> 0 | AM6: =IF(AL6=0,0,($E$6/$AL$6)*100000) -> 0 | AN6: =' Populations'!I11 -> 0 | AO6: =IF(AN6=0,0,($F$6/$AN$6)*100000) -> 0 | AP6: =' Populations'!K11 -> 0 | AQ6: =IF(AP6=0,0,($G$6/$AP$6)*100000) -> 0 | AR6: =' Populations'!M11 -> 0 | AS6: =IF(AR6=0,0,($G$6/$AR$6)*100000) -> 0 | AT6: =' Populations'!O11 -> 0 | AU6: =IF(AT6=0,0,($I$6/$AT$6)*100000) -> 0 | AV6: =' Populations'!Q11 -> 0 | AW6: =IF(AV6=0,0,($J$6/$AV$6)*100000) -> 0 | AX6: =' Populations'!S11 -> 0 | AY6: =IF(AX6=0,0,($K$6/$AX$6)*100000) -> 0 | AZ6: =' Populations'!U11 -> 0 | BA6: =IF(AZ6=0,0,($L$6/$AZ$6)*100000) -> 0 | BC6: =#REF! -> #REF! | BD6: =IF(BC6=0,0,($M$6/$BC$6)*100000) -> #REF! | BE6: =#REF! -> #REF! | BF6: =IF(BE6=0,0,($N$6/$BE$6)*100000) -> #REF! | BG6: =#REF! -> #REF! | BH6: =IF(BG6=0,0,($O$6/$BG$6)*100000) -> #REF! | BI6: =#REF! -> #REF! | BJ6: =IF(BI6=0,0,($P$6/$BI$6)*100000) -> #REF! | BK6: =#REF! -> #REF! | BL6: =IF(BK6=0,0,($Q$6/$BK$6)*100000) -> #REF! | BM6: =#REF! -> #REF! | BN6: =IF(BM6=0,0,($R$6/$BM$6)*100000) -> #REF! | BO6: =#REF! -> #REF! | BP6: =IF(BO6=0,0,($S$6/$BO$6)*100000) -> #REF! | BQ6: =#REF! -> #REF! | BR6: =IF(BQ6=0,0,($T$6/$BQ$6)*100000) -> #REF! | BS6: =#REF! -> #REF! | BT6: =IF(BS6=0,0,($U$6/$BS$6)*100000) -> #REF! | BU6: =#REF! -> #REF! | BV6: =IF(BU6=0,0,($V$6/$BU$6)*100000) -> #REF! | BW6: =#REF! -> #REF! | BX6: =IF(BW6=0,0,($W$6/$BW$6)*100000) -> #REF! | BY6: =#REF! -> #REF! | BZ6: =IF(BY6=0,0,($X$6/$BY$6)*100000) -> #REF! | CA6: =#REF! -> #REF! | CB6: =IF(CA6=0,0,($Y$6/$CA$6)*100000) -> #REF! | CC6: =#REF! -> #REF! | CD6: =IF(CC6=0,0,($Z$6/$CC$6)*100000) -> #REF! | CE6: =#REF! -> #REF! | CF6: =IF(CE6=0,0,($AA$6/$CE$6)*100000) -> #REF! | CG6: =#REF! -> #REF! | CH6: =IF(CG6=0,0,($AB$4/$CG$6)*100000) -> #REF! | CI6: =#REF! -> #REF! | CJ6: =IF(CI6=0,0,($AC$4/$CI$6)*100000) -> #REF! | CK6: =#REF! -> #REF! | CL6: =IF(CK6=0,0,($AD$4/$CK$6)*100000) -> #REF! | CM6: =#REF! -> #REF! | CN6: =IF(CM6=0,0,($AE$4/$CM$6)*100000) -> #REF! | CO6: =#REF! -> #REF! | CP6: =IF(CO6=0,0,($AF$4/$CO$6)*100000) -> #REF! | CR6: 19920 | CS6: 0.072533 | CU6: =' Populations'!$B$11 -> 5-9 | CV6: =AI6*CS6 -> 0 | CW6: =AK6*CS6 -> 0 | CX6: =AM6*CS6 -> 0 | CY6: =AO6*CS6 -> 0 | CZ6: =AQ6*CS6 -> 0 | DA6: =AS6*CS6 -> 0 | DB6: =AU6*CS6 -> 0 | DC6: =AW6*CS6 -> 0 | DD6: =AY6*CS6 -> 0 | DE6: =BA6*CS6 -> 0 | DF6: =BD6*CS6 -> #REF! | DG6: =BF6*CS6 -> #REF! | DH6: =BH6*CS6 -> #REF! | DI6: =BJ6*CS6 -> #REF! | DJ6: =BL6*CS6 -> #REF! | DK6: =BN6*CS6 -> #REF! | DL6: =BO6*CS6 -> #REF! | DM6: =BR6*CS6 -> #REF! | DN6: =BT6*CS6 -> #REF! | DO6: =BV6*CS6 -> #REF! | DP6: =BX6*CS6 -> #REF! | DQ6: =BZ6*CS6 -> #REF! | DR6: =CB6*CS6 -> #REF! | DS6: =CD6*CS6 -> #REF! | DT6: =CE6*CS6 -> #REF! | DU6: =CF6*CS6 -> #REF! | DV6: =CG6*CS6 -> #REF! | DW6: =CH6*CS6 -> #REF! | DX6: =CI6*CS6 -> #REF! | DY6: =CJ6*CS6 -> #REF!
B7: =' Populations'!$B$12 -> 10-14 | AH7: =' Populations'!C12 -> 0 | AI7: =IF(AH7=0,0,($C$7/$AH$7)*100000) -> 0 | AJ7: =' Populations'!E12 -> 0 | AK7: =IF(AJ7=0,0,($D$7/$AJ$7)*100000) -> 0 | AL7: =' Populations'!G12 -> 0 | AM7: =IF(AL7=0,0,($E$7/$AL$7)*100000) -> 0 | AN7: =' Populations'!I12 -> 0 | AO7: =IF(AN7=0,0,($F$7/$AN$7)*100000) -> 0 | AP7: =' Populations'!K12 -> 0 | AQ7: =IF(AP7=0,0,($G$7/$AP$7)*100000) -> 0 | AR7: =' Populations'!M12 -> 0 | AS7: =IF(AR7=0,0,($G$7/$AR$7)*100000) -> 0 | AT7: =' Populations'!O12 -> 0 | AU7: =IF(AT7=0,0,($I$7/$AT$7)*100000) -> 0 | AV7: =' Populations'!Q12 -> 0 | AW7: =IF(AV7=0,0,($J$7/$AV$7)*100000) -> 0 | AX7: =' Populations'!S12 -> 0 | AY7: =IF(AX7=0,0,($K$7/$AX$7)*100000) -> 0 | AZ7: =' Populations'!U12 -> 0 | BA7: =IF(AZ7=0,0,($L$7/$AZ$7)*100000) -> 0 | BC7: =#REF! -> #REF! | BD7: =IF(BC7=0,0,($M$7/$BC$7)*100000) -> #REF! | BE7: =#REF! -> #REF! | BF7: =IF(BE7=0,0,($N$7/$BE$7)*100000) -> #REF! | BG7: =#REF! -> #REF! | BH7: =IF(BG7=0,0,($O$7/$BG$7)*100000) -> #REF! | BI7: =#REF! -> #REF! | BJ7: =IF(BI7=0,0,($P$7/$BI$7)*100000) -> #REF! | BK7: =#REF! -> #REF! | BL7: =IF(BK7=0,0,($Q$7/$BK$7)*100000) -> #REF! | BM7: =#REF! -> #REF! | BN7: =IF(BM7=0,0,($R$7/$BM$7)*100000) -> #REF! | BO7: =#REF! -> #REF! | BP7: =IF(BO7=0,0,($S$7/$BO$7)*100000) -> #REF! | BQ7: =#REF! -> #REF! | BR7: =IF(BQ7=0,0,($T$7/$BQ$7)*100000) -> #REF! | BS7: =#REF! -> #REF! | BT7: =IF(BS7=0,0,($U$7/$BS$7)*100000) -> #REF! | BU7: =#REF! -> #REF! | BV7: =IF(BU7=0,0,($V$7/$BU$7)*100000) -> #REF! | BW7: =#REF! -> #REF! | BX7: =IF(BW7=0,0,($W$7/$BW$7)*100000) -> #REF! | BY7: =#REF! -> #REF! | BZ7: =IF(BY7=0,0,($X$7/$BY$7)*100000) -> #REF! | CA7: =#REF! -> #REF! | CB7: =IF(CA7=0,0,($Y$7/$CA$7)*100000) -> #REF! | CC7: =#REF! -> #REF! | CD7: =IF(CC7=0,0,($Z$7/$CC$7)*100000) -> #REF! | CE7: =#REF! -> #REF! | CF7: =IF(CE7=0,0,($AA$7/$CE$7)*100000) -> #REF! | CG7: =#REF! -> #REF! | CH7: =IF(CG7=0,0,($AB$4/$CG$7)*100000) -> #REF! | CI7: =#REF! -> #REF! | CJ7: =IF(CI7=0,0,($AC$4/$CI$7)*100000) -> #REF! | CK7: =#REF! -> #REF! | CL7: =IF(CK7=0,0,($AD$4/$CK$7)*100000) -> #REF! | CM7: =#REF! -> #REF! | CN7: =IF(CM7=0,0,($AE$4/$CM$7)*100000) -> #REF! | CO7: =#REF! -> #REF! | CP7: =IF(CO7=0,0,($AF$4/$CO$7)*100000) -> #REF! | CR7: 20057 | CS7: 0.073032 | CU7: =' Populations'!$B$12 -> 10-14 | CV7: =AI7*CS7 -> 0 | CW7: =AK7*CS7 -> 0 | CX7: =AM7*CS7 -> 0 | CY7: =AO7*CS7 -> 0 | CZ7: =AQ7*CS7 -> 0 | DA7: =AS7*CS7 -> 0 | DB7: =AU7*CS7 -> 0 | DC7: =AW7*CS7 -> 0 | DD7: =AY7*CS7 -> 0 | DE7: =BA7*CS7 -> 0 | DF7: =BD7*CS7 -> #REF! | DG7: =BF7*CS7 -> #REF! | DH7: =BH7*CS7 -> #REF! | DI7: =BJ7*CS7 -> #REF! | DJ7: =BL7*CS7 -> #REF! | DK7: =BN7*CS7 -> #REF! | DL7: =BO7*CS7 -> #REF! | DM7: =BR7*CS7 -> #REF! | DN7: =BT7*CS7 -> #REF! | DO7: =BV7*CS7 -> #REF! | DP7: =BX7*CS7 -> #REF! | DQ7: =BZ7*CS7 -> #REF! | DR7: =CB7*CS7 -> #REF! | DS7: =CD7*CS7 -> #REF! | DT7: =CE7*CS7 -> #REF! | DU7: =CF7*CS7 -> #REF! | DV7: =CG7*CS7 -> #REF! | DW7: =CH7*CS7 -> #REF! | DX7: =CI7*CS7 -> #REF! | DY7: =CJ7*CS7 -> #REF!
B8: =' Populations'!$B$13 -> 15-19 | AH8: =' Populations'!C13 -> 0 | AI8: =IF(AH8=0,0,($C$8/$AH$8)*100000) -> 0 | AJ8: =' Populations'!E13 -> 0 | AK8: =IF(AJ8=0,0,($D$8/$AJ$8)*100000) -> 0 | AL8: =' Populations'!G13 -> 0 | AM8: =IF(AL8=0,0,($E$8/$AL$8)*100000) -> 0 | AN8: =' Populations'!I13 -> 0 | AO8: =IF(AN8=0,0,($F$8/$AN$8)*100000) -> 0 | AP8: =' Populations'!K13 -> 0 | AQ8: =IF(AP8=0,0,($G$8/$AP$8)*100000) -> 0 | AR8: =' Populations'!M13 -> 0 | AS8: =IF(AR8=0,0,($G$8/$AR$8)*100000) -> 0 | AT8: =' Populations'!O13 -> 0 | AU8: =IF(AT8=0,0,($I$8/$AT$8)*100000) -> 0 | AV8: =' Populations'!Q13 -> 0 | AW8: =IF(AV8=0,0,($J$8/$AV$8)*100000) -> 0 | AX8: =' Populations'!S13 -> 0 | AY8: =IF(AX8=0,0,($K$8/$AX$8)*100000) -> 0 | AZ8: =' Populations'!U13 -> 0 | BA8: =IF(AZ8=0,0,($L$8/$AZ$8)*100000) -> 0 | BC8: =#REF! -> #REF! | BD8: =IF(BC8=0,0,($M$8/$BC$8)*100000) -> #REF! | BE8: =#REF! -> #REF! | BF8: =IF(BE8=0,0,($N$8/$BE$8)*100000) -> #REF! | BG8: =#REF! -> #REF! | BH8: =IF(BG8=0,0,($O$8/$BG$8)*100000) -> #REF! | BI8: =#REF! -> #REF! | BJ8: =IF(BI8=0,0,($P$8/$BI$8)*100000) -> #REF! | BK8: =#REF! -> #REF! | BL8: =IF(BK8=0,0,($Q$8/$BK$8)*100000) -> #REF! | BM8: =#REF! -> #REF! | BN8: =IF(BM8=0,0,($R$8/$BM$8)*100000) -> #REF! | BO8: =#REF! -> #REF! | BP8: =IF(BO8=0,0,($S$8/$BO$8)*100000) -> #REF! | BQ8: =#REF! -> #REF! | BR8: =IF(BQ8=0,0,($T$8/$BQ$8)*100000) -> #REF! | BS8: =#REF! -> #REF! | BT8: =IF(BS8=0,0,($U$8/$BC$8)*100000) -> #REF! | BU8: =#REF! -> #REF! | BV8: =IF(BU8=0,0,($V$8/$BU$8)*100000) -> #REF! | BW8: =#REF! -> #REF! | BX8: =IF(BW8=0,0,($W$8/$BW$8)*100000) -> #REF! | BY8: =#REF! -> #REF! | BZ8: =IF(BY8=0,0,($X$8/$BY$8)*100000) -> #REF! | CA8: =#REF! -> #REF! | CB8: =IF(CA8=0,0,($Y$8/$CA$8)*100000) -> #REF! | CC8: =#REF! -> #REF! | CD8: =IF(CC8=0,0,($Z$8/$CC$8)*100000) -> #REF! | CE8: =#REF! -> #REF! | CF8: =IF(CE8=0,0,($AA$8/$CE$8)*100000) -> #REF! | CG8: =#REF! -> #REF! | CH8: =IF(CG8=0,0,($AB$4/$CG$8)*100000) -> #REF! | CI8: =#REF! -> #REF! | CJ8: =IF(CI8=0,0,($AC$4/$CI$8)*100000) -> #REF! | CK8: =#REF! -> #REF! | CL8: =IF(CK8=0,0,($AD$4/$CK$8)*100000) -> #REF! | CM8: =#REF! -> #REF! | CN8: =IF(CM8=0,0,($AE$4/$CM$8)*100000) -> #REF! | CO8: =#REF! -> #REF! | CP8: =IF(CO8=0,0,($AF$4/$CO$8)*100000) -> #REF! | CR8: 19820 | CS8: 0.072169 | CU8: =' Populations'!$B$13 -> 15-19 | CV8: =AI8*CS8 -> 0 | CW8: =AK8*CS8 -> 0 | CX8: =AM8*CS8 -> 0 | CY8: =AO8*CS8 -> 0 | CZ8: =AQ8*CS8 -> 0 | DA8: =AS8*CS8 -> 0 | DB8: =AU8*CS8 -> 0 | DC8: =AW8*CS8 -> 0 | DD8: =AY8*CS8 -> 0 | DE8: =BA8*CS8 -> 0 | DF8: =BD8*CS8 -> #REF! | DG8: =BF8*CS8 -> #REF! | DH8: =BH8*CS8 -> #REF! | DI8: =BJ8*CS8 -> #REF! | DJ8: =BL8*CS8 -> #REF! | DK8: =BN8*CS8 -> #REF! | DL8: =BO8*CS8 -> #REF! | DM8: =BR8*CS8 -> #REF! | DN8: =BT8*CS8 -> #REF! | DO8: =BV8*CS8 -> #REF! | DP8: =BX8*CS8 -> #REF! | DQ8: =BZ8*CS8 -> #REF! | DR8: =CB8*CS8 -> #REF! | DS8: =CD8*CS8 -> #REF! | DT8: =CE8*CS8 -> #REF! | DU8: =CF8*CS8 -> #REF! | DV8: =CG8*CS8 -> #REF! | DW8: =CH8*CS8 -> #REF! | DX8: =CI8*CS8 -> #REF! | DY8: =CJ8*CS8 -> #REF!
B9: =' Populations'!$B$14 -> 20-24 | AH9: =' Populations'!C14 -> 0 | AI9: =IF(AH9=0,0,($C$9/$AH$9)*100000) -> 0 | AJ9: =' Populations'!E14 -> 0 | AK9: =IF(AJ9=0,0,($D$9/$AJ$9)*100000) -> 0 | AL9: =' Populations'!G14 -> 0 | AM9: =IF(AL9=0,0,($E$9/$AL$9)*100000) -> 0 | AN9: =' Populations'!I14 -> 0 | AO9: =IF(AN9=0,0,($F$9/$AN$9)*100000) -> 0 | AP9: =' Populations'!K14 -> 0 | AQ9: =IF(AP9=0,0,($G$9/$AP$9)*100000) -> 0 | AR9: =' Populations'!M14 -> 0 | AS9: =IF(AR9=0,0,($G$9/$AR$9)*100000) -> 0 | AT9: =' Populations'!O14 -> 0 | AU9: =IF(AT9=0,0,($I$9/$AT$9)*100000) -> 0 | AV9: =' Populations'!Q14 -> 0 | AW9: =IF(AV9=0,0,($J$9/$AV$9)*100000) -> 0 | AX9: =' Populations'!S14 -> 0 | AY9: =IF(AX9=0,0,($K$9/$AX$9)*100000) -> 0 | AZ9: =' Populations'!U14 -> 0 | BA9: =IF(AZ9=0,0,($L$9/$AZ$9)*100000) -> 0 | BC9: =#REF! -> #REF! | BD9: =IF(BC9=0,0,($M$9/$BC$9)*100000) -> #REF! | BE9: =#REF! -> #REF! | BF9: =IF(BE9=0,0,($N$9/$BE$9)*100000) -> #REF! | BG9: =#REF! -> #REF! | BH9: =IF(BG9=0,0,($O$9/$BG$9)*100000) -> #REF! | BI9: =#REF! -> #REF! | BJ9: =IF(BI9=0,0,($P$9/$BI$9)*100000) -> #REF! | BK9: =#REF! -> #REF! | BL9: =IF(BK9=0,0,($Q$9/$BK$9)*100000) -> #REF! | BM9: =#REF! -> #REF! | BN9: =IF(BM9=0,0,($R$9/$BM$9)*100000) -> #REF! | BO9: =#REF! -> #REF! | BP9: =IF(BO9=0,0,($S$9/$BO$9)*100000) -> #REF! | BQ9: =#REF! -> #REF! | BR9: =IF(BQ9=0,0,($T$9/$BQ$9)*100000) -> #REF! | BS9: =#REF! -> #REF! | BT9: =IF(BS9=0,0,($U$9/$BS$9)*100000) -> #REF! | BU9: =#REF! -> #REF! | BV9: =IF(BU9=0,0,($V$9/$BU$9)*100000) -> #REF! | BW9: =#REF! -> #REF! | BX9: =IF(BW9=0,0,($W$9/$BW$9)*100000) -> #REF! | BY9: =#REF! -> #REF! | BZ9: =IF(BY9=0,0,($X$9/$BY$9)*100000) -> #REF! | CA9: =#REF! -> #REF! | CB9: =IF(CA9=0,0,($Y$9/$CA$9)*100000) -> #REF! | CC9: =#REF! -> #REF! | CD9: =IF(CC9=0,0,($Z$9/$CC$9)*100000) -> #REF! | CE9: =#REF! -> #REF! | CF9: =IF(CE9=0,0,($AA$9/$CE$9)*100000) -> #REF! | CG9: =#REF! -> #REF! | CH9: =IF(CG9=0,0,($AB$4/$CG$9)*100000) -> #REF! | CI9: =#REF! -> #REF! | CJ9: =IF(CI9=0,0,($AC$4/$CI$9)*100000) -> #REF! | CK9: =#REF! -> #REF! | CL9: =IF(CK9=0,0,($AD$4/$CK$9)*100000) -> #REF! | CM9: =#REF! -> #REF! | CN9: =IF(CM9=0,0,($AE$4/$CM$9)*100000) -> #REF! | CO9: =#REF! -> #REF! | CP9: =IF(CO9=0,0,($AF$4/$CO$9)*100000) -> #REF! | CR9: 18257 | CS9: 0.066478 | CU9: =' Populations'!$B$14 -> 20-24 | CV9: =AI9*CS9 -> 0 | CW9: =AK9*CS9 -> 0 | CX9: =AM9*CS9 -> 0 | CY9: =AO9*CS9 -> 0 | CZ9: =AQ9*CS9 -> 0 | DA9: =AS9*CS9 -> 0 | DB9: =AU9*CS9 -> 0 | DC9: =AW9*CS9 -> 0 | DD9: =AY9*CS9 -> 0 | DE9: =BA9*CS9 -> 0 | DF9: =BD9*CS9 -> #REF! | DG9: =BF9*CS9 -> #REF! | DH9: =BH9*CS9 -> #REF! | DI9: =BJ9*CS9 -> #REF! | DJ9: =BL9*CS9 -> #REF! | DK9: =BN9*CS9 -> #REF! | DL9: =BO9*CS9 -> #REF! | DM9: =BR9*CS9 -> #REF! | DN9: =BT9*CS9 -> #REF! | DO9: =BV9*CS9 -> #REF! | DP9: =BX9*CS9 -> #REF! | DQ9: =BZ9*CS9 -> #REF! | DR9: =CB9*CS9 -> #REF! | DS9: =CD9*CS9 -> #REF! | DT9: =CE9*CS9 -> #REF! | DU9: =CF9*CS9 -> #REF! | DV9: =CG9*CS9 -> #REF! | DW9: =CH9*CS9 -> #REF! | DX9: =CI9*CS9 -> #REF! | DY9: =CJ9*CS9 -> #REF!
