Workbook

Sheet Instructions
A1: Name | B1: ICD-10-CM code | C1: ICD-10 notes
A2: 1a. Create Nonfatal MVT-Specific Injury Hospitalizations Data Set - The MVT-specific hospitalization indicators should be calculated based on first creating a MVT-related injury hospitalization subset. This is done using the ICD-10-CM codes for the MVT-related hospital discharge indicator in the State Injury Indicators listed below. For hospitalizations, one of these codes should be in the primary/principal diagnosis field for the case to be in the injury subset. *Only include cases if the 7th character of the code is A, B, C, or missing (reflects initial encounter, active treatment). T30-T32 do not have a 7th character. Create an injury hospitalization subset using the ICD-10-CM codes below:
A3: Nonfatal injury hospitalization for all injuries | B3: S00-S99
B4: T07-T34
B5: T36-T50 | C5: T36-T50 with a 6th character of 1, 2, 3, or 4 Note: Include T36.9, T37.9, T39.9, T41.4, T42.7, T43.9, T45.9, T47.9, and T49.9 with 5th character of 1, 2, 3, or 4) (Intent information for these codes is included in the 5thcharacter and not the 6th)
B6: T51-T65
B7: T66-T76
B8: T79
B9: O9A.2-O9A.5
B10: T84.04 | C10: T84.04 was retired and replaced by M97 in the FY2017 version of ICD-10-CM which went into effect on Oct 1, 2016.
B11: M97
A12: 1b. Select hospitalizations with any of the MVT ICD-10-CM codes in any diagnosis field listed below: *Only Include cases if the 7th character of the code is A or missing (reflects initial encounter, active treatment)
A15: Nonfatal Motor vehicle traffic hospitalization | B15: V02-V04 (.1, .9), V09.2, V09.3 | C15: MVT-Pedestrian
B16: V12-V14 (.3-.9), V19.4-V19.6, V19.9 | C16: MVT-Pedal cyclist
B17: V20-V28 (.3-.9), V29.4-V29.9 | C17: MVT-Motorcyclist
B18: V30-V79 (.4-.9), V83-V86 (.0-.3), V87.0-V87.8, V89.2 | C18: MVT-Occupant (and unspecified)
B19: V80.3-V80.5, V81.1, V82.1 | C19: MVT-Other
A20: 2a. Create Nonfatal MVT-Specific Injury Emergency Department (ED) Visit Data Set - These indicators should be calculated based on first creating a MVT-related injury emergency department visit subset. This is done using the instructions for ICD-10-CM codes for MVT-related emergency department indicator listed below: Include cases if the 7th character of the code is A, B, C, or missing (reflects initial encounter, active treatment)
A21: Nonfatal Injury ED visit | B21: S00-S99
B22: T07-T34
B23: T36-T50 | C23: T36-T50 with a 6th character of 1, 2, 3, or 4 Note: Include T36.9, T37.9, T39.9, T41.4, T42.7, T43.9, T45.9, T47.9, and T49.9 with 5th character of 1, 2, 3, or 4) (Intent information for these codes is included in the 5thcharacter and not the 6th)
B24: T51-T65
B25: T66-T76
B26: T79
B27: O9A.2-O9A.5
B28: T84.04
B29: M97
B30: V00-V99 | C30: For ICD10CM Injury Cause Codes select only 7th character of A or missing **Only include cases if the 7th character is A or missing (reflects initial encounter, active treatment)
B31: W00-X58
B32: X71-X83
B33: X92-Y09
B34: Y21-Y33
B35: Y35-Y38
A36: 2b. Select ED visits with any of the following MVT ICD-10-CM codes in any diagnosis field listed below: **Only Include cases if the 7th character of the code is A or missing (reflects initial encounter, active treatment)
A38: Nonfatal Motor vehicle traffic ED visit | B38: V02.1, V02.9, V03.1, V03.9, V04.1, V04.9, V09.2, V09.3 | C38: Pedestrian
B39: V12-V14 (.3-.9), V19.4-V19.6, V19.9 | C39: Pedal cyclist
B40: V20-V28 (.3-.9), V29.4-V29.9 | C40: Motorcyclist
B41: V30-V79 (.4-.9), V83-V86 (.0-.3), V87.0-V87.8, V89.2 | C41: Occupant (and unspecified)
B42: V80.3-V80.5, V81.1, V82.1 | C42: Other
A43: 3a. Create MVT-specific Deaths Data Set - The MVT-specific death indicators should be calculated based on first creating a MVT-related injury death subset. Limit deaths to those with an injury underlying cause of death:
A44: Injury underlying cause of death | B44: V01-Y36
B45: Y85-Y87
B46: Y89
B47: U01-U03
A48: 3b. Then select deaths with any of the TBI ICD-10-CM codes in any field of the multiple cause of death file:
A49: Motor vehicle traffic fatalities | B49: V02-V04 (.1, .9) | C49: MVT-Pedestrian
B50: V09.2
B51: V12-V14(.3-.9) | C51: MVT-Pedal cyclist
B52: V19(.4-.6)
B53: V20-V28(.3-.9) | C53: MVT-Motorcyclist
B54: V29(.4–.9)
B55: V30-V79(.4-.9) | C55: MVT-Occupant
B56: V83-V86(.0-.3)
B57: V80(.3-.5) | C57: MVT-Other
B58: V81.1
B59: V82.1
B60: V87(.0-.8) | C60: MVT-Unspecified
B61: V89.2

Sheet  Populations
B1: MVT-Specific State Injury Indicators Report
B2: State/Territor Population Data
B3: State/Territory: | E3: Data year:
C4: Enter your state name | E4: 2020 | F4: Enter your most recent data year
C7: Enter total population data by age group below | E7: Enter male population data by age group below | G7: Enter female population data by age group below | I7: Optional: Enter demographic population data | K7: Optional: Enter demographic population data | M7: Optional: Enter demographic population data | O7: Optional: Enter demographic population data | Q7: Optional: Enter demographic population data | S7: Optional: Enter demographic population data | U7: Optional: Enter demographic population data
B8: Age | C8: Total | E8: Male | G8: Female | I8: White-Not Hispanic | K8: Hispanic | M8: Black-Not Hispanic | O8: Asian | Q8: American Indian/Alaska Native | S8: Other | T8: Enter name of "Other" category in R8 | U8: Other | V8: Enter name of "Other" category in T8
A9: =E4 -> 2020 | B9: <1
B10: 1-4
B11: 5-9
B12: 10-14
B13: 15-19
B14: 20-24
B15: 25-34
B16: 35-44
B17: 45-54
B18: 55-64
B19: 65-74
B20: 75-84
B21: 85+
B22: Total | C22: =SUM(C9:C21) -> 0 | E22: =SUM(E9:E21) -> 0 | G22: =SUM(G9:G21) -> 0 | I22: =SUM(I9:I21) -> 0 | K22: =SUM(K9:K21) -> 0 | M22: =SUM(M9:M21) -> 0 | O22: =SUM(O9:O21) -> 0 | Q22: =SUM(Q9:Q21) -> 0 | S22: =SUM(S9:S21) -> 0 | U22: =SUM(U9:U21) -> 0
C25: Enter total population data by age group below | E25: Enter male population data by age group below | G25: Enter female population data by age group below | I25: Optional: Enter demographic population data | K25: Optional: Enter demographic population data | M25: Optional: Enter demographic population data | O25: Optional: Enter demographic population data | Q25: Optional: Enter demographic population data | S25: Optional: Enter demographic population data | U25: Optional: Enter demographic population data
A26: Modify year if needed | B26: Age | C26: Total | E26: Male | G26: Female | I26: White-Not Hispanic | K26: Hispanic | M26: Black-Not Hispanic | O26: Asian | Q26: American Indian/Alaska Native | S26: Other | T26: Enter name of "Other" category in R8 | U26: Other | V26: Enter name of "Other" category in T8
A27: 2019 | B27: <1
B28: 1-4
B29: 5-9
B30: 10-14
B31: 15-19
B32: 20-24
B33: 25-34
B34: 35-44
B35: 45-54
B36: 55-64
B37: 65-74
B38: 75-84
B39: 85+
B40: Total | C40: =SUM(C27:C39) -> 0 | E40: =SUM(E27:E39) -> 0 | G40: =SUM(G27:G39) -> 0 | I40: =SUM(I27:I39) -> 0 | K40: =SUM(K27:K39) -> 0 | M40: =SUM(M27:M39) -> 0 | O40: =SUM(O27:O39) -> 0 | Q40: =SUM(Q27:Q39) -> 0 | S40: =SUM(S27:S39) -> 0 | U40: =SUM(U27:U39) -> 0
C43: Enter total population data by age group below | E43: Enter male population data by age group below | G43: Enter female population data by age group below | I43: Optional: Enter demographic population data | K43: Optional: Enter demographic population data | M43: Optional: Enter demographic population data | O43: Optional: Enter demographic population data | Q43: Optional: Enter demographic population data | S43: Optional: Enter demographic population data | U43: Optional: Enter demographic population data
A44: Modify year if needed | B44: Age | C44: Total | E44: Male | G44: Female | I44: White-Not Hispanic | K44: Hispanic | M44: Black-Not Hispanic | O44: Asian | Q44: American Indian/Alaska Native | S44: Other | T44: Enter name of "Other" category in R8 | U44: Other | V44: Enter name of "Other" category in T8
A45: 2018 | B45: <1
B46: 1-4
B47: 5-9
B48: 10-14
B49: 15-19
B50: 20-24
B51: 25-34
B52: 35-44
B53: 45-54
B54: 55-64
B55: 65-74
B56: 75-84
B57: 85+
B58: Total | C58: =SUM(C45:C57) -> 0 | E58: =SUM(E45:E57) -> 0 | G58: =SUM(G45:G57) -> 0 | I58: =SUM(I45:I57) -> 0 | K58: =SUM(K45:K57) -> 0 | M58: =SUM(M45:M57) -> 0 | O58: =SUM(O45:O57) -> 0 | Q58: =SUM(Q45:Q57) -> 0 | S58: =SUM(S45:S57) -> 0 | U58: =SUM(U45:U57) -> 0
C61: Enter total population data by age group below | E61: Enter male population data by age group below | G61: Enter female population data by age group below | I61: Optional: Enter demographic population data | K61: Optional: Enter demographic population data | M61: Optional: Enter demographic population data | O61: Optional: Enter demographic population data | Q61: Optional: Enter demographic population data | S61: Optional: Enter demographic population data | U61: Optional: Enter demographic population data
A62: Modify year if needed | B62: Age | C62: Total | E62: Male | G62: Female | I62: White-Not Hispanic | K62: Hispanic | M62: Black-Not Hispanic | O62: Asian | Q62: American Indian/Alaska Native | S62: Other | T62: Enter name of "Other" category in R8 | U62: Other | V62: Enter name of "Other" category in T8
A63: 2017 | B63: <1
B64: 1-4
B65: 5-9
B66: 10-14
B67: 15-19
B68: 20-24
B69: 25-34
B70: 35-44
B71: 45-54
B72: 55-64
B73: 65-74
B74: 75-84
B75: 85+
B76: Total | C76: =SUM(C63:C75) -> 0 | E76: =SUM(E63:E75) -> 0 | G76: =SUM(G63:G75) -> 0 | I76: =SUM(I63:I75) -> 0 | K76: =SUM(K63:K75) -> 0 | M76: =SUM(M63:M75) -> 0 | O76: =SUM(O63:O75) -> 0 | Q76: =SUM(Q63:Q75) -> 0 | S76: =SUM(S63:S75) -> 0 | U76: =SUM(U63:U75) -> 0
C79: Enter total population data by age group below | E79: Enter male population data by age group below | G79: Enter female population data by age group below | I79: Optional: Enter demographic population data | K79: Optional: Enter demographic population data | M79: Optional: Enter demographic population data | O79: Optional: Enter demographic population data | Q79: Optional: Enter demographic population data | S79: Optional: Enter demographic population data | U79: Optional: Enter demographic population data
A80: Modify year if needed | B80: Age | C80: Total | E80: Male | G80: Female | I80: White-Not Hispanic | K80: Hispanic | M80: Black-Not Hispanic | O80: Asian | Q80: American Indian/Alaska Native | S80: Other | T80: Enter name of "Other" category in S8 | U80: Other | V80: Enter name of "Other" category in U8
A81: 2016 | B81: <1
B82: 1-4
B83: 5-9
B84: 10-14
B85: 15-19
B86: 20-24
B87: 25-34
B88: 35-44
B89: 45-54
B90: 55-64
B91: 65-74
B92: 75-84
B93: 85+
B94: Total | C94: =SUM(C81:C93) -> 0 | E94: =SUM(E81:E93) -> 0 | G94: =SUM(G81:G93) -> 0 | I94: =SUM(I81:I93) -> 0 | K94: =SUM(K81:K93) -> 0 | M94: =SUM(M81:M93) -> 0 | O94: =SUM(O81:O93) -> 0 | Q94: =SUM(Q81:Q93) -> 0 | S94: =SUM(S81:S93) -> 0 | U94: =SUM(U81:U93) -> 0

Sheet Health Regions
B1: MVT-Specific State Injury Indicators Report
B2: Health Districts/Regions Data
A4: =' Populations'!E4 -> 2020 | B4: Age | C4: Region 1 | E4: Region 2 | G4: Region 3 | I4: Region 4 | K4: Region 5 | M4: Region 6 | O4: Region 7 | Q4: Region 8 | S4: Region 9 | U4: Region 10 | W4: Region 11 | Y4: Region 12 | AA4: Region 13 | AC4: Region 14 | AE4: Region 15 | AG4: Region 16 | AI4: Region 17 | AK4: Region 18 | AM4: Region 19 | AO4: Region 20
B5: =' Populations'!$B$9 -> <1
B6: =' Populations'!$B$10 -> 1-4
B7: =' Populations'!$B$11 -> 5-9
B8: =' Populations'!$B$12 -> 10-14
B9: =' Populations'!$B$13 -> 15-19
B10: =' Populations'!$B$14 -> 20-24
B11: =' Populations'!$B$15 -> 25-34
B12: =' Populations'!$B$16 -> 35-44
B13: =' Populations'!$B$17 -> 45-54
B14: =' Populations'!$B$18 -> 55-64
B15: =' Populations'!$B$19 -> 65-74
B16: =' Populations'!$B$20 -> 75-84
B17: =' Populations'!$B$21 -> 85+
B18: TOTAL | C18: =SUM(C5:C17) -> 0 | E18: =SUM(E5:E17) -> 0 | G18: =SUM(G5:G17) -> 0 | I18: =SUM(I5:I17) -> 0 | K18: =SUM(K5:K17) -> 0 | M18: =SUM(M5:M17) -> 0 | O18: =SUM(O5:O17) -> 0 | Q18: =SUM(Q5:Q17) -> 0 | S18: =SUM(S5:S17) -> 0 | U18: =SUM(U5:U17) -> 0 | W18: =SUM(W5:W17) -> 0 | Y18: =SUM(Y5:Y17) -> 0 | AA18: =SUM(AA5:AA17) -> 0 | AC18: =SUM(AC5:AC17) -> 0 | AE18: =SUM(AE5:AE17) -> 0 | AG18: =SUM(AG5:AG17) -> 0 | AI18: =SUM(AI5:AI17) -> 0 | AK18: =SUM(AK5:AK17) -> 0 | AM18: =SUM(AM5:AM17) -> 0 | AO18: =SUM(AO5:AO17) -> 0

Sheet 2016
A1: =' Populations'!A81 -> 2016 | B1: Data Input Tables Instructions: Enter your TBI-related injury data in the red cells below. The age-adjusted rates will automatically calculate in the results table. | F1: Use columns F through L to enter demographic data | N1: Optional: Unhide columns O through AK to show rate calculations and 2000 population weights | AJ1: Enter 2000 State population by age group. Columns AN through AW will then autogenerate age adjusted rates per 100,000 | AM1: Results Table Age Adjusted Rates per 100,1000. Results will calculate automatically.
D2: Sex Data | F2: Demographic Data | AN2: Age-adjusted Rates per 100,000 population
B3: Age | C3: Number of hospitalizations- Total | D3: Number of hospitalizations- Male | E3: Number of hospitalizations- Female | F3: =' Populations'!I80 -> White-Not Hispanic | G3: =' Populations'!K80 -> Hispanic | H3: =' Populations'!M80 -> Black-Not Hispanic | I3: =' Populations'!O80 -> Asian | J3: =' Populations'!Q80 -> American Indian/Alaska Native | K3: =' Populations'!S80 -> Other | L3: =' Populations'!U80 -> Other | N3: State population - Total | O3: Rate | P3: State population - Male | Q3: Rate | R3: State population - Female | S3: Rate | T3: =' Populations'!I80 -> White-Not Hispanic | U3: Rate | V3: =' Populations'!K80 -> Hispanic | W3: Rate | X3: =' Populations'!M80 -> Black-Not Hispanic | Y3: Rate | Z3: =' Populations'!O80 -> Asian | AA3: Rate | AB3: =' Populations'!Q80 -> American Indian/Alaska Native | AC3: Rate | AD3: =' Populations'!S80 -> Other | AE3: Rate | AF3: =' Populations'!U80 -> Other | AG3: Rate | AJ3: 2000 State population | AK3: Weight | AM3: Age | AN3: Total | AO3: Male | AP3: Female | AQ3: =' Populations'!I80 -> White-Not Hispanic | AR3: =' Populations'!K80 -> Hispanic | AS3: =' Populations'!M80 -> Black-Not Hispanic | AT3: =' Populations'!O80 -> Asian | AU3: =' Populations'!Q80 -> American Indian/Alaska Native | AV3: =' Populations'!S80 -> Other | AW3: =' Populations'!U80 -> Other
B4: =' Populations'!B81 -> <1 | N4: =' Populations'!C81 -> 0 | O4: =IF(N4=0,0,($C$4/$N$4)*100000) -> 0 | P4: =' Populations'!E81 -> 0 | Q4: =IF(P4=0,0,($D$4/$P$4)*100000) -> 0 | R4: =' Populations'!G81 -> 0 | S4: =IF(R4=0,0,($E$4/$R$4)*100000) -> 0 | T4: =' Populations'!I81 -> 0 | U4: =IF(T4=0,0,($F$4/$T$4)*100000) -> 0 | V4: =' Populations'!K81 -> 0 | W4: =IF(V4=0,0,($G$4/$V$4)*100000) -> 0 | X4: =' Populations'!M81 -> 0 | Y4: =IF(X4=0,0,($H$4/$X$4)*100000) -> 0 | Z4: =' Populations'!O81 -> 0 | AA4: =IF(Z4=0,0,($I$4/$Z$4)*100000) -> 0 | AB4: =' Populations'!Q9 -> 0 | AC4: =IF(AB4=0,0,($J$4/$AB$4)*100000) -> 0 | AD4: =' Populations'!S81 -> 0 | AE4: =IF(AD4=0,0,($K$4/$AD$4)*100000) -> 0 | AF4: =' Populations'!U81 -> 0 | AG4: =IF(AF4=0,0,($L$4/$AF$4)*100000) -> 0 | AK4: 0.013818 | AM4: =' Populations'!B9 -> <1 | AN4: =O4*AK4 -> 0 | AO4: =Q4*AK4 -> 0 | AP4: =S4*AK4 -> 0 | AQ4: =U4*AK4 -> 0 | AR4: =W4*AK4 -> 0 | AS4: =Y4*AK4 -> 0 | AT4: =AA4*AK4 -> 0 | AU4: =AC4*AK4 -> 0 | AV4: =AE4*AK4 -> 0 | AW4: =AG4*AK4 -> 0
B5: =' Populations'!B82 -> 1-4 | N5: =' Populations'!C82 -> 0 | O5: =IF(N5=0,0,($C$5/$N$5)*100000) -> 0 | P5: =' Populations'!E82 -> 0 | Q5: =IF(P5=0,0,($D$5/$P$5)*100000) -> 0 | R5: =' Populations'!G82 -> 0 | S5: =IF(R5=0,0,($E$5/$R$5)*100000) -> 0 | T5: =' Populations'!I82 -> 0 | U5: =IF(T5=0,0,($F$5/$T$5)*100000) -> 0 | V5: =' Populations'!K82 -> 0 | W5: =IF(V5=0,0,($G$5/$V$5)*100000) -> 0 | X5: =' Populations'!M82 -> 0 | Y5: =IF(X5=0,0,($G$5/$X$5)*100000) -> 0 | Z5: =' Populations'!O82 -> 0 | AA5: =IF(Z5=0,0,($I$5/$Z$5)*100000) -> 0 | AB5: =' Populations'!Q10 -> 0 | AC5: =IF(AB5=0,0,($J$5/$AB$5)*100000) -> 0 | AD5: =' Populations'!S82 -> 0 | AE5: =IF(AD5=0,0,($K$5/$AD$5)*100000) -> 0 | AF5: =' Populations'!U82 -> 0 | AG5: =IF(AF5=0,0,($L$5/$AF$5)*100000) -> 0 | AK5: 0.055317 | AM5: =' Populations'!B10 -> 1-4 | AN5: =O5*AK5 -> 0 | AO5: =Q5*AK5 -> 0 | AP5: =S5*AK5 -> 0 | AQ5: =U5*AK5 -> 0 | AR5: =W5*AK5 -> 0 | AS5: =Y5*AK5 -> 0 | AT5: =AA5*AK5 -> 0 | AU5: =AC5*AK5 -> 0 | AV5: =AE5*AK5 -> 0 | AW5: =AG5*AK5 -> 0
B6: =' Populations'!B83 -> 5-9 | N6: =' Populations'!C83 -> 0 | O6: =IF(N6=0,0,($C$6/$N$6)*100000) -> 0 | P6: =' Populations'!E83 -> 0 | Q6: =IF(P6=0,0,($D$6/$P$6)*100000) -> 0 | R6: =' Populations'!G83 -> 0 | S6: =IF(R6=0,0,($E$6/$R$6)*100000) -> 0 | T6: =' Populations'!I83 -> 0 | U6: =IF(T6=0,0,($F$6/$T$6)*100000) -> 0 | V6: =' Populations'!K83 -> 0 | W6: =IF(V6=0,0,($G$6/$V$6)*100000) -> 0 | X6: =' Populations'!M83 -> 0 | Y6: =IF(X6=0,0,($G$6/$X$6)*100000) -> 0 | Z6: =' Populations'!O83 -> 0 | AA6: =IF(Z6=0,0,($I$6/$Z$6)*100000) -> 0 | AB6: =' Populations'!Q11 -> 0 | AC6: =IF(AB6=0,0,($J$6/$AB$6)*100000) -> 0 | AD6: =' Populations'!S83 -> 0 | AE6: =IF(AD6=0,0,($K$6/$AD$6)*100000) -> 0 | AF6: =' Populations'!U83 -> 0 | AG6: =IF(AF6=0,0,($L$6/$AF$6)*100000) -> 0 | AK6: 0.072533 | AM6: =' Populations'!B11 -> 5-9 | AN6: =O6*AK6 -> 0 | AO6: =Q6*AK6 -> 0 | AP6: =S6*AK6 -> 0 | AQ6: =U6*AK6 -> 0 | AR6: =W6*AK6 -> 0 | AS6: =Y6*AK6 -> 0 | AT6: =AA6*AK6 -> 0 | AU6: =AC6*AK6 -> 0 | AV6: =AE6*AK6 -> 0 | AW6: =AG6*AK6 -> 0
B7: =' Populations'!B84 -> 10-14 | N7: =' Populations'!C84 -> 0 | O7: =IF(N7=0,0,($C$7/$N$7)*100000) -> 0 | P7: =' Populations'!E84 -> 0 | Q7: =IF(P7=0,0,($D$7/$P$7)*100000) -> 0 | R7: =' Populations'!G84 -> 0 | S7: =IF(R7=0,0,($E$7/$R$7)*100000) -> 0 | T7: =' Populations'!I84 -> 0 | U7: =IF(T7=0,0,($F$7/$T$7)*100000) -> 0 | V7: =' Populations'!K84 -> 0 | W7: =IF(V7=0,0,($G$7/$V$7)*100000) -> 0 | X7: =' Populations'!M84 -> 0 | Y7: =IF(X7=0,0,($G$7/$X$7)*100000) -> 0 | Z7: =' Populations'!O84 -> 0 | AA7: =IF(Z7=0,0,($I$7/$Z$7)*100000) -> 0 | AB7: =' Populations'!Q12 -> 0 | AC7: =IF(AB7=0,0,($J$7/$AB$7)*100000) -> 0 | AD7: =' Populations'!S84 -> 0 | AE7: =IF(AD7=0,0,($K$7/$AD$7)*100000) -> 0 | AF7: =' Populations'!U84 -> 0 | AG7: =IF(AF7=0,0,($L$7/$AF$7)*100000) -> 0 | AK7: 0.073032 | AM7: =' Populations'!B12 -> 10-14 | AN7: =O7*AK7 -> 0 | AO7: =Q7*AK7 -> 0 | AP7: =S7*AK7 -> 0 | AQ7: =U7*AK7 -> 0 | AR7: =W7*AK7 -> 0 | AS7: =Y7*AK7 -> 0 | AT7: =AA7*AK7 -> 0 | AU7: =AC7*AK7 -> 0 | AV7: =AE7*AK7 -> 0 | AW7: =AG7*AK7 -> 0
B8: =' Populations'!B85 -> 15-19 | N8: =' Populations'!C85 -> 0 | O8: =IF(N8=0,0,($C$8/$N$8)*100000) -> 0 | P8: =' Populations'!E85 -> 0 | Q8: =IF(P8=0,0,($D$8/$P$8)*100000) -> 0 | R8: =' Populations'!G85 -> 0 | S8: =IF(R8=0,0,($E$8/$R$8)*100000) -> 0 | T8: =' Populations'!I85 -> 0 | U8: =IF(T8=0,0,($F$8/$T$8)*100000) -> 0 | V8: =' Populations'!K85 -> 0 | W8: =IF(V8=0,0,($G$8/$V$8)*100000) -> 0 | X8: =' Populations'!M85 -> 0 | Y8: =IF(X8=0,0,($G$8/$X$8)*100000) -> 0 | Z8: =' Populations'!O85 -> 0 | AA8: =IF(Z8=0,0,($I$8/$Z$8)*100000) -> 0 | AB8: =' Populations'!Q13 -> 0 | AC8: =IF(AB8=0,0,($J$8/$AB$8)*100000) -> 0 | AD8: =' Populations'!S85 -> 0 | AE8: =IF(AD8=0,0,($K$8/$AD$8)*100000) -> 0 | AF8: =' Populations'!U85 -> 0 | AG8: =IF(AF8=0,0,($L$8/$AF$8)*100000) -> 0 | AK8: 0.072169 | AM8: =' Populations'!B13 -> 15-19 | AN8: =O8*AK8 -> 0 | AO8: =Q8*AK8 -> 0 | AP8: =S8*AK8 -> 0 | AQ8: =U8*AK8 -> 0 | AR8: =W8*AK8 -> 0 | AS8: =Y8*AK8 -> 0 | AT8: =AA8*AK8 -> 0 | AU8: =AC8*AK8 -> 0 | AV8: =AE8*AK8 -> 0 | AW8: =AG8*AK8 -> 0
B9: =' Populations'!B86 -> 20-24 | N9: =' Populations'!C86 -> 0 | O9: =IF(N9=0,0,($C$9/$N$9)*100000) -> 0 | P9: =' Populations'!E86 -> 0 | Q9: =IF(P9=0,0,($D$9/$P$9)*100000) -> 0 | R9: =' Populations'!G86 -> 0 | S9: =IF(R9=0,0,($E$9/$R$9)*100000) -> 0 | T9: =' Populations'!I86 -> 0 | U9: =IF(T9=0,0,($F$9/$T$9)*100000) -> 0 | V9: =' Populations'!K86 -> 0 | W9: =IF(V9=0,0,($G$9/$V$9)*100000) -> 0 | X9: =' Populations'!M86 -> 0 | Y9: =IF(X9=0,0,($G$9/$X$9)*100000) -> 0 | Z9: =' Populations'!O86 -> 0 | AA9: =IF(Z9=0,0,($I$9/$Z$9)*100000) -> 0 | AB9: =' Populations'!Q14 -> 0 | AC9: =IF(AB9=0,0,($J$9/$AB$9)*100000) -> 0 | AD9: =' Populations'!S86 -> 0 | AE9: =IF(AD9=0,0,($K$9/$AD$9)*100000) -> 0 | AF9: =' Populations'!U86 -> 0 | AG9: =IF(AF9=0,0,($L$9/$AF$9)*100000) -> 0 | AK9: 0.066478 | AM9: =' Populations'!B14 -> 20-24 | AN9: =O9*AK9 -> 0 | AO9: =Q9*AK9 -> 0 | AP9: =S9*AK9 -> 0 | AQ9: =U9*AK9 -> 0 | AR9: =W9*AK9 -> 0 | AS9: =Y9*AK9 -> 0 | AT9: =AA9*AK9 -> 0 | AU9: =AC9*AK9 -> 0 | AV9: =AE9*AK9 -> 0 | AW9: =AG9*AK9 -> 0
B10: =' Populations'!B87 -> 25-34 | N10: =' Populations'!C87 -> 0 | O10: =IF(N10=0,0,($C$10/$N$10)*100000) -> 0 | P10: =' Populations'!E87 -> 0 | Q10: =IF(P10=0,0,($D$10/$P$10)*100000) -> 0 | R10: =' Populations'!G87 -> 0 | S10: =IF(R10=0,0,($E$10/$R$10)*100000) -> 0 | T10: =' Populations'!I87 -> 0 | U10: =IF(T10=0,0,($F$10/$T$10)*100000) -> 0 | V10: =' Populations'!K87 -> 0 | W10: =IF(V10=0,0,($G$10/$V$10)*100000) -> 0 | X10: =' Populations'!M87 -> 0 | Y10: =IF(X10=0,0,($G$10/$X$10)*100000) -> 0 | Z10: =' Populations'!O87 -> 0 | AA10: =IF(Z10=0,0,($I$10/$Z$10)*100000) -> 0 | AB10: =' Populations'!Q15 -> 0 | AC10: =IF(AB10=0,0,($J$10/$AB$10)*100000) -> 0 | AD10: =' Populations'!S87 -> 0 | AE10: =IF(AD10=0,0,($K$10/$AD$10)*100000) -> 0 | AF10: =' Populations'!U87 -> 0 | AG10: =IF(AF10=0,0,($L$10/$AF$10)*100000) -> 0 | AK10: 0.135573 | AM10: =' Populations'!B15 -> 25-34 | AN10: =O10*AK10 -> 0 | AO10: =Q10*AK10 -> 0 | AP10: =S10*AK10 -> 0 | AQ10: =U10*AK10 -> 0 | AR10: =W10*AK10 -> 0 | AS10: =Y10*AK10 -> 0 | AT10: =AA10*AK10 -> 0 | AU10: =AC10*AK10 -> 0 | AV10: =AE10*AK10 -> 0 | AW10: =AG10*AK10 -> 0
B11: =' Populations'!B88 -> 35-44 | N11: =' Populations'!C88 -> 0 | O11: =IF(N11=0,0,($C$11/$N$11)*100000) -> 0 | P11: =' Populations'!E88 -> 0 | Q11: =IF(P11=0,0,($D$11/$P$11)*100000) -> 0 | R11: =' Populations'!G88 -> 0 | S11: =IF(R11=0,0,($E$11/$R$11)*100000) -> 0 | T11: =' Populations'!I88 -> 0 | U11: =IF(T11=0,0,($F$11/$T$11)*100000) -> 0 | V11: =' Populations'!K88 -> 0 | W11: =IF(V11=0,0,($G$11/$V$11)*100000) -> 0 | X11: =' Populations'!M88 -> 0 | Y11: =IF(X11=0,0,($G$11/$X$11)*100000) -> 0 | Z11: =' Populations'!O88 -> 0 | AA11: =IF(Z11=0,0,($I$11/$Z$11)*100000) -> 0 | AB11: =' Populations'!Q16 -> 0 | AC11: =IF(AB11=0,0,($J$11/$AB$11)*100000) -> 0 | AD11: =' Populations'!S88 -> 0 | AE11: =IF(AD11=0,0,($K$11/$AD$11)*100000) -> 0 | AF11: =' Populations'!U88 -> 0 | AG11: =IF(AF11=0,0,($L$11/$AF$11)*100000) -> 0 | AK11: 0.162613 | AM11: =' Populations'!B16 -> 35-44 | AN11: =O11*AK11 -> 0 | AO11: =Q11*AK11 -> 0 | AP11: =S11*AK11 -> 0 | AQ11: =U11*AK11 -> 0 | AR11: =W11*AK11 -> 0 | AS11: =Y11*AK11 -> 0 | AT11: =AA11*AK11 -> 0 | AU11: =AC11*AK11 -> 0 | AV11: =AE11*AK11 -> 0 | AW11: =AG11*AK11 -> 0
B12: =' Populations'!B89 -> 45-54 | N12: =' Populations'!C89 -> 0 | O12: =IF(N12=0,0,($C$12/$N$12)*100000) -> 0 | P12: =' Populations'!E89 -> 0 | Q12: =IF(P12=0,0,($D$12/$P$12)*100000) -> 0 | R12: =' Populations'!G89 -> 0 | S12: =IF(R12=0,0,($E$12/$R$12)*100000) -> 0 | T12: =' Populations'!I89 -> 0 | U12: =IF(T12=0,0,($F$12/$T$12)*100000) -> 0 | V12: =' Populations'!K89 -> 0 | W12: =IF(V12=0,0,($G$12/$V$12)*100000) -> 0 | X12: =' Populations'!M89 -> 0 | Y12: =IF(X12=0,0,($G$12/$X$12)*100000) -> 0 | Z12: =' Populations'!O89 -> 0 | AA12: =IF(Z12=0,0,($I$12/$Z$12)*100000) -> 0 | AB12: =' Populations'!Q17 -> 0 | AC12: =IF(AB12=0,0,($J$12/$AB$12)*100000) -> 0 | AD12: =' Populations'!S89 -> 0 | AE12: =IF(AD12=0,0,($K$12/$AD$12)*100000) -> 0 | AF12: =' Populations'!U89 -> 0 | AG12: =IF(AF12=0,0,($L$12/$AF$12)*100000) -> 0 | AK12: 0.134834 | AM12: =' Populations'!B17 -> 45-54 | AN12: =O12*AK12 -> 0 | AO12: =Q12*AK12 -> 0 | AP12: =S12*AK12 -> 0 | AQ12: =U12*AK12 -> 0 | AR12: =W12*AK12 -> 0 | AS12: =Y12*AK12 -> 0 | AT12: =AA12*AK12 -> 0 | AU12: =AC12*AK12 -> 0 | AV12: =AE12*AK12 -> 0 | AW12: =AG12*AK12 -> 0
B13: =' Populations'!B90 -> 55-64 | N13: =' Populations'!C90 -> 0 | O13: =IF(N13=0,0,($C$13/$N$13)*100000) -> 0 | P13: =' Populations'!E90 -> 0 | Q13: =IF(P13=0,0,($D$13/$P$13)*100000) -> 0 | R13: =' Populations'!G90 -> 0 | S13: =IF(R13=0,0,($E$13/$R$13)*100000) -> 0 | T13: =' Populations'!I90 -> 0 | U13: =IF(T13=0,0,($F$13/$T$13)*100000) -> 0 | V13: =' Populations'!K90 -> 0 | W13: =IF(V13=0,0,($G$13/$V$13)*100000) -> 0 | X13: =' Populations'!M90 -> 0 | Y13: =IF(X13=0,0,($G$13/$X$13)*100000) -> 0 | Z13: =' Populations'!O90 -> 0 | AA13: =IF(Z13=0,0,($I$13/$Z$13)*100000) -> 0 | AB13: =' Populations'!Q18 -> 0 | AC13: =IF(AB13=0,0,($J$13/$AB$13)*100000) -> 0 | AD13: =' Populations'!S90 -> 0 | AE13: =IF(AD13=0,0,($K$13/$AD$13)*100000) -> 0 | AF13: =' Populations'!U90 -> 0 | AG13: =IF(AF13=0,0,($L$13/$AF$13)*100000) -> 0 | AK13: 0.087247 | AM13: =' Populations'!B18 -> 55-64 | AN13: =O13*AK13 -> 0 | AO13: =Q13*AK13 -> 0 | AP13: =S13*AK13 -> 0 | AQ13: =U13*AK13 -> 0 | AR13: =W13*AK13 -> 0 | AS13: =Y13*AK13 -> 0 | AT13: =AA13*AK13 -> 0 | AU13: =AC13*AK13 -> 0 | AV13: =AE13*AK13 -> 0 | AW13: =AG13*AK13 -> 0
B14: =' Populations'!B91 -> 65-74 | N14: =' Populations'!C91 -> 0 | O14: =IF(N14=0,0,($C$14/$N$14)*100000) -> 0 | P14: =' Populations'!E91 -> 0 | Q14: =IF(P14=0,0,($D$14/$P$14)*100000) -> 0 | R14: =' Populations'!G91 -> 0 | S14: =IF(R14=0,0,($E$14/$R$14)*100000) -> 0 | T14: =' Populations'!I91 -> 0 | U14: =IF(T14=0,0,($F$14/$T$14)*100000) -> 0 | V14: =' Populations'!K91 -> 0 | W14: =IF(V14=0,0,($G$14/$V$14)*100000) -> 0 | X14: =' Populations'!M91 -> 0 | Y14: =IF(X14=0,0,($G$14/$X$14)*100000) -> 0 | Z14: =' Populations'!O91 -> 0 | AA14: =IF(Z14=0,0,($I$14/$Z$14)*100000) -> 0 | AB14: =' Populations'!Q19 -> 0 | AC14: =IF(AB14=0,0,($J$14/$AB$14)*100000) -> 0 | AD14: =' Populations'!S91 -> 0 | AE14: =IF(AD14=0,0,($K$14/$AD$14)*100000) -> 0 | AF14: =' Populations'!U91 -> 0 | AG14: =IF(AF14=0,0,($L$14/$AF$14)*100000) -> 0 | AK14: 0.066037 | AM14: =' Populations'!B19 -> 65-74 | AN14: =O14*AK14 -> 0 | AO14: =Q14*AK14 -> 0 | AP14: =S14*AK14 -> 0 | AQ14: =U14*AK14 -> 0 | AR14: =W14*AK14 -> 0 | AS14: =Y14*AK14 -> 0 | AT14: =AA14*AK14 -> 0 | AU14: =AC14*AK14 -> 0 | AV14: =AE14*AK14 -> 0 | AW14: =AG14*AK14 -> 0
B15: =' Populations'!B92 -> 75-84 | N15: =' Populations'!C92 -> 0 | O15: =IF(N15=0,0,($C$15/$N$15)*100000) -> 0 | P15: =' Populations'!E92 -> 0 | Q15: =IF(P15=0,0,($D$15/$P$15)*100000) -> 0 | R15: =' Populations'!G92 -> 0 | S15: =IF(R15=0,0,($E$15/$R$15)*100000) -> 0 | T15: =' Populations'!I92 -> 0 | U15: =IF(T15=0,0,($F$15/$T$15)*100000) -> 0 | V15: =' Populations'!K92 -> 0 | W15: =IF(V15=0,0,($G$15/$V$15)*100000) -> 0 | X15: =' Populations'!M92 -> 0 | Y15: =IF(X15=0,0,($G$15/$X$15)*100000) -> 0 | Z15: =' Populations'!O92 -> 0 | AA15: =IF(Z15=0,0,($I$15/$Z$15)*100000) -> 0 | AB15: =' Populations'!Q20 -> 0 | AC15: =IF(AB15=0,0,($J$15/$AB$15)*100000) -> 0 | AD15: =' Populations'!S92 -> 0 | AE15: =IF(AD15=0,0,($K$15/$AD$15)*100000) -> 0 | AF15: =' Populations'!U92 -> 0 | AG15: =IF(AF15=0,0,($L$15/$AF$15)*100000) -> 0 | AK15: 0.044841 | AM15: =' Populations'!B20 -> 75-84 | AN15: =O15*AK15 -> 0 | AO15: =Q15*AK15 -> 0 | AP15: =S15*AK15 -> 0 | AQ15: =U15*AK15 -> 0 | AR15: =W15*AK15 -> 0 | AS15: =Y15*AK15 -> 0 | AT15: =AA15*AK15 -> 0 | AU15: =AC15*AK15 -> 0 | AV15: =AE15*AK15 -> 0 | AW15: =AG15*AK15 -> 0
B16: =' Populations'!B93 -> 85+ | N16: =' Populations'!C93 -> 0 | O16: =IF(N16=0,0,($C$16/$N$16)*100000) -> 0 | P16: =' Populations'!E93 -> 0 | Q16: =IF(P16=0,0,($D$16/$P$16)*100000) -> 0 | R16: =' Populations'!G93 -> 0 | S16: =IF(R16=0,0,($E$16/$R$16)*100000) -> 0 | T16: =' Populations'!I93 -> 0 | U16: =IF(T16=0,0,($F$16/$T$16)*100000) -> 0 | V16: =' Populations'!K93 -> 0 | W16: =IF(V16=0,0,($G$16/$V$16)*100000) -> 0 | X16: =' Populations'!M93 -> 0 | Y16: =IF(X16=0,0,($G$16/$X$16)*100000) -> 0 | Z16: =' Populations'!O93 -> 0 | AA16: =IF(Z16=0,0,($I$16/$Z$16)*100000) -> 0 | AB16: =' Populations'!Q21 -> 0 | AC16: =IF(AB16=0,0,($J$16/$AB$16)*100000) -> 0 | AD16: =' Populations'!S93 -> 0 | AE16: =IF(AD16=0,0,($K$16/$AD$16)*100000) -> 0 | AF16: =' Populations'!U93 -> 0 | AG16: =IF(AF16=0,0,($L$16/$AF$16)*100000) -> 0 | AK16: 0.015508 | AM16: =' Populations'!B21 -> 85+ | AN16: =O16*AK16 -> 0 | AO16: =Q16*AK16 -> 0 | AP16: =S16*AK16 -> 0 | AQ16: =U16*AK16 -> 0 | AR16: =W16*AK16 -> 0 | AS16: =Y16*AK16 -> 0 | AT16: =AA16*AK16 -> 0 | AU16: =AC16*AK16 -> 0 | AV16: =AE16*AK16 -> 0 | AW16: =AG16*AK16 -> 0
B17: total | C17: =SUM(C4:C16) -> 0 | D17: =SUM(D4:D16) -> 0 | E17: =SUM(E4:E16) -> 0 | F17: =SUM(F4:F16) -> 0 | G17: =SUM(G4:G16) -> 0 | H17: =SUM(H4:H16) -> 0 | I17: =SUM(I4:I16) -> 0 | J17: =SUM(J4:J16) -> 0 | ... L17: =SUM(L4:L16) -> 0 | N17: =' Populations'!C94 -> 0 | O17: =SUM(O4:O16) -> 0 | P17: =' Populations'!E94 -> 0 | Q17: =SUM(Q4:Q16) -> 0 | R17: =' Populations'!G94 -> 0 | S17: =SUM(S4:S16) -> 0 | T17: =' Populations'!I94 -> 0 | U17: =SUM(U4:U16) -> 0 | V17: =' Populations'!K94 -> 0 | W17: =SUM(W4:W16) -> 0 | X17: =' Populations'!M94 -> 0 | Y17: =SUM(Y4:Y16) -> 0 | Z17: =' Populations'!O94 -> 0 | AA17: =SUM(AA4:AA16) -> 0 | AB17: =' Populations'!Q22 -> 0 | AC17: =SUM(AC4:AC16) -> 0 | AD17: =' Populations'!S94 -> 0 | AE17: =SUM(AE4:AE16) -> 0 | AF17: =' Populations'!U94 -> 0 | AG17: =SUM(AG4:AG16) -> 0 | AM17: =' Populations'!B22 -> Total | AN17: =SUM(AN4:AN16) -> 0 | AO17: =SUM(AO4:AO16) -> 0 | AP17: =SUM(AP4:AP16) -> 0 | AQ17: =SUM(AQ4:AQ16) -> 0 | AR17: =SUM(AR4:AR16) -> 0 | AS17: =SUM(AS4:AS16) -> 0 | AT17: =SUM(AT4:AT16) -> 0 | AU17: =SUM(AU4:AU16) -> 0 | ... AW17: =SUM(AW4:AW16) -> 0
D19: Sex Data | F19: Demographic Data | AN19: Age-adjusted Rates per 100,000 population
B20: Age | C20: Number of ED visits- Total | D20: Number of ED visits- Male | E20: Number of ED visits- Female | F20: =' Populations'!I80 -> White-Not Hispanic | G20: =' Populations'!K80 -> Hispanic | H20: =' Populations'!M80 -> Black-Not Hispanic | I20: =' Populations'!O80 -> Asian | J20: =' Populations'!Q80 -> American Indian/Alaska Native | K20: =' Populations'!S80 -> Other | L20: =' Populations'!U80 -> Other | N20: State population - Total | O20: Rate | P20: State population - Male | Q20: Rate | R20: State population - Female | S20: Rate | T20: =' Populations'!I80 -> White-Not Hispanic | U20: Rate | V20: =' Populations'!K80 -> Hispanic | W20: Rate | X20: =' Populations'!M80 -> Black-Not Hispanic | Y20: Rate | Z20: =' Populations'!O80 -> Asian | AA20: Rate | AB20: =' Populations'!Q80 -> American Indian/Alaska Native | AC20: Rate | AD20: =' Populations'!S80 -> Other | AE20: Rate | AF20: =' Populations'!U80 -> Other | AG20: Rate | AJ20: 2000 State population | AK20: Weight | AM20: Age | AN20: Total | AO20: Male | AP20: Female | AQ20: =' Populations'!I80 -> White-Not Hispanic | AR20: =' Populations'!K80 -> Hispanic | AS20: =' Populations'!M80 -> Black-Not Hispanic | AT20: =' Populations'!O80 -> Asian | AU20: =' Populations'!Q80 -> American Indian/Alaska Native | AV20: =' Populations'!S80 -> Other | AW20: =' Populations'!U80 -> Other
B21: =' Populations'!B81 -> <1 | N21: =' Populations'!C81 -> 0 | O21: =IF(N21=0,0,($C$21/$N$21)*100000) -> 0 | P21: =' Populations'!E81 -> 0 | Q21: =IF(P21=0,0,($D$21/$P$21)*100000) -> 0 | R21: =' Populations'!G81 -> 0 | S21: =IF(R21=0,0,($E$21/$R$21)*100000) -> 0 | T21: =' Populations'!I81 -> 0 | U21: =IF(T21=0,0,($F$21/$T$21)*100000) -> 0 | V21: =' Populations'!K81 -> 0 | W21: =IF(V21=0,0,($G$21/$V$21)*100000) -> 0 | X21: =' Populations'!M81 -> 0 | Y21: =IF(X21=0,0,($H$21/$X$21)*100000) -> 0 | Z21: =' Populations'!O81 -> 0 | AA21: =IF(Z21=0,0,($I$21/$Z$21)*100000) -> 0 | AB21: =' Populations'!Q81 -> 0 | AC21: =IF(AB21=0,0,($J$21/$AB$21)*100000) -> 0 | AD21: =' Populations'!S81 -> 0 | AE21: =IF(AD21=0,0,($K$21/$AD$21)*100000) -> 0 | AF21: =' Populations'!U81 -> 0 | AG21: =IF(AF21=0,0,($L$21/$AF$21)*100000) -> 0 | AK21: 0.013818 | AM21: =' Populations'!B9 -> <1 | AN21: =O21*AK21 -> 0 | AO21: =Q21*AK21 -> 0 | AP21: =S21*AK21 -> 0 | AQ21: =U21*AK21 -> 0 | AR21: =W21*AK21 -> 0 | AS21: =Y21*AK21 -> 0 | AT21: =AA21*AK21 -> 0 | AU21: =AC21*AK21 -> 0 | AV21: =AE21*AK21 -> 0 | AW21: =AG21*AK21 -> 0
B22: =' Populations'!B82 -> 1-4 | N22: =' Populations'!C82 -> 0 | O22: =IF(N22=0,0,($C$22/$N$22)*100000) -> 0 | P22: =' Populations'!E82 -> 0 | Q22: =IF(P22=0,0,($D$22/$P$22)*100000) -> 0 | R22: =' Populations'!G82 -> 0 | S22: =IF(R22=0,0,($E$22/$R$22)*100000) -> 0 | T22: =' Populations'!I82 -> 0 | U22: =IF(T22=0,0,($F$22/$T$22)*100000) -> 0 | V22: =' Populations'!K82 -> 0 | W22: =IF(V22=0,0,($G$22/$V$22)*100000) -> 0 | X22: =' Populations'!M82 -> 0 | Y22: =IF(X22=0,0,($H$22/$X$22)*100000) -> 0 | Z22: =' Populations'!O82 -> 0 | AA22: =IF(Z22=0,0,($I$22/$Z$22)*100000) -> 0 | AB22: =' Populations'!Q82 -> 0 | AC22: =IF(AB22=0,0,($J$22/$AB$22)*100000) -> 0 | AD22: =' Populations'!S82 -> 0 | AE22: =IF(AD22=0,0,($K$22/$AD$22)*100000) -> 0 | AF22: =' Populations'!U82 -> 0 | AG22: =IF(AF22=0,0,($L$22/$AF$22)*100000) -> 0 | AK22: 0.055317 | AM22: =' Populations'!B10 -> 1-4 | AN22: =O22*AK22 -> 0 | AO22: =Q22*AK22 -> 0 | AP22: =S22*AK22 -> 0 | AQ22: =U22*AK22 -> 0 | AR22: =W22*AK22 -> 0 | AS22: =Y22*AK22 -> 0 | AT22: =AA22*AK22 -> 0 | AU22: =AC22*AK22 -> 0 | AV22: =AE22*AK22 -> 0 | AW22: =AG22*AK22 -> 0
B23: =' Populations'!B83 -> 5-9 | N23: =' Populations'!C83 -> 0 | O23: =IF(N23=0,0,($C$23/$N$23)*100000) -> 0 | P23: =' Populations'!E83 -> 0 | Q23: =IF(P23=0,0,($D$23/$P$23)*100000) -> 0 | R23: =' Populations'!G83 -> 0 | S23: =IF(R23=0,0,($E$23/$R$23)*100000) -> 0 | T23: =' Populations'!I83 -> 0 | U23: =IF(T23=0,0,($F$23/$T$23)*100000) -> 0 | V23: =' Populations'!K83 -> 0 | W23: =IF(V23=0,0,($G$23/$V$23)*100000) -> 0 | X23: =' Populations'!M83 -> 0 | Y23: =IF(X23=0,0,($H$23/$X$23)*100000) -> 0 | Z23: =' Populations'!O83 -> 0 | AA23: =IF(Z23=0,0,($I$23/$Z$23)*100000) -> 0 | AB23: =' Populations'!Q83 -> 0 | AC23: =IF(AB23=0,0,($J$23/$AB$23)*100000) -> 0 | AD23: =' Populations'!S83 -> 0 | AE23: =IF(AD23=0,0,($K$23/$AD$23)*100000) -> 0 | AF23: =' Populations'!U83 -> 0 | AG23: =IF(AF23=0,0,($L$23/$AF$23)*100000) -> 0 | AK23: 0.072533 | AM23: =' Populations'!B11 -> 5-9 | AN23: =O23*AK23 -> 0 | AO23: =Q23*AK23 -> 0 | AP23: =S23*AK23 -> 0 | AQ23: =U23*AK23 -> 0 | AR23: =W23*AK23 -> 0 | AS23: =Y23*AK23 -> 0 | AT23: =AA23*AK23 -> 0 | AU23: =AC23*AK23 -> 0 | AV23: =AE23*AK23 -> 0 | AW23: =AG23*AK23 -> 0
B24: =' Populations'!B84 -> 10-14 | N24: =' Populations'!C84 -> 0 | O24: =IF(N24=0,0,($C$24/$N$24)*100000) -> 0 | P24: =' Populations'!E84 -> 0 | Q24: =IF(P24=0,0,($D$24/$P$24)*100000) -> 0 | R24: =' Populations'!G84 -> 0 | S24: =IF(R24=0,0,($E$24/$R$24)*100000) -> 0 | T24: =' Populations'!I84 -> 0 | U24: =IF(T24=0,0,($F$24/$T$24)*100000) -> 0 | V24: =' Populations'!K84 -> 0 | W24: =IF(V24=0,0,($G$24/$V$24)*100000) -> 0 | X24: =' Populations'!M84 -> 0 | Y24: =IF(X24=0,0,($H$24/$X$24)*100000) -> 0 | Z24: =' Populations'!O84 -> 0 | AA24: =IF(Z24=0,0,($I$24/$Z$24)*100000) -> 0 | AB24: =' Populations'!Q84 -> 0 | AC24: =IF(AB24=0,0,($J$24/$AB$24)*100000) -> 0 | AD24: =' Populations'!S84 -> 0 | AE24: =IF(AD24=0,0,($K$24/$AD$24)*100000) -> 0 | AF24: =' Populations'!U84 -> 0 | AG24: =IF(AF24=0,0,($L$24/$AF$24)*100000) -> 0 | AK24: 0.073032 | AM24: =' Populations'!B12 -> 10-14 | AN24: =O24*AK24 -> 0 | AO24: =Q24*AK24 -> 0 | AP24: =S24*AK24 -> 0 | AQ24: =U24*AK24 -> 0 | AR24: =W24*AK24 -> 0 | AS24: =Y24*AK24 -> 0 | AT24: =AA24*AK24 -> 0 | AU24: =AC24*AK24 -> 0 | AV24: =AE24*AK24 -> 0 | AW24: =AG24*AK24 -> 0
B25: =' Populations'!B85 -> 15-19 | N25: =' Populations'!C85 -> 0 | O25: =IF(N25=0,0,($C$25/$N$25)*100000) -> 0 | P25: =' Populations'!E85 -> 0 | Q25: =IF(P25=0,0,($D$25/$P$25)*100000) -> 0 | R25: =' Populations'!G85 -> 0 | S25: =IF(R25=0,0,($E$25/$R$25)*100000) -> 0 | T25: =' Populations'!I85 -> 0 | U25: =IF(T25=0,0,($F$25/$T$25)*100000) -> 0 | V25: =' Populations'!K85 -> 0 | W25: =IF(V25=0,0,($G$25/$V$25)*100000) -> 0 | X25: =' Populations'!M85 -> 0 | Y25: =IF(X25=0,0,($H$25/$X$25)*100000) -> 0 | Z25: =' Populations'!O85 -> 0 | AA25: =IF(Z25=0,0,($I$25/$Z$25)*100000) -> 0 | AB25: =' Populations'!Q85 -> 0 | AC25: =IF(AB25=0,0,($J$25/$AB$25)*100000) -> 0 | AD25: =' Populations'!S85 -> 0 | AE25: =IF(AD25=0,0,($K$25/$AD$25)*100000) -> 0 | AF25: =' Populations'!U85 -> 0 | AG25: =IF(AF25=0,0,($L$25/$AF$25)*100000) -> 0 | AK25: 0.072169 | AM25: =' Populations'!B13 -> 15-19 | AN25: =O25*AK25 -> 0 | AO25: =Q25*AK25 -> 0 | AP25: =S25*AK25 -> 0 | AQ25: =U25*AK25 -> 0 | AR25: =W25*AK25 -> 0 | AS25: =Y25*AK25 -> 0 | AT25: =AA25*AK25 -> 0 | AU25: =AC25*AK25 -> 0 | AV25: =AE25*AK25 -> 0 | AW25: =AG25*AK25 -> 0
B26: =' Populations'!B86 -> 20-24 | N26: =' Populations'!C86 -> 0 | O26: =IF(N26=0,0,($C$26/$N$26)*100000) -> 0 | P26: =' Populations'!E86 -> 0 | Q26: =IF(P26=0,0,($D$26/$P$26)*100000) -> 0 | R26: =' Populations'!G86 -> 0 | S26: =IF(R26=0,0,($E$26/$R$26)*100000) -> 0 | T26: =' Populations'!I86 -> 0 | U26: =IF(T26=0,0,($F$26/$T$26)*100000) -> 0 | V26: =' Populations'!K86 -> 0 | W26: =IF(V26=0,0,($G$26/$V$26)*100000) -> 0 | X26: =' Populations'!M86 -> 0 | Y26: =IF(X26=0,0,($H$26/$X$26)*100000) -> 0 | Z26: =' Populations'!O86 -> 0 | AA26: =IF(Z26=0,0,($I$26/$Z$26)*100000) -> 0 | AB26: =' Populations'!Q86 -> 0 | AC26: =IF(AB26=0,0,($J$26/$AB$26)*100000) -> 0 | AD26: =' Populations'!S86 -> 0 | AE26: =IF(AD26=0,0,($K$26/$AD$26)*100000) -> 0 | AF26: =' Populations'!U86 -> 0 | AG26: =IF(AF26=0,0,($L$26/$AF$26)*100000) -> 0 | AK26: 0.066478 | AM26: =' Populations'!B14 -> 20-24 | AN26: =O26*AK26 -> 0 | AO26: =Q26*AK26 -> 0 | AP26: =S26*AK26 -> 0 | AQ26: =U26*AK26 -> 0 | AR26: =W26*AK26 -> 0 | AS26: =Y26*AK26 -> 0 | AT26: =AA26*AK26 -> 0 | AU26: =AC26*AK26 -> 0 | AV26: =AE26*AK26 -> 0 | AW26: =AG26*AK26 -> 0
B27: =' Populations'!B87 -> 25-34 | N27: =' Populations'!C87 -> 0 | O27: =IF(N27=0,0,($C$27/$N$27)*100000) -> 0 | P27: =' Populations'!E87 -> 0 | Q27: =IF(P27=0,0,($D$27/$P$27)*100000) -> 0 | R27: =' Populations'!G87 -> 0 | S27: =IF(R27=0,0,($E$27/$R$27)*100000) -> 0 | T27: =' Populations'!I87 -> 0 | U27: =IF(T27=0,0,($F$27/$T$27)*100000) -> 0 | V27: =' Populations'!K87 -> 0 | W27: =IF(V27=0,0,($G$27/$V$27)*100000) -> 0 | X27: =' Populations'!M87 -> 0 | Y27: =IF(X27=0,0,($H$27/$X$27)*100000) -> 0 | Z27: =' Populations'!O87 -> 0 | AA27: =IF(Z27=0,0,($I$27/$Z$27)*100000) -> 0 | AB27: =' Populations'!Q87 -> 0 | AC27: =IF(AB27=0,0,($J$27/$AB$27)*100000) -> 0 | AD27: =' Populations'!S87 -> 0 | AE27: =IF(AD27=0,0,($K$27/$AD$27)*100000) -> 0 | AF27: =' Populations'!U87 -> 0 | AG27: =IF(AF27=0,0,($L$272/$AF$27)*100000) -> 0 | AK27: 0.135573 | AM27: =' Populations'!B15 -> 25-34 | AN27: =O27*AK27 -> 0 | AO27: =Q27*AK27 -> 0 | AP27: =S27*AK27 -> 0 | AQ27: =U27*AK27 -> 0 | AR27: =W27*AK27 -> 0 | AS27: =Y27*AK27 -> 0 | AT27: =AA27*AK27 -> 0 | AU27: =AC27*AK27 -> 0 | AV27: =AE27*AK27 -> 0 | AW27: =AG27*AK27 -> 0
B28: =' Populations'!B88 -> 35-44 | N28: =' Populations'!C88 -> 0 | O28: =IF(N28=0,0,($C$28/$N$28)*100000) -> 0 | P28: =' Populations'!E88 -> 0 | Q28: =IF(P28=0,0,($D$28/$P$28)*100000) -> 0 | R28: =' Populations'!G88 -> 0 | S28: =IF(R28=0,0,($E$28/$R$28)*100000) -> 0 | T28: =' Populations'!I88 -> 0 | U28: =IF(T28=0,0,($F$28/$T$28)*100000) -> 0 | V28: =' Populations'!K88 -> 0 | W28: =IF(V28=0,0,($G$28/$V$28)*100000) -> 0 | X28: =' Populations'!M88 -> 0 | Y28: =IF(X28=0,0,($H$28/$X$28)*100000) -> 0 | Z28: =' Populations'!O88 -> 0 | AA28: =IF(Z28=0,0,($I$28/$Z$28)*100000) -> 0 | AB28: =' Populations'!Q88 -> 0 | AC28: =IF(AB28=0,0,($J$28/$AB$28)*100000) -> 0 | AD28: =' Populations'!S88 -> 0 | AE28: =IF(AD28=0,0,($K$28/$AD$28)*100000) -> 0 | AF28: =' Populations'!U88 -> 0 | AG28: =IF(AF28=0,0,($L$28/$AF$28)*100000) -> 0 | AK28: 0.162613 | AM28: =' Populations'!B16 -> 35-44 | AN28: =O28*AK28 -> 0 | AO28: =Q28*AK28 -> 0 | AP28: =S28*AK28 -> 0 | AQ28: =U28*AK28 -> 0 | AR28: =W28*AK28 -> 0 | AS28: =Y28*AK28 -> 0 | AT28: =AA28*AK28 -> 0 | AU28: =AC28*AK28 -> 0 | AV28: =AE28*AK28 -> 0 | AW28: =AG28*AK28 -> 0
B29: =' Populations'!B89 -> 45-54 | N29: =' Populations'!C89 -> 0 | O29: =IF(N29=0,0,($C$29/$N$29)*100000) -> 0 | P29: =' Populations'!E89 -> 0 | Q29: =IF(P29=0,0,($D$29/$P$29)*100000) -> 0 | R29: =' Populations'!G89 -> 0 | S29: =IF(R29=0,0,($E$29/$R$29)*100000) -> 0 | T29: =' Populations'!I89 -> 0 | U29: =IF(T29=0,0,($F$29/$T$29)*100000) -> 0 | V29: =' Populations'!K89 -> 0 | W29: =IF(V29=0,0,($G$29/$V$29)*100000) -> 0 | X29: =' Populations'!M89 -> 0 | Y29: =IF(X29=0,0,($H$29/$X$29)*100000) -> 0 | Z29: =' Populations'!O89 -> 0 | AA29: =IF(Z29=0,0,($I$29/$Z$29)*100000) -> 0 | AB29: =' Populations'!Q89 -> 0 | AC29: =IF(AB29=0,0,($J$29/$AB$29)*100000) -> 0 | AD29: =' Populations'!S89 -> 0 | AE29: =IF(AD29=0,0,($K$29/$AD$29)*100000) -> 0 | AF29: =' Populations'!U89 -> 0 | AG29: =IF(AF29=0,0,($L$29/$AF$29)*100000) -> 0 | AK29: 0.134834 | AM29: =' Populations'!B17 -> 45-54 | AN29: =O29*AK29 -> 0 | AO29: =Q29*AK29 -> 0 | AP29: =S29*AK29 -> 0 | AQ29: =U29*AK29 -> 0 | AR29: =W29*AK29 -> 0 | AS29: =Y29*AK29 -> 0 | AT29: =AA29*AK29 -> 0 | AU29: =AC29*AK29 -> 0 | AV29: =AE29*AK29 -> 0 | AW29: =AG29*AK29 -> 0
B30: =' Populations'!B90 -> 55-64 | N30: =' Populations'!C90 -> 0 | O30: =IF(N30=0,0,($C$30/$N$30)*100000) -> 0 | P30: =' Populations'!E90 -> 0 | Q30: =IF(P30=0,0,($D$30/$P$30)*100000) -> 0 | R30: =' Populations'!G90 -> 0 | S30: =IF(R30=0,0,($E$30/$R$30)*100000) -> 0 | T30: =' Populations'!I90 -> 0 | U30: =IF(T30=0,0,($F$30/$T$30)*100000) -> 0 | V30: =' Populations'!K90 -> 0 | W30: =IF(V30=0,0,($G$30/$V$30)*100000) -> 0 | X30: =' Populations'!M90 -> 0 | Y30: =IF(X30=0,0,($H$30/$X$30)*100000) -> 0 | Z30: =' Populations'!O90 -> 0 | AA30: =IF(Z30=0,0,($I$30/$Z$30)*100000) -> 0 | AB30: =' Populations'!Q90 -> 0 | AC30: =IF(AB30=0,0,($J$30/$AB$30)*100000) -> 0 | AD30: =' Populations'!S90 -> 0 | AE30: =IF(AD30=0,0,($K$30/$AD$30)*100000) -> 0 | AF30: =' Populations'!U90 -> 0 | AG30: =IF(AF30=0,0,($L$30/$AF$30)*100000) -> 0 | AK30: 0.087247 | AM30: =' Populations'!B18 -> 55-64 | AN30: =O30*AK30 -> 0 | AO30: =Q30*AK30 -> 0 | AP30: =S30*AK30 -> 0 | AQ30: =U30*AK30 -> 0 | AR30: =W30*AK30 -> 0 | AS30: =Y30*AK30 -> 0 | AT30: =AA30*AK30 -> 0 | AU30: =AC30*AK30 -> 0 | AV30: =AE30*AK30 -> 0 | AW30: =AG30*AK30 -> 0
B31: =' Populations'!B91 -> 65-74 | N31: =' Populations'!C91 -> 0 | O31: =IF(N31=0,0,($C$31/$N$31)*100000) -> 0 | P31: =' Populations'!E91 -> 0 | Q31: =IF(P31=0,0,($D$31/$P$31)*100000) -> 0 | R31: =' Populations'!G91 -> 0 | S31: =IF(R31=0,0,($E$31/$R$31)*100000) -> 0 | T31: =' Populations'!I91 -> 0 | U31: =IF(T31=0,0,($F$31/$T$31)*100000) -> 0 | V31: =' Populations'!K91 -> 0 | W31: =IF(V31=0,0,($G$31/$V$31)*100000) -> 0 | X31: =' Populations'!M91 -> 0 | Y31: =IF(X31=0,0,($H$31/$X$31)*100000) -> 0 | Z31: =' Populations'!O91 -> 0 | AA31: =IF(Z31=0,0,($I$31/$Z$31)*100000) -> 0 | AB31: =' Populations'!Q91 -> 0 | AC31: =IF(AB31=0,0,($J$31/$AB$31)*100000) -> 0 | AD31: =' Populations'!S91 -> 0 | AE31: =IF(AD31=0,0,($K$31/$AD$31)*100000) -> 0 | AF31: =' Populations'!U91 -> 0 | AG31: =IF(AF31=0,0,($L$31/$AF$31)*100000) -> 0 | AK31: 0.066037 | AM31: =' Populations'!B19 -> 65-74 | AN31: =O31*AK31 -> 0 | AO31: =Q31*AK31 -> 0 | AP31: =S31*AK31 -> 0 | AQ31: =U31*AK31 -> 0 | AR31: =W31*AK31 -> 0 | AS31: =Y31*AK31 -> 0 | AT31: =AA31*AK31 -> 0 | AU31: =AC31*AK31 -> 0 | AV31: =AE31*AK31 -> 0 | AW31: =AG31*AK31 -> 0
B32: =' Populations'!B92 -> 75-84 | N32: =' Populations'!C92 -> 0 | O32: =IF(N32=0,0,($C$32/$N$32)*100000) -> 0 | P32: =' Populations'!E92 -> 0 | Q32: =IF(P32=0,0,($D$32/$P$32)*100000) -> 0 | R32: =' Populations'!G92 -> 0 | S32: =IF(R32=0,0,($E$32/$R$32)*100000) -> 0 | T32: =' Populations'!I92 -> 0 | U32: =IF(T32=0,0,($F$32/$T$32)*100000) -> 0 | V32: =' Populations'!K92 -> 0 | W32: =IF(V32=0,0,($G$32/$V$32)*100000) -> 0 | X32: =' Populations'!M92 -> 0 | Y32: =IF(X32=0,0,($H$32/$X$32)*100000) -> 0 | Z32: =' Populations'!O92 -> 0 | AA32: =IF(Z32=0,0,($I$32/$Z$32)*100000) -> 0 | AB32: =' Populations'!Q92 -> 0 | AC32: =IF(AB32=0,0,($J$32/$AB$32)*100000) -> 0 | AD32: =' Populations'!S92 -> 0 | AE32: =IF(AD32=0,0,($K$32/$AD$32)*100000) -> 0 | AF32: =' Populations'!U92 -> 0 | AG32: =IF(AF32=0,0,($L$32/$AF$32)*100000) -> 0 | AK32: 0.044841 | AM32: =' Populations'!B20 -> 75-84 | AN32: =O32*AK32 -> 0 | AO32: =Q32*AK32 -> 0 | AP32: =S32*AK32 -> 0 | AQ32: =U32*AK32 -> 0 | AR32: =W32*AK32 -> 0 | AS32: =Y32*AK32 -> 0 | AT32: =AA32*AK32 -> 0 | AU32: =AC32*AK32 -> 0 | AV32: =AE32*AK32 -> 0 | AW32: =AG32*AK32 -> 0
B33: =' Populations'!B93 -> 85+ | N33: =' Populations'!C93 -> 0 | O33: =IF(N33=0,0,($C$33/$N$33)*100000) -> 0 | P33: =' Populations'!E93 -> 0 | Q33: =IF(P33=0,0,($D$33/$P$33)*100000) -> 0 | R33: =' Populations'!G93 -> 0 | S33: =IF(R33=0,0,($E$33/$R$33)*100000) -> 0 | T33: =' Populations'!I93 -> 0 | U33: =IF(T33=0,0,($F$33/$T$33)*100000) -> 0 | V33: =' Populations'!K93 -> 0 | W33: =IF(V33=0,0,($G$33/$V$33)*100000) -> 0 | X33: =' Populations'!M93 -> 0 | Y33: =IF(X33=0,0,($H$33/$X$33)*100000) -> 0 | Z33: =' Populations'!O93 -> 0 | AA33: =IF(Z33=0,0,($I$33/$Z$33)*100000) -> 0 | AB33: =' Populations'!Q93 -> 0 | AC33: =IF(AB33=0,0,($J$33/$AB$33)*100000) -> 0 | AD33: =' Populations'!S93 -> 0 | AE33: =IF(AD33=0,0,($K$33/$AD$33)*100000) -> 0 | AF33: =' Populations'!U93 -> 0 | AG33: =IF(AF33=0,0,($L$33/$AF$33)*100000) -> 0 | AK33: 0.015508 | AM33: =' Populations'!B21 -> 85+ | AN33: =O33*AK33 -> 0 | AO33: =Q33*AK33 -> 0 | AP33: =S33*AK33 -> 0 | AQ33: =U33*AK33 -> 0 | AR33: =W33*AK33 -> 0 | AS33: =Y33*AK33 -> 0 | AT33: =AA33*AK33 -> 0 | AU33: =AC33*AK33 -> 0 | AV33: =AE33*AK33 -> 0 | AW33: =AG33*AK33 -> 0
B34: total | C34: =SUM(C21:C33) -> 0 | D34: =SUM(D21:D33) -> 0 | E34: =SUM(E21:E33) -> 0 | F34: =SUM(F21:F33) -> 0 | G34: =SUM(G21:G33) -> 0 | H34: =SUM(H21:H33) -> 0 | I34: =SUM(I21:I33) -> 0 | J34: =SUM(J21:J33) -> 0 | ... L34: =SUM(L21:L33) -> 0 | N34: =' Populations'!C94 -> 0 | O34: =SUM(O21:O33) -> 0 | P34: =' Populations'!E94 -> 0 | Q34: =SUM(Q21:Q33) -> 0 | R34: =' Populations'!G94 -> 0 | S34: =SUM(S21:S33) -> 0 | T34: =' Populations'!I94 -> 0 | U34: =SUM(U21:U33) -> 0 | V34: =' Populations'!K94 -> 0 | W34: =SUM(W21:W33) -> 0 | X34: =' Populations'!M94 -> 0 | Y34: =SUM(Y21:Y33) -> 0 | Z34: =' Populations'!O94 -> 0 | AA34: =SUM(AA21:AA33) -> 0 | AB34: =' Populations'!Q94 -> 0 | AC34: =SUM(AC21:AC33) -> 0 | AD34: =' Populations'!S94 -> 0 | AE34: =SUM(AE21:AE33) -> 0 | AF34: =' Populations'!U94 -> 0 | AG34: =SUM(AG21:AG33) -> 0 | AM34: =' Populations'!B22 -> Total | AN34: =SUM(AN21:AN33) -> 0 | AO34: =SUM(AO21:AO33) -> 0 | AP34: =SUM(AP21:AP33) -> 0 | AQ34: =SUM(AQ21:AQ33) -> 0 | AR34: =SUM(AR21:AR33) -> 0 | AS34: =SUM(AS21:AS33) -> 0 | AT34: =SUM(AT21:AT33) -> 0 | AU34: =SUM(AU21:AU33) -> 0 | ... AW34: =SUM(AW21:AW33) -> 0
D36: Sex Data | F36: Demographic Data | AN36: Age-adjusted Rates per 100,000 population
B37: Age | C37: Number of deaths- Total | D37: Number of deaths- Male | E37: Number of deaths- Female | F37: =' Populations'!I80 -> White-Not Hispanic | G37: =' Populations'!K80 -> Hispanic | H37: =' Populations'!M80 -> Black-Not Hispanic | I37: =' Populations'!O80 -> Asian | J37: =' Populations'!Q80 -> American Indian/Alaska Native | K37: =' Populations'!S80 -> Other | L37: =' Populations'!U80 -> Other | N37: State population - Total | O37: Rate | P37: State population - Male | Q37: Rate | R37: State population - Female | S37: Rate | T37: =' Populations'!I80 -> White-Not Hispanic | U37: Rate | V37: =' Populations'!K80 -> Hispanic | W37: Rate | X37: =' Populations'!M80 -> Black-Not Hispanic | Y37: Rate | Z37: =' Populations'!O80 -> Asian | AA37: Rate | AB37: =' Populations'!Q80 -> American Indian/Alaska Native | AC37: Rate | AD37: =' Populations'!S80 -> Other | AE37: Rate | AF37: =' Populations'!U80 -> Other | AG37: Rate | AJ37: 2000 State population | AK37: Weight | AM37: Age | AN37: Total | AO37: Male | AP37: Female | AQ37: =' Populations'!I80 -> White-Not Hispanic | AR37: =' Populations'!K80 -> Hispanic | AS37: =' Populations'!M80 -> Black-Not Hispanic | AT37: =' Populations'!O80 -> Asian | AU37: =' Populations'!Q80 -> American Indian/Alaska Native | AV37: =' Populations'!S80 -> Other | AW37: =' Populations'!U80 -> Other
B38: =' Populations'!B81 -> <1 | N38: =' Populations'!C81 -> 0 | O38: =IF(N38=0,0,($C$38/$N$38)*100000) -> 0 | P38: =' Populations'!E81 -> 0 | Q38: =IF(P38=0,0,($D$38/$P$38)*100000) -> 0 | R38: =' Populations'!G81 -> 0 | S38: =IF(R38=0,0,($E$38/$R$38)*100000) -> 0 | T38: =' Populations'!I81 -> 0 | U38: =IF(T38=0,0,($F$38/$T$38)*100000) -> 0 | V38: =' Populations'!K81 -> 0 | W38: =IF(V38=0,0,($G$38/$V$38)*100000) -> 0 | X38: =' Populations'!M81 -> 0 | Y38: =IF(X38=0,0,($H$38/$X$38)*100000) -> 0 | Z38: =' Populations'!O81 -> 0 | AA38: =IF(Z38=0,0,($I$38/$Z$38)*100000) -> 0 | AB38: =' Populations'!Q81 -> 0 | AC38: =IF(AB38=0,0,($J$38/$AB$38)*100000) -> 0 | AD38: =' Populations'!S81 -> 0 | AE38: =IF(AD38=0,0,($K$38/$AD$38)*100000) -> 0 | AF38: =' Populations'!U81 -> 0 | AG38: =IF(AF38=0,0,($L$38/$AF$38)*100000) -> 0 | AK38: 0.013818 | AM38: =' Populations'!B9 -> <1 | AN38: =O38*AK38 -> 0 | AO38: =Q38*AK38 -> 0 | AP38: =S38*AK38 -> 0 | AQ38: =U38*AK38 -> 0 | AR38: =W38*AK38 -> 0 | AS38: =Y38*AK38 -> 0 | AT38: =AA38*AK38 -> 0 | AU38: =AC38*AK38 -> 0 | AV38: =AE38*AK38 -> 0 | AW38: =AG38*AK38 -> 0
B39: =' Populations'!B82 -> 1-4 | N39: =' Populations'!C82 -> 0 | O39: =IF(N39=0,0,($C$39/$N$39)*100000) -> 0 | P39: =' Populations'!E82 -> 0 | Q39: =IF(P39=0,0,($D$39/$P$39)*100000) -> 0 | R39: =' Populations'!G82 -> 0 | S39: =IF(R39=0,0,($E$39/$R$39)*100000) -> 0 | T39: =' Populations'!I82 -> 0 | U39: =IF(T39=0,0,($F$39/$T$39)*100000) -> 0 | V39: =' Populations'!K82 -> 0 | W39: =IF(V39=0,0,($G$39/$V$39)*100000) -> 0 | X39: =' Populations'!M82 -> 0 | Y39: =IF(X39=0,0,($H$39/$X$39)*100000) -> 0 | Z39: =' Populations'!O82 -> 0 | AA39: =IF(Z39=0,0,($I$39/$Z$39)*100000) -> 0 | AB39: =' Populations'!Q82 -> 0 | AC39: =IF(AB39=0,0,($J$39/$AB$39)*100000) -> 0 | AD39: =' Populations'!S82 -> 0 | AE39: =IF(AD39=0,0,($K$39/$AD$39)*100000) -> 0 | AF39: =' Populations'!U82 -> 0 | AG39: =IF(AF39=0,0,($L$39/$AF$39)*100000) -> 0 | AK39: 0.055317 | AM39: =' Populations'!B10 -> 1-4 | AN39: =O39*AK39 -> 0 | AO39: =Q39*AK39 -> 0 | AP39: =S39*AK39 -> 0 | AQ39: =U39*AK39 -> 0 | AR39: =W39*AK39 -> 0 | AS39: =Y39*AK39 -> 0 | AT39: =AA39*AK39 -> 0 | AU39: =AC39*AK39 -> 0 | AV39: =AE39*AK39 -> 0 | AW39: =AG39*AK39 -> 0
B40: =' Populations'!B83 -> 5-9 | N40: =' Populations'!C83 -> 0 | O40: =IF(N40=0,0,($C$40/$N$40)*100000) -> 0 | P40: =' Populations'!E83 -> 0 | Q40: =IF(P40=0,0,($D$40/$P$40)*100000) -> 0 | R40: =' Populations'!G83 -> 0 | S40: =IF(R40=0,0,($E$40/$R$40)*100000) -> 0 | T40: =' Populations'!I83 -> 0 | U40: =IF(T40=0,0,($F$40/$T$40)*100000) -> 0 | V40: =' Populations'!K83 -> 0 | W40: =IF(V40=0,0,($G$40/$V$40)*100000) -> 0 | X40: =' Populations'!M83 -> 0 | Y40: =IF(X40=0,0,($H$40/$X$40)*100000) -> 0 | Z40: =' Populations'!O83 -> 0 | AA40: =IF(Z40=0,0,($I$40/$Z$40)*100000) -> 0 | AB40: =' Populations'!Q83 -> 0 | AC40: =IF(AB40=0,0,($J$40/$AB$40)*100000) -> 0 | AD40: =' Populations'!S83 -> 0 | AE40: =IF(AD40=0,0,($K$40/$AD$40)*100000) -> 0 | AF40: =' Populations'!U83 -> 0 | AG40: =IF(AF40=0,0,($L$40/$AF$40)*100000) -> 0 | AK40: 0.072533 | AM40: =' Populations'!B11 -> 5-9 | AN40: =O40*AK40 -> 0 | AO40: =Q40*AK40 -> 0 | AP40: =S40*AK40 -> 0 | AQ40: =U40*AK40 -> 0 | AR40: =W40*AK40 -> 0 | AS40: =Y40*AK40 -> 0 | AT40: =AA40*AK40 -> 0 | AU40: =AC40*AK40 -> 0 | AV40: =AE40*AK40 -> 0 | AW40: =AG40*AK40 -> 0
B41: =' Populations'!B84 -> 10-14 | N41: =' Populations'!C84 -> 0 | O41: =IF(N41=0,0,($C$41/$N$41)*100000) -> 0 | P41: =' Populations'!E84 -> 0 | Q41: =IF(P41=0,0,($D$41/$P$41)*100000) -> 0 | R41: =' Populations'!G84 -> 0 | S41: =IF(R41=0,0,($E$41/$R$41)*100000) -> 0 | T41: =' Populations'!I84 -> 0 | U41: =IF(T41=0,0,($F$41/$T$41)*100000) -> 0 | V41: =' Populations'!K84 -> 0 | W41: =IF(V41=0,0,($G$41/$V$41)*100000) -> 0 | X41: =' Populations'!M84 -> 0 | Y41: =IF(X41=0,0,($H$41/$X$41)*100000) -> 0 | Z41: =' Populations'!O84 -> 0 | AA41: =IF(Z41=0,0,($I$41/$Z$41)*100000) -> 0 | AB41: =' Populations'!Q84 -> 0 | AC41: =IF(AB41=0,0,($J$41/$AB$41)*100000) -> 0 | AD41: =' Populations'!S84 -> 0 | AE41: =IF(AD41=0,0,($K$41/$AD$41)*100000) -> 0 | AF41: =' Populations'!U84 -> 0 | AG41: =IF(AF41=0,0,($L$41/$AF$41)*100000) -> 0 | AK41: 0.073032 | AM41: =' Populations'!B12 -> 10-14 | AN41: =O41*AK41 -> 0 | AO41: =Q41*AK41 -> 0 | AP41: =S41*AK41 -> 0 | AQ41: =U41*AK41 -> 0 | AR41: =W41*AK41 -> 0 | AS41: =Y41*AK41 -> 0 | AT41: =AA41*AK41 -> 0 | AU41: =AC41*AK41 -> 0 | AV41: =AE41*AK41 -> 0 | AW41: =AG41*AK41 -> 0
B42: =' Populations'!B85 -> 15-19 | N42: =' Populations'!C85 -> 0 | O42: =IF(N42=0,0,($C$42/$N$42)*100000) -> 0 | P42: =' Populations'!E85 -> 0 | Q42: =IF(P42=0,0,($D$42/$P$42)*100000) -> 0 | R42: =' Populations'!G85 -> 0 | S42: =IF(R42=0,0,($E$42/$R$42)*100000) -> 0 | T42: =' Populations'!I85 -> 0 | U42: =IF(T42=0,0,($F$42/$T$42)*100000) -> 0 | V42: =' Populations'!K85 -> 0 | W42: =IF(V42=0,0,($G$42/$V$42)*100000) -> 0 | X42: =' Populations'!M85 -> 0 | Y42: =IF(X42=0,0,($H$42/$X$42)*100000) -> 0 | Z42: =' Populations'!O85 -> 0 | AA42: =IF(Z42=0,0,($I$42/$Z$42)*100000) -> 0 | AB42: =' Populations'!Q85 -> 0 | AC42: =IF(AB42=0,0,($J$42/$AB$42)*100000) -> 0 | AD42: =' Populations'!S85 -> 0 | AE42: =IF(AD42=0,0,($K$42/$AD$42)*100000) -> 0 | AF42: =' Populations'!U85 -> 0 | AG42: =IF(AF42=0,0,($L$42/$AF$42)*100000) -> 0 | AK42: 0.072169 | AM42: =' Populations'!B13 -> 15-19 | AN42: =O42*AK42 -> 0 | AO42: =Q42*AK42 -> 0 | AP42: =S42*AK42 -> 0 | AQ42: =U42*AK42 -> 0 | AR42: =W42*AK42 -> 0 | AS42: =Y42*AK42 -> 0 | AT42: =AA42*AK42 -> 0 | AU42: =AC42*AK42 -> 0 | AV42: =AE42*AK42 -> 0 | AW42: =AG42*AK42 -> 0
B43: =' Populations'!B86 -> 20-24 | N43: =' Populations'!C86 -> 0 | O43: =IF(N43=0,0,($C$43/$N$43)*100000) -> 0 | P43: =' Populations'!E86 -> 0 | Q43: =IF(P43=0,0,($D$43/$P$43)*100000) -> 0 | R43: =' Populations'!G86 -> 0 | S43: =IF(R43=0,0,($E$43/$R$43)*100000) -> 0 | T43: =' Populations'!I86 -> 0 | U43: =IF(T43=0,0,($F$43/$T$43)*100000) -> 0 | V43: =' Populations'!K86 -> 0 | W43: =IF(V43=0,0,($G$43/$V$43)*100000) -> 0 | X43: =' Populations'!M86 -> 0 | Y43: =IF(X43=0,0,($H$43/$X$43)*100000) -> 0 | Z43: =' Populations'!O86 -> 0 | AA43: =IF(Z43=0,0,($I$43/$Z$43)*100000) -> 0 | AB43: =' Populations'!Q86 -> 0 | AC43: =IF(AB43=0,0,($J$43/$AB$43)*100000) -> 0 | AD43: =' Populations'!S86 -> 0 | AE43: =IF(AD43=0,0,($K$43/$AD$43)*100000) -> 0 | AF43: =' Populations'!U86 -> 0 | AG43: =IF(AF43=0,0,($L$43/$AF$43)*100000) -> 0 | AK43: 0.066478 | AM43: =' Populations'!B14 -> 20-24 | AN43: =O43*AK43 -> 0 | AO43: =Q43*AK43 -> 0 | AP43: =S43*AK43 -> 0 | AQ43: =U43*AK43 -> 0 | AR43: =W43*AK43 -> 0 | AS43: =Y43*AK43 -> 0 | AT43: =AA43*AK43 -> 0 | AU43: =AC43*AK43 -> 0 | AV43: =AE43*AK43 -> 0 | AW43: =AG43*AK43 -> 0
B44: =' Populations'!B87 -> 25-34 | N44: =' Populations'!C87 -> 0 | O44: =IF(N44=0,0,($C$44/$N$44)*100000) -> 0 | P44: =' Populations'!E87 -> 0 | Q44: =IF(P44=0,0,($D$44/$P$44)*100000) -> 0 | R44: =' Populations'!G87 -> 0 | S44: =IF(R44=0,0,($E$44/$R$44)*100000) -> 0 | T44: =' Populations'!I87 -> 0 | U44: =IF(T44=0,0,($F$44/$T$44)*100000) -> 0 | V44: =' Populations'!K87 -> 0 | W44: =IF(V44=0,0,($G$44/$V$44)*100000) -> 0 | X44: =' Populations'!M87 -> 0 | Y44: =IF(X44=0,0,($H$44/$X$44)*100000) -> 0 | Z44: =' Populations'!O87 -> 0 | AA44: =IF(Z44=0,0,($I$44/$Z$44)*100000) -> 0 | AB44: =' Populations'!Q87 -> 0 | AC44: =IF(AB44=0,0,($J$44/$AB$44)*100000) -> 0 | AD44: =' Populations'!S87 -> 0 | AE44: =IF(AD44=0,0,($K$44/$AD$44)*100000) -> 0 | AF44: =' Populations'!U87 -> 0 | AG44: =IF(AF44=0,0,($L$44/$AF$44)*100000) -> 0 | AK44: 0.135573 | AM44: =' Populations'!B15 -> 25-34 | AN44: =O44*AK44 -> 0 | AO44: =Q44*AK44 -> 0 | AP44: =S44*AK44 -> 0 | AQ44: =U44*AK44 -> 0 | AR44: =W44*AK44 -> 0 | AS44: =Y44*AK44 -> 0 | AT44: =AA44*AK44 -> 0 | AU44: =AC44*AK44 -> 0 | AV44: =AE44*AK44 -> 0 | AW44: =AG44*AK44 -> 0
B45: =' Populations'!B88 -> 35-44 | N45: =' Populations'!C88 -> 0 | O45: =IF(N45=0,0,($C$45/$N$45)*100000) -> 0 | P45: =' Populations'!E88 -> 0 | Q45: =IF(P45=0,0,($D$45/$P$45)*100000) -> 0 | R45: =' Populations'!G88 -> 0 | S45: =IF(R45=0,0,($E$45/$R$45)*100000) -> 0 | T45: =' Populations'!I88 -> 0 | U45: =IF(T45=0,0,($F$45/$T$45)*100000) -> 0 | V45: =' Populations'!K88 -> 0 | W45: =IF(V45=0,0,($G$45/$V$45)*100000) -> 0 | X45: =' Populations'!M88 -> 0 | Y45: =IF(X45=0,0,($H$45/$X$45)*100000) -> 0 | Z45: =' Populations'!O88 -> 0 | AA45: =IF(Z45=0,0,($I$45/$Z$45)*100000) -> 0 | AB45: =' Populations'!Q88 -> 0 | AC45: =IF(AB45=0,0,($J$45/$AB$45)*100000) -> 0 | AD45: =' Populations'!S88 -> 0 | AE45: =IF(AD45=0,0,($K$45/$AD$45)*100000) -> 0 | AF45: =' Populations'!U88 -> 0 | AG45: =IF(AF45=0,0,($L$45/$AF$45)*100000) -> 0 | AK45: 0.162613 | AM45: =' Populations'!B16 -> 35-44 | AN45: =O45*AK45 -> 0 | AO45: =Q45*AK45 -> 0 | AP45: =S45*AK45 -> 0 | AQ45: =U45*AK45 -> 0 | AR45: =W45*AK45 -> 0 | AS45: =Y45*AK45 -> 0 | AT45: =AA45*AK45 -> 0 | AU45: =AC45*AK45 -> 0 | AV45: =AE45*AK45 -> 0 | AW45: =AG45*AK45 -> 0
B46: =' Populations'!B89 -> 45-54 | N46: =' Populations'!C89 -> 0 | O46: =IF(N46=0,0,($C$46/$N$46)*100000) -> 0 | P46: =' Populations'!E89 -> 0 | Q46: =IF(P46=0,0,($D$46/$P$46)*100000) -> 0 | R46: =' Populations'!G89 -> 0 | S46: =IF(R46=0,0,($E$46/$R$46)*100000) -> 0 | T46: =' Populations'!I89 -> 0 | U46: =IF(T46=0,0,($F$46/$T$46)*100000) -> 0 | V46: =' Populations'!K89 -> 0 | W46: =IF(V46=0,0,($G$46/$V$46)*100000) -> 0 | X46: =' Populations'!M89 -> 0 | Y46: =IF(X46=0,0,($H$46/$X$46)*100000) -> 0 | Z46: =' Populations'!O89 -> 0 | AA46: =IF(Z46=0,0,($I$46/$Z$46)*100000) -> 0 | AB46: =' Populations'!Q89 -> 0 | AC46: =IF(AB46=0,0,($J$46/$AB$46)*100000) -> 0 | AD46: =' Populations'!S89 -> 0 | AE46: =IF(AD46=0,0,($K$46/$AD$46)*100000) -> 0 | AF46: =' Populations'!U89 -> 0 | AG46: =IF(AF46=0,0,($L$46/$AF$46)*100000) -> 0 | AK46: 0.134834 | AM46: =' Populations'!B17 -> 45-54 | AN46: =O46*AK46 -> 0 | AO46: =Q46*AK46 -> 0 | AP46: =S46*AK46 -> 0 | AQ46: =U46*AK46 -> 0 | AR46: =W46*AK46 -> 0 | AS46: =Y46*AK46 -> 0 | AT46: =AA46*AK46 -> 0 | AU46: =AC46*AK46 -> 0 | AV46: =AE46*AK46 -> 0 | AW46: =AG46*AK46 -> 0
B47: =' Populations'!B90 -> 55-64 | N47: =' Populations'!C90 -> 0 | O47: =IF(N47=0,0,($C$47/$N$47)*100000) -> 0 | P47: =' Populations'!E90 -> 0 | Q47: =IF(P47=0,0,($D$47/$P$47)*100000) -> 0 | R47: =' Populations'!G90 -> 0 | S47: =IF(R47=0,0,($E$47/$R$47)*100000) -> 0 | T47: =' Populations'!I90 -> 0 | U47: =IF(T47=0,0,($F$47/$T$47)*100000) -> 0 | V47: =' Populations'!K90 -> 0 | W47: =IF(V47=0,0,($G$47/$V$47)*100000) -> 0 | X47: =' Populations'!M90 -> 0 | Y47: =IF(X47=0,0,($H$47/$X$47)*100000) -> 0 | Z47: =' Populations'!O90 -> 0 | AA47: =IF(Z47=0,0,($I$47/$Z$47)*100000) -> 0 | AB47: =' Populations'!Q90 -> 0 | AC47: =IF(AB47=0,0,($J$47/$AB$47)*100000) -> 0 | AD47: =' Populations'!S90 -> 0 | AE47: =IF(AD47=0,0,($K$47/$AD$47)*100000) -> 0 | AF47: =' Populations'!U90 -> 0 | AG47: =IF(AF47=0,0,($L$47/$AF$47)*100000) -> 0 | AK47: 0.087247 | AM47: =' Populations'!B18 -> 55-64 | AN47: =O47*AK47 -> 0 | AO47: =Q47*AK47 -> 0 | AP47: =S47*AK47 -> 0 | AQ47: =U47*AK47 -> 0 | AR47: =W47*AK47 -> 0 | AS47: =Y47*AK47 -> 0 | AT47: =AA47*AK47 -> 0 | AU47: =AC47*AK47 -> 0 | AV47: =AE47*AK47 -> 0 | AW47: =AG47*AK47 -> 0
B48: =' Populations'!B91 -> 65-74 | N48: =' Populations'!C91 -> 0 | O48: =IF(N48=0,0,($C$48/$N$48)*100000) -> 0 | P48: =' Populations'!E91 -> 0 | Q48: =IF(P48=0,0,($D$48/$P$48)*100000) -> 0 | R48: =' Populations'!G91 -> 0 | S48: =IF(R48=0,0,($E$48/$R$48)*100000) -> 0 | T48: =' Populations'!I91 -> 0 | U48: =IF(T48=0,0,($F$48/$T$48)*100000) -> 0 | V48: =' Populations'!K91 -> 0 | W48: =IF(V48=0,0,($G$48/$V$48)*100000) -> 0 | X48: =' Populations'!M91 -> 0 | Y48: =IF(X48=0,0,($H$48/$X$48)*100000) -> 0 | Z48: =' Populations'!O91 -> 0 | AA48: =IF(Z48=0,0,($I$48/$Z$48)*100000) -> 0 | AB48: =' Populations'!Q91 -> 0 | AC48: =IF(AB48=0,0,($J$48/$AB$48)*100000) -> 0 | AD48: =' Populations'!S91 -> 0 | AE48: =IF(AD48=0,0,($K$48/$AD$48)*100000) -> 0 | AF48: =' Populations'!U91 -> 0 | AG48: =IF(AF48=0,0,($L$48/$AF$48)*100000) -> 0 | AK48: 0.066037 | AM48: =' Populations'!B19 -> 65-74 | AN48: =O48*AK48 -> 0 | AO48: =Q48*AK48 -> 0 | AP48: =S48*AK48 -> 0 | AQ48: =U48*AK48 -> 0 | AR48: =W48*AK48 -> 0 | AS48: =Y48*AK48 -> 0 | AT48: =AA48*AK48 -> 0 | AU48: =AC48*AK48 -> 0 | AV48: =AE48*AK48 -> 0 | AW48: =AG48*AK48 -> 0
B49: =' Populations'!B92 -> 75-84 | N49: =' Populations'!C92 -> 0 | O49: =IF(N49=0,0,($C$49/$N$49)*100000) -> 0 | P49: =' Populations'!E92 -> 0 | Q49: =IF(P49=0,0,($D$49/$P$49)*100000) -> 0 | R49: =' Populations'!G92 -> 0 | S49: =IF(R49=0,0,($E$49/$R$49)*100000) -> 0 | T49: =' Populations'!I92 -> 0 | U49: =IF(T49=0,0,($F$49/$T$49)*100000) -> 0 | V49: =' Populations'!K92 -> 0 | W49: =IF(V49=0,0,($G$49/$V$49)*100000) -> 0 | X49: =' Populations'!M92 -> 0 | Y49: =IF(X49=0,0,($H$49/$X$49)*100000) -> 0 | Z49: =' Populations'!O92 -> 0 | AA49: =IF(Z49=0,0,($I$49/$Z$49)*100000) -> 0 | AB49: =' Populations'!Q92 -> 0 | AC49: =IF(AB49=0,0,($J$49/$AB$49)*100000) -> 0 | AD49: =' Populations'!S92 -> 0 | AE49: =IF(AD49=0,0,($K$49/$AD$49)*100000) -> 0 | AF49: =' Populations'!U92 -> 0 | AG49: =IF(AF49=0,0,($L$49/$AF$49)*100000) -> 0 | AK49: 0.044841 | AM49: =' Populations'!B20 -> 75-84 | AN49: =O49*AK49 -> 0 | AO49: =Q49*AK49 -> 0 | AP49: =S49*AK49 -> 0 | AQ49: =U49*AK49 -> 0 | AR49: =W49*AK49 -> 0 | AS49: =Y49*AK49 -> 0 | AT49: =AA49*AK49 -> 0 | AU49: =AC49*AK49 -> 0 | AV49: =AE49*AK49 -> 0 | AW49: =AG49*AK49 -> 0
B50: =' Populations'!B93 -> 85+ | N50: =' Populations'!C93 -> 0 | O50: =IF(N50=0,0,($C$50/$N$50)*100000) -> 0 | P50: =' Populations'!E93 -> 0 | Q50: =IF(P50=0,0,($D$50/$P$50)*100000) -> 0 | R50: =' Populations'!G93 -> 0 | S50: =IF(R50=0,0,($E$50/$R$50)*100000) -> 0 | T50: =' Populations'!I93 -> 0 | U50: =IF(T50=0,0,($F$50/$T$50)*100000) -> 0 | V50: =' Populations'!K93 -> 0 | W50: =IF(V50=0,0,($G$50/$V$50)*100000) -> 0 | X50: =' Populations'!M93 -> 0 | Y50: =IF(X50=0,0,($H$50/$X$50)*100000) -> 0 | Z50: =' Populations'!O93 -> 0 | AA50: =IF(Z50=0,0,($I$50/$Z$50)*100000) -> 0 | AB50: =' Populations'!Q93 -> 0 | AC50: =IF(AB50=0,0,($J$50/$AB$50)*100000) -> 0 | AD50: =' Populations'!S93 -> 0 | AE50: =IF(AD50=0,0,($K$50/$AD$50)*100000) -> 0 | AF50: =' Populations'!U93 -> 0 | AG50: =IF(AF50=0,0,($L$50/$AF$50)*100000) -> 0 | AK50: 0.015508 | AM50: =' Populations'!B21 -> 85+ | AN50: =O50*AK50 -> 0 | AO50: =Q50*AK50 -> 0 | AP50: =S50*AK50 -> 0 | AQ50: =U50*AK50 -> 0 | AR50: =W50*AK50 -> 0 | AS50: =Y50*AK50 -> 0 | AT50: =AA50*AK50 -> 0 | AU50: =AC50*AK50 -> 0 | AV50: =AE50*AK50 -> 0 | AW50: =AG50*AK50 -> 0
B51: total | C51: =SUM(C38:C50) -> 0 | D51: =SUM(D38:D50) -> 0 | E51: =SUM(E38:E50) -> 0 | F51: =SUM(F38:F50) -> 0 | G51: =SUM(G38:G50) -> 0 | H51: =SUM(H38:H50) -> 0 | I51: =SUM(I38:I50) -> 0 | J51: =SUM(J38:J50) -> 0 | ... L51: =SUM(L38:L50) -> 0 | N51: =' Populations'!C94 -> 0 | O51: =SUM(O38:O50) -> 0 | P51: =' Populations'!E94 -> 0 | Q51: =SUM(Q38:Q50) -> 0 | R51: =' Populations'!G94 -> 0 | S51: =SUM(S38:S50) -> 0 | T51: =' Populations'!I94 -> 0 | U51: =SUM(U38:U50) -> 0 | V51: =' Populations'!K94 -> 0 | W51: =SUM(W38:W50) -> 0 | X51: =' Populations'!M94 -> 0 | Y51: =SUM(Y38:Y50) -> 0 | Z51: =' Populations'!O94 -> 0 | AA51: =SUM(AA38:AA50) -> 0 | AB51: =' Populations'!Q94 -> 0 | AC51: =SUM(AC38:AC50) -> 0 | AD51: =' Populations'!S94 -> 0 | AE51: =SUM(AE38:AE50) -> 0 | AF51: =' Populations'!U94 -> 0 | AG51: =SUM(AG38:AG50) -> 0 | AM51: =' Populations'!B22 -> Total | AN51: =SUM(AN38:AN50) -> 0 | AO51: =SUM(AO38:AO50) -> 0 | AP51: =SUM(AP38:AP50) -> 0 | AQ51: =SUM(AQ38:AQ50) -> 0 | AR51: =SUM(AR38:AR50) -> 0 | AS51: =SUM(AS38:AS50) -> 0 | AT51: =SUM(AT38:AT50) -> 0 | AU51: =SUM(AU38:AU50) -> 0 | ... AW51: =SUM(AW38:AW50) -> 0

Sheet 2017
A1: =' Populations'!A63 -> 2017 | B1: Data Input Tables Instructions: Enter your TBI-related injury data in the red cells below. The age-adjusted rates will automatically calculate in the results table. | F1: Use columns F through L to enter demographic data | N1: Optional: Unhide columns O through AK to show rate calculations and 2000 population weights | AI1: Enter 2000 State population by age group. Columns AM through AV will then autogenerate age adjusted rates per 100,000 | AL1: Results Table Age Adjusted Rates per 100,1000. Results will calculate automatically.
D2: Sex Data | F2: Demographic Data | AM2: Age-adjusted Rates per 100,000 population
B3: Age | C3: Number of hospitalizations- Total | D3: Number of hospitalizations- Male | E3: Number of hospitalizations- Female | F3: =' Populations'!I62 -> White-Not Hispanic | G3: =' Populations'!K62 -> Hispanic | H3: =' Populations'!M62 -> Black-Not Hispanic | I3: =' Populations'!O62 -> Asian | J3: =' Populations'!Q62 -> American Indian/Alaska Native | K3: =' Populations'!S62 -> Other | L3: =' Populations'!U62 -> Other | N3: State Population Total | O3: Rate | P3: Male | Q3: Rate | R3: Female | S3: Rate | T3: =' Populations'!I62 -> White-Not Hispanic | U3: Rate | V3: =' Populations'!K62 -> Hispanic | W3: Rate | X3: =' Populations'!M62 -> Black-Not Hispanic | Y3: Rate | Z3: =' Populations'!O62 -> Asian | AA3: Rate | AB3: =' Populations'!Q62 -> American Indian/Alaska Native | AC3: Rate | AD3: =' Populations'!S62 -> Other | AE3: Rate | AF3: =' Populations'!U62 -> Other | AG3: Rate | AI3: 2000 State population | AJ3: Weight | AL3: Age | AM3: Total | AN3: Male | AO3: Female | AP3: =' Populations'!I62 -> White-Not Hispanic | AQ3: =' Populations'!K62 -> Hispanic | AR3: =' Populations'!M62 -> Black-Not Hispanic | AS3: =' Populations'!O62 -> Asian | AT3: =' Populations'!Q62 -> American Indian/Alaska Native | AU3: =' Populations'!S62 -> Other | AV3: =' Populations'!U62 -> Other
B4: =' Populations'!B81 -> <1 | N4: =' Populations'!C63 -> 0 | O4: =IF(N4=0,0,($C$4/$N$4)*100000) -> 0 | P4: =' Populations'!E63 -> 0 | Q4: =IF(P4=0,0,($D$4/$P$4)*100000) -> 0 | R4: =' Populations'!G63 -> 0 | S4: =IF(R4=0,0,($E$4/$R$4)*100000) -> 0 | T4: =' Populations'!I63 -> 0 | U4: =IF(T4=0,0,($F$4/$T$4)*100000) -> 0 | V4: =' Populations'!K63 -> 0 | W4: =IF(V4=0,0,($G$4/$V$4)*100000) -> 0 | X4: =' Populations'!M63 -> 0 | Y4: =IF(X4=0,0,($H$4/$X$4)*100000) -> 0 | Z4: =' Populations'!O63 -> 0 | AA4: =IF(Z4=0,0,($I$4/$Z$4)*100000) -> 0 | AB4: =' Populations'!Q63 -> 0 | AC4: =IF(AB4=0,0,($J$4/$AB$4)*100000) -> 0 | AD4: =' Populations'!S63 -> 0 | AE4: =IF(AD4=0,0,($K$4/$AD$4)*100000) -> 0 | AF4: =' Populations'!U63 -> 0 | AG4: =IF(AF4=0,0,($L$4/$AF$4)*100000) -> 0 | AJ4: 0.013818 | AL4: =' Populations'!B9 -> <1 | AM4: =O4*AJ4 -> 0 | AN4: =Q4*AJ4 -> 0 | AO4: =S4*AJ4 -> 0 | AP4: =U4*AJ4 -> 0 | AQ4: =W4*AJ4 -> 0 | AR4: =Y4*AJ4 -> 0 | AS4: =AA4*AJ4 -> 0 | AT4: =AC4*AJ4 -> 0 | AU4: =AE4*AJ4 -> 0 | AV4: =AG4*AJ4 -> 0
B5: =' Populations'!B82 -> 1-4 | N5: =' Populations'!C64 -> 0 | O5: =IF(N5=0,0,($C$5/$N$5)*100000) -> 0 | P5: =' Populations'!E64 -> 0 | Q5: =IF(P5=0,0,($D$5/$P$5)*100000) -> 0 | R5: =' Populations'!G64 -> 0 | S5: =IF(R5=0,0,($E$5/$R$5)*100000) -> 0 | T5: =' Populations'!I64 -> 0 | U5: =IF(T5=0,0,($F$5/$T$5)*100000) -> 0 | V5: =' Populations'!K64 -> 0 | W5: =IF(V5=0,0,($G$5/$V$5)*100000) -> 0 | X5: =' Populations'!M64 -> 0 | Y5: =IF(X5=0,0,($G$5/$X$5)*100000) -> 0 | Z5: =' Populations'!O64 -> 0 | AA5: =IF(Z5=0,0,($I$5/$Z$5)*100000) -> 0 | AB5: =' Populations'!Q64 -> 0 | AC5: =IF(AB5=0,0,($J$5/$AB$5)*100000) -> 0 | AD5: =' Populations'!S64 -> 0 | AE5: =IF(AD5=0,0,($K$5/$AD$5)*100000) -> 0 | AF5: =' Populations'!U64 -> 0 | AG5: =IF(AF5=0,0,($L$5/$AF$5)*100000) -> 0 | AJ5: 0.055317 | AL5: =' Populations'!B10 -> 1-4 | AM5: =O5*AJ5 -> 0 | AN5: =Q5*AJ5 -> 0 | AO5: =S5*AJ5 -> 0 | AP5: =U5*AJ5 -> 0 | AQ5: =W5*AJ5 -> 0 | AR5: =Y5*AJ5 -> 0 | AS5: =AA5*AJ5 -> 0 | AT5: =AC5*AJ5 -> 0 | AU5: =AE5*AJ5 -> 0 | AV5: =AG5*AJ5 -> 0
B6: =' Populations'!B83 -> 5-9 | N6: =' Populations'!C65 -> 0 | O6: =IF(N6=0,0,($C$6/$N$6)*100000) -> 0 | P6: =' Populations'!E65 -> 0 | Q6: =IF(P6=0,0,($D$6/$P$6)*100000) -> 0 | R6: =' Populations'!G65 -> 0 | S6: =IF(R6=0,0,($E$6/$R$6)*100000) -> 0 | T6: =' Populations'!I65 -> 0 | U6: =IF(T6=0,0,($F$6/$T$6)*100000) -> 0 | V6: =' Populations'!K65 -> 0 | W6: =IF(V6=0,0,($G$6/$V$6)*100000) -> 0 | X6: =' Populations'!M65 -> 0 | Y6: =IF(X6=0,0,($G$6/$X$6)*100000) -> 0 | Z6: =' Populations'!O65 -> 0 | AA6: =IF(Z6=0,0,($I$6/$Z$6)*100000) -> 0 | AB6: =' Populations'!Q65 -> 0 | AC6: =IF(AB6=0,0,($J$6/$AB$6)*100000) -> 0 | AD6: =' Populations'!S65 -> 0 | AE6: =IF(AD6=0,0,($K$6/$AD$6)*100000) -> 0 | AF6: =' Populations'!U65 -> 0 | AG6: =IF(AF6=0,0,($L$6/$AF$6)*100000) -> 0 | AJ6: 0.072533 | AL6: =' Populations'!B11 -> 5-9 | AM6: =O6*AJ6 -> 0 | AN6: =Q6*AJ6 -> 0 | AO6: =S6*AJ6 -> 0 | AP6: =U6*AJ6 -> 0 | AQ6: =W6*AJ6 -> 0 | AR6: =Y6*AJ6 -> 0 | AS6: =AA6*AJ6 -> 0 | AT6: =AC6*AJ6 -> 0 | AU6: =AE6*AJ6 -> 0 | AV6: =AG6*AJ6 -> 0
B7: =' Populations'!B84 -> 10-14 | N7: =' Populations'!C66 -> 0 | O7: =IF(N7=0,0,($C$7/$N$7)*100000) -> 0 | P7: =' Populations'!E66 -> 0 | Q7: =IF(P7=0,0,($D$7/$P$7)*100000) -> 0 | R7: =' Populations'!G66 -> 0 | S7: =IF(R7=0,0,($E$7/$R$7)*100000) -> 0 | T7: =' Populations'!I66 -> 0 | U7: =IF(T7=0,0,($F$7/$T$7)*100000) -> 0 | V7: =' Populations'!K66 -> 0 | W7: =IF(V7=0,0,($G$7/$V$7)*100000) -> 0 | X7: =' Populations'!M66 -> 0 | Y7: =IF(X7=0,0,($G$7/$X$7)*100000) -> 0 | Z7: =' Populations'!O66 -> 0 | AA7: =IF(Z7=0,0,($I$7/$Z$7)*100000) -> 0 | AB7: =' Populations'!Q66 -> 0 | AC7: =IF(AB7=0,0,($J$7/$AB$7)*100000) -> 0 | AD7: =' Populations'!S66 -> 0 | AE7: =IF(AD7=0,0,($K$7/$AD$7)*100000) -> 0 | AF7: =' Populations'!U66 -> 0 | AG7: =IF(AF7=0,0,($L$7/$AF$7)*100000) -> 0 | AJ7: 0.073032 | AL7: =' Populations'!B12 -> 10-14 | AM7: =O7*AJ7 -> 0 | AN7: =Q7*AJ7 -> 0 | AO7: =S7*AJ7 -> 0 | AP7: =U7*AJ7 -> 0 | AQ7: =W7*AJ7 -> 0 | AR7: =Y7*AJ7 -> 0 | AS7: =AA7*AJ7 -> 0 | AT7: =AC7*AJ7 -> 0 | AU7: =AE7*AJ7 -> 0 | AV7: =AG7*AJ7 -> 0
B8: =' Populations'!B85 -> 15-19 | N8: =' Populations'!C67 -> 0 | O8: =IF(N8=0,0,($C$8/$N$8)*100000) -> 0 | P8: =' Populations'!E67 -> 0 | Q8: =IF(P8=0,0,($D$8/$P$8)*100000) -> 0 | R8: =' Populations'!G67 -> 0 | S8: =IF(R8=0,0,($E$8/$R$8)*100000) -> 0 | T8: =' Populations'!I67 -> 0 | U8: =IF(T8=0,0,($F$8/$T$8)*100000) -> 0 | V8: =' Populations'!K67 -> 0 | W8: =IF(V8=0,0,($G$8/$V$8)*100000) -> 0 | X8: =' Populations'!M67 -> 0 | Y8: =IF(X8=0,0,($G$8/$X$8)*100000) -> 0 | Z8: =' Populations'!O67 -> 0 | AA8: =IF(Z8=0,0,($I$8/$Z$8)*100000) -> 0 | AB8: =' Populations'!Q67 -> 0 | AC8: =IF(AB8=0,0,($J$8/$AB$8)*100000) -> 0 | AD8: =' Populations'!S67 -> 0 | AE8: =IF(AD8=0,0,($K$8/$AD$8)*100000) -> 0 | AF8: =' Populations'!U67 -> 0 | AG8: =IF(AF8=0,0,($L$8/$AF$8)*100000) -> 0 | AJ8: 0.072169 | AL8: =' Populations'!B13 -> 15-19 | AM8: =O8*AJ8 -> 0 | AN8: =Q8*AJ8 -> 0 | AO8: =S8*AJ8 -> 0 | AP8: =U8*AJ8 -> 0 | AQ8: =W8*AJ8 -> 0 | AR8: =Y8*AJ8 -> 0 | AS8: =AA8*AJ8 -> 0 | AT8: =AC8*AJ8 -> 0 | AU8: =AE8*AJ8 -> 0 | AV8: =AG8*AJ8 -> 0
B9: =' Populations'!B86 -> 20-24 | N9: =' Populations'!C68 -> 0 | O9: =IF(N9=0,0,($C$9/$N$9)*100000) -> 0 | P9: =' Populations'!E68 -> 0 | Q9: =IF(P9=0,0,($D$9/$P$9)*100000) -> 0 | R9: =' Populations'!G68 -> 0 | S9: =IF(R9=0,0,($E$9/$R$9)*100000) -> 0 | T9: =' Populations'!I68 -> 0 | U9: =IF(T9=0,0,($F$9/$T$9)*100000) -> 0 | V9: =' Populations'!K68 -> 0 | W9: =IF(V9=0,0,($G$9/$V$9)*100000) -> 0 | X9: =' Populations'!M68 -> 0 | Y9: =IF(X9=0,0,($G$9/$X$9)*100000) -> 0 | Z9: =' Populations'!O68 -> 0 | AA9: =IF(Z9=0,0,($I$9/$Z$9)*100000) -> 0 | AB9: =' Populations'!Q68 -> 0 | AC9: =IF(AB9=0,0,($J$9/$AB$9)*100000) -> 0 | AD9: =' Populations'!S68 -> 0 | AE9: =IF(AD9=0,0,($K$9/$AD$9)*100000) -> 0 | AF9: =' Populations'!U68 -> 0 | AG9: =IF(AF9=0,0,($L$9/$AF$9)*100000) -> 0 | AJ9: 0.066478 | AL9: =' Populations'!B14 -> 20-24 | AM9: =O9*AJ9 -> 0 | AN9: =Q9*AJ9 -> 0 | AO9: =S9*AJ9 -> 0 | AP9: =U9*AJ9 -> 0 | AQ9: =W9*AJ9 -> 0 | AR9: =Y9*AJ9 -> 0 | AS9: =AA9*AJ9 -> 0 | AT9: =AC9*AJ9 -> 0 | AU9: =AE9*AJ9 -> 0 | AV9: =AG9*AJ9 -> 0
B10: =' Populations'!B87 -> 25-34 | N10: =' Populations'!C69 -> 0 | O10: =IF(N10=0,0,($C$10/$N$10)*100000) -> 0 | P10: =' Populations'!E69 -> 0 | Q10: =IF(P10=0,0,($D$10/$P$10)*100000) -> 0 | R10: =' Populations'!G69 -> 0 | S10: =IF(R10=0,0,($E$10/$R$10)*100000) -> 0 | T10: =' Populations'!I69 -> 0 | U10: =IF(T10=0,0,($F$10/$T$10)*100000) -> 0 | V10: =' Populations'!K69 -> 0 | W10: =IF(V10=0,0,($G$10/$V$10)*100000) -> 0 | X10: =' Populations'!M69 -> 0 | Y10: =IF(X10=0,0,($G$10/$X$10)*100000) -> 0 | Z10: =' Populations'!O69 -> 0 | AA10: =IF(Z10=0,0,($I$10/$Z$10)*100000) -> 0 | AB10: =' Populations'!Q69 -> 0 | AC10: =IF(AB10=0,0,($J$10/$AB$10)*100000) -> 0 | AD10: =' Populations'!S69 -> 0 | AE10: =IF(AD10=0,0,($K$10/$AD$10)*100000) -> 0 | AF10: =' Populations'!U69 -> 0 | AG10: =IF(AF10=0,0,($L$10/$AF$10)*100000) -> 0 | AJ10: 0.135573 | AL10: =' Populations'!B15 -> 25-34 | AM10: =O10*AJ10 -> 0 | AN10: =Q10*AJ10 -> 0 | AO10: =S10*AJ10 -> 0 | AP10: =U10*AJ10 -> 0 | AQ10: =W10*AJ10 -> 0 | AR10: =Y10*AJ10 -> 0 | AS10: =AA10*AJ10 -> 0 | AT10: =AC10*AJ10 -> 0 | AU10: =AE10*AJ10 -> 0 | AV10: =AG10*AJ10 -> 0
B11: =' Populations'!B88 -> 35-44 | N11: =' Populations'!C70 -> 0 | O11: =IF(N11=0,0,($C$11/$N$11)*100000) -> 0 | P11: =' Populations'!E70 -> 0 | Q11: =IF(P11=0,0,($D$11/$P$11)*100000) -> 0 | R11: =' Populations'!G70 -> 0 | S11: =IF(R11=0,0,($E$11/$R$11)*100000) -> 0 | T11: =' Populations'!I70 -> 0 | U11: =IF(T11=0,0,($F$11/$T$11)*100000) -> 0 | V11: =' Populations'!K70 -> 0 | W11: =IF(V11=0,0,($G$11/$V$11)*100000) -> 0 | X11: =' Populations'!M70 -> 0 | Y11: =IF(X11=0,0,($G$11/$X$11)*100000) -> 0 | Z11: =' Populations'!O70 -> 0 | AA11: =IF(Z11=0,0,($I$11/$Z$11)*100000) -> 0 | AB11: =' Populations'!Q70 -> 0 | AC11: =IF(AB11=0,0,($J$11/$AB$11)*100000) -> 0 | AD11: =' Populations'!S70 -> 0 | AE11: =IF(AD11=0,0,($K$11/$AD$11)*100000) -> 0 | AF11: =' Populations'!U70 -> 0 | AG11: =IF(AF11=0,0,($L$11/$AF$11)*100000) -> 0 | AJ11: 0.162613 | AL11: =' Populations'!B16 -> 35-44 | AM11: =O11*AJ11 -> 0 | AN11: =Q11*AJ11 -> 0 | AO11: =S11*AJ11 -> 0 | AP11: =U11*AJ11 -> 0 | AQ11: =W11*AJ11 -> 0 | AR11: =Y11*AJ11 -> 0 | AS11: =AA11*AJ11 -> 0 | AT11: =AC11*AJ11 -> 0 | AU11: =AE11*AJ11 -> 0 | AV11: =AG11*AJ11 -> 0
B12: =' Populations'!B89 -> 45-54 | N12: =' Populations'!C71 -> 0 | O12: =IF(N12=0,0,($C$12/$N$12)*100000) -> 0 | P12: =' Populations'!E71 -> 0 | Q12: =IF(P12=0,0,($D$12/$P$12)*100000) -> 0 | R12: =' Populations'!G71 -> 0 | S12: =IF(R12=0,0,($E$12/$R$12)*100000) -> 0 | T12: =' Populations'!I71 -> 0 | U12: =IF(T12=0,0,($F$12/$T$12)*100000) -> 0 | V12: =' Populations'!K71 -> 0 | W12: =IF(V12=0,0,($G$12/$V$12)*100000) -> 0 | X12: =' Populations'!M71 -> 0 | Y12: =IF(X12=0,0,($G$12/$X$12)*100000) -> 0 | Z12: =' Populations'!O71 -> 0 | AA12: =IF(Z12=0,0,($I$12/$Z$12)*100000) -> 0 | AB12: =' Populations'!Q71 -> 0 | AC12: =IF(AB12=0,0,($J$12/$AB$12)*100000) -> 0 | AD12: =' Populations'!S71 -> 0 | AE12: =IF(AD12=0,0,($K$12/$AD$12)*100000) -> 0 | AF12: =' Populations'!U71 -> 0 | AG12: =IF(AF12=0,0,($L$12/$AF$12)*100000) -> 0 | AJ12: 0.134834 | AL12: =' Populations'!B17 -> 45-54 | AM12: =O12*AJ12 -> 0 | AN12: =Q12*AJ12 -> 0 | AO12: =S12*AJ12 -> 0 | AP12: =U12*AJ12 -> 0 | AQ12: =W12*AJ12 -> 0 | AR12: =Y12*AJ12 -> 0 | AS12: =AA12*AJ12 -> 0 | AT12: =AC12*AJ12 -> 0 | AU12: =AE12*AJ12 -> 0 | AV12: =AG12*AJ12 -> 0
B13: =' Populations'!B90 -> 55-64 | N13: =' Populations'!C72 -> 0 | O13: =IF(N13=0,0,($C$13/$N$13)*100000) -> 0 | P13: =' Populations'!E72 -> 0 | Q13: =IF(P13=0,0,($D$13/$P$13)*100000) -> 0 | R13: =' Populations'!G72 -> 0 | S13: =IF(R13=0,0,($E$13/$R$13)*100000) -> 0 | T13: =' Populations'!I72 -> 0 | U13: =IF(T13=0,0,($F$13/$T$13)*100000) -> 0 | V13: =' Populations'!K72 -> 0 | W13: =IF(V13=0,0,($G$13/$V$13)*100000) -> 0 | X13: =' Populations'!M72 -> 0 | Y13: =IF(X13=0,0,($G$13/$X$13)*100000) -> 0 | Z13: =' Populations'!O72 -> 0 | AA13: =IF(Z13=0,0,($I$13/$Z$13)*100000) -> 0 | AB13: =' Populations'!Q72 -> 0 | AC13: =IF(AB13=0,0,($J$13/$AB$13)*100000) -> 0 | AD13: =' Populations'!S72 -> 0 | AE13: =IF(AD13=0,0,($K$13/$AD$13)*100000) -> 0 | AF13: =' Populations'!U72 -> 0 | AG13: =IF(AF13=0,0,($L$13/$AF$13)*100000) -> 0 | AJ13: 0.087247 | AL13: =' Populations'!B18 -> 55-64 | AM13: =O13*AJ13 -> 0 | AN13: =Q13*AJ13 -> 0 | AO13: =S13*AJ13 -> 0 | AP13: =U13*AJ13 -> 0 | AQ13: =W13*AJ13 -> 0 | AR13: =Y13*AJ13 -> 0 | AS13: =AA13*AJ13 -> 0 | AT13: =AC13*AJ13 -> 0 | AU13: =AE13*AJ13 -> 0 | AV13: =AG13*AJ13 -> 0
B14: =' Populations'!B91 -> 65-74 | N14: =' Populations'!C73 -> 0 | O14: =IF(N14=0,0,($C$14/$N$14)*100000) -> 0 | P14: =' Populations'!E73 -> 0 | Q14: =IF(P14=0,0,($D$14/$P$14)*100000) -> 0 | R14: =' Populations'!G73 -> 0 | S14: =IF(R14=0,0,($E$14/$R$14)*100000) -> 0 | T14: =' Populations'!I73 -> 0 | U14: =IF(T14=0,0,($F$14/$T$14)*100000) -> 0 | V14: =' Populations'!K73 -> 0 | W14: =IF(V14=0,0,($G$14/$V$14)*100000) -> 0 | X14: =' Populations'!M73 -> 0 | Y14: =IF(X14=0,0,($G$14/$X$14)*100000) -> 0 | Z14: =' Populations'!O73 -> 0 | AA14: =IF(Z14=0,0,($I$14/$Z$14)*100000) -> 0 | AB14: =' Populations'!Q73 -> 0 | AC14: =IF(AB14=0,0,($J$14/$AB$14)*100000) -> 0 | AD14: =' Populations'!S73 -> 0 | AE14: =IF(AD14=0,0,($K$14/$AD$14)*100000) -> 0 | AF14: =' Populations'!U73 -> 0 | AG14: =IF(AF14=0,0,($L$14/$AF$14)*100000) -> 0 | AJ14: 0.066037 | AL14: =' Populations'!B19 -> 65-74 | AM14: =O14*AJ14 -> 0 | AN14: =Q14*AJ14 -> 0 | AO14: =S14*AJ14 -> 0 | AP14: =U14*AJ14 -> 0 | AQ14: =W14*AJ14 -> 0 | AR14: =Y14*AJ14 -> 0 | AS14: =AA14*AJ14 -> 0 | AT14: =AC14*AJ14 -> 0 | AU14: =AE14*AJ14 -> 0 | AV14: =AG14*AJ14 -> 0
B15: =' Populations'!B92 -> 75-84 | N15: =' Populations'!C74 -> 0 | O15: =IF(N15=0,0,($C$15/$N$15)*100000) -> 0 | P15: =' Populations'!E74 -> 0 | Q15: =IF(P15=0,0,($D$15/$P$15)*100000) -> 0 | R15: =' Populations'!G74 -> 0 | S15: =IF(R15=0,0,($E$15/$R$15)*100000) -> 0 | T15: =' Populations'!I74 -> 0 | U15: =IF(T15=0,0,($F$15/$T$15)*100000) -> 0 | V15: =' Populations'!K74 -> 0 | W15: =IF(V15=0,0,($G$15/$V$15)*100000) -> 0 | X15: =' Populations'!M74 -> 0 | Y15: =IF(X15=0,0,($G$15/$X$15)*100000) -> 0 | Z15: =' Populations'!O74 -> 0 | AA15: =IF(Z15=0,0,($I$15/$Z$15)*100000) -> 0 | AB15: =' Populations'!Q74 -> 0 | AC15: =IF(AB15=0,0,($J$15/$AB$15)*100000) -> 0 | AD15: =' Populations'!S74 -> 0 | AE15: =IF(AD15=0,0,($K$15/$AD$15)*100000) -> 0 | AF15: =' Populations'!U74 -> 0 | AG15: =IF(AF15=0,0,($L$15/$AF$15)*100000) -> 0 | AJ15: 0.044841 | AL15: =' Populations'!B20 -> 75-84 | AM15: =O15*AJ15 -> 0 | AN15: =Q15*AJ15 -> 0 | AO15: =S15*AJ15 -> 0 | AP15: =U15*AJ15 -> 0 | AQ15: =W15*AJ15 -> 0 | AR15: =Y15*AJ15 -> 0 | AS15: =AA15*AJ15 -> 0 | AT15: =AC15*AJ15 -> 0 | AU15: =AE15*AJ15 -> 0 | AV15: =AG15*AJ15 -> 0
B16: =' Populations'!B93 -> 85+ | N16: =' Populations'!C75 -> 0 | O16: =IF(N16=0,0,($C$16/$N$16)*100000) -> 0 | P16: =' Populations'!E75 -> 0 | Q16: =IF(P16=0,0,($D$16/$P$16)*100000) -> 0 | R16: =' Populations'!G75 -> 0 | S16: =IF(R16=0,0,($E$16/$R$16)*100000) -> 0 | T16: =' Populations'!I75 -> 0 | U16: =IF(T16=0,0,($F$16/$T$16)*100000) -> 0 | V16: =' Populations'!K75 -> 0 | W16: =IF(V16=0,0,($G$16/$V$16)*100000) -> 0 | X16: =' Populations'!M75 -> 0 | Y16: =IF(X16=0,0,($G$16/$X$16)*100000) -> 0 | Z16: =' Populations'!O75 -> 0 | AA16: =IF(Z16=0,0,($I$16/$Z$16)*100000) -> 0 | AB16: =' Populations'!Q75 -> 0 | AC16: =IF(AB16=0,0,($J$16/$AB$16)*100000) -> 0 | AD16: =' Populations'!S75 -> 0 | AE16: =IF(AD16=0,0,($K$16/$AD$16)*100000) -> 0 | AF16: =' Populations'!U75 -> 0 | AG16: =IF(AF16=0,0,($L$16/$AF$16)*100000) -> 0 | AJ16: 0.015508 | AL16: =' Populations'!B21 -> 85+ | AM16: =O16*AJ16 -> 0 | AN16: =Q16*AJ16 -> 0 | AO16: =S16*AJ16 -> 0 | AP16: =U16*AJ16 -> 0 | AQ16: =W16*AJ16 -> 0 | AR16: =Y16*AJ16 -> 0 | AS16: =AA16*AJ16 -> 0 | AT16: =AC16*AJ16 -> 0 | AU16: =AE16*AJ16 -> 0 | AV16: =AG16*AJ16 -> 0
B17: total | C17: =SUM(C4:C16) -> 0 | D17: =SUM(D4:D16) -> 0 | E17: =SUM(E4:E16) -> 0 | F17: =SUM(F4:F16) -> 0 | G17: =SUM(G4:G16) -> 0 | H17: =SUM(H4:H16) -> 0 | I17: =SUM(I4:I16) -> 0 | J17: =SUM(J4:J16) -> 0 | ... L17: =SUM(L4:L16) -> 0 | N17: =' Populations'!C76 -> 0 | O17: =SUM(O4:O16) -> 0 | P17: =' Populations'!E76 -> 0 | Q17: =SUM(Q4:Q16) -> 0 | R17: =' Populations'!G76 -> 0 | S17: =SUM(S4:S16) -> 0 | T17: =' Populations'!I76 -> 0 | U17: =SUM(U4:U16) -> 0 | V17: =' Populations'!K76 -> 0 | W17: =SUM(W4:W16) -> 0 | X17: =' Populations'!M76 -> 0 | Y17: =SUM(Y4:Y16) -> 0 | Z17: =' Populations'!O76 -> 0 | AA17: =SUM(AA4:AA16) -> 0 | AB17: =' Populations'!Q76 -> 0 | AC17: =SUM(AC4:AC16) -> 0 | AD17: =' Populations'!S76 -> 0 | AE17: =SUM(AE4:AE16) -> 0 | AF17: =' Populations'!U76 -> 0 | AG17: =SUM(AG4:AG16) -> 0 | AL17: =' Populations'!B22 -> Total | AM17: =SUM(AM4:AM16) -> 0 | AN17: =SUM(AN4:AN16) -> 0 | AO17: =SUM(AO4:AO16) -> 0 | AP17: =SUM(AP4:AP16) -> 0 | AQ17: =SUM(AQ4:AQ16) -> 0 | AR17: =SUM(AR4:AR16) -> 0 | AS17: =SUM(AS4:AS16) -> 0 | AT17: =SUM(AT4:AT16) -> 0 | ... AV17: =SUM(AV4:AV16) -> 0
D19: Sex Data | F19: Demographic Data | AM19: Age-adjusted Rates per 100,000 population
B20: Age | C20: Number of ED visits- Total | D20: Number of ED visits- Male | E20: Number of ED visits- Female | F20: =' Populations'!I62 -> White-Not Hispanic | G20: =' Populations'!K62 -> Hispanic | H20: =' Populations'!M62 -> Black-Not Hispanic | I20: =' Populations'!O62 -> Asian | J20: =' Populations'!Q62 -> American Indian/Alaska Native | K20: =' Populations'!S62 -> Other | L20: =' Populations'!U62 -> Other | N20: State Population Total | O20: Rate | P20: Male | Q20: Rate | R20: Female | S20: Rate | T20: =' Populations'!I62 -> White-Not Hispanic | U20: Rate | V20: =' Populations'!K62 -> Hispanic | W20: Rate | X20: =' Populations'!M62 -> Black-Not Hispanic | Y20: Rate | Z20: =' Populations'!O62 -> Asian | AA20: Rate | AB20: =' Populations'!Q62 -> American Indian/Alaska Native | AC20: Rate | AD20: =' Populations'!S62 -> Other | AE20: Rate | AF20: =' Populations'!U62 -> Other | AG20: Rate | AI20: 2000 State population | AJ20: Weight | AL20: Age | AM20: Total | AN20: Male | AO20: Female | AP20: =' Populations'!I62 -> White-Not Hispanic | AQ20: =' Populations'!K62 -> Hispanic | AR20: =' Populations'!M62 -> Black-Not Hispanic | AS20: =' Populations'!O62 -> Asian | AT20: =' Populations'!Q62 -> American Indian/Alaska Native | AU20: =' Populations'!S62 -> Other | AV20: =' Populations'!U62 -> Other
B21: =' Populations'!B81 -> <1 | N21: =' Populations'!C63 -> 0 | O21: =IF(N21=0,0,($C$21/$N$21)*100000) -> 0 | P21: =' Populations'!E63 -> 0 | Q21: =IF(P21=0,0,($D$21/$P$21)*100000) -> 0 | R21: =' Populations'!G63 -> 0 | S21: =IF(R21=0,0,($E$21/$R$21)*100000) -> 0 | T21: =' Populations'!I63 -> 0 | U21: =IF(T21=0,0,($F$21/$T$21)*100000) -> 0 | V21: =' Populations'!K63 -> 0 | W21: =IF(V21=0,0,($G$21/$V$21)*100000) -> 0 | X21: =' Populations'!M63 -> 0 | Y21: =IF(X21=0,0,($H$21/$X$21)*100000) -> 0 | Z21: =' Populations'!O63 -> 0 | AA21: =IF(Z21=0,0,($I$21/$Z$21)*100000) -> 0 | AB21: =' Populations'!Q63 -> 0 | AC21: =IF(AB21=0,0,($J$21/$AB$21)*100000) -> 0 | AD21: =' Populations'!S63 -> 0 | AE21: =IF(AD21=0,0,($K$21/$AD$21)*100000) -> 0 | AF21: =' Populations'!U63 -> 0 | AG21: =IF(AF21=0,0,($L$21/$AF$21)*100000) -> 0 | AJ21: 0.013818 | AL21: =' Populations'!B9 -> <1 | AM21: =O21*AJ21 -> 0 | AN21: =Q21*AJ21 -> 0 | AO21: =S21*AJ21 -> 0 | AP21: =U21*AJ21 -> 0 | AQ21: =W21*AJ21 -> 0 | AR21: =Y21*AJ21 -> 0 | AS21: =AA21*AJ21 -> 0 | AT21: =AC21*AJ21 -> 0 | AU21: =AE21*AJ21 -> 0 | AV21: =AG21*AJ21 -> 0
B22: =' Populations'!B82 -> 1-4 | N22: =' Populations'!C64 -> 0 | O22: =IF(N22=0,0,($C$22/$N$22)*100000) -> 0 | P22: =' Populations'!E64 -> 0 | Q22: =IF(P22=0,0,($D$22/$P$22)*100000) -> 0 | R22: =' Populations'!G64 -> 0 | S22: =IF(R22=0,0,($E$22/$R$22)*100000) -> 0 | T22: =' Populations'!I64 -> 0 | U22: =IF(T22=0,0,($F$22/$T$22)*100000) -> 0 | V22: =' Populations'!K64 -> 0 | W22: =IF(V22=0,0,($G$22/$V$22)*100000) -> 0 | X22: =' Populations'!M64 -> 0 | Y22: =IF(X22=0,0,($H$22/$X$22)*100000) -> 0 | Z22: =' Populations'!O64 -> 0 | AA22: =IF(Z22=0,0,($I$22/$Z$22)*100000) -> 0 | AB22: =' Populations'!Q64 -> 0 | AC22: =IF(AB22=0,0,($J$22/$AB$22)*100000) -> 0 | AD22: =' Populations'!S64 -> 0 | AE22: =IF(AD22=0,0,($K$22/$AD$22)*100000) -> 0 | AF22: =' Populations'!U64 -> 0 | AG22: =IF(AF22=0,0,($L$22/$AF$22)*100000) -> 0 | AJ22: 0.055317 | AL22: =' Populations'!B10 -> 1-4 | AM22: =O22*AJ22 -> 0 | AN22: =Q22*AJ22 -> 0 | AO22: =S22*AJ22 -> 0 | AP22: =U22*AJ22 -> 0 | AQ22: =W22*AJ22 -> 0 | AR22: =Y22*AJ22 -> 0 | AS22: =AA22*AJ22 -> 0 | AT22: =AC22*AJ22 -> 0 | AU22: =AE22*AJ22 -> 0 | AV22: =AG22*AJ22 -> 0
B23: =' Populations'!B83 -> 5-9 | N23: =' Populations'!C65 -> 0 | O23: =IF(N23=0,0,($C$23/$N$23)*100000) -> 0 | P23: =' Populations'!E65 -> 0 | Q23: =IF(P23=0,0,($D$23/$P$23)*100000) -> 0 | R23: =' Populations'!G65 -> 0 | S23: =IF(R23=0,0,($E$23/$R$23)*100000) -> 0 | T23: =' Populations'!I65 -> 0 | U23: =IF(T23=0,0,($F$23/$T$23)*100000) -> 0 | V23: =' Populations'!K65 -> 0 | W23: =IF(V23=0,0,($G$23/$V$23)*100000) -> 0 | X23: =' Populations'!M65 -> 0 | Y23: =IF(X23=0,0,($H$23/$X$23)*100000) -> 0 | Z23: =' Populations'!O65 -> 0 | AA23: =IF(Z23=0,0,($I$23/$Z$23)*100000) -> 0 | AB23: =' Populations'!Q65 -> 0 | AC23: =IF(AB23=0,0,($J$23/$AB$23)*100000) -> 0 | AD23: =' Populations'!S65 -> 0 | AE23: =IF(AD23=0,0,($K$23/$AD$23)*100000) -> 0 | AF23: =' Populations'!U65 -> 0 | AG23: =IF(AF23=0,0,($L$23/$AF$23)*100000) -> 0 | AJ23: 0.072533 | AL23: =' Populations'!B11 -> 5-9 | AM23: =O23*AJ23 -> 0 | AN23: =Q23*AJ23 -> 0 | AO23: =S23*AJ23 -> 0 | AP23: =U23*AJ23 -> 0 | AQ23: =W23*AJ23 -> 0 | AR23: =Y23*AJ23 -> 0 | AS23: =AA23*AJ23 -> 0 | AT23: =AC23*AJ23 -> 0 | AU23: =AE23*AJ23 -> 0 | AV23: =AG23*AJ23 -> 0
B24: =' Populations'!B84 -> 10-14 | N24: =' Populations'!C66 -> 0 | O24: =IF(N24=0,0,($C$24/$N$24)*100000) -> 0 | P24: =' Populations'!E66 -> 0 | Q24: =IF(P24=0,0,($D$24/$P$24)*100000) -> 0 | R24: =' Populations'!G66 -> 0 | S24: =IF(R24=0,0,($E$24/$R$24)*100000) -> 0 | T24: =' Populations'!I66 -> 0 | U24: =IF(T24=0,0,($F$24/$T$24)*100000) -> 0 | V24: =' Populations'!K66 -> 0 | W24: =IF(V24=0,0,($G$24/$V$24)*100000) -> 0 | X24: =' Populations'!M66 -> 0 | Y24: =IF(X24=0,0,($H$24/$X$24)*100000) -> 0 | Z24: =' Populations'!O66 -> 0 | AA24: =IF(Z24=0,0,($I$24/$Z$24)*100000) -> 0 | AB24: =' Populations'!Q66 -> 0 | AC24: =IF(AB24=0,0,($J$24/$AB$24)*100000) -> 0 | AD24: =' Populations'!S66 -> 0 | AE24: =IF(AD24=0,0,($K$24/$AD$24)*100000) -> 0 | AF24: =' Populations'!U66 -> 0 | AG24: =IF(AF24=0,0,($L$24/$AF$24)*100000) -> 0 | AJ24: 0.073032 | AL24: =' Populations'!B12 -> 10-14 | AM24: =O24*AJ24 -> 0 | AN24: =Q24*AJ24 -> 0 | AO24: =S24*AJ24 -> 0 | AP24: =U24*AJ24 -> 0 | AQ24: =W24*AJ24 -> 0 | AR24: =Y24*AJ24 -> 0 | AS24: =AA24*AJ24 -> 0 | AT24: =AC24*AJ24 -> 0 | AU24: =AE24*AJ24 -> 0 | AV24: =AG24*AJ24 -> 0
B25: =' Populations'!B85 -> 15-19 | N25: =' Populations'!C67 -> 0 | O25: =IF(N25=0,0,($C$25/$N$25)*100000) -> 0 | P25: =' Populations'!E67 -> 0 | Q25: =IF(P25=0,0,($D$25/$P$25)*100000) -> 0 | R25: =' Populations'!G67 -> 0 | S25: =IF(R25=0,0,($E$25/$R$25)*100000) -> 0 | T25: =' Populations'!I67 -> 0 | U25: =IF(T25=0,0,($F$25/$T$25)*100000) -> 0 | V25: =' Populations'!K67 -> 0 | W25: =IF(V25=0,0,($G$25/$V$25)*100000) -> 0 | X25: =' Populations'!M67 -> 0 | Y25: =IF(X25=0,0,($H$25/$X$25)*100000) -> 0 | Z25: =' Populations'!O67 -> 0 | AA25: =IF(Z25=0,0,($I$25/$Z$25)*100000) -> 0 | AB25: =' Populations'!Q67 -> 0 | AC25: =IF(AB25=0,0,($J$25/$AB$25)*100000) -> 0 | AD25: =' Populations'!S67 -> 0 | AE25: =IF(AD25=0,0,($K$25/$AD$25)*100000) -> 0 | AF25: =' Populations'!U67 -> 0 | AG25: =IF(AF25=0,0,($L$25/$AF$25)*100000) -> 0 | AJ25: 0.072169 | AL25: =' Populations'!B13 -> 15-19 | AM25: =O25*AJ25 -> 0 | AN25: =Q25*AJ25 -> 0 | AO25: =S25*AJ25 -> 0 | AP25: =U25*AJ25 -> 0 | AQ25: =W25*AJ25 -> 0 | AR25: =Y25*AJ25 -> 0 | AS25: =AA25*AJ25 -> 0 | AT25: =AC25*AJ25 -> 0 | AU25: =AE25*AJ25 -> 0 | AV25: =AG25*AJ25 -> 0
B26: =' Populations'!B86 -> 20-24 | N26: =' Populations'!C68 -> 0 | O26: =IF(N26=0,0,($C$26/$N$26)*100000) -> 0 | P26: =' Populations'!E68 -> 0 | Q26: =IF(P26=0,0,($D$26/$P$26)*100000) -> 0 | R26: =' Populations'!G68 -> 0 | S26: =IF(R26=0,0,($E$26/$R$26)*100000) -> 0 | T26: =' Populations'!I68 -> 0 | U26: =IF(T26=0,0,($F$26/$T$26)*100000) -> 0 | V26: =' Populations'!K68 -> 0 | W26: =IF(V26=0,0,($G$26/$V$26)*100000) -> 0 | X26: =' Populations'!M68 -> 0 | Y26: =IF(X26=0,0,($H$26/$X$26)*100000) -> 0 | Z26: =' Populations'!O68 -> 0 | AA26: =IF(Z26=0,0,($I$26/$Z$26)*100000) -> 0 | AB26: =' Populations'!Q68 -> 0 | AC26: =IF(AB26=0,0,($J$26/$AB$26)*100000) -> 0 | AD26: =' Populations'!S68 -> 0 | AE26: =IF(AD26=0,0,($K$26/$AD$26)*100000) -> 0 | AF26: =' Populations'!U68 -> 0 | AG26: =IF(AF26=0,0,($L$26/$AF$26)*100000) -> 0 | AJ26: 0.066478 | AL26: =' Populations'!B14 -> 20-24 | AM26: =O26*AJ26 -> 0 | AN26: =Q26*AJ26 -> 0 | AO26: =S26*AJ26 -> 0 | AP26: =U26*AJ26 -> 0 | AQ26: =W26*AJ26 -> 0 | AR26: =Y26*AJ26 -> 0 | AS26: =AA26*AJ26 -> 0 | AT26: =AC26*AJ26 -> 0 | AU26: =AE26*AJ26 -> 0 | AV26: =AG26*AJ26 -> 0
B27: =' Populations'!B87 -> 25-34 | N27: =' Populations'!C69 -> 0 | O27: =IF(N27=0,0,($C$27/$N$27)*100000) -> 0 | P27: =' Populations'!E69 -> 0 | Q27: =IF(P27=0,0,($D$27/$P$27)*100000) -> 0 | R27: =' Populations'!G69 -> 0 | S27: =IF(R27=0,0,($E$27/$R$27)*100000) -> 0 | T27: =' Populations'!I69 -> 0 | U27: =IF(T27=0,0,($F$27/$T$27)*100000) -> 0 | V27: =' Populations'!K69 -> 0 | W27: =IF(V27=0,0,($G$27/$V$27)*100000) -> 0 | X27: =' Populations'!M69 -> 0 | Y27: =IF(X27=0,0,($H$27/$X$27)*100000) -> 0 | Z27: =' Populations'!O69 -> 0 | AA27: =IF(Z27=0,0,($I$27/$Z$27)*100000) -> 0 | AB27: =' Populations'!Q69 -> 0 | AC27: =IF(AB27=0,0,($J$27/$AB$27)*100000) -> 0 | AD27: =' Populations'!S69 -> 0 | AE27: =IF(AD27=0,0,($K$27/$AD$27)*100000) -> 0 | AF27: =' Populations'!U69 -> 0 | AG27: =IF(AF27=0,0,($L$272/$AF$27)*100000) -> 0 | AJ27: 0.135573 | AL27: =' Populations'!B15 -> 25-34 | AM27: =O27*AJ27 -> 0 | AN27: =Q27*AJ27 -> 0 | AO27: =S27*AJ27 -> 0 | AP27: =U27*AJ27 -> 0 | AQ27: =W27*AJ27 -> 0 | AR27: =Y27*AJ27 -> 0 | AS27: =AA27*AJ27 -> 0 | AT27: =AC27*AJ27 -> 0 | AU27: =AE27*AJ27 -> 0 | AV27: =AG27*AJ27 -> 0
B28: =' Populations'!B88 -> 35-44 | N28: =' Populations'!C70 -> 0 | O28: =IF(N28=0,0,($C$28/$N$28)*100000) -> 0 | P28: =' Populations'!E70 -> 0 | Q28: =IF(P28=0,0,($D$28/$P$28)*100000) -> 0 | R28: =' Populations'!G70 -> 0 | S28: =IF(R28=0,0,($E$28/$R$28)*100000) -> 0 | T28: =' Populations'!I70 -> 0 | U28: =IF(T28=0,0,($F$28/$T$28)*100000) -> 0 | V28: =' Populations'!K70 -> 0 | W28: =IF(V28=0,0,($G$28/$V$28)*100000) -> 0 | X28: =' Populations'!M70 -> 0 | Y28: =IF(X28=0,0,($H$28/$X$28)*100000) -> 0 | Z28: =' Populations'!O70 -> 0 | AA28: =IF(Z28=0,0,($I$28/$Z$28)*100000) -> 0 | AB28: =' Populations'!Q70 -> 0 | AC28: =IF(AB28=0,0,($J$28/$AB$28)*100000) -> 0 | AD28: =' Populations'!S70 -> 0 | AE28: =IF(AD28=0,0,($K$28/$AD$28)*100000) -> 0 | AF28: =' Populations'!U70 -> 0 | AG28: =IF(AF28=0,0,($L$28/$AF$28)*100000) -> 0 | AJ28: 0.162613 | AL28: =' Populations'!B16 -> 35-44 | AM28: =O28*AJ28 -> 0 | AN28: =Q28*AJ28 -> 0 | AO28: =S28*AJ28 -> 0 | AP28: =U28*AJ28 -> 0 | AQ28: =W28*AJ28 -> 0 | AR28: =Y28*AJ28 -> 0 | AS28: =AA28*AJ28 -> 0 | AT28: =AC28*AJ28 -> 0 | AU28: =AE28*AJ28 -> 0 | AV28: =AG28*AJ28 -> 0
B29: =' Populations'!B89 -> 45-54 | N29: =' Populations'!C71 -> 0 | O29: =IF(N29=0,0,($C$29/$N$29)*100000) -> 0 | P29: =' Populations'!E71 -> 0 | Q29: =IF(P29=0,0,($D$29/$P$29)*100000) -> 0 | R29: =' Populations'!G71 -> 0 | S29: =IF(R29=0,0,($E$29/$R$29)*100000) -> 0 | T29: =' Populations'!I71 -> 0 | U29: =IF(T29=0,0,($F$29/$T$29)*100000) -> 0 | V29: =' Populations'!K71 -> 0 | W29: =IF(V29=0,0,($G$29/$V$29)*100000) -> 0 | X29: =' Populations'!M71 -> 0 | Y29: =IF(X29=0,0,($H$29/$X$29)*100000) -> 0 | Z29: =' Populations'!O71 -> 0 | AA29: =IF(Z29=0,0,($I$29/$Z$29)*100000) -> 0 | AB29: =' Populations'!Q71 -> 0 | AC29: =IF(AB29=0,0,($J$29/$AB$29)*100000) -> 0 | AD29: =' Populations'!S71 -> 0 | AE29: =IF(AD29=0,0,($K$29/$AD$29)*100000) -> 0 | AF29: =' Populations'!U71 -> 0 | AG29: =IF(AF29=0,0,($L$29/$AF$29)*100000) -> 0 | AJ29: 0.134834 | AL29: =' Populations'!B17 -> 45-54 | AM29: =O29*AJ29 -> 0 | AN29: =Q29*AJ29 -> 0 | AO29: =S29*AJ29 -> 0 | AP29: =U29*AJ29 -> 0 | AQ29: =W29*AJ29 -> 0 | AR29: =Y29*AJ29 -> 0 | AS29: =AA29*AJ29 -> 0 | AT29: =AC29*AJ29 -> 0 | AU29: =AE29*AJ29 -> 0 | AV29: =AG29*AJ29 -> 0
B30: =' Populations'!B90 -> 55-64 | N30: =' Populations'!C72 -> 0 | O30: =IF(N30=0,0,($C$30/$N$30)*100000) -> 0 | P30: =' Populations'!E72 -> 0 | Q30: =IF(P30=0,0,($D$30/$P$30)*100000) -> 0 | R30: =' Populations'!G72 -> 0 | S30: =IF(R30=0,0,($E$30/$R$30)*100000) -> 0 | T30: =' Populations'!I72 -> 0 | U30: =IF(T30=0,0,($F$30/$T$30)*100000) -> 0 | V30: =' Populations'!K72 -> 0 | W30: =IF(V30=0,0,($G$30/$V$30)*100000) -> 0 | X30: =' Populations'!M72 -> 0 | Y30: =IF(X30=0,0,($H$30/$X$30)*100000) -> 0 | Z30: =' Populations'!O72 -> 0 | AA30: =IF(Z30=0,0,($I$30/$Z$30)*100000) -> 0 | AB30: =' Populations'!Q72 -> 0 | AC30: =IF(AB30=0,0,($J$30/$AB$30)*100000) -> 0 | AD30: =' Populations'!S72 -> 0 | AE30: =IF(AD30=0,0,($K$30/$AD$30)*100000) -> 0 | AF30: =' Populations'!U72 -> 0 | AG30: =IF(AF30=0,0,($L$30/$AF$30)*100000) -> 0 | AJ30: 0.087247 | AL30: =' Populations'!B18 -> 55-64 | AM30: =O30*AJ30 -> 0 | AN30: =Q30*AJ30 -> 0 | AO30: =S30*AJ30 -> 0 | AP30: =U30*AJ30 -> 0 | AQ30: =W30*AJ30 -> 0 | AR30: =Y30*AJ30 -> 0 | AS30: =AA30*AJ30 -> 0 | AT30: =AC30*AJ30 -> 0 | AU30: =AE30*AJ30 -> 0 | AV30: =AG30*AJ30 -> 0
B31: =' Populations'!B91 -> 65-74 | N31: =' Populations'!C73 -> 0 | O31: =IF(N31=0,0,($C$31/$N$31)*100000) -> 0 | P31: =' Populations'!E73 -> 0 | Q31: =IF(P31=0,0,($D$31/$P$31)*100000) -> 0 | R31: =' Populations'!G73 -> 0 | S31: =IF(R31=0,0,($E$31/$R$31)*100000) -> 0 | T31: =' Populations'!I73 -> 0 | U31: =IF(T31=0,0,($F$31/$T$31)*100000) -> 0 | V31: =' Populations'!K73 -> 0 | W31: =IF(V31=0,0,($G$31/$V$31)*100000) -> 0 | X31: =' Populations'!M73 -> 0 | Y31: =IF(X31=0,0,($H$31/$X$31)*100000) -> 0 | Z31: =' Populations'!O73 -> 0 | AA31: =IF(Z31=0,0,($I$31/$Z$31)*100000) -> 0 | AB31: =' Populations'!Q73 -> 0 | AC31: =IF(AB31=0,0,($J$31/$AB$31)*100000) -> 0 | AD31: =' Populations'!S73 -> 0 | AE31: =IF(AD31=0,0,($K$31/$AD$31)*100000) -> 0 | AF31: =' Populations'!U73 -> 0 | AG31: =IF(AF31=0,0,($L$31/$AF$31)*100000) -> 0 | AJ31: 0.066037 | AL31: =' Populations'!B19 -> 65-74 | AM31: =O31*AJ31 -> 0 | AN31: =Q31*AJ31 -> 0 | AO31: =S31*AJ31 -> 0 | AP31: =U31*AJ31 -> 0 | AQ31: =W31*AJ31 -> 0 | AR31: =Y31*AJ31 -> 0 | AS31: =AA31*AJ31 -> 0 | AT31: =AC31*AJ31 -> 0 | AU31: =AE31*AJ31 -> 0 | AV31: =AG31*AJ31 -> 0
B32: =' Populations'!B92 -> 75-84 | N32: =' Populations'!C74 -> 0 | O32: =IF(N32=0,0,($C$32/$N$32)*100000) -> 0 | P32: =' Populations'!E74 -> 0 | Q32: =IF(P32=0,0,($D$32/$P$32)*100000) -> 0 | R32: =' Populations'!G74 -> 0 | S32: =IF(R32=0,0,($E$32/$R$32)*100000) -> 0 | T32: =' Populations'!I74 -> 0 | U32: =IF(T32=0,0,($F$32/$T$32)*100000) -> 0 | V32: =' Populations'!K74 -> 0 | W32: =IF(V32=0,0,($G$32/$V$32)*100000) -> 0 | X32: =' Populations'!M74 -> 0 | Y32: =IF(X32=0,0,($H$32/$X$32)*100000) -> 0 | Z32: =' Populations'!O74 -> 0 | AA32: =IF(Z32=0,0,($I$32/$Z$32)*100000) -> 0 | AB32: =' Populations'!Q74 -> 0 | AC32: =IF(AB32=0,0,($J$32/$AB$32)*100000) -> 0 | AD32: =' Populations'!S74 -> 0 | AE32: =IF(AD32=0,0,($K$32/$AD$32)*100000) -> 0 | AF32: =' Populations'!U74 -> 0 | AG32: =IF(AF32=0,0,($L$32/$AF$32)*100000) -> 0 | AJ32: 0.044841 | AL32: =' Populations'!B20 -> 75-84 | AM32: =O32*AJ32 -> 0 | AN32: =Q32*AJ32 -> 0 | AO32: =S32*AJ32 -> 0 | AP32: =U32*AJ32 -> 0 | AQ32: =W32*AJ32 -> 0 | AR32: =Y32*AJ32 -> 0 | AS32: =AA32*AJ32 -> 0 | AT32: =AC32*AJ32 -> 0 | AU32: =AE32*AJ32 -> 0 | AV32: =AG32*AJ32 -> 0
B33: =' Populations'!B93 -> 85+ | N33: =' Populations'!C75 -> 0 | O33: =IF(N33=0,0,($C$33/$N$33)*100000) -> 0 | P33: =' Populations'!E75 -> 0 | Q33: =IF(P33=0,0,($D$33/$P$33)*100000) -> 0 | R33: =' Populations'!G75 -> 0 | S33: =IF(R33=0,0,($E$33/$R$33)*100000) -> 0 | T33: =' Populations'!I75 -> 0 | U33: =IF(T33=0,0,($F$33/$T$33)*100000) -> 0 | V33: =' Populations'!K75 -> 0 | W33: =IF(V33=0,0,($G$33/$V$33)*100000) -> 0 | X33: =' Populations'!M75 -> 0 | Y33: =IF(X33=0,0,($H$33/$X$33)*100000) -> 0 | Z33: =' Populations'!O75 -> 0 | AA33: =IF(Z33=0,0,($I$33/$Z$33)*100000) -> 0 | AB33: =' Populations'!Q75 -> 0 | AC33: =IF(AB33=0,0,($J$33/$AB$33)*100000) -> 0 | AD33: =' Populations'!S75 -> 0 | AE33: =IF(AD33=0,0,($K$33/$AD$33)*100000) -> 0 | AF33: =' Populations'!U75 -> 0 | AG33: =IF(AF33=0,0,($L$33/$AF$33)*100000) -> 0 | AJ33: 0.015508 | AL33: =' Populations'!B21 -> 85+ | AM33: =O33*AJ33 -> 0 | AN33: =Q33*AJ33 -> 0 | AO33: =S33*AJ33 -> 0 | AP33: =U33*AJ33 -> 0 | AQ33: =W33*AJ33 -> 0 | AR33: =Y33*AJ33 -> 0 | AS33: =AA33*AJ33 -> 0 | AT33: =AC33*AJ33 -> 0 | AU33: =AE33*AJ33 -> 0 | AV33: =AG33*AJ33 -> 0
B34: total | C34: =SUM(C21:C33) -> 0 | D34: =SUM(D21:D33) -> 0 | E34: =SUM(E21:E33) -> 0 | F34: =SUM(F21:F33) -> 0 | G34: =SUM(G21:G33) -> 0 | H34: =SUM(H21:H33) -> 0 | I34: =SUM(I21:I33) -> 0 | J34: =SUM(J21:J33) -> 0 | ... L34: =SUM(L21:L33) -> 0 | N34: =' Populations'!C76 -> 0 | O34: =SUM(O21:O33) -> 0 | P34: =' Populations'!E76 -> 0 | Q34: =SUM(Q21:Q33) -> 0 | R34: =' Populations'!G76 -> 0 | S34: =SUM(S21:S33) -> 0 | T34: =' Populations'!I76 -> 0 | U34: =SUM(U21:U33) -> 0 | V34: =' Populations'!K76 -> 0 | W34: =SUM(W21:W33) -> 0 | X34: =' Populations'!M76 -> 0 | Y34: =SUM(Y21:Y33) -> 0 | Z34: =' Populations'!O76 -> 0 | AA34: =SUM(AA21:AA33) -> 0 | AB34: =' Populations'!Q76 -> 0 | AC34: =SUM(AC21:AC33) -> 0 | AD34: =' Populations'!S76 -> 0 | AE34: =SUM(AE21:AE33) -> 0 | AF34: =' Populations'!U76 -> 0 | AG34: =SUM(AG21:AG33) -> 0 | AL34: =' Populations'!B22 -> Total | AM34: =SUM(AM21:AM33) -> 0 | AN34: =SUM(AN21:AN33) -> 0 | AO34: =SUM(AO21:AO33) -> 0 | AP34: =SUM(AP21:AP33) -> 0 | AQ34: =SUM(AQ21:AQ33) -> 0 | AR34: =SUM(AR21:AR33) -> 0 | AS34: =SUM(AS21:AS33) -> 0 | AT34: =SUM(AT21:AT33) -> 0 | ... AV34: =SUM(AV21:AV33) -> 0
D36: Sex Data | F36: Demographic Data | AM36: Age-adjusted Rates per 100,000 population
B37: Age | C37: Number of deaths- Total | D37: Number of deaths- Male | E37: Number of deaths- Female | F37: =' Populations'!I62 -> White-Not Hispanic | G37: =' Populations'!K62 -> Hispanic | H37: =' Populations'!M62 -> Black-Not Hispanic | I37: =' Populations'!O62 -> Asian | J37: =' Populations'!Q62 -> American Indian/Alaska Native | K37: =' Populations'!S62 -> Other | L37: =' Populations'!U62 -> Other | N37: State Population Total | O37: Rate | P37: Male | Q37: Rate | R37: Female | S37: Rate | T37: =' Populations'!I62 -> White-Not Hispanic | U37: Rate | V37: =' Populations'!K62 -> Hispanic | W37: Rate | X37: =' Populations'!M62 -> Black-Not Hispanic | Y37: Rate | Z37: =' Populations'!O62 -> Asian | AA37: Rate | AB37: =' Populations'!Q62 -> American Indian/Alaska Native | AC37: Rate | AD37: =' Populations'!S62 -> Other | AE37: Rate | AF37: =' Populations'!U62 -> Other | AG37: Rate | AI37: 2000 State population | AJ37: Weight | AL37: Age | AM37: Total | AN37: Male | AO37: Female | AP37: =' Populations'!I62 -> White-Not Hispanic | AQ37: =' Populations'!K62 -> Hispanic | AR37: =' Populations'!M62 -> Black-Not Hispanic | AS37: =' Populations'!O62 -> Asian | AT37: =' Populations'!Q62 -> American Indian/Alaska Native | AU37: =' Populations'!S62 -> Other | AV37: =' Populations'!U62 -> Other
B38: =' Populations'!B81 -> <1 | N38: =' Populations'!C63 -> 0 | O38: =IF(N38=0,0,($C$38/$N$38)*100000) -> 0 | P38: =' Populations'!E63 -> 0 | Q38: =IF(P38=0,0,($D$38/$P$38)*100000) -> 0 | R38: =' Populations'!G63 -> 0 | S38: =IF(R38=0,0,($E$38/$R$38)*100000) -> 0 | T38: =' Populations'!I63 -> 0 | U38: =IF(T38=0,0,($F$38/$T$38)*100000) -> 0 | V38: =' Populations'!K63 -> 0 | W38: =IF(V38=0,0,($G$38/$V$38)*100000) -> 0 | X38: =' Populations'!M63 -> 0 | Y38: =IF(X38=0,0,($H$38/$X$38)*100000) -> 0 | Z38: =' Populations'!O63 -> 0 | AA38: =IF(Z38=0,0,($I$38/$Z$38)*100000) -> 0 | AB38: =' Populations'!Q63 -> 0 | AC38: =IF(AB38=0,0,($J$38/$AB$38)*100000) -> 0 | AD38: =' Populations'!S63 -> 0 | AE38: =IF(AD38=0,0,($K$38/$AD$38)*100000) -> 0 | AF38: =' Populations'!U63 -> 0 | AG38: =IF(AF38=0,0,($L$38/$AF$38)*100000) -> 0 | AJ38: 0.013818 | AL38: =' Populations'!B9 -> <1 | AM38: =O38*AJ38 -> 0 | AN38: =Q38*AJ38 -> 0 | AO38: =S38*AJ38 -> 0 | AP38: =U38*AJ38 -> 0 | AQ38: =W38*AJ38 -> 0 | AR38: =Y38*AJ38 -> 0 | AS38: =AA38*AJ38 -> 0 | AT38: =AC38*AJ38 -> 0 | AU38: =AE38*AJ38 -> 0 | AV38: =AG38*AJ38 -> 0
B39: =' Populations'!B82 -> 1-4 | N39: =' Populations'!C64 -> 0 | O39: =IF(N39=0,0,($C$39/$N$39)*100000) -> 0 | P39: =' Populations'!E64 -> 0 | Q39: =IF(P39=0,0,($D$39/$P$39)*100000) -> 0 | R39: =' Populations'!G64 -> 0 | S39: =IF(R39=0,0,($E$39/$R$39)*100000) -> 0 | T39: =' Populations'!I64 -> 0 | U39: =IF(T39=0,0,($F$39/$T$39)*100000) -> 0 | V39: =' Populations'!K64 -> 0 | W39: =IF(V39=0,0,($G$39/$V$39)*100000) -> 0 | X39: =' Populations'!M64 -> 0 | Y39: =IF(X39=0,0,($H$39/$X$39)*100000) -> 0 | Z39: =' Populations'!O64 -> 0 | AA39: =IF(Z39=0,0,($I$39/$Z$39)*100000) -> 0 | AB39: =' Populations'!Q64 -> 0 | AC39: =IF(AB39=0,0,($J$39/$AB$39)*100000) -> 0 | AD39: =' Populations'!S64 -> 0 | AE39: =IF(AD39=0,0,($K$39/$AD$39)*100000) -> 0 | AF39: =' Populations'!U64 -> 0 | AG39: =IF(AF39=0,0,($L$39/$AF$39)*100000) -> 0 | AJ39: 0.055317 | AL39: =' Populations'!B10 -> 1-4 | AM39: =O39*AJ39 -> 0 | AN39: =Q39*AJ39 -> 0 | AO39: =S39*AJ39 -> 0 | AP39: =U39*AJ39 -> 0 | AQ39: =W39*AJ39 -> 0 | AR39: =Y39*AJ39 -> 0 | AS39: =AA39*AJ39 -> 0 | AT39: =AC39*AJ39 -> 0 | AU39: =AE39*AJ39 -> 0 | AV39: =AG39*AJ39 -> 0
B40: =' Populations'!B83 -> 5-9 | N40: =' Populations'!C65 -> 0 | O40: =IF(N40=0,0,($C$40/$N$40)*100000) -> 0 | P40: =' Populations'!E65 -> 0 | Q40: =IF(P40=0,0,($D$40/$P$40)*100000) -> 0 | R40: =' Populations'!G65 -> 0 | S40: =IF(R40=0,0,($E$40/$R$40)*100000) -> 0 | T40: =' Populations'!I65 -> 0 | U40: =IF(T40=0,0,($F$40/$T$40)*100000) -> 0 | V40: =' Populations'!K65 -> 0 | W40: =IF(V40=0,0,($G$40/$V$40)*100000) -> 0 | X40: =' Populations'!M65 -> 0 | Y40: =IF(X40=0,0,($H$40/$X$40)*100000) -> 0 | Z40: =' Populations'!O65 -> 0 | AA40: =IF(Z40=0,0,($I$40/$Z$40)*100000) -> 0 | AB40: =' Populations'!Q65 -> 0 | AC40: =IF(AB40=0,0,($J$40/$AB$40)*100000) -> 0 | AD40: =' Populations'!S65 -> 0 | AE40: =IF(AD40=0,0,($K$40/$AD$40)*100000) -> 0 | AF40: =' Populations'!U65 -> 0 | AG40: =IF(AF40=0,0,($L$40/$AF$40)*100000) -> 0 | AJ40: 0.072533 | AL40: =' Populations'!B11 -> 5-9 | AM40: =O40*AJ40 -> 0 | AN40: =Q40*AJ40 -> 0 | AO40: =S40*AJ40 -> 0 | AP40: =U40*AJ40 -> 0 | AQ40: =W40*AJ40 -> 0 | AR40: =Y40*AJ40 -> 0 | AS40: =AA40*AJ40 -> 0 | AT40: =AC40*AJ40 -> 0 | AU40: =AE40*AJ40 -> 0 | AV40: =AG40*AJ40 -> 0
B41: =' Populations'!B84 -> 10-14 | N41: =' Populations'!C66 -> 0 | O41: =IF(N41=0,0,($C$41/$N$41)*100000) -> 0 | P41: =' Populations'!E66 -> 0 | Q41: =IF(P41=0,0,($D$41/$P$41)*100000) -> 0 | R41: =' Populations'!G66 -> 0 | S41: =IF(R41=0,0,($E$41/$R$41)*100000) -> 0 | T41: =' Populations'!I66 -> 0 | U41: =IF(T41=0,0,($F$41/$T$41)*100000) -> 0 | V41: =' Populations'!K66 -> 0 | W41: =IF(V41=0,0,($G$41/$V$41)*100000) -> 0 | X41: =' Populations'!M66 -> 0 | Y41: =IF(X41=0,0,($H$41/$X$41)*100000) -> 0 | Z41: =' Populations'!O66 -> 0 | AA41: =IF(Z41=0,0,($I$41/$Z$41)*100000) -> 0 | AB41: =' Populations'!Q66 -> 0 | AC41: =IF(AB41=0,0,($J$41/$AB$41)*100000) -> 0 | AD41: =' Populations'!S66 -> 0 | AE41: =IF(AD41=0,0,($K$41/$AD$41)*100000) -> 0 | AF41: =' Populations'!U66 -> 0 | AG41: =IF(AF41=0,0,($L$41/$AF$41)*100000) -> 0 | AJ41: 0.073032 | AL41: =' Populations'!B12 -> 10-14 | AM41: =O41*AJ41 -> 0 | AN41: =Q41*AJ41 -> 0 | AO41: =S41*AJ41 -> 0 | AP41: =U41*AJ41 -> 0 | AQ41: =W41*AJ41 -> 0 | AR41: =Y41*AJ41 -> 0 | AS41: =AA41*AJ41 -> 0 | AT41: =AC41*AJ41 -> 0 | AU41: =AE41*AJ41 -> 0 | AV41: =AG41*AJ41 -> 0
B42: =' Populations'!B85 -> 15-19 | N42: =' Populations'!C67 -> 0 | O42: =IF(N42=0,0,($C$42/$N$42)*100000) -> 0 | P42: =' Populations'!E67 -> 0 | Q42: =IF(P42=0,0,($D$42/$P$42)*100000) -> 0 | R42: =' Populations'!G67 -> 0 | S42: =IF(R42=0,0,($E$42/$R$42)*100000) -> 0 | T42: =' Populations'!I67 -> 0 | U42: =IF(T42=0,0,($F$42/$T$42)*100000) -> 0 | V42: =' Populations'!K67 -> 0 | W42: =IF(V42=0,0,($G$42/$V$42)*100000) -> 0 | X42: =' Populations'!M67 -> 0 | Y42: =IF(X42=0,0,($H$42/$X$42)*100000) -> 0 | Z42: =' Populations'!O67 -> 0 | AA42: =IF(Z42=0,0,($I$42/$Z$42)*100000) -> 0 | AB42: =' Populations'!Q67 -> 0 | AC42: =IF(AB42=0,0,($J$42/$AB$42)*100000) -> 0 | AD42: =' Populations'!S67 -> 0 | AE42: =IF(AD42=0,0,($K$42/$AD$42)*100000) -> 0 | AF42: =' Populations'!U67 -> 0 | AG42: =IF(AF42=0,0,($L$42/$AF$42)*100000) -> 0 | AJ42: 0.072169 | AL42: =' Populations'!B13 -> 15-19 | AM42: =O42*AJ42 -> 0 | AN42: =Q42*AJ42 -> 0 | AO42: =S42*AJ42 -> 0 | AP42: =U42*AJ42 -> 0 | AQ42: =W42*AJ42 -> 0 | AR42: =Y42*AJ42 -> 0 | AS42: =AA42*AJ42 -> 0 | AT42: =AC42*AJ42 -> 0 | AU42: =AE42*AJ42 -> 0 | AV42: =AG42*AJ42 -> 0
B43: =' Populations'!B86 -> 20-24 | N43: =' Populations'!C68 -> 0 | O43: =IF(N43=0,0,($C$43/$N$43)*100000) -> 0 | P43: =' Populations'!E68 -> 0 | Q43: =IF(P43=0,0,($D$43/$P$43)*100000) -> 0 | R43: =' Populations'!G68 -> 0 | S43: =IF(R43=0,0,($E$43/$R$43)*100000) -> 0 | T43: =' Populations'!I68 -> 0 | U43: =IF(T43=0,0,($F$43/$T$43)*100000) -> 0 | V43: =' Populations'!K68 -> 0 | W43: =IF(V43=0,0,($G$43/$V$43)*100000) -> 0 | X43: =' Populations'!M68 -> 0 | Y43: =IF(X43=0,0,($H$43/$X$43)*100000) -> 0 | Z43: =' Populations'!O68 -> 0 | AA43: =IF(Z43=0,0,($I$43/$Z$43)*100000) -> 0 | AB43: =' Populations'!Q68 -> 0 | AC43: =IF(AB43=0,0,($J$43/$AB$43)*100000) -> 0 | AD43: =' Populations'!S68 -> 0 | AE43: =IF(AD43=0,0,($K$43/$AD$43)*100000) -> 0 | AF43: =' Populations'!U68 -> 0 | AG43: =IF(AF43=0,0,($L$43/$AF$43)*100000) -> 0 | AJ43: 0.066478 | AL43: =' Populations'!B14 -> 20-24 | AM43: =O43*AJ43 -> 0 | AN43: =Q43*AJ43 -> 0 | AO43: =S43*AJ43 -> 0 | AP43: =U43*AJ43 -> 0 | AQ43: =W43*AJ43 -> 0 | AR43: =Y43*AJ43 -> 0 | AS43: =AA43*AJ43 -> 0 | AT43: =AC43*AJ43 -> 0 | AU43: =AE43*AJ43 -> 0 | AV43: =AG43*AJ43 -> 0
B44: =' Populations'!B87 -> 25-34 | N44: =' Populations'!C69 -> 0 | O44: =IF(N44=0,0,($C$44/$N$44)*100000) -> 0 | P44: =' Populations'!E69 -> 0 | Q44: =IF(P44=0,0,($D$44/$P$44)*100000) -> 0 | R44: =' Populations'!G69 -> 0 | S44: =IF(R44=0,0,($E$44/$R$44)*100000) -> 0 | T44: =' Populations'!I69 -> 0 | U44: =IF(T44=0,0,($F$44/$T$44)*100000) -> 0 | V44: =' Populations'!K69 -> 0 | W44: =IF(V44=0,0,($G$44/$V$44)*100000) -> 0 | X44: =' Populations'!M69 -> 0 | Y44: =IF(X44=0,0,($H$44/$X$44)*100000) -> 0 | Z44: =' Populations'!O69 -> 0 | AA44: =IF(Z44=0,0,($I$44/$Z$44)*100000) -> 0 | AB44: =' Populations'!Q69 -> 0 | AC44: =IF(AB44=0,0,($J$44/$AB$44)*100000) -> 0 | AD44: =' Populations'!S69 -> 0 | AE44: =IF(AD44=0,0,($K$44/$AD$44)*100000) -> 0 | AF44: =' Populations'!U69 -> 0 | AG44: =IF(AF44=0,0,($L$44/$AF$44)*100000) -> 0 | AJ44: 0.135573 | AL44: =' Populations'!B15 -> 25-34 | AM44: =O44*AJ44 -> 0 | AN44: =Q44*AJ44 -> 0 | AO44: =S44*AJ44 -> 0 | AP44: =U44*AJ44 -> 0 | AQ44: =W44*AJ44 -> 0 | AR44: =Y44*AJ44 -> 0 | AS44: =AA44*AJ44 -> 0 | AT44: =AC44*AJ44 -> 0 | AU44: =AE44*AJ44 -> 0 | AV44: =AG44*AJ44 -> 0
B45: =' Populations'!B88 -> 35-44 | N45: =' Populations'!C70 -> 0 | O45: =IF(N45=0,0,($C$45/$N$45)*100000) -> 0 | P45: =' Populations'!E70 -> 0 | Q45: =IF(P45=0,0,($D$45/$P$45)*100000) -> 0 | R45: =' Populations'!G70 -> 0 | S45: =IF(R45=0,0,($E$45/$R$45)*100000) -> 0 | T45: =' Populations'!I70 -> 0 | U45: =IF(T45=0,0,($F$45/$T$45)*100000) -> 0 | V45: =' Populations'!K70 -> 0 | W45: =IF(V45=0,0,($G$45/$V$45)*100000) -> 0 | X45: =' Populations'!M70 -> 0 | Y45: =IF(X45=0,0,($H$45/$X$45)*100000) -> 0 | Z45: =' Populations'!O70 -> 0 | AA45: =IF(Z45=0,0,($I$45/$Z$45)*100000) -> 0 | AB45: =' Populations'!Q70 -> 0 | AC45: =IF(AB45=0,0,($J$45/$AB$45)*100000) -> 0 | AD45: =' Populations'!S70 -> 0 | AE45: =IF(AD45=0,0,($K$45/$AD$45)*100000) -> 0 | AF45: =' Populations'!U70 -> 0 | AG45: =IF(AF45=0,0,($L$45/$AF$45)*100000) -> 0 | AJ45: 0.162613 | AL45: =' Populations'!B16 -> 35-44 | AM45: =O45*AJ45 -> 0 | AN45: =Q45*AJ45 -> 0 | AO45: =S45*AJ45 -> 0 | AP45: =U45*AJ45 -> 0 | AQ45: =W45*AJ45 -> 0 | AR45: =Y45*AJ45 -> 0 | AS45: =AA45*AJ45 -> 0 | AT45: =AC45*AJ45 -> 0 | AU45: =AE45*AJ45 -> 0 | AV45: =AG45*AJ45 -> 0
B46: =' Populations'!B89 -> 45-54 | N46: =' Populations'!C71 -> 0 | O46: =IF(N46=0,0,($C$46/$N$46)*100000) -> 0 | P46: =' Populations'!E71 -> 0 | Q46: =IF(P46=0,0,($D$46/$P$46)*100000) -> 0 | R46: =' Populations'!G71 -> 0 | S46: =IF(R46=0,0,($E$46/$R$46)*100000) -> 0 | T46: =' Populations'!I71 -> 0 | U46: =IF(T46=0,0,($F$46/$T$46)*100000) -> 0 | V46: =' Populations'!K71 -> 0 | W46: =IF(V46=0,0,($G$46/$V$46)*100000) -> 0 | X46: =' Populations'!M71 -> 0 | Y46: =IF(X46=0,0,($H$46/$X$46)*100000) -> 0 | Z46: =' Populations'!O71 -> 0 | AA46: =IF(Z46=0,0,($I$46/$Z$46)*100000) -> 0 | AB46: =' Populations'!Q71 -> 0 | AC46: =IF(AB46=0,0,($J$46/$AB$46)*100000) -> 0 | AD46: =' Populations'!S71 -> 0 | AE46: =IF(AD46=0,0,($K$46/$AD$46)*100000) -> 0 | AF46: =' Populations'!U71 -> 0 | AG46: =IF(AF46=0,0,($L$46/$AF$46)*100000) -> 0 | AJ46: 0.134834 | AL46: =' Populations'!B17 -> 45-54 | AM46: =O46*AJ46 -> 0 | AN46: =Q46*AJ46 -> 0 | AO46: =S46*AJ46 -> 0 | AP46: =U46*AJ46 -> 0 | AQ46: =W46*AJ46 -> 0 | AR46: =Y46*AJ46 -> 0 | AS46: =AA46*AJ46 -> 0 | AT46: =AC46*AJ46 -> 0 | AU46: =AE46*AJ46 -> 0 | AV46: =AG46*AJ46 -> 0
B47: =' Populations'!B90 -> 55-64 | N47: =' Populations'!C72 -> 0 | O47: =IF(N47=0,0,($C$47/$N$47)*100000) -> 0 | P47: =' Populations'!E72 -> 0 | Q47: =IF(P47=0,0,($D$47/$P$47)*100000) -> 0 | R47: =' Populations'!G72 -> 0 | S47: =IF(R47=0,0,($E$47/$R$47)*100000) -> 0 | T47: =' Populations'!I72 -> 0 | U47: =IF(T47=0,0,($F$47/$T$47)*100000) -> 0 | V47: =' Populations'!K72 -> 0 | W47: =IF(V47=0,0,($G$47/$V$47)*100000) -> 0 | X47: =' Populations'!M72 -> 0 | Y47: =IF(X47=0,0,($H$47/$X$47)*100000) -> 0 | Z47: =' Populations'!O72 -> 0 | AA47: =IF(Z47=0,0,($I$47/$Z$47)*100000) -> 0 | AB47: =' Populations'!Q72 -> 0 | AC47: =IF(AB47=0,0,($J$47/$AB$47)*100000) -> 0 | AD47: =' Populations'!S72 -> 0 | AE47: =IF(AD47=0,0,($K$47/$AD$47)*100000) -> 0 | AF47: =' Populations'!U72 -> 0 | AG47: =IF(AF47=0,0,($L$47/$AF$47)*100000) -> 0 | AJ47: 0.087247 | AL47: =' Populations'!B18 -> 55-64 | AM47: =O47*AJ47 -> 0 | AN47: =Q47*AJ47 -> 0 | AO47: =S47*AJ47 -> 0 | AP47: =U47*AJ47 -> 0 | AQ47: =W47*AJ47 -> 0 | AR47: =Y47*AJ47 -> 0 | AS47: =AA47*AJ47 -> 0 | AT47: =AC47*AJ47 -> 0 | AU47: =AE47*AJ47 -> 0 | AV47: =AG47*AJ47 -> 0
B48: =' Populations'!B91 -> 65-74 | N48: =' Populations'!C73 -> 0 | O48: =IF(N48=0,0,($C$48/$N$48)*100000) -> 0 | P48: =' Populations'!E73 -> 0 | Q48: =IF(P48=0,0,($D$48/$P$48)*100000) -> 0 | R48: =' Populations'!G73 -> 0 | S48: =IF(R48=0,0,($E$48/$R$48)*100000) -> 0 | T48: =' Populations'!I73 -> 0 | U48: =IF(T48=0,0,($F$48/$T$48)*100000) -> 0 | V48: =' Populations'!K73 -> 0 | W48: =IF(V48=0,0,($G$48/$V$48)*100000) -> 0 | X48: =' Populations'!M73 -> 0 | Y48: =IF(X48=0,0,($H$48/$X$48)*100000) -> 0 | Z48: =' Populations'!O73 -> 0 | AA48: =IF(Z48=0,0,($I$48/$Z$48)*100000) -> 0 | AB48: =' Populations'!Q73 -> 0 | AC48: =IF(AB48=0,0,($J$48/$AB$48)*100000) -> 0 | AD48: =' Populations'!S73 -> 0 | AE48: =IF(AD48=0,0,($K$48/$AD$48)*100000) -> 0 | AF48: =' Populations'!U73 -> 0 | AG48: =IF(AF48=0,0,($L$48/$AF$48)*100000) -> 0 | AJ48: 0.066037 | AL48: =' Populations'!B19 -> 65-74 | AM48: =O48*AJ48 -> 0 | AN48: =Q48*AJ48 -> 0 | AO48: =S48*AJ48 -> 0 | AP48: =U48*AJ48 -> 0 | AQ48: =W48*AJ48 -> 0 | AR48: =Y48*AJ48 -> 0 | AS48: =AA48*AJ48 -> 0 | AT48: =AC48*AJ48 -> 0 | AU48: =AE48*AJ48 -> 0 | AV48: =AG48*AJ48 -> 0
B49: =' Populations'!B92 -> 75-84 | N49: =' Populations'!C74 -> 0 | O49: =IF(N49=0,0,($C$49/$N$49)*100000) -> 0 | P49: =' Populations'!E74 -> 0 | Q49: =IF(P49=0,0,($D$49/$P$49)*100000) -> 0 | R49: =' Populations'!G74 -> 0 | S49: =IF(R49=0,0,($E$49/$R$49)*100000) -> 0 | T49: =' Populations'!I74 -> 0 | U49: =IF(T49=0,0,($F$49/$T$49)*100000) -> 0 | V49: =' Populations'!K74 -> 0 | W49: =IF(V49=0,0,($G$49/$V$49)*100000) -> 0 | X49: =' Populations'!M74 -> 0 | Y49: =IF(X49=0,0,($H$49/$X$49)*100000) -> 0 | Z49: =' Populations'!O74 -> 0 | AA49: =IF(Z49=0,0,($I$49/$Z$49)*100000) -> 0 | AB49: =' Populations'!Q74 -> 0 | AC49: =IF(AB49=0,0,($J$49/$AB$49)*100000) -> 0 | AD49: =' Populations'!S74 -> 0 | AE49: =IF(AD49=0,0,($K$49/$AD$49)*100000) -> 0 | AF49: =' Populations'!U74 -> 0 | AG49: =IF(AF49=0,0,($L$49/$AF$49)*100000) -> 0 | AJ49: 0.044841 | AL49: =' Populations'!B20 -> 75-84 | AM49: =O49*AJ49 -> 0 | AN49: =Q49*AJ49 -> 0 | AO49: =S49*AJ49 -> 0 | AP49: =U49*AJ49 -> 0 | AQ49: =W49*AJ49 -> 0 | AR49: =Y49*AJ49 -> 0 | AS49: =AA49*AJ49 -> 0 | AT49: =AC49*AJ49 -> 0 | AU49: =AE49*AJ49 -> 0 | AV49: =AG49*AJ49 -> 0
B50: =' Populations'!B93 -> 85+ | N50: =' Populations'!C75 -> 0 | O50: =IF(N50=0,0,($C$50/$N$50)*100000) -> 0 | P50: =' Populations'!E75 -> 0 | Q50: =IF(P50=0,0,($D$50/$P$50)*100000) -> 0 | R50: =' Populations'!G75 -> 0 | S50: =IF(R50=0,0,($E$50/$R$50)*100000) -> 0 | T50: =' Populations'!I75 -> 0 | U50: =IF(T50=0,0,($F$50/$T$50)*100000) -> 0 | V50: =' Populations'!K75 -> 0 | W50: =IF(V50=0,0,($G$50/$V$50)*100000) -> 0 | X50: =' Populations'!M75 -> 0 | Y50: =IF(X50=0,0,($H$50/$X$50)*100000) -> 0 | Z50: =' Populations'!O75 -> 0 | AA50: =IF(Z50=0,0,($I$50/$Z$50)*100000) -> 0 | AB50: =' Populations'!Q75 -> 0 | AC50: =IF(AB50=0,0,($J$50/$AB$50)*100000) -> 0 | AD50: =' Populations'!S75 -> 0 | AE50: =IF(AD50=0,0,($K$50/$AD$50)*100000) -> 0 | AF50: =' Populations'!U75 -> 0 | AG50: =IF(AF50=0,0,($L$50/$AF$50)*100000) -> 0 | AJ50: 0.015508 | AL50: =' Populations'!B21 -> 85+ | AM50: =O50*AJ50 -> 0 | AN50: =Q50*AJ50 -> 0 | AO50: =S50*AJ50 -> 0 | AP50: =U50*AJ50 -> 0 | AQ50: =W50*AJ50 -> 0 | AR50: =Y50*AJ50 -> 0 | AS50: =AA50*AJ50 -> 0 | AT50: =AC50*AJ50 -> 0 | AU50: =AE50*AJ50 -> 0 | AV50: =AG50*AJ50 -> 0
B51: total | C51: =SUM(C38:C50) -> 0 | D51: =SUM(D38:D50) -> 0 | E51: =SUM(E38:E50) -> 0 | F51: =SUM(F38:F50) -> 0 | G51: =SUM(G38:G50) -> 0 | H51: =SUM(H38:H50) -> 0 | I51: =SUM(I38:I50) -> 0 | J51: =SUM(J38:J50) -> 0 | ... L51: =SUM(L38:L50) -> 0 | N51: =' Populations'!C76 -> 0 | O51: =SUM(O38:O50) -> 0 | P51: =' Populations'!E76 -> 0 | Q51: =SUM(Q38:Q50) -> 0 | R51: =' Populations'!G76 -> 0 | S51: =SUM(S38:S50) -> 0 | T51: =' Populations'!I76 -> 0 | U51: =SUM(U38:U50) -> 0 | V51: =' Populations'!K76 -> 0 | W51: =SUM(W38:W50) -> 0 | X51: =' Populations'!M76 -> 0 | Y51: =SUM(Y38:Y50) -> 0 | Z51: =' Populations'!O76 -> 0 | AA51: =SUM(AA38:AA50) -> 0 | AB51: =' Populations'!Q76 -> 0 | AC51: =SUM(AC38:AC50) -> 0 | AD51: =' Populations'!S76 -> 0 | AE51: =SUM(AE38:AE50) -> 0 | AF51: =' Populations'!U76 -> 0 | AG51: =SUM(AG38:AG50) -> 0 | AL51: =' Populations'!B22 -> Total | AM51: =SUM(AM38:AM50) -> 0 | AN51: =SUM(AN38:AN50) -> 0 | AO51: =SUM(AO38:AO50) -> 0 | AP51: =SUM(AP38:AP50) -> 0 | AQ51: =SUM(AQ38:AQ50) -> 0 | AR51: =SUM(AR38:AR50) -> 0 | AS51: =SUM(AS38:AS50) -> 0 | AT51: =SUM(AT38:AT50) -> 0 | ... AV51: =SUM(AV38:AV50) -> 0

Sheet 2018
A1: =' Populations'!A45 -> 2018 | B1: Data Input Tables Instructions: Enter your TBI-related injury data in the red cells below. The age-adjusted rates will automatically calculate in the results table. | F1: Use columns F through L to enter demographic data | N1: Optional: Unhide columns O through AK to show rate calculations and 2000 population weights | AI1: Enter 2000 State population by age group. Columns AM through AV will then autogenerate age adjusted rates per 100,000 | AL1: Results Table Age Adjusted Rates per 100,1000. Results will calculate automatically.
D2: Sex Data | F2: Demographic Data | AM2: Age-adjusted Rates per 100,000 population
B3: Age | C3: Number of hospitalizations- Total | D3: Number of hospitalizations- Male | E3: Number of hospitalizations- Female | F3: =' Populations'!I44 -> White-Not Hispanic | G3: =' Populations'!K44 -> Hispanic | H3: =' Populations'!M44 -> Black-Not Hispanic | I3: =' Populations'!O44 -> Asian | J3: =' Populations'!Q44 -> American Indian/Alaska Native | K3: =' Populations'!S44 -> Other | L3: =' Populations'!U44 -> Other | N3: State Population Total | O3: Rate | P3: =' Populations'!E44 -> Male | Q3: Rate | R3: =' Populations'!G44 -> Female | S3: Rate | T3: =' Populations'!I44 -> White-Not Hispanic | U3: Rate | V3: =' Populations'!K44 -> Hispanic | W3: Rate | X3: =' Populations'!M44 -> Black-Not Hispanic | Y3: Rate | Z3: =' Populations'!O44 -> Asian | AA3: Rate | AB3: =' Populations'!Q44 -> American Indian/Alaska Native | AC3: Rate | AD3: =' Populations'!S44 -> Other | AE3: Rate | AF3: =' Populations'!U44 -> Other | AG3: Rate | AI3: 2000 State population | AJ3: Weight | AL3: Age | AM3: Total | AN3: Male | AO3: Female | AP3: =' Populations'!I44 -> White-Not Hispanic | AQ3: =' Populations'!K44 -> Hispanic | AR3: =' Populations'!M44 -> Black-Not Hispanic | AS3: =' Populations'!O44 -> Asian | AT3: =' Populations'!Q44 -> American Indian/Alaska Native | AU3: =' Populations'!S44 -> Other | AV3: =' Populations'!U44 -> Other
B4: =' Populations'!B81 -> <1 | N4: =' Populations'!C45 -> 0 | O4: =IF(N4=0,0,($C$4/$N$4)*100000) -> 0 | P4: =' Populations'!E45 -> 0 | Q4: =IF(P4=0,0,($D$4/$P$4)*100000) -> 0 | R4: =' Populations'!G45 -> 0 | S4: =IF(R4=0,0,($E$4/$R$4)*100000) -> 0 | T4: =' Populations'!I45 -> 0 | U4: =IF(T4=0,0,($F$4/$T$4)*100000) -> 0 | V4: =' Populations'!K45 -> 0 | W4: =IF(V4=0,0,($G$4/$V$4)*100000) -> 0 | X4: =' Populations'!M45 -> 0 | Y4: =IF(X4=0,0,($H$4/$X$4)*100000) -> 0 | Z4: =' Populations'!O45 -> 0 | AA4: =IF(Z4=0,0,($I$4/$Z$4)*100000) -> 0 | AB4: =' Populations'!Q45 -> 0 | AC4: =IF(AB4=0,0,($J$4/$AB$4)*100000) -> 0 | AD4: =' Populations'!S45 -> 0 | AE4: =IF(AD4=0,0,($K$4/$AD$4)*100000) -> 0 | AF4: =' Populations'!U45 -> 0 | AG4: =IF(AF4=0,0,($L$4/$AF$4)*100000) -> 0 | AJ4: 0.013818 | AL4: =' Populations'!B9 -> <1 | AM4: =O4*AJ4 -> 0 | AN4: =Q4*AJ4 -> 0 | AO4: =S4*AJ4 -> 0 | AP4: =U4*AJ4 -> 0 | AQ4: =W4*AJ4 -> 0 | AR4: =Y4*AJ4 -> 0 | AS4: =AA4*AJ4 -> 0 | AT4: =AC4*AJ4 -> 0 | AU4: =AE4*AJ4 -> 0 | AV4: =AG4*AJ4 -> 0
B5: =' Populations'!B82 -> 1-4 | N5: =' Populations'!C46 -> 0 | O5: =IF(N5=0,0,($C$5/$N$5)*100000) -> 0 | P5: =' Populations'!E46 -> 0 | Q5: =IF(P5=0,0,($D$5/$P$5)*100000) -> 0 | R5: =' Populations'!G46 -> 0 | S5: =IF(R5=0,0,($E$5/$R$5)*100000) -> 0 | T5: =' Populations'!I46 -> 0 | U5: =IF(T5=0,0,($F$5/$T$5)*100000) -> 0 | V5: =' Populations'!K46 -> 0 | W5: =IF(V5=0,0,($G$5/$V$5)*100000) -> 0 | X5: =' Populations'!M46 -> 0 | Y5: =IF(X5=0,0,($G$5/$X$5)*100000) -> 0 | Z5: =' Populations'!O46 -> 0 | AA5: =IF(Z5=0,0,($I$5/$Z$5)*100000) -> 0 | AB5: =' Populations'!Q46 -> 0 | AC5: =IF(AB5=0,0,($J$5/$AB$5)*100000) -> 0 | AD5: =' Populations'!S46 -> 0 | AE5: =IF(AD5=0,0,($K$5/$AD$5)*100000) -> 0 | AF5: =' Populations'!U46 -> 0 | AG5: =IF(AF5=0,0,($L$5/$AF$5)*100000) -> 0 | AJ5: 0.055317 | AL5: =' Populations'!B10 -> 1-4 | AM5: =O5*AJ5 -> 0 | AN5: =Q5*AJ5 -> 0 | AO5: =S5*AJ5 -> 0 | AP5: =U5*AJ5 -> 0 | AQ5: =W5*AJ5 -> 0 | AR5: =Y5*AJ5 -> 0 | AS5: =AA5*AJ5 -> 0 | AT5: =AC5*AJ5 -> 0 | AU5: =AE5*AJ5 -> 0 | AV5: =AG5*AJ5 -> 0
B6: =' Populations'!B83 -> 5-9 | N6: =' Populations'!C47 -> 0 | O6: =IF(N6=0,0,($C$6/$N$6)*100000) -> 0 | P6: =' Populations'!E47 -> 0 | Q6: =IF(P6=0,0,($D$6/$P$6)*100000) -> 0 | R6: =' Populations'!G47 -> 0 | S6: =IF(R6=0,0,($E$6/$R$6)*100000) -> 0 | T6: =' Populations'!I47 -> 0 | U6: =IF(T6=0,0,($F$6/$T$6)*100000) -> 0 | V6: =' Populations'!K47 -> 0 | W6: =IF(V6=0,0,($G$6/$V$6)*100000) -> 0 | X6: =' Populations'!M47 -> 0 | Y6: =IF(X6=0,0,($G$6/$X$6)*100000) -> 0 | Z6: =' Populations'!O47 -> 0 | AA6: =IF(Z6=0,0,($I$6/$Z$6)*100000) -> 0 | AB6: =' Populations'!Q47 -> 0 | AC6: =IF(AB6=0,0,($J$6/$AB$6)*100000) -> 0 | AD6: =' Populations'!S47 -> 0 | AE6: =IF(AD6=0,0,($K$6/$AD$6)*100000) -> 0 | AF6: =' Populations'!U47 -> 0 | AG6: =IF(AF6=0,0,($L$6/$AF$6)*100000) -> 0 | AJ6: 0.072533 | AL6: =' Populations'!B11 -> 5-9 | AM6: =O6*AJ6 -> 0 | AN6: =Q6*AJ6 -> 0 | AO6: =S6*AJ6 -> 0 | AP6: =U6*AJ6 -> 0 | AQ6: =W6*AJ6 -> 0 | AR6: =Y6*AJ6 -> 0 | AS6: =AA6*AJ6 -> 0 | AT6: =AC6*AJ6 -> 0 | AU6: =AE6*AJ6 -> 0 | AV6: =AG6*AJ6 -> 0
B7: =' Populations'!B84 -> 10-14 | N7: =' Populations'!C48 -> 0 | O7: =IF(N7=0,0,($C$7/$N$7)*100000) -> 0 | P7: =' Populations'!E48 -> 0 | Q7: =IF(P7=0,0,($D$7/$P$7)*100000) -> 0 | R7: =' Populations'!G48 -> 0 | S7: =IF(R7=0,0,($E$7/$R$7)*100000) -> 0 | T7: =' Populations'!I48 -> 0 | U7: =IF(T7=0,0,($F$7/$T$7)*100000) -> 0 | V7: =' Populations'!K48 -> 0 | W7: =IF(V7=0,0,($G$7/$V$7)*100000) -> 0 | X7: =' Populations'!M48 -> 0 | Y7: =IF(X7=0,0,($G$7/$X$7)*100000) -> 0 | Z7: =' Populations'!O48 -> 0 | AA7: =IF(Z7=0,0,($I$7/$Z$7)*100000) -> 0 | AB7: =' Populations'!Q48 -> 0 | AC7: =IF(AB7=0,0,($J$7/$AB$7)*100000) -> 0 | AD7: =' Populations'!S48 -> 0 | AE7: =IF(AD7=0,0,($K$7/$AD$7)*100000) -> 0 | AF7: =' Populations'!U48 -> 0 | AG7: =IF(AF7=0,0,($L$7/$AF$7)*100000) -> 0 | AJ7: 0.073032 | AL7: =' Populations'!B12 -> 10-14 | AM7: =O7*AJ7 -> 0 | AN7: =Q7*AJ7 -> 0 | AO7: =S7*AJ7 -> 0 | AP7: =U7*AJ7 -> 0 | AQ7: =W7*AJ7 -> 0 | AR7: =Y7*AJ7 -> 0 | AS7: =AA7*AJ7 -> 0 | AT7: =AC7*AJ7 -> 0 | AU7: =AE7*AJ7 -> 0 | AV7: =AG7*AJ7 -> 0
B8: =' Populations'!B85 -> 15-19 | N8: =' Populations'!C49 -> 0 | O8: =IF(N8=0,0,($C$8/$N$8)*100000) -> 0 | P8: =' Populations'!E49 -> 0 | Q8: =IF(P8=0,0,($D$8/$P$8)*100000) -> 0 | R8: =' Populations'!G49 -> 0 | S8: =IF(R8=0,0,($E$8/$R$8)*100000) -> 0 | T8: =' Populations'!I49 -> 0 | U8: =IF(T8=0,0,($F$8/$T$8)*100000) -> 0 | V8: =' Populations'!K49 -> 0 | W8: =IF(V8=0,0,($G$8/$V$8)*100000) -> 0 | X8: =' Populations'!M49 -> 0 | Y8: =IF(X8=0,0,($G$8/$X$8)*100000) -> 0 | Z8: =' Populations'!O49 -> 0 | AA8: =IF(Z8=0,0,($I$8/$Z$8)*100000) -> 0 | AB8: =' Populations'!Q49 -> 0 | AC8: =IF(AB8=0,0,($J$8/$AB$8)*100000) -> 0 | AD8: =' Populations'!S49 -> 0 | AE8: =IF(AD8=0,0,($K$8/$AD$8)*100000) -> 0 | AF8: =' Populations'!U49 -> 0 | AG8: =IF(AF8=0,0,($L$8/$AF$8)*100000) -> 0 | AJ8: 0.072169 | AL8: =' Populations'!B13 -> 15-19 | AM8: =O8*AJ8 -> 0 | AN8: =Q8*AJ8 -> 0 | AO8: =S8*AJ8 -> 0 | AP8: =U8*AJ8 -> 0 | AQ8: =W8*AJ8 -> 0 | AR8: =Y8*AJ8 -> 0 | AS8: =AA8*AJ8 -> 0 | AT8: =AC8*AJ8 -> 0 | AU8: =AE8*AJ8 -> 0 | AV8: =AG8*AJ8 -> 0
B9: =' Populations'!B86 -> 20-24 | N9: =' Populations'!C50 -> 0 | O9: =IF(N9=0,0,($C$9/$N$9)*100000) -> 0 | P9: =' Populations'!E50 -> 0 | Q9: =IF(P9=0,0,($D$9/$P$9)*100000) -> 0 | R9: =' Populations'!G50 -> 0 | S9: =IF(R9=0,0,($E$9/$R$9)*100000) -> 0 | T9: =' Populations'!I50 -> 0 | U9: =IF(T9=0,0,($F$9/$T$9)*100000) -> 0 | V9: =' Populations'!K50 -> 0 | W9: =IF(V9=0,0,($G$9/$V$9)*100000) -> 0 | X9: =' Populations'!M50 -> 0 | Y9: =IF(X9=0,0,($G$9/$X$9)*100000) -> 0 | Z9: =' Populations'!O50 -> 0 | AA9: =IF(Z9=0,0,($I$9/$Z$9)*100000) -> 0 | AB9: =' Populations'!Q50 -> 0 | AC9: =IF(AB9=0,0,($J$9/$AB$9)*100000) -> 0 | AD9: =' Populations'!S50 -> 0 | AE9: =IF(AD9=0,0,($K$9/$AD$9)*100000) -> 0 | AF9: =' Populations'!U50 -> 0 | AG9: =IF(AF9=0,0,($L$9/$AF$9)*100000) -> 0 | AJ9: 0.066478 | AL9: =' Populations'!B14 -> 20-24 | AM9: =O9*AJ9 -> 0 | AN9: =Q9*AJ9 -> 0 | AO9: =S9*AJ9 -> 0 | AP9: =U9*AJ9 -> 0 | AQ9: =W9*AJ9 -> 0 | AR9: =Y9*AJ9 -> 0 | AS9: =AA9*AJ9 -> 0 | AT9: =AC9*AJ9 -> 0 | AU9: =AE9*AJ9 -> 0 | AV9: =AG9*AJ9 -> 0
B10: =' Populations'!B87 -> 25-34 | N10: =' Populations'!C51 -> 0 | O10: =IF(N10=0,0,($C$10/$N$10)*100000) -> 0 | P10: =' Populations'!E51 -> 0 | Q10: =IF(P10=0,0,($D$10/$P$10)*100000) -> 0 | R10: =' Populations'!G51 -> 0 | S10: =IF(R10=0,0,($E$10/$R$10)*100000) -> 0 | T10: =' Populations'!I51 -> 0 | U10: =IF(T10=0,0,($F$10/$T$10)*100000) -> 0 | V10: =' Populations'!K51 -> 0 | W10: =IF(V10=0,0,($G$10/$V$10)*100000) -> 0 | X10: =' Populations'!M51 -> 0 | Y10: =IF(X10=0,0,($G$10/$X$10)*100000) -> 0 | Z10: =' Populations'!O51 -> 0 | AA10: =IF(Z10=0,0,($I$10/$Z$10)*100000) -> 0 | AB10: =' Populations'!Q51 -> 0 | AC10: =IF(AB10=0,0,($J$10/$AB$10)*100000) -> 0 | AD10: =' Populations'!S51 -> 0 | AE10: =IF(AD10=0,0,($K$10/$AD$10)*100000) -> 0 | AF10: =' Populations'!U51 -> 0 | AG10: =IF(AF10=0,0,($L$10/$AF$10)*100000) -> 0 | AJ10: 0.135573 | AL10: =' Populations'!B15 -> 25-34 | AM10: =O10*AJ10 -> 0 | AN10: =Q10*AJ10 -> 0 | AO10: =S10*AJ10 -> 0 | AP10: =U10*AJ10 -> 0 | AQ10: =W10*AJ10 -> 0 | AR10: =Y10*AJ10 -> 0 | AS10: =AA10*AJ10 -> 0 | AT10: =AC10*AJ10 -> 0 | AU10: =AE10*AJ10 -> 0 | AV10: =AG10*AJ10 -> 0
B11: =' Populations'!B88 -> 35-44 | N11: =' Populations'!C52 -> 0 | O11: =IF(N11=0,0,($C$11/$N$11)*100000) -> 0 | P11: =' Populations'!E52 -> 0 | Q11: =IF(P11=0,0,($D$11/$P$11)*100000) -> 0 | R11: =' Populations'!G52 -> 0 | S11: =IF(R11=0,0,($E$11/$R$11)*100000) -> 0 | T11: =' Populations'!I52 -> 0 | U11: =IF(T11=0,0,($F$11/$T$11)*100000) -> 0 | V11: =' Populations'!K52 -> 0 | W11: =IF(V11=0,0,($G$11/$V$11)*100000) -> 0 | X11: =' Populations'!M52 -> 0 | Y11: =IF(X11=0,0,($G$11/$X$11)*100000) -> 0 | Z11: =' Populations'!O52 -> 0 | AA11: =IF(Z11=0,0,($I$11/$Z$11)*100000) -> 0 | AB11: =' Populations'!Q52 -> 0 | AC11: =IF(AB11=0,0,($J$11/$AB$11)*100000) -> 0 | AD11: =' Populations'!S52 -> 0 | AE11: =IF(AD11=0,0,($K$11/$AD$11)*100000) -> 0 | AF11: =' Populations'!U52 -> 0 | AG11: =IF(AF11=0,0,($L$11/$AF$11)*100000) -> 0 | AJ11: 0.162613 | AL11: =' Populations'!B16 -> 35-44 | AM11: =O11*AJ11 -> 0 | AN11: =Q11*AJ11 -> 0 | AO11: =S11*AJ11 -> 0 | AP11: =U11*AJ11 -> 0 | AQ11: =W11*AJ11 -> 0 | AR11: =Y11*AJ11 -> 0 | AS11: =AA11*AJ11 -> 0 | AT11: =AC11*AJ11 -> 0 | AU11: =AE11*AJ11 -> 0 | AV11: =AG11*AJ11 -> 0
B12: =' Populations'!B89 -> 45-54 | N12: =' Populations'!C53 -> 0 | O12: =IF(N12=0,0,($C$12/$N$12)*100000) -> 0 | P12: =' Populations'!E53 -> 0 | Q12: =IF(P12=0,0,($D$12/$P$12)*100000) -> 0 | R12: =' Populations'!G53 -> 0 | S12: =IF(R12=0,0,($E$12/$R$12)*100000) -> 0 | T12: =' Populations'!I53 -> 0 | U12: =IF(T12=0,0,($F$12/$T$12)*100000) -> 0 | V12: =' Populations'!K53 -> 0 | W12: =IF(V12=0,0,($G$12/$V$12)*100000) -> 0 | X12: =' Populations'!M53 -> 0 | Y12: =IF(X12=0,0,($G$12/$X$12)*100000) -> 0 | Z12: =' Populations'!O53 -> 0 | AA12: =IF(Z12=0,0,($I$12/$Z$12)*100000) -> 0 | AB12: =' Populations'!Q53 -> 0 | AC12: =IF(AB12=0,0,($J$12/$AB$12)*100000) -> 0 | AD12: =' Populations'!S53 -> 0 | AE12: =IF(AD12=0,0,($K$12/$AD$12)*100000) -> 0 | AF12: =' Populations'!U53 -> 0 | AG12: =IF(AF12=0,0,($L$12/$AF$12)*100000) -> 0 | AJ12: 0.134834 | AL12: =' Populations'!B17 -> 45-54 | AM12: =O12*AJ12 -> 0 | AN12: =Q12*AJ12 -> 0 | AO12: =S12*AJ12 -> 0 | AP12: =U12*AJ12 -> 0 | AQ12: =W12*AJ12 -> 0 | AR12: =Y12*AJ12 -> 0 | AS12: =AA12*AJ12 -> 0 | AT12: =AC12*AJ12 -> 0 | AU12: =AE12*AJ12 -> 0 | AV12: =AG12*AJ12 -> 0
B13: =' Populations'!B90 -> 55-64 | N13: =' Populations'!C54 -> 0 | O13: =IF(N13=0,0,($C$13/$N$13)*100000) -> 0 | P13: =' Populations'!E54 -> 0 | Q13: =IF(P13=0,0,($D$13/$P$13)*100000) -> 0 | R13: =' Populations'!G54 -> 0 | S13: =IF(R13=0,0,($E$13/$R$13)*100000) -> 0 | T13: =' Populations'!I54 -> 0 | U13: =IF(T13=0,0,($F$13/$T$13)*100000) -> 0 | V13: =' Populations'!K54 -> 0 | W13: =IF(V13=0,0,($G$13/$V$13)*100000) -> 0 | X13: =' Populations'!M54 -> 0 | Y13: =IF(X13=0,0,($G$13/$X$13)*100000) -> 0 | Z13: =' Populations'!O54 -> 0 | AA13: =IF(Z13=0,0,($I$13/$Z$13)*100000) -> 0 | AB13: =' Populations'!Q54 -> 0 | AC13: =IF(AB13=0,0,($J$13/$AB$13)*100000) -> 0 | AD13: =' Populations'!S54 -> 0 | AE13: =IF(AD13=0,0,($K$13/$AD$13)*100000) -> 0 | AF13: =' Populations'!U54 -> 0 | AG13: =IF(AF13=0,0,($L$13/$AF$13)*100000) -> 0 | AJ13: 0.087247 | AL13: =' Populations'!B18 -> 55-64 | AM13: =O13*AJ13 -> 0 | AN13: =Q13*AJ13 -> 0 | AO13: =S13*AJ13 -> 0 | AP13: =U13*AJ13 -> 0 | AQ13: =W13*AJ13 -> 0 | AR13: =Y13*AJ13 -> 0 | AS13: =AA13*AJ13 -> 0 | AT13: =AC13*AJ13 -> 0 | AU13: =AE13*AJ13 -> 0 | AV13: =AG13*AJ13 -> 0
B14: =' Populations'!B91 -> 65-74 | N14: =' Populations'!C55 -> 0 | O14: =IF(N14=0,0,($C$14/$N$14)*100000) -> 0 | P14: =' Populations'!E55 -> 0 | Q14: =IF(P14=0,0,($D$14/$P$14)*100000) -> 0 | R14: =' Populations'!G55 -> 0 | S14: =IF(R14=0,0,($E$14/$R$14)*100000) -> 0 | T14: =' Populations'!I55 -> 0 | U14: =IF(T14=0,0,($F$14/$T$14)*100000) -> 0 | V14: =' Populations'!K55 -> 0 | W14: =IF(V14=0,0,($G$14/$V$14)*100000) -> 0 | X14: =' Populations'!M55 -> 0 | Y14: =IF(X14=0,0,($G$14/$X$14)*100000) -> 0 | Z14: =' Populations'!O55 -> 0 | AA14: =IF(Z14=0,0,($I$14/$Z$14)*100000) -> 0 | AB14: =' Populations'!Q55 -> 0 | AC14: =IF(AB14=0,0,($J$14/$AB$14)*100000) -> 0 | AD14: =' Populations'!S55 -> 0 | AE14: =IF(AD14=0,0,($K$14/$AD$14)*100000) -> 0 | AF14: =' Populations'!U55 -> 0 | AG14: =IF(AF14=0,0,($L$14/$AF$14)*100000) -> 0 | AJ14: 0.066037 | AL14: =' Populations'!B19 -> 65-74 | AM14: =O14*AJ14 -> 0 | AN14: =Q14*AJ14 -> 0 | AO14: =S14*AJ14 -> 0 | AP14: =U14*AJ14 -> 0 | AQ14: =W14*AJ14 -> 0 | AR14: =Y14*AJ14 -> 0 | AS14: =AA14*AJ14 -> 0 | AT14: =AC14*AJ14 -> 0 | AU14: =AE14*AJ14 -> 0 | AV14: =AG14*AJ14 -> 0
B15: =' Populations'!B92 -> 75-84 | N15: =' Populations'!C56 -> 0 | O15: =IF(N15=0,0,($C$15/$N$15)*100000) -> 0 | P15: =' Populations'!E56 -> 0 | Q15: =IF(P15=0,0,($D$15/$P$15)*100000) -> 0 | R15: =' Populations'!G56 -> 0 | S15: =IF(R15=0,0,($E$15/$R$15)*100000) -> 0 | T15: =' Populations'!I56 -> 0 | U15: =IF(T15=0,0,($F$15/$T$15)*100000) -> 0 | V15: =' Populations'!K56 -> 0 | W15: =IF(V15=0,0,($G$15/$V$15)*100000) -> 0 | X15: =' Populations'!M56 -> 0 | Y15: =IF(X15=0,0,($G$15/$X$15)*100000) -> 0 | Z15: =' Populations'!O56 -> 0 | AA15: =IF(Z15=0,0,($I$15/$Z$15)*100000) -> 0 | AB15: =' Populations'!Q56 -> 0 | AC15: =IF(AB15=0,0,($J$15/$AB$15)*100000) -> 0 | AD15: =' Populations'!S56 -> 0 | AE15: =IF(AD15=0,0,($K$15/$AD$15)*100000) -> 0 | AF15: =' Populations'!U56 -> 0 | AG15: =IF(AF15=0,0,($L$15/$AF$15)*100000) -> 0 | AJ15: 0.044841 | AL15: =' Populations'!B20 -> 75-84 | AM15: =O15*AJ15 -> 0 | AN15: =Q15*AJ15 -> 0 | AO15: =S15*AJ15 -> 0 | AP15: =U15*AJ15 -> 0 | AQ15: =W15*AJ15 -> 0 | AR15: =Y15*AJ15 -> 0 | AS15: =AA15*AJ15 -> 0 | AT15: =AC15*AJ15 -> 0 | AU15: =AE15*AJ15 -> 0 | AV15: =AG15*AJ15 -> 0
B16: =' Populations'!B93 -> 85+ | N16: =' Populations'!C57 -> 0 | O16: =IF(N16=0,0,($C$16/$N$16)*100000) -> 0 | P16: =' Populations'!E57 -> 0 | Q16: =IF(P16=0,0,($D$16/$P$16)*100000) -> 0 | R16: =' Populations'!G57 -> 0 | S16: =IF(R16=0,0,($E$16/$R$16)*100000) -> 0 | T16: =' Populations'!I57 -> 0 | U16: =IF(T16=0,0,($F$16/$T$16)*100000) -> 0 | V16: =' Populations'!K57 -> 0 | W16: =IF(V16=0,0,($G$16/$V$16)*100000) -> 0 | X16: =' Populations'!M57 -> 0 | Y16: =IF(X16=0,0,($G$16/$X$16)*100000) -> 0 | Z16: =' Populations'!O57 -> 0 | AA16: =IF(Z16=0,0,($I$16/$Z$16)*100000) -> 0 | AB16: =' Populations'!Q57 -> 0 | AC16: =IF(AB16=0,0,($J$16/$AB$16)*100000) -> 0 | AD16: =' Populations'!S57 -> 0 | AE16: =IF(AD16=0,0,($K$16/$AD$16)*100000) -> 0 | AF16: =' Populations'!U57 -> 0 | AG16: =IF(AF16=0,0,($L$16/$AF$16)*100000) -> 0 | AJ16: 0.015508 | AL16: =' Populations'!B21 -> 85+ | AM16: =O16*AJ16 -> 0 | AN16: =Q16*AJ16 -> 0 | AO16: =S16*AJ16 -> 0 | AP16: =U16*AJ16 -> 0 | AQ16: =W16*AJ16 -> 0 | AR16: =Y16*AJ16 -> 0 | AS16: =AA16*AJ16 -> 0 | AT16: =AC16*AJ16 -> 0 | AU16: =AE16*AJ16 -> 0 | AV16: =AG16*AJ16 -> 0
B17: total | C17: =SUM(C4:C16) -> 0 | D17: =SUM(D4:D16) -> 0 | E17: =SUM(E4:E16) -> 0 | F17: =SUM(F4:F16) -> 0 | G17: =SUM(G4:G16) -> 0 | H17: =SUM(H4:H16) -> 0 | I17: =SUM(I4:I16) -> 0 | J17: =SUM(J4:J16) -> 0 | ... L17: =SUM(L4:L16) -> 0 | N17: =' Populations'!C58 -> 0 | O17: =SUM(O4:O16) -> 0 | P17: =' Populations'!E58 -> 0 | Q17: =SUM(Q4:Q16) -> 0 | R17: =' Populations'!G58 -> 0 | S17: =SUM(S4:S16) -> 0 | T17: =' Populations'!I58 -> 0 | U17: =SUM(U4:U16) -> 0 | V17: =' Populations'!K58 -> 0 | W17: =SUM(W4:W16) -> 0 | X17: =' Populations'!M58 -> 0 | Y17: =SUM(Y4:Y16) -> 0 | Z17: =' Populations'!O58 -> 0 | AA17: =SUM(AA4:AA16) -> 0 | AB17: =' Populations'!Q58 -> 0 | AC17: =SUM(AC4:AC16) -> 0 | AD17: =' Populations'!S58 -> 0 | AE17: =SUM(AE4:AE16) -> 0 | AF17: =' Populations'!U58 -> 0 | AG17: =SUM(AG4:AG16) -> 0 | AL17: =' Populations'!B22 -> Total | AM17: =SUM(AM4:AM16) -> 0 | AN17: =SUM(AN4:AN16) -> 0 | AO17: =SUM(AO4:AO16) -> 0 | AP17: =SUM(AP4:AP16) -> 0 | AQ17: =SUM(AQ4:AQ16) -> 0 | AR17: =SUM(AR4:AR16) -> 0 | AS17: =SUM(AS4:AS16) -> 0 | AT17: =SUM(AT4:AT16) -> 0 | ... AV17: =SUM(AV4:AV16) -> 0
D19: Sex Data | F19: Demographic Data | AM19: Age-adjusted Rates per 100,000 population
B20: Age | C20: Number of ED visits- Total | D20: Number of ED visits- Male | E20: Number of ED visits- Female | F20: =' Populations'!I44 -> White-Not Hispanic | G20: =' Populations'!K44 -> Hispanic | H20: =' Populations'!M44 -> Black-Not Hispanic | I20: =' Populations'!O44 -> Asian | J20: =' Populations'!Q44 -> American Indian/Alaska Native | K20: =' Populations'!S44 -> Other | L20: =' Populations'!U44 -> Other | N20: State Population Total | O20: Rate | P20: =' Populations'!E44 -> Male | Q20: Rate | R20: =' Populations'!G44 -> Female | S20: Rate | T20: =' Populations'!I44 -> White-Not Hispanic | U20: Rate | V20: =' Populations'!K44 -> Hispanic | W20: Rate | X20: =' Populations'!M44 -> Black-Not Hispanic | Y20: Rate | Z20: =' Populations'!O44 -> Asian | AA20: Rate | AB20: =' Populations'!Q44 -> American Indian/Alaska Native | AC20: Rate | AD20: =' Populations'!S44 -> Other | AE20: Rate | AF20: =' Populations'!U44 -> Other | AG20: Rate | AI20: 2000 State population | AJ20: Weight | AL20: Age | AM20: Total | AN20: Male | AO20: Female | AP20: =' Populations'!I44 -> White-Not Hispanic | AQ20: =' Populations'!K44 -> Hispanic | AR20: =' Populations'!M44 -> Black-Not Hispanic | AS20: =' Populations'!O44 -> Asian | AT20: =' Populations'!Q44 -> American Indian/Alaska Native | AU20: =' Populations'!S44 -> Other | AV20: =' Populations'!U44 -> Other
B21: =' Populations'!B81 -> <1 | N21: =' Populations'!C45 -> 0 | O21: =IF(N21=0,0,($C$21/$N$21)*100000) -> 0 | P21: =' Populations'!E45 -> 0 | Q21: =IF(P21=0,0,($D$21/$P$21)*100000) -> 0 | R21: =' Populations'!G45 -> 0 | S21: =IF(R21=0,0,($E$21/$R$21)*100000) -> 0 | T21: =' Populations'!I45 -> 0 | U21: =IF(T21=0,0,($F$21/$T$21)*100000) -> 0 | V21: =' Populations'!K45 -> 0 | W21: =IF(V21=0,0,($G$21/$V$21)*100000) -> 0 | X21: =' Populations'!M45 -> 0 | Y21: =IF(X21=0,0,($H$21/$X$21)*100000) -> 0 | Z21: =' Populations'!O45 -> 0 | AA21: =IF(Z21=0,0,($I$21/$Z$21)*100000) -> 0 | AB21: =' Populations'!Q45 -> 0 | AC21: =IF(AB21=0,0,($J$21/$AB$21)*100000) -> 0 | AD21: =' Populations'!S45 -> 0 | AE21: =IF(AD21=0,0,($K$21/$AD$21)*100000) -> 0 | AF21: =' Populations'!U45 -> 0 | AG21: =IF(AF21=0,0,($L$21/$AF$21)*100000) -> 0 | AJ21: 0.013818 | AL21: =' Populations'!B9 -> <1 | AM21: =O21*AJ21 -> 0 | AN21: =Q21*AJ21 -> 0 | AO21: =S21*AJ21 -> 0 | AP21: =U21*AJ21 -> 0 | AQ21: =W21*AJ21 -> 0 | AR21: =Y21*AJ21 -> 0 | AS21: =AA21*AJ21 -> 0 | AT21: =AC21*AJ21 -> 0 | AU21: =AE21*AJ21 -> 0 | AV21: =AG21*AJ21 -> 0
B22: =' Populations'!B82 -> 1-4 | N22: =' Populations'!C46 -> 0 | O22: =IF(N22=0,0,($C$22/$N$22)*100000) -> 0 | P22: =' Populations'!E46 -> 0 | Q22: =IF(P22=0,0,($D$22/$P$22)*100000) -> 0 | R22: =' Populations'!G46 -> 0 | S22: =IF(R22=0,0,($E$22/$R$22)*100000) -> 0 | T22: =' Populations'!I46 -> 0 | U22: =IF(T22=0,0,($F$22/$T$22)*100000) -> 0 | V22: =' Populations'!K46 -> 0 | W22: =IF(V22=0,0,($G$22/$V$22)*100000) -> 0 | X22: =' Populations'!M46 -> 0 | Y22: =IF(X22=0,0,($H$22/$X$22)*100000) -> 0 | Z22: =' Populations'!O46 -> 0 | AA22: =IF(Z22=0,0,($I$22/$Z$22)*100000) -> 0 | AB22: =' Populations'!Q46 -> 0 | AC22: =IF(AB22=0,0,($J$22/$AB$22)*100000) -> 0 | AD22: =' Populations'!S46 -> 0 | AE22: =IF(AD22=0,0,($K$22/$AD$22)*100000) -> 0 | AF22: =' Populations'!U46 -> 0 | AG22: =IF(AF22=0,0,($L$22/$AF$22)*100000) -> 0 | AJ22: 0.055317 | AL22: =' Populations'!B10 -> 1-4 | AM22: =O22*AJ22 -> 0 | AN22: =Q22*AJ22 -> 0 | AO22: =S22*AJ22 -> 0 | AP22: =U22*AJ22 -> 0 | AQ22: =W22*AJ22 -> 0 | AR22: =Y22*AJ22 -> 0 | AS22: =AA22*AJ22 -> 0 | AT22: =AC22*AJ22 -> 0 | AU22: =AE22*AJ22 -> 0 | AV22: =AG22*AJ22 -> 0
B23: =' Populations'!B83 -> 5-9 | N23: =' Populations'!C47 -> 0 | O23: =IF(N23=0,0,($C$23/$N$23)*100000) -> 0 | P23: =' Populations'!E47 -> 0 | Q23: =IF(P23=0,0,($D$23/$P$23)*100000) -> 0 | R23: =' Populations'!G47 -> 0 | S23: =IF(R23=0,0,($E$23/$R$23)*100000) -> 0 | T23: =' Populations'!I47 -> 0 | U23: =IF(T23=0,0,($F$23/$T$23)*100000) -> 0 | V23: =' Populations'!K47 -> 0 | W23: =IF(V23=0,0,($G$23/$V$23)*100000) -> 0 | X23: =' Populations'!M47 -> 0 | Y23: =IF(X23=0,0,($H$23/$X$23)*100000) -> 0 | Z23: =' Populations'!O47 -> 0 | AA23: =IF(Z23=0,0,($I$23/$Z$23)*100000) -> 0 | AB23: =' Populations'!Q47 -> 0 | AC23: =IF(AB23=0,0,($J$23/$AB$23)*100000) -> 0 | AD23: =' Populations'!S47 -> 0 | AE23: =IF(AD23=0,0,($K$23/$AD$23)*100000) -> 0 | AF23: =' Populations'!U47 -> 0 | AG23: =IF(AF23=0,0,($L$23/$AF$23)*100000) -> 0 | AJ23: 0.072533 | AL23: =' Populations'!B11 -> 5-9 | AM23: =O23*AJ23 -> 0 | AN23: =Q23*AJ23 -> 0 | AO23: =S23*AJ23 -> 0 | AP23: =U23*AJ23 -> 0 | AQ23: =W23*AJ23 -> 0 | AR23: =Y23*AJ23 -> 0 | AS23: =AA23*AJ23 -> 0 | AT23: =AC23*AJ23 -> 0 | AU23: =AE23*AJ23 -> 0 | AV23: =AG23*AJ23 -> 0
B24: =' Populations'!B84 -> 10-14 | N24: =' Populations'!C48 -> 0 | O24: =IF(N24=0,0,($C$24/$N$24)*100000) -> 0 | P24: =' Populations'!E48 -> 0 | Q24: =IF(P24=0,0,($D$24/$P$24)*100000) -> 0 | R24: =' Populations'!G48 -> 0 | S24: =IF(R24=0,0,($E$24/$R$24)*100000) -> 0 | T24: =' Populations'!I48 -> 0 | U24: =IF(T24=0,0,($F$24/$T$24)*100000) -> 0 | V24: =' Populations'!K48 -> 0 | W24: =IF(V24=0,0,($G$24/$V$24)*100000) -> 0 | X24: =' Populations'!M48 -> 0 | Y24: =IF(X24=0,0,($H$24/$X$24)*100000) -> 0 | Z24: =' Populations'!O48 -> 0 | AA24: =IF(Z24=0,0,($I$24/$Z$24)*100000) -> 0 | AB24: =' Populations'!Q48 -> 0 | AC24: =IF(AB24=0,0,($J$24/$AB$24)*100000) -> 0 | AD24: =' Populations'!S48 -> 0 | AE24: =IF(AD24=0,0,($K$24/$AD$24)*100000) -> 0 | AF24: =' Populations'!U48 -> 0 | AG24: =IF(AF24=0,0,($L$24/$AF$24)*100000) -> 0 | AJ24: 0.073032 | AL24: =' Populations'!B12 -> 10-14 | AM24: =O24*AJ24 -> 0 | AN24: =Q24*AJ24 -> 0 | AO24: =S24*AJ24 -> 0 | AP24: =U24*AJ24 -> 0 | AQ24: =W24*AJ24 -> 0 | AR24: =Y24*AJ24 -> 0 | AS24: =AA24*AJ24 -> 0 | AT24: =AC24*AJ24 -> 0 | AU24: =AE24*AJ24 -> 0 | AV24: =AG24*AJ24 -> 0
B25: =' Populations'!B85 -> 15-19 | N25: =' Populations'!C49 -> 0 | O25: =IF(N25=0,0,($C$25/$N$25)*100000) -> 0 | P25: =' Populations'!E49 -> 0 | Q25: =IF(P25=0,0,($D$25/$P$25)*100000) -> 0 | R25: =' Populations'!G49 -> 0 | S25: =IF(R25=0,0,($E$25/$R$25)*100000) -> 0 | T25: =' Populations'!I49 -> 0 | U25: =IF(T25=0,0,($F$25/$T$25)*100000) -> 0 | V25: =' Populations'!K49 -> 0 | W25: =IF(V25=0,0,($G$25/$V$25)*100000) -> 0 | X25: =' Populations'!M49 -> 0 | Y25: =IF(X25=0,0,($H$25/$X$25)*100000) -> 0 | Z25: =' Populations'!O49 -> 0 | AA25: =IF(Z25=0,0,($I$25/$Z$25)*100000) -> 0 | AB25: =' Populations'!Q49 -> 0 | AC25: =IF(AB25=0,0,($J$25/$AB$25)*100000) -> 0 | AD25: =' Populations'!S49 -> 0 | AE25: =IF(AD25=0,0,($K$25/$AD$25)*100000) -> 0 | AF25: =' Populations'!U49 -> 0 | AG25: =IF(AF25=0,0,($L$25/$AF$25)*100000) -> 0 | AJ25: 0.072169 | AL25: =' Populations'!B13 -> 15-19 | AM25: =O25*AJ25 -> 0 | AN25: =Q25*AJ25 -> 0 | AO25: =S25*AJ25 -> 0 | AP25: =U25*AJ25 -> 0 | AQ25: =W25*AJ25 -> 0 | AR25: =Y25*AJ25 -> 0 | AS25: =AA25*AJ25 -> 0 | AT25: =AC25*AJ25 -> 0 | AU25: =AE25*AJ25 -> 0 | AV25: =AG25*AJ25 -> 0
B26: =' Populations'!B86 -> 20-24 | N26: =' Populations'!C50 -> 0 | O26: =IF(N26=0,0,($C$26/$N$26)*100000) -> 0 | P26: =' Populations'!E50 -> 0 | Q26: =IF(P26=0,0,($D$26/$P$26)*100000) -> 0 | R26: =' Populations'!G50 -> 0 | S26: =IF(R26=0,0,($E$26/$R$26)*100000) -> 0 | T26: =' Populations'!I50 -> 0 | U26: =IF(T26=0,0,($F$26/$T$26)*100000) -> 0 | V26: =' Populations'!K50 -> 0 | W26: =IF(V26=0,0,($G$26/$V$26)*100000) -> 0 | X26: =' Populations'!M50 -> 0 | Y26: =IF(X26=0,0,($H$26/$X$26)*100000) -> 0 | Z26: =' Populations'!O50 -> 0 | AA26: =IF(Z26=0,0,($I$26/$Z$26)*100000) -> 0 | AB26: =' Populations'!Q50 -> 0 | AC26: =IF(AB26=0,0,($J$26/$AB$26)*100000) -> 0 | AD26: =' Populations'!S50 -> 0 | AE26: =IF(AD26=0,0,($K$26/$AD$26)*100000) -> 0 | AF26: =' Populations'!U50 -> 0 | AG26: =IF(AF26=0,0,($L$26/$AF$26)*100000) -> 0 | AJ26: 0.066478 | AL26: =' Populations'!B14 -> 20-24 | AM26: =O26*AJ26 -> 0 | AN26: =Q26*AJ26 -> 0 | AO26: =S26*AJ26 -> 0 | AP26: =U26*AJ26 -> 0 | AQ26: =W26*AJ26 -> 0 | AR26: =Y26*AJ26 -> 0 | AS26: =AA26*AJ26 -> 0 | AT26: =AC26*AJ26 -> 0 | AU26: =AE26*AJ26 -> 0 | AV26: =AG26*AJ26 -> 0
B27: =' Populations'!B87 -> 25-34 | N27: =' Populations'!C51 -> 0 | O27: =IF(N27=0,0,($C$27/$N$27)*100000) -> 0 | P27: =' Populations'!E51 -> 0 | Q27: =IF(P27=0,0,($D$27/$P$27)*100000) -> 0 | R27: =' Populations'!G51 -> 0 | S27: =IF(R27=0,0,($E$27/$R$27)*100000) -> 0 | T27: =' Populations'!I51 -> 0 | U27: =IF(T27=0,0,($F$27/$T$27)*100000) -> 0 | V27: =' Populations'!K51 -> 0 | W27: =IF(V27=0,0,($G$27/$V$27)*100000) -> 0 | X27: =' Populations'!M51 -> 0 | Y27: =IF(X27=0,0,($H$27/$X$27)*100000) -> 0 | Z27: =' Populations'!O51 -> 0 | AA27: =IF(Z27=0,0,($I$27/$Z$27)*100000) -> 0 | AB27: =' Populations'!Q51 -> 0 | AC27: =IF(AB27=0,0,($J$27/$AB$27)*100000) -> 0 | AD27: =' Populations'!S51 -> 0 | AE27: =IF(AD27=0,0,($K$27/$AD$27)*100000) -> 0 | AF27: =' Populations'!U51 -> 0 | AG27: =IF(AF27=0,0,($L$272/$AF$27)*100000) -> 0 | AJ27: 0.135573 | AL27: =' Populations'!B15 -> 25-34 | AM27: =O27*AJ27 -> 0 | AN27: =Q27*AJ27 -> 0 | AO27: =S27*AJ27 -> 0 | AP27: =U27*AJ27 -> 0 | AQ27: =W27*AJ27 -> 0 | AR27: =Y27*AJ27 -> 0 | AS27: =AA27*AJ27 -> 0 | AT27: =AC27*AJ27 -> 0 | AU27: =AE27*AJ27 -> 0 | AV27: =AG27*AJ27 -> 0
B28: =' Populations'!B88 -> 35-44 | N28: =' Populations'!C52 -> 0 | O28: =IF(N28=0,0,($C$28/$N$28)*100000) -> 0 | P28: =' Populations'!E52 -> 0 | Q28: =IF(P28=0,0,($D$28/$P$28)*100000) -> 0 | R28: =' Populations'!G52 -> 0 | S28: =IF(R28=0,0,($E$28/$R$28)*100000) -> 0 | T28: =' Populations'!I52 -> 0 | U28: =IF(T28=0,0,($F$28/$T$28)*100000) -> 0 | V28: =' Populations'!K52 -> 0 | W28: =IF(V28=0,0,($G$28/$V$28)*100000) -> 0 | X28: =' Populations'!M52 -> 0 | Y28: =IF(X28=0,0,($H$28/$X$28)*100000) -> 0 | Z28: =' Populations'!O52 -> 0 | AA28: =IF(Z28=0,0,($I$28/$Z$28)*100000) -> 0 | AB28: =' Populations'!Q52 -> 0 | AC28: =IF(AB28=0,0,($J$28/$AB$28)*100000) -> 0 | AD28: =' Populations'!S52 -> 0 | AE28: =IF(AD28=0,0,($K$28/$AD$28)*100000) -> 0 | AF28: =' Populations'!U52 -> 0 | AG28: =IF(AF28=0,0,($L$28/$AF$28)*100000) -> 0 | AJ28: 0.162613 | AL28: =' Populations'!B16 -> 35-44 | AM28: =O28*AJ28 -> 0 | AN28: =Q28*AJ28 -> 0 | AO28: =S28*AJ28 -> 0 | AP28: =U28*AJ28 -> 0 | AQ28: =W28*AJ28 -> 0 | AR28: =Y28*AJ28 -> 0 | AS28: =AA28*AJ28 -> 0 | AT28: =AC28*AJ28 -> 0 | AU28: =AE28*AJ28 -> 0 | AV28: =AG28*AJ28 -> 0
B29: =' Populations'!B89 -> 45-54 | N29: =' Populations'!C53 -> 0 | O29: =IF(N29=0,0,($C$29/$N$29)*100000) -> 0 | P29: =' Populations'!E53 -> 0 | Q29: =IF(P29=0,0,($D$29/$P$29)*100000) -> 0 | R29: =' Populations'!G53 -> 0 | S29: =IF(R29=0,0,($E$29/$R$29)*100000) -> 0 | T29: =' Populations'!I53 -> 0 | U29: =IF(T29=0,0,($F$29/$T$29)*100000) -> 0 | V29: =' Populations'!K53 -> 0 | W29: =IF(V29=0,0,($G$29/$V$29)*100000) -> 0 | X29: =' Populations'!M53 -> 0 | Y29: =IF(X29=0,0,($H$29/$X$29)*100000) -> 0 | Z29: =' Populations'!O53 -> 0 | AA29: =IF(Z29=0,0,($I$29/$Z$29)*100000) -> 0 | AB29: =' Populations'!Q53 -> 0 | AC29: =IF(AB29=0,0,($J$29/$AB$29)*100000) -> 0 | AD29: =' Populations'!S53 -> 0 | AE29: =IF(AD29=0,0,($K$29/$AD$29)*100000) -> 0 | AF29: =' Populations'!U53 -> 0 | AG29: =IF(AF29=0,0,($L$29/$AF$29)*100000) -> 0 | AJ29: 0.134834 | AL29: =' Populations'!B17 -> 45-54 | AM29: =O29*AJ29 -> 0 | AN29: =Q29*AJ29 -> 0 | AO29: =S29*AJ29 -> 0 | AP29: =U29*AJ29 -> 0 | AQ29: =W29*AJ29 -> 0 | AR29: =Y29*AJ29 -> 0 | AS29: =AA29*AJ29 -> 0 | AT29: =AC29*AJ29 -> 0 | AU29: =AE29*AJ29 -> 0 | AV29: =AG29*AJ29 -> 0
B30: =' Populations'!B90 -> 55-64 | N30: =' Populations'!C54 -> 0 | O30: =IF(N30=0,0,($C$30/$N$30)*100000) -> 0 | P30: =' Populations'!E54 -> 0 | Q30: =IF(P30=0,0,($D$30/$P$30)*100000) -> 0 | R30: =' Populations'!G54 -> 0 | S30: =IF(R30=0,0,($E$30/$R$30)*100000) -> 0 | T30: =' Populations'!I54 -> 0 | U30: =IF(T30=0,0,($F$30/$T$30)*100000) -> 0 | V30: =' Populations'!K54 -> 0 | W30: =IF(V30=0,0,($G$30/$V$30)*100000) -> 0 | X30: =' Populations'!M54 -> 0 | Y30: =IF(X30=0,0,($H$30/$X$30)*100000) -> 0 | Z30: =' Populations'!O54 -> 0 | AA30: =IF(Z30=0,0,($I$30/$Z$30)*100000) -> 0 | AB30: =' Populations'!Q54 -> 0 | AC30: =IF(AB30=0,0,($J$30/$AB$30)*100000) -> 0 | AD30: =' Populations'!S54 -> 0 | AE30: =IF(AD30=0,0,($K$30/$AD$30)*100000) -> 0 | AF30: =' Populations'!U54 -> 0 | AG30: =IF(AF30=0,0,($L$30/$AF$30)*100000) -> 0 | AJ30: 0.087247 | AL30: =' Populations'!B18 -> 55-64 | AM30: =O30*AJ30 -> 0 | AN30: =Q30*AJ30 -> 0 | AO30: =S30*AJ30 -> 0 | AP30: =U30*AJ30 -> 0 | AQ30: =W30*AJ30 -> 0 | AR30: =Y30*AJ30 -> 0 | AS30: =AA30*AJ30 -> 0 | AT30: =AC30*AJ30 -> 0 | AU30: =AE30*AJ30 -> 0 | AV30: =AG30*AJ30 -> 0
B31: =' Populations'!B91 -> 65-74 | N31: =' Populations'!C55 -> 0 | O31: =IF(N31=0,0,($C$31/$N$31)*100000) -> 0 | P31: =' Populations'!E55 -> 0 | Q31: =IF(P31=0,0,($D$31/$P$31)*100000) -> 0 | R31: =' Populations'!G55 -> 0 | S31: =IF(R31=0,0,($E$31/$R$31)*100000) -> 0 | T31: =' Populations'!I55 -> 0 | U31: =IF(T31=0,0,($F$31/$T$31)*100000) -> 0 | V31: =' Populations'!K55 -> 0 | W31: =IF(V31=0,0,($G$31/$V$31)*100000) -> 0 | X31: =' Populations'!M55 -> 0 | Y31: =IF(X31=0,0,($H$31/$X$31)*100000) -> 0 | Z31: =' Populations'!O55 -> 0 | AA31: =IF(Z31=0,0,($I$31/$Z$31)*100000) -> 0 | AB31: =' Populations'!Q55 -> 0 | AC31: =IF(AB31=0,0,($J$31/$AB$31)*100000) -> 0 | AD31: =' Populations'!S55 -> 0 | AE31: =IF(AD31=0,0,($K$31/$AD$31)*100000) -> 0 | AF31: =' Populations'!U55 -> 0 | AG31: =IF(AF31=0,0,($L$31/$AF$31)*100000) -> 0 | AJ31: 0.066037 | AL31: =' Populations'!B19 -> 65-74 | AM31: =O31*AJ31 -> 0 | AN31: =Q31*AJ31 -> 0 | AO31: =S31*AJ31 -> 0 | AP31: =U31*AJ31 -> 0 | AQ31: =W31*AJ31 -> 0 | AR31: =Y31*AJ31 -> 0 | AS31: =AA31*AJ31 -> 0 | AT31: =AC31*AJ31 -> 0 | AU31: =AE31*AJ31 -> 0 | AV31: =AG31*AJ31 -> 0
B32: =' Populations'!B92 -> 75-84 | N32: =' Populations'!C56 -> 0 | O32: =IF(N32=0,0,($C$32/$N$32)*100000) -> 0 | P32: =' Populations'!E56 -> 0 | Q32: =IF(P32=0,0,($D$32/$P$32)*100000) -> 0 | R32: =' Populations'!G56 -> 0 | S32: =IF(R32=0,0,($E$32/$R$32)*100000) -> 0 | T32: =' Populations'!I56 -> 0 | U32: =IF(T32=0,0,($F$32/$T$32)*100000) -> 0 | V32: =' Populations'!K56 -> 0 | W32: =IF(V32=0,0,($G$32/$V$32)*100000) -> 0 | X32: =' Populations'!M56 -> 0 | Y32: =IF(X32=0,0,($H$32/$X$32)*100000) -> 0 | Z32: =' Populations'!O56 -> 0 | AA32: =IF(Z32=0,0,($I$32/$Z$32)*100000) -> 0 | AB32: =' Populations'!Q56 -> 0 | AC32: =IF(AB32=0,0,($J$32/$AB$32)*100000) -> 0 | AD32: =' Populations'!S56 -> 0 | AE32: =IF(AD32=0,0,($K$32/$AD$32)*100000) -> 0 | AF32: =' Populations'!U56 -> 0 | AG32: =IF(AF32=0,0,($L$32/$AF$32)*100000) -> 0 | AJ32: 0.044841 | AL32: =' Populations'!B20 -> 75-84 | AM32: =O32*AJ32 -> 0 | AN32: =Q32*AJ32 -> 0 | AO32: =S32*AJ32 -> 0 | AP32: =U32*AJ32 -> 0 | AQ32: =W32*AJ32 -> 0 | AR32: =Y32*AJ32 -> 0 | AS32: =AA32*AJ32 -> 0 | AT32: =AC32*AJ32 -> 0 | AU32: =AE32*AJ32 -> 0 | AV32: =AG32*AJ32 -> 0
B33: =' Populations'!B93 -> 85+ | N33: =' Populations'!C57 -> 0 | O33: =IF(N33=0,0,($C$33/$N$33)*100000) -> 0 | P33: =' Populations'!E57 -> 0 | Q33: =IF(P33=0,0,($D$33/$P$33)*100000) -> 0 | R33: =' Populations'!G57 -> 0 | S33: =IF(R33=0,0,($E$33/$R$33)*100000) -> 0 | T33: =' Populations'!I57 -> 0 | U33: =IF(T33=0,0,($F$33/$T$33)*100000) -> 0 | V33: =' Populations'!K57 -> 0 | W33: =IF(V33=0,0,($G$33/$V$33)*100000) -> 0 | X33: =' Populations'!M57 -> 0 | Y33: =IF(X33=0,0,($H$33/$X$33)*100000) -> 0 | Z33: =' Populations'!O57 -> 0 | AA33: =IF(Z33=0,0,($I$33/$Z$33)*100000) -> 0 | AB33: =' Populations'!Q57 -> 0 | AC33: =IF(AB33=0,0,($J$33/$AB$33)*100000) -> 0 | AD33: =' Populations'!S57 -> 0 | AE33: =IF(AD33=0,0,($K$33/$AD$33)*100000) -> 0 | AF33: =' Populations'!U57 -> 0 | AG33: =IF(AF33=0,0,($L$33/$AF$33)*100000) -> 0 | AJ33: 0.015508 | AL33: =' Populations'!B21 -> 85+ | AM33: =O33*AJ33 -> 0 | AN33: =Q33*AJ33 -> 0 | AO33: =S33*AJ33 -> 0 | AP33: =U33*AJ33 -> 0 | AQ33: =W33*AJ33 -> 0 | AR33: =Y33*AJ33 -> 0 | AS33: =AA33*AJ33 -> 0 | AT33: =AC33*AJ33 -> 0 | AU33: =AE33*AJ33 -> 0 | AV33: =AG33*AJ33 -> 0
B34: total | C34: =SUM(C21:C33) -> 0 | D34: =SUM(D21:D33) -> 0 | E34: =SUM(E21:E33) -> 0 | F34: =SUM(F21:F33) -> 0 | G34: =SUM(G21:G33) -> 0 | H34: =SUM(H21:H33) -> 0 | I34: =SUM(I21:I33) -> 0 | J34: =SUM(J21:J33) -> 0 | ... L34: =SUM(L21:L33) -> 0 | N34: =' Populations'!C58 -> 0 | O34: =SUM(O21:O33) -> 0 | P34: =' Populations'!E58 -> 0 | Q34: =SUM(Q21:Q33) -> 0 | R34: =' Populations'!G58 -> 0 | S34: =SUM(S21:S33) -> 0 | T34: =' Populations'!I58 -> 0 | U34: =SUM(U21:U33) -> 0 | V34: =' Populations'!K58 -> 0 | W34: =SUM(W21:W33) -> 0 | X34: =' Populations'!M58 -> 0 | Y34: =SUM(Y21:Y33) -> 0 | Z34: =' Populations'!O58 -> 0 | AA34: =SUM(AA21:AA33) -> 0 | AB34: =' Populations'!Q58 -> 0 | AC34: =SUM(AC21:AC33) -> 0 | AD34: =' Populations'!S58 -> 0 | AE34: =SUM(AE21:AE33) -> 0 | AF34: =' Populations'!U58 -> 0 | AG34: =SUM(AG21:AG33) -> 0 | AL34: =' Populations'!B22 -> Total | AM34: =SUM(AM21:AM33) -> 0 | AN34: =SUM(AN21:AN33) -> 0 | AO34: =SUM(AO21:AO33) -> 0 | AP34: =SUM(AP21:AP33) -> 0 | AQ34: =SUM(AQ21:AQ33) -> 0 | AR34: =SUM(AR21:AR33) -> 0 | AS34: =SUM(AS21:AS33) -> 0 | AT34: =SUM(AT21:AT33) -> 0 | ... AV34: =SUM(AV21:AV33) -> 0
D36: Sex Data | F36: Demographic Data | AM36: Age-adjusted Rates per 100,000 population
B37: Age | C37: Number of deaths- Total | D37: Number of deaths- Male | E37: Number of deaths- Female | F37: =' Populations'!I44 -> White-Not Hispanic | G37: =' Populations'!K44 -> Hispanic | H37: =' Populations'!M44 -> Black-Not Hispanic | I37: =' Populations'!O44 -> Asian | J37: =' Populations'!Q44 -> American Indian/Alaska Native | K37: =' Populations'!S44 -> Other | L37: =' Populations'!U44 -> Other | N37: State Population Total | O37: Rate | P37: =' Populations'!E44 -> Male | Q37: Rate | R37: =' Populations'!G44 -> Female | S37: Rate | T37: =' Populations'!I44 -> White-Not Hispanic | U37: Rate | V37: =' Populations'!K44 -> Hispanic | W37: Rate | X37: =' Populations'!M44 -> Black-Not Hispanic | Y37: Rate | Z37: =' Populations'!O44 -> Asian | AA37: Rate | AB37: =' Populations'!Q44 -> American Indian/Alaska Native | AC37: Rate | AD37: =' Populations'!S44 -> Other | AE37: Rate | AF37: =' Populations'!U44 -> Other | AG37: Rate | AI37: 2000 State population | AJ37: Weight | AL37: Age | AM37: Total | AN37: Male | AO37: Female | AP37: =' Populations'!I44 -> White-Not Hispanic | AQ37: =' Populations'!K44 -> Hispanic | AR37: =' Populations'!M44 -> Black-Not Hispanic | AS37: =' Populations'!O44 -> Asian | AT37: =' Populations'!Q44 -> American Indian/Alaska Native | AU37: =' Populations'!S44 -> Other | AV37: =' Populations'!U44 -> Other
B38: =' Populations'!B81 -> <1 | N38: =' Populations'!C45 -> 0 | O38: =IF(N38=0,0,($C$38/$N$38)*100000) -> 0 | P38: =' Populations'!E45 -> 0 | Q38: =IF(P38=0,0,($D$38/$P$38)*100000) -> 0 | R38: =' Populations'!G45 -> 0 | S38: =IF(R38=0,0,($E$38/$R$38)*100000) -> 0 | T38: =' Populations'!I45 -> 0 | U38: =IF(T38=0,0,($F$38/$T$38)*100000) -> 0 | V38: =' Populations'!K45 -> 0 | W38: =IF(V38=0,0,($G$38/$V$38)*100000) -> 0 | X38: =' Populations'!M45 -> 0 | Y38: =IF(X38=0,0,($H$38/$X$38)*100000) -> 0 | Z38: =' Populations'!O45 -> 0 | AA38: =IF(Z38=0,0,($I$38/$Z$38)*100000) -> 0 | AB38: =' Populations'!Q45 -> 0 | AC38: =IF(AB38=0,0,($J$38/$AB$38)*100000) -> 0 | AD38: =' Populations'!S45 -> 0 | AE38: =IF(AD38=0,0,($K$38/$AD$38)*100000) -> 0 | AF38: =' Populations'!U45 -> 0 | AG38: =IF(AF38=0,0,($L$38/$AF$38)*100000) -> 0 | AJ38: 0.013818 | AL38: =' Populations'!B9 -> <1 | AM38: =O38*AJ38 -> 0 | AN38: =Q38*AJ38 -> 0 | AO38: =S38*AJ38 -> 0 | AP38: =U38*AJ38 -> 0 | AQ38: =W38*AJ38 -> 0 | AR38: =Y38*AJ38 -> 0 | AS38: =AA38*AJ38 -> 0 | AT38: =AC38*AJ38 -> 0 | AU38: =AE38*AJ38 -> 0 | AV38: =AG38*AJ38 -> 0
B39: =' Populations'!B82 -> 1-4 | N39: =' Populations'!C46 -> 0 | O39: =IF(N39=0,0,($C$39/$N$39)*100000) -> 0 | P39: =' Populations'!E46 -> 0 | Q39: =IF(P39=0,0,($D$39/$P$39)*100000) -> 0 | R39: =' Populations'!G46 -> 0 | S39: =IF(R39=0,0,($E$39/$R$39)*100000) -> 0 | T39: =' Populations'!I46 -> 0 | U39: =IF(T39=0,0,($F$39/$T$39)*100000) -> 0 | V39: =' Populations'!K46 -> 0 | W39: =IF(V39=0,0,($G$39/$V$39)*100000) -> 0 | X39: =' Populations'!M46 -> 0 | Y39: =IF(X39=0,0,($H$39/$X$39)*100000) -> 0 | Z39: =' Populations'!O46 -> 0 | AA39: =IF(Z39=0,0,($I$39/$Z$39)*100000) -> 0 | AB39: =' Populations'!Q46 -> 0 | AC39: =IF(AB39=0,0,($J$39/$AB$39)*100000) -> 0 | AD39: =' Populations'!S46 -> 0 | AE39: =IF(AD39=0,0,($K$39/$AD$39)*100000) -> 0 | AF39: =' Populations'!U46 -> 0 | AG39: =IF(AF39=0,0,($L$39/$AF$39)*100000) -> 0 | AJ39: 0.055317 | AL39: =' Populations'!B10 -> 1-4 | AM39: =O39*AJ39 -> 0 | AN39: =Q39*AJ39 -> 0 | AO39: =S39*AJ39 -> 0 | AP39: =U39*AJ39 -> 0 | AQ39: =W39*AJ39 -> 0 | AR39: =Y39*AJ39 -> 0 | AS39: =AA39*AJ39 -> 0 | AT39: =AC39*AJ39 -> 0 | AU39: =AE39*AJ39 -> 0 | AV39: =AG39*AJ39 -> 0
B40: =' Populations'!B83 -> 5-9 | N40: =' Populations'!C47 -> 0 | O40: =IF(N40=0,0,($C$40/$N$40)*100000) -> 0 | P40: =' Populations'!E47 -> 0 | Q40: =IF(P40=0,0,($D$40/$P$40)*100000) -> 0 | R40: =' Populations'!G47 -> 0 | S40: =IF(R40=0,0,($E$40/$R$40)*100000) -> 0 | T40: =' Populations'!I47 -> 0 | U40: =IF(T40=0,0,($F$40/$T$40)*100000) -> 0 | V40: =' Populations'!K47 -> 0 | W40: =IF(V40=0,0,($G$40/$V$40)*100000) -> 0 | X40: =' Populations'!M47 -> 0 | Y40: =IF(X40=0,0,($H$40/$X$40)*100000) -> 0 | Z40: =' Populations'!O47 -> 0 | AA40: =IF(Z40=0,0,($I$40/$Z$40)*100000) -> 0 | AB40: =' Populations'!Q47 -> 0 | AC40: =IF(AB40=0,0,($J$40/$AB$40)*100000) -> 0 | AD40: =' Populations'!S47 -> 0 | AE40: =IF(AD40=0,0,($K$40/$AD$40)*100000) -> 0 | AF40: =' Populations'!U47 -> 0 | AG40: =IF(AF40=0,0,($L$40/$AF$40)*100000) -> 0 | AJ40: 0.072533 | AL40: =' Populations'!B11 -> 5-9 | AM40: =O40*AJ40 -> 0 | AN40: =Q40*AJ40 -> 0 | AO40: =S40*AJ40 -> 0 | AP40: =U40*AJ40 -> 0 | AQ40: =W40*AJ40 -> 0 | AR40: =Y40*AJ40 -> 0 | AS40: =AA40*AJ40 -> 0 | AT40: =AC40*AJ40 -> 0 | AU40: =AE40*AJ40 -> 0 | AV40: =AG40*AJ40 -> 0
B41: =' Populations'!B84 -> 10-14 | N41: =' Populations'!C48 -> 0 | O41: =IF(N41=0,0,($C$41/$N$41)*100000) -> 0 | P41: =' Populations'!E48 -> 0 | Q41: =IF(P41=0,0,($D$41/$P$41)*100000) -> 0 | R41: =' Populations'!G48 -> 0 | S41: =IF(R41=0,0,($E$41/$R$41)*100000) -> 0 | T41: =' Populations'!I48 -> 0 | U41: =IF(T41=0,0,($F$41/$T$41)*100000) -> 0 | V41: =' Populations'!K48 -> 0 | W41: =IF(V41=0,0,($G$41/$V$41)*100000) -> 0 | X41: =' Populations'!M48 -> 0 | Y41: =IF(X41=0,0,($H$41/$X$41)*100000) -> 0 | Z41: =' Populations'!O48 -> 0 | AA41: =IF(Z41=0,0,($I$41/$Z$41)*100000) -> 0 | AB41: =' Populations'!Q48 -> 0 | AC41: =IF(AB41=0,0,($J$41/$AB$41)*100000) -> 0 | AD41: =' Populations'!S48 -> 0 | AE41: =IF(AD41=0,0,($K$41/$AD$41)*100000) -> 0 | AF41: =' Populations'!U48 -> 0 | AG41: =IF(AF41=0,0,($L$41/$AF$41)*100000) -> 0 | AJ41: 0.073032 | AL41: =' Populations'!B12 -> 10-14 | AM41: =O41*AJ41 -> 0 | AN41: =Q41*AJ41 -> 0 | AO41: =S41*AJ41 -> 0 | AP41: =U41*AJ41 -> 0 | AQ41: =W41*AJ41 -> 0 | AR41: =Y41*AJ41 -> 0 | AS41: =AA41*AJ41 -> 0 | AT41: =AC41*AJ41 -> 0 | AU41: =AE41*AJ41 -> 0 | AV41: =AG41*AJ41 -> 0
B42: =' Populations'!B85 -> 15-19 | N42: =' Populations'!C49 -> 0 | O42: =IF(N42=0,0,($C$42/$N$42)*100000) -> 0 | P42: =' Populations'!E49 -> 0 | Q42: =IF(P42=0,0,($D$42/$P$42)*100000) -> 0 | R42: =' Populations'!G49 -> 0 | S42: =IF(R42=0,0,($E$42/$R$42)*100000) -> 0 | T42: =' Populations'!I49 -> 0 | U42: =IF(T42=0,0,($F$42/$T$42)*100000) -> 0 | V42: =' Populations'!K49 -> 0 | W42: =IF(V42=0,0,($G$42/$V$42)*100000) -> 0 | X42: =' Populations'!M49 -> 0 | Y42: =IF(X42=0,0,($H$42/$X$42)*100000) -> 0 | Z42: =' Populations'!O49 -> 0 | AA42: =IF(Z42=0,0,($I$42/$Z$42)*100000) -> 0 | AB42: =' Populations'!Q49 -> 0 | AC42: =IF(AB42=0,0,($J$42/$AB$42)*100000) -> 0 | AD42: =' Populations'!S49 -> 0 | AE42: =IF(AD42=0,0,($K$42/$AD$42)*100000) -> 0 | AF42: =' Populations'!U49 -> 0 | AG42: =IF(AF42=0,0,($L$42/$AF$42)*100000) -> 0 | AJ42: 0.072169 | AL42: =' Populations'!B13 -> 15-19 | AM42: =O42*AJ42 -> 0 | AN42: =Q42*AJ42 -> 0 | AO42: =S42*AJ42 -> 0 | AP42: =U42*AJ42 -> 0 | AQ42: =W42*AJ42 -> 0 | AR42: =Y42*AJ42 -> 0 | AS42: =AA42*AJ42 -> 0 | AT42: =AC42*AJ42 -> 0 | AU42: =AE42*AJ42 -> 0 | AV42: =AG42*AJ42 -> 0
B43: =' Populations'!B86 -> 20-24 | N43: =' Populations'!C50 -> 0 | O43: =IF(N43=0,0,($C$43/$N$43)*100000) -> 0 | P43: =' Populations'!E50 -> 0 | Q43: =IF(P43=0,0,($D$43/$P$43)*100000) -> 0 | R43: =' Populations'!G50 -> 0 | S43: =IF(R43=0,0,($E$43/$R$43)*100000) -> 0 | T43: =' Populations'!I50 -> 0 | U43: =IF(T43=0,0,($F$43/$T$43)*100000) -> 0 | V43: =' Populations'!K50 -> 0 | W43: =IF(V43=0,0,($G$43/$V$43)*100000) -> 0 | X43: =' Populations'!M50 -> 0 | Y43: =IF(X43=0,0,($H$43/$X$43)*100000) -> 0 | Z43: =' Populations'!O50 -> 0 | AA43: =IF(Z43=0,0,($I$43/$Z$43)*100000) -> 0 | AB43: =' Populations'!Q50 -> 0 | AC43: =IF(AB43=0,0,($J$43/$AB$43)*100000) -> 0 | AD43: =' Populations'!S50 -> 0 | AE43: =IF(AD43=0,0,($K$43/$AD$43)*100000) -> 0 | AF43: =' Populations'!U50 -> 0 | AG43: =IF(AF43=0,0,($L$43/$AF$43)*100000) -> 0 | AJ43: 0.066478 | AL43: =' Populations'!B14 -> 20-24 | AM43: =O43*AJ43 -> 0 | AN43: =Q43*AJ43 -> 0 | AO43: =S43*AJ43 -> 0 | AP43: =U43*AJ43 -> 0 | AQ43: =W43*AJ43 -> 0 | AR43: =Y43*AJ43 -> 0 | AS43: =AA43*AJ43 -> 0 | AT43: =AC43*AJ43 -> 0 | AU43: =AE43*AJ43 -> 0 | AV43: =AG43*AJ43 -> 0
B44: =' Populations'!B87 -> 25-34 | N44: =' Populations'!C51 -> 0 | O44: =IF(N44=0,0,($C$44/$N$44)*100000) -> 0 | P44: =' Populations'!E51 -> 0 | Q44: =IF(P44=0,0,($D$44/$P$44)*100000) -> 0 | R44: =' Populations'!G51 -> 0 | S44: =IF(R44=0,0,($E$44/$R$44)*100000) -> 0 | T44: =' Populations'!I51 -> 0 | U44: =IF(T44=0,0,($F$44/$T$44)*100000) -> 0 | V44: =' Populations'!K51 -> 0 | W44: =IF(V44=0,0,($G$44/$V$44)*100000) -> 0 | X44: =' Populations'!M51 -> 0 | Y44: =IF(X44=0,0,($H$44/$X$44)*100000) -> 0 | Z44: =' Populations'!O51 -> 0 | AA44: =IF(Z44=0,0,($I$44/$Z$44)*100000) -> 0 | AB44: =' Populations'!Q51 -> 0 | AC44: =IF(AB44=0,0,($J$44/$AB$44)*100000) -> 0 | AD44: =' Populations'!S51 -> 0 | AE44: =IF(AD44=0,0,($K$44/$AD$44)*100000) -> 0 | AF44: =' Populations'!U51 -> 0 | AG44: =IF(AF44=0,0,($L$44/$AF$44)*100000) -> 0 | AJ44: 0.135573 | AL44: =' Populations'!B15 -> 25-34 | AM44: =O44*AJ44 -> 0 | AN44: =Q44*AJ44 -> 0 | AO44: =S44*AJ44 -> 0 | AP44: =U44*AJ44 -> 0 | AQ44: =W44*AJ44 -> 0 | AR44: =Y44*AJ44 -> 0 | AS44: =AA44*AJ44 -> 0 | AT44: =AC44*AJ44 -> 0 | AU44: =AE44*AJ44 -> 0 | AV44: =AG44*AJ44 -> 0
B45: =' Populations'!B88 -> 35-44 | N45: =' Populations'!C52 -> 0 | O45: =IF(N45=0,0,($C$45/$N$45)*100000) -> 0 | P45: =' Populations'!E52 -> 0 | Q45: =IF(P45=0,0,($D$45/$P$45)*100000) -> 0 | R45: =' Populations'!G52 -> 0 | S45: =IF(R45=0,0,($E$45/$R$45)*100000) -> 0 | T45: =' Populations'!I52 -> 0 | U45: =IF(T45=0,0,($F$45/$T$45)*100000) -> 0 | V45: =' Populations'!K52 -> 0 | W45: =IF(V45=0,0,($G$45/$V$45)*100000) -> 0 | X45: =' Populations'!M52 -> 0 | Y45: =IF(X45=0,0,($H$45/$X$45)*100000) -> 0 | Z45: =' Populations'!O52 -> 0 | AA45: =IF(Z45=0,0,($I$45/$Z$45)*100000) -> 0 | AB45: =' Populations'!Q52 -> 0 | AC45: =IF(AB45=0,0,($J$45/$AB$45)*100000) -> 0 | AD45: =' Populations'!S52 -> 0 | AE45: =IF(AD45=0,0,($K$45/$AD$45)*100000) -> 0 | AF45: =' Populations'!U52 -> 0 | AG45: =IF(AF45=0,0,($L$45/$AF$45)*100000) -> 0 | AJ45: 0.162613 | AL45: =' Populations'!B16 -> 35-44 | AM45: =O45*AJ45 -> 0 | AN45: =Q45*AJ45 -> 0 | AO45: =S45*AJ45 -> 0 | AP45: =U45*AJ45 -> 0 | AQ45: =W45*AJ45 -> 0 | AR45: =Y45*AJ45 -> 0 | AS45: =AA45*AJ45 -> 0 | AT45: =AC45*AJ45 -> 0 | AU45: =AE45*AJ45 -> 0 | AV45: =AG45*AJ45 -> 0
B46: =' Populations'!B89 -> 45-54 | N46: =' Populations'!C53 -> 0 | O46: =IF(N46=0,0,($C$46/$N$46)*100000) -> 0 | P46: =' Populations'!E53 -> 0 | Q46: =IF(P46=0,0,($D$46/$P$46)*100000) -> 0 | R46: =' Populations'!G53 -> 0 | S46: =IF(R46=0,0,($E$46/$R$46)*100000) -> 0 | T46: =' Populations'!I53 -> 0 | U46: =IF(T46=0,0,($F$46/$T$46)*100000) -> 0 | V46: =' Populations'!K53 -> 0 | W46: =IF(V46=0,0,($G$46/$V$46)*100000) -> 0 | X46: =' Populations'!M53 -> 0 | Y46: =IF(X46=0,0,($H$46/$X$46)*100000) -> 0 | Z46: =' Populations'!O53 -> 0 | AA46: =IF(Z46=0,0,($I$46/$Z$46)*100000) -> 0 | AB46: =' Populations'!Q53 -> 0 | AC46: =IF(AB46=0,0,($J$46/$AB$46)*100000) -> 0 | AD46: =' Populations'!S53 -> 0 | AE46: =IF(AD46=0,0,($K$46/$AD$46)*100000) -> 0 | AF46: =' Populations'!U53 -> 0 | AG46: =IF(AF46=0,0,($L$46/$AF$46)*100000) -> 0 | AJ46: 0.134834 | AL46: =' Populations'!B17 -> 45-54 | AM46: =O46*AJ46 -> 0 | AN46: =Q46*AJ46 -> 0 | AO46: =S46*AJ46 -> 0 | AP46: =U46*AJ46 -> 0 | AQ46: =W46*AJ46 -> 0 | AR46: =Y46*AJ46 -> 0 | AS46: =AA46*AJ46 -> 0 | AT46: =AC46*AJ46 -> 0 | AU46: =AE46*AJ46 -> 0 | AV46: =AG46*AJ46 -> 0
B47: =' Populations'!B90 -> 55-64 | N47: =' Populations'!C54 -> 0 | O47: =IF(N47=0,0,($C$47/$N$47)*100000) -> 0 | P47: =' Populations'!E54 -> 0 | Q47: =IF(P47=0,0,($D$47/$P$47)*100000) -> 0 | R47: =' Populations'!G54 -> 0 | S47: =IF(R47=0,0,($E$47/$R$47)*100000) -> 0 | T47: =' Populations'!I54 -> 0 | U47: =IF(T47=0,0,($F$47/$T$47)*100000) -> 0 | V47: =' Populations'!K54 -> 0 | W47: =IF(V47=0,0,($G$47/$V$47)*100000) -> 0 | X47: =' Populations'!M54 -> 0 | Y47: =IF(X47=0,0,($H$47/$X$47)*100000) -> 0 | Z47: =' Populations'!O54 -> 0 | AA47: =IF(Z47=0,0,($I$47/$Z$47)*100000) -> 0 | AB47: =' Populations'!Q54 -> 0 | AC47: =IF(AB47=0,0,($J$47/$AB$47)*100000) -> 0 | AD47: =' Populations'!S54 -> 0 | AE47: =IF(AD47=0,0,($K$47/$AD$47)*100000) -> 0 | AF47: =' Populations'!U54 -> 0 | AG47: =IF(AF47=0,0,($L$47/$AF$47)*100000) -> 0 | AJ47: 0.087247 | AL47: =' Populations'!B18 -> 55-64 | AM47: =O47*AJ47 -> 0 | AN47: =Q47*AJ47 -> 0 | AO47: =S47*AJ47 -> 0 | AP47: =U47*AJ47 -> 0 | AQ47: =W47*AJ47 -> 0 | AR47: =Y47*AJ47 -> 0 | AS47: =AA47*AJ47 -> 0 | AT47: =AC47*AJ47 -> 0 | AU47: =AE47*AJ47 -> 0 | AV47: =AG47*AJ47 -> 0
B48: =' Populations'!B91 -> 65-74 | N48: =' Populations'!C55 -> 0 | O48: =IF(N48=0,0,($C$48/$N$48)*100000) -> 0 | P48: =' Populations'!E55 -> 0 | Q48: =IF(P48=0,0,($D$48/$P$48)*100000) -> 0 | R48: =' Populations'!G55 -> 0 | S48: =IF(R48=0,0,($E$48/$R$48)*100000) -> 0 | T48: =' Populations'!I55 -> 0 | U48: =IF(T48=0,0,($F$48/$T$48)*100000) -> 0 | V48: =' Populations'!K55 -> 0 | W48: =IF(V48=0,0,($G$48/$V$48)*100000) -> 0 | X48: =' Populations'!M55 -> 0 | Y48: =IF(X48=0,0,($H$48/$X$48)*100000) -> 0 | Z48: =' Populations'!O55 -> 0 | AA48: =IF(Z48=0,0,($I$48/$Z$48)*100000) -> 0 | AB48: =' Populations'!Q55 -> 0 | AC48: =IF(AB48=0,0,($J$48/$AB$48)*100000) -> 0 | AD48: =' Populations'!S55 -> 0 | AE48: =IF(AD48=0,0,($K$48/$AD$48)*100000) -> 0 | AF48: =' Populations'!U55 -> 0 | AG48: =IF(AF48=0,0,($L$48/$AF$48)*100000) -> 0 | AJ48: 0.066037 | AL48: =' Populations'!B19 -> 65-74 | AM48: =O48*AJ48 -> 0 | AN48: =Q48*AJ48 -> 0 | AO48: =S48*AJ48 -> 0 | AP48: =U48*AJ48 -> 0 | AQ48: =W48*AJ48 -> 0 | AR48: =Y48*AJ48 -> 0 | AS48: =AA48*AJ48 -> 0 | AT48: =AC48*AJ48 -> 0 | AU48: =AE48*AJ48 -> 0 | AV48: =AG48*AJ48 -> 0
B49: =' Populations'!B92 -> 75-84 | N49: =' Populations'!C56 -> 0 | O49: =IF(N49=0,0,($C$49/$N$49)*100000) -> 0 | P49: =' Populations'!E56 -> 0 | Q49: =IF(P49=0,0,($D$49/$P$49)*100000) -> 0 | R49: =' Populations'!G56 -> 0 | S49: =IF(R49=0,0,($E$49/$R$49)*100000) -> 0 | T49: =' Populations'!I56 -> 0 | U49: =IF(T49=0,0,($F$49/$T$49)*100000) -> 0 | V49: =' Populations'!K56 -> 0 | W49: =IF(V49=0,0,($G$49/$V$49)*100000) -> 0 | X49: =' Populations'!M56 -> 0 | Y49: =IF(X49=0,0,($H$49/$X$49)*100000) -> 0 | Z49: =' Populations'!O56 -> 0 | AA49: =IF(Z49=0,0,($I$49/$Z$49)*100000) -> 0 | AB49: =' Populations'!Q56 -> 0 | AC49: =IF(AB49=0,0,($J$49/$AB$49)*100000) -> 0 | AD49: =' Populations'!S56 -> 0 | AE49: =IF(AD49=0,0,($K$49/$AD$49)*100000) -> 0 | AF49: =' Populations'!U56 -> 0 | AG49: =IF(AF49=0,0,($L$49/$AF$49)*100000) -> 0 | AJ49: 0.044841 | AL49: =' Populations'!B20 -> 75-84 | AM49: =O49*AJ49 -> 0 | AN49: =Q49*AJ49 -> 0 | AO49: =S49*AJ49 -> 0 | AP49: =U49*AJ49 -> 0 | AQ49: =W49*AJ49 -> 0 | AR49: =Y49*AJ49 -> 0 | AS49: =AA49*AJ49 -> 0 | AT49: =AC49*AJ49 -> 0 | AU49: =AE49*AJ49 -> 0 | AV49: =AG49*AJ49 -> 0
B50: =' Populations'!B93 -> 85+ | N50: =' Populations'!C57 -> 0 | O50: =IF(N50=0,0,($C$50/$N$50)*100000) -> 0 | P50: =' Populations'!E57 -> 0 | Q50: =IF(P50=0,0,($D$50/$P$50)*100000) -> 0 | R50: =' Populations'!G57 -> 0 | S50: =IF(R50=0,0,($E$50/$R$50)*100000) -> 0 | T50: =' Populations'!I57 -> 0 | U50: =IF(T50=0,0,($F$50/$T$50)*100000) -> 0 | V50: =' Populations'!K57 -> 0 | W50: =IF(V50=0,0,($G$50/$V$50)*100000) -> 0 | X50: =' Populations'!M57 -> 0 | Y50: =IF(X50=0,0,($H$50/$X$50)*100000) -> 0 | Z50: =' Populations'!O57 -> 0 | AA50: =IF(Z50=0,0,($I$50/$Z$50)*100000) -> 0 | AB50: =' Populations'!Q57 -> 0 | AC50: =IF(AB50=0,0,($J$50/$AB$50)*100000) -> 0 | AD50: =' Populations'!S57 -> 0 | AE50: =IF(AD50=0,0,($K$50/$AD$50)*100000) -> 0 | AF50: =' Populations'!U57 -> 0 | AG50: =IF(AF50=0,0,($L$50/$AF$50)*100000) -> 0 | AJ50: 0.015508 | AL50: =' Populations'!B21 -> 85+ | AM50: =O50*AJ50 -> 0 | AN50: =Q50*AJ50 -> 0 | AO50: =S50*AJ50 -> 0 | AP50: =U50*AJ50 -> 0 | AQ50: =W50*AJ50 -> 0 | AR50: =Y50*AJ50 -> 0 | AS50: =AA50*AJ50 -> 0 | AT50: =AC50*AJ50 -> 0 | AU50: =AE50*AJ50 -> 0 | AV50: =AG50*AJ50 -> 0
B51: total | C51: =SUM(C38:C50) -> 0 | D51: =SUM(D38:D50) -> 0 | E51: =SUM(E38:E50) -> 0 | F51: =SUM(F38:F50) -> 0 | G51: =SUM(G38:G50) -> 0 | H51: =SUM(H38:H50) -> 0 | I51: =SUM(I38:I50) -> 0 | J51: =SUM(J38:J50) -> 0 | ... L51: =SUM(L38:L50) -> 0 | N51: =' Populations'!C58 -> 0 | O51: =SUM(O38:O50) -> 0 | P51: =' Populations'!E58 -> 0 | Q51: =SUM(Q38:Q50) -> 0 | R51: =' Populations'!G58 -> 0 | S51: =SUM(S38:S50) -> 0 | T51: =' Populations'!I58 -> 0 | U51: =SUM(U38:U50) -> 0 | V51: =' Populations'!K58 -> 0 | W51: =SUM(W38:W50) -> 0 | X51: =' Populations'!M58 -> 0 | Y51: =SUM(Y38:Y50) -> 0 | Z51: =' Populations'!O58 -> 0 | AA51: =SUM(AA38:AA50) -> 0 | AB51: =' Populations'!Q58 -> 0 | AC51: =SUM(AC38:AC50) -> 0 | AD51: =' Populations'!S58 -> 0 | AE51: =SUM(AE38:AE50) -> 0 | AF51: =' Populations'!U58 -> 0 | AG51: =SUM(AG38:AG50) -> 0 | AL51: =' Populations'!B22 -> Total | AM51: =SUM(AM38:AM50) -> 0 | AN51: =SUM(AN38:AN50) -> 0 | AO51: =SUM(AO38:AO50) -> 0 | AP51: =SUM(AP38:AP50) -> 0 | AQ51: =SUM(AQ38:AQ50) -> 0 | AR51: =SUM(AR38:AR50) -> 0 | AS51: =SUM(AS38:AS50) -> 0 | AT51: =SUM(AT38:AT50) -> 0 | ... AV51: =SUM(AV38:AV50) -> 0

Sheet 2019
A1: =' Populations'!A27 -> 2019 | B1: Data Input Tables Instructions: Enter your TBI-related injury data in the red cells below. The age-adjusted rates will automatically calculate in the results table. | F1: Use columns F through L to enter demographic data | N1: Optional: Unhide columns O through AK to show rate calculations and 2000 population weights | AI1: Enter 2000 State population by age group. Columns AM through AV will then autogenerate age adjusted rates per 100,000 | AL1: Results Table Age Adjusted Rates per 100,1000. Results will calculate automatically.
D2: Sex Data | F2: Demographic Data | AM2: Age-adjusted Rates per 100,000 population
B3: Age | C3: Number of hospitalizations- Total | D3: Number of hospitalizations- Male | E3: Number of hospitalizations- Female | F3: =' Populations'!I26 -> White-Not Hispanic | G3: =' Populations'!K26 -> Hispanic | H3: =' Populations'!M26 -> Black-Not Hispanic | I3: =' Populations'!O26 -> Asian | J3: =' Populations'!Q26 -> American Indian/Alaska Native | K3: =' Populations'!S26 -> Other | L3: =' Populations'!U26 -> Other | N3: State population - Total | O3: Rate | P3: =' Populations'!E26 -> Male | Q3: Rate | R3: =' Populations'!G26 -> Female | S3: Rate | T3: =' Populations'!I26 -> White-Not Hispanic | U3: Rate | V3: =' Populations'!K26 -> Hispanic | W3: Rate | X3: =' Populations'!M26 -> Black-Not Hispanic | Y3: Rate | Z3: =' Populations'!O26 -> Asian | AA3: Rate | AB3: =' Populations'!Q26 -> American Indian/Alaska Native | AC3: Rate | AD3: =' Populations'!S26 -> Other | AE3: Rate | AF3: =' Populations'!U26 -> Other | AG3: Rate | AI3: 2000 State population | AJ3: Weight | AL3: Age | AM3: Total | AN3: Male | AO3: Female | AP3: =' Populations'!I26 -> White-Not Hispanic | AQ3: =' Populations'!K26 -> Hispanic | AR3: =' Populations'!M26 -> Black-Not Hispanic | AS3: =' Populations'!O26 -> Asian | AT3: =' Populations'!Q26 -> American Indian/Alaska Native | AU3: =' Populations'!S26 -> Other | AV3: =' Populations'!U26 -> Other
B4: =' Populations'!B81 -> <1 | N4: =' Populations'!C27 -> 0 | O4: =IF(N4=0,0,($C$4/$N$4)*100000) -> 0 | P4: =' Populations'!E27 -> 0 | Q4: =IF(P4=0,0,($D$4/$P$4)*100000) -> 0 | R4: =' Populations'!G27 -> 0 | S4: =IF(R4=0,0,($E$4/$R$4)*100000) -> 0 | T4: =' Populations'!I27 -> 0 | U4: =IF(T4=0,0,($F$4/$T$4)*100000) -> 0 | V4: =' Populations'!K27 -> 0 | W4: =IF(V4=0,0,($G$4/$V$4)*100000) -> 0 | X4: =' Populations'!M27 -> 0 | Y4: =IF(X4=0,0,($H$4/$X$4)*100000) -> 0 | Z4: =' Populations'!O27 -> 0 | AA4: =IF(Z4=0,0,($I$4/$Z$4)*100000) -> 0 | AB4: =' Populations'!Q27 -> 0 | AC4: =IF(AB4=0,0,($J$4/$AB$4)*100000) -> 0 | AD4: =' Populations'!S27 -> 0 | AE4: =IF(AD4=0,0,($K$4/$AD$4)*100000) -> 0 | AF4: =' Populations'!U27 -> 0 | AG4: =IF(AF4=0,0,($L$4/$AF$4)*100000) -> 0 | AJ4: 0.013818 | AL4: =' Populations'!B9 -> <1 | AM4: =O4*AJ4 -> 0 | AN4: =Q4*AJ4 -> 0 | AO4: =S4*AJ4 -> 0 | AP4: =U4*AJ4 -> 0 | AQ4: =W4*AJ4 -> 0 | AR4: =Y4*AJ4 -> 0 | AS4: =AA4*AJ4 -> 0 | AT4: =AC4*AJ4 -> 0 | AU4: =AE4*AJ4 -> 0 | AV4: =AG4*AJ4 -> 0
B5: =' Populations'!B82 -> 1-4 | N5: =' Populations'!C28 -> 0 | O5: =IF(N5=0,0,($C$5/$N$5)*100000) -> 0 | P5: =' Populations'!E28 -> 0 | Q5: =IF(P5=0,0,($D$5/$P$5)*100000) -> 0 | R5: =' Populations'!G28 -> 0 | S5: =IF(R5=0,0,($E$5/$R$5)*100000) -> 0 | T5: =' Populations'!I28 -> 0 | U5: =IF(T5=0,0,($F$5/$T$5)*100000) -> 0 | V5: =' Populations'!K28 -> 0 | W5: =IF(V5=0,0,($G$5/$V$5)*100000) -> 0 | X5: =' Populations'!M28 -> 0 | Y5: =IF(X5=0,0,($G$5/$X$5)*100000) -> 0 | Z5: =' Populations'!O28 -> 0 | AA5: =IF(Z5=0,0,($I$5/$Z$5)*100000) -> 0 | AB5: =' Populations'!Q28 -> 0 | AC5: =IF(AB5=0,0,($J$5/$AB$5)*100000) -> 0 | AD5: =' Populations'!S28 -> 0 | AE5: =IF(AD5=0,0,($K$5/$AD$5)*100000) -> 0 | AF5: =' Populations'!U28 -> 0 | AG5: =IF(AF5=0,0,($L$5/$AF$5)*100000) -> 0 | AJ5: 0.055317 | AL5: =' Populations'!B10 -> 1-4 | AM5: =O5*AJ5 -> 0 | AN5: =Q5*AJ5 -> 0 | AO5: =S5*AJ5 -> 0 | AP5: =U5*AJ5 -> 0 | AQ5: =W5*AJ5 -> 0 | AR5: =Y5*AJ5 -> 0 | AS5: =AA5*AJ5 -> 0 | AT5: =AC5*AJ5 -> 0 | AU5: =AE5*AJ5 -> 0 | AV5: =AG5*AJ5 -> 0
B6: =' Populations'!B83 -> 5-9 | N6: =' Populations'!C29 -> 0 | O6: =IF(N6=0,0,($C$6/$N$6)*100000) -> 0 | P6: =' Populations'!E29 -> 0 | Q6: =IF(P6=0,0,($D$6/$P$6)*100000) -> 0 | R6: =' Populations'!G29 -> 0 | S6: =IF(R6=0,0,($E$6/$R$6)*100000) -> 0 | T6: =' Populations'!I29 -> 0 | U6: =IF(T6=0,0,($F$6/$T$6)*100000) -> 0 | V6: =' Populations'!K29 -> 0 | W6: =IF(V6=0,0,($G$6/$V$6)*100000) -> 0 | X6: =' Populations'!M29 -> 0 | Y6: =IF(X6=0,0,($G$6/$X$6)*100000) -> 0 | Z6: =' Populations'!O29 -> 0 | AA6: =IF(Z6=0,0,($I$6/$Z$6)*100000) -> 0 | AB6: =' Populations'!Q29 -> 0 | AC6: =IF(AB6=0,0,($J$6/$AB$6)*100000) -> 0 | AD6: =' Populations'!S29 -> 0 | AE6: =IF(AD6=0,0,($K$6/$AD$6)*100000) -> 0 | AF6: =' Populations'!U29 -> 0 | AG6: =IF(AF6=0,0,($L$6/$AF$6)*100000) -> 0 | AJ6: 0.072533 | AL6: =' Populations'!B11 -> 5-9 | AM6: =O6*AJ6 -> 0 | AN6: =Q6*AJ6 -> 0 | AO6: =S6*AJ6 -> 0 | AP6: =U6*AJ6 -> 0 | AQ6: =W6*AJ6 -> 0 | AR6: =Y6*AJ6 -> 0 | AS6: =AA6*AJ6 -> 0 | AT6: =AC6*AJ6 -> 0 | AU6: =AE6*AJ6 -> 0 | AV6: =AG6*AJ6 -> 0
B7: =' Populations'!B84 -> 10-14 | N7: =' Populations'!C30 -> 0 | O7: =IF(N7=0,0,($C$7/$N$7)*100000) -> 0 | P7: =' Populations'!E30 -> 0 | Q7: =IF(P7=0,0,($D$7/$P$7)*100000) -> 0 | R7: =' Populations'!G30 -> 0 | S7: =IF(R7=0,0,($E$7/$R$7)*100000) -> 0 | T7: =' Populations'!I30 -> 0 | U7: =IF(T7=0,0,($F$7/$T$7)*100000) -> 0 | V7: =' Populations'!K30 -> 0 | W7: =IF(V7=0,0,($G$7/$V$7)*100000) -> 0 | X7: =' Populations'!M30 -> 0 | Y7: =IF(X7=0,0,($G$7/$X$7)*100000) -> 0 | Z7: =' Populations'!O30 -> 0 | AA7: =IF(Z7=0,0,($I$7/$Z$7)*100000) -> 0 | AB7: =' Populations'!Q30 -> 0 | AC7: =IF(AB7=0,0,($J$7/$AB$7)*100000) -> 0 | AD7: =' Populations'!S30 -> 0 | AE7: =IF(AD7=0,0,($K$7/$AD$7)*100000) -> 0 | AF7: =' Populations'!U30 -> 0 | AG7: =IF(AF7=0,0,($L$7/$AF$7)*100000) -> 0 | AJ7: 0.073032 | AL7: =' Populations'!B12 -> 10-14 | AM7: =O7*AJ7 -> 0 | AN7: =Q7*AJ7 -> 0 | AO7: =S7*AJ7 -> 0 | AP7: =U7*AJ7 -> 0 | AQ7: =W7*AJ7 -> 0 | AR7: =Y7*AJ7 -> 0 | AS7: =AA7*AJ7 -> 0 | AT7: =AC7*AJ7 -> 0 | AU7: =AE7*AJ7 -> 0 | AV7: =AG7*AJ7 -> 0
B8: =' Populations'!B85 -> 15-19 | N8: =' Populations'!C31 -> 0 | O8: =IF(N8=0,0,($C$8/$N$8)*100000) -> 0 | P8: =' Populations'!E31 -> 0 | Q8: =IF(P8=0,0,($D$8/$P$8)*100000) -> 0 | R8: =' Populations'!G31 -> 0 | S8: =IF(R8=0,0,($E$8/$R$8)*100000) -> 0 | T8: =' Populations'!I31 -> 0 | U8: =IF(T8=0,0,($F$8/$T$8)*100000) -> 0 | V8: =' Populations'!K31 -> 0 | W8: =IF(V8=0,0,($G$8/$V$8)*100000) -> 0 | X8: =' Populations'!M31 -> 0 | Y8: =IF(X8=0,0,($G$8/$X$8)*100000) -> 0 | Z8: =' Populations'!O31 -> 0 | AA8: =IF(Z8=0,0,($I$8/$Z$8)*100000) -> 0 | AB8: =' Populations'!Q31 -> 0 | AC8: =IF(AB8=0,0,($J$8/$AB$8)*100000) -> 0 | AD8: =' Populations'!S31 -> 0 | AE8: =IF(AD8=0,0,($K$8/$AD$8)*100000) -> 0 | AF8: =' Populations'!U31 -> 0 | AG8: =IF(AF8=0,0,($L$8/$AF$8)*100000) -> 0 | AJ8: 0.072169 | AL8: =' Populations'!B13 -> 15-19 | AM8: =O8*AJ8 -> 0 | AN8: =Q8*AJ8 -> 0 | AO8: =S8*AJ8 -> 0 | AP8: =U8*AJ8 -> 0 | AQ8: =W8*AJ8 -> 0 | AR8: =Y8*AJ8 -> 0 | AS8: =AA8*AJ8 -> 0 | AT8: =AC8*AJ8 -> 0 | AU8: =AE8*AJ8 -> 0 | AV8: =AG8*AJ8 -> 0
B9: =' Populations'!B86 -> 20-24 | N9: =' Populations'!C32 -> 0 | O9: =IF(N9=0,0,($C$9/$N$9)*100000) -> 0 | P9: =' Populations'!E32 -> 0 | Q9: =IF(P9=0,0,($D$9/$P$9)*100000) -> 0 | R9: =' Populations'!G32 -> 0 | S9: =IF(R9=0,0,($E$9/$R$9)*100000) -> 0 | T9: =' Populations'!I32 -> 0 | U9: =IF(T9=0,0,($F$9/$T$9)*100000) -> 0 | V9: =' Populations'!K32 -> 0 | W9: =IF(V9=0,0,($G$9/$V$9)*100000) -> 0 | X9: =' Populations'!M32 -> 0 | Y9: =IF(X9=0,0,($G$9/$X$9)*100000) -> 0 | Z9: =' Populations'!O32 -> 0 | AA9: =IF(Z9=0,0,($I$9/$Z$9)*100000) -> 0 | AB9: =' Populations'!Q32 -> 0 | AC9: =IF(AB9=0,0,($J$9/$AB$9)*100000) -> 0 | AD9: =' Populations'!S32 -> 0 | AE9: =IF(AD9=0,0,($K$9/$AD$9)*100000) -> 0 | AF9: =' Populations'!U32 -> 0 | AG9: =IF(AF9=0,0,($L$9/$AF$9)*100000) -> 0 | AJ9: 0.066478 | AL9: =' Populations'!B14 -> 20-24 | AM9: =O9*AJ9 -> 0 | AN9: =Q9*AJ9 -> 0 | AO9: =S9*AJ9 -> 0 | AP9: =U9*AJ9 -> 0 | AQ9: =W9*AJ9 -> 0 | AR9: =Y9*AJ9 -> 0 | AS9: =AA9*AJ9 -> 0 | AT9: =AC9*AJ9 -> 0 | AU9: =AE9*AJ9 -> 0 | AV9: =AG9*AJ9 -> 0
B10: =' Populations'!B87 -> 25-34 | N10: =' Populations'!C33 -> 0 | O10: =IF(N10=0,0,($C$10/$N$10)*100000) -> 0 | P10: =' Populations'!E33 -> 0 | Q10: =IF(P10=0,0,($D$10/$P$10)*100000) -> 0 | R10: =' Populations'!G33 -> 0 | S10: =IF(R10=0,0,($E$10/$R$10)*100000) -> 0 | T10: =' Populations'!I33 -> 0 | U10: =IF(T10=0,0,($F$10/$T$10)*100000) -> 0 | V10: =' Populations'!K33 -> 0 | W10: =IF(V10=0,0,($G$10/$V$10)*100000) -> 0 | X10: =' Populations'!M33 -> 0 | Y10: =IF(X10=0,0,($G$10/$X$10)*100000) -> 0 | Z10: =' Populations'!O33 -> 0 | AA10: =IF(Z10=0,0,($I$10/$Z$10)*100000) -> 0 | AB10: =' Populations'!Q33 -> 0 | AC10: =IF(AB10=0,0,($J$10/$AB$10)*100000) -> 0 | AD10: =' Populations'!S33 -> 0 | AE10: =IF(AD10=0,0,($K$10/$AD$10)*100000) -> 0 | AF10: =' Populations'!U33 -> 0 | AG10: =IF(AF10=0,0,($L$10/$AF$10)*100000) -> 0 | AJ10: 0.135573 | AL10: =' Populations'!B15 -> 25-34 | AM10: =O10*AJ10 -> 0 | AN10: =Q10*AJ10 -> 0 | AO10: =S10*AJ10 -> 0 | AP10: =U10*AJ10 -> 0 | AQ10: =W10*AJ10 -> 0 | AR10: =Y10*AJ10 -> 0 | AS10: =AA10*AJ10 -> 0 | AT10: =AC10*AJ10 -> 0 | AU10: =AE10*AJ10 -> 0 | AV10: =AG10*AJ10 -> 0
B11: =' Populations'!B88 -> 35-44 | N11: =' Populations'!C34 -> 0 | O11: =IF(N11=0,0,($C$11/$N$11)*100000) -> 0 | P11: =' Populations'!E34 -> 0 | Q11: =IF(P11=0,0,($D$11/$P$11)*100000) -> 0 | R11: =' Populations'!G34 -> 0 | S11: =IF(R11=0,0,($E$11/$R$11)*100000) -> 0 | T11: =' Populations'!I34 -> 0 | U11: =IF(T11=0,0,($F$11/$T$11)*100000) -> 0 | V11: =' Populations'!K34 -> 0 | W11: =IF(V11=0,0,($G$11/$V$11)*100000) -> 0 | X11: =' Populations'!M34 -> 0 | Y11: =IF(X11=0,0,($G$11/$X$11)*100000) -> 0 | Z11: =' Populations'!O34 -> 0 | AA11: =IF(Z11=0,0,($I$11/$Z$11)*100000) -> 0 | AB11: =' Populations'!Q34 -> 0 | AC11: =IF(AB11=0,0,($J$11/$AB$11)*100000) -> 0 | AD11: =' Populations'!S34 -> 0 | AE11: =IF(AD11=0,0,($K$11/$AD$11)*100000) -> 0 | AF11: =' Populations'!U34 -> 0 | AG11: =IF(AF11=0,0,($L$11/$AF$11)*100000) -> 0 | AJ11: 0.162613 | AL11: =' Populations'!B16 -> 35-44 | AM11: =O11*AJ11 -> 0 | AN11: =Q11*AJ11 -> 0 | AO11: =S11*AJ11 -> 0 | AP11: =U11*AJ11 -> 0 | AQ11: =W11*AJ11 -> 0 | AR11: =Y11*AJ11 -> 0 | AS11: =AA11*AJ11 -> 0 | AT11: =AC11*AJ11 -> 0 | AU11: =AE11*AJ11 -> 0 | AV11: =AG11*AJ11 -> 0
B12: =' Populations'!B89 -> 45-54 | N12: =' Populations'!C35 -> 0 | O12: =IF(N12=0,0,($C$12/$N$12)*100000) -> 0 | P12: =' Populations'!E35 -> 0 | Q12: =IF(P12=0,0,($D$12/$P$12)*100000) -> 0 | R12: =' Populations'!G35 -> 0 | S12: =IF(R12=0,0,($E$12/$R$12)*100000) -> 0 | T12: =' Populations'!I35 -> 0 | U12: =IF(T12=0,0,($F$12/$T$12)*100000) -> 0 | V12: =' Populations'!K35 -> 0 | W12: =IF(V12=0,0,($G$12/$V$12)*100000) -> 0 | X12: =' Populations'!M35 -> 0 | Y12: =IF(X12=0,0,($G$12/$X$12)*100000) -> 0 | Z12: =' Populations'!O35 -> 0 | AA12: =IF(Z12=0,0,($I$12/$Z$12)*100000) -> 0 | AB12: =' Populations'!Q35 -> 0 | AC12: =IF(AB12=0,0,($J$12/$AB$12)*100000) -> 0 | AD12: =' Populations'!S35 -> 0 | AE12: =IF(AD12=0,0,($K$12/$AD$12)*100000) -> 0 | AF12: =' Populations'!U35 -> 0 | AG12: =IF(AF12=0,0,($L$12/$AF$12)*100000) -> 0 | AJ12: 0.134834 | AL12: =' Populations'!B17 -> 45-54 | AM12: =O12*AJ12 -> 0 | AN12: =Q12*AJ12 -> 0 | AO12: =S12*AJ12 -> 0 | AP12: =U12*AJ12 -> 0 | AQ12: =W12*AJ12 -> 0 | AR12: =Y12*AJ12 -> 0 | AS12: =AA12*AJ12 -> 0 | AT12: =AC12*AJ12 -> 0 | AU12: =AE12*AJ12 -> 0 | AV12: =AG12*AJ12 -> 0
B13: =' Populations'!B90 -> 55-64 | N13: =' Populations'!C36 -> 0 | O13: =IF(N13=0,0,($C$13/$N$13)*100000) -> 0 | P13: =' Populations'!E36 -> 0 | Q13: =IF(P13=0,0,($D$13/$P$13)*100000) -> 0 | R13: =' Populations'!G36 -> 0 | S13: =IF(R13=0,0,($E$13/$R$13)*100000) -> 0 | T13: =' Populations'!I36 -> 0 | U13: =IF(T13=0,0,($F$13/$T$13)*100000) -> 0 | V13: =' Populations'!K36 -> 0 | W13: =IF(V13=0,0,($G$13/$V$13)*100000) -> 0 | X13: =' Populations'!M36 -> 0 | Y13: =IF(X13=0,0,($G$13/$X$13)*100000) -> 0 | Z13: =' Populations'!O36 -> 0 | AA13: =IF(Z13=0,0,($I$13/$Z$13)*100000) -> 0 | AB13: =' Populations'!Q36 -> 0 | AC13: =IF(AB13=0,0,($J$13/$AB$13)*100000) -> 0 | AD13: =' Populations'!S36 -> 0 | AE13: =IF(AD13=0,0,($K$13/$AD$13)*100000) -> 0 | AF13: =' Populations'!U36 -> 0 | AG13: =IF(AF13=0,0,($L$13/$AF$13)*100000) -> 0 | AJ13: 0.087247 | AL13: =' Populations'!B18 -> 55-64 | AM13: =O13*AJ13 -> 0 | AN13: =Q13*AJ13 -> 0 | AO13: =S13*AJ13 -> 0 | AP13: =U13*AJ13 -> 0 | AQ13: =W13*AJ13 -> 0 | AR13: =Y13*AJ13 -> 0 | AS13: =AA13*AJ13 -> 0 | AT13: =AC13*AJ13 -> 0 | AU13: =AE13*AJ13 -> 0 | AV13: =AG13*AJ13 -> 0
B14: =' Populations'!B91 -> 65-74 | N14: =' Populations'!C37 -> 0 | O14: =IF(N14=0,0,($C$14/$N$14)*100000) -> 0 | P14: =' Populations'!E37 -> 0 | Q14: =IF(P14=0,0,($D$14/$P$14)*100000) -> 0 | R14: =' Populations'!G37 -> 0 | S14: =IF(R14=0,0,($E$14/$R$14)*100000) -> 0 | T14: =' Populations'!I37 -> 0 | U14: =IF(T14=0,0,($F$14/$T$14)*100000) -> 0 | V14: =' Populations'!K37 -> 0 | W14: =IF(V14=0,0,($G$14/$V$14)*100000) -> 0 | X14: =' Populations'!M37 -> 0 | Y14: =IF(X14=0,0,($G$14/$X$14)*100000) -> 0 | Z14: =' Populations'!O37 -> 0 | AA14: =IF(Z14=0,0,($I$14/$Z$14)*100000) -> 0 | AB14: =' Populations'!Q37 -> 0 | AC14: =IF(AB14=0,0,($J$14/$AB$14)*100000) -> 0 | AD14: =' Populations'!S37 -> 0 | AE14: =IF(AD14=0,0,($K$14/$AD$14)*100000) -> 0 | AF14: =' Populations'!U37 -> 0 | AG14: =IF(AF14=0,0,($L$14/$AF$14)*100000) -> 0 | AJ14: 0.066037 | AL14: =' Populations'!B19 -> 65-74 | AM14: =O14*AJ14 -> 0 | AN14: =Q14*AJ14 -> 0 | AO14: =S14*AJ14 -> 0 | AP14: =U14*AJ14 -> 0 | AQ14: =W14*AJ14 -> 0 | AR14: =Y14*AJ14 -> 0 | AS14: =AA14*AJ14 -> 0 | AT14: =AC14*AJ14 -> 0 | AU14: =AE14*AJ14 -> 0 | AV14: =AG14*AJ14 -> 0
B15: =' Populations'!B92 -> 75-84 | N15: =' Populations'!C38 -> 0 | O15: =IF(N15=0,0,($C$15/$N$15)*100000) -> 0 | P15: =' Populations'!E38 -> 0 | Q15: =IF(P15=0,0,($D$15/$P$15)*100000) -> 0 | R15: =' Populations'!G38 -> 0 | S15: =IF(R15=0,0,($E$15/$R$15)*100000) -> 0 | T15: =' Populations'!I38 -> 0 | U15: =IF(T15=0,0,($F$15/$T$15)*100000) -> 0 | V15: =' Populations'!K38 -> 0 | W15: =IF(V15=0,0,($G$15/$V$15)*100000) -> 0 | X15: =' Populations'!M38 -> 0 | Y15: =IF(X15=0,0,($G$15/$X$15)*100000) -> 0 | Z15: =' Populations'!O38 -> 0 | AA15: =IF(Z15=0,0,($I$15/$Z$15)*100000) -> 0 | AB15: =' Populations'!Q38 -> 0 | AC15: =IF(AB15=0,0,($J$15/$AB$15)*100000) -> 0 | AD15: =' Populations'!S38 -> 0 | AE15: =IF(AD15=0,0,($K$15/$AD$15)*100000) -> 0 | AF15: =' Populations'!U38 -> 0 | AG15: =IF(AF15=0,0,($L$15/$AF$15)*100000) -> 0 | AJ15: 0.044841 | AL15: =' Populations'!B20 -> 75-84 | AM15: =O15*AJ15 -> 0 | AN15: =Q15*AJ15 -> 0 | AO15: =S15*AJ15 -> 0 | AP15: =U15*AJ15 -> 0 | AQ15: =W15*AJ15 -> 0 | AR15: =Y15*AJ15 -> 0 | AS15: =AA15*AJ15 -> 0 | AT15: =AC15*AJ15 -> 0 | AU15: =AE15*AJ15 -> 0 | AV15: =AG15*AJ15 -> 0
B16: =' Populations'!B93 -> 85+ | N16: =' Populations'!C39 -> 0 | O16: =IF(N16=0,0,($C$16/$N$16)*100000) -> 0 | P16: =' Populations'!E39 -> 0 | Q16: =IF(P16=0,0,($D$16/$P$16)*100000) -> 0 | R16: =' Populations'!G39 -> 0 | S16: =IF(R16=0,0,($E$16/$R$16)*100000) -> 0 | T16: =' Populations'!I39 -> 0 | U16: =IF(T16=0,0,($F$16/$T$16)*100000) -> 0 | V16: =' Populations'!K39 -> 0 | W16: =IF(V16=0,0,($G$16/$V$16)*100000) -> 0 | X16: =' Populations'!M39 -> 0 | Y16: =IF(X16=0,0,($G$16/$X$16)*100000) -> 0 | Z16: =' Populations'!O39 -> 0 | AA16: =IF(Z16=0,0,($I$16/$Z$16)*100000) -> 0 | AB16: =' Populations'!Q39 -> 0 | AC16: =IF(AB16=0,0,($J$16/$AB$16)*100000) -> 0 | AD16: =' Populations'!S39 -> 0 | AE16: =IF(AD16=0,0,($K$16/$AD$16)*100000) -> 0 | AF16: =' Populations'!U39 -> 0 | AG16: =IF(AF16=0,0,($L$16/$AF$16)*100000) -> 0 | AJ16: 0.015508 | AL16: =' Populations'!B21 -> 85+ | AM16: =O16*AJ16 -> 0 | AN16: =Q16*AJ16 -> 0 | AO16: =S16*AJ16 -> 0 | AP16: =U16*AJ16 -> 0 | AQ16: =W16*AJ16 -> 0 | AR16: =Y16*AJ16 -> 0 | AS16: =AA16*AJ16 -> 0 | AT16: =AC16*AJ16 -> 0 | AU16: =AE16*AJ16 -> 0 | AV16: =AG16*AJ16 -> 0
B17: total | C17: =SUM(C4:C16) -> 0 | D17: =SUM(D4:D16) -> 0 | E17: =SUM(E4:E16) -> 0 | F17: =SUM(F4:F16) -> 0 | G17: =SUM(G4:G16) -> 0 | H17: =SUM(H4:H16) -> 0 | I17: =SUM(I4:I16) -> 0 | J17: =SUM(J4:J16) -> 0 | ... L17: =SUM(L4:L16) -> 0 | N17: =' Populations'!C40 -> 0 | O17: =SUM(O4:O16) -> 0 | P17: =' Populations'!E40 -> 0 | Q17: =SUM(Q4:Q16) -> 0 | R17: =' Populations'!G40 -> 0 | S17: =SUM(S4:S16) -> 0 | T17: =' Populations'!I40 -> 0 | U17: =SUM(U4:U16) -> 0 | V17: =' Populations'!K40 -> 0 | W17: =SUM(W4:W16) -> 0 | X17: =' Populations'!M40 -> 0 | Y17: =SUM(Y4:Y16) -> 0 | Z17: =' Populations'!O40 -> 0 | AA17: =SUM(AA4:AA16) -> 0 | AB17: =' Populations'!Q40 -> 0 | AC17: =SUM(AC4:AC16) -> 0 | AD17: =' Populations'!S40 -> 0 | AE17: =SUM(AE4:AE16) -> 0 | AF17: =' Populations'!U40 -> 0 | AG17: =SUM(AG4:AG16) -> 0 | AL17: =' Populations'!B22 -> Total | AM17: =SUM(AM4:AM16) -> 0 | AN17: =SUM(AN4:AN16) -> 0 | AO17: =SUM(AO4:AO16) -> 0 | AP17: =SUM(AP4:AP16) -> 0 | AQ17: =SUM(AQ4:AQ16) -> 0 | AR17: =SUM(AR4:AR16) -> 0 | AS17: =SUM(AS4:AS16) -> 0 | AT17: =SUM(AT4:AT16) -> 0 | ... AV17: =SUM(AV4:AV16) -> 0
D19: Sex Data | F19: Demographic Data | AM19: Age-adjusted Rates per 100,000 population
B20: Age | C20: Number of ED visits- Total | D20: Number of ED visits- Male | E20: Number of ED visits- Female | F20: =' Populations'!I26 -> White-Not Hispanic | G20: =' Populations'!K26 -> Hispanic | H20: =' Populations'!M26 -> Black-Not Hispanic | I20: =' Populations'!O26 -> Asian | J20: =' Populations'!Q26 -> American Indian/Alaska Native | K20: =' Populations'!S26 -> Other | L20: =' Populations'!U26 -> Other | N20: State population - Total | O20: Rate | P20: =' Populations'!E26 -> Male | Q20: Rate | R20: =' Populations'!G26 -> Female | S20: Rate | T20: =' Populations'!I26 -> White-Not Hispanic | U20: Rate | V20: =' Populations'!K26 -> Hispanic | W20: Rate | X20: =' Populations'!M26 -> Black-Not Hispanic | Y20: Rate | Z20: =' Populations'!O26 -> Asian | AA20: Rate | AB20: =' Populations'!Q26 -> American Indian/Alaska Native | AC20: Rate | AD20: =' Populations'!S26 -> Other | AE20: Rate | AF20: =' Populations'!U26 -> Other | AG20: Rate | AI20: 2000 State population | AJ20: Weight | AL20: Age | AM20: Total | AN20: Male | AO20: Female | AP20: =' Populations'!I26 -> White-Not Hispanic | AQ20: =' Populations'!K26 -> Hispanic | AR20: =' Populations'!M26 -> Black-Not Hispanic | AS20: =' Populations'!O26 -> Asian | AT20: =' Populations'!Q26 -> American Indian/Alaska Native | AU20: =' Populations'!S26 -> Other | AV20: =' Populations'!U26 -> Other
B21: =' Populations'!B81 -> <1 | N21: =' Populations'!C27 -> 0 | O21: =IF(N21=0,0,($C$21/$N$21)*100000) -> 0 | P21: =' Populations'!E27 -> 0 | Q21: =IF(P21=0,0,($D$21/$P$21)*100000) -> 0 | R21: =' Populations'!G27 -> 0 | S21: =IF(R21=0,0,($E$21/$R$21)*100000) -> 0 | T21: =' Populations'!I27 -> 0 | U21: =IF(T21=0,0,($F$21/$T$21)*100000) -> 0 | V21: =' Populations'!K27 -> 0 | W21: =IF(V21=0,0,($G$21/$V$21)*100000) -> 0 | X21: =' Populations'!M27 -> 0 | Y21: =IF(X21=0,0,($H$21/$X$21)*100000) -> 0 | Z21: =' Populations'!O27 -> 0 | AA21: =IF(Z21=0,0,($I$21/$Z$21)*100000) -> 0 | AB21: =' Populations'!Q27 -> 0 | AC21: =IF(AB21=0,0,($J$21/$AB$21)*100000) -> 0 | AD21: =' Populations'!S27 -> 0 | AE21: =IF(AD21=0,0,($K$21/$AD$21)*100000) -> 0 | AF21: =' Populations'!U27 -> 0 | AG21: =IF(AF21=0,0,($L$21/$AF$21)*100000) -> 0 | AJ21: 0.013818 | AL21: =' Populations'!B9 -> <1 | AM21: =O21*AJ21 -> 0 | AN21: =Q21*AJ21 -> 0 | AO21: =S21*AJ21 -> 0 | AP21: =U21*AJ21 -> 0 | AQ21: =W21*AJ21 -> 0 | AR21: =Y21*AJ21 -> 0 | AS21: =AA21*AJ21 -> 0 | AT21: =AC21*AJ21 -> 0 | AU21: =AE21*AJ21 -> 0 | AV21: =AG21*AJ21 -> 0
B22: =' Populations'!B82 -> 1-4 | N22: =' Populations'!C28 -> 0 | O22: =IF(N22=0,0,($C$22/$N$22)*100000) -> 0 | P22: =' Populations'!E28 -> 0 | Q22: =IF(P22=0,0,($D$22/$P$22)*100000) -> 0 | R22: =' Populations'!G28 -> 0 | S22: =IF(R22=0,0,($E$22/$R$22)*100000) -> 0 | T22: =' Populations'!I28 -> 0 | U22: =IF(T22=0,0,($F$22/$T$22)*100000) -> 0 | V22: =' Populations'!K28 -> 0 | W22: =IF(V22=0,0,($G$22/$V$22)*100000) -> 0 | X22: =' Populations'!M28 -> 0 | Y22: =IF(X22=0,0,($H$22/$X$22)*100000) -> 0 | Z22: =' Populations'!O28 -> 0 | AA22: =IF(Z22=0,0,($I$22/$Z$22)*100000) -> 0 | AB22: =' Populations'!Q28 -> 0 | AC22: =IF(AB22=0,0,($J$22/$AB$22)*100000) -> 0 | AD22: =' Populations'!S28 -> 0 | AE22: =IF(AD22=0,0,($K$22/$AD$22)*100000) -> 0 | AF22: =' Populations'!U28 -> 0 | AG22: =IF(AF22=0,0,($L$22/$AF$22)*100000) -> 0 | AJ22: 0.055317 | AL22: =' Populations'!B10 -> 1-4 | AM22: =O22*AJ22 -> 0 | AN22: =Q22*AJ22 -> 0 | AO22: =S22*AJ22 -> 0 | AP22: =U22*AJ22 -> 0 | AQ22: =W22*AJ22 -> 0 | AR22: =Y22*AJ22 -> 0 | AS22: =AA22*AJ22 -> 0 | AT22: =AC22*AJ22 -> 0 | AU22: =AE22*AJ22 -> 0 | AV22: =AG22*AJ22 -> 0
B23: =' Populations'!B83 -> 5-9 | N23: =' Populations'!C29 -> 0 | O23: =IF(N23=0,0,($C$23/$N$23)*100000) -> 0 | P23: =' Populations'!E29 -> 0 | Q23: =IF(P23=0,0,($D$23/$P$23)*100000) -> 0 | R23: =' Populations'!G29 -> 0 | S23: =IF(R23=0,0,($E$23/$R$23)*100000) -> 0 | T23: =' Populations'!I29 -> 0 | U23: =IF(T23=0,0,($F$23/$T$23)*100000) -> 0 | V23: =' Populations'!K29 -> 0 | W23: =IF(V23=0,0,($G$23/$V$23)*100000) -> 0 | X23: =' Populations'!M29 -> 0 | Y23: =IF(X23=0,0,($H$23/$X$23)*100000) -> 0 | Z23: =' Populations'!O29 -> 0 | AA23: =IF(Z23=0,0,($I$23/$Z$23)*100000) -> 0 | AB23: =' Populations'!Q29 -> 0 | AC23: =IF(AB23=0,0,($J$23/$AB$23)*100000) -> 0 | AD23: =' Populations'!S29 -> 0 | AE23: =IF(AD23=0,0,($K$23/$AD$23)*100000) -> 0 | AF23: =' Populations'!U29 -> 0 | AG23: =IF(AF23=0,0,($L$23/$AF$23)*100000) -> 0 | AJ23: 0.072533 | AL23: =' Populations'!B11 -> 5-9 | AM23: =O23*AJ23 -> 0 | AN23: =Q23*AJ23 -> 0 | AO23: =S23*AJ23 -> 0 | AP23: =U23*AJ23 -> 0 | AQ23: =W23*AJ23 -> 0 | AR23: =Y23*AJ23 -> 0 | AS23: =AA23*AJ23 -> 0 | AT23: =AC23*AJ23 -> 0 | AU23: =AE23*AJ23 -> 0 | AV23: =AG23*AJ23 -> 0
B24: =' Populations'!B84 -> 10-14 | N24: =' Populations'!C30 -> 0 | O24: =IF(N24=0,0,($C$24/$N$24)*100000) -> 0 | P24: =' Populations'!E30 -> 0 | Q24: =IF(P24=0,0,($D$24/$P$24)*100000) -> 0 | R24: =' Populations'!G30 -> 0 | S24: =IF(R24=0,0,($E$24/$R$24)*100000) -> 0 | T24: =' Populations'!I30 -> 0 | U24: =IF(T24=0,0,($F$24/$T$24)*100000) -> 0 | V24: =' Populations'!K30 -> 0 | W24: =IF(V24=0,0,($G$24/$V$24)*100000) -> 0 | X24: =' Populations'!M30 -> 0 | Y24: =IF(X24=0,0,($H$24/$X$24)*100000) -> 0 | Z24: =' Populations'!O30 -> 0 | AA24: =IF(Z24=0,0,($I$24/$Z$24)*100000) -> 0 | AB24: =' Populations'!Q30 -> 0 | AC24: =IF(AB24=0,0,($J$24/$AB$24)*100000) -> 0 | AD24: =' Populations'!S30 -> 0 | AE24: =IF(AD24=0,0,($K$24/$AD$24)*100000) -> 0 | AF24: =' Populations'!U30 -> 0 | AG24: =IF(AF24=0,0,($L$24/$AF$24)*100000) -> 0 | AJ24: 0.073032 | AL24: =' Populations'!B12 -> 10-14 | AM24: =O24*AJ24 -> 0 | AN24: =Q24*AJ24 -> 0 | AO24: =S24*AJ24 -> 0 | AP24: =U24*AJ24 -> 0 | AQ24: =W24*AJ24 -> 0 | AR24: =Y24*AJ24 -> 0 | AS24: =AA24*AJ24 -> 0 | AT24: =AC24*AJ24 -> 0 | AU24: =AE24*AJ24 -> 0 | AV24: =AG24*AJ24 -> 0
B25: =' Populations'!B85 -> 15-19 | N25: =' Populations'!C31 -> 0 | O25: =IF(N25=0,0,($C$25/$N$25)*100000) -> 0 | P25: =' Populations'!E31 -> 0 | Q25: =IF(P25=0,0,($D$25/$P$25)*100000) -> 0 | R25: =' Populations'!G31 -> 0 | S25: =IF(R25=0,0,($E$25/$R$25)*100000) -> 0 | T25: =' Populations'!I31 -> 0 | U25: =IF(T25=0,0,($F$25/$T$25)*100000) -> 0 | V25: =' Populations'!K31 -> 0 | W25: =IF(V25=0,0,($G$25/$V$25)*100000) -> 0 | X25: =' Populations'!M31 -> 0 | Y25: =IF(X25=0,0,($H$25/$X$25)*100000) -> 0 | Z25: =' Populations'!O31 -> 0 | AA25: =IF(Z25=0,0,($I$25/$Z$25)*100000) -> 0 | AB25: =' Populations'!Q31 -> 0 | AC25: =IF(AB25=0,0,($J$25/$AB$25)*100000) -> 0 | AD25: =' Populations'!S31 -> 0 | AE25: =IF(AD25=0,0,($K$25/$AD$25)*100000) -> 0 | AF25: =' Populations'!U31 -> 0 | AG25: =IF(AF25=0,0,($L$25/$AF$25)*100000) -> 0 | AJ25: 0.072169 | AL25: =' Populations'!B13 -> 15-19 | AM25: =O25*AJ25 -> 0 | AN25: =Q25*AJ25 -> 0 | AO25: =S25*AJ25 -> 0 | AP25: =U25*AJ25 -> 0 | AQ25: =W25*AJ25 -> 0 | AR25: =Y25*AJ25 -> 0 | AS25: =AA25*AJ25 -> 0 | AT25: =AC25*AJ25 -> 0 | AU25: =AE25*AJ25 -> 0 | AV25: =AG25*AJ25 -> 0
B26: =' Populations'!B86 -> 20-24 | N26: =' Populations'!C32 -> 0 | O26: =IF(N26=0,0,($C$26/$N$26)*100000) -> 0 | P26: =' Populations'!E32 -> 0 | Q26: =IF(P26=0,0,($D$26/$P$26)*100000) -> 0 | R26: =' Populations'!G32 -> 0 | S26: =IF(R26=0,0,($E$26/$R$26)*100000) -> 0 | T26: =' Populations'!I32 -> 0 | U26: =IF(T26=0,0,($F$26/$T$26)*100000) -> 0 | V26: =' Populations'!K32 -> 0 | W26: =IF(V26=0,0,($G$26/$V$26)*100000) -> 0 | X26: =' Populations'!M32 -> 0 | Y26: =IF(X26=0,0,($H$26/$X$26)*100000) -> 0 | Z26: =' Populations'!O32 -> 0 | AA26: =IF(Z26=0,0,($I$26/$Z$26)*100000) -> 0 | AB26: =' Populations'!Q32 -> 0 | AC26: =IF(AB26=0,0,($J$26/$AB$26)*100000) -> 0 | AD26: =' Populations'!S32 -> 0 | AE26: =IF(AD26=0,0,($K$26/$AD$26)*100000) -> 0 | AF26: =' Populations'!U32 -> 0 | AG26: =IF(AF26=0,0,($L$26/$AF$26)*100000) -> 0 | AJ26: 0.066478 | AL26: =' Populations'!B14 -> 20-24 | AM26: =O26*AJ26 -> 0 | AN26: =Q26*AJ26 -> 0 | AO26: =S26*AJ26 -> 0 | AP26: =U26*AJ26 -> 0 | AQ26: =W26*AJ26 -> 0 | AR26: =Y26*AJ26 -> 0 | AS26: =AA26*AJ26 -> 0 | AT26: =AC26*AJ26 -> 0 | AU26: =AE26*AJ26 -> 0 | AV26: =AG26*AJ26 -> 0
B27: =' Populations'!B87 -> 25-34 | N27: =' Populations'!C33 -> 0 | O27: =IF(N27=0,0,($C$27/$N$27)*100000) -> 0 | P27: =' Populations'!E33 -> 0 | Q27: =IF(P27=0,0,($D$27/$P$27)*100000) -> 0 | R27: =' Populations'!G33 -> 0 | S27: =IF(R27=0,0,($E$27/$R$27)*100000) -> 0 | T27: =' Populations'!I33 -> 0 | U27: =IF(T27=0,0,($F$27/$T$27)*100000) -> 0 | V27: =' Populations'!K33 -> 0 | W27: =IF(V27=0,0,($G$27/$V$27)*100000) -> 0 | X27: =' Populations'!M33 -> 0 | Y27: =IF(X27=0,0,($H$27/$X$27)*100000) -> 0 | Z27: =' Populations'!O33 -> 0 | AA27: =IF(Z27=0,0,($I$27/$Z$27)*100000) -> 0 | AB27: =' Populations'!Q33 -> 0 | AC27: =IF(AB27=0,0,($J$27/$AB$27)*100000) -> 0 | AD27: =' Populations'!S33 -> 0 | AE27: =IF(AD27=0,0,($K$27/$AD$27)*100000) -> 0 | AF27: =' Populations'!U33 -> 0 | AG27: =IF(AF27=0,0,($L$272/$AF$27)*100000) -> 0 | AJ27: 0.135573 | AL27: =' Populations'!B15 -> 25-34 | AM27: =O27*AJ27 -> 0 | AN27: =Q27*AJ27 -> 0 | AO27: =S27*AJ27 -> 0 | AP27: =U27*AJ27 -> 0 | AQ27: =W27*AJ27 -> 0 | AR27: =Y27*AJ27 -> 0 | AS27: =AA27*AJ27 -> 0 | AT27: =AC27*AJ27 -> 0 | AU27: =AE27*AJ27 -> 0 | AV27: =AG27*AJ27 -> 0
B28: =' Populations'!B88 -> 35-44 | N28: =' Populations'!C34 -> 0 | O28: =IF(N28=0,0,($C$28/$N$28)*100000) -> 0 | P28: =' Populations'!E34 -> 0 | Q28: =IF(P28=0,0,($D$28/$P$28)*100000) -> 0 | R28: =' Populations'!G34 -> 0 | S28: =IF(R28=0,0,($E$28/$R$28)*100000) -> 0 | T28: =' Populations'!I34 -> 0 | U28: =IF(T28=0,0,($F$28/$T$28)*100000) -> 0 | V28: =' Populations'!K34 -> 0 | W28: =IF(V28=0,0,($G$28/$V$28)*100000) -> 0 | X28: =' Populations'!M34 -> 0 | Y28: =IF(X28=0,0,($H$28/$X$28)*100000) -> 0 | Z28: =' Populations'!O34 -> 0 | AA28: =IF(Z28=0,0,($I$28/$Z$28)*100000) -> 0 | AB28: =' Populations'!Q34 -> 0 | AC28: =IF(AB28=0,0,($J$28/$AB$28)*100000) -> 0 | AD28: =' Populations'!S34 -> 0 | AE28: =IF(AD28=0,0,($K$28/$AD$28)*100000) -> 0 | AF28: =' Populations'!U34 -> 0 | AG28: =IF(AF28=0,0,($L$28/$AF$28)*100000) -> 0 | AJ28: 0.162613 | AL28: =' Populations'!B16 -> 35-44 | AM28: =O28*AJ28 -> 0 | AN28: =Q28*AJ28 -> 0 | AO28: =S28*AJ28 -> 0 | AP28: =U28*AJ28 -> 0 | AQ28: =W28*AJ28 -> 0 | AR28: =Y28*AJ28 -> 0 | AS28: =AA28*AJ28 -> 0 | AT28: =AC28*AJ28 -> 0 | AU28: =AE28*AJ28 -> 0 | AV28: =AG28*AJ28 -> 0
B29: =' Populations'!B89 -> 45-54 | N29: =' Populations'!C35 -> 0 | O29: =IF(N29=0,0,($C$29/$N$29)*100000) -> 0 | P29: =' Populations'!E35 -> 0 | Q29: =IF(P29=0,0,($D$29/$P$29)*100000) -> 0 | R29: =' Populations'!G35 -> 0 | S29: =IF(R29=0,0,($E$29/$R$29)*100000) -> 0 | T29: =' Populations'!I35 -> 0 | U29: =IF(T29=0,0,($F$29/$T$29)*100000) -> 0 | V29: =' Populations'!K35 -> 0 | W29: =IF(V29=0,0,($G$29/$V$29)*100000) -> 0 | X29: =' Populations'!M35 -> 0 | Y29: =IF(X29=0,0,($H$29/$X$29)*100000) -> 0 | Z29: =' Populations'!O35 -> 0 | AA29: =IF(Z29=0,0,($I$29/$Z$29)*100000) -> 0 | AB29: =' Populations'!Q35 -> 0 | AC29: =IF(AB29=0,0,($J$29/$AB$29)*100000) -> 0 | AD29: =' Populations'!S35 -> 0 | AE29: =IF(AD29=0,0,($K$29/$AD$29)*100000) -> 0 | AF29: =' Populations'!U35 -> 0 | AG29: =IF(AF29=0,0,($L$29/$AF$29)*100000) -> 0 | AJ29: 0.134834 | AL29: =' Populations'!B17 -> 45-54 | AM29: =O29*AJ29 -> 0 | AN29: =Q29*AJ29 -> 0 | AO29: =S29*AJ29 -> 0 | AP29: =U29*AJ29 -> 0 | AQ29: =W29*AJ29 -> 0 | AR29: =Y29*AJ29 -> 0 | AS29: =AA29*AJ29 -> 0 | AT29: =AC29*AJ29 -> 0 | AU29: =AE29*AJ29 -> 0 | AV29: =AG29*AJ29 -> 0
B30: =' Populations'!B90 -> 55-64 | N30: =' Populations'!C36 -> 0 | O30: =IF(N30=0,0,($C$30/$N$30)*100000) -> 0 | P30: =' Populations'!E36 -> 0 | Q30: =IF(P30=0,0,($D$30/$P$30)*100000) -> 0 | R30: =' Populations'!G36 -> 0 | S30: =IF(R30=0,0,($E$30/$R$30)*100000) -> 0 | T30: =' Populations'!I36 -> 0 | U30: =IF(T30=0,0,($F$30/$T$30)*100000) -> 0 | V30: =' Populations'!K36 -> 0 | W30: =IF(V30=0,0,($G$30/$V$30)*100000) -> 0 | X30: =' Populations'!M36 -> 0 | Y30: =IF(X30=0,0,($H$30/$X$30)*100000) -> 0 | Z30: =' Populations'!O36 -> 0 | AA30: =IF(Z30=0,0,($I$30/$Z$30)*100000) -> 0 | AB30: =' Populations'!Q36 -> 0 | AC30: =IF(AB30=0,0,($J$30/$AB$30)*100000) -> 0 | AD30: =' Populations'!S36 -> 0 | AE30: =IF(AD30=0,0,($K$30/$AD$30)*100000) -> 0 | AF30: =' Populations'!U36 -> 0 | AG30: =IF(AF30=0,0,($L$30/$AF$30)*100000) -> 0 | AJ30: 0.087247 | AL30: =' Populations'!B18 -> 55-64 | AM30: =O30*AJ30 -> 0 | AN30: =Q30*AJ30 -> 0 | AO30: =S30*AJ30 -> 0 | AP30: =U30*AJ30 -> 0 | AQ30: =W30*AJ30 -> 0 | AR30: =Y30*AJ30 -> 0 | AS30: =AA30*AJ30 -> 0 | AT30: =AC30*AJ30 -> 0 | AU30: =AE30*AJ30 -> 0 | AV30: =AG30*AJ30 -> 0
B31: =' Populations'!B91 -> 65-74 | N31: =' Populations'!C37 -> 0 | O31: =IF(N31=0,0,($C$31/$N$31)*100000) -> 0 | P31: =' Populations'!E37 -> 0 | Q31: =IF(P31=0,0,($D$31/$P$31)*100000) -> 0 | R31: =' Populations'!G37 -> 0 | S31: =IF(R31=0,0,($E$31/$R$31)*100000) -> 0 | T31: =' Populations'!I37 -> 0 | U31: =IF(T31=0,0,($F$31/$T$31)*100000) -> 0 | V31: =' Populations'!K37 -> 0 | W31: =IF(V31=0,0,($G$31/$V$31)*100000) -> 0 | X31: =' Populations'!M37 -> 0 | Y31: =IF(X31=0,0,($H$31/$X$31)*100000) -> 0 | Z31: =' Populations'!O37 -> 0 | AA31: =IF(Z31=0,0,($I$31/$Z$31)*100000) -> 0 | AB31: =' Populations'!Q37 -> 0 | AC31: =IF(AB31=0,0,($J$31/$AB$31)*100000) -> 0 | AD31: =' Populations'!S37 -> 0 | AE31: =IF(AD31=0,0,($K$31/$AD$31)*100000) -> 0 | AF31: =' Populations'!U37 -> 0 | AG31: =IF(AF31=0,0,($L$31/$AF$31)*100000) -> 0 | AJ31: 0.066037 | AL31: =' Populations'!B19 -> 65-74 | AM31: =O31*AJ31 -> 0 | AN31: =Q31*AJ31 -> 0 | AO31: =S31*AJ31 -> 0 | AP31: =U31*AJ31 -> 0 | AQ31: =W31*AJ31 -> 0 | AR31: =Y31*AJ31 -> 0 | AS31: =AA31*AJ31 -> 0 | AT31: =AC31*AJ31 -> 0 | AU31: =AE31*AJ31 -> 0 | AV31: =AG31*AJ31 -> 0
B32: =' Populations'!B92 -> 75-84 | N32: =' Populations'!C38 -> 0 | O32: =IF(N32=0,0,($C$32/$N$32)*100000) -> 0 | P32: =' Populations'!E38 -> 0 | Q32: =IF(P32=0,0,($D$32/$P$32)*100000) -> 0 | R32: =' Populations'!G38 -> 0 | S32: =IF(R32=0,0,($E$32/$R$32)*100000) -> 0 | T32: =' Populations'!I38 -> 0 | U32: =IF(T32=0,0,($F$32/$T$32)*100000) -> 0 | V32: =' Populations'!K38 -> 0 | W32: =IF(V32=0,0,($G$32/$V$32)*100000) -> 0 | X32: =' Populations'!M38 -> 0 | Y32: =IF(X32=0,0,($H$32/$X$32)*100000) -> 0 | Z32: =' Populations'!O38 -> 0 | AA32: =IF(Z32=0,0,($I$32/$Z$32)*100000) -> 0 | AB32: =' Populations'!Q38 -> 0 | AC32: =IF(AB32=0,0,($J$32/$AB$32)*100000) -> 0 | AD32: =' Populations'!S38 -> 0 | AE32: =IF(AD32=0,0,($K$32/$AD$32)*100000) -> 0 | AF32: =' Populations'!U38 -> 0 | AG32: =IF(AF32=0,0,($L$32/$AF$32)*100000) -> 0 | AJ32: 0.044841 | AL32: =' Populations'!B20 -> 75-84 | AM32: =O32*AJ32 -> 0 | AN32: =Q32*AJ32 -> 0 | AO32: =S32*AJ32 -> 0 | AP32: =U32*AJ32 -> 0 | AQ32: =W32*AJ32 -> 0 | AR32: =Y32*AJ32 -> 0 | AS32: =AA32*AJ32 -> 0 | AT32: =AC32*AJ32 -> 0 | AU32: =AE32*AJ32 -> 0 | AV32: =AG32*AJ32 -> 0
B33: =' Populations'!B93 -> 85+ | N33: =' Populations'!C39 -> 0 | O33: =IF(N33=0,0,($C$33/$N$33)*100000) -> 0 | P33: =' Populations'!E39 -> 0 | Q33: =IF(P33=0,0,($D$33/$P$33)*100000) -> 0 | R33: =' Populations'!G39 -> 0 | S33: =IF(R33=0,0,($E$33/$R$33)*100000) -> 0 | T33: =' Populations'!I39 -> 0 | U33: =IF(T33=0,0,($F$33/$T$33)*100000) -> 0 | V33: =' Populations'!K39 -> 0 | W33: =IF(V33=0,0,($G$33/$V$33)*100000) -> 0 | X33: =' Populations'!M39 -> 0 | Y33: =IF(X33=0,0,($H$33/$X$33)*100000) -> 0 | Z33: =' Populations'!O39 -> 0 | AA33: =IF(Z33=0,0,($I$33/$Z$33)*100000) -> 0 | AB33: =' Populations'!Q39 -> 0 | AC33: =IF(AB33=0,0,($J$33/$AB$33)*100000) -> 0 | AD33: =' Populations'!S39 -> 0 | AE33: =IF(AD33=0,0,($K$33/$AD$33)*100000) -> 0 | AF33: =' Populations'!U39 -> 0 | AG33: =IF(AF33=0,0,($L$33/$AF$33)*100000) -> 0 | AJ33: 0.015508 | AL33: =' Populations'!B21 -> 85+ | AM33: =O33*AJ33 -> 0 | AN33: =Q33*AJ33 -> 0 | AO33: =S33*AJ33 -> 0 | AP33: =U33*AJ33 -> 0 | AQ33: =W33*AJ33 -> 0 | AR33: =Y33*AJ33 -> 0 | AS33: =AA33*AJ33 -> 0 | AT33: =AC33*AJ33 -> 0 | AU33: =AE33*AJ33 -> 0 | AV33: =AG33*AJ33 -> 0
