Workbook

Sheet A_Instructions
A2: Step 1: Preparing Jurisdiction Data | D2: Step 2: Entering Data | Q2: Step 3: Creating Special Emphasis Report
A3: 1a. Create Suicide-specific Deaths Data Set - The Suicide-specific death indicators should be calculated based on first creating a Suicide-related injury death subset using the following indicators. First limit deaths to those with an injury underlying cause of death:
A4: *Note – skip to step 1b if you already have a death data subset
A5: Injury underlying cause of death | B5: V01-Y36
B6: Y85-Y87
B7: Y89
B8: U01-U03
A9: 1b. Then select deaths with any of the suicide ICD-10-CM codes:
A10: Suicide | B10: X60-X84
B11: Y87.0
B12: U03

Sheet  B_Populations
B1: Suicide -Specific State Injury Indicators Report
B2: State/Territory Population Data
B3: State/Territory: | E3: Reporting year: | I3: Most recent data year:
C4: Enter your state name in B4 | F4: Enter the reporting year in E4 | J4: Enter the data year in I4
I6: Demographic categories can be updated to reflect desired groups (race/ethnicity, veteran status, sexual orientation, etc.). Regional names can be updated as well. The number of categories for demographics and regions can also be adjusted - leave any extra columns blank.
B7: Update age categories if your jurisdiction has different groupings | C7: Enter total population data by age group below | E7: Enter male population data by age group below | G7: Enter female population data by age group below | I7: Enter demographic population data | K7: Enter demographic population data | M7: Enter demographic population data | O7: Enter demographic population data | Q7: Enter demographic population data | S7: Enter demographic population data | U7: Enter demographic population data | W7: Enter regional population data | Y7: Enter regional population data | AA7: Enter regional population data | AC7: Enter regional population data | AE7: Enter regional population data | AG7: Enter regional population data | AI7: Enter regional population data | AK7: Enter regional population data | AM7: Enter regional population data | AO7: Enter regional population data | AQ7: Enter regional population data | AS7: Enter regional population data | AU7: Enter regional population data | AW7: Enter regional population data | AY7: Enter regional population data | BA7: Enter regional population data | BC7: Enter regional population data | BE7: Enter regional population data | BG7: Enter regional population data | BI7: Enter regional population data
A8: Enter most recent data year (year 1) | B8: Age | C8: Total | E8: Male | G8: Female | I8: White-Not Hispanic | K8: Hispanic | M8: Black-Not Hispanic | O8: Asian | Q8: American Indian/Alaska Native | S8: Other | T8: Enter name of "Other" category in S8 | U8: Other | V8: Enter name of "Other" category in U8 | W8: Region 1 | Y8: Region 2 | AA8: Region 3 | AC8: Region 4 | AE8: Region 5 | AG8: Region 6 | AI8: Region 7 | AK8: Region 8 | AM8: Region 9 | AO8: Region 10 | AQ8: Region 11 | AS8: Region 12 | AU8: Region 13 | AW8: Region 14 | AY8: Region 15 | BA8: Region 16 | BC8: Region 17 | BE8: Region 18 | BG8: Region 19 | BI8: Region 20
B9: 10-14
B10: 15-19
B11: 20-24
B12: 25-34
B13: 35-44
B14: 45-54
B15: 55-64
B16: 65-74
B17: 75-84
B18: 85+
B19: Total for Year | C19: =SUM(C9:C18) -> 0 | E19: =SUM(E9:E18) -> 0 | G19: =SUM(G9:G18) -> 0 | I19: =SUM(I9:I18) -> 0 | K19: =SUM(K9:K18) -> 0 | M19: =SUM(M9:M18) -> 0 | O19: =SUM(O9:O18) -> 0 | Q19: =SUM(Q9:Q18) -> 0 | S19: =SUM(S9:S18) -> 0 | U19: =SUM(U9:U18) -> 0 | W19: =SUM(W9:W18) -> 0 | Y19: =SUM(Y9:Y18) -> 0 | AA19: =SUM(AA9:AA18) -> 0 | AC19: =SUM(AC9:AC18) -> 0 | AE19: =SUM(AE9:AE18) -> 0 | AG19: =SUM(AG9:AG18) -> 0 | AI19: =SUM(AI9:AI18) -> 0 | AK19: =SUM(AK9:AK18) -> 0 | AM19: =SUM(AM9:AM18) -> 0 | AO19: =SUM(AO9:AO18) -> 0 | AQ19: =SUM(AQ9:AQ18) -> 0 | AS19: =SUM(AS9:AS18) -> 0 | AU19: =SUM(AU9:AU18) -> 0 | AW19: =SUM(AW9:AW18) -> 0 | AY19: =SUM(AY9:AY18) -> 0 | BA19: =SUM(BA9:BA18) -> 0 | BC19: =SUM(BC9:BC18) -> 0 | BE19: =SUM(BE9:BE18) -> 0 | BG19: =SUM(BG9:BG18) -> 0 | BI19: =SUM(BI9:BI18) -> 0
C22: Enter total population data by age group below | E22: Enter male population data by age group below | G22: Enter female population data by age group below | I22: Optional: Enter demographic population data | K22: Optional: Enter demographic population data | M22: Optional: Enter demographic population data | O22: Optional: Enter demographic population data | Q22: Optional: Enter demographic population data | S22: Optional: Enter demographic population data | U22: Optional: Enter demographic population data
A23: Enter preceding year (year 2) | B23: Age | C23: Total | E23: Male | G23: Female | I23: White-Not Hispanic | K23: =K8 -> Hispanic | M23: =M8 -> Black-Not Hispanic | O23: =O8 -> Asian | Q23: =Q8 -> American Indian/Alaska Native | S23: =S8 -> Other | U23: =U8 -> Other
B24: 10-14
B25: 15-19
B26: 20-24
B27: 25-34
B28: 35-44
B29: 45-54
B30: 55-64
B31: 65-74
B32: 75-84
B33: 85+
B34: Total for Year | C34: =SUM(C24:C33) -> 0 | E34: =SUM(E24:E33) -> 0 | G34: =SUM(G24:G33) -> 0 | I34: =SUM(I24:I33) -> 0 | K34: =SUM(K24:K33) -> 0 | M34: =SUM(M24:M33) -> 0 | O34: =SUM(O24:O33) -> 0 | Q34: =SUM(Q24:Q33) -> 0 | S34: =SUM(S24:S33) -> 0 | U34: =SUM(U24:U33) -> 0
C37: Enter total population data by age group below | E37: Enter male population data by age group below | G37: Enter female population data by age group below | I37: Optional: Enter demographic population data | K37: Optional: Enter demographic population data | M37: Optional: Enter demographic population data | O37: Optional: Enter demographic population data | Q37: Optional: Enter demographic population data | S37: Optional: Enter demographic population data | U37: Optional: Enter demographic population data
A38: Enter preceding year (year 3) | B38: Age | C38: Total | E38: Male | G38: Female | I38: White-Not Hispanic | K38: =K8 -> Hispanic | M38: =M8 -> Black-Not Hispanic | O38: =O23 -> Asian | Q38: =Q23 -> American Indian/Alaska Native | S38: =S23 -> Other | U38: =U23 -> Other
B39: 10-14
B40: 15-19
B41: 20-24
B42: 25-34
B43: 35-44
B44: 45-54
B45: 55-64
...

Sheet 1. Poisoning
B1: Data Input Tables Instructions: Enter your suicide-related death data in the red cells below. The age-adjusted rates will automatically calculate in the results table. Enter data for as many years as desired (up to 20). If only aggregated demographic data is available, there is space to enter a five year aggreage at the bottom of the sheet. Totals, sex, and regional data must still be entered separately by year. | F1: Unhide columns G through L to enter demographic data | M1: Unhide columns N through AF to enter health region data | AH1: Optional: Unhide columns AI through CS to show rate calculations and 2000 population weights | CU1: Results Table Age Adjusted Rates per 100,1000. Results will calculate automatically. | CX1: Optional: Unhide columns CY through DY to show demographic and regional rates
A2: Most Recent Date Year | C2: =' B_Populations'!A10 -> 0 | D2: Sex Data | F2: Demographic Data | M2: Region Data | CV2: Age-adjusted Rates per 100,000 population
B3: Age | C3: Number of deaths- Total | D3: Number of deaths- Male | E3: Number of deaths- Female | F3: =' B_Populations'!$I$8 -> White-Not Hispanic | G3: =' B_Populations'!$K$8 -> Hispanic | H3: =' B_Populations'!$M$8 -> Black-Not Hispanic | I3: =' B_Populations'!$O$8 -> Asian | J3: =' B_Populations'!$Q$8 -> American Indian/Alaska Native | K3: =' B_Populations'!$S$8 -> Other | L3: =' B_Populations'!$U$8 -> Other | M3: =' B_Populations'!W8 -> Region 1 | N3: =' B_Populations'!Y8 -> Region 2 | O3: =' B_Populations'!AA8 -> Region 3 | P3: =' B_Populations'!AC8 -> Region 4 | Q3: =' B_Populations'!AE8 -> Region 5 | R3: =' B_Populations'!AG8 -> Region 6 | S3: =' B_Populations'!AI8 -> Region 7 | T3: =' B_Populations'!AK8 -> Region 8 | U3: =' B_Populations'!AM8 -> Region 9 | V3: =' B_Populations'!AO8 -> Region 10 | W3: =' B_Populations'!AQ8 -> Region 11 | X3: =' B_Populations'!AS8 -> Region 12 | Y3: =' B_Populations'!AU8 -> Region 13 | Z3: =' B_Populations'!AW8 -> Region 14 | AA3: =' B_Populations'!AY8 -> Region 15 | AB3: =' B_Populations'!BA8 -> Region 16 | AC3: =' B_Populations'!BC8 -> Region 17 | AD3: =' B_Populations'!BE8 -> Region 18 | AE3: =' B_Populations'!BG8 -> Region 19 | AF3: =' B_Populations'!BI8 -> Region 20 | AH3: State population - Total | AI3: Rate | AJ3: State population - Male | AK3: Rate | AL3: State population - Female | AM3: Rate | AN3: =' B_Populations'!$I$8 -> White-Not Hispanic | AO3: Rate | AP3: =' B_Populations'!$K$8 -> Hispanic | AQ3: Rate | AR3: =' B_Populations'!$M$8 -> Black-Not Hispanic | AS3: Rate | AT3: =' B_Populations'!$O$8 -> Asian | AU3: Rate | AV3: =' B_Populations'!$Q$8 -> American Indian/Alaska Native | AW3: Rate | AX3: =' B_Populations'!$S$8 -> Other | AY3: Rate | AZ3: =' B_Populations'!$U$8 -> Other | BA3: Rate | BC3: =M3 -> Region 1 | BD3: Rate | BE3: =N3 -> Region 2 | BF3: Rate | BG3: =O3 -> Region 3 | BH3: Rate | BI3: =P3 -> Region 4 | BJ3: Rate | BK3: =Q3 -> Region 5 | BL3: Rate | BM3: =R3 -> Region 6 | BN3: Rate | BO3: =S3 -> Region 7 | BP3: Rate | BQ3: =T3 -> Region 8 | BR3: Rate | BS3: =U3 -> Region 9 | BT3: Rate | BU3: =V3 -> Region 10 | BV3: Rate | BW3: =W3 -> Region 11 | BX3: Rate | BY3: =X3 -> Region 12 | BZ3: Rate | CA3: =Y3 -> Region 13 | CB3: Rate | CC3: =Z3 -> Region 14 | CD3: Rate | CE3: =AA3 -> Region 15 | CF3: Rate | CG3: =AB3 -> Region 16 | CH3: Rate | CI3: =AC3 -> Region 17 | CJ3: Rate | CK3: =AD3 -> Region 18 | CL3: Rate | CM3: =AE3 -> Region 19 | CN3: Rate | CO3: =AF3 -> Region 20 | CP3: Rate | CS3: 2000 Population Weight | CU3: Age | CV3: Total | CW3: Male | CX3: Female | CY3: =' B_Populations'!$I$8 -> White-Not Hispanic | CZ3: =' B_Populations'!$K$8 -> Hispanic | DA3: =' B_Populations'!$M$8 -> Black-Not Hispanic | DB3: =' B_Populations'!$O$8 -> Asian | DC3: =' B_Populations'!$Q$8 -> American Indian/Alaska Native | DD3: =' B_Populations'!$S$8 -> Other | DE3: =' B_Populations'!$U$8 -> Other | DF3: =M3 -> Region 1 | DG3: =N3 -> Region 2 | DH3: =O3 -> Region 3 | DI3: =P3 -> Region 4 | DJ3: =Q3 -> Region 5 | DK3: =R3 -> Region 6 | DL3: =S3 -> Region 7 | DM3: =T3 -> Region 8 | ... DY3: =AF3 -> Region 20
B4: =' B_Populations'!$B$9 -> 10-14 | AH4: =' B_Populations'!C9 -> 0 | AI4: =IF(AH4=0,0,($C$4/$AH$4)*100000) -> 0 | AJ4: =' B_Populations'!E9 -> 0 | AK4: =IF(AJ4=0,0,($D$4/$AJ$4)*100000) -> 0 | AL4: =' B_Populations'!G9 -> 0 | AM4: =IF(AL4=0,0,($E$4/$AL$4)*100000) -> 0 | AN4: =' B_Populations'!I9 -> 0 | AO4: =IF(AN4=0,0,($F$4/$AN$4)*100000) -> 0 | AP4: =' B_Populations'!K9 -> 0 | AQ4: =IF(AP4=0,0,($G$4/$AP$4)*100000) -> 0 | AR4: =' B_Populations'!M9 -> 0 | AS4: =IF(AR4=0,0,($H$4/$AR$4)*100000) -> 0 | AT4: =' B_Populations'!O9 -> 0 | AU4: =IF(AT4=0,0,($I$4/$AT$4)*100000) -> 0 | AV4: =' B_Populations'!Q9 -> 0 | AW4: =IF(AV4=0,0,($J$4/$AV$4)*100000) -> 0 | AX4: =' B_Populations'!S9 -> 0 | AY4: =IF(AX4=0,0,($K$4/$AX$4)*100000) -> 0 | AZ4: =' B_Populations'!U9 -> 0 | BA4: =IF(AZ4=0,0,($L$4/$AZ$4)*100000) -> 0 | BC4: =' B_Populations'!W9 -> 0 | BD4: =IF(BC4=0,0,($M$4/$BC$4)*100000) -> 0 | BE4: =' B_Populations'!Y9 -> 0 | BF4: =IF(BE4=0,0,($N$4/$BE$4)*100000) -> 0 | BG4: =' B_Populations'!AA9 -> 0 | BH4: =IF(BG4=0,0,($O$4/$BG$4)*100000) -> 0 | BI4: =' B_Populations'!AC9 -> 0 | BJ4: =IF(BI4=0,0,($P$4/$BI$4)*100000) -> 0 | BK4: =' B_Populations'!AE9 -> 0 | BL4: =IF(BK4=0,0,($Q$4/$BK$4)*100000) -> 0 | BM4: =' B_Populations'!AG9 -> 0 | BN4: =IF(BM4=0,0,($R$4/$BM$4)*100000) -> 0 | BO4: =' B_Populations'!AI9 -> 0 | BP4: =IF(BO4=0,0,($S$4/$BO$4)*100000) -> 0 | BQ4: =' B_Populations'!AK9 -> 0 | BR4: =IF(BQ4=0,0,($T$4/$BQ$4)*100000) -> 0 | BS4: =' B_Populations'!AM9 -> 0 | BT4: =IF(BS4=0,0,($U$4/$BS$4)*100000) -> 0 | BU4: =' B_Populations'!AO9 -> 0 | BV4: =IF(BU4=0,0,($V$4/$BU$4)*100000) -> 0 | BW4: =' B_Populations'!AQ9 -> 0 | BX4: =IF(BW4=0,0,($W$4/$BW$4)*100000) -> 0 | BY4: =' B_Populations'!AS9 -> 0 | BZ4: =IF(BY4=0,0,($X$4/$BY$4)*100000) -> 0 | CA4: =' B_Populations'!AU9 -> 0 | CB4: =IF(CA4=0,0,($Y$4/$CA$4)*100000) -> 0 | CC4: =' B_Populations'!AW9 -> 0 | CD4: =IF(CC4=0,0,($Z$4/$CC$4)*100000) -> 0 | CE4: =' B_Populations'!AY9 -> 0 | CF4: =IF(CE4=0,0,($AA$4/$CE$4)*100000) -> 0 | CG4: =' B_Populations'!BA9 -> 0 | CH4: =IF(CG4=0,0,($AB$4/$CG$4)*100000) -> 0 | CI4: =' B_Populations'!BC9 -> 0 | CJ4: =IF(CI4=0,0,($AC$4/$CI$4)*100000) -> 0 | CK4: =' B_Populations'!BE9 -> 0 | CL4: =IF(CK4=0,0,($AD$4/$CK$4)*100000) -> 0 | CM4: =' B_Populations'!BG9 -> 0 | CN4: =IF(CM4=0,0,($AE$4/$CM$4)*100000) -> 0 | CO4: =' B_Populations'!BI9 -> 0 | CP4: =IF(CO4=0,0,($AF$4/$CO$4)*100000) -> 0 | CS4: 0.073032 | CU4: =' B_Populations'!$B$9 -> 10-14 | CV4: =AI4*CS4 -> 0 | CW4: =AK4*CS4 -> 0 | CX4: =AM4*CS4 -> 0 | CY4: =AO4*CS4 -> 0 | CZ4: =AQ4*CS4 -> 0 | DA4: =AS4*CS4 -> 0 | DB4: =AU4*CS4 -> 0 | DC4: =AW4*CS4 -> 0 | DD4: =AY4*CS4 -> 0 | DE4: =BA4*CS4 -> 0 | DF4: =BD4*CS4 -> 0 | DG4: =BF4*CS4 -> 0 | DH4: =BH4*CS4 -> 0 | DI4: =BJ4*CS4 -> 0 | DJ4: =BL4*CS4 -> 0 | DK4: =BN4*CS4 -> 0 | DL4: =BP4*CS4 -> 0 | DM4: =BR4*CS4 -> 0 | DN4: =BT4*CS4 -> 0 | DO4: =BV4*CS4 -> 0 | DP4: =BX4*CS4 -> 0 | DQ4: =BZ4*CS4 -> 0 | DR4: =CB4*CS4 -> 0 | DS4: =CD4*CS4 -> 0 | DT4: =CF4*CS4 -> 0 | DU4: =CH4*CS4 -> 0 | DV4: =CJ4*CS4 -> 0 | DW4: =CL4*CS4 -> 0 | DX4: =CN4*CS4 -> 0 | DY4: =CP4*CS4 -> 0
B5: =' B_Populations'!$B$10 -> 15-19 | AH5: =' B_Populations'!C10 -> 0 | AI5: =IF(AH5=0,0,($C$5/$AH$5)*100000) -> 0 | AJ5: =' B_Populations'!E10 -> 0 | AK5: =IF(AJ5=0,0,($D$5/$AJ$5)*100000) -> 0 | AL5: =' B_Populations'!G10 -> 0 | AM5: =IF(AL5=0,0,($E$5/$AL$5)*100000) -> 0 | AN5: =' B_Populations'!I10 -> 0 | AO5: =IF(AN5=0,0,($F$5/$AN$5)*100000) -> 0 | AP5: =' B_Populations'!K10 -> 0 | AQ5: =IF(AP5=0,0,($G$5/$AP$5)*100000) -> 0 | AR5: =' B_Populations'!M10 -> 0 | AS5: =IF(AR5=0,0,($H$5/$AR$5)*100000) -> 0 | AT5: =' B_Populations'!O10 -> 0 | AU5: =IF(AT5=0,0,($I$5/$AT$5)*100000) -> 0 | AV5: =' B_Populations'!Q10 -> 0 | AW5: =IF(AV5=0,0,($J$5/$AV$5)*100000) -> 0 | AX5: =' B_Populations'!S10 -> 0 | AY5: =IF(AX5=0,0,($K$5/$AX$5)*100000) -> 0 | AZ5: =' B_Populations'!U10 -> 0 | BA5: =IF(AZ5=0,0,($L$5/$AZ$5)*100000) -> 0 | BC5: =' B_Populations'!W10 -> 0 | BD5: =IF(BC5=0,0,($M$5/$BC$5)*100000) -> 0 | BE5: =' B_Populations'!Y10 -> 0 | BF5: =IF(BE5=0,0,($N$5/$BE$5)*100000) -> 0 | BG5: =' B_Populations'!AA10 -> 0 | BH5: =IF(BG5=0,0,($O$5/$BG$5)*100000) -> 0 | BI5: =' B_Populations'!AC10 -> 0 | BJ5: =IF(BI5=0,0,($P$5/$BI$5)*100000) -> 0 | BK5: =' B_Populations'!AE10 -> 0 | BL5: =IF(BK5=0,0,($Q$5/$BK$5)*100000) -> 0 | BM5: =' B_Populations'!AG10 -> 0 | BN5: =IF(BM5=0,0,($R$5/$BM$5)*100000) -> 0 | BO5: =' B_Populations'!AI10 -> 0 | BP5: =IF(BO5=0,0,($S$5/$BO$5)*100000) -> 0 | BQ5: =' B_Populations'!AK10 -> 0 | BR5: =IF(BQ5=0,0,($T$5/$BQ$5)*100000) -> 0 | BS5: =' B_Populations'!AM10 -> 0 | BT5: =IF(BS5=0,0,($U$5/$BC$5)*100000) -> 0 | BU5: =' B_Populations'!AO10 -> 0 | BV5: =IF(BU5=0,0,($V$5/$BU$5)*100000) -> 0 | BW5: =' B_Populations'!AQ10 -> 0 | BX5: =IF(BW5=0,0,($W$5/$BW$5)*100000) -> 0 | BY5: =' B_Populations'!AS10 -> 0 | BZ5: =IF(BY5=0,0,($X$5/$BY$5)*100000) -> 0 | CA5: =' B_Populations'!AU10 -> 0 | CB5: =IF(CA5=0,0,($Y$5/$CA$5)*100000) -> 0 | CC5: =' B_Populations'!AW10 -> 0 | CD5: =IF(CC5=0,0,($Z$5/$CC$5)*100000) -> 0 | CE5: =' B_Populations'!AY10 -> 0 | CF5: =IF(CE5=0,0,($AA$5/$CE$5)*100000) -> 0 | CG5: =' B_Populations'!BA10 -> 0 | CH5: =IF(CG5=0,0,($AB$5/$CG$5)*100000) -> 0 | CI5: =' B_Populations'!BC10 -> 0 | CJ5: =IF(CI5=0,0,($AC$5/$CI$5)*100000) -> 0 | CK5: =' B_Populations'!BE10 -> 0 | CL5: =IF(CK5=0,0,($AD$5/$CK$5)*100000) -> 0 | CM5: =' B_Populations'!BG10 -> 0 | CN5: =IF(CM5=0,0,($AE$5/$CM$5)*100000) -> 0 | CO5: =' B_Populations'!BI10 -> 0 | CP5: =IF(CO5=0,0,($AF$5/$CO$5)*100000) -> 0 | CS5: 0.072169 | CU5: =' B_Populations'!$B$10 -> 15-19 | CV5: =AI5*CS5 -> 0 | CW5: =AK5*CS5 -> 0 | CX5: =AM5*CS5 -> 0 | CY5: =AO5*CS5 -> 0 | CZ5: =AQ5*CS5 -> 0 | DA5: =AS5*CS5 -> 0 | DB5: =AU5*CS5 -> 0 | DC5: =AW5*CS5 -> 0 | DD5: =AY5*CS5 -> 0 | DE5: =BA5*CS5 -> 0 | DF5: =BD5*CS5 -> 0 | DG5: =BF5*CS5 -> 0 | DH5: =BH5*CS5 -> 0 | DI5: =BJ5*CS5 -> 0 | DJ5: =BL5*CS5 -> 0 | DK5: =BN5*CS5 -> 0 | DL5: =BP5*CS5 -> 0 | DM5: =BR5*CS5 -> 0 | DN5: =BT5*CS5 -> 0 | DO5: =BV5*CS5 -> 0 | DP5: =BX5*CS5 -> 0 | DQ5: =BZ5*CS5 -> 0 | DR5: =CB5*CS5 -> 0 | DS5: =CD5*CS5 -> 0 | DT5: =CF5*CS5 -> 0 | DU5: =CH5*CS5 -> 0 | DV5: =CJ5*CS5 -> 0 | DW5: =CL5*CS5 -> 0 | DX5: =CN5*CS5 -> 0 | DY5: =CP5*CS5 -> 0
B6: =' B_Populations'!$B$11 -> 20-24 | AH6: =' B_Populations'!C11 -> 0 | AI6: =IF(AH6=0,0,($C$6/$AH$6)*100000) -> 0 | AJ6: =' B_Populations'!E11 -> 0 | AK6: =IF(AJ6=0,0,($D$6/$AJ$6)*100000) -> 0 | AL6: =' B_Populations'!G11 -> 0 | AM6: =IF(AL6=0,0,($E$6/$AL$6)*100000) -> 0 | AN6: =' B_Populations'!I11 -> 0 | AO6: =IF(AN6=0,0,($F$6/$AN$6)*100000) -> 0 | AP6: =' B_Populations'!K11 -> 0 | AQ6: =IF(AP6=0,0,($G$6/$AP$6)*100000) -> 0 | AR6: =' B_Populations'!M11 -> 0 | AS6: =IF(AR6=0,0,($H$6/$AR$6)*100000) -> 0 | AT6: =' B_Populations'!O11 -> 0 | AU6: =IF(AT6=0,0,($I$6/$AT$6)*100000) -> 0 | AV6: =' B_Populations'!Q11 -> 0 | AW6: =IF(AV6=0,0,($J$6/$AV$6)*100000) -> 0 | AX6: =' B_Populations'!S11 -> 0 | AY6: =IF(AX6=0,0,($K$6/$AX$6)*100000) -> 0 | AZ6: =' B_Populations'!U11 -> 0 | BA6: =IF(AZ6=0,0,($L$6/$AZ$6)*100000) -> 0 | BC6: =' B_Populations'!W11 -> 0 | BD6: =IF(BC6=0,0,($M$6/$BC$6)*100000) -> 0 | BE6: =' B_Populations'!Y11 -> 0 | BF6: =IF(BE6=0,0,($N$6/$BE$6)*100000) -> 0 | BG6: =' B_Populations'!AA11 -> 0 | BH6: =IF(BG6=0,0,($O$6/$BG$6)*100000) -> 0 | BI6: =' B_Populations'!AC11 -> 0 | BJ6: =IF(BI6=0,0,($P$6/$BI$6)*100000) -> 0 | BK6: =' B_Populations'!AE11 -> 0 | BL6: =IF(BK6=0,0,($Q$6/$BK$6)*100000) -> 0 | BM6: =' B_Populations'!AG11 -> 0 | BN6: =IF(BM6=0,0,($R$6/$BM$6)*100000) -> 0 | BO6: =' B_Populations'!AI11 -> 0 | BP6: =IF(BO6=0,0,($S$6/$BO$6)*100000) -> 0 | BQ6: =' B_Populations'!AK11 -> 0 | BR6: =IF(BQ6=0,0,($T$6/$BQ$6)*100000) -> 0 | BS6: =' B_Populations'!AM11 -> 0 | BT6: =IF(BS6=0,0,($U$6/$BS$6)*100000) -> 0 | BU6: =' B_Populations'!AO11 -> 0 | BV6: =IF(BU6=0,0,($V$6/$BU$6)*100000) -> 0 | BW6: =' B_Populations'!AQ11 -> 0 | BX6: =IF(BW6=0,0,($W$6/$BW$6)*100000) -> 0 | BY6: =' B_Populations'!AS11 -> 0 | BZ6: =IF(BY6=0,0,($X$6/$BY$6)*100000) -> 0 | CA6: =' B_Populations'!AU11 -> 0 | CB6: =IF(CA6=0,0,($Y$6/$CA$6)*100000) -> 0 | CC6: =' B_Populations'!AW11 -> 0 | CD6: =IF(CC6=0,0,($Z$6/$CC$6)*100000) -> 0 | CE6: =' B_Populations'!AY11 -> 0 | CF6: =IF(CE6=0,0,($AA$6/$CE$6)*100000) -> 0 | CG6: =' B_Populations'!BA11 -> 0 | CH6: =IF(CG6=0,0,($AB$6/$CG$6)*100000) -> 0 | CI6: =' B_Populations'!BC11 -> 0 | CJ6: =IF(CI6=0,0,($AC$6/$CI$6)*100000) -> 0 | CK6: =' B_Populations'!BE11 -> 0 | CL6: =IF(CK6=0,0,($AD$6/$CK$6)*100000) -> 0 | CM6: =' B_Populations'!BG11 -> 0 | CN6: =IF(CM6=0,0,($AE$6/$CM$6)*100000) -> 0 | CO6: =' B_Populations'!BI11 -> 0 | CP6: =IF(CO6=0,0,($AF$6/$CO$6)*100000) -> 0 | CS6: 0.066478 | CU6: =' B_Populations'!$B$11 -> 20-24 | CV6: =AI6*CS6 -> 0 | CW6: =AK6*CS6 -> 0 | CX6: =AM6*CS6 -> 0 | CY6: =AO6*CS6 -> 0 | CZ6: =AQ6*CS6 -> 0 | DA6: =AS6*CS6 -> 0 | DB6: =AU6*CS6 -> 0 | DC6: =AW6*CS6 -> 0 | DD6: =AY6*CS6 -> 0 | DE6: =BA6*CS6 -> 0 | DF6: =BD6*CS6 -> 0 | DG6: =BF6*CS6 -> 0 | DH6: =BH6*CS6 -> 0 | DI6: =BJ6*CS6 -> 0 | DJ6: =BL6*CS6 -> 0 | DK6: =BN6*CS6 -> 0 | DL6: =BP6*CS6 -> 0 | DM6: =BR6*CS6 -> 0 | DN6: =BT6*CS6 -> 0 | DO6: =BV6*CS6 -> 0 | DP6: =BX6*CS6 -> 0 | DQ6: =BZ6*CS6 -> 0 | DR6: =CB6*CS6 -> 0 | DS6: =CD6*CS6 -> 0 | DT6: =CF6*CS6 -> 0 | DU6: =CH6*CS6 -> 0 | DV6: =CJ6*CS6 -> 0 | DW6: =CL6*CS6 -> 0 | DX6: =CN6*CS6 -> 0 | DY6: =CP6*CS6 -> 0
B7: =' B_Populations'!$B$12 -> 25-34 | AH7: =' B_Populations'!C12 -> 0 | AI7: =IF(AH7=0,0,($C$7/$AH$7)*100000) -> 0 | AJ7: =' B_Populations'!E12 -> 0 | AK7: =IF(AJ7=0,0,($D$7/$AJ$7)*100000) -> 0 | AL7: =' B_Populations'!G12 -> 0 | AM7: =IF(AL7=0,0,($E$7/$AL$7)*100000) -> 0 | AN7: =' B_Populations'!I12 -> 0 | AO7: =IF(AN7=0,0,($F$7/$AN$7)*100000) -> 0 | AP7: =' B_Populations'!K12 -> 0 | AQ7: =IF(AP7=0,0,($G$7/$AP$7)*100000) -> 0 | AR7: =' B_Populations'!M12 -> 0 | AS7: =IF(AR7=0,0,($H$7/$AR$7)*100000) -> 0 | AT7: =' B_Populations'!O12 -> 0 | AU7: =IF(AT7=0,0,($I$7/$AT$7)*100000) -> 0 | AV7: =' B_Populations'!Q12 -> 0 | AW7: =IF(AV7=0,0,($J$7/$AV$7)*100000) -> 0 | AX7: =' B_Populations'!S12 -> 0 | AY7: =IF(AX7=0,0,($K$7/$AX$7)*100000) -> 0 | AZ7: =' B_Populations'!U12 -> 0 | BA7: =IF(AZ7=0,0,($L$7/$AZ$7)*100000) -> 0 | BC7: =' B_Populations'!W12 -> 0 | BD7: =IF(BC7=0,0,($M$7/$BC$7)*100000) -> 0 | BE7: =' B_Populations'!Y12 -> 0 | BF7: =IF(BE7=0,0,($N$7/$BE$7)*100000) -> 0 | BG7: =' B_Populations'!AA12 -> 0 | BH7: =IF(BG7=0,0,($O$7/$BG$7)*100000) -> 0 | BI7: =' B_Populations'!AC12 -> 0 | BJ7: =IF(BI7=0,0,($P$7/$BI$7)*100000) -> 0 | BK7: =' B_Populations'!AE12 -> 0 | BL7: =IF(BK7=0,0,($Q$7/$BK$7)*100000) -> 0 | BM7: =' B_Populations'!AG12 -> 0 | BN7: =IF(BM7=0,0,($R$7/$BM$7)*100000) -> 0 | BO7: =' B_Populations'!AI12 -> 0 | BP7: =IF(BO7=0,0,($S$7/$BO$7)*100000) -> 0 | BQ7: =' B_Populations'!AK12 -> 0 | BR7: =IF(BQ7=0,0,($T$7/$BQ$7)*100000) -> 0 | BS7: =' B_Populations'!AM12 -> 0 | BT7: =IF(BS7=0,0,($U$7/$BS$7)*100000) -> 0 | BU7: =' B_Populations'!AO12 -> 0 | BV7: =IF(BU7=0,0,($V$7/$BU$7)*100000) -> 0 | BW7: =' B_Populations'!AQ12 -> 0 | BX7: =IF(BW7=0,0,($W$7/$BW$7)*100000) -> 0 | BY7: =' B_Populations'!AS12 -> 0 | BZ7: =IF(BY7=0,0,($X$7/$BY$7)*100000) -> 0 | CA7: =' B_Populations'!AU12 -> 0 | CB7: =IF(CA7=0,0,($Y$7/$CA$7)*100000) -> 0 | CC7: =' B_Populations'!AW12 -> 0 | CD7: =IF(CC7=0,0,($Z$7/$CC$7)*100000) -> 0 | CE7: =' B_Populations'!AY12 -> 0 | CF7: =IF(CE7=0,0,($AA$7/$CE$7)*100000) -> 0 | CG7: =' B_Populations'!BA12 -> 0 | CH7: =IF(CG7=0,0,($AB$7/$CG$7)*100000) -> 0 | CI7: =' B_Populations'!BC12 -> 0 | CJ7: =IF(CI7=0,0,($AC$7/$CI$7)*100000) -> 0 | CK7: =' B_Populations'!BE12 -> 0 | CL7: =IF(CK7=0,0,($AD$7/$CK$7)*100000) -> 0 | CM7: =' B_Populations'!BG12 -> 0 | CN7: =IF(CM7=0,0,($AE$7/$CM$7)*100000) -> 0 | CO7: =' B_Populations'!BI12 -> 0 | CP7: =IF(CO7=0,0,($AF$7/$CO$7)*100000) -> 0 | CS7: 0.135573 | CU7: =' B_Populations'!$B$12 -> 25-34 | CV7: =AI7*CS7 -> 0 | CW7: =AK7*CS7 -> 0 | CX7: =AM7*CS7 -> 0 | CY7: =AO7*CS7 -> 0 | CZ7: =AQ7*CS7 -> 0 | DA7: =AS7*CS7 -> 0 | DB7: =AU7*CS7 -> 0 | DC7: =AW7*CS7 -> 0 | DD7: =AY7*CS7 -> 0 | DE7: =BA7*CS7 -> 0 | DF7: =BD7*CS7 -> 0 | DG7: =BF7*CS7 -> 0 | DH7: =BH7*CS7 -> 0 | DI7: =BJ7*CS7 -> 0 | DJ7: =BL7*CS7 -> 0 | DK7: =BN7*CS7 -> 0 | DL7: =BP7*CS7 -> 0 | DM7: =BR7*CS7 -> 0 | DN7: =BT7*CS7 -> 0 | DO7: =BV7*CS7 -> 0 | DP7: =BX7*CS7 -> 0 | DQ7: =BZ7*CS7 -> 0 | DR7: =CB7*CS7 -> 0 | DS7: =CD7*CS7 -> 0 | DT7: =CF7*CS7 -> 0 | DU7: =CH7*CS7 -> 0 | DV7: =CJ7*CS7 -> 0 | DW7: =CL7*CS7 -> 0 | DX7: =CN7*CS7 -> 0 | DY7: =CP7*CS7 -> 0
B8: =' B_Populations'!$B$13 -> 35-44 | AH8: =' B_Populations'!C13 -> 0 | AI8: =IF(AH8=0,0,($C$8/$AH$8)*100000) -> 0 | AJ8: =' B_Populations'!E13 -> 0 | AK8: =IF(AJ8=0,0,($D$8/$AJ$8)*100000) -> 0 | AL8: =' B_Populations'!G13 -> 0 | AM8: =IF(AL8=0,0,($E$8/$AL$8)*100000) -> 0 | AN8: =' B_Populations'!I13 -> 0 | AO8: =IF(AN8=0,0,($F$8/$AN$8)*100000) -> 0 | AP8: =' B_Populations'!K13 -> 0 | AQ8: =IF(AP8=0,0,($G$8/$AP$8)*100000) -> 0 | AR8: =' B_Populations'!M13 -> 0 | AS8: =IF(AR8=0,0,($H$8/$AR$8)*100000) -> 0 | AT8: =' B_Populations'!O13 -> 0 | AU8: =IF(AT8=0,0,($I$8/$AT$8)*100000) -> 0 | AV8: =' B_Populations'!Q13 -> 0 | AW8: =IF(AV8=0,0,($J$8/$AV$8)*100000) -> 0 | AX8: =' B_Populations'!S13 -> 0 | AY8: =IF(AX8=0,0,($K$8/$AX$8)*100000) -> 0 | AZ8: =' B_Populations'!U13 -> 0 | BA8: =IF(AZ8=0,0,($L$8/$AZ$8)*100000) -> 0 | BC8: =' B_Populations'!W13 -> 0 | BD8: =IF(BC8=0,0,($M$8/$BC$8)*100000) -> 0 | BE8: =' B_Populations'!Y13 -> 0 | BF8: =IF(BE8=0,0,($N$8/$BE$8)*100000) -> 0 | BG8: =' B_Populations'!AA13 -> 0 | BH8: =IF(BG8=0,0,($O$8/$BG$8)*100000) -> 0 | BI8: =' B_Populations'!AC13 -> 0 | BJ8: =IF(BI8=0,0,($P$8/$BI$8)*100000) -> 0 | BK8: =' B_Populations'!AE13 -> 0 | BL8: =IF(BK8=0,0,($Q$8/$BK$8)*100000) -> 0 | BM8: =' B_Populations'!AG13 -> 0 | BN8: =IF(BM8=0,0,($R$8/$BM$8)*100000) -> 0 | BO8: =' B_Populations'!AI13 -> 0 | BP8: =IF(BO8=0,0,($S$8/$BO$8)*100000) -> 0 | BQ8: =' B_Populations'!AK13 -> 0 | BR8: =IF(BQ8=0,0,($T$8/$BQ$8)*100000) -> 0 | BS8: =' B_Populations'!AM13 -> 0 | BT8: =IF(BS8=0,0,($U$8/$BS$8)*100000) -> 0 | BU8: =' B_Populations'!AO13 -> 0 | BV8: =IF(BU8=0,0,($V$8/$BU$8)*100000) -> 0 | BW8: =' B_Populations'!AQ13 -> 0 | BX8: =IF(BW8=0,0,($W$8/$BW$8)*100000) -> 0 | BY8: =' B_Populations'!AS13 -> 0 | BZ8: =IF(BY8=0,0,($X$8/$BY$8)*100000) -> 0 | CA8: =' B_Populations'!AU13 -> 0 | CB8: =IF(CA8=0,0,($Y$8/$CA$8)*100000) -> 0 | CC8: =' B_Populations'!AW13 -> 0 | CD8: =IF(CC8=0,0,($Z$8/$CC$8)*100000) -> 0 | CE8: =' B_Populations'!AY13 -> 0 | CF8: =IF(CE8=0,0,($AA$8/$CE$8)*100000) -> 0 | CG8: =' B_Populations'!BA13 -> 0 | CH8: =IF(CG8=0,0,($AB$8/$CG$8)*100000) -> 0 | CI8: =' B_Populations'!BC13 -> 0 | CJ8: =IF(CI8=0,0,($AC$8/$CI$8)*100000) -> 0 | CK8: =' B_Populations'!BE13 -> 0 | CL8: =IF(CK8=0,0,($AD$8/$CK$8)*100000) -> 0 | CM8: =' B_Populations'!BG13 -> 0 | CN8: =IF(CM8=0,0,($AE$8/$CM$8)*100000) -> 0 | CO8: =' B_Populations'!BI13 -> 0 | CP8: =IF(CO8=0,0,($AF$8/$CO$8)*100000) -> 0 | CS8: 0.162613 | CU8: =' B_Populations'!$B$13 -> 35-44 | CV8: =AI8*CS8 -> 0 | CW8: =AK8*CS8 -> 0 | CX8: =AM8*CS8 -> 0 | CY8: =AO8*CS8 -> 0 | CZ8: =AQ8*CS8 -> 0 | DA8: =AS8*CS8 -> 0 | DB8: =AU8*CS8 -> 0 | DC8: =AW8*CS8 -> 0 | DD8: =AY8*CS8 -> 0 | DE8: =BA8*CS8 -> 0 | DF8: =BD8*CS8 -> 0 | DG8: =BF8*CS8 -> 0 | DH8: =BH8*CS8 -> 0 | DI8: =BJ8*CS8 -> 0 | DJ8: =BL8*CS8 -> 0 | DK8: =BN8*CS8 -> 0 | DL8: =BP8*CS8 -> 0 | DM8: =BR8*CS8 -> 0 | DN8: =BT8*CS8 -> 0 | DO8: =BV8*CS8 -> 0 | DP8: =BX8*CS8 -> 0 | DQ8: =BZ8*CS8 -> 0 | DR8: =CB8*CS8 -> 0 | DS8: =CD8*CS8 -> 0 | DT8: =CF8*CS8 -> 0 | DU8: =CH8*CS8 -> 0 | DV8: =CJ8*CS8 -> 0 | DW8: =CL8*CS8 -> 0 | DX8: =CN8*CS8 -> 0 | DY8: =CP8*CS8 -> 0
B9: =' B_Populations'!$B$14 -> 45-54 | AH9: =' B_Populations'!C14 -> 0 | AI9: =IF(AH9=0,0,($C$9/$AH$9)*100000) -> 0 | AJ9: =' B_Populations'!E14 -> 0 | AK9: =IF(AJ9=0,0,($D$9/$AJ$9)*100000) -> 0 | AL9: =' B_Populations'!G14 -> 0 | AM9: =IF(AL9=0,0,($E$9/$AL$9)*100000) -> 0 | AN9: =' B_Populations'!I14 -> 0 | AO9: =IF(AN9=0,0,($F$9/$AN$9)*100000) -> 0 | AP9: =' B_Populations'!K14 -> 0 | AQ9: =IF(AP9=0,0,($G$9/$AP$9)*100000) -> 0 | AR9: =' B_Populations'!M14 -> 0 | AS9: =IF(AR9=0,0,($H$9/$AR$9)*100000) -> 0 | AT9: =' B_Populations'!O14 -> 0 | AU9: =IF(AT9=0,0,($I$9/$AT$9)*100000) -> 0 | AV9: =' B_Populations'!Q14 -> 0 | AW9: =IF(AV9=0,0,($J$9/$AV$9)*100000) -> 0 | AX9: =' B_Populations'!S14 -> 0 | AY9: =IF(AX9=0,0,($K$9/$AX$9)*100000) -> 0 | AZ9: =' B_Populations'!U14 -> 0 | BA9: =IF(AZ9=0,0,($L$9/$AZ$9)*100000) -> 0 | BC9: =' B_Populations'!W14 -> 0 | BD9: =IF(BC9=0,0,($M$9/$BC$9)*100000) -> 0 | BE9: =' B_Populations'!Y14 -> 0 | BF9: =IF(BE9=0,0,($N$9/$BE$9)*100000) -> 0 | BG9: =' B_Populations'!AA14 -> 0 | BH9: =IF(BG9=0,0,($O$9/$BG$9)*100000) -> 0 | BI9: =' B_Populations'!AC14 -> 0 | BJ9: =IF(BI9=0,0,($P$9/$BI$9)*100000) -> 0 | BK9: =' B_Populations'!AE14 -> 0 | BL9: =IF(BK9=0,0,($Q$9/$BK$9)*100000) -> 0 | BM9: =' B_Populations'!AG14 -> 0 | BN9: =IF(BM9=0,0,($R$9/$BM$9)*100000) -> 0 | BO9: =' B_Populations'!AI14 -> 0 | BP9: =IF(BO9=0,0,($S$9/$BO$9)*100000) -> 0 | BQ9: =' B_Populations'!AK14 -> 0 | BR9: =IF(BQ9=0,0,($T$9/$BQ$9)*100000) -> 0 | BS9: =' B_Populations'!AM14 -> 0 | BT9: =IF(BS9=0,0,($U$9/$BS$9)*100000) -> 0 | BU9: =' B_Populations'!AO14 -> 0 | BV9: =IF(BU9=0,0,($V$9/$BU$9)*100000) -> 0 | BW9: =' B_Populations'!AQ14 -> 0 | BX9: =IF(BW9=0,0,($W$9/$BW$9)*100000) -> 0 | BY9: =' B_Populations'!AS14 -> 0 | BZ9: =IF(BY9=0,0,($X$9/$BY$9)*100000) -> 0 | CA9: =' B_Populations'!AU14 -> 0 | CB9: =IF(CA9=0,0,($Y$9/$CA$9)*100000) -> 0 | CC9: =' B_Populations'!AW14 -> 0 | CD9: =IF(CC9=0,0,($Z$9/$CC$9)*100000) -> 0 | CE9: =' B_Populations'!AY14 -> 0 | CF9: =IF(CE9=0,0,($AA$9/$CE$9)*100000) -> 0 | CG9: =' B_Populations'!BA14 -> 0 | CH9: =IF(CG9=0,0,($AB$9/$CG$9)*100000) -> 0 | CI9: =' B_Populations'!BC14 -> 0 | CJ9: =IF(CI9=0,0,($AC$9/$CI$9)*100000) -> 0 | CK9: =' B_Populations'!BE14 -> 0 | CL9: =IF(CK9=0,0,($AD$9/$CK$9)*100000) -> 0 | CM9: =' B_Populations'!BG14 -> 0 | CN9: =IF(CM9=0,0,($AE$9/$CM$9)*100000) -> 0 | CO9: =' B_Populations'!BI14 -> 0 | CP9: =IF(CO9=0,0,($AF$9/$CO$9)*100000) -> 0 | CS9: 0.134834 | CU9: =' B_Populations'!$B$14 -> 45-54 | CV9: =AI9*CS9 -> 0 | CW9: =AK9*CS9 -> 0 | CX9: =AM9*CS9 -> 0 | CY9: =AO9*CS9 -> 0 | CZ9: =AQ9*CS9 -> 0 | DA9: =AS9*CS9 -> 0 | DB9: =AU9*CS9 -> 0 | DC9: =AW9*CS9 -> 0 | DD9: =AY9*CS9 -> 0 | DE9: =BA9*CS9 -> 0 | DF9: =BD9*CS9 -> 0 | DG9: =BF9*CS9 -> 0 | DH9: =BH9*CS9 -> 0 | DI9: =BJ9*CS9 -> 0 | DJ9: =BL9*CS9 -> 0 | DK9: =BN9*CS9 -> 0 | DL9: =BP9*CS9 -> 0 | DM9: =BR9*CS9 -> 0 | DN9: =BT9*CS9 -> 0 | DO9: =BV9*CS9 -> 0 | DP9: =BX9*CS9 -> 0 | DQ9: =BZ9*CS9 -> 0 | DR9: =CB9*CS9 -> 0 | DS9: =CD9*CS9 -> 0 | DT9: =CF9*CS9 -> 0 | DU9: =CH9*CS9 -> 0 | DV9: =CJ9*CS9 -> 0 | DW9: =CL9*CS9 -> 0 | DX9: =CN9*CS9 -> 0 | DY9: =CP9*CS9 -> 0
B10: =' B_Populations'!$B$15 -> 55-64 | AH10: =' B_Populations'!C15 -> 0 | AI10: =IF(AH10=0,0,($C$10/$AH$10)*100000) -> 0 | AJ10: =' B_Populations'!E15 -> 0 | AK10: =IF(AJ10=0,0,($D$10/$AJ$10)*100000) -> 0 | AL10: =' B_Populations'!G15 -> 0 | AM10: =IF(AL10=0,0,($E$10/$AL$10)*100000) -> 0 | AN10: =' B_Populations'!I15 -> 0 | AO10: =IF(AN10=0,0,($F$10/$AN$10)*100000) -> 0 | AP10: =' B_Populations'!K15 -> 0 | AQ10: =IF(AP10=0,0,($G$10/$AP$10)*100000) -> 0 | AR10: =' B_Populations'!M15 -> 0 | AS10: =IF(AR10=0,0,($H$10/$AR$10)*100000) -> 0 | AT10: =' B_Populations'!O15 -> 0 | AU10: =IF(AT10=0,0,($I$10/$AT$10)*100000) -> 0 | AV10: =' B_Populations'!Q15 -> 0 | AW10: =IF(AV10=0,0,($J$10/$AV$10)*100000) -> 0 | AX10: =' B_Populations'!S15 -> 0 | AY10: =IF(AX10=0,0,($K$10/$AX$10)*100000) -> 0 | AZ10: =' B_Populations'!U15 -> 0 | BA10: =IF(AZ10=0,0,($L$10/$AZ$10)*100000) -> 0 | BC10: =' B_Populations'!W15 -> 0 | BD10: =IF(BC10=0,0,($M$10/$BC$10)*100000) -> 0 | BE10: =' B_Populations'!Y15 -> 0 | BF10: =IF(BE10=0,0,($N$10/$BE$10)*100000) -> 0 | BG10: =' B_Populations'!AA15 -> 0 | BH10: =IF(BG10=0,0,($O$10/$BG$10)*100000) -> 0 | BI10: =' B_Populations'!AC15 -> 0 | BJ10: =IF(BI10=0,0,($P$10/$BI$10)*100000) -> 0 | BK10: =' B_Populations'!AE15 -> 0 | BL10: =IF(BK10=0,0,($Q$10/$BK$10)*100000) -> 0 | BM10: =' B_Populations'!AG15 -> 0 | BN10: =IF(BM10=0,0,($R$10/$BM$10)*100000) -> 0 | BO10: =' B_Populations'!AI15 -> 0 | BP10: =IF(BO10=0,0,($S$10/$BO$10)*100000) -> 0 | BQ10: =' B_Populations'!AK15 -> 0 | BR10: =IF(BQ10=0,0,($T$10/$BQ$10)*100000) -> 0 | BS10: =' B_Populations'!AM15 -> 0 | BT10: =IF(BS10=0,0,($U$10/$BS$10)*100000) -> 0 | BU10: =' B_Populations'!AO15 -> 0 | BV10: =IF(BU10=0,0,($V$10/$BU$10)*100000) -> 0 | BW10: =' B_Populations'!AQ15 -> 0 | BX10: =IF(BW10=0,0,($W$10/$BW$10)*100000) -> 0 | BY10: =' B_Populations'!AS15 -> 0 | BZ10: =IF(BY10=0,0,($X$10/$BY$10)*100000) -> 0 | CA10: =' B_Populations'!AU15 -> 0 | CB10: =IF(CA10=0,0,($Y$10/$CA$10)*100000) -> 0 | CC10: =' B_Populations'!AW15 -> 0 | CD10: =IF(CC10=0,0,($Z$10/$CC$10)*100000) -> 0 | CE10: =' B_Populations'!AY15 -> 0 | CF10: =IF(CE10=0,0,($AA$10/$CE$10)*100000) -> 0 | CG10: =' B_Populations'!BA15 -> 0 | CH10: =IF(CG10=0,0,($AB$10/$CG$10)*100000) -> 0 | CI10: =' B_Populations'!BC15 -> 0 | CJ10: =IF(CI10=0,0,($AC$10/$CI$10)*100000) -> 0 | CK10: =' B_Populations'!BE15 -> 0 | CL10: =IF(CK10=0,0,($AD$10/$CK$10)*100000) -> 0 | CM10: =' B_Populations'!BG15 -> 0 | CN10: =IF(CM10=0,0,($AE$10/$CM$10)*100000) -> 0 | CO10: =' B_Populations'!BI15 -> 0 | CP10: =IF(CO10=0,0,($AF$10/$CO$10)*100000) -> 0 | CS10: 0.087247 | CU10: =' B_Populations'!$B$15 -> 55-64 | CV10: =AI10*CS10 -> 0 | CW10: =AK10*CS10 -> 0 | CX10: =AM10*CS10 -> 0 | CY10: =AO10*CS10 -> 0 | CZ10: =AQ10*CS10 -> 0 | DA10: =AS10*CS10 -> 0 | DB10: =AU10*CS10 -> 0 | DC10: =AW10*CS10 -> 0 | DD10: =AY10*CS10 -> 0 | DE10: =BA10*CS10 -> 0 | DF10: =BD10*CS10 -> 0 | DG10: =BF10*CS10 -> 0 | DH10: =BH10*CS10 -> 0 | DI10: =BJ10*CS10 -> 0 | DJ10: =BL10*CS10 -> 0 | DK10: =BN10*CS10 -> 0 | DL10: =BP10*CS10 -> 0 | DM10: =BR10*CS10 -> 0 | DN10: =BT10*CS10 -> 0 | DO10: =BV10*CS10 -> 0 | DP10: =BX10*CS10 -> 0 | DQ10: =BZ10*CS10 -> 0 | DR10: =CB10*CS10 -> 0 | DS10: =CD10*CS10 -> 0 | DT10: =CF10*CS10 -> 0 | DU10: =CH10*CS10 -> 0 | DV10: =CJ10*CS10 -> 0 | DW10: =CL10*CS10 -> 0 | DX10: =CN10*CS10 -> 0 | DY10: =CP10*CS10 -> 0
B11: =' B_Populations'!$B$16 -> 65-74 | AH11: =' B_Populations'!C16 -> 0 | AI11: =IF(AH11=0,0,($C$11/$AH$11)*100000) -> 0 | AJ11: =' B_Populations'!E16 -> 0 | AK11: =IF(AJ11=0,0,($D$11/$AJ$11)*100000) -> 0 | AL11: =' B_Populations'!G16 -> 0 | AM11: =IF(AL11=0,0,($E$11/$AL$11)*100000) -> 0 | AN11: =' B_Populations'!I16 -> 0 | AO11: =IF(AN11=0,0,($F$11/$AN$11)*100000) -> 0 | AP11: =' B_Populations'!K16 -> 0 | AQ11: =IF(AP11=0,0,($G$11/$AP$11)*100000) -> 0 | AR11: =' B_Populations'!M16 -> 0 | AS11: =IF(AR11=0,0,($H$11/$AR$11)*100000) -> 0 | AT11: =' B_Populations'!O16 -> 0 | AU11: =IF(AT11=0,0,($I$11/$AT$11)*100000) -> 0 | AV11: =' B_Populations'!Q16 -> 0 | AW11: =IF(AV11=0,0,($J$11/$AV$11)*100000) -> 0 | AX11: =' B_Populations'!S16 -> 0 | AY11: =IF(AX11=0,0,($K$11/$AX$11)*100000) -> 0 | AZ11: =' B_Populations'!U16 -> 0 | BA11: =IF(AZ11=0,0,($L$11/$AZ$11)*100000) -> 0 | BC11: =' B_Populations'!W16 -> 0 | BD11: =IF(BC11=0,0,($M$11/$BC$11)*100000) -> 0 | BE11: =' B_Populations'!Y16 -> 0 | BF11: =IF(BE11=0,0,($N$11/$BE$11)*100000) -> 0 | BG11: =' B_Populations'!AA16 -> 0 | BH11: =IF(BG11=0,0,($O$11/$BG$11)*100000) -> 0 | BI11: =' B_Populations'!AC16 -> 0 | BJ11: =IF(BI11=0,0,($P$11/$BI$11)*100000) -> 0 | BK11: =' B_Populations'!AE16 -> 0 | BL11: =IF(BK11=0,0,($Q$11/$BK$11)*100000) -> 0 | BM11: =' B_Populations'!AG16 -> 0 | BN11: =IF(BM11=0,0,($R$11/$BM$11)*100000) -> 0 | BO11: =' B_Populations'!AI16 -> 0 | BP11: =IF(BO11=0,0,($S$11/$BO$11)*100000) -> 0 | BQ11: =' B_Populations'!AK16 -> 0 | BR11: =IF(BQ11=0,0,($T$11/$BQ$11)*100000) -> 0 | BS11: =' B_Populations'!AM16 -> 0 | BT11: =IF(BS11=0,0,($U$11/$BS$11)*100000) -> 0 | BU11: =' B_Populations'!AO16 -> 0 | BV11: =IF(BU11=0,0,($V$11/$BU$11)*100000) -> 0 | BW11: =' B_Populations'!AQ16 -> 0 | BX11: =IF(BW11=0,0,($W$11/$BW$11)*100000) -> 0 | BY11: =' B_Populations'!AS16 -> 0 | BZ11: =IF(BY11=0,0,($X$11/$BY$11)*100000) -> 0 | CA11: =' B_Populations'!AU16 -> 0 | CB11: =IF(CA11=0,0,($Y$11/$CA$11)*100000) -> 0 | CC11: =' B_Populations'!AW16 -> 0 | CD11: =IF(CC11=0,0,($Z$11/$CC$11)*100000) -> 0 | CE11: =' B_Populations'!AY16 -> 0 | CF11: =IF(CE11=0,0,($AA$11/$CE$11)*100000) -> 0 | CG11: =' B_Populations'!BA16 -> 0 | CH11: =IF(CG11=0,0,($AB$11/$CG$11)*100000) -> 0 | CI11: =' B_Populations'!BC16 -> 0 | CJ11: =IF(CI11=0,0,($AC$11/$CI$11)*100000) -> 0 | CK11: =' B_Populations'!BE16 -> 0 | CL11: =IF(CK11=0,0,($AD$11/$CK$11)*100000) -> 0 | CM11: =' B_Populations'!BG16 -> 0 | CN11: =IF(CM11=0,0,($AE$11/$CM$11)*100000) -> 0 | CO11: =' B_Populations'!BI16 -> 0 | CP11: =IF(CO11=0,0,($AF$11/$CO$11)*100000) -> 0 | CS11: 0.066037 | CU11: =' B_Populations'!$B$16 -> 65-74 | CV11: =AI11*CS11 -> 0 | CW11: =AK11*CS11 -> 0 | CX11: =AM11*CS11 -> 0 | CY11: =AO11*CS11 -> 0 | CZ11: =AQ11*CS11 -> 0 | DA11: =AS11*CS11 -> 0 | DB11: =AU11*CS11 -> 0 | DC11: =AW11*CS11 -> 0 | DD11: =AY11*CS11 -> 0 | DE11: =BA11*CS11 -> 0 | DF11: =BD11*CS11 -> 0 | DG11: =BF11*CS11 -> 0 | DH11: =BH11*CS11 -> 0 | DI11: =BJ11*CS11 -> 0 | DJ11: =BL11*CS11 -> 0 | DK11: =BN11*CS11 -> 0 | DL11: =BP11*CS11 -> 0 | DM11: =BR11*CS11 -> 0 | DN11: =BT11*CS11 -> 0 | DO11: =BV11*CS11 -> 0 | DP11: =BX11*CS11 -> 0 | DQ11: =BZ11*CS11 -> 0 | DR11: =CB11*CS11 -> 0 | DS11: =CD11*CS11 -> 0 | DT11: =CF11*CS11 -> 0 | DU11: =CH11*CS11 -> 0 | DV11: =CJ11*CS11 -> 0 | DW11: =CL11*CS11 -> 0 | DX11: =CN11*CS11 -> 0 | DY11: =CP11*CS11 -> 0
B12: =' B_Populations'!$B$17 -> 75-84 | AH12: =' B_Populations'!C17 -> 0 | AI12: =IF(AH12=0,0,($C$12/$AH$12)*100000) -> 0 | AJ12: =' B_Populations'!E17 -> 0 | AK12: =IF(AJ12=0,0,($D$12/$AJ$12)*100000) -> 0 | AL12: =' B_Populations'!G17 -> 0 | AM12: =IF(AL12=0,0,($E$12/$AL$12)*100000) -> 0 | AN12: =' B_Populations'!I17 -> 0 | AO12: =IF(AN12=0,0,($F$12/$AN$12)*100000) -> 0 | AP12: =' B_Populations'!K17 -> 0 | AQ12: =IF(AP12=0,0,($G$12/$AP$12)*100000) -> 0 | AR12: =' B_Populations'!M17 -> 0 | AS12: =IF(AR12=0,0,($H$12/$AR$12)*100000) -> 0 | AT12: =' B_Populations'!O17 -> 0 | AU12: =IF(AT12=0,0,($I$12/$AT$12)*100000) -> 0 | AV12: =' B_Populations'!Q17 -> 0 | AW12: =IF(AV12=0,0,($J$12/$AV$12)*100000) -> 0 | AX12: =' B_Populations'!S17 -> 0 | AY12: =IF(AX12=0,0,($K$12/$AX$12)*100000) -> 0 | AZ12: =' B_Populations'!U17 -> 0 | BA12: =IF(AZ12=0,0,($L$12/$AZ$12)*100000) -> 0 | BC12: =' B_Populations'!W17 -> 0 | BD12: =IF(BC12=0,0,($M$12/$BC$12)*100000) -> 0 | BE12: =' B_Populations'!Y17 -> 0 | BF12: =IF(BE12=0,0,($N$12/$BE$12)*100000) -> 0 | BG12: =' B_Populations'!AA17 -> 0 | BH12: =IF(BG12=0,0,($O$12/$BG$12)*100000) -> 0 | BI12: =' B_Populations'!AC17 -> 0 | BJ12: =IF(BI12=0,0,($P$12/$BI$12)*100000) -> 0 | BK12: =' B_Populations'!AE17 -> 0 | BL12: =IF(BK12=0,0,($Q$12/$BK$12)*100000) -> 0 | BM12: =' B_Populations'!AG17 -> 0 | BN12: =IF(BM12=0,0,($R$12/$BM$12)*100000) -> 0 | BO12: =' B_Populations'!AI17 -> 0 | BP12: =IF(BO12=0,0,($S$12/$BO$12)*100000) -> 0 | BQ12: =' B_Populations'!AK17 -> 0 | BR12: =IF(BQ12=0,0,($T$12/$BQ$12)*100000) -> 0 | BS12: =' B_Populations'!AM17 -> 0 | BT12: =IF(BS12=0,0,($U$12/$BS$12)*100000) -> 0 | BU12: =' B_Populations'!AO17 -> 0 | BV12: =IF(BU12=0,0,($V$12/$BU$12)*100000) -> 0 | BW12: =' B_Populations'!AQ17 -> 0 | BX12: =IF(BW12=0,0,($W$12/$BW$12)*100000) -> 0 | BY12: =' B_Populations'!AS17 -> 0 | BZ12: =IF(BY12=0,0,($X$12/$BY$12)*100000) -> 0 | CA12: =' B_Populations'!AU17 -> 0 | CB12: =IF(CA12=0,0,($Y$12/$CA$12)*100000) -> 0 | CC12: =' B_Populations'!AW17 -> 0 | CD12: =IF(CC12=0,0,($Z$12/$CC$12)*100000) -> 0 | CE12: =' B_Populations'!AY17 -> 0 | CF12: =IF(CE12=0,0,($AA$12/$CE$12)*100000) -> 0 | CG12: =' B_Populations'!BA17 -> 0 | CH12: =IF(CG12=0,0,($AB$12/$CG$12)*100000) -> 0 | CI12: =' B_Populations'!BC17 -> 0 | CJ12: =IF(CI12=0,0,($AC$12/$CI$12)*100000) -> 0 | CK12: =' B_Populations'!BE17 -> 0 | CL12: =IF(CK12=0,0,($AD$12/$CK$12)*100000) -> 0 | CM12: =' B_Populations'!BG17 -> 0 | CN12: =IF(CM12=0,0,($AE$12/$CM$12)*100000) -> 0 | CO12: =' B_Populations'!BI17 -> 0 | CP12: =IF(CO12=0,0,($AF$12/$CO$12)*100000) -> 0 | CS12: 0.044841 | CU12: =' B_Populations'!$B$17 -> 75-84 | CV12: =AI12*CS12 -> 0 | CW12: =AK12*CS12 -> 0 | CX12: =AM12*CS12 -> 0 | CY12: =AO12*CS12 -> 0 | CZ12: =AQ12*CS12 -> 0 | DA12: =AS12*CS12 -> 0 | DB12: =AU12*CS12 -> 0 | DC12: =AW12*CS12 -> 0 | DD12: =AY12*CS12 -> 0 | DE12: =BA12*CS12 -> 0 | DF12: =BD12*CS12 -> 0 | DG12: =BF12*CS12 -> 0 | DH12: =BH12*CS12 -> 0 | DI12: =BJ12*CS12 -> 0 | DJ12: =BL12*CS12 -> 0 | DK12: =BN12*CS12 -> 0 | DL12: =BP12*CS12 -> 0 | DM12: =BR12*CS12 -> 0 | DN12: =BT12*CS12 -> 0 | DO12: =BV12*CS12 -> 0 | DP12: =BX12*CS12 -> 0 | DQ12: =BZ12*CS12 -> 0 | DR12: =CB12*CS12 -> 0 | DS12: =CD12*CS12 -> 0 | DT12: =CF12*CS12 -> 0 | DU12: =CH12*CS12 -> 0 | DV12: =CJ12*CS12 -> 0 | DW12: =CL12*CS12 -> 0 | DX12: =CN12*CS12 -> 0 | DY12: =CP12*CS12 -> 0
B13: =' B_Populations'!$B$18 -> 85+ | AH13: =' B_Populations'!C18 -> 0 | AI13: =IF(AH13=0,0,($C$13/$AH$13)*100000) -> 0 | AJ13: =' B_Populations'!E18 -> 0 | AK13: =IF(AJ13=0,0,($D$13/$AJ$13)*100000) -> 0 | AL13: =' B_Populations'!G18 -> 0 | AM13: =IF(AL13=0,0,($E$13/$AL$13)*100000) -> 0 | AN13: =' B_Populations'!I18 -> 0 | AO13: =IF(AN13=0,0,($F$13/$AN$13)*100000) -> 0 | AP13: =' B_Populations'!K18 -> 0 | AQ13: =IF(AP13=0,0,($G$13/$AP$13)*100000) -> 0 | AR13: =' B_Populations'!M18 -> 0 | AS13: =IF(AR13=0,0,($H$13/$AR$13)*100000) -> 0 | AT13: =' B_Populations'!O18 -> 0 | AU13: =IF(AT13=0,0,($I$13/$AT$13)*100000) -> 0 | AV13: =' B_Populations'!Q18 -> 0 | AW13: =IF(AV13=0,0,($J$13/$AV$13)*100000) -> 0 | AX13: =' B_Populations'!S18 -> 0 | AY13: =IF(AX13=0,0,($K$13/$AX$13)*100000) -> 0 | AZ13: =' B_Populations'!U18 -> 0 | BA13: =IF(AZ13=0,0,($L$13/$AZ$13)*100000) -> 0 | BC13: =' B_Populations'!W18 -> 0 | BD13: =IF(BC13=0,0,($M$13/$BC$13)*100000) -> 0 | BE13: =' B_Populations'!Y18 -> 0 | BF13: =IF(BE13=0,0,($N$13/$BE$13)*100000) -> 0 | BG13: =' B_Populations'!AA18 -> 0 | BH13: =IF(BG13=0,0,($O$13/$BG$13)*100000) -> 0 | BI13: =' B_Populations'!AC18 -> 0 | BJ13: =IF(BI13=0,0,($P$13/$BI$13)*100000) -> 0 | BK13: =' B_Populations'!AE18 -> 0 | BL13: =IF(BK13=0,0,($Q$13/$BK$13)*100000) -> 0 | BM13: =' B_Populations'!AG18 -> 0 | BN13: =IF(BM13=0,0,($R$13/$BM$13)*100000) -> 0 | BO13: =' B_Populations'!AI18 -> 0 | BP13: =IF(BO13=0,0,($S$13/$BO$13)*100000) -> 0 | BQ13: =' B_Populations'!AK18 -> 0 | BR13: =IF(BQ13=0,0,($T$13/$BQ$13)*100000) -> 0 | BS13: =' B_Populations'!AM18 -> 0 | BT13: =IF(BS13=0,0,($U$13/$BS$13)*100000) -> 0 | BU13: =' B_Populations'!AO18 -> 0 | BV13: =IF(BU13=0,0,($V$13/$BU$13)*100000) -> 0 | BW13: =' B_Populations'!AQ18 -> 0 | BX13: =IF(BW13=0,0,($W$13/$BW$13)*100000) -> 0 | BY13: =' B_Populations'!AS18 -> 0 | BZ13: =IF(BY13=0,0,($X$13/$BY$13)*100000) -> 0 | CA13: =' B_Populations'!AU18 -> 0 | CB13: =IF(CA13=0,0,($Y$13/$CA$13)*100000) -> 0 | CC13: =' B_Populations'!AW18 -> 0 | CD13: =IF(CC13=0,0,($Z$13/$CC$13)*100000) -> 0 | CE13: =' B_Populations'!AY18 -> 0 | CF13: =IF(CE13=0,0,($AA$13/$CE$13)*100000) -> 0 | CG13: =' B_Populations'!BA18 -> 0 | CH13: =IF(CG13=0,0,($AB$13/$CG$13)*100000) -> 0 | CI13: =' B_Populations'!BC18 -> 0 | CJ13: =IF(CI13=0,0,($AC$13/$CI$13)*100000) -> 0 | CK13: =' B_Populations'!BE18 -> 0 | CL13: =IF(CK13=0,0,($AD$13/$CK$13)*100000) -> 0 | CM13: =' B_Populations'!BG18 -> 0 | CN13: =IF(CM13=0,0,($AE$13/$CM$13)*100000) -> 0 | CO13: =' B_Populations'!BI18 -> 0 | CP13: =IF(CO13=0,0,($AF$13/$CO$13)*100000) -> 0 | CS13: 0.015508 | CU13: =' B_Populations'!$B$18 -> 85+ | CV13: =AI13*CS13 -> 0 | CW13: =AK13*CS13 -> 0 | CX13: =AM13*CS13 -> 0 | CY13: =AO13*CS13 -> 0 | CZ13: =AQ13*CS13 -> 0 | DA13: =AS13*CS13 -> 0 | DB13: =AU13*CS13 -> 0 | DC13: =AW13*CS13 -> 0 | DD13: =AY13*CS13 -> 0 | DE13: =BA13*CS13 -> 0 | DF13: =BD13*CS13 -> 0 | DG13: =BF13*CS13 -> 0 | DH13: =BH13*CS13 -> 0 | DI13: =BJ13*CS13 -> 0 | DJ13: =BL13*CS13 -> 0 | DK13: =BN13*CS13 -> 0 | DL13: =BP13*CS13 -> 0 | DM13: =BR13*CS13 -> 0 | DN13: =BT13*CS13 -> 0 | DO13: =BV13*CS13 -> 0 | DP13: =BX13*CS13 -> 0 | DQ13: =BZ13*CS13 -> 0 | DR13: =CB13*CS13 -> 0 | DS13: =CD13*CS13 -> 0 | DT13: =CF13*CS13 -> 0 | DU13: =CH13*CS13 -> 0 | DV13: =CJ13*CS13 -> 0 | DW13: =CL13*CS13 -> 0 | DX13: =CN13*CS13 -> 0 | DY13: =CP13*CS13 -> 0
B14: total | C14: =SUM(C4:C13) -> 0 | D14: =SUM(D4:D13) -> 0 | E14: =SUM(E4:E13) -> 0 | F14: =SUM(F4:F13) -> 0 | G14: =SUM(G4:G13) -> 0 | H14: =SUM(H4:H13) -> 0 | I14: =SUM(I4:I13) -> 0 | J14: =SUM(J4:J13) -> 0 | ... AF14: =SUM(AF4:AF13) -> 0 | AH14: =SUM(AH4:AH13) -> 0 | AI14: =SUM(AI4:AI13) -> 0 | AJ14: =SUM(AJ4:AJ13) -> 0 | AK14: =SUM(AK4:AK13) -> 0 | AL14: =SUM(AL4:AL13) -> 0 | AM14: =SUM(AM4:AM13) -> 0 | AN14: =SUM(AN4:AN13) -> 0 | AO14: =SUM(AO4:AO13) -> 0 | ... BA14: =SUM(BA4:BA13) -> 0 | BC14: =' B_Populations'!W19 -> 0 | BD14: =SUM(BD4:BD13) -> 0 | BE14: =' B_Populations'!Y19 -> 0 | BF14: =SUM(BF4:BF13) -> 0 | BG14: =' B_Populations'!AA19 -> 0 | BH14: =SUM(BH4:BH13) -> 0 | BI14: =' B_Populations'!AC19 -> 0 | BJ14: =SUM(BJ4:BJ13) -> 0 | BK14: =' B_Populations'!AE19 -> 0 | BL14: =SUM(BL4:BL13) -> 0 | BM14: =' B_Populations'!AG19 -> 0 | BN14: =SUM(BN4:BN13) -> 0 | BO14: =' B_Populations'!AI19 -> 0 | BP14: =SUM(BP4:BP13) -> 0 | BQ14: =' B_Populations'!AK19 -> 0 | BR14: =SUM(BR4:BR13) -> 0 | BS14: =' B_Populations'!AM19 -> 0 | BT14: =SUM(BT4:BT13) -> 0 | BU14: =' B_Populations'!AO19 -> 0 | BV14: =SUM(BV4:BV13) -> 0 | BW14: =' B_Populations'!AQ19 -> 0 | BX14: =SUM(BX4:BX13) -> 0 | BY14: =' B_Populations'!AS19 -> 0 | BZ14: =SUM(BZ4:BZ13) -> 0 | CA14: =' B_Populations'!AU19 -> 0 | CB14: =SUM(CB4:CB13) -> 0 | CC14: =' B_Populations'!AW19 -> 0 | CD14: =SUM(CD4:CD13) -> 0 | CE14: =' B_Populations'!AY19 -> 0 | CF14: =SUM(CF4:CF13) -> 0 | CG14: =' B_Populations'!BA19 -> 0 | CH14: =SUM(CH4:CH13) -> 0 | CI14: =' B_Populations'!BC19 -> 0 | CJ14: =SUM(CJ4:CJ13) -> 0 | CK14: =' B_Populations'!BE19 -> 0 | CL14: =SUM(CL4:CL13) -> 0 | CM14: =' B_Populations'!BG19 -> 0 | CN14: =SUM(CN4:CN13) -> 0 | CO14: =' B_Populations'!BI19 -> 0 | CP14: =SUM(CP4:CP13) -> 0 | CU14: total | CV14: =SUM(CV4:CV13) -> 0 | CW14: =SUM(CW4:CW13) -> 0 | CX14: =SUM(CX4:CX13) -> 0 | CY14: =SUM(CY4:CY13) -> 0 | CZ14: =SUM(CZ4:CZ13) -> 0 | DA14: =SUM(DA4:DA13) -> 0 | DB14: =SUM(DB4:DB13) -> 0 | DC14: =SUM(DC4:DC13) -> 0 | ... DV14: =SUM(DV4:DV13) -> 0 | DW14: =+SUM(DW4:DW13) -> 0 | DX14: =SUM(DX4:DX13) -> 0 | DY14: =SUM(DV4:DV13) -> 0
A17: Previous Year: | C17: =' B_Populations'!A25 -> 0 | D17: Sex Data | F17: Demographic Data | CV17: Age-adjusted Rates per 100,000 population
B18: Age | C18: Number of deaths- Total | D18: Number of deaths- Male | E18: Number of deaths- Female | F18: =' B_Populations'!$I$8 -> White-Not Hispanic | G18: =' B_Populations'!$K$8 -> Hispanic | H18: =' B_Populations'!$M$8 -> Black-Not Hispanic | I18: =' B_Populations'!$O$8 -> Asian | J18: =' B_Populations'!$Q$8 -> American Indian/Alaska Native | K18: =' B_Populations'!$S$8 -> Other | L18: =' B_Populations'!$U$8 -> Other | AH18: State population - Total | AI18: Rate | AJ18: State population - Male | AK18: Rate | AL18: State population - Female | AM18: Rate | AN18: =' B_Populations'!$I$8 -> White-Not Hispanic | AO18: Rate | AP18: =' B_Populations'!$K$8 -> Hispanic | AQ18: Rate | AR18: =' B_Populations'!$M$8 -> Black-Not Hispanic | AS18: Rate | AT18: =' B_Populations'!$O$8 -> Asian | AU18: Rate | AV18: =' B_Populations'!$Q$8 -> American Indian/Alaska Native | AW18: Rate | AX18: =' B_Populations'!$S$8 -> Other | AY18: Rate | AZ18: =' B_Populations'!$U$8 -> Other | BA18: Rate | CS18: 2000 Population Weight | CU18: Age | CV18: Total | CW18: Male | CX18: Female | CY18: =' B_Populations'!$I$8 -> White-Not Hispanic | CZ18: =' B_Populations'!$K$8 -> Hispanic | DA18: =' B_Populations'!$M$8 -> Black-Not Hispanic | DB18: =' B_Populations'!$O$8 -> Asian | DC18: =' B_Populations'!$Q$8 -> American Indian/Alaska Native | DD18: =' B_Populations'!$S$8 -> Other | DE18: =' B_Populations'!$U$8 -> Other
B19: =' B_Populations'!$B$9 -> 10-14 | AH19: =' B_Populations'!C24 -> 0 | AI19: =IF(AH19=0,0,(C19/AH19)*100000) -> 0 | AJ19: =' B_Populations'!E24 -> 0 | AK19: =IF(AJ19=0,0,($D$19/$AJ$19)*100000) -> 0 | AL19: =' B_Populations'!G24 -> 0 | AM19: =IF(AL19=0,0,($E$19/$AL$19)*100000) -> 0 | AN19: =' B_Populations'!I24 -> 0 | AO19: =IF(AN19=0,0,($F$19/$AN$19)*100000) -> 0 | AP19: =' B_Populations'!K24 -> 0 | AQ19: =IF(AP19=0,0,($G$19/$AP$19)*100000) -> 0 | AR19: =' B_Populations'!M24 -> 0 | AS19: =IF(AR19=0,0,($H$19/$AR$19)*100000) -> 0 | AT19: =' B_Populations'!O24 -> 0 | AU19: =IF(AT19=0,0,($I$19/$AT$19)*100000) -> 0 | AV19: =' B_Populations'!Q24 -> 0 | AW19: =IF(AV19=0,0,($J$19/$AV$19)*100000) -> 0 | AX19: =' B_Populations'!S24 -> 0 | AY19: =IF(AX19=0,0,($K$19/$AX$19)*100000) -> 0 | AZ19: =' B_Populations'!U24 -> 0 | BA19: =IF(AZ19=0,0,($L$19/$AZ$19)*100000) -> 0 | CS19: 0.073032 | CU19: =' B_Populations'!$B$9 -> 10-14 | CV19: =AI19*CS19 -> 0 | CW19: =AK19*CS19 -> 0 | CX19: =AM19*CS19 -> 0 | CY19: =AO19*CS19 -> 0 | CZ19: =AQ19*CS19 -> 0 | DA19: =AS19*CS19 -> 0 | DB19: =AU19*CS19 -> 0 | DC19: =AW19*CS19 -> 0 | DD19: =AY19*CS19 -> 0 | DE19: =BA19*CS19 -> 0
B20: =' B_Populations'!$B$10 -> 15-19 | AH20: =' B_Populations'!C25 -> 0 | AI20: =IF(AH20=0,0,(C20/AH20)*100000) -> 0 | AJ20: =' B_Populations'!E25 -> 0 | AK20: =IF(AJ20=0,0,($D$20/$AJ$20)*100000) -> 0 | AL20: =' B_Populations'!G25 -> 0 | AM20: =IF(AL20=0,0,($E$20/$AL$20)*100000) -> 0 | AN20: =' B_Populations'!I25 -> 0 | AO20: =IF(AN20=0,0,($F$20/$AN$20)*100000) -> 0 | AP20: =' B_Populations'!K25 -> 0 | AQ20: =IF(AP20=0,0,($G$20/$AP$20)*100000) -> 0 | AR20: =' B_Populations'!M25 -> 0 | AS20: =IF(AR20=0,0,($H$20/$AR$20)*100000) -> 0 | AT20: =' B_Populations'!O25 -> 0 | AU20: =IF(AT20=0,0,($I$20/$AT$20)*100000) -> 0 | AV20: =' B_Populations'!Q25 -> 0 | AW20: =IF(AV20=0,0,($J$20/$AV$20)*100000) -> 0 | AX20: =' B_Populations'!S25 -> 0 | AY20: =IF(AX20=0,0,($K$20/$AX$20)*100000) -> 0 | AZ20: =' B_Populations'!U25 -> 0 | BA20: =IF(AZ20=0,0,($L$20/$AZ$20)*100000) -> 0 | CS20: 0.072169 | CU20: =' B_Populations'!$B$10 -> 15-19 | CV20: =AI20*CS20 -> 0 | CW20: =AK20*CS20 -> 0 | CX20: =AM20*CS20 -> 0 | CY20: =AO20*CS20 -> 0 | CZ20: =AQ20*CS20 -> 0 | DA20: =AS20*CS20 -> 0 | DB20: =AU20*CS20 -> 0 | DC20: =AW20*CS20 -> 0 | DD20: =AY20*CS20 -> 0 | DE20: =BA20*CS20 -> 0
B21: =' B_Populations'!$B$11 -> 20-24 | AH21: =' B_Populations'!C26 -> 0 | AI21: =IF(AH21=0,0,(C21/AH21)*100000) -> 0 | AJ21: =' B_Populations'!E26 -> 0 | AK21: =IF(AJ21=0,0,($D$21/$AJ$21)*100000) -> 0 | AL21: =' B_Populations'!G26 -> 0 | AM21: =IF(AL21=0,0,($E$21/$AL$21)*100000) -> 0 | AN21: =' B_Populations'!I26 -> 0 | AO21: =IF(AN21=0,0,($F$21/$AN$21)*100000) -> 0 | AP21: =' B_Populations'!K26 -> 0 | AQ21: =IF(AP21=0,0,($G$21/$AP$21)*100000) -> 0 | AR21: =' B_Populations'!M26 -> 0 | AS21: =IF(AR21=0,0,($H$216/$AR$21)*100000) -> 0 | AT21: =' B_Populations'!O26 -> 0 | AU21: =IF(AT21=0,0,($I$21/$AT$21)*100000) -> 0 | AV21: =' B_Populations'!Q26 -> 0 | AW21: =IF(AV21=0,0,($J$21/$AV$21)*100000) -> 0 | AX21: =' B_Populations'!S26 -> 0 | AY21: =IF(AX21=0,0,($K$21/$AX$21)*100000) -> 0 | AZ21: =' B_Populations'!U26 -> 0 | BA21: =IF(AZ21=0,0,($L$21/$AZ$21)*100000) -> 0 | CS21: 0.066478 | CU21: =' B_Populations'!$B$11 -> 20-24 | CV21: =AI21*CS21 -> 0 | CW21: =AK21*CS21 -> 0 | CX21: =AM21*CS21 -> 0 | CY21: =AO21*CS21 -> 0 | CZ21: =AQ21*CS21 -> 0 | DA21: =AS21*CS21 -> 0 | DB21: =AU21*CS21 -> 0 | DC21: =AW21*CS21 -> 0 | DD21: =AY21*CS21 -> 0 | DE21: =BA21*CS21 -> 0
B22: =' B_Populations'!$B$12 -> 25-34 | AH22: =' B_Populations'!C27 -> 0 | AI22: =IF(AH22=0,0,(C22/AH22)*100000) -> 0 | AJ22: =' B_Populations'!E27 -> 0 | AK22: =IF(AJ22=0,0,($D$22/$AJ$22)*100000) -> 0 | AL22: =' B_Populations'!G27 -> 0 | AM22: =IF(AL22=0,0,($E$22/$AL$22)*100000) -> 0 | AN22: =' B_Populations'!I27 -> 0 | AO22: =IF(AN22=0,0,($F$22/$AN$22)*100000) -> 0 | AP22: =' B_Populations'!K27 -> 0 | AQ22: =IF(AP22=0,0,($G$22/$AP$22)*100000) -> 0 | AR22: =' B_Populations'!M27 -> 0 | AS22: =IF(AR22=0,0,($H$22/$AR$22)*100000) -> 0 | AT22: =' B_Populations'!O27 -> 0 | AU22: =IF(AT22=0,0,($I$22/$AT$22)*100000) -> 0 | AV22: =' B_Populations'!Q27 -> 0 | AW22: =IF(AV22=0,0,($J$22/$AV$22)*100000) -> 0 | AX22: =' B_Populations'!S27 -> 0 | AY22: =IF(AX22=0,0,($K$22/$AX$22)*100000) -> 0 | AZ22: =' B_Populations'!U27 -> 0 | BA22: =IF(AZ22=0,0,($L$22/$AZ$22)*100000) -> 0 | CS22: 0.135573 | CU22: =' B_Populations'!$B$12 -> 25-34 | CV22: =AI22*CS22 -> 0 | CW22: =AK22*CS22 -> 0 | CX22: =AM22*CS22 -> 0 | CY22: =AO22*CS22 -> 0 | CZ22: =AQ22*CS22 -> 0 | DA22: =AS22*CS22 -> 0 | DB22: =AU22*CS22 -> 0 | DC22: =AW22*CS22 -> 0 | DD22: =AY22*CS22 -> 0 | DE22: =BA22*CS22 -> 0
B23: =' B_Populations'!$B$13 -> 35-44 | AH23: =' B_Populations'!C28 -> 0 | AI23: =IF(AH23=0,0,(C23/AH23)*100000) -> 0 | AJ23: =' B_Populations'!E28 -> 0 | AK23: =IF(AJ23=0,0,($D$23/$AJ$23)*100000) -> 0 | AL23: =' B_Populations'!G28 -> 0 | AM23: =IF(AL23=0,0,($E$23/$AL$23)*100000) -> 0 | AN23: =' B_Populations'!I28 -> 0 | AO23: =IF(AN23=0,0,($F$23/$AN$23)*100000) -> 0 | AP23: =' B_Populations'!K28 -> 0 | AQ23: =IF(AP23=0,0,($G$23/$AP$23)*100000) -> 0 | AR23: =' B_Populations'!M28 -> 0 | AS23: =IF(AR23=0,0,($H$23/$AR$23)*100000) -> 0 | AT23: =' B_Populations'!O28 -> 0 | AU23: =IF(AT23=0,0,($I$23/$AT$23)*100000) -> 0 | AV23: =' B_Populations'!Q28 -> 0 | AW23: =IF(AV23=0,0,($J$23/$AV$23)*100000) -> 0 | AX23: =' B_Populations'!S28 -> 0 | AY23: =IF(AX23=0,0,($K$23/$AX$23)*100000) -> 0 | AZ23: =' B_Populations'!U28 -> 0 | BA23: =IF(AZ23=0,0,($L$23/$AZ$23)*100000) -> 0 | CS23: 0.162613 | CU23: =' B_Populations'!$B$13 -> 35-44 | CV23: =AI23*CS23 -> 0 | CW23: =AK23*CS23 -> 0 | CX23: =AM23*CS23 -> 0 | CY23: =AO23*CS23 -> 0 | CZ23: =AQ23*CS23 -> 0 | DA23: =AS23*CS23 -> 0 | DB23: =AU23*CS23 -> 0 | DC23: =AW23*CS23 -> 0 | DD23: =AY23*CS23 -> 0 | DE23: =BA23*CS23 -> 0
B24: =' B_Populations'!$B$14 -> 45-54 | AH24: =' B_Populations'!C29 -> 0 | AI24: =IF(AH24=0,0,(C24/AH24)*100000) -> 0 | AJ24: =' B_Populations'!E29 -> 0 | AK24: =IF(AJ24=0,0,($D$24/$AJ$24)*100000) -> 0 | AL24: =' B_Populations'!G29 -> 0 | AM24: =IF(AL24=0,0,($E$24/$AL$24)*100000) -> 0 | AN24: =' B_Populations'!I29 -> 0 | AO24: =IF(AN24=0,0,($F$24/$AN$24)*100000) -> 0 | AP24: =' B_Populations'!K29 -> 0 | AQ24: =IF(AP24=0,0,($G$24/$AP$24)*100000) -> 0 | AR24: =' B_Populations'!M29 -> 0 | AS24: =IF(AR24=0,0,($H$24/$AR$24)*100000) -> 0 | AT24: =' B_Populations'!O29 -> 0 | AU24: =IF(AT24=0,0,($I$24/$AT$24)*100000) -> 0 | AV24: =' B_Populations'!Q29 -> 0 | AW24: =IF(AV24=0,0,($J$24/$AV$24)*100000) -> 0 | AX24: =' B_Populations'!S29 -> 0 | AY24: =IF(AX24=0,0,($K$24/$AX$24)*100000) -> 0 | AZ24: =' B_Populations'!U29 -> 0 | BA24: =IF(AZ24=0,0,($L$24/$AZ$24)*100000) -> 0 | CS24: 0.134834 | CU24: =' B_Populations'!$B$14 -> 45-54 | CV24: =AI24*CS24 -> 0 | CW24: =AK24*CS24 -> 0 | CX24: =AM24*CS24 -> 0 | CY24: =AO24*CS24 -> 0 | CZ24: =AQ24*CS24 -> 0 | DA24: =AS24*CS24 -> 0 | DB24: =AU24*CS24 -> 0 | DC24: =AW24*CS24 -> 0 | DD24: =AY24*CS24 -> 0 | DE24: =BA24*CS24 -> 0
B25: =' B_Populations'!$B$15 -> 55-64 | AH25: =' B_Populations'!C30 -> 0 | AI25: =IF(AH25=0,0,(C25/AH25)*100000) -> 0 | AJ25: =' B_Populations'!E30 -> 0 | AK25: =IF(AJ25=0,0,($D$25/$AJ$25)*100000) -> 0 | AL25: =' B_Populations'!G30 -> 0 | AM25: =IF(AL25=0,0,($E$25/$AL$25)*100000) -> 0 | AN25: =' B_Populations'!I30 -> 0 | AO25: =IF(AN25=0,0,($F$25/$AN$25)*100000) -> 0 | AP25: =' B_Populations'!K30 -> 0 | AQ25: =IF(AP25=0,0,($G$25/$AP$25)*100000) -> 0 | AR25: =' B_Populations'!M30 -> 0 | AS25: =IF(AR25=0,0,($H$25/$AR$25)*100000) -> 0 | AT25: =' B_Populations'!O30 -> 0 | AU25: =IF(AT25=0,0,($I$25/$AT$25)*100000) -> 0 | AV25: =' B_Populations'!Q30 -> 0 | AW25: =IF(AV25=0,0,($J$25/$AV$25)*100000) -> 0 | AX25: =' B_Populations'!S30 -> 0 | AY25: =IF(AX25=0,0,($K$25/$AX$25)*100000) -> 0 | AZ25: =' B_Populations'!U30 -> 0 | BA25: =IF(AZ25=0,0,($L$25/$AZ$25)*100000) -> 0 | CS25: 0.087247 | CU25: =' B_Populations'!$B$15 -> 55-64 | CV25: =AI25*CS25 -> 0 | CW25: =AK25*CS25 -> 0 | CX25: =AM25*CS25 -> 0 | CY25: =AO25*CS25 -> 0 | CZ25: =AQ25*CS25 -> 0 | DA25: =AS25*CS25 -> 0 | DB25: =AU25*CS25 -> 0 | DC25: =AW25*CS25 -> 0 | DD25: =AY25*CS25 -> 0 | DE25: =BA25*CS25 -> 0
B26: =' B_Populations'!$B$16 -> 65-74 | AH26: =' B_Populations'!C31 -> 0 | AI26: =IF(AH26=0,0,(C26/AH26)*100000) -> 0 | AJ26: =' B_Populations'!E31 -> 0 | AK26: =IF(AJ26=0,0,($D$26/$AJ$26)*100000) -> 0 | AL26: =' B_Populations'!G31 -> 0 | AM26: =IF(AL26=0,0,($E$26/$AL$26)*100000) -> 0 | AN26: =' B_Populations'!I31 -> 0 | AO26: =IF(AN26=0,0,($F$26/$AN$26)*100000) -> 0 | AP26: =' B_Populations'!K31 -> 0 | AQ26: =IF(AP26=0,0,($G$26/$AP$26)*100000) -> 0 | AR26: =' B_Populations'!M31 -> 0 | AS26: =IF(AR26=0,0,($H$26/$AR$26)*100000) -> 0 | AT26: =' B_Populations'!O31 -> 0 | AU26: =IF(AT26=0,0,($I$26/$AT$26)*100000) -> 0 | AV26: =' B_Populations'!Q31 -> 0 | AW26: =IF(AV26=0,0,($J$26/$AV$26)*100000) -> 0 | AX26: =' B_Populations'!S31 -> 0 | AY26: =IF(AX26=0,0,($K$26/$AX$26)*100000) -> 0 | AZ26: =' B_Populations'!U31 -> 0 | BA26: =IF(AZ26=0,0,($L$26/$AZ$26)*100000) -> 0 | CS26: 0.066037 | CU26: =' B_Populations'!$B$16 -> 65-74 | CV26: =AI26*CS26 -> 0 | CW26: =AK26*CS26 -> 0 | CX26: =AM26*CS26 -> 0 | CY26: =AO26*CS26 -> 0 | CZ26: =AQ26*CS26 -> 0 | DA26: =AS26*CS26 -> 0 | DB26: =AU26*CS26 -> 0 | DC26: =AW26*CS26 -> 0 | DD26: =AY26*CS26 -> 0 | DE26: =BA26*CS26 -> 0
B27: =' B_Populations'!$B$17 -> 75-84 | AH27: =' B_Populations'!C32 -> 0 | AI27: =IF(AH27=0,0,(C27/AH27)*100000) -> 0 | AJ27: =' B_Populations'!E32 -> 0 | AK27: =IF(AJ27=0,0,($D$27/$AJ$27)*100000) -> 0 | AL27: =' B_Populations'!G32 -> 0 | AM27: =IF(AL27=0,0,($E$27/$AL$27)*100000) -> 0 | AN27: =' B_Populations'!I32 -> 0 | AO27: =IF(AN27=0,0,($F$27/$AN$27)*100000) -> 0 | AP27: =' B_Populations'!K32 -> 0 | AQ27: =IF(AP27=0,0,($G$27/$AP$27)*100000) -> 0 | AR27: =' B_Populations'!M32 -> 0 | AS27: =IF(AR27=0,0,($H$27/$AR$27)*100000) -> 0 | AT27: =' B_Populations'!O32 -> 0 | AU27: =IF(AT27=0,0,($I$27/$AT$27)*100000) -> 0 | AV27: =' B_Populations'!Q32 -> 0 | AW27: =IF(AV27=0,0,($J$27/$AV$27)*100000) -> 0 | AX27: =' B_Populations'!S32 -> 0 | AY27: =IF(AX27=0,0,($K$27/$AX$27)*100000) -> 0 | AZ27: =' B_Populations'!U32 -> 0 | BA27: =IF(AZ27=0,0,($L$27/$AZ$27)*100000) -> 0 | CS27: 0.044841 | CU27: =' B_Populations'!$B$17 -> 75-84 | CV27: =AI27*CS27 -> 0 | CW27: =AK27*CS27 -> 0 | CX27: =AM27*CS27 -> 0 | CY27: =AO27*CS27 -> 0 | CZ27: =AQ27*CS27 -> 0 | DA27: =AS27*CS27 -> 0 | DB27: =AU27*CS27 -> 0 | DC27: =AW27*CS27 -> 0 | DD27: =AY27*CS27 -> 0 | DE27: =BA27*CS27 -> 0
B28: =' B_Populations'!$B$18 -> 85+ | AH28: =' B_Populations'!C33 -> 0 | AI28: =IF(AH28=0,0,(C28/AH28)*100000) -> 0 | AJ28: =' B_Populations'!E33 -> 0 | AK28: =IF(AJ28=0,0,($D$28/$AJ$28)*100000) -> 0 | AL28: =' B_Populations'!G33 -> 0 | AM28: =IF(AL28=0,0,($E$28/$AL$28)*100000) -> 0 | AN28: =' B_Populations'!I33 -> 0 | AO28: =IF(AN28=0,0,($F$28/$AN$28)*100000) -> 0 | AP28: =' B_Populations'!K33 -> 0 | AQ28: =IF(AP28=0,0,($G$28/$AP$28)*100000) -> 0 | AR28: =' B_Populations'!M33 -> 0 | AS28: =IF(AR28=0,0,($H$28/$AR$28)*100000) -> 0 | AT28: =' B_Populations'!O33 -> 0 | AU28: =IF(AT28=0,0,($I$28/$AT$28)*100000) -> 0 | AV28: =' B_Populations'!Q33 -> 0 | AW28: =IF(AV28=0,0,($J$28/$AV$28)*100000) -> 0 | AX28: =' B_Populations'!S33 -> 0 | AY28: =IF(AX28=0,0,($K$28/$AX$28)*100000) -> 0 | AZ28: =' B_Populations'!U33 -> 0 | BA28: =IF(AZ28=0,0,($L$28/$AZ$28)*100000) -> 0 | CS28: 0.015508 | CU28: =' B_Populations'!$B$18 -> 85+ | CV28: =AI28*CS28 -> 0 | CW28: =AK28*CS28 -> 0 | CX28: =AM28*CS28 -> 0 | CY28: =AO28*CS28 -> 0 | CZ28: =AQ28*CS28 -> 0 | DA28: =AS28*CS28 -> 0 | DB28: =AU28*CS28 -> 0 | DC28: =AW28*CS28 -> 0 | DD28: =AY28*CS28 -> 0 | DE28: =BA28*CS28 -> 0
B29: total | C29: =SUM(C19:C28) -> 0 | D29: =SUM(D19:D28) -> 0 | E29: =SUM(E19:E28) -> 0 | F29: =SUM(F19:F28) -> 0 | G29: =SUM(G19:G28) -> 0 | H29: =SUM(H19:H28) -> 0 | I29: =SUM(I19:I28) -> 0 | J29: =SUM(J19:J28) -> 0 | ... L29: =SUM(L19:L28) -> 0 | AH29: =SUM(AH19:AH28) -> 0 | AI29: =SUM(AI19:AI28) -> 0 | AJ29: =SUM(AJ19:AJ28) -> 0 | AK29: =SUM(AK19:AK28) -> 0 | AL29: =SUM(AL19:AL28) -> 0 | AM29: =SUM(AM19:AM28) -> 0 | AN29: =SUM(AN19:AN28) -> 0 | AO29: =SUM(AO19:AO28) -> 0 | ... BA29: =SUM(BA19:BA28) -> 0 | CU29: total | CV29: =SUM(CV19:CV28) -> 0 | CW29: =SUM(CW19:CW28) -> 0 | CX29: =SUM(CX19:CX28) -> 0 | CY29: =SUM(CY19:CY28) -> 0 | CZ29: =SUM(CZ19:CZ28) -> 0 | DA29: =SUM(DA19:DA28) -> 0 | DB29: =SUM(DB19:DB28) -> 0 | DC29: =SUM(DC19:DC28) -> 0 | ... DE29: =SUM(DE19:DE28) -> 0
A32: Previous Year: | C32: =' B_Populations'!A40 -> 0 | D32: Sex Data | F32: Demographic Data | CV32: Age-adjusted Rates per 100,000 population
