Workbook

Sheet A_Instructions
A2: Step 1: Preparing Jurisdiction Data | D2: Step 2: Entering Data | Q2: Step 3: Creating Special Emphasis Report
A3: 1a. Create Suicide-specific Deaths Data Set - The Suicide-specific death indicators should be calculated based on first creating a Suicide-related injury death subset using the following indicators. First limit deaths to those with an injury underlying cause of death:
A4: *Note – skip to step 1b if you already have a death data subset
A5: Injury underlying cause of death | B5: V01-Y36
B6: Y85-Y87
B7: Y89
B8: U01-U03
A9: 1b. Then select deaths with any of the suicide ICD-10-CM codes:
A10: Suicide | B10: X60-X84
B11: Y87.0
B12: U03

Sheet  B_Populations
B1: Suicide -Specific State Injury Indicators Report
B2: State/Territory Population Data
B3: State/Territory: | E3: Reporting year: | I3: Most recent data year:
C4: Enter your state name in B4 | F4: Enter the reporting year in E4 | J4: Enter the data year in I4
I6: Demographic categories can be updated to reflect desired groups (race/ethnicity, veteran status, sexual orientation, etc.). Regional names can be updated as well. The number of categories for demographics and regions can also be adjusted - leave any extra columns blank.
B7: Update age categories if your jurisdiction has different groupings | C7: Enter total population data by age group below | E7: Enter male population data by age group below | G7: Enter female population data by age group below | I7: Enter demographic population data | K7: Enter demographic population data | M7: Enter demographic population data | O7: Enter demographic population data | Q7: Enter demographic population data | S7: Enter demographic population data | U7: Enter demographic population data | W7: Enter regional population data | Y7: Enter regional population data | AA7: Enter regional population data | AC7: Enter regional population data | AE7: Enter regional population data | AG7: Enter regional population data | AI7: Enter regional population data | AK7: Enter regional population data | AM7: Enter regional population data | AO7: Enter regional population data | AQ7: Enter regional population data | AS7: Enter regional population data | AU7: Enter regional population data | AW7: Enter regional population data | AY7: Enter regional population data | BA7: Enter regional population data | BC7: Enter regional population data | BE7: Enter regional population data | BG7: Enter regional population data | BI7: Enter regional population data
A8: Enter most recent data year (year 1) | B8: Age | C8: Total | E8: Male | G8: Female | I8: White-Not Hispanic | K8: Hispanic | M8: Black-Not Hispanic | O8: Asian | Q8: American Indian/Alaska Native | S8: Other | T8: Enter name of "Other" category in S8 | U8: Other | V8: Enter name of "Other" category in U8 | W8: Region 1 | Y8: Region 2 | AA8: Region 3 | AC8: Region 4 | AE8: Region 5 | AG8: Region 6 | AI8: Region 7 | AK8: Region 8 | AM8: Region 9 | AO8: Region 10 | AQ8: Region 11 | AS8: Region 12 | AU8: Region 13 | AW8: Region 14 | AY8: Region 15 | BA8: Region 16 | BC8: Region 17 | BE8: Region 18 | BG8: Region 19 | BI8: Region 20
B9: 10-14
B10: 15-19
B11: 20-24
B12: 25-34
B13: 35-44
B14: 45-54
B15: 55-64
B16: 65-74
B17: 75-84
B18: 85+
B19: Total for Year | C19: =SUM(C9:C18) -> 0 | E19: =SUM(E9:E18) -> 0 | G19: =SUM(G9:G18) -> 0 | I19: =SUM(I9:I18) -> 0 | K19: =SUM(K9:K18) -> 0 | M19: =SUM(M9:M18) -> 0 | O19: =SUM(O9:O18) -> 0 | Q19: =SUM(Q9:Q18) -> 0 | S19: =SUM(S9:S18) -> 0 | U19: =SUM(U9:U18) -> 0 | W19: =SUM(W9:W18) -> 0 | Y19: =SUM(Y9:Y18) -> 0 | AA19: =SUM(AA9:AA18) -> 0 | AC19: =SUM(AC9:AC18) -> 0 | AE19: =SUM(AE9:AE18) -> 0 | AG19: =SUM(AG9:AG18) -> 0 | AI19: =SUM(AI9:AI18) -> 0 | AK19: =SUM(AK9:AK18) -> 0 | AM19: =SUM(AM9:AM18) -> 0 | AO19: =SUM(AO9:AO18) -> 0 | AQ19: =SUM(AQ9:AQ18) -> 0 | AS19: =SUM(AS9:AS18) -> 0 | AU19: =SUM(AU9:AU18) -> 0 | AW19: =SUM(AW9:AW18) -> 0 | AY19: =SUM(AY9:AY18) -> 0 | BA19: =SUM(BA9:BA18) -> 0 | BC19: =SUM(BC9:BC18) -> 0 | BE19: =SUM(BE9:BE18) -> 0 | BG19: =SUM(BG9:BG18) -> 0 | BI19: =SUM(BI9:BI18) -> 0
C22: Enter total population data by age group below | E22: Enter male population data by age group below | G22: Enter female population data by age group below | I22: Optional: Enter demographic population data | K22: Optional: Enter demographic population data | M22: Optional: Enter demographic population data | O22: Optional: Enter demographic population data | Q22: Optional: Enter demographic population data | S22: Optional: Enter demographic population data | U22: Optional: Enter demographic population data
A23: Enter preceding year (year 2) | B23: Age | C23: Total | E23: Male | G23: Female | I23: White-Not Hispanic | K23: =K8 -> Hispanic | M23: =M8 -> Black-Not Hispanic | O23: =O8 -> Asian | Q23: =Q8 -> American Indian/Alaska Native | S23: =S8 -> Other | U23: =U8 -> Other
B24: 10-14
B25: 15-19
B26: 20-24
B27: 25-34
B28: 35-44
B29: 45-54
B30: 55-64
B31: 65-74
B32: 75-84
B33: 85+
B34: Total for Year | C34: =SUM(C24:C33) -> 0 | E34: =SUM(E24:E33) -> 0 | G34: =SUM(G24:G33) -> 0 | I34: =SUM(I24:I33) -> 0 | K34: =SUM(K24:K33) -> 0 | M34: =SUM(M24:M33) -> 0 | O34: =SUM(O24:O33) -> 0 | Q34: =SUM(Q24:Q33) -> 0 | S34: =SUM(S24:S33) -> 0 | U34: =SUM(U24:U33) -> 0
C37: Enter total population data by age group below | E37: Enter male population data by age group below | G37: Enter female population data by age group below | I37: Optional: Enter demographic population data | K37: Optional: Enter demographic population data | M37: Optional: Enter demographic population data | O37: Optional: Enter demographic population data | Q37: Optional: Enter demographic population data | S37: Optional: Enter demographic population data | U37: Optional: Enter demographic population data
A38: Enter preceding year (year 3) | B38: Age | C38: Total | E38: Male | G38: Female | I38: White-Not Hispanic | K38: =K8 -> Hispanic | M38: =M8 -> Black-Not Hispanic | O38: =O23 -> Asian | Q38: =Q23 -> American Indian/Alaska Native | S38: =S23 -> Other | U38: =U23 -> Other
B39: 10-14
B40: 15-19
B41: 20-24
B42: 25-34
B43: 35-44
B44: 45-54
B45: 55-64
B46: 65-74
B47: 75-84
B48: 85+
B49: Total for Year | C49: =SUM(C39:C48) -> 0 | E49: =SUM(E39:E48) -> 0 | G49: =SUM(G39:G48) -> 0 | I49: =SUM(I39:I48) -> 0 | K49: =SUM(K39:K48) -> 0 | M49: =SUM(M39:M48) -> 0 | O49: =SUM(O39:O48) -> 0 | Q49: =SUM(Q39:Q48) -> 0 | S49: =SUM(S39:S48) -> 0 | U49: =SUM(U39:U48) -> 0
C52: Enter total population data by age group below | E52: Enter male population data by age group below | G52: Enter female population data by age group below | I52: Optional: Enter demographic population data | K52: Optional: Enter demographic population data | M52: Optional: Enter demographic population data | O52: Optional: Enter demographic population data | Q52: Optional: Enter demographic population data | S52: Optional: Enter demographic population data | U52: Optional: Enter demographic population data
A53: Enter preceding year (year 4) | B53: Age | C53: Total | E53: Male | G53: Female | I53: White-Not Hispanic | K53: =K8 -> Hispanic | M53: =M8 -> Black-Not Hispanic | O53: =O38 -> Asian | Q53: =Q38 -> American Indian/Alaska Native | S53: =S38 -> Other | U53: =U38 -> Other
B54: 10-14
B55: 15-19
B56: 20-24
B57: 25-34
B58: 35-44
B59: 45-54
B60: 55-64
B61: 65-74
B62: 75-84
B63: 85+
B64: Total for Year | C64: =SUM(C54:C63) -> 0 | E64: =SUM(E54:E63) -> 0 | G64: =SUM(G54:G63) -> 0 | I64: =SUM(I54:I63) -> 0 | K64: =SUM(K54:K63) -> 0 | M64: =SUM(M54:M63) -> 0 | O64: =SUM(O54:O63) -> 0 | Q64: =SUM(Q54:Q63) -> 0 | S64: =SUM(S54:S63) -> 0 | U64: =SUM(U54:U63) -> 0
C67: Enter total population data by age group below | E67: Enter male population data by age group below | G67: Enter female population data by age group below | I67: Optional: Enter demographic population data | K67: Optional: Enter demographic population data | M67: Optional: Enter demographic population data | O67: Optional: Enter demographic population data | Q67: Optional: Enter demographic population data | S67: Optional: Enter demographic population data | U67: Optional: Enter demographic population data
A68: Enter preceding year (year 5) | B68: Age | C68: Total | E68: Male | G68: Female | I68: White-Not Hispanic | K68: =K8 -> Hispanic | M68: =M8 -> Black-Not Hispanic | O68: =O53 -> Asian | Q68: =Q53 -> American Indian/Alaska Native | S68: =S53 -> Other | U68: =U53 -> Other
B69: 10-14
B70: 15-19
B71: 20-24
B72: 25-34
B73: 35-44
B74: 45-54
B75: 55-64
B76: 65-74
B77: 75-84
B78: 85+
B79: Total for Year | C79: =SUM(C69:C78) -> 0 | E79: =SUM(E69:E78) -> 0 | G79: =SUM(G69:G78) -> 0 | I79: =SUM(I69:I78) -> 0 | K79: =SUM(K69:K78) -> 0 | M79: =SUM(M69:M78) -> 0 | O79: =SUM(O69:O78) -> 0 | Q79: =SUM(Q69:Q78) -> 0 | S79: =SUM(S69:S78) -> 0 | U79: =SUM(U69:U78) -> 0
A82: Optional: Enter beyond 5 years of data (up to 20 years) | C82: Enter total population data by age group below | E82: Enter male population data by age group below | G82: Enter female population data by age group below | I82: Optional: Enter demographic population data | K82: Optional: Enter demographic population data | M82: Optional: Enter demographic population data | O82: Optional: Enter demographic population data | Q82: Optional: Enter demographic population data | S82: Optional: Enter demographic population data | U82: Optional: Enter demographic population data
A83: Enter preceding year (year 6) | B83: Age | C83: Total | E83: Male | G83: Female | I83: White-Not Hispanic | K83: =K8 -> Hispanic | M83: =M8 -> Black-Not Hispanic | O83: =O68 -> Asian | Q83: =Q68 -> American Indian/Alaska Native | S83: =S68 -> Other | U83: =U68 -> Other
B84: 10-14
B85: 15-19
B86: 20-24
B87: 25-34
B88: 35-44
B89: 45-54
B90: 55-64
B91: 65-74
B92: 75-84
B93: 85+
B94: Total for Year | C94: =SUM(C84:C93) -> 0 | E94: =SUM(E84:E93) -> 0 | G94: =SUM(G84:G93) -> 0 | I94: =SUM(I84:I93) -> 0 | K94: =SUM(K84:K93) -> 0 | M94: =SUM(M84:M93) -> 0 | O94: =SUM(O84:O93) -> 0 | Q94: =SUM(Q84:Q93) -> 0 | S94: =SUM(S84:S93) -> 0 | U94: =SUM(U84:U93) -> 0
C97: Enter total population data by age group below | E97: Enter male population data by age group below | G97: Enter female population data by age group below | I97: Optional: Enter demographic population data | K97: Optional: Enter demographic population data | M97: Optional: Enter demographic population data | O97: Optional: Enter demographic population data | Q97: Optional: Enter demographic population data | S97: Optional: Enter demographic population data | U97: Optional: Enter demographic population data
A98: Enter preceding year (year 7) | B98: Age | C98: Total | E98: Male | G98: Female | I98: White-Not Hispanic | K98: =K8 -> Hispanic | M98: =M8 -> Black-Not Hispanic | O98: =O83 -> Asian | Q98: =Q83 -> American Indian/Alaska Native | S98: =S83 -> Other | U98: =U83 -> Other
B99: 10-14
B100: 15-19
B101: 20-24
B102: 25-34
B103: 35-44
B104: 45-54
B105: 55-64
B106: 65-74
B107: 75-84
B108: 85+
B109: Total for Year | C109: =SUM(C99:C108) -> 0 | E109: =SUM(E99:E108) -> 0 | G109: =SUM(G99:G108) -> 0 | I109: =SUM(I99:I108) -> 0 | K109: =SUM(K99:K108) -> 0 | M109: =SUM(M99:M108) -> 0 | O109: =SUM(O99:O108) -> 0 | Q109: =SUM(Q99:Q108) -> 0 | S109: =SUM(S99:S108) -> 0 | U109: =SUM(U99:U108) -> 0
C112: Enter total population data by age group below | E112: Enter male population data by age group below | G112: Enter female population data by age group below | I112: Optional: Enter demographic population data | K112: Optional: Enter demographic population data | M112: Optional: Enter demographic population data | O112: Optional: Enter demographic population data | Q112: Optional: Enter demographic population data | S112: Optional: Enter demographic population data | U112: Optional: Enter demographic population data
A113: Enter preceding year (year 8) | B113: Age | C113: Total | E113: Male | G113: Female | I113: White-Not Hispanic | K113: =K8 -> Hispanic | M113: =M8 -> Black-Not Hispanic | O113: =O98 -> Asian | Q113: =Q98 -> American Indian/Alaska Native | S113: =S98 -> Other | U113: =U98 -> Other
B114: 10-14
B115: 15-19
...

Sheet 1. Poisoning
B1: Data Input Tables Instructions: Enter your suicide-related death data in the red cells below. The age-adjusted rates will automatically calculate in the results table. Enter data for as many years as desired (up to 20). If only aggregated demographic data is available, there is space to enter a five year aggreage at the bottom of the sheet. Totals, sex, and regional data must still be entered separately by year. | F1: Unhide columns G through L to enter demographic data | M1: Unhide columns N through AF to enter health region data | AH1: Optional: Unhide columns AI through CS to show rate calculations and 2000 population weights | CU1: Results Table Age Adjusted Rates per 100,1000. Results will calculate automatically. | CX1: Optional: Unhide columns CY through DY to show demographic and regional rates
A2: Most Recent Date Year | C2: =' B_Populations'!A10 -> 0 | D2: Sex Data | F2: Demographic Data | M2: Region Data | CV2: Age-adjusted Rates per 100,000 population
B3: Age | C3: Number of deaths- Total | D3: Number of deaths- Male | E3: Number of deaths- Female | F3: =' B_Populations'!$I$8 -> White-Not Hispanic | G3: =' B_Populations'!$K$8 -> Hispanic | H3: =' B_Populations'!$M$8 -> Black-Not Hispanic | I3: =' B_Populations'!$O$8 -> Asian | J3: =' B_Populations'!$Q$8 -> American Indian/Alaska Native | K3: =' B_Populations'!$S$8 -> Other | L3: =' B_Populations'!$U$8 -> Other | M3: =' B_Populations'!W8 -> Region 1 | N3: =' B_Populations'!Y8 -> Region 2 | O3: =' B_Populations'!AA8 -> Region 3 | P3: =' B_Populations'!AC8 -> Region 4 | Q3: =' B_Populations'!AE8 -> Region 5 | R3: =' B_Populations'!AG8 -> Region 6 | S3: =' B_Populations'!AI8 -> Region 7 | T3: =' B_Populations'!AK8 -> Region 8 | U3: =' B_Populations'!AM8 -> Region 9 | V3: =' B_Populations'!AO8 -> Region 10 | W3: =' B_Populations'!AQ8 -> Region 11 | X3: =' B_Populations'!AS8 -> Region 12 | Y3: =' B_Populations'!AU8 -> Region 13 | Z3: =' B_Populations'!AW8 -> Region 14 | AA3: =' B_Populations'!AY8 -> Region 15 | AB3: =' B_Populations'!BA8 -> Region 16 | AC3: =' B_Populations'!BC8 -> Region 17 | AD3: =' B_Populations'!BE8 -> Region 18 | AE3: =' B_Populations'!BG8 -> Region 19 | AF3: =' B_Populations'!BI8 -> Region 20 | AH3: State population - Total | AI3: Rate | AJ3: State population - Male | AK3: Rate | AL3: State population - Female | AM3: Rate | AN3: =' B_Populations'!$I$8 -> White-Not Hispanic | AO3: Rate | AP3: =' B_Populations'!$K$8 -> Hispanic | AQ3: Rate | AR3: =' B_Populations'!$M$8 -> Black-Not Hispanic | AS3: Rate | AT3: =' B_Populations'!$O$8 -> Asian | AU3: Rate | AV3: =' B_Populations'!$Q$8 -> American Indian/Alaska Native | AW3: Rate | AX3: =' B_Populations'!$S$8 -> Other | AY3: Rate | AZ3: =' B_Populations'!$U$8 -> Other | BA3: Rate | BC3: =M3 -> Region 1 | BD3: Rate | BE3: =N3 -> Region 2 | BF3: Rate | BG3: =O3 -> Region 3 | BH3: Rate | BI3: =P3 -> Region 4 | BJ3: Rate | BK3: =Q3 -> Region 5 | BL3: Rate | BM3: =R3 -> Region 6 | BN3: Rate | BO3: =S3 -> Region 7 | BP3: Rate | BQ3: =T3 -> Region 8 | BR3: Rate | BS3: =U3 -> Region 9 | BT3: Rate | BU3: =V3 -> Region 10 | BV3: Rate | BW3: =W3 -> Region 11 | BX3: Rate | BY3: =X3 -> Region 12 | BZ3: Rate | CA3: =Y3 -> Region 13 | CB3: Rate | CC3: =Z3 -> Region 14 | CD3: Rate | CE3: =AA3 -> Region 15 | CF3: Rate | CG3: =AB3 -> Region 16 | CH3: Rate | CI3: =AC3 -> Region 17 | CJ3: Rate | CK3: =AD3 -> Region 18 | CL3: Rate | CM3: =AE3 -> Region 19 | CN3: Rate | CO3: =AF3 -> Region 20 | CP3: Rate | CS3: 2000 Population Weight | CU3: Age | CV3: Total | CW3: Male | CX3: Female | CY3: =' B_Populations'!$I$8 -> White-Not Hispanic | CZ3: =' B_Populations'!$K$8 -> Hispanic | DA3: =' B_Populations'!$M$8 -> Black-Not Hispanic | DB3: =' B_Populations'!$O$8 -> Asian | DC3: =' B_Populations'!$Q$8 -> American Indian/Alaska Native | DD3: =' B_Populations'!$S$8 -> Other | DE3: =' B_Populations'!$U$8 -> Other | DF3: =M3 -> Region 1 | DG3: =N3 -> Region 2 | DH3: =O3 -> Region 3 | DI3: =P3 -> Region 4 | DJ3: =Q3 -> Region 5 | DK3: =R3 -> Region 6 | DL3: =S3 -> Region 7 | DM3: =T3 -> Region 8 | ... DY3: =AF3 -> Region 20
B4: =' B_Populations'!$B$9 -> 10-14 | AH4: =' B_Populations'!C9 -> 0 | AI4: =IF(AH4=0,0,($C$4/$AH$4)*100000) -> 0 | AJ4: =' B_Populations'!E9 -> 0 | AK4: =IF(AJ4=0,0,($D$4/$AJ$4)*100000) -> 0 | AL4: =' B_Populations'!G9 -> 0 | AM4: =IF(AL4=0,0,($E$4/$AL$4)*100000) -> 0 | AN4: =' B_Populations'!I9 -> 0 | AO4: =IF(AN4=0,0,($F$4/$AN$4)*100000) -> 0 | AP4: =' B_Populations'!K9 -> 0 | AQ4: =IF(AP4=0,0,($G$4/$AP$4)*100000) -> 0 | AR4: =' B_Populations'!M9 -> 0 | AS4: =IF(AR4=0,0,($H$4/$AR$4)*100000) -> 0 | AT4: =' B_Populations'!O9 -> 0 | AU4: =IF(AT4=0,0,($I$4/$AT$4)*100000) -> 0 | AV4: =' B_Populations'!Q9 -> 0 | AW4: =IF(AV4=0,0,($J$4/$AV$4)*100000) -> 0 | AX4: =' B_Populations'!S9 -> 0 | AY4: =IF(AX4=0,0,($K$4/$AX$4)*100000) -> 0 | AZ4: =' B_Populations'!U9 -> 0 | BA4: =IF(AZ4=0,0,($L$4/$AZ$4)*100000) -> 0 | BC4: =' B_Populations'!W9 -> 0 | BD4: =IF(BC4=0,0,($M$4/$BC$4)*100000) -> 0 | BE4: =' B_Populations'!Y9 -> 0 | BF4: =IF(BE4=0,0,($N$4/$BE$4)*100000) -> 0 | BG4: =' B_Populations'!AA9 -> 0 | BH4: =IF(BG4=0,0,($O$4/$BG$4)*100000) -> 0 | BI4: =' B_Populations'!AC9 -> 0 | BJ4: =IF(BI4=0,0,($P$4/$BI$4)*100000) -> 0 | BK4: =' B_Populations'!AE9 -> 0 | BL4: =IF(BK4=0,0,($Q$4/$BK$4)*100000) -> 0 | BM4: =' B_Populations'!AG9 -> 0 | BN4: =IF(BM4=0,0,($R$4/$BM$4)*100000) -> 0 | BO4: =' B_Populations'!AI9 -> 0 | BP4: =IF(BO4=0,0,($S$4/$BO$4)*100000) -> 0 | BQ4: =' B_Populations'!AK9 -> 0 | BR4: =IF(BQ4=0,0,($T$4/$BQ$4)*100000) -> 0 | BS4: =' B_Populations'!AM9 -> 0 | BT4: =IF(BS4=0,0,($U$4/$BS$4)*100000) -> 0 | BU4: =' B_Populations'!AO9 -> 0 | BV4: =IF(BU4=0,0,($V$4/$BU$4)*100000) -> 0 | BW4: =' B_Populations'!AQ9 -> 0 | BX4: =IF(BW4=0,0,($W$4/$BW$4)*100000) -> 0 | BY4: =' B_Populations'!AS9 -> 0 | BZ4: =IF(BY4=0,0,($X$4/$BY$4)*100000) -> 0 | CA4: =' B_Populations'!AU9 -> 0 | CB4: =IF(CA4=0,0,($Y$4/$CA$4)*100000) -> 0 | CC4: =' B_Populations'!AW9 -> 0 | CD4: =IF(CC4=0,0,($Z$4/$CC$4)*100000) -> 0 | CE4: =' B_Populations'!AY9 -> 0 | CF4: =IF(CE4=0,0,($AA$4/$CE$4)*100000) -> 0 | CG4: =' B_Populations'!BA9 -> 0 | CH4: =IF(CG4=0,0,($AB$4/$CG$4)*100000) -> 0 | CI4: =' B_Populations'!BC9 -> 0 | CJ4: =IF(CI4=0,0,($AC$4/$CI$4)*100000) -> 0 | CK4: =' B_Populations'!BE9 -> 0 | CL4: =IF(CK4=0,0,($AD$4/$CK$4)*100000) -> 0 | CM4: =' B_Populations'!BG9 -> 0 | CN4: =IF(CM4=0,0,($AE$4/$CM$4)*100000) -> 0 | CO4: =' B_Populations'!BI9 -> 0 | CP4: =IF(CO4=0,0,($AF$4/$CO$4)*100000) -> 0 | CS4: 0.073032 | CU4: =' B_Populations'!$B$9 -> 10-14 | CV4: =AI4*CS4 -> 0 | CW4: =AK4*CS4 -> 0 | CX4: =AM4*CS4 -> 0 | CY4: =AO4*CS4 -> 0 | CZ4: =AQ4*CS4 -> 0 | DA4: =AS4*CS4 -> 0 | DB4: =AU4*CS4 -> 0 | DC4: =AW4*CS4 -> 0 | DD4: =AY4*CS4 -> 0 | DE4: =BA4*CS4 -> 0 | DF4: =BD4*CS4 -> 0 | DG4: =BF4*CS4 -> 0 | DH4: =BH4*CS4 -> 0 | DI4: =BJ4*CS4 -> 0 | DJ4: =BL4*CS4 -> 0 | DK4: =BN4*CS4 -> 0 | DL4: =BP4*CS4 -> 0 | DM4: =BR4*CS4 -> 0 | DN4: =BT4*CS4 -> 0 | DO4: =BV4*CS4 -> 0 | DP4: =BX4*CS4 -> 0 | DQ4: =BZ4*CS4 -> 0 | DR4: =CB4*CS4 -> 0 | DS4: =CD4*CS4 -> 0 | DT4: =CF4*CS4 -> 0 | DU4: =CH4*CS4 -> 0 | DV4: =CJ4*CS4 -> 0 | DW4: =CL4*CS4 -> 0 | DX4: =CN4*CS4 -> 0 | DY4: =CP4*CS4 -> 0
B5: =' B_Populations'!$B$10 -> 15-19 | AH5: =' B_Populations'!C10 -> 0 | AI5: =IF(AH5=0,0,($C$5/$AH$5)*100000) -> 0 | AJ5: =' B_Populations'!E10 -> 0 | AK5: =IF(AJ5=0,0,($D$5/$AJ$5)*100000) -> 0 | AL5: =' B_Populations'!G10 -> 0 | AM5: =IF(AL5=0,0,($E$5/$AL$5)*100000) -> 0 | AN5: =' B_Populations'!I10 -> 0 | AO5: =IF(AN5=0,0,($F$5/$AN$5)*100000) -> 0 | AP5: =' B_Populations'!K10 -> 0 | AQ5: =IF(AP5=0,0,($G$5/$AP$5)*100000) -> 0 | AR5: =' B_Populations'!M10 -> 0 | AS5: =IF(AR5=0,0,($H$5/$AR$5)*100000) -> 0 | AT5: =' B_Populations'!O10 -> 0 | AU5: =IF(AT5=0,0,($I$5/$AT$5)*100000) -> 0 | AV5: =' B_Populations'!Q10 -> 0 | AW5: =IF(AV5=0,0,($J$5/$AV$5)*100000) -> 0 | AX5: =' B_Populations'!S10 -> 0 | AY5: =IF(AX5=0,0,($K$5/$AX$5)*100000) -> 0 | AZ5: =' B_Populations'!U10 -> 0 | BA5: =IF(AZ5=0,0,($L$5/$AZ$5)*100000) -> 0 | BC5: =' B_Populations'!W10 -> 0 | BD5: =IF(BC5=0,0,($M$5/$BC$5)*100000) -> 0 | BE5: =' B_Populations'!Y10 -> 0 | BF5: =IF(BE5=0,0,($N$5/$BE$5)*100000) -> 0 | BG5: =' B_Populations'!AA10 -> 0 | BH5: =IF(BG5=0,0,($O$5/$BG$5)*100000) -> 0 | BI5: =' B_Populations'!AC10 -> 0 | BJ5: =IF(BI5=0,0,($P$5/$BI$5)*100000) -> 0 | BK5: =' B_Populations'!AE10 -> 0 | BL5: =IF(BK5=0,0,($Q$5/$BK$5)*100000) -> 0 | BM5: =' B_Populations'!AG10 -> 0 | BN5: =IF(BM5=0,0,($R$5/$BM$5)*100000) -> 0 | BO5: =' B_Populations'!AI10 -> 0 | BP5: =IF(BO5=0,0,($S$5/$BO$5)*100000) -> 0 | BQ5: =' B_Populations'!AK10 -> 0 | BR5: =IF(BQ5=0,0,($T$5/$BQ$5)*100000) -> 0 | BS5: =' B_Populations'!AM10 -> 0 | BT5: =IF(BS5=0,0,($U$5/$BC$5)*100000) -> 0 | BU5: =' B_Populations'!AO10 -> 0 | BV5: =IF(BU5=0,0,($V$5/$BU$5)*100000) -> 0 | BW5: =' B_Populations'!AQ10 -> 0 | BX5: =IF(BW5=0,0,($W$5/$BW$5)*100000) -> 0 | BY5: =' B_Populations'!AS10 -> 0 | BZ5: =IF(BY5=0,0,($X$5/$BY$5)*100000) -> 0 | CA5: =' B_Populations'!AU10 -> 0 | CB5: =IF(CA5=0,0,($Y$5/$CA$5)*100000) -> 0 | CC5: =' B_Populations'!AW10 -> 0 | CD5: =IF(CC5=0,0,($Z$5/$CC$5)*100000) -> 0 | CE5: =' B_Populations'!AY10 -> 0 | CF5: =IF(CE5=0,0,($AA$5/$CE$5)*100000) -> 0 | CG5: =' B_Populations'!BA10 -> 0 | CH5: =IF(CG5=0,0,($AB$5/$CG$5)*100000) -> 0 | CI5: =' B_Populations'!BC10 -> 0 | CJ5: =IF(CI5=0,0,($AC$5/$CI$5)*100000) -> 0 | CK5: =' B_Populations'!BE10 -> 0 | CL5: =IF(CK5=0,0,($AD$5/$CK$5)*100000) -> 0 | CM5: =' B_Populations'!BG10 -> 0 | CN5: =IF(CM5=0,0,($AE$5/$CM$5)*100000) -> 0 | CO5: =' B_Populations'!BI10 -> 0 | CP5: =IF(CO5=0,0,($AF$5/$CO$5)*100000) -> 0 | CS5: 0.072169 | CU5: =' B_Populations'!$B$10 -> 15-19 | CV5: =AI5*CS5 -> 0 | CW5: =AK5*CS5 -> 0 | CX5: =AM5*CS5 -> 0 | CY5: =AO5*CS5 -> 0 | CZ5: =AQ5*CS5 -> 0 | DA5: =AS5*CS5 -> 0 | DB5: =AU5*CS5 -> 0 | DC5: =AW5*CS5 -> 0 | DD5: =AY5*CS5 -> 0 | DE5: =BA5*CS5 -> 0 | DF5: =BD5*CS5 -> 0 | DG5: =BF5*CS5 -> 0 | DH5: =BH5*CS5 -> 0 | DI5: =BJ5*CS5 -> 0 | DJ5: =BL5*CS5 -> 0 | DK5: =BN5*CS5 -> 0 | DL5: =BP5*CS5 -> 0 | DM5: =BR5*CS5 -> 0 | DN5: =BT5*CS5 -> 0 | DO5: =BV5*CS5 -> 0 | DP5: =BX5*CS5 -> 0 | DQ5: =BZ5*CS5 -> 0 | DR5: =CB5*CS5 -> 0 | DS5: =CD5*CS5 -> 0 | DT5: =CF5*CS5 -> 0 | DU5: =CH5*CS5 -> 0 | DV5: =CJ5*CS5 -> 0 | DW5: =CL5*CS5 -> 0 | DX5: =CN5*CS5 -> 0 | DY5: =CP5*CS5 -> 0
B6: =' B_Populations'!$B$11 -> 20-24 | AH6: =' B_Populations'!C11 -> 0 | AI6: =IF(AH6=0,0,($C$6/$AH$6)*100000) -> 0 | AJ6: =' B_Populations'!E11 -> 0 | AK6: =IF(AJ6=0,0,($D$6/$AJ$6)*100000) -> 0 | AL6: =' B_Populations'!G11 -> 0 | AM6: =IF(AL6=0,0,($E$6/$AL$6)*100000) -> 0 | AN6: =' B_Populations'!I11 -> 0 | AO6: =IF(AN6=0,0,($F$6/$AN$6)*100000) -> 0 | AP6: =' B_Populations'!K11 -> 0 | AQ6: =IF(AP6=0,0,($G$6/$AP$6)*100000) -> 0 | AR6: =' B_Populations'!M11 -> 0 | AS6: =IF(AR6=0,0,($H$6/$AR$6)*100000) -> 0 | AT6: =' B_Populations'!O11 -> 0 | AU6: =IF(AT6=0,0,($I$6/$AT$6)*100000) -> 0 | AV6: =' B_Populations'!Q11 -> 0 | AW6: =IF(AV6=0,0,($J$6/$AV$6)*100000) -> 0 | AX6: =' B_Populations'!S11 -> 0 | AY6: =IF(AX6=0,0,($K$6/$AX$6)*100000) -> 0 | AZ6: =' B_Populations'!U11 -> 0 | BA6: =IF(AZ6=0,0,($L$6/$AZ$6)*100000) -> 0 | BC6: =' B_Populations'!W11 -> 0 | BD6: =IF(BC6=0,0,($M$6/$BC$6)*100000) -> 0 | BE6: =' B_Populations'!Y11 -> 0 | BF6: =IF(BE6=0,0,($N$6/$BE$6)*100000) -> 0 | BG6: =' B_Populations'!AA11 -> 0 | BH6: =IF(BG6=0,0,($O$6/$BG$6)*100000) -> 0 | BI6: =' B_Populations'!AC11 -> 0 | BJ6: =IF(BI6=0,0,($P$6/$BI$6)*100000) -> 0 | BK6: =' B_Populations'!AE11 -> 0 | BL6: =IF(BK6=0,0,($Q$6/$BK$6)*100000) -> 0 | BM6: =' B_Populations'!AG11 -> 0 | BN6: =IF(BM6=0,0,($R$6/$BM$6)*100000) -> 0 | BO6: =' B_Populations'!AI11 -> 0 | BP6: =IF(BO6=0,0,($S$6/$BO$6)*100000) -> 0 | BQ6: =' B_Populations'!AK11 -> 0 | BR6: =IF(BQ6=0,0,($T$6/$BQ$6)*100000) -> 0 | BS6: =' B_Populations'!AM11 -> 0 | BT6: =IF(BS6=0,0,($U$6/$BS$6)*100000) -> 0 | BU6: =' B_Populations'!AO11 -> 0 | BV6: =IF(BU6=0,0,($V$6/$BU$6)*100000) -> 0 | BW6: =' B_Populations'!AQ11 -> 0 | BX6: =IF(BW6=0,0,($W$6/$BW$6)*100000) -> 0 | BY6: =' B_Populations'!AS11 -> 0 | BZ6: =IF(BY6=0,0,($X$6/$BY$6)*100000) -> 0 | CA6: =' B_Populations'!AU11 -> 0 | CB6: =IF(CA6=0,0,($Y$6/$CA$6)*100000) -> 0 | CC6: =' B_Populations'!AW11 -> 0 | CD6: =IF(CC6=0,0,($Z$6/$CC$6)*100000) -> 0 | CE6: =' B_Populations'!AY11 -> 0 | CF6: =IF(CE6=0,0,($AA$6/$CE$6)*100000) -> 0 | CG6: =' B_Populations'!BA11 -> 0 | CH6: =IF(CG6=0,0,($AB$6/$CG$6)*100000) -> 0 | CI6: =' B_Populations'!BC11 -> 0 | CJ6: =IF(CI6=0,0,($AC$6/$CI$6)*100000) -> 0 | CK6: =' B_Populations'!BE11 -> 0 | CL6: =IF(CK6=0,0,($AD$6/$CK$6)*100000) -> 0 | CM6: =' B_Populations'!BG11 -> 0 | CN6: =IF(CM6=0,0,($AE$6/$CM$6)*100000) -> 0 | CO6: =' B_Populations'!BI11 -> 0 | CP6: =IF(CO6=0,0,($AF$6/$CO$6)*100000) -> 0 | CS6: 0.066478 | CU6: =' B_Populations'!$B$11 -> 20-24 | CV6: =AI6*CS6 -> 0 | CW6: =AK6*CS6 -> 0 | CX6: =AM6*CS6 -> 0 | CY6: =AO6*CS6 -> 0 | CZ6: =AQ6*CS6 -> 0 | DA6: =AS6*CS6 -> 0 | DB6: =AU6*CS6 -> 0 | DC6: =AW6*CS6 -> 0 | DD6: =AY6*CS6 -> 0 | DE6: =BA6*CS6 -> 0 | DF6: =BD6*CS6 -> 0 | DG6: =BF6*CS6 -> 0 | DH6: =BH6*CS6 -> 0 | DI6: =BJ6*CS6 -> 0 | DJ6: =BL6*CS6 -> 0 | DK6: =BN6*CS6 -> 0 | DL6: =BP6*CS6 -> 0 | DM6: =BR6*CS6 -> 0 | DN6: =BT6*CS6 -> 0 | DO6: =BV6*CS6 -> 0 | DP6: =BX6*CS6 -> 0 | DQ6: =BZ6*CS6 -> 0 | DR6: =CB6*CS6 -> 0 | DS6: =CD6*CS6 -> 0 | DT6: =CF6*CS6 -> 0 | DU6: =CH6*CS6 -> 0 | DV6: =CJ6*CS6 -> 0 | DW6: =CL6*CS6 -> 0 | DX6: =CN6*CS6 -> 0 | DY6: =CP6*CS6 -> 0
B7: =' B_Populations'!$B$12 -> 25-34 | AH7: =' B_Populations'!C12 -> 0 | AI7: =IF(AH7=0,0,($C$7/$AH$7)*100000) -> 0 | AJ7: =' B_Populations'!E12 -> 0 | AK7: =IF(AJ7=0,0,($D$7/$AJ$7)*100000) -> 0 | AL7: =' B_Populations'!G12 -> 0 | AM7: =IF(AL7=0,0,($E$7/$AL$7)*100000) -> 0 | AN7: =' B_Populations'!I12 -> 0 | AO7: =IF(AN7=0,0,($F$7/$AN$7)*100000) -> 0 | AP7: =' B_Populations'!K12 -> 0 | AQ7: =IF(AP7=0,0,($G$7/$AP$7)*100000) -> 0 | AR7: =' B_Populations'!M12 -> 0 | AS7: =IF(AR7=0,0,($H$7/$AR$7)*100000) -> 0 | AT7: =' B_Populations'!O12 -> 0 | AU7: =IF(AT7=0,0,($I$7/$AT$7)*100000) -> 0 | AV7: =' B_Populations'!Q12 -> 0 | AW7: =IF(AV7=0,0,($J$7/$AV$7)*100000) -> 0 | AX7: =' B_Populations'!S12 -> 0 | AY7: =IF(AX7=0,0,($K$7/$AX$7)*100000) -> 0 | AZ7: =' B_Populations'!U12 -> 0 | BA7: =IF(AZ7=0,0,($L$7/$AZ$7)*100000) -> 0 | BC7: =' B_Populations'!W12 -> 0 | BD7: =IF(BC7=0,0,($M$7/$BC$7)*100000) -> 0 | BE7: =' B_Populations'!Y12 -> 0 | BF7: =IF(BE7=0,0,($N$7/$BE$7)*100000) -> 0 | BG7: =' B_Populations'!AA12 -> 0 | BH7: =IF(BG7=0,0,($O$7/$BG$7)*100000) -> 0 | BI7: =' B_Populations'!AC12 -> 0 | BJ7: =IF(BI7=0,0,($P$7/$BI$7)*100000) -> 0 | BK7: =' B_Populations'!AE12 -> 0 | BL7: =IF(BK7=0,0,($Q$7/$BK$7)*100000) -> 0 | BM7: =' B_Populations'!AG12 -> 0 | BN7: =IF(BM7=0,0,($R$7/$BM$7)*100000) -> 0 | BO7: =' B_Populations'!AI12 -> 0 | BP7: =IF(BO7=0,0,($S$7/$BO$7)*100000) -> 0 | BQ7: =' B_Populations'!AK12 -> 0 | BR7: =IF(BQ7=0,0,($T$7/$BQ$7)*100000) -> 0 | BS7: =' B_Populations'!AM12 -> 0 | BT7: =IF(BS7=0,0,($U$7/$BS$7)*100000) -> 0 | BU7: =' B_Populations'!AO12 -> 0 | BV7: =IF(BU7=0,0,($V$7/$BU$7)*100000) -> 0 | BW7: =' B_Populations'!AQ12 -> 0 | BX7: =IF(BW7=0,0,($W$7/$BW$7)*100000) -> 0 | BY7: =' B_Populations'!AS12 -> 0 | BZ7: =IF(BY7=0,0,($X$7/$BY$7)*100000) -> 0 | CA7: =' B_Populations'!AU12 -> 0 | CB7: =IF(CA7=0,0,($Y$7/$CA$7)*100000) -> 0 | CC7: =' B_Populations'!AW12 -> 0 | CD7: =IF(CC7=0,0,($Z$7/$CC$7)*100000) -> 0 | CE7: =' B_Populations'!AY12 -> 0 | CF7: =IF(CE7=0,0,($AA$7/$CE$7)*100000) -> 0 | CG7: =' B_Populations'!BA12 -> 0 | CH7: =IF(CG7=0,0,($AB$7/$CG$7)*100000) -> 0 | CI7: =' B_Populations'!BC12 -> 0 | CJ7: =IF(CI7=0,0,($AC$7/$CI$7)*100000) -> 0 | CK7: =' B_Populations'!BE12 -> 0 | CL7: =IF(CK7=0,0,($AD$7/$CK$7)*100000) -> 0 | CM7: =' B_Populations'!BG12 -> 0 | CN7: =IF(CM7=0,0,($AE$7/$CM$7)*100000) -> 0 | CO7: =' B_Populations'!BI12 -> 0 | CP7: =IF(CO7=0,0,($AF$7/$CO$7)*100000) -> 0 | CS7: 0.135573 | CU7: =' B_Populations'!$B$12 -> 25-34 | CV7: =AI7*CS7 -> 0 | CW7: =AK7*CS7 -> 0 | CX7: =AM7*CS7 -> 0 | CY7: =AO7*CS7 -> 0 | CZ7: =AQ7*CS7 -> 0 | DA7: =AS7*CS7 -> 0 | DB7: =AU7*CS7 -> 0 | DC7: =AW7*CS7 -> 0 | DD7: =AY7*CS7 -> 0 | DE7: =BA7*CS7 -> 0 | DF7: =BD7*CS7 -> 0 | DG7: =BF7*CS7 -> 0 | DH7: =BH7*CS7 -> 0 | DI7: =BJ7*CS7 -> 0 | DJ7: =BL7*CS7 -> 0 | DK7: =BN7*CS7 -> 0 | DL7: =BP7*CS7 -> 0 | DM7: =BR7*CS7 -> 0 | DN7: =BT7*CS7 -> 0 | DO7: =BV7*CS7 -> 0 | DP7: =BX7*CS7 -> 0 | DQ7: =BZ7*CS7 -> 0 | DR7: =CB7*CS7 -> 0 | DS7: =CD7*CS7 -> 0 | DT7: =CF7*CS7 -> 0 | DU7: =CH7*CS7 -> 0 | DV7: =CJ7*CS7 -> 0 | DW7: =CL7*CS7 -> 0 | DX7: =CN7*CS7 -> 0 | DY7: =CP7*CS7 -> 0
B8: =' B_Populations'!$B$13 -> 35-44 | AH8: =' B_Populations'!C13 -> 0 | AI8: =IF(AH8=0,0,($C$8/$AH$8)*100000) -> 0 | AJ8: =' B_Populations'!E13 -> 0 | AK8: =IF(AJ8=0,0,($D$8/$AJ$8)*100000) -> 0 | AL8: =' B_Populations'!G13 -> 0 | AM8: =IF(AL8=0,0,($E$8/$AL$8)*100000) -> 0 | AN8: =' B_Populations'!I13 -> 0 | AO8: =IF(AN8=0,0,($F$8/$AN$8)*100000) -> 0 | AP8: =' B_Populations'!K13 -> 0 | AQ8: =IF(AP8=0,0,($G$8/$AP$8)*100000) -> 0 | AR8: =' B_Populations'!M13 -> 0 | AS8: =IF(AR8=0,0,($H$8/$AR$8)*100000) -> 0 | AT8: =' B_Populations'!O13 -> 0 | AU8: =IF(AT8=0,0,($I$8/$AT$8)*100000) -> 0 | AV8: =' B_Populations'!Q13 -> 0 | AW8: =IF(AV8=0,0,($J$8/$AV$8)*100000) -> 0 | AX8: =' B_Populations'!S13 -> 0 | AY8: =IF(AX8=0,0,($K$8/$AX$8)*100000) -> 0 | AZ8: =' B_Populations'!U13 -> 0 | BA8: =IF(AZ8=0,0,($L$8/$AZ$8)*100000) -> 0 | BC8: =' B_Populations'!W13 -> 0 | BD8: =IF(BC8=0,0,($M$8/$BC$8)*100000) -> 0 | BE8: =' B_Populations'!Y13 -> 0 | BF8: =IF(BE8=0,0,($N$8/$BE$8)*100000) -> 0 | BG8: =' B_Populations'!AA13 -> 0 | BH8: =IF(BG8=0,0,($O$8/$BG$8)*100000) -> 0 | BI8: =' B_Populations'!AC13 -> 0 | BJ8: =IF(BI8=0,0,($P$8/$BI$8)*100000) -> 0 | BK8: =' B_Populations'!AE13 -> 0 | BL8: =IF(BK8=0,0,($Q$8/$BK$8)*100000) -> 0 | BM8: =' B_Populations'!AG13 -> 0 | BN8: =IF(BM8=0,0,($R$8/$BM$8)*100000) -> 0 | BO8: =' B_Populations'!AI13 -> 0 | BP8: =IF(BO8=0,0,($S$8/$BO$8)*100000) -> 0 | BQ8: =' B_Populations'!AK13 -> 0 | BR8: =IF(BQ8=0,0,($T$8/$BQ$8)*100000) -> 0 | BS8: =' B_Populations'!AM13 -> 0 | BT8: =IF(BS8=0,0,($U$8/$BS$8)*100000) -> 0 | BU8: =' B_Populations'!AO13 -> 0 | BV8: =IF(BU8=0,0,($V$8/$BU$8)*100000) -> 0 | BW8: =' B_Populations'!AQ13 -> 0 | BX8: =IF(BW8=0,0,($W$8/$BW$8)*100000) -> 0 | BY8: =' B_Populations'!AS13 -> 0 | BZ8: =IF(BY8=0,0,($X$8/$BY$8)*100000) -> 0 | CA8: =' B_Populations'!AU13 -> 0 | CB8: =IF(CA8=0,0,($Y$8/$CA$8)*100000) -> 0 | CC8: =' B_Populations'!AW13 -> 0 | CD8: =IF(CC8=0,0,($Z$8/$CC$8)*100000) -> 0 | CE8: =' B_Populations'!AY13 -> 0 | CF8: =IF(CE8=0,0,($AA$8/$CE$8)*100000) -> 0 | CG8: =' B_Populations'!BA13 -> 0 | CH8: =IF(CG8=0,0,($AB$8/$CG$8)*100000) -> 0 | CI8: =' B_Populations'!BC13 -> 0 | CJ8: =IF(CI8=0,0,($AC$8/$CI$8)*100000) -> 0 | CK8: =' B_Populations'!BE13 -> 0 | CL8: =IF(CK8=0,0,($AD$8/$CK$8)*100000) -> 0 | CM8: =' B_Populations'!BG13 -> 0 | CN8: =IF(CM8=0,0,($AE$8/$CM$8)*100000) -> 0 | CO8: =' B_Populations'!BI13 -> 0 | CP8: =IF(CO8=0,0,($AF$8/$CO$8)*100000) -> 0 | CS8: 0.162613 | CU8: =' B_Populations'!$B$13 -> 35-44 | CV8: =AI8*CS8 -> 0 | CW8: =AK8*CS8 -> 0 | CX8: =AM8*CS8 -> 0 | CY8: =AO8*CS8 -> 0 | CZ8: =AQ8*CS8 -> 0 | DA8: =AS8*CS8 -> 0 | DB8: =AU8*CS8 -> 0 | DC8: =AW8*CS8 -> 0 | DD8: =AY8*CS8 -> 0 | DE8: =BA8*CS8 -> 0 | DF8: =BD8*CS8 -> 0 | DG8: =BF8*CS8 -> 0 | DH8: =BH8*CS8 -> 0 | DI8: =BJ8*CS8 -> 0 | DJ8: =BL8*CS8 -> 0 | DK8: =BN8*CS8 -> 0 | DL8: =BP8*CS8 -> 0 | DM8: =BR8*CS8 -> 0 | DN8: =BT8*CS8 -> 0 | DO8: =BV8*CS8 -> 0 | DP8: =BX8*CS8 -> 0 | DQ8: =BZ8*CS8 -> 0 | DR8: =CB8*CS8 -> 0 | DS8: =CD8*CS8 -> 0 | DT8: =CF8*CS8 -> 0 | DU8: =CH8*CS8 -> 0 | DV8: =CJ8*CS8 -> 0 | DW8: =CL8*CS8 -> 0 | DX8: =CN8*CS8 -> 0 | DY8: =CP8*CS8 -> 0
B9: =' B_Populations'!$B$14 -> 45-54 | AH9: =' B_Populations'!C14 -> 0 | AI9: =IF(AH9=0,0,($C$9/$AH$9)*100000) -> 0 | AJ9: =' B_Populations'!E14 -> 0 | AK9: =IF(AJ9=0,0,($D$9/$AJ$9)*100000) -> 0 | AL9: =' B_Populations'!G14 -> 0 | AM9: =IF(AL9=0,0,($E$9/$AL$9)*100000) -> 0 | AN9: =' B_Populations'!I14 -> 0 | AO9: =IF(AN9=0,0,($F$9/$AN$9)*100000) -> 0 | AP9: =' B_Populations'!K14 -> 0 | AQ9: =IF(AP9=0,0,($G$9/$AP$9)*100000) -> 0 | AR9: =' B_Populations'!M14 -> 0 | AS9: =IF(AR9=0,0,($H$9/$AR$9)*100000) -> 0 | AT9: =' B_Populations'!O14 -> 0 | AU9: =IF(AT9=0,0,($I$9/$AT$9)*100000) -> 0 | AV9: =' B_Populations'!Q14 -> 0 | AW9: =IF(AV9=0,0,($J$9/$AV$9)*100000) -> 0 | AX9: =' B_Populations'!S14 -> 0 | AY9: =IF(AX9=0,0,($K$9/$AX$9)*100000) -> 0 | AZ9: =' B_Populations'!U14 -> 0 | BA9: =IF(AZ9=0,0,($L$9/$AZ$9)*100000) -> 0 | BC9: =' B_Populations'!W14 -> 0 | BD9: =IF(BC9=0,0,($M$9/$BC$9)*100000) -> 0 | BE9: =' B_Populations'!Y14 -> 0 | BF9: =IF(BE9=0,0,($N$9/$BE$9)*100000) -> 0 | BG9: =' B_Populations'!AA14 -> 0 | BH9: =IF(BG9=0,0,($O$9/$BG$9)*100000) -> 0 | BI9: =' B_Populations'!AC14 -> 0 | BJ9: =IF(BI9=0,0,($P$9/$BI$9)*100000) -> 0 | BK9: =' B_Populations'!AE14 -> 0 | BL9: =IF(BK9=0,0,($Q$9/$BK$9)*100000) -> 0 | BM9: =' B_Populations'!AG14 -> 0 | BN9: =IF(BM9=0,0,($R$9/$BM$9)*100000) -> 0 | BO9: =' B_Populations'!AI14 -> 0 | BP9: =IF(BO9=0,0,($S$9/$BO$9)*100000) -> 0 | BQ9: =' B_Populations'!AK14 -> 0 | BR9: =IF(BQ9=0,0,($T$9/$BQ$9)*100000) -> 0 | BS9: =' B_Populations'!AM14 -> 0 | BT9: =IF(BS9=0,0,($U$9/$BS$9)*100000) -> 0 | BU9: =' B_Populations'!AO14 -> 0 | BV9: =IF(BU9=0,0,($V$9/$BU$9)*100000) -> 0 | BW9: =' B_Populations'!AQ14 -> 0 | BX9: =IF(BW9=0,0,($W$9/$BW$9)*100000) -> 0 | BY9: =' B_Populations'!AS14 -> 0 | BZ9: =IF(BY9=0,0,($X$9/$BY$9)*100000) -> 0 | CA9: =' B_Populations'!AU14 -> 0 | CB9: =IF(CA9=0,0,($Y$9/$CA$9)*100000) -> 0 | CC9: =' B_Populations'!AW14 -> 0 | CD9: =IF(CC9=0,0,($Z$9/$CC$9)*100000) -> 0 | CE9: =' B_Populations'!AY14 -> 0 | CF9: =IF(CE9=0,0,($AA$9/$CE$9)*100000) -> 0 | CG9: =' B_Populations'!BA14 -> 0 | CH9: =IF(CG9=0,0,($AB$9/$CG$9)*100000) -> 0 | CI9: =' B_Populations'!BC14 -> 0 | CJ9: =IF(CI9=0,0,($AC$9/$CI$9)*100000) -> 0 | CK9: =' B_Populations'!BE14 -> 0 | CL9: =IF(CK9=0,0,($AD$9/$CK$9)*100000) -> 0 | CM9: =' B_Populations'!BG14 -> 0 | CN9: =IF(CM9=0,0,($AE$9/$CM$9)*100000) -> 0 | CO9: =' B_Populations'!BI14 -> 0 | CP9: =IF(CO9=0,0,($AF$9/$CO$9)*100000) -> 0 | CS9: 0.134834 | CU9: =' B_Populations'!$B$14 -> 45-54 | CV9: =AI9*CS9 -> 0 | CW9: =AK9*CS9 -> 0 | CX9: =AM9*CS9 -> 0 | CY9: =AO9*CS9 -> 0 | CZ9: =AQ9*CS9 -> 0 | DA9: =AS9*CS9 -> 0 | DB9: =AU9*CS9 -> 0 | DC9: =AW9*CS9 -> 0 | DD9: =AY9*CS9 -> 0 | DE9: =BA9*CS9 -> 0 | DF9: =BD9*CS9 -> 0 | DG9: =BF9*CS9 -> 0 | DH9: =BH9*CS9 -> 0 | DI9: =BJ9*CS9 -> 0 | DJ9: =BL9*CS9 -> 0 | DK9: =BN9*CS9 -> 0 | DL9: =BP9*CS9 -> 0 | DM9: =BR9*CS9 -> 0 | DN9: =BT9*CS9 -> 0 | DO9: =BV9*CS9 -> 0 | DP9: =BX9*CS9 -> 0 | DQ9: =BZ9*CS9 -> 0 | DR9: =CB9*CS9 -> 0 | DS9: =CD9*CS9 -> 0 | DT9: =CF9*CS9 -> 0 | DU9: =CH9*CS9 -> 0 | DV9: =CJ9*CS9 -> 0 | DW9: =CL9*CS9 -> 0 | DX9: =CN9*CS9 -> 0 | DY9: =CP9*CS9 -> 0
B10: =' B_Populations'!$B$15 -> 55-64 | AH10: =' B_Populations'!C15 -> 0 | AI10: =IF(AH10=0,0,($C$10/$AH$10)*100000) -> 0 | AJ10: =' B_Populations'!E15 -> 0 | AK10: =IF(AJ10=0,0,($D$10/$AJ$10)*100000) -> 0 | AL10: =' B_Populations'!G15 -> 0 | AM10: =IF(AL10=0,0,($E$10/$AL$10)*100000) -> 0 | AN10: =' B_Populations'!I15 -> 0 | AO10: =IF(AN10=0,0,($F$10/$AN$10)*100000) -> 0 | AP10: =' B_Populations'!K15 -> 0 | AQ10: =IF(AP10=0,0,($G$10/$AP$10)*100000) -> 0 | AR10: =' B_Populations'!M15 -> 0 | AS10: =IF(AR10=0,0,($H$10/$AR$10)*100000) -> 0 | AT10: =' B_Populations'!O15 -> 0 | AU10: =IF(AT10=0,0,($I$10/$AT$10)*100000) -> 0 | AV10: =' B_Populations'!Q15 -> 0 | AW10: =IF(AV10=0,0,($J$10/$AV$10)*100000) -> 0 | AX10: =' B_Populations'!S15 -> 0 | AY10: =IF(AX10=0,0,($K$10/$AX$10)*100000) -> 0 | AZ10: =' B_Populations'!U15 -> 0 | BA10: =IF(AZ10=0,0,($L$10/$AZ$10)*100000) -> 0 | BC10: =' B_Populations'!W15 -> 0 | BD10: =IF(BC10=0,0,($M$10/$BC$10)*100000) -> 0 | BE10: =' B_Populations'!Y15 -> 0 | BF10: =IF(BE10=0,0,($N$10/$BE$10)*100000) -> 0 | BG10: =' B_Populations'!AA15 -> 0 | BH10: =IF(BG10=0,0,($O$10/$BG$10)*100000) -> 0 | BI10: =' B_Populations'!AC15 -> 0 | BJ10: =IF(BI10=0,0,($P$10/$BI$10)*100000) -> 0 | BK10: =' B_Populations'!AE15 -> 0 | BL10: =IF(BK10=0,0,($Q$10/$BK$10)*100000) -> 0 | BM10: =' B_Populations'!AG15 -> 0 | BN10: =IF(BM10=0,0,($R$10/$BM$10)*100000) -> 0 | BO10: =' B_Populations'!AI15 -> 0 | BP10: =IF(BO10=0,0,($S$10/$BO$10)*100000) -> 0 | BQ10: =' B_Populations'!AK15 -> 0 | BR10: =IF(BQ10=0,0,($T$10/$BQ$10)*100000) -> 0 | BS10: =' B_Populations'!AM15 -> 0 | BT10: =IF(BS10=0,0,($U$10/$BS$10)*100000) -> 0 | BU10: =' B_Populations'!AO15 -> 0 | BV10: =IF(BU10=0,0,($V$10/$BU$10)*100000) -> 0 | BW10: =' B_Populations'!AQ15 -> 0 | BX10: =IF(BW10=0,0,($W$10/$BW$10)*100000) -> 0 | BY10: =' B_Populations'!AS15 -> 0 | BZ10: =IF(BY10=0,0,($X$10/$BY$10)*100000) -> 0 | CA10: =' B_Populations'!AU15 -> 0 | CB10: =IF(CA10=0,0,($Y$10/$CA$10)*100000) -> 0 | CC10: =' B_Populations'!AW15 -> 0 | CD10: =IF(CC10=0,0,($Z$10/$CC$10)*100000) -> 0 | CE10: =' B_Populations'!AY15 -> 0 | CF10: =IF(CE10=0,0,($AA$10/$CE$10)*100000) -> 0 | CG10: =' B_Populations'!BA15 -> 0 | CH10: =IF(CG10=0,0,($AB$10/$CG$10)*100000) -> 0 | CI10: =' B_Populations'!BC15 -> 0 | CJ10: =IF(CI10=0,0,($AC$10/$CI$10)*100000) -> 0 | CK10: =' B_Populations'!BE15 -> 0 | CL10: =IF(CK10=0,0,($AD$10/$CK$10)*100000) -> 0 | CM10: =' B_Populations'!BG15 -> 0 | CN10: =IF(CM10=0,0,($AE$10/$CM$10)*100000) -> 0 | CO10: =' B_Populations'!BI15 -> 0 | CP10: =IF(CO10=0,0,($AF$10/$CO$10)*100000) -> 0 | CS10: 0.087247 | CU10: =' B_Populations'!$B$15 -> 55-64 | CV10: =AI10*CS10 -> 0 | CW10: =AK10*CS10 -> 0 | CX10: =AM10*CS10 -> 0 | CY10: =AO10*CS10 -> 0 | CZ10: =AQ10*CS10 -> 0 | DA10: =AS10*CS10 -> 0 | DB10: =AU10*CS10 -> 0 | DC10: =AW10*CS10 -> 0 | DD10: =AY10*CS10 -> 0 | DE10: =BA10*CS10 -> 0 | DF10: =BD10*CS10 -> 0 | DG10: =BF10*CS10 -> 0 | DH10: =BH10*CS10 -> 0 | DI10: =BJ10*CS10 -> 0 | DJ10: =BL10*CS10 -> 0 | DK10: =BN10*CS10 -> 0 | DL10: =BP10*CS10 -> 0 | DM10: =BR10*CS10 -> 0 | DN10: =BT10*CS10 -> 0 | DO10: =BV10*CS10 -> 0 | DP10: =BX10*CS10 -> 0 | DQ10: =BZ10*CS10 -> 0 | DR10: =CB10*CS10 -> 0 | DS10: =CD10*CS10 -> 0 | DT10: =CF10*CS10 -> 0 | DU10: =CH10*CS10 -> 0 | DV10: =CJ10*CS10 -> 0 | DW10: =CL10*CS10 -> 0 | DX10: =CN10*CS10 -> 0 | DY10: =CP10*CS10 -> 0
B11: =' B_Populations'!$B$16 -> 65-74 | AH11: =' B_Populations'!C16 -> 0 | AI11: =IF(AH11=0,0,($C$11/$AH$11)*100000) -> 0 | AJ11: =' B_Populations'!E16 -> 0 | AK11: =IF(AJ11=0,0,($D$11/$AJ$11)*100000) -> 0 | AL11: =' B_Populations'!G16 -> 0 | AM11: =IF(AL11=0,0,($E$11/$AL$11)*100000) -> 0 | AN11: =' B_Populations'!I16 -> 0 | AO11: =IF(AN11=0,0,($F$11/$AN$11)*100000) -> 0 | AP11: =' B_Populations'!K16 -> 0 | AQ11: =IF(AP11=0,0,($G$11/$AP$11)*100000) -> 0 | AR11: =' B_Populations'!M16 -> 0 | AS11: =IF(AR11=0,0,($H$11/$AR$11)*100000) -> 0 | AT11: =' B_Populations'!O16 -> 0 | AU11: =IF(AT11=0,0,($I$11/$AT$11)*100000) -> 0 | AV11: =' B_Populations'!Q16 -> 0 | AW11: =IF(AV11=0,0,($J$11/$AV$11)*100000) -> 0 | AX11: =' B_Populations'!S16 -> 0 | AY11: =IF(AX11=0,0,($K$11/$AX$11)*100000) -> 0 | AZ11: =' B_Populations'!U16 -> 0 | BA11: =IF(AZ11=0,0,($L$11/$AZ$11)*100000) -> 0 | BC11: =' B_Populations'!W16 -> 0 | BD11: =IF(BC11=0,0,($M$11/$BC$11)*100000) -> 0 | BE11: =' B_Populations'!Y16 -> 0 | BF11: =IF(BE11=0,0,($N$11/$BE$11)*100000) -> 0 | BG11: =' B_Populations'!AA16 -> 0 | BH11: =IF(BG11=0,0,($O$11/$BG$11)*100000) -> 0 | BI11: =' B_Populations'!AC16 -> 0 | BJ11: =IF(BI11=0,0,($P$11/$BI$11)*100000) -> 0 | BK11: =' B_Populations'!AE16 -> 0 | BL11: =IF(BK11=0,0,($Q$11/$BK$11)*100000) -> 0 | BM11: =' B_Populations'!AG16 -> 0 | BN11: =IF(BM11=0,0,($R$11/$BM$11)*100000) -> 0 | BO11: =' B_Populations'!AI16 -> 0 | BP11: =IF(BO11=0,0,($S$11/$BO$11)*100000) -> 0 | BQ11: =' B_Populations'!AK16 -> 0 | BR11: =IF(BQ11=0,0,($T$11/$BQ$11)*100000) -> 0 | BS11: =' B_Populations'!AM16 -> 0 | BT11: =IF(BS11=0,0,($U$11/$BS$11)*100000) -> 0 | BU11: =' B_Populations'!AO16 -> 0 | BV11: =IF(BU11=0,0,($V$11/$BU$11)*100000) -> 0 | BW11: =' B_Populations'!AQ16 -> 0 | BX11: =IF(BW11=0,0,($W$11/$BW$11)*100000) -> 0 | BY11: =' B_Populations'!AS16 -> 0 | BZ11: =IF(BY11=0,0,($X$11/$BY$11)*100000) -> 0 | CA11: =' B_Populations'!AU16 -> 0 | CB11: =IF(CA11=0,0,($Y$11/$CA$11)*100000) -> 0 | CC11: =' B_Populations'!AW16 -> 0 | CD11: =IF(CC11=0,0,($Z$11/$CC$11)*100000) -> 0 | CE11: =' B_Populations'!AY16 -> 0 | CF11: =IF(CE11=0,0,($AA$11/$CE$11)*100000) -> 0 | CG11: =' B_Populations'!BA16 -> 0 | CH11: =IF(CG11=0,0,($AB$11/$CG$11)*100000) -> 0 | CI11: =' B_Populations'!BC16 -> 0 | CJ11: =IF(CI11=0,0,($AC$11/$CI$11)*100000) -> 0 | CK11: =' B_Populations'!BE16 -> 0 | CL11: =IF(CK11=0,0,($AD$11/$CK$11)*100000) -> 0 | CM11: =' B_Populations'!BG16 -> 0 | CN11: =IF(CM11=0,0,($AE$11/$CM$11)*100000) -> 0 | CO11: =' B_Populations'!BI16 -> 0 | CP11: =IF(CO11=0,0,($AF$11/$CO$11)*100000) -> 0 | CS11: 0.066037 | CU11: =' B_Populations'!$B$16 -> 65-74 | CV11: =AI11*CS11 -> 0 | CW11: =AK11*CS11 -> 0 | CX11: =AM11*CS11 -> 0 | CY11: =AO11*CS11 -> 0 | CZ11: =AQ11*CS11 -> 0 | DA11: =AS11*CS11 -> 0 | DB11: =AU11*CS11 -> 0 | DC11: =AW11*CS11 -> 0 | DD11: =AY11*CS11 -> 0 | DE11: =BA11*CS11 -> 0 | DF11: =BD11*CS11 -> 0 | DG11: =BF11*CS11 -> 0 | DH11: =BH11*CS11 -> 0 | DI11: =BJ11*CS11 -> 0 | DJ11: =BL11*CS11 -> 0 | DK11: =BN11*CS11 -> 0 | DL11: =BP11*CS11 -> 0 | DM11: =BR11*CS11 -> 0 | DN11: =BT11*CS11 -> 0 | DO11: =BV11*CS11 -> 0 | DP11: =BX11*CS11 -> 0 | DQ11: =BZ11*CS11 -> 0 | DR11: =CB11*CS11 -> 0 | DS11: =CD11*CS11 -> 0 | DT11: =CF11*CS11 -> 0 | DU11: =CH11*CS11 -> 0 | DV11: =CJ11*CS11 -> 0 | DW11: =CL11*CS11 -> 0 | DX11: =CN11*CS11 -> 0 | DY11: =CP11*CS11 -> 0
B12: =' B_Populations'!$B$17 -> 75-84 | AH12: =' B_Populations'!C17 -> 0 | AI12: =IF(AH12=0,0,($C$12/$AH$12)*100000) -> 0 | AJ12: =' B_Populations'!E17 -> 0 | AK12: =IF(AJ12=0,0,($D$12/$AJ$12)*100000) -> 0 | AL12: =' B_Populations'!G17 -> 0 | AM12: =IF(AL12=0,0,($E$12/$AL$12)*100000) -> 0 | AN12: =' B_Populations'!I17 -> 0 | AO12: =IF(AN12=0,0,($F$12/$AN$12)*100000) -> 0 | AP12: =' B_Populations'!K17 -> 0 | AQ12: =IF(AP12=0,0,($G$12/$AP$12)*100000) -> 0 | AR12: =' B_Populations'!M17 -> 0 | AS12: =IF(AR12=0,0,($H$12/$AR$12)*100000) -> 0 | AT12: =' B_Populations'!O17 -> 0 | AU12: =IF(AT12=0,0,($I$12/$AT$12)*100000) -> 0 | AV12: =' B_Populations'!Q17 -> 0 | AW12: =IF(AV12=0,0,($J$12/$AV$12)*100000) -> 0 | AX12: =' B_Populations'!S17 -> 0 | AY12: =IF(AX12=0,0,($K$12/$AX$12)*100000) -> 0 | AZ12: =' B_Populations'!U17 -> 0 | BA12: =IF(AZ12=0,0,($L$12/$AZ$12)*100000) -> 0 | BC12: =' B_Populations'!W17 -> 0 | BD12: =IF(BC12=0,0,($M$12/$BC$12)*100000) -> 0 | BE12: =' B_Populations'!Y17 -> 0 | BF12: =IF(BE12=0,0,($N$12/$BE$12)*100000) -> 0 | BG12: =' B_Populations'!AA17 -> 0 | BH12: =IF(BG12=0,0,($O$12/$BG$12)*100000) -> 0 | BI12: =' B_Populations'!AC17 -> 0 | BJ12: =IF(BI12=0,0,($P$12/$BI$12)*100000) -> 0 | BK12: =' B_Populations'!AE17 -> 0 | BL12: =IF(BK12=0,0,($Q$12/$BK$12)*100000) -> 0 | BM12: =' B_Populations'!AG17 -> 0 | BN12: =IF(BM12=0,0,($R$12/$BM$12)*100000) -> 0 | BO12: =' B_Populations'!AI17 -> 0 | BP12: =IF(BO12=0,0,($S$12/$BO$12)*100000) -> 0 | BQ12: =' B_Populations'!AK17 -> 0 | BR12: =IF(BQ12=0,0,($T$12/$BQ$12)*100000) -> 0 | BS12: =' B_Populations'!AM17 -> 0 | BT12: =IF(BS12=0,0,($U$12/$BS$12)*100000) -> 0 | BU12: =' B_Populations'!AO17 -> 0 | BV12: =IF(BU12=0,0,($V$12/$BU$12)*100000) -> 0 | BW12: =' B_Populations'!AQ17 -> 0 | BX12: =IF(BW12=0,0,($W$12/$BW$12)*100000) -> 0 | BY12: =' B_Populations'!AS17 -> 0 | BZ12: =IF(BY12=0,0,($X$12/$BY$12)*100000) -> 0 | CA12: =' B_Populations'!AU17 -> 0 | CB12: =IF(CA12=0,0,($Y$12/$CA$12)*100000) -> 0 | CC12: =' B_Populations'!AW17 -> 0 | CD12: =IF(CC12=0,0,($Z$12/$CC$12)*100000) -> 0 | CE12: =' B_Populations'!AY17 -> 0 | CF12: =IF(CE12=0,0,($AA$12/$CE$12)*100000) -> 0 | CG12: =' B_Populations'!BA17 -> 0 | CH12: =IF(CG12=0,0,($AB$12/$CG$12)*100000) -> 0 | CI12: =' B_Populations'!BC17 -> 0 | CJ12: =IF(CI12=0,0,($AC$12/$CI$12)*100000) -> 0 | CK12: =' B_Populations'!BE17 -> 0 | CL12: =IF(CK12=0,0,($AD$12/$CK$12)*100000) -> 0 | CM12: =' B_Populations'!BG17 -> 0 | CN12: =IF(CM12=0,0,($AE$12/$CM$12)*100000) -> 0 | CO12: =' B_Populations'!BI17 -> 0 | CP12: =IF(CO12=0,0,($AF$12/$CO$12)*100000) -> 0 | CS12: 0.044841 | CU12: =' B_Populations'!$B$17 -> 75-84 | CV12: =AI12*CS12 -> 0 | CW12: =AK12*CS12 -> 0 | CX12: =AM12*CS12 -> 0 | CY12: =AO12*CS12 -> 0 | CZ12: =AQ12*CS12 -> 0 | DA12: =AS12*CS12 -> 0 | DB12: =AU12*CS12 -> 0 | DC12: =AW12*CS12 -> 0 | DD12: =AY12*CS12 -> 0 | DE12: =BA12*CS12 -> 0 | DF12: =BD12*CS12 -> 0 | DG12: =BF12*CS12 -> 0 | DH12: =BH12*CS12 -> 0 | DI12: =BJ12*CS12 -> 0 | DJ12: =BL12*CS12 -> 0 | DK12: =BN12*CS12 -> 0 | DL12: =BP12*CS12 -> 0 | DM12: =BR12*CS12 -> 0 | DN12: =BT12*CS12 -> 0 | DO12: =BV12*CS12 -> 0 | DP12: =BX12*CS12 -> 0 | DQ12: =BZ12*CS12 -> 0 | DR12: =CB12*CS12 -> 0 | DS12: =CD12*CS12 -> 0 | DT12: =CF12*CS12 -> 0 | DU12: =CH12*CS12 -> 0 | DV12: =CJ12*CS12 -> 0 | DW12: =CL12*CS12 -> 0 | DX12: =CN12*CS12 -> 0 | DY12: =CP12*CS12 -> 0
B13: =' B_Populations'!$B$18 -> 85+ | AH13: =' B_Populations'!C18 -> 0 | AI13: =IF(AH13=0,0,($C$13/$AH$13)*100000) -> 0 | AJ13: =' B_Populations'!E18 -> 0 | AK13: =IF(AJ13=0,0,($D$13/$AJ$13)*100000) -> 0 | AL13: =' B_Populations'!G18 -> 0 | AM13: =IF(AL13=0,0,($E$13/$AL$13)*100000) -> 0 | AN13: =' B_Populations'!I18 -> 0 | AO13: =IF(AN13=0,0,($F$13/$AN$13)*100000) -> 0 | AP13: =' B_Populations'!K18 -> 0 | AQ13: =IF(AP13=0,0,($G$13/$AP$13)*100000) -> 0 | AR13: =' B_Populations'!M18 -> 0 | AS13: =IF(AR13=0,0,($H$13/$AR$13)*100000) -> 0 | AT13: =' B_Populations'!O18 -> 0 | AU13: =IF(AT13=0,0,($I$13/$AT$13)*100000) -> 0 | AV13: =' B_Populations'!Q18 -> 0 | AW13: =IF(AV13=0,0,($J$13/$AV$13)*100000) -> 0 | AX13: =' B_Populations'!S18 -> 0 | AY13: =IF(AX13=0,0,($K$13/$AX$13)*100000) -> 0 | AZ13: =' B_Populations'!U18 -> 0 | BA13: =IF(AZ13=0,0,($L$13/$AZ$13)*100000) -> 0 | BC13: =' B_Populations'!W18 -> 0 | BD13: =IF(BC13=0,0,($M$13/$BC$13)*100000) -> 0 | BE13: =' B_Populations'!Y18 -> 0 | BF13: =IF(BE13=0,0,($N$13/$BE$13)*100000) -> 0 | BG13: =' B_Populations'!AA18 -> 0 | BH13: =IF(BG13=0,0,($O$13/$BG$13)*100000) -> 0 | BI13: =' B_Populations'!AC18 -> 0 | BJ13: =IF(BI13=0,0,($P$13/$BI$13)*100000) -> 0 | BK13: =' B_Populations'!AE18 -> 0 | BL13: =IF(BK13=0,0,($Q$13/$BK$13)*100000) -> 0 | BM13: =' B_Populations'!AG18 -> 0 | BN13: =IF(BM13=0,0,($R$13/$BM$13)*100000) -> 0 | BO13: =' B_Populations'!AI18 -> 0 | BP13: =IF(BO13=0,0,($S$13/$BO$13)*100000) -> 0 | BQ13: =' B_Populations'!AK18 -> 0 | BR13: =IF(BQ13=0,0,($T$13/$BQ$13)*100000) -> 0 | BS13: =' B_Populations'!AM18 -> 0 | BT13: =IF(BS13=0,0,($U$13/$BS$13)*100000) -> 0 | BU13: =' B_Populations'!AO18 -> 0 | BV13: =IF(BU13=0,0,($V$13/$BU$13)*100000) -> 0 | BW13: =' B_Populations'!AQ18 -> 0 | BX13: =IF(BW13=0,0,($W$13/$BW$13)*100000) -> 0 | BY13: =' B_Populations'!AS18 -> 0 | BZ13: =IF(BY13=0,0,($X$13/$BY$13)*100000) -> 0 | CA13: =' B_Populations'!AU18 -> 0 | CB13: =IF(CA13=0,0,($Y$13/$CA$13)*100000) -> 0 | CC13: =' B_Populations'!AW18 -> 0 | CD13: =IF(CC13=0,0,($Z$13/$CC$13)*100000) -> 0 | CE13: =' B_Populations'!AY18 -> 0 | CF13: =IF(CE13=0,0,($AA$13/$CE$13)*100000) -> 0 | CG13: =' B_Populations'!BA18 -> 0 | CH13: =IF(CG13=0,0,($AB$13/$CG$13)*100000) -> 0 | CI13: =' B_Populations'!BC18 -> 0 | CJ13: =IF(CI13=0,0,($AC$13/$CI$13)*100000) -> 0 | CK13: =' B_Populations'!BE18 -> 0 | CL13: =IF(CK13=0,0,($AD$13/$CK$13)*100000) -> 0 | CM13: =' B_Populations'!BG18 -> 0 | CN13: =IF(CM13=0,0,($AE$13/$CM$13)*100000) -> 0 | CO13: =' B_Populations'!BI18 -> 0 | CP13: =IF(CO13=0,0,($AF$13/$CO$13)*100000) -> 0 | CS13: 0.015508 | CU13: =' B_Populations'!$B$18 -> 85+ | CV13: =AI13*CS13 -> 0 | CW13: =AK13*CS13 -> 0 | CX13: =AM13*CS13 -> 0 | CY13: =AO13*CS13 -> 0 | CZ13: =AQ13*CS13 -> 0 | DA13: =AS13*CS13 -> 0 | DB13: =AU13*CS13 -> 0 | DC13: =AW13*CS13 -> 0 | DD13: =AY13*CS13 -> 0 | DE13: =BA13*CS13 -> 0 | DF13: =BD13*CS13 -> 0 | DG13: =BF13*CS13 -> 0 | DH13: =BH13*CS13 -> 0 | DI13: =BJ13*CS13 -> 0 | DJ13: =BL13*CS13 -> 0 | DK13: =BN13*CS13 -> 0 | DL13: =BP13*CS13 -> 0 | DM13: =BR13*CS13 -> 0 | DN13: =BT13*CS13 -> 0 | DO13: =BV13*CS13 -> 0 | DP13: =BX13*CS13 -> 0 | DQ13: =BZ13*CS13 -> 0 | DR13: =CB13*CS13 -> 0 | DS13: =CD13*CS13 -> 0 | DT13: =CF13*CS13 -> 0 | DU13: =CH13*CS13 -> 0 | DV13: =CJ13*CS13 -> 0 | DW13: =CL13*CS13 -> 0 | DX13: =CN13*CS13 -> 0 | DY13: =CP13*CS13 -> 0
B14: total | C14: =SUM(C4:C13) -> 0 | D14: =SUM(D4:D13) -> 0 | E14: =SUM(E4:E13) -> 0 | F14: =SUM(F4:F13) -> 0 | G14: =SUM(G4:G13) -> 0 | H14: =SUM(H4:H13) -> 0 | I14: =SUM(I4:I13) -> 0 | J14: =SUM(J4:J13) -> 0 | ... AF14: =SUM(AF4:AF13) -> 0 | AH14: =SUM(AH4:AH13) -> 0 | AI14: =SUM(AI4:AI13) -> 0 | AJ14: =SUM(AJ4:AJ13) -> 0 | AK14: =SUM(AK4:AK13) -> 0 | AL14: =SUM(AL4:AL13) -> 0 | AM14: =SUM(AM4:AM13) -> 0 | AN14: =SUM(AN4:AN13) -> 0 | AO14: =SUM(AO4:AO13) -> 0 | ... BA14: =SUM(BA4:BA13) -> 0 | BC14: =' B_Populations'!W19 -> 0 | BD14: =SUM(BD4:BD13) -> 0 | BE14: =' B_Populations'!Y19 -> 0 | BF14: =SUM(BF4:BF13) -> 0 | BG14: =' B_Populations'!AA19 -> 0 | BH14: =SUM(BH4:BH13) -> 0 | BI14: =' B_Populations'!AC19 -> 0 | BJ14: =SUM(BJ4:BJ13) -> 0 | BK14: =' B_Populations'!AE19 -> 0 | BL14: =SUM(BL4:BL13) -> 0 | BM14: =' B_Populations'!AG19 -> 0 | BN14: =SUM(BN4:BN13) -> 0 | BO14: =' B_Populations'!AI19 -> 0 | BP14: =SUM(BP4:BP13) -> 0 | BQ14: =' B_Populations'!AK19 -> 0 | BR14: =SUM(BR4:BR13) -> 0 | BS14: =' B_Populations'!AM19 -> 0 | BT14: =SUM(BT4:BT13) -> 0 | BU14: =' B_Populations'!AO19 -> 0 | BV14: =SUM(BV4:BV13) -> 0 | BW14: =' B_Populations'!AQ19 -> 0 | BX14: =SUM(BX4:BX13) -> 0 | BY14: =' B_Populations'!AS19 -> 0 | BZ14: =SUM(BZ4:BZ13) -> 0 | CA14: =' B_Populations'!AU19 -> 0 | CB14: =SUM(CB4:CB13) -> 0 | CC14: =' B_Populations'!AW19 -> 0 | CD14: =SUM(CD4:CD13) -> 0 | CE14: =' B_Populations'!AY19 -> 0 | CF14: =SUM(CF4:CF13) -> 0 | CG14: =' B_Populations'!BA19 -> 0 | CH14: =SUM(CH4:CH13) -> 0 | CI14: =' B_Populations'!BC19 -> 0 | CJ14: =SUM(CJ4:CJ13) -> 0 | CK14: =' B_Populations'!BE19 -> 0 | CL14: =SUM(CL4:CL13) -> 0 | CM14: =' B_Populations'!BG19 -> 0 | CN14: =SUM(CN4:CN13) -> 0 | CO14: =' B_Populations'!BI19 -> 0 | CP14: =SUM(CP4:CP13) -> 0 | CU14: total | CV14: =SUM(CV4:CV13) -> 0 | CW14: =SUM(CW4:CW13) -> 0 | CX14: =SUM(CX4:CX13) -> 0 | CY14: =SUM(CY4:CY13) -> 0 | CZ14: =SUM(CZ4:CZ13) -> 0 | DA14: =SUM(DA4:DA13) -> 0 | DB14: =SUM(DB4:DB13) -> 0 | DC14: =SUM(DC4:DC13) -> 0 | ... DV14: =SUM(DV4:DV13) -> 0 | DW14: =+SUM(DW4:DW13) -> 0 | DX14: =SUM(DX4:DX13) -> 0 | DY14: =SUM(DV4:DV13) -> 0
A17: Previous Year: | C17: =' B_Populations'!A25 -> 0 | D17: Sex Data | F17: Demographic Data | CV17: Age-adjusted Rates per 100,000 population
B18: Age | C18: Number of deaths- Total | D18: Number of deaths- Male | E18: Number of deaths- Female | F18: =' B_Populations'!$I$8 -> White-Not Hispanic | G18: =' B_Populations'!$K$8 -> Hispanic | H18: =' B_Populations'!$M$8 -> Black-Not Hispanic | I18: =' B_Populations'!$O$8 -> Asian | J18: =' B_Populations'!$Q$8 -> American Indian/Alaska Native | K18: =' B_Populations'!$S$8 -> Other | L18: =' B_Populations'!$U$8 -> Other | AH18: State population - Total | AI18: Rate | AJ18: State population - Male | AK18: Rate | AL18: State population - Female | AM18: Rate | AN18: =' B_Populations'!$I$8 -> White-Not Hispanic | AO18: Rate | AP18: =' B_Populations'!$K$8 -> Hispanic | AQ18: Rate | AR18: =' B_Populations'!$M$8 -> Black-Not Hispanic | AS18: Rate | AT18: =' B_Populations'!$O$8 -> Asian | AU18: Rate | AV18: =' B_Populations'!$Q$8 -> American Indian/Alaska Native | AW18: Rate | AX18: =' B_Populations'!$S$8 -> Other | AY18: Rate | AZ18: =' B_Populations'!$U$8 -> Other | BA18: Rate | CS18: 2000 Population Weight | CU18: Age | CV18: Total | CW18: Male | CX18: Female | CY18: =' B_Populations'!$I$8 -> White-Not Hispanic | CZ18: =' B_Populations'!$K$8 -> Hispanic | DA18: =' B_Populations'!$M$8 -> Black-Not Hispanic | DB18: =' B_Populations'!$O$8 -> Asian | DC18: =' B_Populations'!$Q$8 -> American Indian/Alaska Native | DD18: =' B_Populations'!$S$8 -> Other | DE18: =' B_Populations'!$U$8 -> Other
B19: =' B_Populations'!$B$9 -> 10-14 | AH19: =' B_Populations'!C24 -> 0 | AI19: =IF(AH19=0,0,(C19/AH19)*100000) -> 0 | AJ19: =' B_Populations'!E24 -> 0 | AK19: =IF(AJ19=0,0,($D$19/$AJ$19)*100000) -> 0 | AL19: =' B_Populations'!G24 -> 0 | AM19: =IF(AL19=0,0,($E$19/$AL$19)*100000) -> 0 | AN19: =' B_Populations'!I24 -> 0 | AO19: =IF(AN19=0,0,($F$19/$AN$19)*100000) -> 0 | AP19: =' B_Populations'!K24 -> 0 | AQ19: =IF(AP19=0,0,($G$19/$AP$19)*100000) -> 0 | AR19: =' B_Populations'!M24 -> 0 | AS19: =IF(AR19=0,0,($H$19/$AR$19)*100000) -> 0 | AT19: =' B_Populations'!O24 -> 0 | AU19: =IF(AT19=0,0,($I$19/$AT$19)*100000) -> 0 | AV19: =' B_Populations'!Q24 -> 0 | AW19: =IF(AV19=0,0,($J$19/$AV$19)*100000) -> 0 | AX19: =' B_Populations'!S24 -> 0 | AY19: =IF(AX19=0,0,($K$19/$AX$19)*100000) -> 0 | AZ19: =' B_Populations'!U24 -> 0 | BA19: =IF(AZ19=0,0,($L$19/$AZ$19)*100000) -> 0 | CS19: 0.073032 | CU19: =' B_Populations'!$B$9 -> 10-14 | CV19: =AI19*CS19 -> 0 | CW19: =AK19*CS19 -> 0 | CX19: =AM19*CS19 -> 0 | CY19: =AO19*CS19 -> 0 | CZ19: =AQ19*CS19 -> 0 | DA19: =AS19*CS19 -> 0 | DB19: =AU19*CS19 -> 0 | DC19: =AW19*CS19 -> 0 | DD19: =AY19*CS19 -> 0 | DE19: =BA19*CS19 -> 0
B20: =' B_Populations'!$B$10 -> 15-19 | AH20: =' B_Populations'!C25 -> 0 | AI20: =IF(AH20=0,0,(C20/AH20)*100000) -> 0 | AJ20: =' B_Populations'!E25 -> 0 | AK20: =IF(AJ20=0,0,($D$20/$AJ$20)*100000) -> 0 | AL20: =' B_Populations'!G25 -> 0 | AM20: =IF(AL20=0,0,($E$20/$AL$20)*100000) -> 0 | AN20: =' B_Populations'!I25 -> 0 | AO20: =IF(AN20=0,0,($F$20/$AN$20)*100000) -> 0 | AP20: =' B_Populations'!K25 -> 0 | AQ20: =IF(AP20=0,0,($G$20/$AP$20)*100000) -> 0 | AR20: =' B_Populations'!M25 -> 0 | AS20: =IF(AR20=0,0,($H$20/$AR$20)*100000) -> 0 | AT20: =' B_Populations'!O25 -> 0 | AU20: =IF(AT20=0,0,($I$20/$AT$20)*100000) -> 0 | AV20: =' B_Populations'!Q25 -> 0 | AW20: =IF(AV20=0,0,($J$20/$AV$20)*100000) -> 0 | AX20: =' B_Populations'!S25 -> 0 | AY20: =IF(AX20=0,0,($K$20/$AX$20)*100000) -> 0 | AZ20: =' B_Populations'!U25 -> 0 | BA20: =IF(AZ20=0,0,($L$20/$AZ$20)*100000) -> 0 | CS20: 0.072169 | CU20: =' B_Populations'!$B$10 -> 15-19 | CV20: =AI20*CS20 -> 0 | CW20: =AK20*CS20 -> 0 | CX20: =AM20*CS20 -> 0 | CY20: =AO20*CS20 -> 0 | CZ20: =AQ20*CS20 -> 0 | DA20: =AS20*CS20 -> 0 | DB20: =AU20*CS20 -> 0 | DC20: =AW20*CS20 -> 0 | DD20: =AY20*CS20 -> 0 | DE20: =BA20*CS20 -> 0
B21: =' B_Populations'!$B$11 -> 20-24 | AH21: =' B_Populations'!C26 -> 0 | AI21: =IF(AH21=0,0,(C21/AH21)*100000) -> 0 | AJ21: =' B_Populations'!E26 -> 0 | AK21: =IF(AJ21=0,0,($D$21/$AJ$21)*100000) -> 0 | AL21: =' B_Populations'!G26 -> 0 | AM21: =IF(AL21=0,0,($E$21/$AL$21)*100000) -> 0 | AN21: =' B_Populations'!I26 -> 0 | AO21: =IF(AN21=0,0,($F$21/$AN$21)*100000) -> 0 | AP21: =' B_Populations'!K26 -> 0 | AQ21: =IF(AP21=0,0,($G$21/$AP$21)*100000) -> 0 | AR21: =' B_Populations'!M26 -> 0 | AS21: =IF(AR21=0,0,($H$216/$AR$21)*100000) -> 0 | AT21: =' B_Populations'!O26 -> 0 | AU21: =IF(AT21=0,0,($I$21/$AT$21)*100000) -> 0 | AV21: =' B_Populations'!Q26 -> 0 | AW21: =IF(AV21=0,0,($J$21/$AV$21)*100000) -> 0 | AX21: =' B_Populations'!S26 -> 0 | AY21: =IF(AX21=0,0,($K$21/$AX$21)*100000) -> 0 | AZ21: =' B_Populations'!U26 -> 0 | BA21: =IF(AZ21=0,0,($L$21/$AZ$21)*100000) -> 0 | CS21: 0.066478 | CU21: =' B_Populations'!$B$11 -> 20-24 | CV21: =AI21*CS21 -> 0 | CW21: =AK21*CS21 -> 0 | CX21: =AM21*CS21 -> 0 | CY21: =AO21*CS21 -> 0 | CZ21: =AQ21*CS21 -> 0 | DA21: =AS21*CS21 -> 0 | DB21: =AU21*CS21 -> 0 | DC21: =AW21*CS21 -> 0 | DD21: =AY21*CS21 -> 0 | DE21: =BA21*CS21 -> 0
B22: =' B_Populations'!$B$12 -> 25-34 | AH22: =' B_Populations'!C27 -> 0 | AI22: =IF(AH22=0,0,(C22/AH22)*100000) -> 0 | AJ22: =' B_Populations'!E27 -> 0 | AK22: =IF(AJ22=0,0,($D$22/$AJ$22)*100000) -> 0 | AL22: =' B_Populations'!G27 -> 0 | AM22: =IF(AL22=0,0,($E$22/$AL$22)*100000) -> 0 | AN22: =' B_Populations'!I27 -> 0 | AO22: =IF(AN22=0,0,($F$22/$AN$22)*100000) -> 0 | AP22: =' B_Populations'!K27 -> 0 | AQ22: =IF(AP22=0,0,($G$22/$AP$22)*100000) -> 0 | AR22: =' B_Populations'!M27 -> 0 | AS22: =IF(AR22=0,0,($H$22/$AR$22)*100000) -> 0 | AT22: =' B_Populations'!O27 -> 0 | AU22: =IF(AT22=0,0,($I$22/$AT$22)*100000) -> 0 | AV22: =' B_Populations'!Q27 -> 0 | AW22: =IF(AV22=0,0,($J$22/$AV$22)*100000) -> 0 | AX22: =' B_Populations'!S27 -> 0 | AY22: =IF(AX22=0,0,($K$22/$AX$22)*100000) -> 0 | AZ22: =' B_Populations'!U27 -> 0 | BA22: =IF(AZ22=0,0,($L$22/$AZ$22)*100000) -> 0 | CS22: 0.135573 | CU22: =' B_Populations'!$B$12 -> 25-34 | CV22: =AI22*CS22 -> 0 | CW22: =AK22*CS22 -> 0 | CX22: =AM22*CS22 -> 0 | CY22: =AO22*CS22 -> 0 | CZ22: =AQ22*CS22 -> 0 | DA22: =AS22*CS22 -> 0 | DB22: =AU22*CS22 -> 0 | DC22: =AW22*CS22 -> 0 | DD22: =AY22*CS22 -> 0 | DE22: =BA22*CS22 -> 0
B23: =' B_Populations'!$B$13 -> 35-44 | AH23: =' B_Populations'!C28 -> 0 | AI23: =IF(AH23=0,0,(C23/AH23)*100000) -> 0 | AJ23: =' B_Populations'!E28 -> 0 | AK23: =IF(AJ23=0,0,($D$23/$AJ$23)*100000) -> 0 | AL23: =' B_Populations'!G28 -> 0 | AM23: =IF(AL23=0,0,($E$23/$AL$23)*100000) -> 0 | AN23: =' B_Populations'!I28 -> 0 | AO23: =IF(AN23=0,0,($F$23/$AN$23)*100000) -> 0 | AP23: =' B_Populations'!K28 -> 0 | AQ23: =IF(AP23=0,0,($G$23/$AP$23)*100000) -> 0 | AR23: =' B_Populations'!M28 -> 0 | AS23: =IF(AR23=0,0,($H$23/$AR$23)*100000) -> 0 | AT23: =' B_Populations'!O28 -> 0 | AU23: =IF(AT23=0,0,($I$23/$AT$23)*100000) -> 0 | AV23: =' B_Populations'!Q28 -> 0 | AW23: =IF(AV23=0,0,($J$23/$AV$23)*100000) -> 0 | AX23: =' B_Populations'!S28 -> 0 | AY23: =IF(AX23=0,0,($K$23/$AX$23)*100000) -> 0 | AZ23: =' B_Populations'!U28 -> 0 | BA23: =IF(AZ23=0,0,($L$23/$AZ$23)*100000) -> 0 | CS23: 0.162613 | CU23: =' B_Populations'!$B$13 -> 35-44 | CV23: =AI23*CS23 -> 0 | CW23: =AK23*CS23 -> 0 | CX23: =AM23*CS23 -> 0 | CY23: =AO23*CS23 -> 0 | CZ23: =AQ23*CS23 -> 0 | DA23: =AS23*CS23 -> 0 | DB23: =AU23*CS23 -> 0 | DC23: =AW23*CS23 -> 0 | DD23: =AY23*CS23 -> 0 | DE23: =BA23*CS23 -> 0
B24: =' B_Populations'!$B$14 -> 45-54 | AH24: =' B_Populations'!C29 -> 0 | AI24: =IF(AH24=0,0,(C24/AH24)*100000) -> 0 | AJ24: =' B_Populations'!E29 -> 0 | AK24: =IF(AJ24=0,0,($D$24/$AJ$24)*100000) -> 0 | AL24: =' B_Populations'!G29 -> 0 | AM24: =IF(AL24=0,0,($E$24/$AL$24)*100000) -> 0 | AN24: =' B_Populations'!I29 -> 0 | AO24: =IF(AN24=0,0,($F$24/$AN$24)*100000) -> 0 | AP24: =' B_Populations'!K29 -> 0 | AQ24: =IF(AP24=0,0,($G$24/$AP$24)*100000) -> 0 | AR24: =' B_Populations'!M29 -> 0 | AS24: =IF(AR24=0,0,($H$24/$AR$24)*100000) -> 0 | AT24: =' B_Populations'!O29 -> 0 | AU24: =IF(AT24=0,0,($I$24/$AT$24)*100000) -> 0 | AV24: =' B_Populations'!Q29 -> 0 | AW24: =IF(AV24=0,0,($J$24/$AV$24)*100000) -> 0 | AX24: =' B_Populations'!S29 -> 0 | AY24: =IF(AX24=0,0,($K$24/$AX$24)*100000) -> 0 | AZ24: =' B_Populations'!U29 -> 0 | BA24: =IF(AZ24=0,0,($L$24/$AZ$24)*100000) -> 0 | CS24: 0.134834 | CU24: =' B_Populations'!$B$14 -> 45-54 | CV24: =AI24*CS24 -> 0 | CW24: =AK24*CS24 -> 0 | CX24: =AM24*CS24 -> 0 | CY24: =AO24*CS24 -> 0 | CZ24: =AQ24*CS24 -> 0 | DA24: =AS24*CS24 -> 0 | DB24: =AU24*CS24 -> 0 | DC24: =AW24*CS24 -> 0 | DD24: =AY24*CS24 -> 0 | DE24: =BA24*CS24 -> 0
B25: =' B_Populations'!$B$15 -> 55-64 | AH25: =' B_Populations'!C30 -> 0 | AI25: =IF(AH25=0,0,(C25/AH25)*100000) -> 0 | AJ25: =' B_Populations'!E30 -> 0 | AK25: =IF(AJ25=0,0,($D$25/$AJ$25)*100000) -> 0 | AL25: =' B_Populations'!G30 -> 0 | AM25: =IF(AL25=0,0,($E$25/$AL$25)*100000) -> 0 | AN25: =' B_Populations'!I30 -> 0 | AO25: =IF(AN25=0,0,($F$25/$AN$25)*100000) -> 0 | AP25: =' B_Populations'!K30 -> 0 | AQ25: =IF(AP25=0,0,($G$25/$AP$25)*100000) -> 0 | AR25: =' B_Populations'!M30 -> 0 | AS25: =IF(AR25=0,0,($H$25/$AR$25)*100000) -> 0 | AT25: =' B_Populations'!O30 -> 0 | AU25: =IF(AT25=0,0,($I$25/$AT$25)*100000) -> 0 | AV25: =' B_Populations'!Q30 -> 0 | AW25: =IF(AV25=0,0,($J$25/$AV$25)*100000) -> 0 | AX25: =' B_Populations'!S30 -> 0 | AY25: =IF(AX25=0,0,($K$25/$AX$25)*100000) -> 0 | AZ25: =' B_Populations'!U30 -> 0 | BA25: =IF(AZ25=0,0,($L$25/$AZ$25)*100000) -> 0 | CS25: 0.087247 | CU25: =' B_Populations'!$B$15 -> 55-64 | CV25: =AI25*CS25 -> 0 | CW25: =AK25*CS25 -> 0 | CX25: =AM25*CS25 -> 0 | CY25: =AO25*CS25 -> 0 | CZ25: =AQ25*CS25 -> 0 | DA25: =AS25*CS25 -> 0 | DB25: =AU25*CS25 -> 0 | DC25: =AW25*CS25 -> 0 | DD25: =AY25*CS25 -> 0 | DE25: =BA25*CS25 -> 0
B26: =' B_Populations'!$B$16 -> 65-74 | AH26: =' B_Populations'!C31 -> 0 | AI26: =IF(AH26=0,0,(C26/AH26)*100000) -> 0 | AJ26: =' B_Populations'!E31 -> 0 | AK26: =IF(AJ26=0,0,($D$26/$AJ$26)*100000) -> 0 | AL26: =' B_Populations'!G31 -> 0 | AM26: =IF(AL26=0,0,($E$26/$AL$26)*100000) -> 0 | AN26: =' B_Populations'!I31 -> 0 | AO26: =IF(AN26=0,0,($F$26/$AN$26)*100000) -> 0 | AP26: =' B_Populations'!K31 -> 0 | AQ26: =IF(AP26=0,0,($G$26/$AP$26)*100000) -> 0 | AR26: =' B_Populations'!M31 -> 0 | AS26: =IF(AR26=0,0,($H$26/$AR$26)*100000) -> 0 | AT26: =' B_Populations'!O31 -> 0 | AU26: =IF(AT26=0,0,($I$26/$AT$26)*100000) -> 0 | AV26: =' B_Populations'!Q31 -> 0 | AW26: =IF(AV26=0,0,($J$26/$AV$26)*100000) -> 0 | AX26: =' B_Populations'!S31 -> 0 | AY26: =IF(AX26=0,0,($K$26/$AX$26)*100000) -> 0 | AZ26: =' B_Populations'!U31 -> 0 | BA26: =IF(AZ26=0,0,($L$26/$AZ$26)*100000) -> 0 | CS26: 0.066037 | CU26: =' B_Populations'!$B$16 -> 65-74 | CV26: =AI26*CS26 -> 0 | CW26: =AK26*CS26 -> 0 | CX26: =AM26*CS26 -> 0 | CY26: =AO26*CS26 -> 0 | CZ26: =AQ26*CS26 -> 0 | DA26: =AS26*CS26 -> 0 | DB26: =AU26*CS26 -> 0 | DC26: =AW26*CS26 -> 0 | DD26: =AY26*CS26 -> 0 | DE26: =BA26*CS26 -> 0
B27: =' B_Populations'!$B$17 -> 75-84 | AH27: =' B_Populations'!C32 -> 0 | AI27: =IF(AH27=0,0,(C27/AH27)*100000) -> 0 | AJ27: =' B_Populations'!E32 -> 0 | AK27: =IF(AJ27=0,0,($D$27/$AJ$27)*100000) -> 0 | AL27: =' B_Populations'!G32 -> 0 | AM27: =IF(AL27=0,0,($E$27/$AL$27)*100000) -> 0 | AN27: =' B_Populations'!I32 -> 0 | AO27: =IF(AN27=0,0,($F$27/$AN$27)*100000) -> 0 | AP27: =' B_Populations'!K32 -> 0 | AQ27: =IF(AP27=0,0,($G$27/$AP$27)*100000) -> 0 | AR27: =' B_Populations'!M32 -> 0 | AS27: =IF(AR27=0,0,($H$27/$AR$27)*100000) -> 0 | AT27: =' B_Populations'!O32 -> 0 | AU27: =IF(AT27=0,0,($I$27/$AT$27)*100000) -> 0 | AV27: =' B_Populations'!Q32 -> 0 | AW27: =IF(AV27=0,0,($J$27/$AV$27)*100000) -> 0 | AX27: =' B_Populations'!S32 -> 0 | AY27: =IF(AX27=0,0,($K$27/$AX$27)*100000) -> 0 | AZ27: =' B_Populations'!U32 -> 0 | BA27: =IF(AZ27=0,0,($L$27/$AZ$27)*100000) -> 0 | CS27: 0.044841 | CU27: =' B_Populations'!$B$17 -> 75-84 | CV27: =AI27*CS27 -> 0 | CW27: =AK27*CS27 -> 0 | CX27: =AM27*CS27 -> 0 | CY27: =AO27*CS27 -> 0 | CZ27: =AQ27*CS27 -> 0 | DA27: =AS27*CS27 -> 0 | DB27: =AU27*CS27 -> 0 | DC27: =AW27*CS27 -> 0 | DD27: =AY27*CS27 -> 0 | DE27: =BA27*CS27 -> 0
B28: =' B_Populations'!$B$18 -> 85+ | AH28: =' B_Populations'!C33 -> 0 | AI28: =IF(AH28=0,0,(C28/AH28)*100000) -> 0 | AJ28: =' B_Populations'!E33 -> 0 | AK28: =IF(AJ28=0,0,($D$28/$AJ$28)*100000) -> 0 | AL28: =' B_Populations'!G33 -> 0 | AM28: =IF(AL28=0,0,($E$28/$AL$28)*100000) -> 0 | AN28: =' B_Populations'!I33 -> 0 | AO28: =IF(AN28=0,0,($F$28/$AN$28)*100000) -> 0 | AP28: =' B_Populations'!K33 -> 0 | AQ28: =IF(AP28=0,0,($G$28/$AP$28)*100000) -> 0 | AR28: =' B_Populations'!M33 -> 0 | AS28: =IF(AR28=0,0,($H$28/$AR$28)*100000) -> 0 | AT28: =' B_Populations'!O33 -> 0 | AU28: =IF(AT28=0,0,($I$28/$AT$28)*100000) -> 0 | AV28: =' B_Populations'!Q33 -> 0 | AW28: =IF(AV28=0,0,($J$28/$AV$28)*100000) -> 0 | AX28: =' B_Populations'!S33 -> 0 | AY28: =IF(AX28=0,0,($K$28/$AX$28)*100000) -> 0 | AZ28: =' B_Populations'!U33 -> 0 | BA28: =IF(AZ28=0,0,($L$28/$AZ$28)*100000) -> 0 | CS28: 0.015508 | CU28: =' B_Populations'!$B$18 -> 85+ | CV28: =AI28*CS28 -> 0 | CW28: =AK28*CS28 -> 0 | CX28: =AM28*CS28 -> 0 | CY28: =AO28*CS28 -> 0 | CZ28: =AQ28*CS28 -> 0 | DA28: =AS28*CS28 -> 0 | DB28: =AU28*CS28 -> 0 | DC28: =AW28*CS28 -> 0 | DD28: =AY28*CS28 -> 0 | DE28: =BA28*CS28 -> 0
B29: total | C29: =SUM(C19:C28) -> 0 | D29: =SUM(D19:D28) -> 0 | E29: =SUM(E19:E28) -> 0 | F29: =SUM(F19:F28) -> 0 | G29: =SUM(G19:G28) -> 0 | H29: =SUM(H19:H28) -> 0 | I29: =SUM(I19:I28) -> 0 | J29: =SUM(J19:J28) -> 0 | ... L29: =SUM(L19:L28) -> 0 | AH29: =SUM(AH19:AH28) -> 0 | AI29: =SUM(AI19:AI28) -> 0 | AJ29: =SUM(AJ19:AJ28) -> 0 | AK29: =SUM(AK19:AK28) -> 0 | AL29: =SUM(AL19:AL28) -> 0 | AM29: =SUM(AM19:AM28) -> 0 | AN29: =SUM(AN19:AN28) -> 0 | AO29: =SUM(AO19:AO28) -> 0 | ... BA29: =SUM(BA19:BA28) -> 0 | CU29: total | CV29: =SUM(CV19:CV28) -> 0 | CW29: =SUM(CW19:CW28) -> 0 | CX29: =SUM(CX19:CX28) -> 0 | CY29: =SUM(CY19:CY28) -> 0 | CZ29: =SUM(CZ19:CZ28) -> 0 | DA29: =SUM(DA19:DA28) -> 0 | DB29: =SUM(DB19:DB28) -> 0 | DC29: =SUM(DC19:DC28) -> 0 | ... DE29: =SUM(DE19:DE28) -> 0
A32: Previous Year: | C32: =' B_Populations'!A40 -> 0 | D32: Sex Data | F32: Demographic Data | CV32: Age-adjusted Rates per 100,000 population
B33: Age | C33: Number of deaths- Total | D33: Number of deaths- Male | E33: Number of deaths- Female | F33: =' B_Populations'!$I$8 -> White-Not Hispanic | G33: =' B_Populations'!$K$8 -> Hispanic | H33: =' B_Populations'!$M$8 -> Black-Not Hispanic | I33: =' B_Populations'!$O$8 -> Asian | J33: =' B_Populations'!$Q$8 -> American Indian/Alaska Native | K33: =' B_Populations'!$S$8 -> Other | L33: =' B_Populations'!$U$8 -> Other | AH33: State population - Total | AI33: Rate | AJ33: State population - Male | AK33: Rate | AL33: State population - Female | AM33: Rate | AN33: =' B_Populations'!$I$8 -> White-Not Hispanic | AO33: Rate | AP33: =' B_Populations'!$K$8 -> Hispanic | AQ33: Rate | AR33: =' B_Populations'!$M$8 -> Black-Not Hispanic | AS33: Rate | AT33: =' B_Populations'!$O$8 -> Asian | AU33: Rate | AV33: =' B_Populations'!$Q$8 -> American Indian/Alaska Native | AW33: Rate | AX33: =' B_Populations'!$S$8 -> Other | AY33: Rate | AZ33: =' B_Populations'!$U$8 -> Other | BA33: Rate | CS33: 2000 Population Weight | CU33: Age | CV33: Total | CW33: Male | CX33: Female | CY33: =' B_Populations'!$I$8 -> White-Not Hispanic | CZ33: =' B_Populations'!$K$8 -> Hispanic | DA33: =' B_Populations'!$M$8 -> Black-Not Hispanic | DB33: =' B_Populations'!$O$8 -> Asian | DC33: =' B_Populations'!$Q$8 -> American Indian/Alaska Native | DD33: =' B_Populations'!$S$8 -> Other | DE33: =' B_Populations'!$U$8 -> Other
B34: =' B_Populations'!$B$9 -> 10-14 | AH34: =' B_Populations'!C39 -> 0 | AI34: =IF(AH34=0,0,(C34/AH34)*100000) -> 0 | AJ34: =' B_Populations'!E39 -> 0 | AK34: =IF(AJ34=0,0,($D$34/$AJ$34)*100000) -> 0 | AL34: =' B_Populations'!G39 -> 0 | AM34: =IF(AL34=0,0,($E$34/$AL$34)*100000) -> 0 | AN34: =' B_Populations'!I39 -> 0 | AO34: =IF(AN34=0,0,($F$34/$AN$34)*100000) -> 0 | AP34: =' B_Populations'!K39 -> 0 | AQ34: =IF(AP34=0,0,($G$34/$AP$34)*100000) -> 0 | AR34: =' B_Populations'!M39 -> 0 | AS34: =IF(AR34=0,0,($H$34/$AR$34)*100000) -> 0 | AT34: =' B_Populations'!O39 -> 0 | AU34: =IF(AT34=0,0,($I$34/$AT$34)*100000) -> 0 | AV34: =' B_Populations'!Q39 -> 0 | AW34: =IF(AV34=0,0,($J$34/$AV$34)*100000) -> 0 | AX34: =' B_Populations'!S39 -> 0 | AY34: =IF(AX34=0,0,($K$34/$AX$34)*100000) -> 0 | AZ34: =' B_Populations'!U39 -> 0 | BA34: =IF(AZ34=0,0,($L$34/$AZ$34)*100000) -> 0 | CS34: 0.073032 | CU34: =' B_Populations'!$B$9 -> 10-14 | CV34: =AI34*CS34 -> 0 | CW34: =AK34*CS34 -> 0 | CX34: =AM34*CS34 -> 0 | CY34: =AO34*CS34 -> 0 | CZ34: =AQ34*CS34 -> 0 | DA34: =AS34*CS34 -> 0 | DB34: =AU34*CS34 -> 0 | DC34: =AW34*CS34 -> 0 | DD34: =AY34*CS34 -> 0 | DE34: =BA34*CS34 -> 0
B35: =' B_Populations'!$B$10 -> 15-19 | AH35: =' B_Populations'!C40 -> 0 | AI35: =IF(AH35=0,0,(C35/AH35)*100000) -> 0 | AJ35: =' B_Populations'!E40 -> 0 | AK35: =IF(AJ35=0,0,($D$35/$AJ$35)*100000) -> 0 | AL35: =' B_Populations'!G40 -> 0 | AM35: =IF(AL35=0,0,($E$35/$AL$35)*100000) -> 0 | AN35: =' B_Populations'!I40 -> 0 | AO35: =IF(AN35=0,0,($F$35/$AN$35)*100000) -> 0 | AP35: =' B_Populations'!K40 -> 0 | AQ35: =IF(AP35=0,0,($G$35/$AP$35)*100000) -> 0 | AR35: =' B_Populations'!M40 -> 0 | AS35: =IF(AR35=0,0,($H$35/$AR$35)*100000) -> 0 | AT35: =' B_Populations'!O40 -> 0 | AU35: =IF(AT35=0,0,($I$35/$AT$35)*100000) -> 0 | AV35: =' B_Populations'!Q40 -> 0 | AW35: =IF(AV35=0,0,($J$35/$AV$35)*100000) -> 0 | AX35: =' B_Populations'!S40 -> 0 | AY35: =IF(AX35=0,0,($K$35/$AX$35)*100000) -> 0 | AZ35: =' B_Populations'!U40 -> 0 | BA35: =IF(AZ35=0,0,($L$35/$AZ$35)*100000) -> 0 | CS35: 0.072169 | CU35: =' B_Populations'!$B$10 -> 15-19 | CV35: =AI35*CS35 -> 0 | CW35: =AK35*CS35 -> 0 | CX35: =AM35*CS35 -> 0 | CY35: =AO35*CS35 -> 0 | CZ35: =AQ35*CS35 -> 0 | DA35: =AS35*CS35 -> 0 | DB35: =AU35*CS35 -> 0 | DC35: =AW35*CS35 -> 0 | DD35: =AY35*CS35 -> 0 | DE35: =BA35*CS35 -> 0
B36: =' B_Populations'!$B$11 -> 20-24 | AH36: =' B_Populations'!C41 -> 0 | AI36: =IF(AH36=0,0,(C36/AH36)*100000) -> 0 | AJ36: =' B_Populations'!E41 -> 0 | AK36: =IF(AJ36=0,0,($D$36/$AJ$36)*100000) -> 0 | AL36: =' B_Populations'!G41 -> 0 | AM36: =IF(AL36=0,0,($E$36/$AL$36)*100000) -> 0 | AN36: =' B_Populations'!I41 -> 0 | AO36: =IF(AN36=0,0,($F$36/$AN$36)*100000) -> 0 | AP36: =' B_Populations'!K41 -> 0 | AQ36: =IF(AP36=0,0,($G$36/$AP$36)*100000) -> 0 | AR36: =' B_Populations'!M41 -> 0 | AS36: =IF(AR36=0,0,($H$36/$AR$36)*100000) -> 0 | AT36: =' B_Populations'!O41 -> 0 | AU36: =IF(AT36=0,0,($I$36/$AT$36)*100000) -> 0 | AV36: =' B_Populations'!Q41 -> 0 | AW36: =IF(AV36=0,0,($J$36/$AV$36)*100000) -> 0 | AX36: =' B_Populations'!S41 -> 0 | AY36: =IF(AX36=0,0,($K$36/$AX$36)*100000) -> 0 | AZ36: =' B_Populations'!U41 -> 0 | BA36: =IF(AZ36=0,0,($L$36/$AZ$36)*100000) -> 0 | CS36: 0.066478 | CU36: =' B_Populations'!$B$11 -> 20-24 | CV36: =AI36*CS36 -> 0 | CW36: =AK36*CS36 -> 0 | CX36: =AM36*CS36 -> 0 | CY36: =AO36*CS36 -> 0 | CZ36: =AQ36*CS36 -> 0 | DA36: =AS36*CS36 -> 0 | DB36: =AU36*CS36 -> 0 | DC36: =AW36*CS36 -> 0 | DD36: =AY36*CS36 -> 0 | DE36: =BA36*CS36 -> 0
B37: =' B_Populations'!$B$12 -> 25-34 | AH37: =' B_Populations'!C42 -> 0 | AI37: =IF(AH37=0,0,(C37/AH37)*100000) -> 0 | AJ37: =' B_Populations'!E42 -> 0 | AK37: =IF(AJ37=0,0,($D$37/$AJ$37)*100000) -> 0 | AL37: =' B_Populations'!G42 -> 0 | AM37: =IF(AL37=0,0,($E$37/$AL$37)*100000) -> 0 | AN37: =' B_Populations'!I42 -> 0 | AO37: =IF(AN37=0,0,($F$37/$AN$37)*100000) -> 0 | AP37: =' B_Populations'!K42 -> 0 | AQ37: =IF(AP37=0,0,($G$37/$AP$37)*100000) -> 0 | AR37: =' B_Populations'!M42 -> 0 | AS37: =IF(AR37=0,0,($H$37/$AR$37)*100000) -> 0 | AT37: =' B_Populations'!O42 -> 0 | AU37: =IF(AT37=0,0,($I$37/$AT$37)*100000) -> 0 | AV37: =' B_Populations'!Q42 -> 0 | AW37: =IF(AV37=0,0,($J$37/$AV$37)*100000) -> 0 | AX37: =' B_Populations'!S42 -> 0 | AY37: =IF(AX37=0,0,($K$37/$AX$37)*100000) -> 0 | AZ37: =' B_Populations'!U42 -> 0 | BA37: =IF(AZ37=0,0,($L$37/$AZ$37)*100000) -> 0 | CS37: 0.135573 | CU37: =' B_Populations'!$B$12 -> 25-34 | CV37: =AI37*CS37 -> 0 | CW37: =AK37*CS37 -> 0 | CX37: =AM37*CS37 -> 0 | CY37: =AO37*CS37 -> 0 | CZ37: =AQ37*CS37 -> 0 | DA37: =AS37*CS37 -> 0 | DB37: =AU37*CS37 -> 0 | DC37: =AW37*CS37 -> 0 | DD37: =AY37*CS37 -> 0 | DE37: =BA37*CS37 -> 0
B38: =' B_Populations'!$B$13 -> 35-44 | AH38: =' B_Populations'!C43 -> 0 | AI38: =IF(AH38=0,0,(C38/AH38)*100000) -> 0 | AJ38: =' B_Populations'!E43 -> 0 | AK38: =IF(AJ38=0,0,($D$38/$AJ$38)*100000) -> 0 | AL38: =' B_Populations'!G43 -> 0 | AM38: =IF(AL38=0,0,($E$38/$AL$38)*100000) -> 0 | AN38: =' B_Populations'!I43 -> 0 | AO38: =IF(AN38=0,0,($F$38/$AN$38)*100000) -> 0 | AP38: =' B_Populations'!K43 -> 0 | AQ38: =IF(AP38=0,0,($G$38/$AP$38)*100000) -> 0 | AR38: =' B_Populations'!M43 -> 0 | AS38: =IF(AR38=0,0,($H$38/$AR$38)*100000) -> 0 | AT38: =' B_Populations'!O43 -> 0 | AU38: =IF(AT38=0,0,($I$38/$AT$38)*100000) -> 0 | AV38: =' B_Populations'!Q43 -> 0 | AW38: =IF(AV38=0,0,($J$38/$AV$38)*100000) -> 0 | AX38: =' B_Populations'!S43 -> 0 | AY38: =IF(AX38=0,0,($K$38/$AX$38)*100000) -> 0 | AZ38: =' B_Populations'!U43 -> 0 | BA38: =IF(AZ38=0,0,($L$38/$AZ$38)*100000) -> 0 | CS38: 0.162613 | CU38: =' B_Populations'!$B$13 -> 35-44 | CV38: =AI38*CS38 -> 0 | CW38: =AK38*CS38 -> 0 | CX38: =AM38*CS38 -> 0 | CY38: =AO38*CS38 -> 0 | CZ38: =AQ38*CS38 -> 0 | DA38: =AS38*CS38 -> 0 | DB38: =AU38*CS38 -> 0 | DC38: =AW38*CS38 -> 0 | DD38: =AY38*CS38 -> 0 | DE38: =BA38*CS38 -> 0
B39: =' B_Populations'!$B$14 -> 45-54 | AH39: =' B_Populations'!C44 -> 0 | AI39: =IF(AH39=0,0,(C39/AH39)*100000) -> 0 | AJ39: =' B_Populations'!E44 -> 0 | AK39: =IF(AJ39=0,0,($D$39/$AJ$39)*100000) -> 0 | AL39: =' B_Populations'!G44 -> 0 | AM39: =IF(AL39=0,0,($E$39/$AL$39)*100000) -> 0 | AN39: =' B_Populations'!I44 -> 0 | AO39: =IF(AN39=0,0,($F$39/$AN$39)*100000) -> 0 | AP39: =' B_Populations'!K44 -> 0 | AQ39: =IF(AP39=0,0,($G$39/$AP$39)*100000) -> 0 | AR39: =' B_Populations'!M44 -> 0 | AS39: =IF(AR39=0,0,($H$39/$AR$39)*100000) -> 0 | AT39: =' B_Populations'!O44 -> 0 | AU39: =IF(AT39=0,0,($I$39/$AT$39)*100000) -> 0 | AV39: =' B_Populations'!Q44 -> 0 | AW39: =IF(AV39=0,0,($J$39/$AV$39)*100000) -> 0 | AX39: =' B_Populations'!S44 -> 0 | AY39: =IF(AX39=0,0,($K$39/$AX$39)*100000) -> 0 | AZ39: =' B_Populations'!U44 -> 0 | BA39: =IF(AZ39=0,0,($L$39/$AZ$39)*100000) -> 0 | CS39: 0.134834 | CU39: =' B_Populations'!$B$14 -> 45-54 | CV39: =AI39*CS39 -> 0 | CW39: =AK39*CS39 -> 0 | CX39: =AM39*CS39 -> 0 | CY39: =AO39*CS39 -> 0 | CZ39: =AQ39*CS39 -> 0 | DA39: =AS39*CS39 -> 0 | DB39: =AU39*CS39 -> 0 | DC39: =AW39*CS39 -> 0 | DD39: =AY39*CS39 -> 0 | DE39: =BA39*CS39 -> 0
B40: =' B_Populations'!$B$15 -> 55-64 | AH40: =' B_Populations'!C45 -> 0 | AI40: =IF(AH40=0,0,(C40/AH40)*100000) -> 0 | AJ40: =' B_Populations'!E45 -> 0 | AK40: =IF(AJ40=0,0,($D$40/$AJ$40)*100000) -> 0 | AL40: =' B_Populations'!G45 -> 0 | AM40: =IF(AL40=0,0,($E$40/$AL$40)*100000) -> 0 | AN40: =' B_Populations'!I45 -> 0 | AO40: =IF(AN40=0,0,($F$40/$AN$40)*100000) -> 0 | AP40: =' B_Populations'!K45 -> 0 | AQ40: =IF(AP40=0,0,($G$40/$AP$40)*100000) -> 0 | AR40: =' B_Populations'!M45 -> 0 | AS40: =IF(AR40=0,0,($H$40/$AR$40)*100000) -> 0 | AT40: =' B_Populations'!O45 -> 0 | AU40: =IF(AT40=0,0,($I$40/$AT$40)*100000) -> 0 | AV40: =' B_Populations'!Q45 -> 0 | AW40: =IF(AV40=0,0,($J$40/$AV$40)*100000) -> 0 | AX40: =' B_Populations'!S45 -> 0 | AY40: =IF(AX40=0,0,($K$40/$AX$40)*100000) -> 0 | AZ40: =' B_Populations'!U45 -> 0 | BA40: =IF(AZ40=0,0,($L$40/$AZ$40)*100000) -> 0 | CS40: 0.087247 | CU40: =' B_Populations'!$B$15 -> 55-64 | CV40: =AI40*CS40 -> 0 | CW40: =AK40*CS40 -> 0 | CX40: =AM40*CS40 -> 0 | CY40: =AO40*CS40 -> 0 | CZ40: =AQ40*CS40 -> 0 | DA40: =AS40*CS40 -> 0 | DB40: =AU40*CS40 -> 0 | DC40: =AW40*CS40 -> 0 | DD40: =AY40*CS40 -> 0 | DE40: =BA40*CS40 -> 0
B41: =' B_Populations'!$B$16 -> 65-74 | AH41: =' B_Populations'!C46 -> 0 | AI41: =IF(AH41=0,0,(C41/AH41)*100000) -> 0 | AJ41: =' B_Populations'!E46 -> 0 | AK41: =IF(AJ41=0,0,($D$41/$AJ$41)*100000) -> 0 | AL41: =' B_Populations'!G46 -> 0 | AM41: =IF(AL41=0,0,($E$41/$AL$41)*100000) -> 0 | AN41: =' B_Populations'!I46 -> 0 | AO41: =IF(AN41=0,0,($F$41/$AN$41)*100000) -> 0 | AP41: =' B_Populations'!K46 -> 0 | AQ41: =IF(AP41=0,0,($G$41/$AP$41)*100000) -> 0 | AR41: =' B_Populations'!M46 -> 0 | AS41: =IF(AR41=0,0,($H$41/$AR$41)*100000) -> 0 | AT41: =' B_Populations'!O46 -> 0 | AU41: =IF(AT41=0,0,($I$41/$AT$41)*100000) -> 0 | AV41: =' B_Populations'!Q46 -> 0 | AW41: =IF(AV41=0,0,($J$41/$AV$41)*100000) -> 0 | AX41: =' B_Populations'!S46 -> 0 | AY41: =IF(AX41=0,0,($K$41/$AX$41)*100000) -> 0 | AZ41: =' B_Populations'!U46 -> 0 | BA41: =IF(AZ41=0,0,($L$41/$AZ$41)*100000) -> 0 | CS41: 0.066037 | CU41: =' B_Populations'!$B$16 -> 65-74 | CV41: =AI41*CS41 -> 0 | CW41: =AK41*CS41 -> 0 | CX41: =AM41*CS41 -> 0 | CY41: =AO41*CS41 -> 0 | CZ41: =AQ41*CS41 -> 0 | DA41: =AS41*CS41 -> 0 | DB41: =AU41*CS41 -> 0 | DC41: =AW41*CS41 -> 0 | DD41: =AY41*CS41 -> 0 | DE41: =BA41*CS41 -> 0
B42: =' B_Populations'!$B$17 -> 75-84 | AH42: =' B_Populations'!C47 -> 0 | AI42: =IF(AH42=0,0,(C42/AH42)*100000) -> 0 | AJ42: =' B_Populations'!E47 -> 0 | AK42: =IF(AJ42=0,0,($D$42/$AJ$42)*100000) -> 0 | AL42: =' B_Populations'!G47 -> 0 | AM42: =IF(AL42=0,0,($E$42/$AL$42)*100000) -> 0 | AN42: =' B_Populations'!I47 -> 0 | AO42: =IF(AN42=0,0,($F$42/$AN$42)*100000) -> 0 | AP42: =' B_Populations'!K47 -> 0 | AQ42: =IF(AP42=0,0,($G$42/$AP$42)*100000) -> 0 | AR42: =' B_Populations'!M47 -> 0 | AS42: =IF(AR42=0,0,($H$42/$AR$42)*100000) -> 0 | AT42: =' B_Populations'!O47 -> 0 | AU42: =IF(AT42=0,0,($I$42/$AT$42)*100000) -> 0 | AV42: =' B_Populations'!Q47 -> 0 | AW42: =IF(AV42=0,0,($J$42/$AV$42)*100000) -> 0 | AX42: =' B_Populations'!S47 -> 0 | AY42: =IF(AX42=0,0,($K$42/$AX$42)*100000) -> 0 | AZ42: =' B_Populations'!U47 -> 0 | BA42: =IF(AZ42=0,0,($L$42/$AZ$42)*100000) -> 0 | CS42: 0.044841 | CU42: =' B_Populations'!$B$17 -> 75-84 | CV42: =AI42*CS42 -> 0 | CW42: =AK42*CS42 -> 0 | CX42: =AM42*CS42 -> 0 | CY42: =AO42*CS42 -> 0 | CZ42: =AQ42*CS42 -> 0 | DA42: =AS42*CS42 -> 0 | DB42: =AU42*CS42 -> 0 | DC42: =AW42*CS42 -> 0 | DD42: =AY42*CS42 -> 0 | DE42: =BA42*CS42 -> 0
B43: =' B_Populations'!$B$18 -> 85+ | AH43: =' B_Populations'!C48 -> 0 | AI43: =IF(AH43=0,0,(C43/AH43)*100000) -> 0 | AJ43: =' B_Populations'!E48 -> 0 | AK43: =IF(AJ43=0,0,($D$43/$AJ$43)*100000) -> 0 | AL43: =' B_Populations'!G48 -> 0 | AM43: =IF(AL43=0,0,($E$43/$AL$43)*100000) -> 0 | AN43: =' B_Populations'!I48 -> 0 | AO43: =IF(AN43=0,0,($F$43/$AN$43)*100000) -> 0 | AP43: =' B_Populations'!K48 -> 0 | AQ43: =IF(AP43=0,0,($G$43/$AP$43)*100000) -> 0 | AR43: =' B_Populations'!M48 -> 0 | AS43: =IF(AR43=0,0,($H$43/$AR$43)*100000) -> 0 | AT43: =' B_Populations'!O48 -> 0 | AU43: =IF(AT43=0,0,($I$43/$AT$43)*100000) -> 0 | AV43: =' B_Populations'!Q48 -> 0 | AW43: =IF(AV43=0,0,($J$43/$AV$43)*100000) -> 0 | AX43: =' B_Populations'!S48 -> 0 | AY43: =IF(AX43=0,0,($K$43/$AX$43)*100000) -> 0 | AZ43: =' B_Populations'!U48 -> 0 | BA43: =IF(AZ43=0,0,($L$43/$AZ$43)*100000) -> 0 | CS43: 0.015508 | CU43: =' B_Populations'!$B$18 -> 85+ | CV43: =AI43*CS43 -> 0 | CW43: =AK43*CS43 -> 0 | CX43: =AM43*CS43 -> 0 | CY43: =AO43*CS43 -> 0 | CZ43: =AQ43*CS43 -> 0 | DA43: =AS43*CS43 -> 0 | DB43: =AU43*CS43 -> 0 | DC43: =AW43*CS43 -> 0 | DD43: =AY43*CS43 -> 0 | DE43: =BA43*CS43 -> 0
B44: total | C44: =SUM(C34:C43) -> 0 | D44: =SUM(D34:D43) -> 0 | E44: =SUM(E34:E43) -> 0 | F44: =SUM(F34:F43) -> 0 | G44: =SUM(G34:G43) -> 0 | H44: =SUM(H34:H43) -> 0 | I44: =SUM(I34:I43) -> 0 | J44: =SUM(J34:J43) -> 0 | ... L44: =SUM(L34:L43) -> 0 | AH44: =SUM(AH34:AH43) -> 0 | AI44: =SUM(AI34:AI43) -> 0 | AJ44: =SUM(AJ34:AJ43) -> 0 | AK44: =SUM(AK34:AK43) -> 0 | AL44: =SUM(AL34:AL43) -> 0 | AM44: =SUM(AM34:AM43) -> 0 | AN44: =SUM(AN34:AN43) -> 0 | AO44: =SUM(AO34:AO43) -> 0 | ... BA44: =SUM(BA34:BA43) -> 0 | CU44: total | CV44: =SUM(CV34:CV43) -> 0 | CW44: =SUM(CW34:CW43) -> 0 | CX44: =SUM(CX34:CX43) -> 0 | CY44: =SUM(CY34:CY43) -> 0 | CZ44: =SUM(CZ34:CZ43) -> 0 | DA44: =SUM(DA34:DA43) -> 0 | DB44: =SUM(DB34:DB43) -> 0 | DC44: =SUM(DC34:DC43) -> 0 | ... DE44: =SUM(DE34:DE43) -> 0
A47: Previous Year: | C47: =' B_Populations'!A55 -> 0 | D47: Sex Data | F47: Demographic Data | CV47: Age-adjusted Rates per 100,000 population
B48: Age | C48: Number of deaths- Total | D48: Number of deaths- Male | E48: Number of deaths- Female | F48: =' B_Populations'!$I$8 -> White-Not Hispanic | G48: =' B_Populations'!$K$8 -> Hispanic | H48: =' B_Populations'!$M$8 -> Black-Not Hispanic | I48: =' B_Populations'!$O$8 -> Asian | J48: =' B_Populations'!$Q$8 -> American Indian/Alaska Native | K48: =' B_Populations'!$S$8 -> Other | L48: =' B_Populations'!$U$8 -> Other | AH48: State population - Total | AI48: Rate | AJ48: State population - Male | AK48: Rate | AL48: State population - Female | AM48: Rate | AN48: =' B_Populations'!$I$8 -> White-Not Hispanic | AO48: Rate | AP48: =' B_Populations'!$K$8 -> Hispanic | AQ48: Rate | AR48: =' B_Populations'!$M$8 -> Black-Not Hispanic | AS48: Rate | AT48: =' B_Populations'!$O$8 -> Asian | AU48: Rate | AV48: =' B_Populations'!$Q$8 -> American Indian/Alaska Native | AW48: Rate | AX48: =' B_Populations'!$S$8 -> Other | AY48: Rate | AZ48: =' B_Populations'!$U$8 -> Other | BA48: Rate | CS48: 2000 Population Weight | CU48: Age | CV48: Total | CW48: Male | CX48: Female | CY48: =' B_Populations'!$I$8 -> White-Not Hispanic | CZ48: =' B_Populations'!$K$8 -> Hispanic | DA48: =' B_Populations'!$M$8 -> Black-Not Hispanic | DB48: =' B_Populations'!$O$8 -> Asian | DC48: =' B_Populations'!$Q$8 -> American Indian/Alaska Native | DD48: =' B_Populations'!$S$8 -> Other | DE48: =' B_Populations'!$U$8 -> Other
B49: =' B_Populations'!$B$9 -> 10-14 | AH49: =' B_Populations'!C54 -> 0 | AI49: =IF(AH49=0,0,(C49/AH49)*100000) -> 0 | AJ49: =' B_Populations'!E54 -> 0 | AK49: =IF(AJ49=0,0,($D$49/$AJ$49)*100000) -> 0 | AL49: =' B_Populations'!G54 -> 0 | AM49: =IF(AL49=0,0,($E$49/$AL$49)*100000) -> 0 | AN49: =' B_Populations'!I54 -> 0 | AO49: =IF(AN49=0,0,($F$49/$AN$49)*100000) -> 0 | AP49: =' B_Populations'!K54 -> 0 | AQ49: =IF(AP49=0,0,($G$49/$AP$49)*100000) -> 0 | AR49: =' B_Populations'!M54 -> 0 | AS49: =IF(AR49=0,0,($H$49/$AR$49)*100000) -> 0 | AT49: =' B_Populations'!O54 -> 0 | AU49: =IF(AT49=0,0,($I$49/$AT$49)*100000) -> 0 | AV49: =' B_Populations'!Q54 -> 0 | AW49: =IF(AV49=0,0,($J$49/$AV$49)*100000) -> 0 | AX49: =' B_Populations'!S54 -> 0 | AY49: =IF(AX49=0,0,($K$49/$AX$49)*100000) -> 0 | AZ49: =' B_Populations'!U54 -> 0 | BA49: =IF(AZ49=0,0,($L$49/$AZ$49)*100000) -> 0 | CS49: 0.073032 | CU49: =' B_Populations'!$B$9 -> 10-14 | CV49: =AI49*CS49 -> 0 | CW49: =AK49*CS49 -> 0 | CX49: =AM49*CS49 -> 0 | CY49: =AO49*CS49 -> 0 | CZ49: =AQ49*CS49 -> 0 | DA49: =AS49*CS49 -> 0 | DB49: =AU49*CS49 -> 0 | DC49: =AW49*CS49 -> 0 | DD49: =AY49*CS49 -> 0 | DE49: =BA49*CS49 -> 0
B50: =' B_Populations'!$B$10 -> 15-19 | AH50: =' B_Populations'!C55 -> 0 | AI50: =IF(AH50=0,0,(C50/AH50)*100000) -> 0 | AJ50: =' B_Populations'!E55 -> 0 | AK50: =IF(AJ50=0,0,($D$50/$AJ$50)*100000) -> 0 | AL50: =' B_Populations'!G55 -> 0 | AM50: =IF(AL50=0,0,($E$50/$AL$50)*100000) -> 0 | AN50: =' B_Populations'!I55 -> 0 | AO50: =IF(AN50=0,0,($F$50/$AN$50)*100000) -> 0 | AP50: =' B_Populations'!K55 -> 0 | AQ50: =IF(AP50=0,0,($G$50/$AP$50)*100000) -> 0 | AR50: =' B_Populations'!M55 -> 0 | AS50: =IF(AR50=0,0,($H$50/$AR$50)*100000) -> 0 | AT50: =' B_Populations'!O55 -> 0 | AU50: =IF(AT50=0,0,($I$50/$AT$50)*100000) -> 0 | AV50: =' B_Populations'!Q55 -> 0 | AW50: =IF(AV50=0,0,($J$50/$AV$50)*100000) -> 0 | AX50: =' B_Populations'!S55 -> 0 | AY50: =IF(AX50=0,0,($K$50/$AX$50)*100000) -> 0 | AZ50: =' B_Populations'!U55 -> 0 | BA50: =IF(AZ50=0,0,($L$50/$AZ$50)*100000) -> 0 | CS50: 0.072169 | CU50: =' B_Populations'!$B$10 -> 15-19 | CV50: =AI50*CS50 -> 0 | CW50: =AK50*CS50 -> 0 | CX50: =AM50*CS50 -> 0 | CY50: =AO50*CS50 -> 0 | CZ50: =AQ50*CS50 -> 0 | DA50: =AS50*CS50 -> 0 | DB50: =AU50*CS50 -> 0 | DC50: =AW50*CS50 -> 0 | DD50: =AY50*CS50 -> 0 | DE50: =BA50*CS50 -> 0
B51: =' B_Populations'!$B$11 -> 20-24 | AH51: =' B_Populations'!C56 -> 0 | AI51: =IF(AH51=0,0,(C51/AH51)*100000) -> 0 | AJ51: =' B_Populations'!E56 -> 0 | AK51: =IF(AJ51=0,0,($D$51/$AJ$51)*100000) -> 0 | AL51: =' B_Populations'!G56 -> 0 | AM51: =IF(AL51=0,0,($E$51/$AL$51)*100000) -> 0 | AN51: =' B_Populations'!I56 -> 0 | AO51: =IF(AN51=0,0,($F$51/$AN$51)*100000) -> 0 | AP51: =' B_Populations'!K56 -> 0 | AQ51: =IF(AP51=0,0,($G$51/$AP$51)*100000) -> 0 | AR51: =' B_Populations'!M56 -> 0 | AS51: =IF(AR51=0,0,($H$51/$AR$51)*100000) -> 0 | AT51: =' B_Populations'!O56 -> 0 | AU51: =IF(AT51=0,0,($I$51/$AT$51)*100000) -> 0 | AV51: =' B_Populations'!Q56 -> 0 | AW51: =IF(AV51=0,0,($J$51/$AV$51)*100000) -> 0 | AX51: =' B_Populations'!S56 -> 0 | AY51: =IF(AX51=0,0,($K$51/$AX$51)*100000) -> 0 | AZ51: =' B_Populations'!U56 -> 0 | BA51: =IF(AZ51=0,0,($L$51/$AZ$51)*100000) -> 0 | CS51: 0.066478 | CU51: =' B_Populations'!$B$11 -> 20-24 | CV51: =AI51*CS51 -> 0 | CW51: =AK51*CS51 -> 0 | CX51: =AM51*CS51 -> 0 | CY51: =AO51*CS51 -> 0 | CZ51: =AQ51*CS51 -> 0 | DA51: =AS51*CS51 -> 0 | DB51: =AU51*CS51 -> 0 | DC51: =AW51*CS51 -> 0 | DD51: =AY51*CS51 -> 0 | DE51: =BA51*CS51 -> 0
B52: =' B_Populations'!$B$12 -> 25-34 | AH52: =' B_Populations'!C57 -> 0 | AI52: =IF(AH52=0,0,(C52/AH52)*100000) -> 0 | AJ52: =' B_Populations'!E57 -> 0 | AK52: =IF(AJ52=0,0,($D$52/$AJ$52)*100000) -> 0 | AL52: =' B_Populations'!G57 -> 0 | AM52: =IF(AL52=0,0,($E$52/$AL$52)*100000) -> 0 | AN52: =' B_Populations'!I57 -> 0 | AO52: =IF(AN52=0,0,($F$52/$AN$52)*100000) -> 0 | AP52: =' B_Populations'!K57 -> 0 | AQ52: =IF(AP52=0,0,($G$52/$AP$52)*100000) -> 0 | AR52: =' B_Populations'!M57 -> 0 | AS52: =IF(AR52=0,0,($H$52/$AR$52)*100000) -> 0 | AT52: =' B_Populations'!O57 -> 0 | AU52: =IF(AT52=0,0,($I$52/$AT$52)*100000) -> 0 | AV52: =' B_Populations'!Q57 -> 0 | AW52: =IF(AV52=0,0,($J$52/$AV$52)*100000) -> 0 | AX52: =' B_Populations'!S57 -> 0 | AY52: =IF(AX52=0,0,($K$52/$AX$52)*100000) -> 0 | AZ52: =' B_Populations'!U57 -> 0 | BA52: =IF(AZ52=0,0,($L$52/$AZ$52)*100000) -> 0 | CS52: 0.135573 | CU52: =' B_Populations'!$B$12 -> 25-34 | CV52: =AI52*CS52 -> 0 | CW52: =AK52*CS52 -> 0 | CX52: =AM52*CS52 -> 0 | CY52: =AO52*CS52 -> 0 | CZ52: =AQ52*CS52 -> 0 | DA52: =AS52*CS52 -> 0 | DB52: =AU52*CS52 -> 0 | DC52: =AW52*CS52 -> 0 | DD52: =AY52*CS52 -> 0 | DE52: =BA52*CS52 -> 0
B53: =' B_Populations'!$B$13 -> 35-44 | AH53: =' B_Populations'!C58 -> 0 | AI53: =IF(AH53=0,0,(C53/AH53)*100000) -> 0 | AJ53: =' B_Populations'!E58 -> 0 | AK53: =IF(AJ53=0,0,($D$53/$AJ$53)*100000) -> 0 | AL53: =' B_Populations'!G58 -> 0 | AM53: =IF(AL53=0,0,($E$53/$AL$53)*100000) -> 0 | AN53: =' B_Populations'!I58 -> 0 | AO53: =IF(AN53=0,0,($F$53/$AN$53)*100000) -> 0 | AP53: =' B_Populations'!K58 -> 0 | AQ53: =IF(AP53=0,0,($G$53/$AP$53)*100000) -> 0 | AR53: =' B_Populations'!M58 -> 0 | AS53: =IF(AR53=0,0,($H$53/$AR$53)*100000) -> 0 | AT53: =' B_Populations'!O58 -> 0 | AU53: =IF(AT53=0,0,($I$53/$AT$53)*100000) -> 0 | AV53: =' B_Populations'!Q58 -> 0 | AW53: =IF(AV53=0,0,($J$53/$AV$53)*100000) -> 0 | AX53: =' B_Populations'!S58 -> 0 | AY53: =IF(AX53=0,0,($K$53/$AX$53)*100000) -> 0 | AZ53: =' B_Populations'!U58 -> 0 | BA53: =IF(AZ53=0,0,($L$53/$AZ$53)*100000) -> 0 | CS53: 0.162613 | CU53: =' B_Populations'!$B$13 -> 35-44 | CV53: =AI53*CS53 -> 0 | CW53: =AK53*CS53 -> 0 | CX53: =AM53*CS53 -> 0 | CY53: =AO53*CS53 -> 0 | CZ53: =AQ53*CS53 -> 0 | DA53: =AS53*CS53 -> 0 | DB53: =AU53*CS53 -> 0 | DC53: =AW53*CS53 -> 0 | DD53: =AY53*CS53 -> 0 | DE53: =BA53*CS53 -> 0
B54: =' B_Populations'!$B$14 -> 45-54 | AH54: =' B_Populations'!C59 -> 0 | AI54: =IF(AH54=0,0,(C54/AH54)*100000) -> 0 | AJ54: =' B_Populations'!E59 -> 0 | AK54: =IF(AJ54=0,0,($D$54/$AJ$54)*100000) -> 0 | AL54: =' B_Populations'!G59 -> 0 | AM54: =IF(AL54=0,0,($E$54/$AL$54)*100000) -> 0 | AN54: =' B_Populations'!I59 -> 0 | AO54: =IF(AN54=0,0,($F$54/$AN$54)*100000) -> 0 | AP54: =' B_Populations'!K59 -> 0 | AQ54: =IF(AP54=0,0,($G$54/$AP$54)*100000) -> 0 | AR54: =' B_Populations'!M59 -> 0 | AS54: =IF(AR54=0,0,($H$54/$AR$54)*100000) -> 0 | AT54: =' B_Populations'!O59 -> 0 | AU54: =IF(AT54=0,0,($I$54/$AT$54)*100000) -> 0 | AV54: =' B_Populations'!Q59 -> 0 | AW54: =IF(AV54=0,0,($J$54/$AV$54)*100000) -> 0 | AX54: =' B_Populations'!S59 -> 0 | AY54: =IF(AX54=0,0,($K$54/$AX$54)*100000) -> 0 | AZ54: =' B_Populations'!U59 -> 0 | BA54: =IF(AZ54=0,0,($L$54/$AZ$54)*100000) -> 0 | CS54: 0.134834 | CU54: =' B_Populations'!$B$14 -> 45-54 | CV54: =AI54*CS54 -> 0 | CW54: =AK54*CS54 -> 0 | CX54: =AM54*CS54 -> 0 | CY54: =AO54*CS54 -> 0 | CZ54: =AQ54*CS54 -> 0 | DA54: =AS54*CS54 -> 0 | DB54: =AU54*CS54 -> 0 | DC54: =AW54*CS54 -> 0 | DD54: =AY54*CS54 -> 0 | DE54: =BA54*CS54 -> 0
B55: =' B_Populations'!$B$15 -> 55-64 | AH55: =' B_Populations'!C60 -> 0 | AI55: =IF(AH55=0,0,(C55/AH55)*100000) -> 0 | AJ55: =' B_Populations'!E60 -> 0 | AK55: =IF(AJ55=0,0,($D$55/$AJ$55)*100000) -> 0 | AL55: =' B_Populations'!G60 -> 0 | AM55: =IF(AL55=0,0,($E$55/$AL$55)*100000) -> 0 | AN55: =' B_Populations'!I60 -> 0 | AO55: =IF(AN55=0,0,($F$55/$AN$55)*100000) -> 0 | AP55: =' B_Populations'!K60 -> 0 | AQ55: =IF(AP55=0,0,($G$55/$AP$55)*100000) -> 0 | AR55: =' B_Populations'!M60 -> 0 | AS55: =IF(AR55=0,0,($H$55/$AR$55)*100000) -> 0 | AT55: =' B_Populations'!O60 -> 0 | AU55: =IF(AT55=0,0,($I$55/$AT$55)*100000) -> 0 | AV55: =' B_Populations'!Q60 -> 0 | AW55: =IF(AV55=0,0,($J$55/$AV$55)*100000) -> 0 | AX55: =' B_Populations'!S60 -> 0 | AY55: =IF(AX55=0,0,($K$55/$AX$55)*100000) -> 0 | AZ55: =' B_Populations'!U60 -> 0 | BA55: =IF(AZ55=0,0,($L$55/$AZ$55)*100000) -> 0 | CS55: 0.087247 | CU55: =' B_Populations'!$B$15 -> 55-64 | CV55: =AI55*CS55 -> 0 | CW55: =AK55*CS55 -> 0 | CX55: =AM55*CS55 -> 0 | CY55: =AO55*CS55 -> 0 | CZ55: =AQ55*CS55 -> 0 | DA55: =AS55*CS55 -> 0 | DB55: =AU55*CS55 -> 0 | DC55: =AW55*CS55 -> 0 | DD55: =AY55*CS55 -> 0 | DE55: =BA55*CS55 -> 0
B56: =' B_Populations'!$B$16 -> 65-74 | AH56: =' B_Populations'!C61 -> 0 | AI56: =IF(AH56=0,0,(C56/AH56)*100000) -> 0 | AJ56: =' B_Populations'!E61 -> 0 | AK56: =IF(AJ56=0,0,($D$56/$AJ$56)*100000) -> 0 | AL56: =' B_Populations'!G61 -> 0 | AM56: =IF(AL56=0,0,($E$56/$AL$56)*100000) -> 0 | AN56: =' B_Populations'!I61 -> 0 | AO56: =IF(AN56=0,0,($F$56/$AN$56)*100000) -> 0 | AP56: =' B_Populations'!K61 -> 0 | AQ56: =IF(AP56=0,0,($G$56/$AP$56)*100000) -> 0 | AR56: =' B_Populations'!M61 -> 0 | AS56: =IF(AR56=0,0,($H$56/$AR$56)*100000) -> 0 | AT56: =' B_Populations'!O61 -> 0 | AU56: =IF(AT56=0,0,($I$56/$AT$56)*100000) -> 0 | AV56: =' B_Populations'!Q61 -> 0 | AW56: =IF(AV56=0,0,($J$56/$AV$56)*100000) -> 0 | AX56: =' B_Populations'!S61 -> 0 | AY56: =IF(AX56=0,0,($K$56/$AX$56)*100000) -> 0 | AZ56: =' B_Populations'!U61 -> 0 | BA56: =IF(AZ56=0,0,($L$56/$AZ$56)*100000) -> 0 | CS56: 0.066037 | CU56: =' B_Populations'!$B$16 -> 65-74 | CV56: =AI56*CS56 -> 0 | CW56: =AK56*CS56 -> 0 | CX56: =AM56*CS56 -> 0 | CY56: =AO56*CS56 -> 0 | CZ56: =AQ56*CS56 -> 0 | DA56: =AS56*CS56 -> 0 | DB56: =AU56*CS56 -> 0 | DC56: =AW56*CS56 -> 0 | DD56: =AY56*CS56 -> 0 | DE56: =BA56*CS56 -> 0
B57: =' B_Populations'!$B$17 -> 75-84 | AH57: =' B_Populations'!C62 -> 0 | AI57: =IF(AH57=0,0,(C57/AH57)*100000) -> 0 | AJ57: =' B_Populations'!E62 -> 0 | AK57: =IF(AJ57=0,0,($D$57/$AJ$57)*100000) -> 0 | AL57: =' B_Populations'!G62 -> 0 | AM57: =IF(AL57=0,0,($E$57/$AL$57)*100000) -> 0 | AN57: =' B_Populations'!I62 -> 0 | AO57: =IF(AN57=0,0,($F$57/$AN$57)*100000) -> 0 | AP57: =' B_Populations'!K62 -> 0 | AQ57: =IF(AP57=0,0,($G$57/$AP$57)*100000) -> 0 | AR57: =' B_Populations'!M62 -> 0 | AS57: =IF(AR57=0,0,($H$57/$AR$57)*100000) -> 0 | AT57: =' B_Populations'!O62 -> 0 | AU57: =IF(AT57=0,0,($I$57/$AT$57)*100000) -> 0 | AV57: =' B_Populations'!Q62 -> 0 | AW57: =IF(AV57=0,0,($J$57/$AV$57)*100000) -> 0 | AX57: =' B_Populations'!S62 -> 0 | AY57: =IF(AX57=0,0,($K$57/$AX$57)*100000) -> 0 | AZ57: =' B_Populations'!U62 -> 0 | BA57: =IF(AZ57=0,0,($L$57/$AZ$57)*100000) -> 0 | CS57: 0.044841 | CU57: =' B_Populations'!$B$17 -> 75-84 | CV57: =AI57*CS57 -> 0 | CW57: =AK57*CS57 -> 0 | CX57: =AM57*CS57 -> 0 | CY57: =AO57*CS57 -> 0 | CZ57: =AQ57*CS57 -> 0 | DA57: =AS57*CS57 -> 0 | DB57: =AU57*CS57 -> 0 | DC57: =AW57*CS57 -> 0 | DD57: =AY57*CS57 -> 0 | DE57: =BA57*CS57 -> 0
B58: =' B_Populations'!$B$18 -> 85+ | AH58: =' B_Populations'!C63 -> 0 | AI58: =IF(AH58=0,0,(C58/AH58)*100000) -> 0 | AJ58: =' B_Populations'!E63 -> 0 | AK58: =IF(AJ58=0,0,($D$58/$AJ$58)*100000) -> 0 | AL58: =' B_Populations'!G63 -> 0 | AM58: =IF(AL58=0,0,($E$58/$AL$58)*100000) -> 0 | AN58: =' B_Populations'!I63 -> 0 | AO58: =IF(AN58=0,0,($F$58/$AN$58)*100000) -> 0 | AP58: =' B_Populations'!K63 -> 0 | AQ58: =IF(AP58=0,0,($G$58/$AP$58)*100000) -> 0 | AR58: =' B_Populations'!M63 -> 0 | AS58: =IF(AR58=0,0,($H$58/$AR$58)*100000) -> 0 | AT58: =' B_Populations'!O63 -> 0 | AU58: =IF(AT58=0,0,($I$58/$AT$58)*100000) -> 0 | AV58: =' B_Populations'!Q63 -> 0 | AW58: =IF(AV58=0,0,($J$58/$AV$58)*100000) -> 0 | AX58: =' B_Populations'!S63 -> 0 | AY58: =IF(AX58=0,0,($K$58/$AX$58)*100000) -> 0 | AZ58: =' B_Populations'!U63 -> 0 | BA58: =IF(AZ58=0,0,($L$58/$AZ$58)*100000) -> 0 | CS58: 0.015508 | CU58: =' B_Populations'!$B$18 -> 85+ | CV58: =AI58*CS58 -> 0 | CW58: =AK58*CS58 -> 0 | CX58: =AM58*CS58 -> 0 | CY58: =AO58*CS58 -> 0 | CZ58: =AQ58*CS58 -> 0 | DA58: =AS58*CS58 -> 0 | DB58: =AU58*CS58 -> 0 | DC58: =AW58*CS58 -> 0 | DD58: =AY58*CS58 -> 0 | DE58: =BA58*CS58 -> 0
B59: total | C59: =SUM(C49:C58) -> 0 | D59: =SUM(D49:D58) -> 0 | E59: =SUM(E49:E58) -> 0 | F59: =SUM(F49:F58) -> 0 | G59: =SUM(G49:G58) -> 0 | H59: =SUM(H49:H58) -> 0 | I59: =SUM(I49:I58) -> 0 | J59: =SUM(J49:J58) -> 0 | ... L59: =SUM(L49:L58) -> 0 | AH59: =SUM(AH49:AH58) -> 0 | AI59: =SUM(AI49:AI58) -> 0 | AJ59: =SUM(AJ49:AJ58) -> 0 | AK59: =SUM(AK49:AK58) -> 0 | AL59: =SUM(AL49:AL58) -> 0 | AM59: =SUM(AM49:AM58) -> 0 | AN59: =SUM(AN49:AN58) -> 0 | AO59: =SUM(AO49:AO58) -> 0 | ... BA59: =SUM(BA49:BA58) -> 0 | CU59: total | CV59: =SUM(CV49:CV58) -> 0 | CW59: =SUM(CW49:CW58) -> 0 | CX59: =SUM(CX49:CX58) -> 0 | CY59: =SUM(CY49:CY58) -> 0 | CZ59: =SUM(CZ49:CZ58) -> 0 | DA59: =SUM(DA49:DA58) -> 0 | DB59: =SUM(DB49:DB58) -> 0 | DC59: =SUM(DC49:DC58) -> 0 | ... DE59: =SUM(DE49:DE58) -> 0
A62: Previous Year: | C62: =' B_Populations'!A70 -> 0 | D62: Sex Data | F62: Demographic Data | CV62: Age-adjusted Rates per 100,000 population
B63: Age | C63: Number of deaths- Total | D63: Number of deaths- Male | E63: Number of deaths- Female | F63: =' B_Populations'!$I$8 -> White-Not Hispanic | G63: =' B_Populations'!$K$8 -> Hispanic | H63: =' B_Populations'!$M$8 -> Black-Not Hispanic | I63: =' B_Populations'!$O$8 -> Asian | J63: =' B_Populations'!$Q$8 -> American Indian/Alaska Native | K63: =' B_Populations'!$S$8 -> Other | L63: =' B_Populations'!$U$8 -> Other | AH63: State population - Total | AI63: Rate | AJ63: State population - Male | AK63: Rate | AL63: State population - Female | AM63: Rate | AN63: =' B_Populations'!$I$8 -> White-Not Hispanic | AO63: Rate | AP63: =' B_Populations'!$K$8 -> Hispanic | AQ63: Rate | AR63: =' B_Populations'!$M$8 -> Black-Not Hispanic | AS63: Rate | AT63: =' B_Populations'!$O$8 -> Asian | AU63: Rate | AV63: =' B_Populations'!$Q$8 -> American Indian/Alaska Native | AW63: Rate | AX63: =' B_Populations'!$S$8 -> Other | AY63: Rate | AZ63: =' B_Populations'!$U$8 -> Other | BA63: Rate | CS63: 2000 Population Weight | CU63: Age | CV63: Total | CW63: Male | CX63: Female | CY63: =' B_Populations'!$I$8 -> White-Not Hispanic | CZ63: =' B_Populations'!$K$8 -> Hispanic | DA63: =' B_Populations'!$M$8 -> Black-Not Hispanic | DB63: =' B_Populations'!$O$8 -> Asian | DC63: =' B_Populations'!$Q$8 -> American Indian/Alaska Native | DD63: =' B_Populations'!$S$8 -> Other | DE63: =' B_Populations'!$U$8 -> Other
B64: =' B_Populations'!$B$9 -> 10-14 | AH64: =' B_Populations'!C69 -> 0 | AI64: =IF(AH64=0,0,(C64/AH64)*100000) -> 0 | AJ64: =' B_Populations'!E69 -> 0 | AK64: =IF(AJ64=0,0,($D$64/$AJ$64)*100000) -> 0 | AL64: =' B_Populations'!G69 -> 0 | AM64: =IF(AL64=0,0,($E$64/$AL$64)*100000) -> 0 | AN64: =' B_Populations'!I69 -> 0 | AO64: =IF(AN64=0,0,($F$64/$AN$64)*100000) -> 0 | AP64: =' B_Populations'!K69 -> 0 | AQ64: =IF(AP64=0,0,($G$64/$AP$64)*100000) -> 0 | AR64: =' B_Populations'!M69 -> 0 | AS64: =IF(AR64=0,0,($H$64/$AR$64)*100000) -> 0 | AT64: =' B_Populations'!O69 -> 0 | AU64: =IF(AT64=0,0,($I$64/$AT$64)*100000) -> 0 | AV64: =' B_Populations'!Q69 -> 0 | AW64: =IF(AV64=0,0,($J$64/$AV$64)*100000) -> 0 | AX64: =' B_Populations'!S69 -> 0 | AY64: =IF(AX64=0,0,($K$64/$AX$64)*100000) -> 0 | AZ64: =' B_Populations'!U69 -> 0 | BA64: =IF(AZ64=0,0,($L$64/$AZ$64)*100000) -> 0 | CS64: 0.073032 | CU64: =' B_Populations'!$B$9 -> 10-14 | CV64: =AI64*CS64 -> 0 | CW64: =AK64*CS64 -> 0 | CX64: =AM64*CS64 -> 0 | CY64: =AO64*CS64 -> 0 | CZ64: =AQ64*CS64 -> 0 | DA64: =AS64*CS64 -> 0 | DB64: =AU64*CS64 -> 0 | DC64: =AW64*CS64 -> 0 | DD64: =AY64*CS64 -> 0 | DE64: =BA64*CS64 -> 0
B65: =' B_Populations'!$B$10 -> 15-19 | AH65: =' B_Populations'!C70 -> 0 | AI65: =IF(AH65=0,0,(C65/AH65)*100000) -> 0 | AJ65: =' B_Populations'!E70 -> 0 | AK65: =IF(AJ65=0,0,($D$65/$AJ$65)*100000) -> 0 | AL65: =' B_Populations'!G70 -> 0 | AM65: =IF(AL65=0,0,($E$65/$AL$65)*100000) -> 0 | AN65: =' B_Populations'!I70 -> 0 | AO65: =IF(AN65=0,0,($F$65/$AN$65)*100000) -> 0 | AP65: =' B_Populations'!K70 -> 0 | AQ65: =IF(AP65=0,0,($G$65/$AP$65)*100000) -> 0 | AR65: =' B_Populations'!M70 -> 0 | AS65: =IF(AR65=0,0,($H$65/$AR$65)*100000) -> 0 | AT65: =' B_Populations'!O70 -> 0 | AU65: =IF(AT65=0,0,($I$65/$AT$65)*100000) -> 0 | AV65: =' B_Populations'!Q70 -> 0 | AW65: =IF(AV65=0,0,($J$65/$AV$65)*100000) -> 0 | AX65: =' B_Populations'!S70 -> 0 | AY65: =IF(AX65=0,0,($K$65/$AX$65)*100000) -> 0 | AZ65: =' B_Populations'!U70 -> 0 | BA65: =IF(AZ65=0,0,($L$65/$AZ$65)*100000) -> 0 | CS65: 0.072169 | CU65: =' B_Populations'!$B$10 -> 15-19 | CV65: =AI65*CS65 -> 0 | CW65: =AK65*CS65 -> 0 | CX65: =AM65*CS65 -> 0 | CY65: =AO65*CS65 -> 0 | CZ65: =AQ65*CS65 -> 0 | DA65: =AS65*CS65 -> 0 | DB65: =AU65*CS65 -> 0 | DC65: =AW65*CS65 -> 0 | DD65: =AY65*CS65 -> 0 | DE65: =BA65*CS65 -> 0
B66: =' B_Populations'!$B$11 -> 20-24 | AH66: =' B_Populations'!C71 -> 0 | AI66: =IF(AH66=0,0,(C66/AH66)*100000) -> 0 | AJ66: =' B_Populations'!E71 -> 0 | AK66: =IF(AJ66=0,0,($D$66/$AJ$66)*100000) -> 0 | AL66: =' B_Populations'!G71 -> 0 | AM66: =IF(AL66=0,0,($E$66/$AL$66)*100000) -> 0 | AN66: =' B_Populations'!I71 -> 0 | AO66: =IF(AN66=0,0,($F$66/$AN$66)*100000) -> 0 | AP66: =' B_Populations'!K71 -> 0 | AQ66: =IF(AP66=0,0,($G$66/$AP$66)*100000) -> 0 | AR66: =' B_Populations'!M71 -> 0 | AS66: =IF(AR66=0,0,($H$66/$AR$66)*100000) -> 0 | AT66: =' B_Populations'!O71 -> 0 | AU66: =IF(AT66=0,0,($I$66/$AT$66)*100000) -> 0 | AV66: =' B_Populations'!Q71 -> 0 | AW66: =IF(AV66=0,0,($J$66/$AV$66)*100000) -> 0 | AX66: =' B_Populations'!S71 -> 0 | AY66: =IF(AX66=0,0,($K$66/$AX$66)*100000) -> 0 | AZ66: =' B_Populations'!U71 -> 0 | BA66: =IF(AZ66=0,0,($L$66/$AZ$66)*100000) -> 0 | CS66: 0.066478 | CU66: =' B_Populations'!$B$11 -> 20-24 | CV66: =AI66*CS66 -> 0 | CW66: =AK66*CS66 -> 0 | CX66: =AM66*CS66 -> 0 | CY66: =AO66*CS66 -> 0 | CZ66: =AQ66*CS66 -> 0 | DA66: =AS66*CS66 -> 0 | DB66: =AU66*CS66 -> 0 | DC66: =AW66*CS66 -> 0 | DD66: =AY66*CS66 -> 0 | DE66: =BA66*CS66 -> 0
B67: =' B_Populations'!$B$12 -> 25-34 | AH67: =' B_Populations'!C72 -> 0 | AI67: =IF(AH67=0,0,(C67/AH67)*100000) -> 0 | AJ67: =' B_Populations'!E72 -> 0 | AK67: =IF(AJ67=0,0,($D$67/$AJ$67)*100000) -> 0 | AL67: =' B_Populations'!G72 -> 0 | AM67: =IF(AL67=0,0,($E$67/$AL$67)*100000) -> 0 | AN67: =' B_Populations'!I72 -> 0 | AO67: =IF(AN67=0,0,($F$67/$AN$67)*100000) -> 0 | AP67: =' B_Populations'!K72 -> 0 | AQ67: =IF(AP67=0,0,($G$67/$AP$67)*100000) -> 0 | AR67: =' B_Populations'!M72 -> 0 | AS67: =IF(AR67=0,0,($H$67/$AR$67)*100000) -> 0 | AT67: =' B_Populations'!O72 -> 0 | AU67: =IF(AT67=0,0,($I$67/$AT$67)*100000) -> 0 | AV67: =' B_Populations'!Q72 -> 0 | AW67: =IF(AV67=0,0,($J$67/$AV$67)*100000) -> 0 | AX67: =' B_Populations'!S72 -> 0 | AY67: =IF(AX67=0,0,($K$67/$AX$67)*100000) -> 0 | AZ67: =' B_Populations'!U72 -> 0 | BA67: =IF(AZ67=0,0,($L$67/$AZ$67)*100000) -> 0 | CS67: 0.135573 | CU67: =' B_Populations'!$B$12 -> 25-34 | CV67: =AI67*CS67 -> 0 | CW67: =AK67*CS67 -> 0 | CX67: =AM67*CS67 -> 0 | CY67: =AO67*CS67 -> 0 | CZ67: =AQ67*CS67 -> 0 | DA67: =AS67*CS67 -> 0 | DB67: =AU67*CS67 -> 0 | DC67: =AW67*CS67 -> 0 | DD67: =AY67*CS67 -> 0 | DE67: =BA67*CS67 -> 0
B68: =' B_Populations'!$B$13 -> 35-44 | AH68: =' B_Populations'!C73 -> 0 | AI68: =IF(AH68=0,0,(C68/AH68)*100000) -> 0 | AJ68: =' B_Populations'!E73 -> 0 | AK68: =IF(AJ68=0,0,($D$68/$AJ$68)*100000) -> 0 | AL68: =' B_Populations'!G73 -> 0 | AM68: =IF(AL68=0,0,($E$68/$AL$68)*100000) -> 0 | AN68: =' B_Populations'!I73 -> 0 | AO68: =IF(AN68=0,0,($F$68/$AN$68)*100000) -> 0 | AP68: =' B_Populations'!K73 -> 0 | AQ68: =IF(AP68=0,0,($G$68/$AP$68)*100000) -> 0 | AR68: =' B_Populations'!M73 -> 0 | AS68: =IF(AR68=0,0,($H$68/$AR$68)*100000) -> 0 | AT68: =' B_Populations'!O73 -> 0 | AU68: =IF(AT68=0,0,($I$68/$AT$68)*100000) -> 0 | AV68: =' B_Populations'!Q73 -> 0 | AW68: =IF(AV68=0,0,($J$68/$AV$68)*100000) -> 0 | AX68: =' B_Populations'!S73 -> 0 | AY68: =IF(AX68=0,0,($K$68/$AX$68)*100000) -> 0 | AZ68: =' B_Populations'!U73 -> 0 | BA68: =IF(AZ68=0,0,($L$68/$AZ$68)*100000) -> 0 | CS68: 0.162613 | CU68: =' B_Populations'!$B$13 -> 35-44 | CV68: =AI68*CS68 -> 0 | CW68: =AK68*CS68 -> 0 | CX68: =AM68*CS68 -> 0 | CY68: =AO68*CS68 -> 0 | CZ68: =AQ68*CS68 -> 0 | DA68: =AS68*CS68 -> 0 | DB68: =AU68*CS68 -> 0 | DC68: =AW68*CS68 -> 0 | DD68: =AY68*CS68 -> 0 | DE68: =BA68*CS68 -> 0
B69: =' B_Populations'!$B$14 -> 45-54 | AH69: =' B_Populations'!C74 -> 0 | AI69: =IF(AH69=0,0,(C69/AH69)*100000) -> 0 | AJ69: =' B_Populations'!E74 -> 0 | AK69: =IF(AJ69=0,0,($D$69/$AJ$69)*100000) -> 0 | AL69: =' B_Populations'!G74 -> 0 | AM69: =IF(AL69=0,0,($E$69/$AL$69)*100000) -> 0 | AN69: =' B_Populations'!I74 -> 0 | AO69: =IF(AN69=0,0,($F$69/$AN$69)*100000) -> 0 | AP69: =' B_Populations'!K74 -> 0 | AQ69: =IF(AP69=0,0,($G$69/$AP$69)*100000) -> 0 | AR69: =' B_Populations'!M74 -> 0 | AS69: =IF(AR69=0,0,($H$69/$AR$69)*100000) -> 0 | AT69: =' B_Populations'!O74 -> 0 | AU69: =IF(AT69=0,0,($I$69/$AT$69)*100000) -> 0 | AV69: =' B_Populations'!Q74 -> 0 | AW69: =IF(AV69=0,0,($J$69/$AV$69)*100000) -> 0 | AX69: =' B_Populations'!S74 -> 0 | AY69: =IF(AX69=0,0,($K$69/$AX$69)*100000) -> 0 | AZ69: =' B_Populations'!U74 -> 0 | BA69: =IF(AZ69=0,0,($L$69/$AZ$69)*100000) -> 0 | CS69: 0.134834 | CU69: =' B_Populations'!$B$14 -> 45-54 | CV69: =AI69*CS69 -> 0 | CW69: =AK69*CS69 -> 0 | CX69: =AM69*CS69 -> 0 | CY69: =AO69*CS69 -> 0 | CZ69: =AQ69*CS69 -> 0 | DA69: =AS69*CS69 -> 0 | DB69: =AU69*CS69 -> 0 | DC69: =AW69*CS69 -> 0 | DD69: =AY69*CS69 -> 0 | DE69: =BA69*CS69 -> 0
B70: =' B_Populations'!$B$15 -> 55-64 | AH70: =' B_Populations'!C75 -> 0 | AI70: =IF(AH70=0,0,(C70/AH70)*100000) -> 0 | AJ70: =' B_Populations'!E75 -> 0 | AK70: =IF(AJ70=0,0,($D$70/$AJ$70)*100000) -> 0 | AL70: =' B_Populations'!G75 -> 0 | AM70: =IF(AL70=0,0,($E$70/$AL$70)*100000) -> 0 | AN70: =' B_Populations'!I75 -> 0 | AO70: =IF(AN70=0,0,($F$70/$AN$70)*100000) -> 0 | AP70: =' B_Populations'!K75 -> 0 | AQ70: =IF(AP70=0,0,($G$70/$AP$70)*100000) -> 0 | AR70: =' B_Populations'!M75 -> 0 | AS70: =IF(AR70=0,0,($H$70/$AR$70)*100000) -> 0 | AT70: =' B_Populations'!O75 -> 0 | AU70: =IF(AT70=0,0,($I$70/$AT$70)*100000) -> 0 | AV70: =' B_Populations'!Q75 -> 0 | AW70: =IF(AV70=0,0,($J$70/$AV$70)*100000) -> 0 | AX70: =' B_Populations'!S75 -> 0 | AY70: =IF(AX70=0,0,($K$70/$AX$70)*100000) -> 0 | AZ70: =' B_Populations'!U75 -> 0 | BA70: =IF(AZ70=0,0,($L$70/$AZ$70)*100000) -> 0 | CS70: 0.087247 | CU70: =' B_Populations'!$B$15 -> 55-64 | CV70: =AI70*CS70 -> 0 | CW70: =AK70*CS70 -> 0 | CX70: =AM70*CS70 -> 0 | CY70: =AO70*CS70 -> 0 | CZ70: =AQ70*CS70 -> 0 | DA70: =AS70*CS70 -> 0 | DB70: =AU70*CS70 -> 0 | DC70: =AW70*CS70 -> 0 | DD70: =AY70*CS70 -> 0 | DE70: =BA70*CS70 -> 0
B71: =' B_Populations'!$B$16 -> 65-74 | AH71: =' B_Populations'!C76 -> 0 | AI71: =IF(AH71=0,0,(C71/AH71)*100000) -> 0 | AJ71: =' B_Populations'!E76 -> 0 | AK71: =IF(AJ71=0,0,($D$71/$AJ$71)*100000) -> 0 | AL71: =' B_Populations'!G76 -> 0 | AM71: =IF(AL71=0,0,($E$71/$AL$71)*100000) -> 0 | AN71: =' B_Populations'!I76 -> 0 | AO71: =IF(AN71=0,0,($F$71/$AN$71)*100000) -> 0 | AP71: =' B_Populations'!K76 -> 0 | AQ71: =IF(AP71=0,0,($G$71/$AP$71)*100000) -> 0 | AR71: =' B_Populations'!M76 -> 0 | AS71: =IF(AR71=0,0,($H$71/$AR$71)*100000) -> 0 | AT71: =' B_Populations'!O76 -> 0 | AU71: =IF(AT71=0,0,($I$71/$AT$71)*100000) -> 0 | AV71: =' B_Populations'!Q76 -> 0 | AW71: =IF(AV71=0,0,($J$71/$AV$71)*100000) -> 0 | AX71: =' B_Populations'!S76 -> 0 | AY71: =IF(AX71=0,0,($K$71/$AX$71)*100000) -> 0 | AZ71: =' B_Populations'!U76 -> 0 | BA71: =IF(AZ71=0,0,($L$71/$AZ$71)*100000) -> 0 | CS71: 0.066037 | CU71: =' B_Populations'!$B$16 -> 65-74 | CV71: =AI71*CS71 -> 0 | CW71: =AK71*CS71 -> 0 | CX71: =AM71*CS71 -> 0 | CY71: =AO71*CS71 -> 0 | CZ71: =AQ71*CS71 -> 0 | DA71: =AS71*CS71 -> 0 | DB71: =AU71*CS71 -> 0 | DC71: =AW71*CS71 -> 0 | DD71: =AY71*CS71 -> 0 | DE71: =BA71*CS71 -> 0
B72: =' B_Populations'!$B$17 -> 75-84 | AH72: =' B_Populations'!C77 -> 0 | AI72: =IF(AH72=0,0,(C72/AH72)*100000) -> 0 | AJ72: =' B_Populations'!E77 -> 0 | AK72: =IF(AJ72=0,0,($D$72/$AJ$72)*100000) -> 0 | AL72: =' B_Populations'!G77 -> 0 | AM72: =IF(AL72=0,0,($E$72/$AL$72)*100000) -> 0 | AN72: =' B_Populations'!I77 -> 0 | AO72: =IF(AN72=0,0,($F$72/$AN$72)*100000) -> 0 | AP72: =' B_Populations'!K77 -> 0 | AQ72: =IF(AP72=0,0,($G$72/$AP$72)*100000) -> 0 | AR72: =' B_Populations'!M77 -> 0 | AS72: =IF(AR72=0,0,($H$72/$AR$72)*100000) -> 0 | AT72: =' B_Populations'!O77 -> 0 | AU72: =IF(AT72=0,0,($I$72/$AT$72)*100000) -> 0 | AV72: =' B_Populations'!Q77 -> 0 | AW72: =IF(AV72=0,0,($J$72/$AV$72)*100000) -> 0 | AX72: =' B_Populations'!S77 -> 0 | AY72: =IF(AX72=0,0,($K$72/$AX$72)*100000) -> 0 | AZ72: =' B_Populations'!U77 -> 0 | BA72: =IF(AZ72=0,0,($L$72/$AZ$72)*100000) -> 0 | CS72: 0.044841 | CU72: =' B_Populations'!$B$17 -> 75-84 | CV72: =AI72*CS72 -> 0 | CW72: =AK72*CS72 -> 0 | CX72: =AM72*CS72 -> 0 | CY72: =AO72*CS72 -> 0 | CZ72: =AQ72*CS72 -> 0 | DA72: =AS72*CS72 -> 0 | DB72: =AU72*CS72 -> 0 | DC72: =AW72*CS72 -> 0 | DD72: =AY72*CS72 -> 0 | DE72: =BA72*CS72 -> 0
B73: =' B_Populations'!$B$18 -> 85+ | AH73: =' B_Populations'!C78 -> 0 | AI73: =IF(AH73=0,0,(C73/AH73)*100000) -> 0 | AJ73: =' B_Populations'!E78 -> 0 | AK73: =IF(AJ73=0,0,($D$73/$AJ$73)*100000) -> 0 | AL73: =' B_Populations'!G78 -> 0 | AM73: =IF(AL73=0,0,($E$73/$AL$73)*100000) -> 0 | AN73: =' B_Populations'!I78 -> 0 | AO73: =IF(AN73=0,0,($F$73/$AN$73)*100000) -> 0 | AP73: =' B_Populations'!K78 -> 0 | AQ73: =IF(AP73=0,0,($G$73/$AP$73)*100000) -> 0 | AR73: =' B_Populations'!M78 -> 0 | AS73: =IF(AR73=0,0,($H$73/$AR$73)*100000) -> 0 | AT73: =' B_Populations'!O78 -> 0 | AU73: =IF(AT73=0,0,($I$73/$AT$73)*100000) -> 0 | AV73: =' B_Populations'!Q78 -> 0 | AW73: =IF(AV73=0,0,($J$73/$AV$73)*100000) -> 0 | AX73: =' B_Populations'!S78 -> 0 | AY73: =IF(AX73=0,0,($K$73/$AX$73)*100000) -> 0 | AZ73: =' B_Populations'!U78 -> 0 | BA73: =IF(AZ73=0,0,($L$73/$AZ$73)*100000) -> 0 | CS73: 0.015508 | CU73: =' B_Populations'!$B$18 -> 85+ | CV73: =AI73*CS73 -> 0 | CW73: =AK73*CS73 -> 0 | CX73: =AM73*CS73 -> 0 | CY73: =AO73*CS73 -> 0 | CZ73: =AQ73*CS73 -> 0 | DA73: =AS73*CS73 -> 0 | DB73: =AU73*CS73 -> 0 | DC73: =AW73*CS73 -> 0 | DD73: =AY73*CS73 -> 0 | DE73: =BA73*CS73 -> 0
B74: total | C74: =SUM(C64:C73) -> 0 | D74: =SUM(D64:D73) -> 0 | E74: =SUM(E64:E73) -> 0 | F74: =SUM(F64:F73) -> 0 | G74: =SUM(G64:G73) -> 0 | H74: =SUM(H64:H73) -> 0 | I74: =SUM(I64:I73) -> 0 | J74: =SUM(J64:J73) -> 0 | ... L74: =SUM(L64:L73) -> 0 | AH74: =SUM(AH64:AH73) -> 0 | AI74: =SUM(AI64:AI73) -> 0 | AJ74: =SUM(AJ64:AJ73) -> 0 | AK74: =SUM(AK64:AK73) -> 0 | AL74: =SUM(AL64:AL73) -> 0 | AM74: =SUM(AM64:AM73) -> 0 | AN74: =SUM(AN64:AN73) -> 0 | AO74: =SUM(AO64:AO73) -> 0 | ... BA74: =SUM(BA64:BA73) -> 0 | CU74: total | CV74: =SUM(CV64:CV73) -> 0 | CW74: =SUM(CW64:CW73) -> 0 | CX74: =SUM(CX64:CX73) -> 0 | CY74: =SUM(CY64:CY73) -> 0 | CZ74: =SUM(CZ64:CZ73) -> 0 | DA74: =SUM(DA64:DA73) -> 0 | DB74: =SUM(DB64:DB73) -> 0 | DC74: =SUM(DC64:DC73) -> 0 | ... DE74: =SUM(DE64:DE73) -> 0
A77: Previous Year: | C77: =' B_Populations'!A85 -> 0 | D77: Sex Data | F77: Demographic Data | CV77: Age-adjusted Rates per 100,000 population
B78: Age | C78: Number of deaths- Total | D78: Number of deaths- Male | E78: Number of deaths- Female | F78: =' B_Populations'!$I$8 -> White-Not Hispanic | G78: =' B_Populations'!$K$8 -> Hispanic | H78: =' B_Populations'!$M$8 -> Black-Not Hispanic | I78: =' B_Populations'!$O$8 -> Asian | J78: =' B_Populations'!$Q$8 -> American Indian/Alaska Native | K78: =' B_Populations'!$S$8 -> Other | L78: =' B_Populations'!$U$8 -> Other | AH78: State population - Total | AI78: Rate | AJ78: State population - Male | AK78: Rate | AL78: State population - Female | AM78: Rate | AN78: =' B_Populations'!$I$8 -> White-Not Hispanic | AO78: Rate | AP78: =' B_Populations'!$K$8 -> Hispanic | AQ78: Rate | AR78: =' B_Populations'!$M$8 -> Black-Not Hispanic | AS78: Rate | AT78: =' B_Populations'!$O$8 -> Asian | AU78: Rate | AV78: =' B_Populations'!$Q$8 -> American Indian/Alaska Native | AW78: Rate | AX78: =' B_Populations'!$S$8 -> Other | AY78: Rate | AZ78: =' B_Populations'!$U$8 -> Other | BA78: Rate | CS78: 2000 Population Weight | CU78: Age | CV78: Total | CW78: Male | CX78: Female | CY78: =' B_Populations'!$I$8 -> White-Not Hispanic | CZ78: =' B_Populations'!$K$8 -> Hispanic | DA78: =' B_Populations'!$M$8 -> Black-Not Hispanic | DB78: =' B_Populations'!$O$8 -> Asian | DC78: =' B_Populations'!$Q$8 -> American Indian/Alaska Native | DD78: =' B_Populations'!$S$8 -> Other | DE78: =' B_Populations'!$U$8 -> Other
B79: =' B_Populations'!$B$9 -> 10-14 | AH79: =' B_Populations'!C84 -> 0 | AI79: =IF(AH79=0,0,($C$79/$AH$79)*100000) -> 0 | AJ79: =' B_Populations'!E84 -> 0 | AK79: =IF(AJ79=0,0,($D$79/$AJ$79)*100000) -> 0 | AL79: =' B_Populations'!G84 -> 0 | AM79: =IF(AL79=0,0,($E$79/$AL$79)*100000) -> 0 | AN79: =' B_Populations'!I84 -> 0 | AO79: =IF(AN79=0,0,($F$79/$AN$79)*100000) -> 0 | AP79: =' B_Populations'!K84 -> 0 | AQ79: =IF(AP79=0,0,($G$79/$AP$79)*100000) -> 0 | AR79: =' B_Populations'!M84 -> 0 | AS79: =IF(AR79=0,0,($H$79/$AR$79)*100000) -> 0 | AT79: =' B_Populations'!O84 -> 0 | AU79: =IF(AT79=0,0,($I$79/$AT$79)*100000) -> 0 | AV79: =' B_Populations'!Q84 -> 0 | AW79: =IF(AV79=0,0,($J$79/$AV$79)*100000) -> 0 | AX79: =' B_Populations'!S84 -> 0 | AY79: =IF(AX79=0,0,($K$79/$AX$79)*100000) -> 0 | AZ79: =' B_Populations'!U84 -> 0 | BA79: =IF(AZ79=0,0,($L$79/$AZ$79)*100000) -> 0 | CS79: 0.073032 | CU79: =' B_Populations'!$B$9 -> 10-14 | CV79: =AI79*CS79 -> 0 | CW79: =AK79*CS79 -> 0 | CX79: =AM79*CS79 -> 0 | CY79: =AO79*CS79 -> 0 | CZ79: =AQ79*CS79 -> 0 | DA79: =AS79*CS79 -> 0 | DB79: =AU79*CS79 -> 0 | DC79: =AW79*CS79 -> 0 | DD79: =AY79*CS79 -> 0 | DE79: =BA79*CS79 -> 0
B80: =' B_Populations'!$B$10 -> 15-19 | AH80: =' B_Populations'!C85 -> 0 | AI80: =IF(AH80=0,0,($C$80/$AH$80)*100000) -> 0 | AJ80: =' B_Populations'!E85 -> 0 | AK80: =IF(AJ80=0,0,($D$80/$AJ$80)*100000) -> 0 | AL80: =' B_Populations'!G85 -> 0 | AM80: =IF(AL80=0,0,($E$80/$AL$80)*100000) -> 0 | AN80: =' B_Populations'!I85 -> 0 | AO80: =IF(AN80=0,0,($F$80/$AN$80)*100000) -> 0 | AP80: =' B_Populations'!K85 -> 0 | AQ80: =IF(AP80=0,0,($G$80/$AP$80)*100000) -> 0 | AR80: =' B_Populations'!M85 -> 0 | AS80: =IF(AR80=0,0,($H$80/$AR$80)*100000) -> 0 | AT80: =' B_Populations'!O85 -> 0 | AU80: =IF(AT80=0,0,($I$80/$AT$80)*100000) -> 0 | AV80: =' B_Populations'!Q85 -> 0 | AW80: =IF(AV80=0,0,($J$80/$AV$80)*100000) -> 0 | AX80: =' B_Populations'!S85 -> 0 | AY80: =IF(AX80=0,0,($K$80/$AX$80)*100000) -> 0 | AZ80: =' B_Populations'!U85 -> 0 | BA80: =IF(AZ80=0,0,($L$80/$AZ$80)*100000) -> 0 | CS80: 0.072169 | CU80: =' B_Populations'!$B$10 -> 15-19 | CV80: =AI80*CS80 -> 0 | CW80: =AK80*CS80 -> 0 | CX80: =AM80*CS80 -> 0 | CY80: =AO80*CS80 -> 0 | CZ80: =AQ80*CS80 -> 0 | DA80: =AS80*CS80 -> 0 | DB80: =AU80*CS80 -> 0 | DC80: =AW80*CS80 -> 0 | DD80: =AY80*CS80 -> 0 | DE80: =BA80*CS80 -> 0
B81: =' B_Populations'!$B$11 -> 20-24 | AH81: =' B_Populations'!C86 -> 0 | AI81: =IF(AH81=0,0,($C$81/$AH$81)*100000) -> 0 | AJ81: =' B_Populations'!E86 -> 0 | AK81: =IF(AJ81=0,0,($D$81/$AJ$81)*100000) -> 0 | AL81: =' B_Populations'!G86 -> 0 | AM81: =IF(AL81=0,0,($E$81/$AL$81)*100000) -> 0 | AN81: =' B_Populations'!I86 -> 0 | AO81: =IF(AN81=0,0,($F$81/$AN$81)*100000) -> 0 | AP81: =' B_Populations'!K86 -> 0 | AQ81: =IF(AP81=0,0,($G$81/$AP$81)*100000) -> 0 | AR81: =' B_Populations'!M86 -> 0 | AS81: =IF(AR81=0,0,($H$81/$AR$81)*100000) -> 0 | AT81: =' B_Populations'!O86 -> 0 | AU81: =IF(AT81=0,0,($I$81/$AT$81)*100000) -> 0 | AV81: =' B_Populations'!Q86 -> 0 | AW81: =IF(AV81=0,0,($J$81/$AV$81)*100000) -> 0 | AX81: =' B_Populations'!S86 -> 0 | AY81: =IF(AX81=0,0,($K$81/$AX$81)*100000) -> 0 | AZ81: =' B_Populations'!U86 -> 0 | BA81: =IF(AZ81=0,0,($L$81/$AZ$81)*100000) -> 0 | CS81: 0.066478 | CU81: =' B_Populations'!$B$11 -> 20-24 | CV81: =AI81*CS81 -> 0 | CW81: =AK81*CS81 -> 0 | CX81: =AM81*CS81 -> 0 | CY81: =AO81*CS81 -> 0 | CZ81: =AQ81*CS81 -> 0 | DA81: =AS81*CS81 -> 0 | DB81: =AU81*CS81 -> 0 | DC81: =AW81*CS81 -> 0 | DD81: =AY81*CS81 -> 0 | DE81: =BA81*CS81 -> 0
B82: =' B_Populations'!$B$12 -> 25-34 | AH82: =' B_Populations'!C87 -> 0 | AI82: =IF(AH82=0,0,($C$82/$AH$82)*100000) -> 0 | AJ82: =' B_Populations'!E87 -> 0 | AK82: =IF(AJ82=0,0,($D$82/$AJ$82)*100000) -> 0 | AL82: =' B_Populations'!G87 -> 0 | AM82: =IF(AL82=0,0,($E$82/$AL$82)*100000) -> 0 | AN82: =' B_Populations'!I87 -> 0 | AO82: =IF(AN82=0,0,($F$82/$AN$82)*100000) -> 0 | AP82: =' B_Populations'!K87 -> 0 | AQ82: =IF(AP82=0,0,($G$82/$AP$82)*100000) -> 0 | AR82: =' B_Populations'!M87 -> 0 | AS82: =IF(AR82=0,0,($H$82/$AR$82)*100000) -> 0 | AT82: =' B_Populations'!O87 -> 0 | AU82: =IF(AT82=0,0,($I$82/$AT$82)*100000) -> 0 | AV82: =' B_Populations'!Q87 -> 0 | AW82: =IF(AV82=0,0,($J$82/$AV$82)*100000) -> 0 | AX82: =' B_Populations'!S87 -> 0 | AY82: =IF(AX82=0,0,($K$82/$AX$82)*100000) -> 0 | AZ82: =' B_Populations'!U87 -> 0 | BA82: =IF(AZ82=0,0,($L$82/$AZ$82)*100000) -> 0 | CS82: 0.135573 | CU82: =' B_Populations'!$B$12 -> 25-34 | CV82: =AI82*CS82 -> 0 | CW82: =AK82*CS82 -> 0 | CX82: =AM82*CS82 -> 0 | CY82: =AO82*CS82 -> 0 | CZ82: =AQ82*CS82 -> 0 | DA82: =AS82*CS82 -> 0 | DB82: =AU82*CS82 -> 0 | DC82: =AW82*CS82 -> 0 | DD82: =AY82*CS82 -> 0 | DE82: =BA82*CS82 -> 0
B83: =' B_Populations'!$B$13 -> 35-44 | AH83: =' B_Populations'!C88 -> 0 | AI83: =IF(AH83=0,0,($C$83/$AH$83)*100000) -> 0 | AJ83: =' B_Populations'!E88 -> 0 | AK83: =IF(AJ83=0,0,($D$83/$AJ$83)*100000) -> 0 | AL83: =' B_Populations'!G88 -> 0 | AM83: =IF(AL83=0,0,($E$83/$AL$83)*100000) -> 0 | AN83: =' B_Populations'!I88 -> 0 | AO83: =IF(AN83=0,0,($F$83/$AN$83)*100000) -> 0 | AP83: =' B_Populations'!K88 -> 0 | AQ83: =IF(AP83=0,0,($G$83/$AP$83)*100000) -> 0 | AR83: =' B_Populations'!M88 -> 0 | AS83: =IF(AR83=0,0,($H$83/$AR$83)*100000) -> 0 | AT83: =' B_Populations'!O88 -> 0 | AU83: =IF(AT83=0,0,($I$83/$AT$83)*100000) -> 0 | AV83: =' B_Populations'!Q88 -> 0 | AW83: =IF(AV83=0,0,($J$83/$AV$83)*100000) -> 0 | AX83: =' B_Populations'!S88 -> 0 | AY83: =IF(AX83=0,0,($K$83/$AX$83)*100000) -> 0 | AZ83: =' B_Populations'!U88 -> 0 | BA83: =IF(AZ83=0,0,($L$83/$AZ$83)*100000) -> 0 | CS83: 0.162613 | CU83: =' B_Populations'!$B$13 -> 35-44 | CV83: =AI83*CS83 -> 0 | CW83: =AK83*CS83 -> 0 | CX83: =AM83*CS83 -> 0 | CY83: =AO83*CS83 -> 0 | CZ83: =AQ83*CS83 -> 0 | DA83: =AS83*CS83 -> 0 | DB83: =AU83*CS83 -> 0 | DC83: =AW83*CS83 -> 0 | DD83: =AY83*CS83 -> 0 | DE83: =BA83*CS83 -> 0
B84: =' B_Populations'!$B$14 -> 45-54 | AH84: =' B_Populations'!C89 -> 0 | AI84: =IF(AH84=0,0,($C$84/$AH$84)*100000) -> 0 | AJ84: =' B_Populations'!E89 -> 0 | AK84: =IF(AJ84=0,0,($D$84/$AJ$84)*100000) -> 0 | AL84: =' B_Populations'!G89 -> 0 | AM84: =IF(AL84=0,0,($E$84/$AL$84)*100000) -> 0 | AN84: =' B_Populations'!I89 -> 0 | AO84: =IF(AN84=0,0,($F$84/$AN$84)*100000) -> 0 | AP84: =' B_Populations'!K89 -> 0 | AQ84: =IF(AP84=0,0,($G$84/$AP$84)*100000) -> 0 | AR84: =' B_Populations'!M89 -> 0 | AS84: =IF(AR84=0,0,($H$84/$AR$84)*100000) -> 0 | AT84: =' B_Populations'!O89 -> 0 | AU84: =IF(AT84=0,0,($I$84/$AT$84)*100000) -> 0 | AV84: =' B_Populations'!Q89 -> 0 | AW84: =IF(AV84=0,0,($J$84/$AV$84)*100000) -> 0 | AX84: =' B_Populations'!S89 -> 0 | AY84: =IF(AX84=0,0,($K$84/$AX$84)*100000) -> 0 | AZ84: =' B_Populations'!U89 -> 0 | BA84: =IF(AZ84=0,0,($L$84/$AZ$84)*100000) -> 0 | CS84: 0.134834 | CU84: =' B_Populations'!$B$14 -> 45-54 | CV84: =AI84*CS84 -> 0 | CW84: =AK84*CS84 -> 0 | CX84: =AM84*CS84 -> 0 | CY84: =AO84*CS84 -> 0 | CZ84: =AQ84*CS84 -> 0 | DA84: =AS84*CS84 -> 0 | DB84: =AU84*CS84 -> 0 | DC84: =AW84*CS84 -> 0 | DD84: =AY84*CS84 -> 0 | DE84: =BA84*CS84 -> 0
B85: =' B_Populations'!$B$15 -> 55-64 | AH85: =' B_Populations'!C90 -> 0 | AI85: =IF(AH85=0,0,($C$85/$AH$85)*100000) -> 0 | AJ85: =' B_Populations'!E90 -> 0 | AK85: =IF(AJ85=0,0,($D$85/$AJ$85)*100000) -> 0 | AL85: =' B_Populations'!G90 -> 0 | AM85: =IF(AL85=0,0,($E$85/$AL$85)*100000) -> 0 | AN85: =' B_Populations'!I90 -> 0 | AO85: =IF(AN85=0,0,($F$85/$AN$85)*100000) -> 0 | AP85: =' B_Populations'!K90 -> 0 | AQ85: =IF(AP85=0,0,($G$85/$AP$85)*100000) -> 0 | AR85: =' B_Populations'!M90 -> 0 | AS85: =IF(AR85=0,0,($H$85/$AR$85)*100000) -> 0 | AT85: =' B_Populations'!O90 -> 0 | AU85: =IF(AT85=0,0,($I$85/$AT$85)*100000) -> 0 | AV85: =' B_Populations'!Q90 -> 0 | AW85: =IF(AV85=0,0,($J$85/$AV$85)*100000) -> 0 | AX85: =' B_Populations'!S90 -> 0 | AY85: =IF(AX85=0,0,($K$85/$AX$85)*100000) -> 0 | AZ85: =' B_Populations'!U90 -> 0 | BA85: =IF(AZ85=0,0,($L$85/$AZ$85)*100000) -> 0 | CS85: 0.087247 | CU85: =' B_Populations'!$B$15 -> 55-64 | CV85: =AI85*CS85 -> 0 | CW85: =AK85*CS85 -> 0 | CX85: =AM85*CS85 -> 0 | CY85: =AO85*CS85 -> 0 | CZ85: =AQ85*CS85 -> 0 | DA85: =AS85*CS85 -> 0 | DB85: =AU85*CS85 -> 0 | DC85: =AW85*CS85 -> 0 | DD85: =AY85*CS85 -> 0 | DE85: =BA85*CS85 -> 0
B86: =' B_Populations'!$B$16 -> 65-74 | AH86: =' B_Populations'!C91 -> 0 | AI86: =IF(AH86=0,0,($C$86/$AH$86)*100000) -> 0 | AJ86: =' B_Populations'!E91 -> 0 | AK86: =IF(AJ86=0,0,($D$86/$AJ$86)*100000) -> 0 | AL86: =' B_Populations'!G91 -> 0 | AM86: =IF(AL86=0,0,($E$86/$AL$86)*100000) -> 0 | AN86: =' B_Populations'!I91 -> 0 | AO86: =IF(AN86=0,0,($F$86/$AN$86)*100000) -> 0 | AP86: =' B_Populations'!K91 -> 0 | AQ86: =IF(AP86=0,0,($G$86/$AP$86)*100000) -> 0 | AR86: =' B_Populations'!M91 -> 0 | AS86: =IF(AR86=0,0,($H$86/$AR$86)*100000) -> 0 | AT86: =' B_Populations'!O91 -> 0 | AU86: =IF(AT86=0,0,($I$86/$AT$86)*100000) -> 0 | AV86: =' B_Populations'!Q91 -> 0 | AW86: =IF(AV86=0,0,($J$86/$AV$86)*100000) -> 0 | AX86: =' B_Populations'!S91 -> 0 | AY86: =IF(AX86=0,0,($K$86/$AX$86)*100000) -> 0 | AZ86: =' B_Populations'!U91 -> 0 | BA86: =IF(AZ86=0,0,($L$86/$AZ$86)*100000) -> 0 | CS86: 0.066037 | CU86: =' B_Populations'!$B$16 -> 65-74 | CV86: =AI86*CS86 -> 0 | CW86: =AK86*CS86 -> 0 | CX86: =AM86*CS86 -> 0 | CY86: =AO86*CS86 -> 0 | CZ86: =AQ86*CS86 -> 0 | DA86: =AS86*CS86 -> 0 | DB86: =AU86*CS86 -> 0 | DC86: =AW86*CS86 -> 0 | DD86: =AY86*CS86 -> 0 | DE86: =BA86*CS86 -> 0
B87: =' B_Populations'!$B$17 -> 75-84 | AH87: =' B_Populations'!C92 -> 0 | AI87: =IF(AH87=0,0,($C$87/$AH$87)*100000) -> 0 | AJ87: =' B_Populations'!E92 -> 0 | AK87: =IF(AJ87=0,0,($D$87/$AJ$87)*100000) -> 0 | AL87: =' B_Populations'!G92 -> 0 | AM87: =IF(AL87=0,0,($E$87/$AL$87)*100000) -> 0 | AN87: =' B_Populations'!I92 -> 0 | AO87: =IF(AN87=0,0,($F$87/$AN$87)*100000) -> 0 | AP87: =' B_Populations'!K92 -> 0 | AQ87: =IF(AP87=0,0,($G$87/$AP$87)*100000) -> 0 | AR87: =' B_Populations'!M92 -> 0 | AS87: =IF(AR87=0,0,($H$87/$AR$87)*100000) -> 0 | AT87: =' B_Populations'!O92 -> 0 | AU87: =IF(AT87=0,0,($I$87/$AT$87)*100000) -> 0 | AV87: =' B_Populations'!Q92 -> 0 | AW87: =IF(AV87=0,0,($J$87/$AV$87)*100000) -> 0 | AX87: =' B_Populations'!S92 -> 0 | AY87: =IF(AX87=0,0,($K$87/$AX$87)*100000) -> 0 | AZ87: =' B_Populations'!U92 -> 0 | BA87: =IF(AZ87=0,0,($L$87/$AZ$87)*100000) -> 0 | CS87: 0.044841 | CU87: =' B_Populations'!$B$17 -> 75-84 | CV87: =AI87*CS87 -> 0 | CW87: =AK87*CS87 -> 0 | CX87: =AM87*CS87 -> 0 | CY87: =AO87*CS87 -> 0 | CZ87: =AQ87*CS87 -> 0 | DA87: =AS87*CS87 -> 0 | DB87: =AU87*CS87 -> 0 | DC87: =AW87*CS87 -> 0 | DD87: =AY87*CS87 -> 0 | DE87: =BA87*CS87 -> 0
B88: =' B_Populations'!$B$18 -> 85+ | AH88: =' B_Populations'!C93 -> 0 | AI88: =IF(AH88=0,0,($C$88/$AH$88)*100000) -> 0 | AJ88: =' B_Populations'!E93 -> 0 | AK88: =IF(AJ88=0,0,($D$88/$AJ$88)*100000) -> 0 | AL88: =' B_Populations'!G93 -> 0 | AM88: =IF(AL88=0,0,($E$88/$AL$88)*100000) -> 0 | AN88: =' B_Populations'!I93 -> 0 | AO88: =IF(AN88=0,0,($F$88/$AN$88)*100000) -> 0 | AP88: =' B_Populations'!K93 -> 0 | AQ88: =IF(AP88=0,0,($G$88/$AP$88)*100000) -> 0 | AR88: =' B_Populations'!M93 -> 0 | AS88: =IF(AR88=0,0,($H$88/$AR$88)*100000) -> 0 | AT88: =' B_Populations'!O93 -> 0 | AU88: =IF(AT88=0,0,($I$88/$AT$88)*100000) -> 0 | AV88: =' B_Populations'!Q93 -> 0 | AW88: =IF(AV88=0,0,($J$88/$AV$88)*100000) -> 0 | AX88: =' B_Populations'!S93 -> 0 | AY88: =IF(AX88=0,0,($K$88/$AX$88)*100000) -> 0 | AZ88: =' B_Populations'!U93 -> 0 | BA88: =IF(AZ88=0,0,($L$88/$AZ$88)*100000) -> 0 | CS88: 0.015508 | CU88: =' B_Populations'!$B$18 -> 85+ | CV88: =AI88*CS88 -> 0 | CW88: =AK88*CS88 -> 0 | CX88: =AM88*CS88 -> 0 | CY88: =AO88*CS88 -> 0 | CZ88: =AQ88*CS88 -> 0 | DA88: =AS88*CS88 -> 0 | DB88: =AU88*CS88 -> 0 | DC88: =AW88*CS88 -> 0 | DD88: =AY88*CS88 -> 0 | DE88: =BA88*CS88 -> 0
B89: total | C89: =SUM(C79:C88) -> 0 | D89: =SUM(D79:D88) -> 0 | E89: =SUM(E79:E88) -> 0 | F89: =SUM(F79:F88) -> 0 | G89: =SUM(G79:G88) -> 0 | H89: =SUM(H79:H88) -> 0 | I89: =SUM(I79:I88) -> 0 | J89: =SUM(J79:J88) -> 0 | ... L89: =SUM(L79:L88) -> 0 | AH89: =SUM(AH79:AH88) -> 0 | AI89: =SUM(AI79:AI88) -> 0 | AJ89: =SUM(AJ79:AJ88) -> 0 | AK89: =SUM(AK79:AK88) -> 0 | AL89: =SUM(AL79:AL88) -> 0 | AM89: =SUM(AM79:AM88) -> 0 | AN89: =SUM(AN79:AN88) -> 0 | AO89: =SUM(AO79:AO88) -> 0 | ... BA89: =SUM(BA79:BA88) -> 0 | CU89: total | CV89: =SUM(CV79:CV88) -> 0 | CW89: =SUM(CW79:CW88) -> 0 | CX89: =SUM(CX79:CX88) -> 0 | CY89: =SUM(CY79:CY88) -> 0 | CZ89: =SUM(CZ79:CZ88) -> 0 | DA89: =SUM(DA79:DA88) -> 0 | DB89: =SUM(DB79:DB88) -> 0 | DC89: =SUM(DC79:DC88) -> 0 | ... DE89: =SUM(DE79:DE88) -> 0
A92: Previous Year: | C92: =' B_Populations'!A100 -> 0 | D92: Sex Data | F92: Demographic Data | CV92: Age-adjusted Rates per 100,000 population
B93: Age | C93: Number of deaths- Total | D93: Number of deaths- Male | E93: Number of deaths- Female | F93: =' B_Populations'!$I$8 -> White-Not Hispanic | G93: =' B_Populations'!$K$8 -> Hispanic | H93: =' B_Populations'!$M$8 -> Black-Not Hispanic | I93: =' B_Populations'!$O$8 -> Asian | J93: =' B_Populations'!$Q$8 -> American Indian/Alaska Native | K93: =' B_Populations'!$S$8 -> Other | L93: =' B_Populations'!$U$8 -> Other | AH93: State population - Total | AI93: Rate | AJ93: State population - Male | AK93: Rate | AL93: State population - Female | AM93: Rate | AN93: =' B_Populations'!$I$8 -> White-Not Hispanic | AO93: Rate | AP93: =' B_Populations'!$K$8 -> Hispanic | AQ93: Rate | AR93: =' B_Populations'!$M$8 -> Black-Not Hispanic | AS93: Rate | AT93: =' B_Populations'!$O$8 -> Asian | AU93: Rate | AV93: =' B_Populations'!$Q$8 -> American Indian/Alaska Native | AW93: Rate | AX93: =' B_Populations'!$S$8 -> Other | AY93: Rate | AZ93: =' B_Populations'!$U$8 -> Other | BA93: Rate | CS93: 2000 Population Weight | CU93: Age | CV93: Total | CW93: Male | CX93: Female | CY93: =' B_Populations'!$I$8 -> White-Not Hispanic | CZ93: =' B_Populations'!$K$8 -> Hispanic | DA93: =' B_Populations'!$M$8 -> Black-Not Hispanic | DB93: =' B_Populations'!$O$8 -> Asian | DC93: =' B_Populations'!$Q$8 -> American Indian/Alaska Native | DD93: =' B_Populations'!$S$8 -> Other | DE93: =' B_Populations'!$U$8 -> Other
B94: =' B_Populations'!$B$9 -> 10-14 | AH94: =' B_Populations'!C99 -> 0 | AI94: =IF(AH94=0,0,($C$94/$AH$94)*100000) -> 0 | AJ94: =' B_Populations'!E99 -> 0 | AK94: =IF(AJ94=0,0,($D$94/$AJ$94)*100000) -> 0 | AL94: =' B_Populations'!G99 -> 0 | AM94: =IF(AL94=0,0,($E$94/$AL$94)*100000) -> 0 | AN94: =' B_Populations'!I99 -> 0 | AO94: =IF(AN94=0,0,($F$94/$AN$94)*100000) -> 0 | AP94: =' B_Populations'!K99 -> 0 | AQ94: =IF(AP94=0,0,($G$94/$AP$94)*100000) -> 0 | AR94: =' B_Populations'!M99 -> 0 | AS94: =IF(AR94=0,0,($H$94/$AR$94)*100000) -> 0 | AT94: =' B_Populations'!O99 -> 0 | AU94: =IF(AT94=0,0,($I$94/$AT$94)*100000) -> 0 | AV94: =' B_Populations'!Q99 -> 0 | AW94: =IF(AV94=0,0,($J$94/$AV$94)*100000) -> 0 | AX94: =' B_Populations'!S99 -> 0 | AY94: =IF(AX94=0,0,($K$94/$AX$94)*100000) -> 0 | AZ94: =' B_Populations'!U99 -> 0 | BA94: =IF(AZ94=0,0,($L$94/$AZ$94)*100000) -> 0 | CS94: 0.073032 | CU94: =' B_Populations'!$B$9 -> 10-14 | CV94: =AI94*CS94 -> 0 | CW94: =AK94*CS94 -> 0 | CX94: =AM94*CS94 -> 0 | CY94: =AO94*CS94 -> 0 | CZ94: =AQ94*CS94 -> 0 | DA94: =AS94*CS94 -> 0 | DB94: =AU94*CS94 -> 0 | DC94: =AW94*CS94 -> 0 | DD94: =AY94*CS94 -> 0 | DE94: =BA94*CS94 -> 0
B95: =' B_Populations'!$B$10 -> 15-19 | AH95: =' B_Populations'!C100 -> 0 | AI95: =IF(AH95=0,0,($C$95/$AH$95)*100000) -> 0 | AJ95: =' B_Populations'!E100 -> 0 | AK95: =IF(AJ95=0,0,($D$95/$AJ$95)*100000) -> 0 | AL95: =' B_Populations'!G100 -> 0 | AM95: =IF(AL95=0,0,($E$95/$AL$95)*100000) -> 0 | AN95: =' B_Populations'!I100 -> 0 | AO95: =IF(AN95=0,0,($F$95/$AN$95)*100000) -> 0 | AP95: =' B_Populations'!K100 -> 0 | AQ95: =IF(AP95=0,0,($G$95/$AP$95)*100000) -> 0 | AR95: =' B_Populations'!M100 -> 0 | AS95: =IF(AR95=0,0,($H$95/$AR$95)*100000) -> 0 | AT95: =' B_Populations'!O100 -> 0 | AU95: =IF(AT95=0,0,($I$95/$AT$95)*100000) -> 0 | AV95: =' B_Populations'!Q100 -> 0 | AW95: =IF(AV95=0,0,($J$95/$AV$95)*100000) -> 0 | AX95: =' B_Populations'!S100 -> 0 | AY95: =IF(AX95=0,0,($K$95/$AX$95)*100000) -> 0 | AZ95: =' B_Populations'!U100 -> 0 | BA95: =IF(AZ95=0,0,($L$95/$AZ$95)*100000) -> 0 | CS95: 0.072169 | CU95: =' B_Populations'!$B$10 -> 15-19 | CV95: =AI95*CS95 -> 0 | CW95: =AK95*CS95 -> 0 | CX95: =AM95*CS95 -> 0 | CY95: =AO95*CS95 -> 0 | CZ95: =AQ95*CS95 -> 0 | DA95: =AS95*CS95 -> 0 | DB95: =AU95*CS95 -> 0 | DC95: =AW95*CS95 -> 0 | DD95: =AY95*CS95 -> 0 | DE95: =BA95*CS95 -> 0
B96: =' B_Populations'!$B$11 -> 20-24 | AH96: =' B_Populations'!C101 -> 0 | AI96: =IF(AH96=0,0,($C$96/$AH$96)*100000) -> 0 | AJ96: =' B_Populations'!E101 -> 0 | AK96: =IF(AJ96=0,0,($D$96/$AJ$96)*100000) -> 0 | AL96: =' B_Populations'!G101 -> 0 | AM96: =IF(AL96=0,0,($E$96/$AL$96)*100000) -> 0 | AN96: =' B_Populations'!I101 -> 0 | AO96: =IF(AN96=0,0,($F$96/$AN$96)*100000) -> 0 | AP96: =' B_Populations'!K101 -> 0 | AQ96: =IF(AP96=0,0,($G$96/$AP$96)*100000) -> 0 | AR96: =' B_Populations'!M101 -> 0 | AS96: =IF(AR96=0,0,($H$96/$AR$96)*100000) -> 0 | AT96: =' B_Populations'!O101 -> 0 | AU96: =IF(AT96=0,0,($I$96/$AT$96)*100000) -> 0 | AV96: =' B_Populations'!Q101 -> 0 | AW96: =IF(AV96=0,0,($J$96/$AV$96)*100000) -> 0 | AX96: =' B_Populations'!S101 -> 0 | AY96: =IF(AX96=0,0,($K$96/$AX$96)*100000) -> 0 | AZ96: =' B_Populations'!U101 -> 0 | BA96: =IF(AZ96=0,0,($L$96/$AZ$96)*100000) -> 0 | CS96: 0.066478 | CU96: =' B_Populations'!$B$11 -> 20-24 | CV96: =AI96*CS96 -> 0 | CW96: =AK96*CS96 -> 0 | CX96: =AM96*CS96 -> 0 | CY96: =AO96*CS96 -> 0 | CZ96: =AQ96*CS96 -> 0 | DA96: =AS96*CS96 -> 0 | DB96: =AU96*CS96 -> 0 | DC96: =AW96*CS96 -> 0 | DD96: =AY96*CS96 -> 0 | DE96: =BA96*CS96 -> 0
B97: =' B_Populations'!$B$12 -> 25-34 | AH97: =' B_Populations'!C102 -> 0 | AI97: =IF(AH97=0,0,($C$97/$AH$97)*100000) -> 0 | AJ97: =' B_Populations'!E102 -> 0 | AK97: =IF(AJ97=0,0,($D$97/$AJ$97)*100000) -> 0 | AL97: =' B_Populations'!G102 -> 0 | AM97: =IF(AL97=0,0,($E$97/$AL$97)*100000) -> 0 | AN97: =' B_Populations'!I102 -> 0 | AO97: =IF(AN97=0,0,($F$97/$AN$97)*100000) -> 0 | AP97: =' B_Populations'!K102 -> 0 | AQ97: =IF(AP97=0,0,($G$97/$AP$97)*100000) -> 0 | AR97: =' B_Populations'!M102 -> 0 | AS97: =IF(AR97=0,0,($H$97/$AR$97)*100000) -> 0 | AT97: =' B_Populations'!O102 -> 0 | AU97: =IF(AT97=0,0,($I$97/$AT$97)*100000) -> 0 | AV97: =' B_Populations'!Q102 -> 0 | AW97: =IF(AV97=0,0,($J$97/$AV$97)*100000) -> 0 | AX97: =' B_Populations'!S102 -> 0 | AY97: =IF(AX97=0,0,($K$97/$AX$97)*100000) -> 0 | AZ97: =' B_Populations'!U102 -> 0 | BA97: =IF(AZ97=0,0,($L$97/$AZ$97)*100000) -> 0 | CS97: 0.135573 | CU97: =' B_Populations'!$B$12 -> 25-34 | CV97: =AI97*CS97 -> 0 | CW97: =AK97*CS97 -> 0 | CX97: =AM97*CS97 -> 0 | CY97: =AO97*CS97 -> 0 | CZ97: =AQ97*CS97 -> 0 | DA97: =AS97*CS97 -> 0 | DB97: =AU97*CS97 -> 0 | DC97: =AW97*CS97 -> 0 | DD97: =AY97*CS97 -> 0 | DE97: =BA97*CS97 -> 0
B98: =' B_Populations'!$B$13 -> 35-44 | AH98: =' B_Populations'!C103 -> 0 | AI98: =IF(AH98=0,0,($C$98/$AH$98)*100000) -> 0 | AJ98: =' B_Populations'!E103 -> 0 | AK98: =IF(AJ98=0,0,($D$98/$AJ$98)*100000) -> 0 | AL98: =' B_Populations'!G103 -> 0 | AM98: =IF(AL98=0,0,($E$98/$AL$98)*100000) -> 0 | AN98: =' B_Populations'!I103 -> 0 | AO98: =IF(AN98=0,0,($F$98/$AN$98)*100000) -> 0 | AP98: =' B_Populations'!K103 -> 0 | AQ98: =IF(AP98=0,0,($G$98/$AP$98)*100000) -> 0 | AR98: =' B_Populations'!M103 -> 0 | AS98: =IF(AR98=0,0,($H$98/$AR$98)*100000) -> 0 | AT98: =' B_Populations'!O103 -> 0 | AU98: =IF(AT98=0,0,($I$98/$AT$98)*100000) -> 0 | AV98: =' B_Populations'!Q103 -> 0 | AW98: =IF(AV98=0,0,($J$98/$AV$98)*100000) -> 0 | AX98: =' B_Populations'!S103 -> 0 | AY98: =IF(AX98=0,0,($K$98/$AX$98)*100000) -> 0 | AZ98: =' B_Populations'!U103 -> 0 | BA98: =IF(AZ98=0,0,($L$98/$AZ$98)*100000) -> 0 | CS98: 0.162613 | CU98: =' B_Populations'!$B$13 -> 35-44 | CV98: =AI98*CS98 -> 0 | CW98: =AK98*CS98 -> 0 | CX98: =AM98*CS98 -> 0 | CY98: =AO98*CS98 -> 0 | CZ98: =AQ98*CS98 -> 0 | DA98: =AS98*CS98 -> 0 | DB98: =AU98*CS98 -> 0 | DC98: =AW98*CS98 -> 0 | DD98: =AY98*CS98 -> 0 | DE98: =BA98*CS98 -> 0
B99: =' B_Populations'!$B$14 -> 45-54 | AH99: =' B_Populations'!C104 -> 0 | AI99: =IF(AH99=0,0,($C$99/$AH$99)*100000) -> 0 | AJ99: =' B_Populations'!E104 -> 0 | AK99: =IF(AJ99=0,0,($D$99/$AJ$99)*100000) -> 0 | AL99: =' B_Populations'!G104 -> 0 | AM99: =IF(AL99=0,0,($E$99/$AL$99)*100000) -> 0 | AN99: =' B_Populations'!I104 -> 0 | AO99: =IF(AN99=0,0,($F$99/$AN$99)*100000) -> 0 | AP99: =' B_Populations'!K104 -> 0 | AQ99: =IF(AP99=0,0,($G$99/$AP$99)*100000) -> 0 | AR99: =' B_Populations'!M104 -> 0 | AS99: =IF(AR99=0,0,($H$99/$AR$99)*100000) -> 0 | AT99: =' B_Populations'!O104 -> 0 | AU99: =IF(AT99=0,0,($I$99/$AT$99)*100000) -> 0 | AV99: =' B_Populations'!Q104 -> 0 | AW99: =IF(AV99=0,0,($J$99/$AV$99)*100000) -> 0 | AX99: =' B_Populations'!S104 -> 0 | AY99: =IF(AX99=0,0,($K$99/$AX$99)*100000) -> 0 | AZ99: =' B_Populations'!U104 -> 0 | BA99: =IF(AZ99=0,0,($L$99/$AZ$99)*100000) -> 0 | CS99: 0.134834 | CU99: =' B_Populations'!$B$14 -> 45-54 | CV99: =AI99*CS99 -> 0 | CW99: =AK99*CS99 -> 0 | CX99: =AM99*CS99 -> 0 | CY99: =AO99*CS99 -> 0 | CZ99: =AQ99*CS99 -> 0 | DA99: =AS99*CS99 -> 0 | DB99: =AU99*CS99 -> 0 | DC99: =AW99*CS99 -> 0 | DD99: =AY99*CS99 -> 0 | DE99: =BA99*CS99 -> 0
B100: =' B_Populations'!$B$15 -> 55-64 | AH100: =' B_Populations'!C105 -> 0 | AI100: =IF(AH100=0,0,($C$100/$AH$100)*100000) -> 0 | AJ100: =' B_Populations'!E105 -> 0 | AK100: =IF(AJ100=0,0,($D$100/$AJ$100)*100000) -> 0 | AL100: =' B_Populations'!G105 -> 0 | AM100: =IF(AL100=0,0,($E$100/$AL$100)*100000) -> 0 | AN100: =' B_Populations'!I105 -> 0 | AO100: =IF(AN100=0,0,($F$100/$AN$100)*100000) -> 0 | AP100: =' B_Populations'!K105 -> 0 | AQ100: =IF(AP100=0,0,($G$100/$AP$100)*100000) -> 0 | AR100: =' B_Populations'!M105 -> 0 | AS100: =IF(AR100=0,0,($H$100/$AR$100)*100000) -> 0 | AT100: =' B_Populations'!O105 -> 0 | AU100: =IF(AT100=0,0,($I$100/$AT$100)*100000) -> 0 | AV100: =' B_Populations'!Q105 -> 0 | AW100: =IF(AV100=0,0,($J$100/$AV$100)*100000) -> 0 | AX100: =' B_Populations'!S105 -> 0 | AY100: =IF(AX100=0,0,($K$100/$AX$100)*100000) -> 0 | AZ100: =' B_Populations'!U105 -> 0 | BA100: =IF(AZ100=0,0,($L$100/$AZ$100)*100000) -> 0 | CS100: 0.087247 | CU100: =' B_Populations'!$B$15 -> 55-64 | CV100: =AI100*CS100 -> 0 | CW100: =AK100*CS100 -> 0 | CX100: =AM100*CS100 -> 0 | CY100: =AO100*CS100 -> 0 | CZ100: =AQ100*CS100 -> 0 | DA100: =AS100*CS100 -> 0 | DB100: =AU100*CS100 -> 0 | DC100: =AW100*CS100 -> 0 | DD100: =AY100*CS100 -> 0 | DE100: =BA100*CS100 -> 0
B101: =' B_Populations'!$B$16 -> 65-74 | AH101: =' B_Populations'!C106 -> 0 | AI101: =IF(AH101=0,0,($C$101/$AH$101)*100000) -> 0 | AJ101: =' B_Populations'!E106 -> 0 | AK101: =IF(AJ101=0,0,($D$101/$AJ$101)*100000) -> 0 | AL101: =' B_Populations'!G106 -> 0 | AM101: =IF(AL101=0,0,($E$101/$AL$101)*100000) -> 0 | AN101: =' B_Populations'!I106 -> 0 | AO101: =IF(AN101=0,0,($F$101/$AN$101)*100000) -> 0 | AP101: =' B_Populations'!K106 -> 0 | AQ101: =IF(AP101=0,0,($G$101/$AP$101)*100000) -> 0 | AR101: =' B_Populations'!M106 -> 0 | AS101: =IF(AR101=0,0,($H$101/$AR$101)*100000) -> 0 | AT101: =' B_Populations'!O106 -> 0 | AU101: =IF(AT101=0,0,($I$101/$AT$101)*100000) -> 0 | AV101: =' B_Populations'!Q106 -> 0 | AW101: =IF(AV101=0,0,($J$101/$AV$101)*100000) -> 0 | AX101: =' B_Populations'!S106 -> 0 | AY101: =IF(AX101=0,0,($K$101/$AX$101)*100000) -> 0 | AZ101: =' B_Populations'!U106 -> 0 | BA101: =IF(AZ101=0,0,($L$101/$AZ$101)*100000) -> 0 | CS101: 0.066037 | CU101: =' B_Populations'!$B$16 -> 65-74 | CV101: =AI101*CS101 -> 0 | CW101: =AK101*CS101 -> 0 | CX101: =AM101*CS101 -> 0 | CY101: =AO101*CS101 -> 0 | CZ101: =AQ101*CS101 -> 0 | DA101: =AS101*CS101 -> 0 | DB101: =AU101*CS101 -> 0 | DC101: =AW101*CS101 -> 0 | DD101: =AY101*CS101 -> 0 | DE101: =BA101*CS101 -> 0
B102: =' B_Populations'!$B$17 -> 75-84 | AH102: =' B_Populations'!C107 -> 0 | AI102: =IF(AH102=0,0,($C$102/$AH$102)*100000) -> 0 | AJ102: =' B_Populations'!E107 -> 0 | AK102: =IF(AJ102=0,0,($D$102/$AJ$102)*100000) -> 0 | AL102: =' B_Populations'!G107 -> 0 | AM102: =IF(AL102=0,0,($E$102/$AL$102)*100000) -> 0 | AN102: =' B_Populations'!I107 -> 0 | AO102: =IF(AN102=0,0,($F$102/$AN$102)*100000) -> 0 | AP102: =' B_Populations'!K107 -> 0 | AQ102: =IF(AP102=0,0,($G$102/$AP$102)*100000) -> 0 | AR102: =' B_Populations'!M107 -> 0 | AS102: =IF(AR102=0,0,($H$102/$AR$102)*100000) -> 0 | AT102: =' B_Populations'!O107 -> 0 | AU102: =IF(AT102=0,0,($I$102/$AT$102)*100000) -> 0 | AV102: =' B_Populations'!Q107 -> 0 | AW102: =IF(AV102=0,0,($J$102/$AV$102)*100000) -> 0 | AX102: =' B_Populations'!S107 -> 0 | AY102: =IF(AX102=0,0,($K$102/$AX$102)*100000) -> 0 | AZ102: =' B_Populations'!U107 -> 0 | BA102: =IF(AZ102=0,0,($L$102/$AZ$102)*100000) -> 0 | CS102: 0.044841 | CU102: =' B_Populations'!$B$17 -> 75-84 | CV102: =AI102*CS102 -> 0 | CW102: =AK102*CS102 -> 0 | CX102: =AM102*CS102 -> 0 | CY102: =AO102*CS102 -> 0 | CZ102: =AQ102*CS102 -> 0 | DA102: =AS102*CS102 -> 0 | DB102: =AU102*CS102 -> 0 | DC102: =AW102*CS102 -> 0 | DD102: =AY102*CS102 -> 0 | DE102: =BA102*CS102 -> 0
B103: =' B_Populations'!$B$18 -> 85+ | AH103: =' B_Populations'!C108 -> 0 | AI103: =IF(AH103=0,0,($C$103/$AH$103)*100000) -> 0 | AJ103: =' B_Populations'!E108 -> 0 | AK103: =IF(AJ103=0,0,($D$103/$AJ$103)*100000) -> 0 | AL103: =' B_Populations'!G108 -> 0 | AM103: =IF(AL103=0,0,($E$103/$AL$103)*100000) -> 0 | AN103: =' B_Populations'!I108 -> 0 | AO103: =IF(AN103=0,0,($F$103/$AN$103)*100000) -> 0 | AP103: =' B_Populations'!K108 -> 0 | AQ103: =IF(AP103=0,0,($G$103/$AP$103)*100000) -> 0 | AR103: =' B_Populations'!M108 -> 0 | AS103: =IF(AR103=0,0,($H$103/$AR$103)*100000) -> 0 | AT103: =' B_Populations'!O108 -> 0 | AU103: =IF(AT103=0,0,($I$103/$AT$103)*100000) -> 0 | AV103: =' B_Populations'!Q108 -> 0 | AW103: =IF(AV103=0,0,($J$103/$AV$103)*100000) -> 0 | AX103: =' B_Populations'!S108 -> 0 | AY103: =IF(AX103=0,0,($K$103/$AX$103)*100000) -> 0 | AZ103: =' B_Populations'!U108 -> 0 | BA103: =IF(AZ103=0,0,($L$103/$AZ$103)*100000) -> 0 | CS103: 0.015508 | CU103: =' B_Populations'!$B$18 -> 85+ | CV103: =AI103*CS103 -> 0 | CW103: =AK103*CS103 -> 0 | CX103: =AM103*CS103 -> 0 | CY103: =AO103*CS103 -> 0 | CZ103: =AQ103*CS103 -> 0 | DA103: =AS103*CS103 -> 0 | DB103: =AU103*CS103 -> 0 | DC103: =AW103*CS103 -> 0 | DD103: =AY103*CS103 -> 0 | DE103: =BA103*CS103 -> 0
B104: total | C104: =SUM(C94:C103) -> 0 | D104: =SUM(D94:D103) -> 0 | E104: =SUM(E94:E103) -> 0 | F104: =SUM(F94:F103) -> 0 | G104: =SUM(G94:G103) -> 0 | H104: =SUM(H94:H103) -> 0 | I104: =SUM(I94:I103) -> 0 | J104: =SUM(J94:J103) -> 0 | ... L104: =SUM(L94:L103) -> 0 | AH104: =SUM(AH94:AH103) -> 0 | AI104: =SUM(AI94:AI103) -> 0 | AJ104: =SUM(AJ94:AJ103) -> 0 | AK104: =SUM(AK94:AK103) -> 0 | AL104: =SUM(AL94:AL103) -> 0 | AM104: =SUM(AM94:AM103) -> 0 | AN104: =SUM(AN94:AN103) -> 0 | AO104: =SUM(AO94:AO103) -> 0 | ... BA104: =SUM(BA94:BA103) -> 0 | CU104: total | CV104: =SUM(CV94:CV103) -> 0 | CW104: =SUM(CW94:CW103) -> 0 | CX104: =SUM(CX94:CX103) -> 0 | CY104: =SUM(CY94:CY103) -> 0 | CZ104: =SUM(CZ94:CZ103) -> 0 | DA104: =SUM(DA94:DA103) -> 0 | DB104: =SUM(DB94:DB103) -> 0 | DC104: =SUM(DC94:DC103) -> 0 | ... DE104: =SUM(DE94:DE103) -> 0
A107: Previous Year: | C107: =' B_Populations'!A115 -> 0 | D107: Sex Data | F107: Demographic Data | CV107: Age-adjusted Rates per 100,000 population
B108: Age | C108: Number of deaths- Total | D108: Number of deaths- Male | E108: Number of deaths- Female | F108: =' B_Populations'!$I$8 -> White-Not Hispanic | G108: =' B_Populations'!$K$8 -> Hispanic | H108: =' B_Populations'!$M$8 -> Black-Not Hispanic | I108: =' B_Populations'!$O$8 -> Asian | J108: =' B_Populations'!$Q$8 -> American Indian/Alaska Native | K108: =' B_Populations'!$S$8 -> Other | L108: =' B_Populations'!$U$8 -> Other | AH108: State population - Total | AI108: Rate | AJ108: State population - Male | AK108: Rate | AL108: State population - Female | AM108: Rate | AN108: =' B_Populations'!$I$8 -> White-Not Hispanic | AO108: Rate | AP108: =' B_Populations'!$K$8 -> Hispanic | AQ108: Rate | AR108: =' B_Populations'!$M$8 -> Black-Not Hispanic | AS108: Rate | AT108: =' B_Populations'!$O$8 -> Asian | AU108: Rate | AV108: =' B_Populations'!$Q$8 -> American Indian/Alaska Native | AW108: Rate | AX108: =' B_Populations'!$S$8 -> Other | AY108: Rate | AZ108: =' B_Populations'!$U$8 -> Other | BA108: Rate | CS108: 2000 Population Weight | CU108: Age | CV108: Total | CW108: Male | CX108: Female | CY108: =' B_Populations'!$I$8 -> White-Not Hispanic | CZ108: =' B_Populations'!$K$8 -> Hispanic | DA108: =' B_Populations'!$M$8 -> Black-Not Hispanic | DB108: =' B_Populations'!$O$8 -> Asian | DC108: =' B_Populations'!$Q$8 -> American Indian/Alaska Native | DD108: =' B_Populations'!$S$8 -> Other | DE108: =' B_Populations'!$U$8 -> Other
B109: =' B_Populations'!$B$9 -> 10-14 | AH109: =' B_Populations'!C114 -> 0 | AI109: =IF(AH109=0,0,($C$109/$AH$109)*100000) -> 0 | AJ109: =' B_Populations'!E114 -> 0 | AK109: =IF(AJ109=0,0,($D$109/$AJ$109)*100000) -> 0 | AL109: =' B_Populations'!G114 -> 0 | AM109: =IF(AL109=0,0,($E$109/$AL$109)*100000) -> 0 | AN109: =' B_Populations'!I114 -> 0 | AO109: =IF(AN109=0,0,($F$109/$AN$109)*100000) -> 0 | AP109: =' B_Populations'!K114 -> 0 | AQ109: =IF(AP109=0,0,($G$109/$AP$109)*100000) -> 0 | AR109: =' B_Populations'!M114 -> 0 | AS109: =IF(AR109=0,0,($G$109/$AR$109)*100000) -> 0 | AT109: =' B_Populations'!O114 -> 0 | AU109: =IF(AT109=0,0,($I$109/$AT$109)*100000) -> 0 | AV109: =' B_Populations'!Q114 -> 0 | AW109: =IF(AV109=0,0,($J$109/$AV$109)*100000) -> 0 | AX109: =' B_Populations'!S114 -> 0 | AY109: =IF(AX109=0,0,($K$109/$AX$109)*100000) -> 0 | AZ109: =' B_Populations'!U114 -> 0 | BA109: =IF(AZ109=0,0,($L$109/$AZ$109)*100000) -> 0 | CS109: 0.073032 | CU109: =' B_Populations'!$B$9 -> 10-14 | CV109: =AI109*CS109 -> 0 | CW109: =AK109*CS109 -> 0 | CX109: =AM109*CS109 -> 0 | CY109: =AO109*CS109 -> 0 | CZ109: =AQ109*CS109 -> 0 | DA109: =AS109*CS109 -> 0 | DB109: =AU109*CS109 -> 0 | DC109: =AW109*CS109 -> 0 | DD109: =AY109*CS109 -> 0 | DE109: =BA109*CS109 -> 0
B110: =' B_Populations'!$B$10 -> 15-19 | AH110: =' B_Populations'!C115 -> 0 | AI110: =IF(AH110=0,0,($C$110/$AH$110)*100000) -> 0 | AJ110: =' B_Populations'!E115 -> 0 | AK110: =IF(AJ110=0,0,($D$110/$AJ$110)*100000) -> 0 | AL110: =' B_Populations'!G115 -> 0 | AM110: =IF(AL110=0,0,($E$110/$AL$110)*100000) -> 0 | AN110: =' B_Populations'!I115 -> 0 | AO110: =IF(AN110=0,0,($F$110/$AN$110)*100000) -> 0 | AP110: =' B_Populations'!K115 -> 0 | AQ110: =IF(AP110=0,0,($G$110/$AP$110)*100000) -> 0 | AR110: =' B_Populations'!M115 -> 0 | AS110: =IF(AR110=0,0,($G$110/$AR$110)*100000) -> 0 | AT110: =' B_Populations'!O115 -> 0 | AU110: =IF(AT110=0,0,($I$110/$AT$110)*100000) -> 0 | AV110: =' B_Populations'!Q115 -> 0 | AW110: =IF(AV110=0,0,($J$110/$AV$110)*100000) -> 0 | AX110: =' B_Populations'!S115 -> 0 | AY110: =IF(AX110=0,0,($K$110/$AX$110)*100000) -> 0 | AZ110: =' B_Populations'!U115 -> 0 | BA110: =IF(AZ110=0,0,($L$110/$AZ$110)*100000) -> 0 | CS110: 0.072169 | CU110: =' B_Populations'!$B$10 -> 15-19 | CV110: =AI110*CS110 -> 0 | CW110: =AK110*CS110 -> 0 | CX110: =AM110*CS110 -> 0 | CY110: =AO110*CS110 -> 0 | CZ110: =AQ110*CS110 -> 0 | DA110: =AS110*CS110 -> 0 | DB110: =AU110*CS110 -> 0 | DC110: =AW110*CS110 -> 0 | DD110: =AY110*CS110 -> 0 | DE110: =BA110*CS110 -> 0
B111: =' B_Populations'!$B$11 -> 20-24 | AH111: =' B_Populations'!C116 -> 0 | AI111: =IF(AH111=0,0,($C$111/$AH$111)*100000) -> 0 | AJ111: =' B_Populations'!E116 -> 0 | AK111: =IF(AJ111=0,0,($D$111/$AJ$111)*100000) -> 0 | AL111: =' B_Populations'!G116 -> 0 | AM111: =IF(AL111=0,0,($E$111/$AL$111)*100000) -> 0 | AN111: =' B_Populations'!I116 -> 0 | AO111: =IF(AN111=0,0,($F$111/$AN$111)*100000) -> 0 | AP111: =' B_Populations'!K116 -> 0 | AQ111: =IF(AP111=0,0,($G$111/$AP$111)*100000) -> 0 | AR111: =' B_Populations'!M116 -> 0 | AS111: =IF(AR111=0,0,($G$111/$AR$111)*100000) -> 0 | AT111: =' B_Populations'!O116 -> 0 | AU111: =IF(AT111=0,0,($I$111/$AT$111)*100000) -> 0 | AV111: =' B_Populations'!Q116 -> 0 | AW111: =IF(AV111=0,0,($J$111/$AV$111)*100000) -> 0 | AX111: =' B_Populations'!S116 -> 0 | AY111: =IF(AX111=0,0,($K$111/$AX$111)*100000) -> 0 | AZ111: =' B_Populations'!U116 -> 0 | BA111: =IF(AZ111=0,0,($L$111/$AZ$111)*100000) -> 0 | CS111: 0.066478 | CU111: =' B_Populations'!$B$11 -> 20-24 | CV111: =AI111*CS111 -> 0 | CW111: =AK111*CS111 -> 0 | CX111: =AM111*CS111 -> 0 | CY111: =AO111*CS111 -> 0 | CZ111: =AQ111*CS111 -> 0 | DA111: =AS111*CS111 -> 0 | DB111: =AU111*CS111 -> 0 | DC111: =AW111*CS111 -> 0 | DD111: =AY111*CS111 -> 0 | DE111: =BA111*CS111 -> 0
B112: =' B_Populations'!$B$12 -> 25-34 | AH112: =' B_Populations'!C117 -> 0 | AI112: =IF(AH112=0,0,($C$112/$AH$112)*100000) -> 0 | AJ112: =' B_Populations'!E117 -> 0 | AK112: =IF(AJ112=0,0,($D$112/$AJ$112)*100000) -> 0 | AL112: =' B_Populations'!G117 -> 0 | AM112: =IF(AL112=0,0,($E$112/$AL$112)*100000) -> 0 | AN112: =' B_Populations'!I117 -> 0 | AO112: =IF(AN112=0,0,($F$112/$AN$112)*100000) -> 0 | AP112: =' B_Populations'!K117 -> 0 | AQ112: =IF(AP112=0,0,($G$112/$AP$112)*100000) -> 0 | AR112: =' B_Populations'!M117 -> 0 | AS112: =IF(AR112=0,0,($G$112/$AR$112)*100000) -> 0 | AT112: =' B_Populations'!O117 -> 0 | AU112: =IF(AT112=0,0,($I$112/$AT$112)*100000) -> 0 | AV112: =' B_Populations'!Q117 -> 0 | AW112: =IF(AV112=0,0,($J$112/$AV$112)*100000) -> 0 | AX112: =' B_Populations'!S117 -> 0 | AY112: =IF(AX112=0,0,($K$112/$AX$112)*100000) -> 0 | AZ112: =' B_Populations'!U117 -> 0 | BA112: =IF(AZ112=0,0,($L$112/$AZ$112)*100000) -> 0 | CS112: 0.135573 | CU112: =' B_Populations'!$B$12 -> 25-34 | CV112: =AI112*CS112 -> 0 | CW112: =AK112*CS112 -> 0 | CX112: =AM112*CS112 -> 0 | CY112: =AO112*CS112 -> 0 | CZ112: =AQ112*CS112 -> 0 | DA112: =AS112*CS112 -> 0 | DB112: =AU112*CS112 -> 0 | DC112: =AW112*CS112 -> 0 | DD112: =AY112*CS112 -> 0 | DE112: =BA112*CS112 -> 0
B113: =' B_Populations'!$B$13 -> 35-44 | AH113: =' B_Populations'!C118 -> 0 | AI113: =IF(AH113=0,0,($C$113/$AH$113)*100000) -> 0 | AJ113: =' B_Populations'!E118 -> 0 | AK113: =IF(AJ113=0,0,($D$113/$AJ$113)*100000) -> 0 | AL113: =' B_Populations'!G118 -> 0 | AM113: =IF(AL113=0,0,($E$113/$AL$113)*100000) -> 0 | AN113: =' B_Populations'!I118 -> 0 | AO113: =IF(AN113=0,0,($F$113/$AN$113)*100000) -> 0 | AP113: =' B_Populations'!K118 -> 0 | AQ113: =IF(AP113=0,0,($G$113/$AP$113)*100000) -> 0 | AR113: =' B_Populations'!M118 -> 0 | AS113: =IF(AR113=0,0,($G$113/$AR$113)*100000) -> 0 | AT113: =' B_Populations'!O118 -> 0 | AU113: =IF(AT113=0,0,($I$113/$AT$113)*100000) -> 0 | AV113: =' B_Populations'!Q118 -> 0 | AW113: =IF(AV113=0,0,($J$113/$AV$113)*100000) -> 0 | AX113: =' B_Populations'!S118 -> 0 | AY113: =IF(AX113=0,0,($K$113/$AX$113)*100000) -> 0 | AZ113: =' B_Populations'!U118 -> 0 | BA113: =IF(AZ113=0,0,($L$113/$AZ$113)*100000) -> 0 | CS113: 0.162613 | CU113: =' B_Populations'!$B$13 -> 35-44 | CV113: =AI113*CS113 -> 0 | CW113: =AK113*CS113 -> 0 | CX113: =AM113*CS113 -> 0 | CY113: =AO113*CS113 -> 0 | CZ113: =AQ113*CS113 -> 0 | DA113: =AS113*CS113 -> 0 | DB113: =AU113*CS113 -> 0 | DC113: =AW113*CS113 -> 0 | DD113: =AY113*CS113 -> 0 | DE113: =BA113*CS113 -> 0
B114: =' B_Populations'!$B$14 -> 45-54 | AH114: =' B_Populations'!C119 -> 0 | AI114: =IF(AH114=0,0,($C$114/$AH$114)*100000) -> 0 | AJ114: =' B_Populations'!E119 -> 0 | AK114: =IF(AJ114=0,0,($D$114/$AJ$114)*100000) -> 0 | AL114: =' B_Populations'!G119 -> 0 | AM114: =IF(AL114=0,0,($E$114/$AL$114)*100000) -> 0 | AN114: =' B_Populations'!I119 -> 0 | AO114: =IF(AN114=0,0,($F$114/$AN$114)*100000) -> 0 | AP114: =' B_Populations'!K119 -> 0 | AQ114: =IF(AP114=0,0,($G$114/$AP$114)*100000) -> 0 | AR114: =' B_Populations'!M119 -> 0 | AS114: =IF(AR114=0,0,($G$114/$AR$114)*100000) -> 0 | AT114: =' B_Populations'!O119 -> 0 | AU114: =IF(AT114=0,0,($I$114/$AT$114)*100000) -> 0 | AV114: =' B_Populations'!Q119 -> 0 | AW114: =IF(AV114=0,0,($J$114/$AV$114)*100000) -> 0 | AX114: =' B_Populations'!S119 -> 0 | AY114: =IF(AX114=0,0,($K$114/$AX$114)*100000) -> 0 | AZ114: =' B_Populations'!U119 -> 0 | BA114: =IF(AZ114=0,0,($L$114/$AZ$114)*100000) -> 0 | CS114: 0.134834 | CU114: =' B_Populations'!$B$14 -> 45-54 | CV114: =AI114*CS114 -> 0 | CW114: =AK114*CS114 -> 0 | CX114: =AM114*CS114 -> 0 | CY114: =AO114*CS114 -> 0 | CZ114: =AQ114*CS114 -> 0 | DA114: =AS114*CS114 -> 0 | DB114: =AU114*CS114 -> 0 | DC114: =AW114*CS114 -> 0 | DD114: =AY114*CS114 -> 0 | DE114: =BA114*CS114 -> 0
...

Sheet 2. Firearm
B1: Data Input Tables Instructions: Enter your suicide-related death data in the red cells below. The age-adjusted rates will automatically calculate in the results table. Enter data for as many years as desired (up to 20). If only aggregated demographic data is available, there is space to enter a five year aggreage at the bottom of the sheet. Totals, sex, and regional data must still be entered separately by year. | F1: Optional: Unhide columns G through L to enter demographic data | M1: Optional: Unhide columns N through AF to enter health region data | AH1: Optional: Unhide columns AI through CS to show rate calculations and 2000 population weights | CU1: Results Table Age Adjusted Rates per 100,1000. Results will calculate automatically. | CX1: Optional: Unhide columns CY through DY to show demographic and regional rates
A2: Most Recent Date Year | C2: =' B_Populations'!A10 -> 0 | D2: Sex Data | F2: Demographic Data | M2: Region Data | CV2: Age-adjusted Rates per 100,000 population
B3: Age | C3: Number of deaths- Total | D3: Number of deaths- Male | E3: Number of deaths- Female | F3: =' B_Populations'!$I$8 -> White-Not Hispanic | G3: =' B_Populations'!$K$8 -> Hispanic | H3: =' B_Populations'!$M$8 -> Black-Not Hispanic | I3: =' B_Populations'!$O$8 -> Asian | J3: =' B_Populations'!$Q$8 -> American Indian/Alaska Native | K3: =' B_Populations'!$S$8 -> Other | L3: =' B_Populations'!$U$8 -> Other | M3: =' B_Populations'!W8 -> Region 1 | N3: =' B_Populations'!Y8 -> Region 2 | O3: =' B_Populations'!AA8 -> Region 3 | P3: =' B_Populations'!AC8 -> Region 4 | Q3: =' B_Populations'!AE8 -> Region 5 | R3: =' B_Populations'!AG8 -> Region 6 | S3: =' B_Populations'!AI8 -> Region 7 | T3: =' B_Populations'!AK8 -> Region 8 | U3: =' B_Populations'!AM8 -> Region 9 | V3: =' B_Populations'!AO8 -> Region 10 | W3: =' B_Populations'!AQ8 -> Region 11 | X3: =' B_Populations'!AS8 -> Region 12 | Y3: =' B_Populations'!AU8 -> Region 13 | Z3: =' B_Populations'!AW8 -> Region 14 | AA3: =' B_Populations'!AY8 -> Region 15 | AB3: =' B_Populations'!BA8 -> Region 16 | AC3: =' B_Populations'!BC8 -> Region 17 | AD3: =' B_Populations'!BE8 -> Region 18 | AE3: =' B_Populations'!BG8 -> Region 19 | AF3: =' B_Populations'!BI8 -> Region 20 | AH3: State population - Total | AI3: Rate | AJ3: State population - Male | AK3: Rate | AL3: State population - Female | AM3: Rate | AN3: =' B_Populations'!$I$8 -> White-Not Hispanic | AO3: Rate | AP3: =' B_Populations'!$K$8 -> Hispanic | AQ3: Rate | AR3: =' B_Populations'!$M$8 -> Black-Not Hispanic | AS3: Rate | AT3: =' B_Populations'!$O$8 -> Asian | AU3: Rate | AV3: =' B_Populations'!$Q$8 -> American Indian/Alaska Native | AW3: Rate | AX3: =' B_Populations'!$S$8 -> Other | AY3: Rate | AZ3: =' B_Populations'!$U$8 -> Other | BA3: Rate | BC3: =M3 -> Region 1 | BD3: Rate | BE3: =N3 -> Region 2 | BF3: Rate | BG3: =O3 -> Region 3 | BH3: Rate | BI3: =P3 -> Region 4 | BJ3: Rate | BK3: =Q3 -> Region 5 | BL3: Rate | BM3: =R3 -> Region 6 | BN3: Rate | BO3: =S3 -> Region 7 | BP3: Rate | BQ3: =T3 -> Region 8 | BR3: Rate | BS3: =U3 -> Region 9 | BT3: Rate | BU3: =V3 -> Region 10 | BV3: Rate | BW3: =W3 -> Region 11 | BX3: Rate | BY3: =X3 -> Region 12 | BZ3: Rate | CA3: =Y3 -> Region 13 | CB3: Rate | CC3: =Z3 -> Region 14 | CD3: Rate | CE3: =AA3 -> Region 15 | CF3: Rate | CG3: =AB3 -> Region 16 | CH3: Rate | CI3: =AC3 -> Region 17 | CJ3: Rate | CK3: =AD3 -> Region 18 | CL3: Rate | CM3: =AE3 -> Region 19 | CN3: Rate | CO3: =AF3 -> Region 20 | CP3: Rate | CS3: 2000 Population Weight | CU3: Age | CV3: Total | CW3: Male | CX3: Female | CY3: =' B_Populations'!$I$8 -> White-Not Hispanic | CZ3: =' B_Populations'!$K$8 -> Hispanic | DA3: =' B_Populations'!$M$8 -> Black-Not Hispanic | DB3: =' B_Populations'!$O$8 -> Asian | DC3: =' B_Populations'!$Q$8 -> American Indian/Alaska Native | DD3: =' B_Populations'!$S$8 -> Other | DE3: =' B_Populations'!$U$8 -> Other | DF3: =M3 -> Region 1 | DG3: =N3 -> Region 2 | DH3: =O3 -> Region 3 | DI3: =P3 -> Region 4 | DJ3: =Q3 -> Region 5 | DK3: =R3 -> Region 6 | DL3: =S3 -> Region 7 | DM3: =T3 -> Region 8 | ... DY3: =AF3 -> Region 20
B4: =' B_Populations'!$B$9 -> 10-14 | AH4: =' B_Populations'!C9 -> 0 | AI4: =IF(AH4=0,0,($C$4/$AH$4)*100000) -> 0 | AJ4: =' B_Populations'!E9 -> 0 | AK4: =IF(AJ4=0,0,($D$4/$AJ$4)*100000) -> 0 | AL4: =' B_Populations'!G9 -> 0 | AM4: =IF(AL4=0,0,($E$4/$AL$4)*100000) -> 0 | AN4: =' B_Populations'!I9 -> 0 | AO4: =IF(AN4=0,0,($F$4/$AN$4)*100000) -> 0 | AP4: =' B_Populations'!K9 -> 0 | AQ4: =IF(AP4=0,0,($G$4/$AP$4)*100000) -> 0 | AR4: =' B_Populations'!M9 -> 0 | AS4: =IF(AR4=0,0,($H$4/$AR$4)*100000) -> 0 | AT4: =' B_Populations'!O9 -> 0 | AU4: =IF(AT4=0,0,($I$4/$AT$4)*100000) -> 0 | AV4: =' B_Populations'!Q9 -> 0 | AW4: =IF(AV4=0,0,($J$4/$AV$4)*100000) -> 0 | AX4: =' B_Populations'!S9 -> 0 | AY4: =IF(AX4=0,0,($K$4/$AX$4)*100000) -> 0 | AZ4: =' B_Populations'!U9 -> 0 | BA4: =IF(AZ4=0,0,($L$4/$AZ$4)*100000) -> 0 | BC4: =' B_Populations'!W9 -> 0 | BD4: =IF(BC4=0,0,($M$4/$BC$4)*100000) -> 0 | BE4: =' B_Populations'!Y9 -> 0 | BF4: =IF(BE4=0,0,($N$4/$BE$4)*100000) -> 0 | BG4: =' B_Populations'!AA9 -> 0 | BH4: =IF(BG4=0,0,($O$4/$BG$4)*100000) -> 0 | BI4: =' B_Populations'!AC9 -> 0 | BJ4: =IF(BI4=0,0,($P$4/$BI$4)*100000) -> 0 | BK4: =' B_Populations'!AE9 -> 0 | BL4: =IF(BK4=0,0,($Q$4/$BK$4)*100000) -> 0 | BM4: =' B_Populations'!AG9 -> 0 | BN4: =IF(BM4=0,0,($R$4/$BM$4)*100000) -> 0 | BO4: =' B_Populations'!AI9 -> 0 | BP4: =IF(BO4=0,0,($S$4/$BO$4)*100000) -> 0 | BQ4: =' B_Populations'!AK9 -> 0 | BR4: =IF(BQ4=0,0,($T$4/$BQ$4)*100000) -> 0 | BS4: =' B_Populations'!AM9 -> 0 | BT4: =IF(BS4=0,0,($U$4/$BS$4)*100000) -> 0 | BU4: =' B_Populations'!AO9 -> 0 | BV4: =IF(BU4=0,0,($V$4/$BU$4)*100000) -> 0 | BW4: =' B_Populations'!AQ9 -> 0 | BX4: =IF(BW4=0,0,($W$4/$BW$4)*100000) -> 0 | BY4: =' B_Populations'!AS9 -> 0 | BZ4: =IF(BY4=0,0,($X$4/$BY$4)*100000) -> 0 | CA4: =' B_Populations'!AU9 -> 0 | CB4: =IF(CA4=0,0,($Y$4/$CA$4)*100000) -> 0 | CC4: =' B_Populations'!AW9 -> 0 | CD4: =IF(CC4=0,0,($Z$4/$CC$4)*100000) -> 0 | CE4: =' B_Populations'!AY9 -> 0 | CF4: =IF(CE4=0,0,($AA$4/$CE$4)*100000) -> 0 | CG4: =' B_Populations'!BA9 -> 0 | CH4: =IF(CG4=0,0,($AB$4/$CG$4)*100000) -> 0 | CI4: =' B_Populations'!BC9 -> 0 | CJ4: =IF(CI4=0,0,($AC$4/$CI$4)*100000) -> 0 | CK4: =' B_Populations'!BE9 -> 0 | CL4: =IF(CK4=0,0,($AD$4/$CK$4)*100000) -> 0 | CM4: =' B_Populations'!BG9 -> 0 | CN4: =IF(CM4=0,0,($AE$4/$CM$4)*100000) -> 0 | CO4: =' B_Populations'!BI9 -> 0 | CP4: =IF(CO4=0,0,($AF$4/$CO$4)*100000) -> 0 | CS4: 0.073032 | CU4: =' B_Populations'!$B$9 -> 10-14 | CV4: =AI4*CS4 -> 0 | CW4: =AK4*CS4 -> 0 | CX4: =AM4*CS4 -> 0 | CY4: =AO4*CS4 -> 0 | CZ4: =AQ4*CS4 -> 0 | DA4: =AS4*CS4 -> 0 | DB4: =AU4*CS4 -> 0 | DC4: =AW4*CS4 -> 0 | DD4: =AY4*CS4 -> 0 | DE4: =BA4*CS4 -> 0 | DF4: =BD4*CS4 -> 0 | DG4: =BF4*CS4 -> 0 | DH4: =BH4*CS4 -> 0 | DI4: =BJ4*CS4 -> 0 | DJ4: =BL4*CS4 -> 0 | DK4: =BN4*CS4 -> 0 | DL4: =BP4*CS4 -> 0 | DM4: =BR4*CS4 -> 0 | DN4: =BT4*CS4 -> 0 | DO4: =BV4*CS4 -> 0 | DP4: =BX4*CS4 -> 0 | DQ4: =BZ4*CS4 -> 0 | DR4: =CB4*CS4 -> 0 | DS4: =CD4*CS4 -> 0 | DT4: =CF4*CS4 -> 0 | DU4: =CH4*CS4 -> 0 | DV4: =CJ4*CS4 -> 0 | DW4: =CL4*CS4 -> 0 | DX4: =CN4*CS4 -> 0 | DY4: =CP4*CS4 -> 0
B5: =' B_Populations'!$B$10 -> 15-19 | AH5: =' B_Populations'!C10 -> 0 | AI5: =IF(AH5=0,0,($C$5/$AH$5)*100000) -> 0 | AJ5: =' B_Populations'!E10 -> 0 | AK5: =IF(AJ5=0,0,($D$5/$AJ$5)*100000) -> 0 | AL5: =' B_Populations'!G10 -> 0 | AM5: =IF(AL5=0,0,($E$5/$AL$5)*100000) -> 0 | AN5: =' B_Populations'!I10 -> 0 | AO5: =IF(AN5=0,0,($F$5/$AN$5)*100000) -> 0 | AP5: =' B_Populations'!K10 -> 0 | AQ5: =IF(AP5=0,0,($G$5/$AP$5)*100000) -> 0 | AR5: =' B_Populations'!M10 -> 0 | AS5: =IF(AR5=0,0,($H$5/$AR$5)*100000) -> 0 | AT5: =' B_Populations'!O10 -> 0 | AU5: =IF(AT5=0,0,($I$5/$AT$5)*100000) -> 0 | AV5: =' B_Populations'!Q10 -> 0 | AW5: =IF(AV5=0,0,($J$5/$AV$5)*100000) -> 0 | AX5: =' B_Populations'!S10 -> 0 | AY5: =IF(AX5=0,0,($K$5/$AX$5)*100000) -> 0 | AZ5: =' B_Populations'!U10 -> 0 | BA5: =IF(AZ5=0,0,($L$5/$AZ$5)*100000) -> 0 | BC5: =' B_Populations'!W10 -> 0 | BD5: =IF(BC5=0,0,($M$5/$BC$5)*100000) -> 0 | BE5: =' B_Populations'!Y10 -> 0 | BF5: =IF(BE5=0,0,($N$5/$BE$5)*100000) -> 0 | BG5: =' B_Populations'!AA10 -> 0 | BH5: =IF(BG5=0,0,($O$5/$BG$5)*100000) -> 0 | BI5: =' B_Populations'!AC10 -> 0 | BJ5: =IF(BI5=0,0,($P$5/$BI$5)*100000) -> 0 | BK5: =' B_Populations'!AE10 -> 0 | BL5: =IF(BK5=0,0,($Q$5/$BK$5)*100000) -> 0 | BM5: =' B_Populations'!AG10 -> 0 | BN5: =IF(BM5=0,0,($R$5/$BM$5)*100000) -> 0 | BO5: =' B_Populations'!AI10 -> 0 | BP5: =IF(BO5=0,0,($S$5/$BO$5)*100000) -> 0 | BQ5: =' B_Populations'!AK10 -> 0 | BR5: =IF(BQ5=0,0,($T$5/$BQ$5)*100000) -> 0 | BS5: =' B_Populations'!AM10 -> 0 | BT5: =IF(BS5=0,0,($U$5/$BC$5)*100000) -> 0 | BU5: =' B_Populations'!AO10 -> 0 | BV5: =IF(BU5=0,0,($V$5/$BU$5)*100000) -> 0 | BW5: =' B_Populations'!AQ10 -> 0 | BX5: =IF(BW5=0,0,($W$5/$BW$5)*100000) -> 0 | BY5: =' B_Populations'!AS10 -> 0 | BZ5: =IF(BY5=0,0,($X$5/$BY$5)*100000) -> 0 | CA5: =' B_Populations'!AU10 -> 0 | CB5: =IF(CA5=0,0,($Y$5/$CA$5)*100000) -> 0 | CC5: =' B_Populations'!AW10 -> 0 | CD5: =IF(CC5=0,0,($Z$5/$CC$5)*100000) -> 0 | CE5: =' B_Populations'!AY10 -> 0 | CF5: =IF(CE5=0,0,($AA$5/$CE$5)*100000) -> 0 | CG5: =' B_Populations'!BA10 -> 0 | CH5: =IF(CG5=0,0,($AB$5/$CG$5)*100000) -> 0 | CI5: =' B_Populations'!BC10 -> 0 | CJ5: =IF(CI5=0,0,($AC$5/$CI$5)*100000) -> 0 | CK5: =' B_Populations'!BE10 -> 0 | CL5: =IF(CK5=0,0,($AD$5/$CK$5)*100000) -> 0 | CM5: =' B_Populations'!BG10 -> 0 | CN5: =IF(CM5=0,0,($AE$5/$CM$5)*100000) -> 0 | CO5: =' B_Populations'!BI10 -> 0 | CP5: =IF(CO5=0,0,($AF$5/$CO$5)*100000) -> 0 | CS5: 0.072169 | CU5: =' B_Populations'!$B$10 -> 15-19 | CV5: =AI5*CS5 -> 0 | CW5: =AK5*CS5 -> 0 | CX5: =AM5*CS5 -> 0 | CY5: =AO5*CS5 -> 0 | CZ5: =AQ5*CS5 -> 0 | DA5: =AS5*CS5 -> 0 | DB5: =AU5*CS5 -> 0 | DC5: =AW5*CS5 -> 0 | DD5: =AY5*CS5 -> 0 | DE5: =BA5*CS5 -> 0 | DF5: =BD5*CS5 -> 0 | DG5: =BF5*CS5 -> 0 | DH5: =BH5*CS5 -> 0 | DI5: =BJ5*CS5 -> 0 | DJ5: =BL5*CS5 -> 0 | DK5: =BN5*CS5 -> 0 | DL5: =BP5*CS5 -> 0 | DM5: =BR5*CS5 -> 0 | DN5: =BT5*CS5 -> 0 | DO5: =BV5*CS5 -> 0 | DP5: =BX5*CS5 -> 0 | DQ5: =BZ5*CS5 -> 0 | DR5: =CB5*CS5 -> 0 | DS5: =CD5*CS5 -> 0 | DT5: =CF5*CS5 -> 0 | DU5: =CH5*CS5 -> 0 | DV5: =CJ5*CS5 -> 0 | DW5: =CL5*CS5 -> 0 | DX5: =CN5*CS5 -> 0 | DY5: =CP5*CS5 -> 0
B6: =' B_Populations'!$B$11 -> 20-24 | AH6: =' B_Populations'!C11 -> 0 | AI6: =IF(AH6=0,0,($C$6/$AH$6)*100000) -> 0 | AJ6: =' B_Populations'!E11 -> 0 | AK6: =IF(AJ6=0,0,($D$6/$AJ$6)*100000) -> 0 | AL6: =' B_Populations'!G11 -> 0 | AM6: =IF(AL6=0,0,($E$6/$AL$6)*100000) -> 0 | AN6: =' B_Populations'!I11 -> 0 | AO6: =IF(AN6=0,0,($F$6/$AN$6)*100000) -> 0 | AP6: =' B_Populations'!K11 -> 0 | AQ6: =IF(AP6=0,0,($G$6/$AP$6)*100000) -> 0 | AR6: =' B_Populations'!M11 -> 0 | AS6: =IF(AR6=0,0,($H$6/$AR$6)*100000) -> 0 | AT6: =' B_Populations'!O11 -> 0 | AU6: =IF(AT6=0,0,($I$6/$AT$6)*100000) -> 0 | AV6: =' B_Populations'!Q11 -> 0 | AW6: =IF(AV6=0,0,($J$6/$AV$6)*100000) -> 0 | AX6: =' B_Populations'!S11 -> 0 | AY6: =IF(AX6=0,0,($K$6/$AX$6)*100000) -> 0 | AZ6: =' B_Populations'!U11 -> 0 | BA6: =IF(AZ6=0,0,($L$6/$AZ$6)*100000) -> 0 | BC6: =' B_Populations'!W11 -> 0 | BD6: =IF(BC6=0,0,($M$6/$BC$6)*100000) -> 0 | BE6: =' B_Populations'!Y11 -> 0 | BF6: =IF(BE6=0,0,($N$6/$BE$6)*100000) -> 0 | BG6: =' B_Populations'!AA11 -> 0 | BH6: =IF(BG6=0,0,($O$6/$BG$6)*100000) -> 0 | BI6: =' B_Populations'!AC11 -> 0 | BJ6: =IF(BI6=0,0,($P$6/$BI$6)*100000) -> 0 | BK6: =' B_Populations'!AE11 -> 0 | BL6: =IF(BK6=0,0,($Q$6/$BK$6)*100000) -> 0 | BM6: =' B_Populations'!AG11 -> 0 | BN6: =IF(BM6=0,0,($R$6/$BM$6)*100000) -> 0 | BO6: =' B_Populations'!AI11 -> 0 | BP6: =IF(BO6=0,0,($S$6/$BO$6)*100000) -> 0 | BQ6: =' B_Populations'!AK11 -> 0 | BR6: =IF(BQ6=0,0,($T$6/$BQ$6)*100000) -> 0 | BS6: =' B_Populations'!AM11 -> 0 | BT6: =IF(BS6=0,0,($U$6/$BS$6)*100000) -> 0 | BU6: =' B_Populations'!AO11 -> 0 | BV6: =IF(BU6=0,0,($V$6/$BU$6)*100000) -> 0 | BW6: =' B_Populations'!AQ11 -> 0 | BX6: =IF(BW6=0,0,($W$6/$BW$6)*100000) -> 0 | BY6: =' B_Populations'!AS11 -> 0 | BZ6: =IF(BY6=0,0,($X$6/$BY$6)*100000) -> 0 | CA6: =' B_Populations'!AU11 -> 0 | CB6: =IF(CA6=0,0,($Y$6/$CA$6)*100000) -> 0 | CC6: =' B_Populations'!AW11 -> 0 | CD6: =IF(CC6=0,0,($Z$6/$CC$6)*100000) -> 0 | CE6: =' B_Populations'!AY11 -> 0 | CF6: =IF(CE6=0,0,($AA$6/$CE$6)*100000) -> 0 | CG6: =' B_Populations'!BA11 -> 0 | CH6: =IF(CG6=0,0,($AB$6/$CG$6)*100000) -> 0 | CI6: =' B_Populations'!BC11 -> 0 | CJ6: =IF(CI6=0,0,($AC$6/$CI$6)*100000) -> 0 | CK6: =' B_Populations'!BE11 -> 0 | CL6: =IF(CK6=0,0,($AD$6/$CK$6)*100000) -> 0 | CM6: =' B_Populations'!BG11 -> 0 | CN6: =IF(CM6=0,0,($AE$6/$CM$6)*100000) -> 0 | CO6: =' B_Populations'!BI11 -> 0 | CP6: =IF(CO6=0,0,($AF$6/$CO$6)*100000) -> 0 | CS6: 0.066478 | CU6: =' B_Populations'!$B$11 -> 20-24 | CV6: =AI6*CS6 -> 0 | CW6: =AK6*CS6 -> 0 | CX6: =AM6*CS6 -> 0 | CY6: =AO6*CS6 -> 0 | CZ6: =AQ6*CS6 -> 0 | DA6: =AS6*CS6 -> 0 | DB6: =AU6*CS6 -> 0 | DC6: =AW6*CS6 -> 0 | DD6: =AY6*CS6 -> 0 | DE6: =BA6*CS6 -> 0 | DF6: =BD6*CS6 -> 0 | DG6: =BF6*CS6 -> 0 | DH6: =BH6*CS6 -> 0 | DI6: =BJ6*CS6 -> 0 | DJ6: =BL6*CS6 -> 0 | DK6: =BN6*CS6 -> 0 | DL6: =BP6*CS6 -> 0 | DM6: =BR6*CS6 -> 0 | DN6: =BT6*CS6 -> 0 | DO6: =BV6*CS6 -> 0 | DP6: =BX6*CS6 -> 0 | DQ6: =BZ6*CS6 -> 0 | DR6: =CB6*CS6 -> 0 | DS6: =CD6*CS6 -> 0 | DT6: =CF6*CS6 -> 0 | DU6: =CH6*CS6 -> 0 | DV6: =CJ6*CS6 -> 0 | DW6: =CL6*CS6 -> 0 | DX6: =CN6*CS6 -> 0 | DY6: =CP6*CS6 -> 0
B7: =' B_Populations'!$B$12 -> 25-34 | AH7: =' B_Populations'!C12 -> 0 | AI7: =IF(AH7=0,0,($C$7/$AH$7)*100000) -> 0 | AJ7: =' B_Populations'!E12 -> 0 | AK7: =IF(AJ7=0,0,($D$7/$AJ$7)*100000) -> 0 | AL7: =' B_Populations'!G12 -> 0 | AM7: =IF(AL7=0,0,($E$7/$AL$7)*100000) -> 0 | AN7: =' B_Populations'!I12 -> 0 | AO7: =IF(AN7=0,0,($F$7/$AN$7)*100000) -> 0 | AP7: =' B_Populations'!K12 -> 0 | AQ7: =IF(AP7=0,0,($G$7/$AP$7)*100000) -> 0 | AR7: =' B_Populations'!M12 -> 0 | AS7: =IF(AR7=0,0,($H$7/$AR$7)*100000) -> 0 | AT7: =' B_Populations'!O12 -> 0 | AU7: =IF(AT7=0,0,($I$7/$AT$7)*100000) -> 0 | AV7: =' B_Populations'!Q12 -> 0 | AW7: =IF(AV7=0,0,($J$7/$AV$7)*100000) -> 0 | AX7: =' B_Populations'!S12 -> 0 | AY7: =IF(AX7=0,0,($K$7/$AX$7)*100000) -> 0 | AZ7: =' B_Populations'!U12 -> 0 | BA7: =IF(AZ7=0,0,($L$7/$AZ$7)*100000) -> 0 | BC7: =' B_Populations'!W12 -> 0 | BD7: =IF(BC7=0,0,($M$7/$BC$7)*100000) -> 0 | BE7: =' B_Populations'!Y12 -> 0 | BF7: =IF(BE7=0,0,($N$7/$BE$7)*100000) -> 0 | BG7: =' B_Populations'!AA12 -> 0 | BH7: =IF(BG7=0,0,($O$7/$BG$7)*100000) -> 0 | BI7: =' B_Populations'!AC12 -> 0 | BJ7: =IF(BI7=0,0,($P$7/$BI$7)*100000) -> 0 | BK7: =' B_Populations'!AE12 -> 0 | BL7: =IF(BK7=0,0,($Q$7/$BK$7)*100000) -> 0 | BM7: =' B_Populations'!AG12 -> 0 | BN7: =IF(BM7=0,0,($R$7/$BM$7)*100000) -> 0 | BO7: =' B_Populations'!AI12 -> 0 | BP7: =IF(BO7=0,0,($S$7/$BO$7)*100000) -> 0 | BQ7: =' B_Populations'!AK12 -> 0 | BR7: =IF(BQ7=0,0,($T$7/$BQ$7)*100000) -> 0 | BS7: =' B_Populations'!AM12 -> 0 | BT7: =IF(BS7=0,0,($U$7/$BS$7)*100000) -> 0 | BU7: =' B_Populations'!AO12 -> 0 | BV7: =IF(BU7=0,0,($V$7/$BU$7)*100000) -> 0 | BW7: =' B_Populations'!AQ12 -> 0 | BX7: =IF(BW7=0,0,($W$7/$BW$7)*100000) -> 0 | BY7: =' B_Populations'!AS12 -> 0 | BZ7: =IF(BY7=0,0,($X$7/$BY$7)*100000) -> 0 | CA7: =' B_Populations'!AU12 -> 0 | CB7: =IF(CA7=0,0,($Y$7/$CA$7)*100000) -> 0 | CC7: =' B_Populations'!AW12 -> 0 | CD7: =IF(CC7=0,0,($Z$7/$CC$7)*100000) -> 0 | CE7: =' B_Populations'!AY12 -> 0 | CF7: =IF(CE7=0,0,($AA$7/$CE$7)*100000) -> 0 | CG7: =' B_Populations'!BA12 -> 0 | CH7: =IF(CG7=0,0,($AB$7/$CG$7)*100000) -> 0 | CI7: =' B_Populations'!BC12 -> 0 | CJ7: =IF(CI7=0,0,($AC$7/$CI$7)*100000) -> 0 | CK7: =' B_Populations'!BE12 -> 0 | CL7: =IF(CK7=0,0,($AD$7/$CK$7)*100000) -> 0 | CM7: =' B_Populations'!BG12 -> 0 | CN7: =IF(CM7=0,0,($AE$7/$CM$7)*100000) -> 0 | CO7: =' B_Populations'!BI12 -> 0 | CP7: =IF(CO7=0,0,($AF$7/$CO$7)*100000) -> 0 | CS7: 0.135573 | CU7: =' B_Populations'!$B$12 -> 25-34 | CV7: =AI7*CS7 -> 0 | CW7: =AK7*CS7 -> 0 | CX7: =AM7*CS7 -> 0 | CY7: =AO7*CS7 -> 0 | CZ7: =AQ7*CS7 -> 0 | DA7: =AS7*CS7 -> 0 | DB7: =AU7*CS7 -> 0 | DC7: =AW7*CS7 -> 0 | DD7: =AY7*CS7 -> 0 | DE7: =BA7*CS7 -> 0 | DF7: =BD7*CS7 -> 0 | DG7: =BF7*CS7 -> 0 | DH7: =BH7*CS7 -> 0 | DI7: =BJ7*CS7 -> 0 | DJ7: =BL7*CS7 -> 0 | DK7: =BN7*CS7 -> 0 | DL7: =BP7*CS7 -> 0 | DM7: =BR7*CS7 -> 0 | DN7: =BT7*CS7 -> 0 | DO7: =BV7*CS7 -> 0 | DP7: =BX7*CS7 -> 0 | DQ7: =BZ7*CS7 -> 0 | DR7: =CB7*CS7 -> 0 | DS7: =CD7*CS7 -> 0 | DT7: =CF7*CS7 -> 0 | DU7: =CH7*CS7 -> 0 | DV7: =CJ7*CS7 -> 0 | DW7: =CL7*CS7 -> 0 | DX7: =CN7*CS7 -> 0 | DY7: =CP7*CS7 -> 0
B8: =' B_Populations'!$B$13 -> 35-44 | AH8: =' B_Populations'!C13 -> 0 | AI8: =IF(AH8=0,0,($C$8/$AH$8)*100000) -> 0 | AJ8: =' B_Populations'!E13 -> 0 | AK8: =IF(AJ8=0,0,($D$8/$AJ$8)*100000) -> 0 | AL8: =' B_Populations'!G13 -> 0 | AM8: =IF(AL8=0,0,($E$8/$AL$8)*100000) -> 0 | AN8: =' B_Populations'!I13 -> 0 | AO8: =IF(AN8=0,0,($F$8/$AN$8)*100000) -> 0 | AP8: =' B_Populations'!K13 -> 0 | AQ8: =IF(AP8=0,0,($G$8/$AP$8)*100000) -> 0 | AR8: =' B_Populations'!M13 -> 0 | AS8: =IF(AR8=0,0,($H$8/$AR$8)*100000) -> 0 | AT8: =' B_Populations'!O13 -> 0 | AU8: =IF(AT8=0,0,($I$8/$AT$8)*100000) -> 0 | AV8: =' B_Populations'!Q13 -> 0 | AW8: =IF(AV8=0,0,($J$8/$AV$8)*100000) -> 0 | AX8: =' B_Populations'!S13 -> 0 | AY8: =IF(AX8=0,0,($K$8/$AX$8)*100000) -> 0 | AZ8: =' B_Populations'!U13 -> 0 | BA8: =IF(AZ8=0,0,($L$8/$AZ$8)*100000) -> 0 | BC8: =' B_Populations'!W13 -> 0 | BD8: =IF(BC8=0,0,($M$8/$BC$8)*100000) -> 0 | BE8: =' B_Populations'!Y13 -> 0 | BF8: =IF(BE8=0,0,($N$8/$BE$8)*100000) -> 0 | BG8: =' B_Populations'!AA13 -> 0 | BH8: =IF(BG8=0,0,($O$8/$BG$8)*100000) -> 0 | BI8: =' B_Populations'!AC13 -> 0 | BJ8: =IF(BI8=0,0,($P$8/$BI$8)*100000) -> 0 | BK8: =' B_Populations'!AE13 -> 0 | BL8: =IF(BK8=0,0,($Q$8/$BK$8)*100000) -> 0 | BM8: =' B_Populations'!AG13 -> 0 | BN8: =IF(BM8=0,0,($R$8/$BM$8)*100000) -> 0 | BO8: =' B_Populations'!AI13 -> 0 | BP8: =IF(BO8=0,0,($S$8/$BO$8)*100000) -> 0 | BQ8: =' B_Populations'!AK13 -> 0 | BR8: =IF(BQ8=0,0,($T$8/$BQ$8)*100000) -> 0 | BS8: =' B_Populations'!AM13 -> 0 | BT8: =IF(BS8=0,0,($U$8/$BS$8)*100000) -> 0 | BU8: =' B_Populations'!AO13 -> 0 | BV8: =IF(BU8=0,0,($V$8/$BU$8)*100000) -> 0 | BW8: =' B_Populations'!AQ13 -> 0 | BX8: =IF(BW8=0,0,($W$8/$BW$8)*100000) -> 0 | BY8: =' B_Populations'!AS13 -> 0 | BZ8: =IF(BY8=0,0,($X$8/$BY$8)*100000) -> 0 | CA8: =' B_Populations'!AU13 -> 0 | CB8: =IF(CA8=0,0,($Y$8/$CA$8)*100000) -> 0 | CC8: =' B_Populations'!AW13 -> 0 | CD8: =IF(CC8=0,0,($Z$8/$CC$8)*100000) -> 0 | CE8: =' B_Populations'!AY13 -> 0 | CF8: =IF(CE8=0,0,($AA$8/$CE$8)*100000) -> 0 | CG8: =' B_Populations'!BA13 -> 0 | CH8: =IF(CG8=0,0,($AB$8/$CG$8)*100000) -> 0 | CI8: =' B_Populations'!BC13 -> 0 | CJ8: =IF(CI8=0,0,($AC$8/$CI$8)*100000) -> 0 | CK8: =' B_Populations'!BE13 -> 0 | CL8: =IF(CK8=0,0,($AD$8/$CK$8)*100000) -> 0 | CM8: =' B_Populations'!BG13 -> 0 | CN8: =IF(CM8=0,0,($AE$8/$CM$8)*100000) -> 0 | CO8: =' B_Populations'!BI13 -> 0 | CP8: =IF(CO8=0,0,($AF$8/$CO$8)*100000) -> 0 | CS8: 0.162613 | CU8: =' B_Populations'!$B$13 -> 35-44 | CV8: =AI8*CS8 -> 0 | CW8: =AK8*CS8 -> 0 | CX8: =AM8*CS8 -> 0 | CY8: =AO8*CS8 -> 0 | CZ8: =AQ8*CS8 -> 0 | DA8: =AS8*CS8 -> 0 | DB8: =AU8*CS8 -> 0 | DC8: =AW8*CS8 -> 0 | DD8: =AY8*CS8 -> 0 | DE8: =BA8*CS8 -> 0 | DF8: =BD8*CS8 -> 0 | DG8: =BF8*CS8 -> 0 | DH8: =BH8*CS8 -> 0 | DI8: =BJ8*CS8 -> 0 | DJ8: =BL8*CS8 -> 0 | DK8: =BN8*CS8 -> 0 | DL8: =BP8*CS8 -> 0 | DM8: =BR8*CS8 -> 0 | DN8: =BT8*CS8 -> 0 | DO8: =BV8*CS8 -> 0 | DP8: =BX8*CS8 -> 0 | DQ8: =BZ8*CS8 -> 0 | DR8: =CB8*CS8 -> 0 | DS8: =CD8*CS8 -> 0 | DT8: =CF8*CS8 -> 0 | DU8: =CH8*CS8 -> 0 | DV8: =CJ8*CS8 -> 0 | DW8: =CL8*CS8 -> 0 | DX8: =CN8*CS8 -> 0 | DY8: =CP8*CS8 -> 0
B9: =' B_Populations'!$B$14 -> 45-54 | AH9: =' B_Populations'!C14 -> 0 | AI9: =IF(AH9=0,0,($C$9/$AH$9)*100000) -> 0 | AJ9: =' B_Populations'!E14 -> 0 | AK9: =IF(AJ9=0,0,($D$9/$AJ$9)*100000) -> 0 | AL9: =' B_Populations'!G14 -> 0 | AM9: =IF(AL9=0,0,($E$9/$AL$9)*100000) -> 0 | AN9: =' B_Populations'!I14 -> 0 | AO9: =IF(AN9=0,0,($F$9/$AN$9)*100000) -> 0 | AP9: =' B_Populations'!K14 -> 0 | AQ9: =IF(AP9=0,0,($G$9/$AP$9)*100000) -> 0 | AR9: =' B_Populations'!M14 -> 0 | AS9: =IF(AR9=0,0,($H$9/$AR$9)*100000) -> 0 | AT9: =' B_Populations'!O14 -> 0 | AU9: =IF(AT9=0,0,($I$9/$AT$9)*100000) -> 0 | AV9: =' B_Populations'!Q14 -> 0 | AW9: =IF(AV9=0,0,($J$9/$AV$9)*100000) -> 0 | AX9: =' B_Populations'!S14 -> 0 | AY9: =IF(AX9=0,0,($K$9/$AX$9)*100000) -> 0 | AZ9: =' B_Populations'!U14 -> 0 | BA9: =IF(AZ9=0,0,($L$9/$AZ$9)*100000) -> 0 | BC9: =' B_Populations'!W14 -> 0 | BD9: =IF(BC9=0,0,($M$9/$BC$9)*100000) -> 0 | BE9: =' B_Populations'!Y14 -> 0 | BF9: =IF(BE9=0,0,($N$9/$BE$9)*100000) -> 0 | BG9: =' B_Populations'!AA14 -> 0 | BH9: =IF(BG9=0,0,($O$9/$BG$9)*100000) -> 0 | BI9: =' B_Populations'!AC14 -> 0 | BJ9: =IF(BI9=0,0,($P$9/$BI$9)*100000) -> 0 | BK9: =' B_Populations'!AE14 -> 0 | BL9: =IF(BK9=0,0,($Q$9/$BK$9)*100000) -> 0 | BM9: =' B_Populations'!AG14 -> 0 | BN9: =IF(BM9=0,0,($R$9/$BM$9)*100000) -> 0 | BO9: =' B_Populations'!AI14 -> 0 | BP9: =IF(BO9=0,0,($S$9/$BO$9)*100000) -> 0 | BQ9: =' B_Populations'!AK14 -> 0 | BR9: =IF(BQ9=0,0,($T$9/$BQ$9)*100000) -> 0 | BS9: =' B_Populations'!AM14 -> 0 | BT9: =IF(BS9=0,0,($U$9/$BS$9)*100000) -> 0 | BU9: =' B_Populations'!AO14 -> 0 | BV9: =IF(BU9=0,0,($V$9/$BU$9)*100000) -> 0 | BW9: =' B_Populations'!AQ14 -> 0 | BX9: =IF(BW9=0,0,($W$9/$BW$9)*100000) -> 0 | BY9: =' B_Populations'!AS14 -> 0 | BZ9: =IF(BY9=0,0,($X$9/$BY$9)*100000) -> 0 | CA9: =' B_Populations'!AU14 -> 0 | CB9: =IF(CA9=0,0,($Y$9/$CA$9)*100000) -> 0 | CC9: =' B_Populations'!AW14 -> 0 | CD9: =IF(CC9=0,0,($Z$9/$CC$9)*100000) -> 0 | CE9: =' B_Populations'!AY14 -> 0 | CF9: =IF(CE9=0,0,($AA$9/$CE$9)*100000) -> 0 | CG9: =' B_Populations'!BA14 -> 0 | CH9: =IF(CG9=0,0,($AB$9/$CG$9)*100000) -> 0 | CI9: =' B_Populations'!BC14 -> 0 | CJ9: =IF(CI9=0,0,($AC$9/$CI$9)*100000) -> 0 | CK9: =' B_Populations'!BE14 -> 0 | CL9: =IF(CK9=0,0,($AD$9/$CK$9)*100000) -> 0 | CM9: =' B_Populations'!BG14 -> 0 | CN9: =IF(CM9=0,0,($AE$9/$CM$9)*100000) -> 0 | CO9: =' B_Populations'!BI14 -> 0 | CP9: =IF(CO9=0,0,($AF$9/$CO$9)*100000) -> 0 | CS9: 0.134834 | CU9: =' B_Populations'!$B$14 -> 45-54 | CV9: =AI9*CS9 -> 0 | CW9: =AK9*CS9 -> 0 | CX9: =AM9*CS9 -> 0 | CY9: =AO9*CS9 -> 0 | CZ9: =AQ9*CS9 -> 0 | DA9: =AS9*CS9 -> 0 | DB9: =AU9*CS9 -> 0 | DC9: =AW9*CS9 -> 0 | DD9: =AY9*CS9 -> 0 | DE9: =BA9*CS9 -> 0 | DF9: =BD9*CS9 -> 0 | DG9: =BF9*CS9 -> 0 | DH9: =BH9*CS9 -> 0 | DI9: =BJ9*CS9 -> 0 | DJ9: =BL9*CS9 -> 0 | DK9: =BN9*CS9 -> 0 | DL9: =BP9*CS9 -> 0 | DM9: =BR9*CS9 -> 0 | DN9: =BT9*CS9 -> 0 | DO9: =BV9*CS9 -> 0 | DP9: =BX9*CS9 -> 0 | DQ9: =BZ9*CS9 -> 0 | DR9: =CB9*CS9 -> 0 | DS9: =CD9*CS9 -> 0 | DT9: =CF9*CS9 -> 0 | DU9: =CH9*CS9 -> 0 | DV9: =CJ9*CS9 -> 0 | DW9: =CL9*CS9 -> 0 | DX9: =CN9*CS9 -> 0 | DY9: =CP9*CS9 -> 0
B10: =' B_Populations'!$B$15 -> 55-64 | AH10: =' B_Populations'!C15 -> 0 | AI10: =IF(AH10=0,0,($C$10/$AH$10)*100000) -> 0 | AJ10: =' B_Populations'!E15 -> 0 | AK10: =IF(AJ10=0,0,($D$10/$AJ$10)*100000) -> 0 | AL10: =' B_Populations'!G15 -> 0 | AM10: =IF(AL10=0,0,($E$10/$AL$10)*100000) -> 0 | AN10: =' B_Populations'!I15 -> 0 | AO10: =IF(AN10=0,0,($F$10/$AN$10)*100000) -> 0 | AP10: =' B_Populations'!K15 -> 0 | AQ10: =IF(AP10=0,0,($G$10/$AP$10)*100000) -> 0 | AR10: =' B_Populations'!M15 -> 0 | AS10: =IF(AR10=0,0,($H$10/$AR$10)*100000) -> 0 | AT10: =' B_Populations'!O15 -> 0 | AU10: =IF(AT10=0,0,($I$10/$AT$10)*100000) -> 0 | AV10: =' B_Populations'!Q15 -> 0 | AW10: =IF(AV10=0,0,($J$10/$AV$10)*100000) -> 0 | AX10: =' B_Populations'!S15 -> 0 | AY10: =IF(AX10=0,0,($K$10/$AX$10)*100000) -> 0 | AZ10: =' B_Populations'!U15 -> 0 | BA10: =IF(AZ10=0,0,($L$10/$AZ$10)*100000) -> 0 | BC10: =' B_Populations'!W15 -> 0 | BD10: =IF(BC10=0,0,($M$10/$BC$10)*100000) -> 0 | BE10: =' B_Populations'!Y15 -> 0 | BF10: =IF(BE10=0,0,($N$10/$BE$10)*100000) -> 0 | BG10: =' B_Populations'!AA15 -> 0 | BH10: =IF(BG10=0,0,($O$10/$BG$10)*100000) -> 0 | BI10: =' B_Populations'!AC15 -> 0 | BJ10: =IF(BI10=0,0,($P$10/$BI$10)*100000) -> 0 | BK10: =' B_Populations'!AE15 -> 0 | BL10: =IF(BK10=0,0,($Q$10/$BK$10)*100000) -> 0 | BM10: =' B_Populations'!AG15 -> 0 | BN10: =IF(BM10=0,0,($R$10/$BM$10)*100000) -> 0 | BO10: =' B_Populations'!AI15 -> 0 | BP10: =IF(BO10=0,0,($S$10/$BO$10)*100000) -> 0 | BQ10: =' B_Populations'!AK15 -> 0 | BR10: =IF(BQ10=0,0,($T$10/$BQ$10)*100000) -> 0 | BS10: =' B_Populations'!AM15 -> 0 | BT10: =IF(BS10=0,0,($U$10/$BS$10)*100000) -> 0 | BU10: =' B_Populations'!AO15 -> 0 | BV10: =IF(BU10=0,0,($V$10/$BU$10)*100000) -> 0 | BW10: =' B_Populations'!AQ15 -> 0 | BX10: =IF(BW10=0,0,($W$10/$BW$10)*100000) -> 0 | BY10: =' B_Populations'!AS15 -> 0 | BZ10: =IF(BY10=0,0,($X$10/$BY$10)*100000) -> 0 | CA10: =' B_Populations'!AU15 -> 0 | CB10: =IF(CA10=0,0,($Y$10/$CA$10)*100000) -> 0 | CC10: =' B_Populations'!AW15 -> 0 | CD10: =IF(CC10=0,0,($Z$10/$CC$10)*100000) -> 0 | CE10: =' B_Populations'!AY15 -> 0 | CF10: =IF(CE10=0,0,($AA$10/$CE$10)*100000) -> 0 | CG10: =' B_Populations'!BA15 -> 0 | CH10: =IF(CG10=0,0,($AB$10/$CG$10)*100000) -> 0 | CI10: =' B_Populations'!BC15 -> 0 | CJ10: =IF(CI10=0,0,($AC$10/$CI$10)*100000) -> 0 | CK10: =' B_Populations'!BE15 -> 0 | CL10: =IF(CK10=0,0,($AD$10/$CK$10)*100000) -> 0 | CM10: =' B_Populations'!BG15 -> 0 | CN10: =IF(CM10=0,0,($AE$10/$CM$10)*100000) -> 0 | CO10: =' B_Populations'!BI15 -> 0 | CP10: =IF(CO10=0,0,($AF$10/$CO$10)*100000) -> 0 | CS10: 0.087247 | CU10: =' B_Populations'!$B$15 -> 55-64 | CV10: =AI10*CS10 -> 0 | CW10: =AK10*CS10 -> 0 | CX10: =AM10*CS10 -> 0 | CY10: =AO10*CS10 -> 0 | CZ10: =AQ10*CS10 -> 0 | DA10: =AS10*CS10 -> 0 | DB10: =AU10*CS10 -> 0 | DC10: =AW10*CS10 -> 0 | DD10: =AY10*CS10 -> 0 | DE10: =BA10*CS10 -> 0 | DF10: =BD10*CS10 -> 0 | DG10: =BF10*CS10 -> 0 | DH10: =BH10*CS10 -> 0 | DI10: =BJ10*CS10 -> 0 | DJ10: =BL10*CS10 -> 0 | DK10: =BN10*CS10 -> 0 | DL10: =BP10*CS10 -> 0 | DM10: =BR10*CS10 -> 0 | DN10: =BT10*CS10 -> 0 | DO10: =BV10*CS10 -> 0 | DP10: =BX10*CS10 -> 0 | DQ10: =BZ10*CS10 -> 0 | DR10: =CB10*CS10 -> 0 | DS10: =CD10*CS10 -> 0 | DT10: =CF10*CS10 -> 0 | DU10: =CH10*CS10 -> 0 | DV10: =CJ10*CS10 -> 0 | DW10: =CL10*CS10 -> 0 | DX10: =CN10*CS10 -> 0 | DY10: =CP10*CS10 -> 0
B11: =' B_Populations'!$B$16 -> 65-74 | AH11: =' B_Populations'!C16 -> 0 | AI11: =IF(AH11=0,0,($C$11/$AH$11)*100000) -> 0 | AJ11: =' B_Populations'!E16 -> 0 | AK11: =IF(AJ11=0,0,($D$11/$AJ$11)*100000) -> 0 | AL11: =' B_Populations'!G16 -> 0 | AM11: =IF(AL11=0,0,($E$11/$AL$11)*100000) -> 0 | AN11: =' B_Populations'!I16 -> 0 | AO11: =IF(AN11=0,0,($F$11/$AN$11)*100000) -> 0 | AP11: =' B_Populations'!K16 -> 0 | AQ11: =IF(AP11=0,0,($G$11/$AP$11)*100000) -> 0 | AR11: =' B_Populations'!M16 -> 0 | AS11: =IF(AR11=0,0,($H$11/$AR$11)*100000) -> 0 | AT11: =' B_Populations'!O16 -> 0 | AU11: =IF(AT11=0,0,($I$11/$AT$11)*100000) -> 0 | AV11: =' B_Populations'!Q16 -> 0 | AW11: =IF(AV11=0,0,($J$11/$AV$11)*100000) -> 0 | AX11: =' B_Populations'!S16 -> 0 | AY11: =IF(AX11=0,0,($K$11/$AX$11)*100000) -> 0 | AZ11: =' B_Populations'!U16 -> 0 | BA11: =IF(AZ11=0,0,($L$11/$AZ$11)*100000) -> 0 | BC11: =' B_Populations'!W16 -> 0 | BD11: =IF(BC11=0,0,($M$11/$BC$11)*100000) -> 0 | BE11: =' B_Populations'!Y16 -> 0 | BF11: =IF(BE11=0,0,($N$11/$BE$11)*100000) -> 0 | BG11: =' B_Populations'!AA16 -> 0 | BH11: =IF(BG11=0,0,($O$11/$BG$11)*100000) -> 0 | BI11: =' B_Populations'!AC16 -> 0 | BJ11: =IF(BI11=0,0,($P$11/$BI$11)*100000) -> 0 | BK11: =' B_Populations'!AE16 -> 0 | BL11: =IF(BK11=0,0,($Q$11/$BK$11)*100000) -> 0 | BM11: =' B_Populations'!AG16 -> 0 | BN11: =IF(BM11=0,0,($R$11/$BM$11)*100000) -> 0 | BO11: =' B_Populations'!AI16 -> 0 | BP11: =IF(BO11=0,0,($S$11/$BO$11)*100000) -> 0 | BQ11: =' B_Populations'!AK16 -> 0 | BR11: =IF(BQ11=0,0,($T$11/$BQ$11)*100000) -> 0 | BS11: =' B_Populations'!AM16 -> 0 | BT11: =IF(BS11=0,0,($U$11/$BS$11)*100000) -> 0 | BU11: =' B_Populations'!AO16 -> 0 | BV11: =IF(BU11=0,0,($V$11/$BU$11)*100000) -> 0 | BW11: =' B_Populations'!AQ16 -> 0 | BX11: =IF(BW11=0,0,($W$11/$BW$11)*100000) -> 0 | BY11: =' B_Populations'!AS16 -> 0 | BZ11: =IF(BY11=0,0,($X$11/$BY$11)*100000) -> 0 | CA11: =' B_Populations'!AU16 -> 0 | CB11: =IF(CA11=0,0,($Y$11/$CA$11)*100000) -> 0 | CC11: =' B_Populations'!AW16 -> 0 | CD11: =IF(CC11=0,0,($Z$11/$CC$11)*100000) -> 0 | CE11: =' B_Populations'!AY16 -> 0 | CF11: =IF(CE11=0,0,($AA$11/$CE$11)*100000) -> 0 | CG11: =' B_Populations'!BA16 -> 0 | CH11: =IF(CG11=0,0,($AB$11/$CG$11)*100000) -> 0 | CI11: =' B_Populations'!BC16 -> 0 | CJ11: =IF(CI11=0,0,($AC$11/$CI$11)*100000) -> 0 | CK11: =' B_Populations'!BE16 -> 0 | CL11: =IF(CK11=0,0,($AD$11/$CK$11)*100000) -> 0 | CM11: =' B_Populations'!BG16 -> 0 | CN11: =IF(CM11=0,0,($AE$11/$CM$11)*100000) -> 0 | CO11: =' B_Populations'!BI16 -> 0 | CP11: =IF(CO11=0,0,($AF$11/$CO$11)*100000) -> 0 | CS11: 0.066037 | CU11: =' B_Populations'!$B$16 -> 65-74 | CV11: =AI11*CS11 -> 0 | CW11: =AK11*CS11 -> 0 | CX11: =AM11*CS11 -> 0 | CY11: =AO11*CS11 -> 0 | CZ11: =AQ11*CS11 -> 0 | DA11: =AS11*CS11 -> 0 | DB11: =AU11*CS11 -> 0 | DC11: =AW11*CS11 -> 0 | DD11: =AY11*CS11 -> 0 | DE11: =BA11*CS11 -> 0 | DF11: =BD11*CS11 -> 0 | DG11: =BF11*CS11 -> 0 | DH11: =BH11*CS11 -> 0 | DI11: =BJ11*CS11 -> 0 | DJ11: =BL11*CS11 -> 0 | DK11: =BN11*CS11 -> 0 | DL11: =BP11*CS11 -> 0 | DM11: =BR11*CS11 -> 0 | DN11: =BT11*CS11 -> 0 | DO11: =BV11*CS11 -> 0 | DP11: =BX11*CS11 -> 0 | DQ11: =BZ11*CS11 -> 0 | DR11: =CB11*CS11 -> 0 | DS11: =CD11*CS11 -> 0 | DT11: =CF11*CS11 -> 0 | DU11: =CH11*CS11 -> 0 | DV11: =CJ11*CS11 -> 0 | DW11: =CL11*CS11 -> 0 | DX11: =CN11*CS11 -> 0 | DY11: =CP11*CS11 -> 0
B12: =' B_Populations'!$B$17 -> 75-84 | AH12: =' B_Populations'!C17 -> 0 | AI12: =IF(AH12=0,0,($C$12/$AH$12)*100000) -> 0 | AJ12: =' B_Populations'!E17 -> 0 | AK12: =IF(AJ12=0,0,($D$12/$AJ$12)*100000) -> 0 | AL12: =' B_Populations'!G17 -> 0 | AM12: =IF(AL12=0,0,($E$12/$AL$12)*100000) -> 0 | AN12: =' B_Populations'!I17 -> 0 | AO12: =IF(AN12=0,0,($F$12/$AN$12)*100000) -> 0 | AP12: =' B_Populations'!K17 -> 0 | AQ12: =IF(AP12=0,0,($G$12/$AP$12)*100000) -> 0 | AR12: =' B_Populations'!M17 -> 0 | AS12: =IF(AR12=0,0,($H$12/$AR$12)*100000) -> 0 | AT12: =' B_Populations'!O17 -> 0 | AU12: =IF(AT12=0,0,($I$12/$AT$12)*100000) -> 0 | AV12: =' B_Populations'!Q17 -> 0 | AW12: =IF(AV12=0,0,($J$12/$AV$12)*100000) -> 0 | AX12: =' B_Populations'!S17 -> 0 | AY12: =IF(AX12=0,0,($K$12/$AX$12)*100000) -> 0 | AZ12: =' B_Populations'!U17 -> 0 | BA12: =IF(AZ12=0,0,($L$12/$AZ$12)*100000) -> 0 | BC12: =' B_Populations'!W17 -> 0 | BD12: =IF(BC12=0,0,($M$12/$BC$12)*100000) -> 0 | BE12: =' B_Populations'!Y17 -> 0 | BF12: =IF(BE12=0,0,($N$12/$BE$12)*100000) -> 0 | BG12: =' B_Populations'!AA17 -> 0 | BH12: =IF(BG12=0,0,($O$12/$BG$12)*100000) -> 0 | BI12: =' B_Populations'!AC17 -> 0 | BJ12: =IF(BI12=0,0,($P$12/$BI$12)*100000) -> 0 | BK12: =' B_Populations'!AE17 -> 0 | BL12: =IF(BK12=0,0,($Q$12/$BK$12)*100000) -> 0 | BM12: =' B_Populations'!AG17 -> 0 | BN12: =IF(BM12=0,0,($R$12/$BM$12)*100000) -> 0 | BO12: =' B_Populations'!AI17 -> 0 | BP12: =IF(BO12=0,0,($S$12/$BO$12)*100000) -> 0 | BQ12: =' B_Populations'!AK17 -> 0 | BR12: =IF(BQ12=0,0,($T$12/$BQ$12)*100000) -> 0 | BS12: =' B_Populations'!AM17 -> 0 | BT12: =IF(BS12=0,0,($U$12/$BS$12)*100000) -> 0 | BU12: =' B_Populations'!AO17 -> 0 | BV12: =IF(BU12=0,0,($V$12/$BU$12)*100000) -> 0 | BW12: =' B_Populations'!AQ17 -> 0 | BX12: =IF(BW12=0,0,($W$12/$BW$12)*100000) -> 0 | BY12: =' B_Populations'!AS17 -> 0 | BZ12: =IF(BY12=0,0,($X$12/$BY$12)*100000) -> 0 | CA12: =' B_Populations'!AU17 -> 0 | CB12: =IF(CA12=0,0,($Y$12/$CA$12)*100000) -> 0 | CC12: =' B_Populations'!AW17 -> 0 | CD12: =IF(CC12=0,0,($Z$12/$CC$12)*100000) -> 0 | CE12: =' B_Populations'!AY17 -> 0 | CF12: =IF(CE12=0,0,($AA$12/$CE$12)*100000) -> 0 | CG12: =' B_Populations'!BA17 -> 0 | CH12: =IF(CG12=0,0,($AB$12/$CG$12)*100000) -> 0 | CI12: =' B_Populations'!BC17 -> 0 | CJ12: =IF(CI12=0,0,($AC$12/$CI$12)*100000) -> 0 | CK12: =' B_Populations'!BE17 -> 0 | CL12: =IF(CK12=0,0,($AD$12/$CK$12)*100000) -> 0 | CM12: =' B_Populations'!BG17 -> 0 | CN12: =IF(CM12=0,0,($AE$12/$CM$12)*100000) -> 0 | CO12: =' B_Populations'!BI17 -> 0 | CP12: =IF(CO12=0,0,($AF$12/$CO$12)*100000) -> 0 | CS12: 0.044841 | CU12: =' B_Populations'!$B$17 -> 75-84 | CV12: =AI12*CS12 -> 0 | CW12: =AK12*CS12 -> 0 | CX12: =AM12*CS12 -> 0 | CY12: =AO12*CS12 -> 0 | CZ12: =AQ12*CS12 -> 0 | DA12: =AS12*CS12 -> 0 | DB12: =AU12*CS12 -> 0 | DC12: =AW12*CS12 -> 0 | DD12: =AY12*CS12 -> 0 | DE12: =BA12*CS12 -> 0 | DF12: =BD12*CS12 -> 0 | DG12: =BF12*CS12 -> 0 | DH12: =BH12*CS12 -> 0 | DI12: =BJ12*CS12 -> 0 | DJ12: =BL12*CS12 -> 0 | DK12: =BN12*CS12 -> 0 | DL12: =BP12*CS12 -> 0 | DM12: =BR12*CS12 -> 0 | DN12: =BT12*CS12 -> 0 | DO12: =BV12*CS12 -> 0 | DP12: =BX12*CS12 -> 0 | DQ12: =BZ12*CS12 -> 0 | DR12: =CB12*CS12 -> 0 | DS12: =CD12*CS12 -> 0 | DT12: =CF12*CS12 -> 0 | DU12: =CH12*CS12 -> 0 | DV12: =CJ12*CS12 -> 0 | DW12: =CL12*CS12 -> 0 | DX12: =CN12*CS12 -> 0 | DY12: =CP12*CS12 -> 0
B13: =' B_Populations'!$B$18 -> 85+ | AH13: =' B_Populations'!C18 -> 0 | AI13: =IF(AH13=0,0,($C$13/$AH$13)*100000) -> 0 | AJ13: =' B_Populations'!E18 -> 0 | AK13: =IF(AJ13=0,0,($D$13/$AJ$13)*100000) -> 0 | AL13: =' B_Populations'!G18 -> 0 | AM13: =IF(AL13=0,0,($E$13/$AL$13)*100000) -> 0 | AN13: =' B_Populations'!I18 -> 0 | AO13: =IF(AN13=0,0,($F$13/$AN$13)*100000) -> 0 | AP13: =' B_Populations'!K18 -> 0 | AQ13: =IF(AP13=0,0,($G$13/$AP$13)*100000) -> 0 | AR13: =' B_Populations'!M18 -> 0 | AS13: =IF(AR13=0,0,($H$13/$AR$13)*100000) -> 0 | AT13: =' B_Populations'!O18 -> 0 | AU13: =IF(AT13=0,0,($I$13/$AT$13)*100000) -> 0 | AV13: =' B_Populations'!Q18 -> 0 | AW13: =IF(AV13=0,0,($J$13/$AV$13)*100000) -> 0 | AX13: =' B_Populations'!S18 -> 0 | AY13: =IF(AX13=0,0,($K$13/$AX$13)*100000) -> 0 | AZ13: =' B_Populations'!U18 -> 0 | BA13: =IF(AZ13=0,0,($L$13/$AZ$13)*100000) -> 0 | BC13: =' B_Populations'!W18 -> 0 | BD13: =IF(BC13=0,0,($M$13/$BC$13)*100000) -> 0 | BE13: =' B_Populations'!Y18 -> 0 | BF13: =IF(BE13=0,0,($N$13/$BE$13)*100000) -> 0 | BG13: =' B_Populations'!AA18 -> 0 | BH13: =IF(BG13=0,0,($O$13/$BG$13)*100000) -> 0 | BI13: =' B_Populations'!AC18 -> 0 | BJ13: =IF(BI13=0,0,($P$13/$BI$13)*100000) -> 0 | BK13: =' B_Populations'!AE18 -> 0 | BL13: =IF(BK13=0,0,($Q$13/$BK$13)*100000) -> 0 | BM13: =' B_Populations'!AG18 -> 0 | BN13: =IF(BM13=0,0,($R$13/$BM$13)*100000) -> 0 | BO13: =' B_Populations'!AI18 -> 0 | BP13: =IF(BO13=0,0,($S$13/$BO$13)*100000) -> 0 | BQ13: =' B_Populations'!AK18 -> 0 | BR13: =IF(BQ13=0,0,($T$13/$BQ$13)*100000) -> 0 | BS13: =' B_Populations'!AM18 -> 0 | BT13: =IF(BS13=0,0,($U$13/$BS$13)*100000) -> 0 | BU13: =' B_Populations'!AO18 -> 0 | BV13: =IF(BU13=0,0,($V$13/$BU$13)*100000) -> 0 | BW13: =' B_Populations'!AQ18 -> 0 | BX13: =IF(BW13=0,0,($W$13/$BW$13)*100000) -> 0 | BY13: =' B_Populations'!AS18 -> 0 | BZ13: =IF(BY13=0,0,($X$13/$BY$13)*100000) -> 0 | CA13: =' B_Populations'!AU18 -> 0 | CB13: =IF(CA13=0,0,($Y$13/$CA$13)*100000) -> 0 | CC13: =' B_Populations'!AW18 -> 0 | CD13: =IF(CC13=0,0,($Z$13/$CC$13)*100000) -> 0 | CE13: =' B_Populations'!AY18 -> 0 | CF13: =IF(CE13=0,0,($AA$13/$CE$13)*100000) -> 0 | CG13: =' B_Populations'!BA18 -> 0 | CH13: =IF(CG13=0,0,($AB$13/$CG$13)*100000) -> 0 | CI13: =' B_Populations'!BC18 -> 0 | CJ13: =IF(CI13=0,0,($AC$13/$CI$13)*100000) -> 0 | CK13: =' B_Populations'!BE18 -> 0 | CL13: =IF(CK13=0,0,($AD$13/$CK$13)*100000) -> 0 | CM13: =' B_Populations'!BG18 -> 0 | CN13: =IF(CM13=0,0,($AE$13/$CM$13)*100000) -> 0 | CO13: =' B_Populations'!BI18 -> 0 | CP13: =IF(CO13=0,0,($AF$13/$CO$13)*100000) -> 0 | CS13: 0.015508 | CU13: =' B_Populations'!$B$18 -> 85+ | CV13: =AI13*CS13 -> 0 | CW13: =AK13*CS13 -> 0 | CX13: =AM13*CS13 -> 0 | CY13: =AO13*CS13 -> 0 | CZ13: =AQ13*CS13 -> 0 | DA13: =AS13*CS13 -> 0 | DB13: =AU13*CS13 -> 0 | DC13: =AW13*CS13 -> 0 | DD13: =AY13*CS13 -> 0 | DE13: =BA13*CS13 -> 0 | DF13: =BD13*CS13 -> 0 | DG13: =BF13*CS13 -> 0 | DH13: =BH13*CS13 -> 0 | DI13: =BJ13*CS13 -> 0 | DJ13: =BL13*CS13 -> 0 | DK13: =BN13*CS13 -> 0 | DL13: =BP13*CS13 -> 0 | DM13: =BR13*CS13 -> 0 | DN13: =BT13*CS13 -> 0 | DO13: =BV13*CS13 -> 0 | DP13: =BX13*CS13 -> 0 | DQ13: =BZ13*CS13 -> 0 | DR13: =CB13*CS13 -> 0 | DS13: =CD13*CS13 -> 0 | DT13: =CF13*CS13 -> 0 | DU13: =CH13*CS13 -> 0 | DV13: =CJ13*CS13 -> 0 | DW13: =CL13*CS13 -> 0 | DX13: =CN13*CS13 -> 0 | DY13: =CP13*CS13 -> 0
B14: total | C14: =SUM(C4:C13) -> 0 | D14: =SUM(D4:D13) -> 0 | E14: =SUM(E4:E13) -> 0 | F14: =SUM(F4:F13) -> 0 | G14: =SUM(G4:G13) -> 0 | H14: =SUM(H4:H13) -> 0 | I14: =SUM(I4:I13) -> 0 | J14: =SUM(J4:J13) -> 0 | ... AF14: =SUM(AF4:AF13) -> 0 | AH14: =SUM(AH4:AH13) -> 0 | AI14: =SUM(AI4:AI13) -> 0 | AJ14: =SUM(AJ4:AJ13) -> 0 | AK14: =SUM(AK4:AK13) -> 0 | AL14: =SUM(AL4:AL13) -> 0 | AM14: =SUM(AM4:AM13) -> 0 | AN14: =SUM(AN4:AN13) -> 0 | AO14: =SUM(AO4:AO13) -> 0 | ... BA14: =SUM(BA4:BA13) -> 0 | BC14: =' B_Populations'!W19 -> 0 | BD14: =SUM(BD4:BD13) -> 0 | BE14: =' B_Populations'!Y19 -> 0 | BF14: =SUM(BF4:BF13) -> 0 | BG14: =' B_Populations'!AA19 -> 0 | BH14: =SUM(BH4:BH13) -> 0 | BI14: =' B_Populations'!AC19 -> 0 | BJ14: =SUM(BJ4:BJ13) -> 0 | BK14: =' B_Populations'!AE19 -> 0 | BL14: =SUM(BL4:BL13) -> 0 | BM14: =' B_Populations'!AG19 -> 0 | BN14: =SUM(BN4:BN13) -> 0 | BO14: =' B_Populations'!AI19 -> 0 | BP14: =SUM(BP4:BP13) -> 0 | BQ14: =' B_Populations'!AK19 -> 0 | BR14: =SUM(BR4:BR13) -> 0 | BS14: =' B_Populations'!AM19 -> 0 | BT14: =SUM(BT4:BT13) -> 0 | BU14: =' B_Populations'!AO19 -> 0 | BV14: =SUM(BV4:BV13) -> 0 | BW14: =' B_Populations'!AQ19 -> 0 | BX14: =SUM(BX4:BX13) -> 0 | BY14: =' B_Populations'!AS19 -> 0 | BZ14: =SUM(BZ4:BZ13) -> 0 | CA14: =' B_Populations'!AU19 -> 0 | CB14: =SUM(CB4:CB13) -> 0 | CC14: =' B_Populations'!AW19 -> 0 | CD14: =SUM(CD4:CD13) -> 0 | CE14: =' B_Populations'!AY19 -> 0 | CF14: =SUM(CF4:CF13) -> 0 | CG14: =' B_Populations'!BA19 -> 0 | CH14: =SUM(CH4:CH13) -> 0 | CI14: =' B_Populations'!BC19 -> 0 | CJ14: =SUM(CJ4:CJ13) -> 0 | CK14: =' B_Populations'!BE19 -> 0 | CL14: =SUM(CL4:CL13) -> 0 | CM14: =' B_Populations'!BG19 -> 0 | CN14: =SUM(CN4:CN13) -> 0 | CO14: =' B_Populations'!BI19 -> 0 | CP14: =SUM(CP4:CP13) -> 0 | CU14: total | CV14: =SUM(CV4:CV13) -> 0 | CW14: =SUM(CW4:CW13) -> 0 | CX14: =SUM(CX4:CX13) -> 0 | CY14: =SUM(CY4:CY13) -> 0 | CZ14: =SUM(CZ4:CZ13) -> 0 | DA14: =SUM(DA4:DA13) -> 0 | DB14: =SUM(DB4:DB13) -> 0 | DC14: =SUM(DC4:DC13) -> 0 | ... DV14: =SUM(DV4:DV13) -> 0 | DW14: =+SUM(DW4:DW13) -> 0 | DX14: =SUM(DX4:DX13) -> 0 | DY14: =SUM(DV4:DV13) -> 0
A17: Previous Year: | C17: =' B_Populations'!A25 -> 0 | D17: Sex Data | F17: Demographic Data | CV17: Age-adjusted Rates per 100,000 population
B18: Age | C18: Number of deaths- Total | D18: Number of deaths- Male | E18: Number of deaths- Female | F18: =' B_Populations'!$I$8 -> White-Not Hispanic | G18: =' B_Populations'!$K$8 -> Hispanic | H18: =' B_Populations'!$M$8 -> Black-Not Hispanic | I18: =' B_Populations'!$O$8 -> Asian | J18: =' B_Populations'!$Q$8 -> American Indian/Alaska Native | K18: =' B_Populations'!$S$8 -> Other | L18: =' B_Populations'!$U$8 -> Other | AH18: State population - Total | AI18: Rate | AJ18: State population - Male | AK18: Rate | AL18: State population - Female | AM18: Rate | AN18: =' B_Populations'!$I$8 -> White-Not Hispanic | AO18: Rate | AP18: =' B_Populations'!$K$8 -> Hispanic | AQ18: Rate | AR18: =' B_Populations'!$M$8 -> Black-Not Hispanic | AS18: Rate | AT18: =' B_Populations'!$O$8 -> Asian | AU18: Rate | AV18: =' B_Populations'!$Q$8 -> American Indian/Alaska Native | AW18: Rate | AX18: =' B_Populations'!$S$8 -> Other | AY18: Rate | AZ18: =' B_Populations'!$U$8 -> Other | BA18: Rate | CS18: 2000 Population Weight | CU18: Age | CV18: Total | CW18: Male | CX18: Female | CY18: =' B_Populations'!$I$8 -> White-Not Hispanic | CZ18: =' B_Populations'!$K$8 -> Hispanic | DA18: =' B_Populations'!$M$8 -> Black-Not Hispanic | DB18: =' B_Populations'!$O$8 -> Asian | DC18: =' B_Populations'!$Q$8 -> American Indian/Alaska Native | DD18: =' B_Populations'!$S$8 -> Other | DE18: =' B_Populations'!$U$8 -> Other
B19: =' B_Populations'!$B$9 -> 10-14 | AH19: =' B_Populations'!C24 -> 0 | AI19: =IF(AH19=0,0,(C19/AH19)*100000) -> 0 | AJ19: =' B_Populations'!E24 -> 0 | AK19: =IF(AJ19=0,0,($D$19/$AJ$19)*100000) -> 0 | AL19: =' B_Populations'!G24 -> 0 | AM19: =IF(AL19=0,0,($E$19/$AL$19)*100000) -> 0 | AN19: =' B_Populations'!I24 -> 0 | AO19: =IF(AN19=0,0,($F$19/$AN$19)*100000) -> 0 | AP19: =' B_Populations'!K24 -> 0 | AQ19: =IF(AP19=0,0,($G$19/$AP$19)*100000) -> 0 | AR19: =' B_Populations'!M24 -> 0 | AS19: =IF(AR19=0,0,($H$19/$AR$19)*100000) -> 0 | AT19: =' B_Populations'!O24 -> 0 | AU19: =IF(AT19=0,0,($I$19/$AT$19)*100000) -> 0 | AV19: =' B_Populations'!Q24 -> 0 | AW19: =IF(AV19=0,0,($J$19/$AV$19)*100000) -> 0 | AX19: =' B_Populations'!S24 -> 0 | AY19: =IF(AX19=0,0,($K$19/$AX$19)*100000) -> 0 | AZ19: =' B_Populations'!U24 -> 0 | BA19: =IF(AZ19=0,0,($L$19/$AZ$19)*100000) -> 0 | CS19: 0.073032 | CU19: =' B_Populations'!$B$9 -> 10-14 | CV19: =AI19*CS19 -> 0 | CW19: =AK19*CS19 -> 0 | CX19: =AM19*CS19 -> 0 | CY19: =AO19*CS19 -> 0 | CZ19: =AQ19*CS19 -> 0 | DA19: =AS19*CS19 -> 0 | DB19: =AU19*CS19 -> 0 | DC19: =AW19*CS19 -> 0 | DD19: =AY19*CS19 -> 0 | DE19: =BA19*CS19 -> 0
B20: =' B_Populations'!$B$10 -> 15-19 | AH20: =' B_Populations'!C25 -> 0 | AI20: =IF(AH20=0,0,(C20/AH20)*100000) -> 0 | AJ20: =' B_Populations'!E25 -> 0 | AK20: =IF(AJ20=0,0,($D$20/$AJ$20)*100000) -> 0 | AL20: =' B_Populations'!G25 -> 0 | AM20: =IF(AL20=0,0,($E$20/$AL$20)*100000) -> 0 | AN20: =' B_Populations'!I25 -> 0 | AO20: =IF(AN20=0,0,($F$20/$AN$20)*100000) -> 0 | AP20: =' B_Populations'!K25 -> 0 | AQ20: =IF(AP20=0,0,($G$20/$AP$20)*100000) -> 0 | AR20: =' B_Populations'!M25 -> 0 | AS20: =IF(AR20=0,0,($H$20/$AR$20)*100000) -> 0 | AT20: =' B_Populations'!O25 -> 0 | AU20: =IF(AT20=0,0,($I$20/$AT$20)*100000) -> 0 | AV20: =' B_Populations'!Q25 -> 0 | AW20: =IF(AV20=0,0,($J$20/$AV$20)*100000) -> 0 | AX20: =' B_Populations'!S25 -> 0 | AY20: =IF(AX20=0,0,($K$20/$AX$20)*100000) -> 0 | AZ20: =' B_Populations'!U25 -> 0 | BA20: =IF(AZ20=0,0,($L$20/$AZ$20)*100000) -> 0 | CS20: 0.072169 | CU20: =' B_Populations'!$B$10 -> 15-19 | CV20: =AI20*CS20 -> 0 | CW20: =AK20*CS20 -> 0 | CX20: =AM20*CS20 -> 0 | CY20: =AO20*CS20 -> 0 | CZ20: =AQ20*CS20 -> 0 | DA20: =AS20*CS20 -> 0 | DB20: =AU20*CS20 -> 0 | DC20: =AW20*CS20 -> 0 | DD20: =AY20*CS20 -> 0 | DE20: =BA20*CS20 -> 0
B21: =' B_Populations'!$B$11 -> 20-24 | AH21: =' B_Populations'!C26 -> 0 | AI21: =IF(AH21=0,0,(C21/AH21)*100000) -> 0 | AJ21: =' B_Populations'!E26 -> 0 | AK21: =IF(AJ21=0,0,($D$21/$AJ$21)*100000) -> 0 | AL21: =' B_Populations'!G26 -> 0 | AM21: =IF(AL21=0,0,($E$21/$AL$21)*100000) -> 0 | AN21: =' B_Populations'!I26 -> 0 | AO21: =IF(AN21=0,0,($F$21/$AN$21)*100000) -> 0 | AP21: =' B_Populations'!K26 -> 0 | AQ21: =IF(AP21=0,0,($G$21/$AP$21)*100000) -> 0 | AR21: =' B_Populations'!M26 -> 0 | AS21: =IF(AR21=0,0,($H$216/$AR$21)*100000) -> 0 | AT21: =' B_Populations'!O26 -> 0 | AU21: =IF(AT21=0,0,($I$21/$AT$21)*100000) -> 0 | AV21: =' B_Populations'!Q26 -> 0 | AW21: =IF(AV21=0,0,($J$21/$AV$21)*100000) -> 0 | AX21: =' B_Populations'!S26 -> 0 | AY21: =IF(AX21=0,0,($K$21/$AX$21)*100000) -> 0 | AZ21: =' B_Populations'!U26 -> 0 | BA21: =IF(AZ21=0,0,($L$21/$AZ$21)*100000) -> 0 | CS21: 0.066478 | CU21: =' B_Populations'!$B$11 -> 20-24 | CV21: =AI21*CS21 -> 0 | CW21: =AK21*CS21 -> 0 | CX21: =AM21*CS21 -> 0 | CY21: =AO21*CS21 -> 0 | CZ21: =AQ21*CS21 -> 0 | DA21: =AS21*CS21 -> 0 | DB21: =AU21*CS21 -> 0 | DC21: =AW21*CS21 -> 0 | DD21: =AY21*CS21 -> 0 | DE21: =BA21*CS21 -> 0
B22: =' B_Populations'!$B$12 -> 25-34 | AH22: =' B_Populations'!C27 -> 0 | AI22: =IF(AH22=0,0,(C22/AH22)*100000) -> 0 | AJ22: =' B_Populations'!E27 -> 0 | AK22: =IF(AJ22=0,0,($D$22/$AJ$22)*100000) -> 0 | AL22: =' B_Populations'!G27 -> 0 | AM22: =IF(AL22=0,0,($E$22/$AL$22)*100000) -> 0 | AN22: =' B_Populations'!I27 -> 0 | AO22: =IF(AN22=0,0,($F$22/$AN$22)*100000) -> 0 | AP22: =' B_Populations'!K27 -> 0 | AQ22: =IF(AP22=0,0,($G$22/$AP$22)*100000) -> 0 | AR22: =' B_Populations'!M27 -> 0 | AS22: =IF(AR22=0,0,($H$22/$AR$22)*100000) -> 0 | AT22: =' B_Populations'!O27 -> 0 | AU22: =IF(AT22=0,0,($I$22/$AT$22)*100000) -> 0 | AV22: =' B_Populations'!Q27 -> 0 | AW22: =IF(AV22=0,0,($J$22/$AV$22)*100000) -> 0 | AX22: =' B_Populations'!S27 -> 0 | AY22: =IF(AX22=0,0,($K$22/$AX$22)*100000) -> 0 | AZ22: =' B_Populations'!U27 -> 0 | BA22: =IF(AZ22=0,0,($L$22/$AZ$22)*100000) -> 0 | CS22: 0.135573 | CU22: =' B_Populations'!$B$12 -> 25-34 | CV22: =AI22*CS22 -> 0 | CW22: =AK22*CS22 -> 0 | CX22: =AM22*CS22 -> 0 | CY22: =AO22*CS22 -> 0 | CZ22: =AQ22*CS22 -> 0 | DA22: =AS22*CS22 -> 0 | DB22: =AU22*CS22 -> 0 | DC22: =AW22*CS22 -> 0 | DD22: =AY22*CS22 -> 0 | DE22: =BA22*CS22 -> 0
B23: =' B_Populations'!$B$13 -> 35-44 | AH23: =' B_Populations'!C28 -> 0 | AI23: =IF(AH23=0,0,(C23/AH23)*100000) -> 0 | AJ23: =' B_Populations'!E28 -> 0 | AK23: =IF(AJ23=0,0,($D$23/$AJ$23)*100000) -> 0 | AL23: =' B_Populations'!G28 -> 0 | AM23: =IF(AL23=0,0,($E$23/$AL$23)*100000) -> 0 | AN23: =' B_Populations'!I28 -> 0 | AO23: =IF(AN23=0,0,($F$23/$AN$23)*100000) -> 0 | AP23: =' B_Populations'!K28 -> 0 | AQ23: =IF(AP23=0,0,($G$23/$AP$23)*100000) -> 0 | AR23: =' B_Populations'!M28 -> 0 | AS23: =IF(AR23=0,0,($H$23/$AR$23)*100000) -> 0 | AT23: =' B_Populations'!O28 -> 0 | AU23: =IF(AT23=0,0,($I$23/$AT$23)*100000) -> 0 | AV23: =' B_Populations'!Q28 -> 0 | AW23: =IF(AV23=0,0,($J$23/$AV$23)*100000) -> 0 | AX23: =' B_Populations'!S28 -> 0 | AY23: =IF(AX23=0,0,($K$23/$AX$23)*100000) -> 0 | AZ23: =' B_Populations'!U28 -> 0 | BA23: =IF(AZ23=0,0,($L$23/$AZ$23)*100000) -> 0 | CS23: 0.162613 | CU23: =' B_Populations'!$B$13 -> 35-44 | CV23: =AI23*CS23 -> 0 | CW23: =AK23*CS23 -> 0 | CX23: =AM23*CS23 -> 0 | CY23: =AO23*CS23 -> 0 | CZ23: =AQ23*CS23 -> 0 | DA23: =AS23*CS23 -> 0 | DB23: =AU23*CS23 -> 0 | DC23: =AW23*CS23 -> 0 | DD23: =AY23*CS23 -> 0 | DE23: =BA23*CS23 -> 0
B24: =' B_Populations'!$B$14 -> 45-54 | AH24: =' B_Populations'!C29 -> 0 | AI24: =IF(AH24=0,0,(C24/AH24)*100000) -> 0 | AJ24: =' B_Populations'!E29 -> 0 | AK24: =IF(AJ24=0,0,($D$24/$AJ$24)*100000) -> 0 | AL24: =' B_Populations'!G29 -> 0 | AM24: =IF(AL24=0,0,($E$24/$AL$24)*100000) -> 0 | AN24: =' B_Populations'!I29 -> 0 | AO24: =IF(AN24=0,0,($F$24/$AN$24)*100000) -> 0 | AP24: =' B_Populations'!K29 -> 0 | AQ24: =IF(AP24=0,0,($G$24/$AP$24)*100000) -> 0 | AR24: =' B_Populations'!M29 -> 0 | AS24: =IF(AR24=0,0,($H$24/$AR$24)*100000) -> 0 | AT24: =' B_Populations'!O29 -> 0 | AU24: =IF(AT24=0,0,($I$24/$AT$24)*100000) -> 0 | AV24: =' B_Populations'!Q29 -> 0 | AW24: =IF(AV24=0,0,($J$24/$AV$24)*100000) -> 0 | AX24: =' B_Populations'!S29 -> 0 | AY24: =IF(AX24=0,0,($K$24/$AX$24)*100000) -> 0 | AZ24: =' B_Populations'!U29 -> 0 | BA24: =IF(AZ24=0,0,($L$24/$AZ$24)*100000) -> 0 | CS24: 0.134834 | CU24: =' B_Populations'!$B$14 -> 45-54 | CV24: =AI24*CS24 -> 0 | CW24: =AK24*CS24 -> 0 | CX24: =AM24*CS24 -> 0 | CY24: =AO24*CS24 -> 0 | CZ24: =AQ24*CS24 -> 0 | DA24: =AS24*CS24 -> 0 | DB24: =AU24*CS24 -> 0 | DC24: =AW24*CS24 -> 0 | DD24: =AY24*CS24 -> 0 | DE24: =BA24*CS24 -> 0
B25: =' B_Populations'!$B$15 -> 55-64 | AH25: =' B_Populations'!C30 -> 0 | AI25: =IF(AH25=0,0,(C25/AH25)*100000) -> 0 | AJ25: =' B_Populations'!E30 -> 0 | AK25: =IF(AJ25=0,0,($D$25/$AJ$25)*100000) -> 0 | AL25: =' B_Populations'!G30 -> 0 | AM25: =IF(AL25=0,0,($E$25/$AL$25)*100000) -> 0 | AN25: =' B_Populations'!I30 -> 0 | AO25: =IF(AN25=0,0,($F$25/$AN$25)*100000) -> 0 | AP25: =' B_Populations'!K30 -> 0 | AQ25: =IF(AP25=0,0,($G$25/$AP$25)*100000) -> 0 | AR25: =' B_Populations'!M30 -> 0 | AS25: =IF(AR25=0,0,($H$25/$AR$25)*100000) -> 0 | AT25: =' B_Populations'!O30 -> 0 | AU25: =IF(AT25=0,0,($I$25/$AT$25)*100000) -> 0 | AV25: =' B_Populations'!Q30 -> 0 | AW25: =IF(AV25=0,0,($J$25/$AV$25)*100000) -> 0 | AX25: =' B_Populations'!S30 -> 0 | AY25: =IF(AX25=0,0,($K$25/$AX$25)*100000) -> 0 | AZ25: =' B_Populations'!U30 -> 0 | BA25: =IF(AZ25=0,0,($L$25/$AZ$25)*100000) -> 0 | CS25: 0.087247 | CU25: =' B_Populations'!$B$15 -> 55-64 | CV25: =AI25*CS25 -> 0 | CW25: =AK25*CS25 -> 0 | CX25: =AM25*CS25 -> 0 | CY25: =AO25*CS25 -> 0 | CZ25: =AQ25*CS25 -> 0 | DA25: =AS25*CS25 -> 0 | DB25: =AU25*CS25 -> 0 | DC25: =AW25*CS25 -> 0 | DD25: =AY25*CS25 -> 0 | DE25: =BA25*CS25 -> 0
B26: =' B_Populations'!$B$16 -> 65-74 | AH26: =' B_Populations'!C31 -> 0 | AI26: =IF(AH26=0,0,(C26/AH26)*100000) -> 0 | AJ26: =' B_Populations'!E31 -> 0 | AK26: =IF(AJ26=0,0,($D$26/$AJ$26)*100000) -> 0 | AL26: =' B_Populations'!G31 -> 0 | AM26: =IF(AL26=0,0,($E$26/$AL$26)*100000) -> 0 | AN26: =' B_Populations'!I31 -> 0 | AO26: =IF(AN26=0,0,($F$26/$AN$26)*100000) -> 0 | AP26: =' B_Populations'!K31 -> 0 | AQ26: =IF(AP26=0,0,($G$26/$AP$26)*100000) -> 0 | AR26: =' B_Populations'!M31 -> 0 | AS26: =IF(AR26=0,0,($H$26/$AR$26)*100000) -> 0 | AT26: =' B_Populations'!O31 -> 0 | AU26: =IF(AT26=0,0,($I$26/$AT$26)*100000) -> 0 | AV26: =' B_Populations'!Q31 -> 0 | AW26: =IF(AV26=0,0,($J$26/$AV$26)*100000) -> 0 | AX26: =' B_Populations'!S31 -> 0 | AY26: =IF(AX26=0,0,($K$26/$AX$26)*100000) -> 0 | AZ26: =' B_Populations'!U31 -> 0 | BA26: =IF(AZ26=0,0,($L$26/$AZ$26)*100000) -> 0 | CS26: 0.066037 | CU26: =' B_Populations'!$B$16 -> 65-74 | CV26: =AI26*CS26 -> 0 | CW26: =AK26*CS26 -> 0 | CX26: =AM26*CS26 -> 0 | CY26: =AO26*CS26 -> 0 | CZ26: =AQ26*CS26 -> 0 | DA26: =AS26*CS26 -> 0 | DB26: =AU26*CS26 -> 0 | DC26: =AW26*CS26 -> 0 | DD26: =AY26*CS26 -> 0 | DE26: =BA26*CS26 -> 0
B27: =' B_Populations'!$B$17 -> 75-84 | AH27: =' B_Populations'!C32 -> 0 | AI27: =IF(AH27=0,0,(C27/AH27)*100000) -> 0 | AJ27: =' B_Populations'!E32 -> 0 | AK27: =IF(AJ27=0,0,($D$27/$AJ$27)*100000) -> 0 | AL27: =' B_Populations'!G32 -> 0 | AM27: =IF(AL27=0,0,($E$27/$AL$27)*100000) -> 0 | AN27: =' B_Populations'!I32 -> 0 | AO27: =IF(AN27=0,0,($F$27/$AN$27)*100000) -> 0 | AP27: =' B_Populations'!K32 -> 0 | AQ27: =IF(AP27=0,0,($G$27/$AP$27)*100000) -> 0 | AR27: =' B_Populations'!M32 -> 0 | AS27: =IF(AR27=0,0,($H$27/$AR$27)*100000) -> 0 | AT27: =' B_Populations'!O32 -> 0 | AU27: =IF(AT27=0,0,($I$27/$AT$27)*100000) -> 0 | AV27: =' B_Populations'!Q32 -> 0 | AW27: =IF(AV27=0,0,($J$27/$AV$27)*100000) -> 0 | AX27: =' B_Populations'!S32 -> 0 | AY27: =IF(AX27=0,0,($K$27/$AX$27)*100000) -> 0 | AZ27: =' B_Populations'!U32 -> 0 | BA27: =IF(AZ27=0,0,($L$27/$AZ$27)*100000) -> 0 | CS27: 0.044841 | CU27: =' B_Populations'!$B$17 -> 75-84 | CV27: =AI27*CS27 -> 0 | CW27: =AK27*CS27 -> 0 | CX27: =AM27*CS27 -> 0 | CY27: =AO27*CS27 -> 0 | CZ27: =AQ27*CS27 -> 0 | DA27: =AS27*CS27 -> 0 | DB27: =AU27*CS27 -> 0 | DC27: =AW27*CS27 -> 0 | DD27: =AY27*CS27 -> 0 | DE27: =BA27*CS27 -> 0
B28: =' B_Populations'!$B$18 -> 85+ | AH28: =' B_Populations'!C33 -> 0 | AI28: =IF(AH28=0,0,(C28/AH28)*100000) -> 0 | AJ28: =' B_Populations'!E33 -> 0 | AK28: =IF(AJ28=0,0,($D$28/$AJ$28)*100000) -> 0 | AL28: =' B_Populations'!G33 -> 0 | AM28: =IF(AL28=0,0,($E$28/$AL$28)*100000) -> 0 | AN28: =' B_Populations'!I33 -> 0 | AO28: =IF(AN28=0,0,($F$28/$AN$28)*100000) -> 0 | AP28: =' B_Populations'!K33 -> 0 | AQ28: =IF(AP28=0,0,($G$28/$AP$28)*100000) -> 0 | AR28: =' B_Populations'!M33 -> 0 | AS28: =IF(AR28=0,0,($H$28/$AR$28)*100000) -> 0 | AT28: =' B_Populations'!O33 -> 0 | AU28: =IF(AT28=0,0,($I$28/$AT$28)*100000) -> 0 | AV28: =' B_Populations'!Q33 -> 0 | AW28: =IF(AV28=0,0,($J$28/$AV$28)*100000) -> 0 | AX28: =' B_Populations'!S33 -> 0 | AY28: =IF(AX28=0,0,($K$28/$AX$28)*100000) -> 0 | AZ28: =' B_Populations'!U33 -> 0 | BA28: =IF(AZ28=0,0,($L$28/$AZ$28)*100000) -> 0 | CS28: 0.015508 | CU28: =' B_Populations'!$B$18 -> 85+ | CV28: =AI28*CS28 -> 0 | CW28: =AK28*CS28 -> 0 | CX28: =AM28*CS28 -> 0 | CY28: =AO28*CS28 -> 0 | CZ28: =AQ28*CS28 -> 0 | DA28: =AS28*CS28 -> 0 | DB28: =AU28*CS28 -> 0 | DC28: =AW28*CS28 -> 0 | DD28: =AY28*CS28 -> 0 | DE28: =BA28*CS28 -> 0
B29: total | C29: =SUM(C19:C28) -> 0 | D29: =SUM(D19:D28) -> 0 | E29: =SUM(E19:E28) -> 0 | F29: =SUM(F19:F28) -> 0 | G29: =SUM(G19:G28) -> 0 | H29: =SUM(H19:H28) -> 0 | I29: =SUM(I19:I28) -> 0 | J29: =SUM(J19:J28) -> 0 | ... L29: =SUM(L19:L28) -> 0 | AH29: =SUM(AH19:AH28) -> 0 | AI29: =SUM(AI19:AI28) -> 0 | AJ29: =SUM(AJ19:AJ28) -> 0 | AK29: =SUM(AK19:AK28) -> 0 | AL29: =SUM(AL19:AL28) -> 0 | AM29: =SUM(AM19:AM28) -> 0 | AN29: =SUM(AN19:AN28) -> 0 | AO29: =SUM(AO19:AO28) -> 0 | ... BA29: =SUM(BA19:BA28) -> 0 | CU29: total | CV29: =SUM(CV19:CV28) -> 0 | CW29: =SUM(CW19:CW28) -> 0 | CX29: =SUM(CX19:CX28) -> 0 | CY29: =SUM(CY19:CY28) -> 0 | CZ29: =SUM(CZ19:CZ28) -> 0 | DA29: =SUM(DA19:DA28) -> 0 | DB29: =SUM(DB19:DB28) -> 0 | DC29: =SUM(DC19:DC28) -> 0 | ... DE29: =SUM(DE19:DE28) -> 0
A32: Previous Year: | C32: =' B_Populations'!A40 -> 0 | D32: Sex Data | F32: Demographic Data | CV32: Age-adjusted Rates per 100,000 population
B33: Age | C33: Number of deaths- Total | D33: Number of deaths- Male | E33: Number of deaths- Female | F33: =' B_Populations'!$I$8 -> White-Not Hispanic | G33: =' B_Populations'!$K$8 -> Hispanic | H33: =' B_Populations'!$M$8 -> Black-Not Hispanic | I33: =' B_Populations'!$O$8 -> Asian | J33: =' B_Populations'!$Q$8 -> American Indian/Alaska Native | K33: =' B_Populations'!$S$8 -> Other | L33: =' B_Populations'!$U$8 -> Other | AH33: State population - Total | AI33: Rate | AJ33: State population - Male | AK33: Rate | AL33: State population - Female | AM33: Rate | AN33: =' B_Populations'!$I$8 -> White-Not Hispanic | AO33: Rate | AP33: =' B_Populations'!$K$8 -> Hispanic | AQ33: Rate | AR33: =' B_Populations'!$M$8 -> Black-Not Hispanic | AS33: Rate | AT33: =' B_Populations'!$O$8 -> Asian | AU33: Rate | AV33: =' B_Populations'!$Q$8 -> American Indian/Alaska Native | AW33: Rate | AX33: =' B_Populations'!$S$8 -> Other | AY33: Rate | AZ33: =' B_Populations'!$U$8 -> Other | BA33: Rate | CS33: 2000 Population Weight | CU33: Age | CV33: Total | CW33: Male | CX33: Female | CY33: =' B_Populations'!$I$8 -> White-Not Hispanic | CZ33: =' B_Populations'!$K$8 -> Hispanic | DA33: =' B_Populations'!$M$8 -> Black-Not Hispanic | DB33: =' B_Populations'!$O$8 -> Asian | DC33: =' B_Populations'!$Q$8 -> American Indian/Alaska Native | DD33: =' B_Populations'!$S$8 -> Other | DE33: =' B_Populations'!$U$8 -> Other
B34: =' B_Populations'!$B$9 -> 10-14 | AH34: =' B_Populations'!C39 -> 0 | AI34: =IF(AH34=0,0,(C34/AH34)*100000) -> 0 | AJ34: =' B_Populations'!E39 -> 0 | AK34: =IF(AJ34=0,0,($D$34/$AJ$34)*100000) -> 0 | AL34: =' B_Populations'!G39 -> 0 | AM34: =IF(AL34=0,0,($E$34/$AL$34)*100000) -> 0 | AN34: =' B_Populations'!I39 -> 0 | AO34: =IF(AN34=0,0,($F$34/$AN$34)*100000) -> 0 | AP34: =' B_Populations'!K39 -> 0 | AQ34: =IF(AP34=0,0,($G$34/$AP$34)*100000) -> 0 | AR34: =' B_Populations'!M39 -> 0 | AS34: =IF(AR34=0,0,($H$34/$AR$34)*100000) -> 0 | AT34: =' B_Populations'!O39 -> 0 | AU34: =IF(AT34=0,0,($I$34/$AT$34)*100000) -> 0 | AV34: =' B_Populations'!Q39 -> 0 | AW34: =IF(AV34=0,0,($J$34/$AV$34)*100000) -> 0 | AX34: =' B_Populations'!S39 -> 0 | AY34: =IF(AX34=0,0,($K$34/$AX$34)*100000) -> 0 | AZ34: =' B_Populations'!U39 -> 0 | BA34: =IF(AZ34=0,0,($L$34/$AZ$34)*100000) -> 0 | CS34: 0.073032 | CU34: =' B_Populations'!$B$9 -> 10-14 | CV34: =AI34*CS34 -> 0 | CW34: =AK34*CS34 -> 0 | CX34: =AM34*CS34 -> 0 | CY34: =AO34*CS34 -> 0 | CZ34: =AQ34*CS34 -> 0 | DA34: =AS34*CS34 -> 0 | DB34: =AU34*CS34 -> 0 | DC34: =AW34*CS34 -> 0 | DD34: =AY34*CS34 -> 0 | DE34: =BA34*CS34 -> 0
