Workbook

Sheet A_Instructions
A2: Step 1: Preparing State/Territory Data | F2: Step 2: Entering Data | T2: Step 3: Creating Special Emphasis Report
A3: Name | B3: ICD-10-CM code | C3: ICD-10-CM notes
A4: 1a. Create a Nonfatal Hospital Discharge Data Injury Subset - includes records that have one of the following ICD-10-CM injury diagnosis codes* in the principal diagnosis field
A6: ICD-10-CM injury diagnosis codes* *Only include cases if the 7th character of the code is A, B, C, or missing (reflects initial encounter, active treatment). T30-T32 do not have a 7th character | B6: S00-S99 | C6: Anatomic injuries
B7: T07-T34 | C7: Foreign bodies, burns, corrosions, frostbite
B8: T36-T50 with a 6th character of 1, 2, 3, or 4 Note: Include T36.9, T37.9, T39.9, T41.4, T42.7, T43.9, T45.9, T47.9, and T49.9 with a 5th character of 1, 2, 3, or 4 (Intent information for these codes is included in the 5th character and not the 6th) | C8: Poisoning by drugs, medicaments, and biological substances (Includes accidental, intentional self-harm, assault, and underdetermined intents; Excludes adverse effects and underdosing)
B9: T51-T65 | C9: Toxic effects of substances nonmedicinal as to source
B10: T66-T76 | C10: Other and unspecified effects of external causes
B11: T79 | C11: Certain early complications of trauma, not elsewhere classified
B12: O9A.2-O9A.5 | C12: Traumatic injuries and abuse complicating pregnancy, childbirth, and the puerperium
B13: T84.04** | C13: Periprosthetic fracture around internal prosthetic joint **T84.04 was retired and replaced by M97 in the FY2017 version of ICD-10-CM which went into effect on Oct 1, 2016
B14: M97** | C14: Periprosthetic fracture around internal prosthetic joint
A15: 1b. Create a Nonfatal Unintentional Fall-related Injury Hospitalizations Data Subset - Includes data for nonfatal hospitalizations from the injury hospital discharge subset with any of the following ICD-10-CM external cause-of-injury codes in any field
A18: ICD-10-CM Codes* for Unintentional Fall-related Injuries *Only include cases if the 7th character of the code is A or missing (reflects initial encounter, active treatment) | B18: V00.1-V00.8 With 6th character=1 | C18: Falls related to pedestrian conveyance
B19: W00-W15, W17, W19 | C19: Falls
B20: W16 with 6th character=2, W16.42, W16.92 | C20: Fall, jump, or diving into water
B21: W18.1-W18.3 | C21: Other falls
A22: 2. Create a Nonfatal Unintentional Fall-related Injury ED Visit Data Subset - Includes data with any of the following ICD-10-CM external cause-of-injury codes in any field
A23: ICD-10-CM Codes* for Unintentional Fall-related Injuries *Only include cases if the 7th character of the code is A or missing (reflects initial encounter, active treatment) | B23: V00.1-V00.8 with 6th character=1 | C23: Falls related to pedestrian conveyance
B24: W00-W15, W17, W19 | C24: Falls
B25: W16 with 6th character=2, W16.42, W16.92 | C25: Fall, jump, or diving into water
B26: W18.1-W18.3 | C26: Other falls
A27: 3. Create an Unintentional Fall-related Injury Death Data Subset - Includes data for deaths with any of the following ICD-10 codes in the underlying cause of death field
A28: ICD-10 codes for Unintentional Fall-related Fatalities | B28: W00-W19 | C28: Falls
A31: Codes for specific injuries
A32: Hospitalizations and ED Visits
A33: ICD-10-CM Codes for Nonfatal Hip Fractures (for both Hospitalizations and ED visits) Have one of the following ICD-10-CM* diagnosis codes in any field *Only include cases if the 7th character of the code is A, B, C or missing (reflects initial encounter, active treatment) | B33: S72.0 | C33: Fracture of head and neck of femur
B34: S72.1 | C34: Pertrochanteric fracture
B35: S72.2 | C35: Subtrochanteric fracture
B36: T84.040** | C36: Periprosthetic fracture around internal prosthetic right hip joint **T84.04 was retired and replaced by M97.0 in the FY2017 version of ICD-10-CM which went into effect on Oct 1, 2016
B37: T84.041** | C37: Periprosthetic fracture around internal prosthetic left hip joint
B38: M97.0** | C38: Periprosthetic fracture around internal prosthetic hip joint
A39: ICD-10-CM Codes for Nonfatal TBI (for both Hospitalizations and ED visits) Have one of the following ICD-10-CM* diagnosis codes in any field *Only Include cases if the 7th character of the code is A, B, or missing (reflects initial encounter, active treatment) | B39: S02.0, S02.1 | C39: Fracture of skull
B40: S02.8X**, S02.80, S02.81, S02.82, S02.91 | C40: Fracture of other specified skull and facial bones; unspecified fracture **In the FY 2017 ICD-10-CM code set, which went into effect on Oct 1, 2016, the S02.8 code was expanded to include several subcodes (S02.80, S02.81, and S02.82). These subcodes should be included in the selection criteria for the indicator if using data for admissions/visits after Oct 1, 2016. In FY 2020, the S02.8 code was expanded again to include S02.83-, S02.84- and S02.85. These subcodes are not included in the selection criteria for the indicator as they represent fractures to the medial and lateral orbital wall, or unspecified fractures of the orbit and are not considered to be TBI.
B41: S04.02, S04.03, S04.04 | C41: Injury of optic chiasm; injury of optic tract and pathways; injuries of visual cortex
B42: S06 | C42: Intracranial injury
B43: S07.1 | C43: Crushing injury of skull
B44: T74.4 | C44: Shaken infant syndrome
A45: Deaths
A46: ICD-10 Codes for Hip Fractures - Have one of the following ICD-10 codes in any multiple cause of death field | B46: S72.0 | C46: Fracture of neck of femur
...

Sheet  B_Populations
A1: Older Adult Falls-Specific State Injury Indicators Report
A2: State/Territor Population Data
A3: State/Territory: | D3: Data year:
B4: Enter your state name in A4 | E4: Enter the data year in D4
B7: Enter total population data by age group below | D7: Enter male population data by age group below | F7: Enter female population data by age group below | H7: Enter demographic population data | J7: Enter demographic population data | L7: Enter demographic population data | N7: Enter demographic population data | P7: Enter demographic population data | R7: Enter demographic population data | T7: Enter demographic population data
A8: Age | B8: Total | D8: Male | F8: Female | H8: White-Not Hispanic | J8: Hispanic | L8: Black-Not Hispanic | N8: Asian | P8: American Indian/Alaska Native | R8: Other | S8: Enter name of "Other" category in R8 | T8: Other | U8: Enter name of "Other" category in T8
A9: 65-74
A10: 75-84
A11: 85+
A12: TOTAL (ages 65-85+) | B12: =SUM(B9:B11) -> 0 | D12: =SUM(D9:D11) -> 0 | F12: =SUM(F9:F11) -> 0 | H12: =SUM(H9:H11) -> 0 | J12: =SUM(J9:J11) -> 0 | L12: =SUM(L9:L11) -> 0 | N12: =SUM(N9:N11) -> 0 | P12: =SUM(P9:P11) -> 0 | R12: =SUM(R9:R11) -> 0 | T12: =SUM(T9:T11) -> 0
A14: 2000 Standard population - from "Populations" tab
A15: 65-74 | B15: 18136
A16: 75-84 | B16: 12315
A17: 85+ | B17: 4259
A18: TOTAL (ages 65-85+) | B18: =SUM(B15:B17) -> 34710

Sheet C_Health Regions
A1: Older Adult Falls-Specific State Injury Indicators Report
A2: Health Districts/Regions Data
A4: Age | B4: Region 1 | D4: Region 2 | F4: Region 3 | H4: Region 4 | J4: Region 5 | L4: Region 6 | N4: Region 7 | P4: Region 8 | R4: Region 9 | T4: Region 10 | V4: Region 11 | X4: Region 12 | Z4: Region 13 | AB4: Region 14 | AD4: Region 15 | AF4: Region 16 | AH4: Region 17 | AJ4: Region 18 | AL4: Region 19 | AN4: Region 20
A5: =' B_Populations'!$A$9 -> 65-74
A6: =' B_Populations'!$A$10 -> 75-84
A7: =' B_Populations'!$A$11 -> 85+
A8: TOTAL | B8: =SUM(B5:B7) -> 0 | D8: =SUM(D5:D7) -> 0 | F8: =SUM(F5:F7) -> 0 | H8: =SUM(H5:H7) -> 0 | J8: =SUM(J5:J7) -> 0 | L8: =SUM(L5:L7) -> 0 | N8: =SUM(N5:N7) -> 0 | P8: =SUM(P5:P7) -> 0 | R8: =SUM(R5:R7) -> 0 | T8: =SUM(T5:T7) -> 0 | V8: =SUM(V5:V7) -> 0 | X8: =SUM(X5:X7) -> 0 | Z8: =SUM(Z5:Z7) -> 0 | AB8: =SUM(AB5:AB7) -> 0 | AD8: =SUM(AD5:AD7) -> 0 | AF8: =SUM(AF5:AF7) -> 0 | AH8: =SUM(AH5:AH7) -> 0 | AJ8: =SUM(AJ5:AJ7) -> 0 | AL8: =SUM(AL5:AL7) -> 0 | AN8: =SUM(AN5:AN7) -> 0

Sheet D_Year 1
A1: Year 1 | B1: Data Input Tables Instructions: Please enter the actual Data Year in cell A1. Enter your Older Adult Falls-related injury data in the red cells below. The age-adjusted rates will automatically calculate in the results table. | F1: Use columns F through L to enter demographic data | N1: Optional: Unhide columns O through AK to show rate calculations and 2000 population weights | AJ1: Columns AN through AW will automatically calculate age-adjusted rates per 100,000 | AM1: Results Table Age Adjusted Rates per 100,1000. Results will calculate automatically.
D2: Sex Data | F2: Demographic Data | AN2: Age-adjusted Rates per 100,000 population
B3: Age | C3: Number of hospitalizations- Total | D3: Number of hospitalizations- Male | E3: Number of hospitalizations- Female | F3: =[1]Populations!I80 -> White-Not Hispanic | G3: =[1]Populations!K80 -> Hispanic | H3: =[1]Populations!M80 -> Black-Not Hispanic | I3: =[1]Populations!O80 -> Asian | J3: =[1]Populations!Q80 -> American Indian/Alaska Native | K3: =[1]Populations!S80 -> Other | L3: =[1]Populations!U80 -> Other | N3: State population - Total | O3: Rate | P3: State population - Male | Q3: Rate | R3: State population - Female | S3: Rate | T3: =[1]Populations!I80 -> White-Not Hispanic | U3: Rate | V3: =[1]Populations!K80 -> Hispanic | W3: Rate | X3: =[1]Populations!M80 -> Black-Not Hispanic | Y3: Rate | Z3: =[1]Populations!O80 -> Asian | AA3: Rate | AB3: =[1]Populations!Q80 -> American Indian/Alaska Native | AC3: Rate | AD3: =[1]Populations!S80 -> Other | AE3: Rate | AF3: =[1]Populations!U80 -> Other | AG3: Rate | AJ3: 2000 Standard population - from "Populations" tab | AK3: 2000 state population weights | AM3: Age | AN3: Total | AO3: Male | AP3: Female | AQ3: =[1]Populations!I80 -> White-Not Hispanic | AR3: =[1]Populations!K80 -> Hispanic | AS3: =[1]Populations!M80 -> Black-Not Hispanic | AT3: =[1]Populations!O80 -> Asian | AU3: =[1]Populations!Q80 -> American Indian/Alaska Native | AV3: =[1]Populations!S80 -> Other | AW3: =[1]Populations!U80 -> Other
B4: =' B_Populations'!A9 -> 65-74 | N4: =' B_Populations'!B9 -> 0 | O4: =IF(N4=0,0,($C$4/$N$4)*100000) -> 0 | P4: =' B_Populations'!D9 -> 0 | Q4: =IF(P4=0,0,($D$4/$P$4)*100000) -> 0 | R4: =' B_Populations'!F9 -> 0 | S4: =IF(R4=0,0,($E$4/$R$4)*100000) -> 0 | T4: =' B_Populations'!H9 -> 0 | U4: =IF(T4=0,0,($F$4/$T$4)*100000) -> 0 | V4: =' B_Populations'!J9 -> 0 | W4: =IF(V4=0,0,($G$4/$V$4)*100000) -> 0 | X4: =' B_Populations'!L9 -> 0 | Y4: =IF(X4=0,0,($H$4/$X$4)*100000) -> 0 | Z4: =' B_Populations'!N9 -> 0 | AA4: =IF(Z4=0,0,($I$4/$Z$4)*100000) -> 0 | AB4: =' B_Populations'!P9 -> 0 | AC4: =IF(AB4=0,0,($J$4/$AB$4)*100000) -> 0 | AD4: =' B_Populations'!R9 -> 0 | AE4: =IF(AD4=0,0,($K$4/$AD$4)*100000) -> 0 | AF4: =' B_Populations'!T9 -> 0 | AG4: =IF(AF4=0,0,($L$4/$AF$4)*100000) -> 0 | AJ4: =' B_Populations'!B15 -> 18136 | AK4: 0.522501 | AM4: =' B_Populations'!A9 -> 65-74 | AN4: =O4*AK4 -> 0 | AO4: =Q4*AK4 -> 0 | AP4: =S4*AK4 -> 0 | AQ4: =U4*AK4 -> 0 | AR4: =W4*AK4 -> 0 | AS4: =Y4*AK4 -> 0 | AT4: =AA4*AK4 -> 0 | AU4: =AC4*AK4 -> 0 | AV4: =AE4*AK4 -> 0 | AW4: =AG4*AK4 -> 0
B5: =' B_Populations'!A10 -> 75-84 | N5: =' B_Populations'!B10 -> 0 | O5: =IF(N5=0,0,($C$5/$N$5)*100000) -> 0 | P5: =' B_Populations'!D10 -> 0 | Q5: =IF(P5=0,0,($D$5/$P$5)*100000) -> 0 | R5: =' B_Populations'!F10 -> 0 | S5: =IF(R5=0,0,($E$5/$R$5)*100000) -> 0 | T5: =' B_Populations'!H10 -> 0 | U5: =IF(T5=0,0,($F$5/$T$5)*100000) -> 0 | V5: =' B_Populations'!J10 -> 0 | W5: =IF(V5=0,0,($G$5/$V$5)*100000) -> 0 | X5: =' B_Populations'!L10 -> 0 | Y5: =IF(X5=0,0,($G$5/$X$5)*100000) -> 0 | Z5: =' B_Populations'!N10 -> 0 | AA5: =IF(Z5=0,0,($I$5/$Z$5)*100000) -> 0 | AB5: =' B_Populations'!P10 -> 0 | AC5: =IF(AB5=0,0,($J$5/$AB$5)*100000) -> 0 | AD5: =' B_Populations'!R10 -> 0 | AE5: =IF(AD5=0,0,($K$5/$AD$5)*100000) -> 0 | AF5: =' B_Populations'!T10 -> 0 | AG5: =IF(AF5=0,0,($L$5/$AF$5)*100000) -> 0 | AJ5: =' B_Populations'!B16 -> 12315 | AK5: 0.354797 | AM5: =' B_Populations'!A10 -> 75-84 | AN5: =O5*AK5 -> 0 | AO5: =Q5*AK5 -> 0 | AP5: =S5*AK5 -> 0 | AQ5: =U5*AK5 -> 0 | AR5: =W5*AK5 -> 0 | AS5: =Y5*AK5 -> 0 | AT5: =AA5*AK5 -> 0 | AU5: =AC5*AK5 -> 0 | AV5: =AE5*AK5 -> 0 | AW5: =AG5*AK5 -> 0
B6: =' B_Populations'!A11 -> 85+ | N6: =' B_Populations'!B11 -> 0 | O6: =IF(N6=0,0,($C$6/$N$6)*100000) -> 0 | P6: =' B_Populations'!D11 -> 0 | Q6: =IF(P6=0,0,($D$6/$P$6)*100000) -> 0 | R6: =' B_Populations'!F11 -> 0 | S6: =IF(R6=0,0,($E$6/$R$6)*100000) -> 0 | T6: =' B_Populations'!H11 -> 0 | U6: =IF(T6=0,0,($F$6/$T$6)*100000) -> 0 | V6: =' B_Populations'!J11 -> 0 | W6: =IF(V6=0,0,($G$6/$V$6)*100000) -> 0 | X6: =' B_Populations'!L11 -> 0 | Y6: =IF(X6=0,0,($G$6/$X$6)*100000) -> 0 | Z6: =' B_Populations'!N11 -> 0 | AA6: =IF(Z6=0,0,($I$6/$Z$6)*100000) -> 0 | AB6: =' B_Populations'!P11 -> 0 | AC6: =IF(AB6=0,0,($J$6/$AB$6)*100000) -> 0 | AD6: =' B_Populations'!R11 -> 0 | AE6: =IF(AD6=0,0,($K$6/$AD$6)*100000) -> 0 | AF6: =' B_Populations'!T11 -> 0 | AG6: =IF(AF6=0,0,($L$6/$AF$6)*100000) -> 0 | AJ6: =' B_Populations'!B17 -> 4259 | AK6: 0.122702 | AM6: =' B_Populations'!A11 -> 85+ | AN6: =O6*AK6 -> 0 | AO6: =Q6*AK6 -> 0 | AP6: =S6*AK6 -> 0 | AQ6: =U6*AK6 -> 0 | AR6: =W6*AK6 -> 0 | AS6: =Y6*AK6 -> 0 | AT6: =AA6*AK6 -> 0 | AU6: =AC6*AK6 -> 0 | AV6: =AE6*AK6 -> 0 | AW6: =AG6*AK6 -> 0
B7: total | C7: =SUM(C4:C6) -> 0 | D7: =SUM(D4:D6) -> 0 | E7: =SUM(E4:E6) -> 0 | F7: =SUM(F4:F6) -> 0 | G7: =SUM(G4:G6) -> 0 | H7: =SUM(H4:H6) -> 0 | I7: =SUM(I4:I6) -> 0 | J7: =SUM(J4:J6) -> 0 | ... L7: =SUM(L4:L6) -> 0 | N7: =' B_Populations'!B12 -> 0 | O7: =SUM(O4:O6) -> 0 | P7: =' B_Populations'!D12 -> 0 | Q7: =SUM(Q4:Q6) -> 0 | R7: =' B_Populations'!F12 -> 0 | S7: =SUM(S4:S6) -> 0 | T7: =' B_Populations'!H12 -> 0 | U7: =SUM(U4:U6) -> 0 | V7: =' B_Populations'!J12 -> 0 | W7: =SUM(W4:W6) -> 0 | X7: =' B_Populations'!L12 -> 0 | Y7: =SUM(Y4:Y6) -> 0 | Z7: =' B_Populations'!N12 -> 0 | AA7: =SUM(AA4:AA6) -> 0 | AB7: =' B_Populations'!P12 -> 0 | AC7: =SUM(AC4:AC6) -> 0 | AD7: =' B_Populations'!R12 -> 0 | AE7: =SUM(AE4:AE6) -> 0 | AF7: =' B_Populations'!T12 -> 0 | AG7: =SUM(AG4:AG6) -> 0 | AJ7: =' B_Populations'!B18 -> 34710 | AK7: 1 | AM7: total | AN7: =SUM(AN4:AN6) -> 0 | AO7: =SUM(AO4:AO6) -> 0 | AP7: =SUM(AP4:AP6) -> 0 | AQ7: =SUM(AQ4:AQ6) -> 0 | AR7: =SUM(AR4:AR6) -> 0 | AS7: =SUM(AS4:AS6) -> 0 | AT7: =SUM(AT4:AT6) -> 0 | AU7: =SUM(AU4:AU6) -> 0 | ... AW7: =SUM(AW4:AW6) -> 0
D9: Sex Data | F9: Demographic Data | AN9: Age-adjusted Rates per 100,000 population
B10: Age | C10: Number of ED visits- Total | D10: Number of ED visits- Male | E10: Number of ED visits- Female | F10: =[1]Populations!I80 -> White-Not Hispanic | G10: =[1]Populations!K80 -> Hispanic | H10: =[1]Populations!M80 -> Black-Not Hispanic | I10: =[1]Populations!O80 -> Asian | J10: =[1]Populations!Q80 -> American Indian/Alaska Native | K10: =[1]Populations!S80 -> Other | L10: =[1]Populations!U80 -> Other | N10: State population - Total | O10: Rate | P10: State population - Male | Q10: Rate | R10: State population - Female | S10: Rate | T10: =[1]Populations!I80 -> White-Not Hispanic | U10: Rate | V10: =[1]Populations!K80 -> Hispanic | W10: Rate | X10: =[1]Populations!M80 -> Black-Not Hispanic | Y10: Rate | Z10: =[1]Populations!O80 -> Asian | AA10: Rate | AB10: =[1]Populations!Q80 -> American Indian/Alaska Native | AC10: Rate | AD10: =[1]Populations!S80 -> Other | AE10: Rate | AF10: =[1]Populations!U80 -> Other | AG10: Rate | AJ10: 2000 Standard population - from "Populations" tab | AK10: Weight | AM10: Age | AN10: Total | AO10: Male | AP10: Female | AQ10: =[1]Populations!I80 -> White-Not Hispanic | AR10: =[1]Populations!K80 -> Hispanic | AS10: =[1]Populations!M80 -> Black-Not Hispanic | AT10: =[1]Populations!O80 -> Asian | AU10: =[1]Populations!Q80 -> American Indian/Alaska Native | AV10: =[1]Populations!S80 -> Other | AW10: =[1]Populations!U80 -> Other
B11: =' B_Populations'!A9 -> 65-74 | N11: =' B_Populations'!B9 -> 0 | O11: =IF(N11=0,0,($C$11/$N$11)*100000) -> 0 | P11: =' B_Populations'!D9 -> 0 | Q11: =IF(P11=0,0,($D$11/$P$11)*100000) -> 0 | R11: =' B_Populations'!F9 -> 0 | S11: =IF(R11=0,0,($E$11/$R$11)*100000) -> 0 | T11: =' B_Populations'!H9 -> 0 | U11: =IF(T11=0,0,($F$11/$T$11)*100000) -> 0 | V11: =' B_Populations'!J9 -> 0 | W11: =IF(V11=0,0,($G$11/$V$11)*100000) -> 0 | X11: =' B_Populations'!L9 -> 0 | Y11: =IF(X11=0,0,($H$11/$X$11)*100000) -> 0 | Z11: =' B_Populations'!N9 -> 0 | AA11: =IF(Z11=0,0,($I$11/$Z$11)*100000) -> 0 | AB11: =' B_Populations'!P9 -> 0 | AC11: =IF(AB11=0,0,($J$11/$AB$11)*100000) -> 0 | AD11: =' B_Populations'!R9 -> 0 | AE11: =IF(AD11=0,0,($K$11/$AD$11)*100000) -> 0 | AF11: =' B_Populations'!T9 -> 0 | AG11: =IF(AF11=0,0,($L$11/$AF$11)*100000) -> 0 | AJ11: =' B_Populations'!B15 -> 18136 | AK11: 0.522501 | AM11: =' B_Populations'!A9 -> 65-74 | AN11: =O11*AK11 -> 0 | AO11: =Q11*AK11 -> 0 | AP11: =S11*AK11 -> 0 | AQ11: =U11*AK11 -> 0 | AR11: =W11*AK11 -> 0 | AS11: =Y11*AK11 -> 0 | AT11: =AA11*AK11 -> 0 | AU11: =AC11*AK11 -> 0 | AV11: =AE11*AK11 -> 0 | AW11: =AG11*AK11 -> 0
B12: =' B_Populations'!A10 -> 75-84 | N12: =' B_Populations'!B10 -> 0 | O12: =IF(N12=0,0,($C$12/$N$12)*100000) -> 0 | P12: =' B_Populations'!D10 -> 0 | Q12: =IF(P12=0,0,($D$12/$P$12)*100000) -> 0 | R12: =' B_Populations'!F10 -> 0 | S12: =IF(R12=0,0,($E$12/$R$12)*100000) -> 0 | T12: =' B_Populations'!H10 -> 0 | U12: =IF(T12=0,0,($F$12/$T$12)*100000) -> 0 | V12: =' B_Populations'!J10 -> 0 | W12: =IF(V12=0,0,($G$12/$V$12)*100000) -> 0 | X12: =' B_Populations'!L10 -> 0 | Y12: =IF(X12=0,0,($H$12/$X$12)*100000) -> 0 | Z12: =' B_Populations'!N10 -> 0 | AA12: =IF(Z12=0,0,($I$12/$Z$12)*100000) -> 0 | AB12: =' B_Populations'!P10 -> 0 | AC12: =IF(AB12=0,0,($J$12/$AB$12)*100000) -> 0 | AD12: =' B_Populations'!R10 -> 0 | AE12: =IF(AD12=0,0,($K$12/$AD$12)*100000) -> 0 | AF12: =' B_Populations'!T10 -> 0 | AG12: =IF(AF12=0,0,($L$12/$AF$12)*100000) -> 0 | AJ12: =' B_Populations'!B16 -> 12315 | AK12: 0.354797 | AM12: =' B_Populations'!A10 -> 75-84 | AN12: =O12*AK12 -> 0 | AO12: =Q12*AK12 -> 0 | AP12: =S12*AK12 -> 0 | AQ12: =U12*AK12 -> 0 | AR12: =W12*AK12 -> 0 | AS12: =Y12*AK12 -> 0 | AT12: =AA12*AK12 -> 0 | AU12: =AC12*AK12 -> 0 | AV12: =AE12*AK12 -> 0 | AW12: =AG12*AK12 -> 0
B13: =' B_Populations'!A11 -> 85+ | N13: =' B_Populations'!B11 -> 0 | O13: =IF(N13=0,0,($C$13/$N$13)*100000) -> 0 | P13: =' B_Populations'!D11 -> 0 | Q13: =IF(P13=0,0,($D$13/$P$13)*100000) -> 0 | R13: =' B_Populations'!F11 -> 0 | S13: =IF(R13=0,0,($E$13/$R$13)*100000) -> 0 | T13: =' B_Populations'!H11 -> 0 | U13: =IF(T13=0,0,($F$13/$T$13)*100000) -> 0 | V13: =' B_Populations'!J11 -> 0 | W13: =IF(V13=0,0,($G$13/$V$13)*100000) -> 0 | X13: =' B_Populations'!L11 -> 0 | Y13: =IF(X13=0,0,($H$13/$X$13)*100000) -> 0 | Z13: =' B_Populations'!N11 -> 0 | AA13: =IF(Z13=0,0,($I$13/$Z$13)*100000) -> 0 | AB13: =' B_Populations'!P11 -> 0 | AC13: =IF(AB13=0,0,($J$13/$AB$13)*100000) -> 0 | AD13: =' B_Populations'!R11 -> 0 | AE13: =IF(AD13=0,0,($K$13/$AD$13)*100000) -> 0 | AF13: =' B_Populations'!T11 -> 0 | AG13: =IF(AF13=0,0,($L$13/$AF$13)*100000) -> 0 | AJ13: =' B_Populations'!B17 -> 4259 | AK13: 0.122702 | AM13: =' B_Populations'!A11 -> 85+ | AN13: =O13*AK13 -> 0 | AO13: =Q13*AK13 -> 0 | AP13: =S13*AK13 -> 0 | AQ13: =U13*AK13 -> 0 | AR13: =W13*AK13 -> 0 | AS13: =Y13*AK13 -> 0 | AT13: =AA13*AK13 -> 0 | AU13: =AC13*AK13 -> 0 | AV13: =AE13*AK13 -> 0 | AW13: =AG13*AK13 -> 0
B14: total | C14: =SUM(C11:C13) -> 0 | D14: =SUM(D11:D13) -> 0 | E14: =SUM(E11:E13) -> 0 | F14: =SUM(F11:F13) -> 0 | G14: =SUM(G11:G13) -> 0 | H14: =SUM(H11:H13) -> 0 | I14: =SUM(I11:I13) -> 0 | J14: =SUM(J11:J13) -> 0 | ... L14: =SUM(L11:L13) -> 0 | N14: =' B_Populations'!B12 -> 0 | O14: =SUM(O11:O13) -> 0 | P14: =' B_Populations'!D12 -> 0 | Q14: =SUM(Q11:Q13) -> 0 | R14: =' B_Populations'!F12 -> 0 | S14: =SUM(S11:S13) -> 0 | T14: =' B_Populations'!H12 -> 0 | U14: =SUM(U11:U13) -> 0 | V14: =' B_Populations'!J12 -> 0 | W14: =SUM(W11:W13) -> 0 | X14: =' B_Populations'!L12 -> 0 | Y14: =SUM(Y11:Y13) -> 0 | Z14: =' B_Populations'!N12 -> 0 | AA14: =SUM(AA11:AA13) -> 0 | AB14: =' B_Populations'!P12 -> 0 | AC14: =SUM(AC11:AC13) -> 0 | AD14: =' B_Populations'!R12 -> 0 | AE14: =SUM(AE11:AE13) -> 0 | AF14: =' B_Populations'!T12 -> 0 | AG14: =SUM(AG11:AG13) -> 0 | AJ14: =' B_Populations'!B18 -> 34710 | AK14: 1 | AM14: total | AN14: =SUM(AN11:AN13) -> 0 | AO14: =SUM(AO11:AO13) -> 0 | AP14: =SUM(AP11:AP13) -> 0 | AQ14: =SUM(AQ11:AQ13) -> 0 | AR14: =SUM(AR11:AR13) -> 0 | AS14: =SUM(AS11:AS13) -> 0 | AT14: =SUM(AT11:AT13) -> 0 | AU14: =SUM(AU11:AU13) -> 0 | ... AW14: =SUM(AW11:AW13) -> 0
D16: Sex Data | F16: Demographic Data | AN16: Age-adjusted Rates per 100,000 population
B17: Age | C17: Number of deaths- Total | D17: Number of deaths- Male | E17: Number of deaths- Female | F17: =[1]Populations!I80 -> White-Not Hispanic | G17: =[1]Populations!K80 -> Hispanic | H17: =[1]Populations!M80 -> Black-Not Hispanic | I17: =[1]Populations!O80 -> Asian | J17: =[1]Populations!Q80 -> American Indian/Alaska Native | K17: =[1]Populations!S80 -> Other | L17: =[1]Populations!U80 -> Other | N17: State population - Total | O17: Rate | P17: State population - Male | Q17: Rate | R17: State population - Female | S17: Rate | T17: =[1]Populations!I80 -> White-Not Hispanic | U17: Rate | V17: =[1]Populations!K80 -> Hispanic | W17: Rate | X17: =[1]Populations!M80 -> Black-Not Hispanic | Y17: Rate | Z17: =[1]Populations!O80 -> Asian | AA17: Rate | AB17: =[1]Populations!Q80 -> American Indian/Alaska Native | AC17: Rate | AD17: =[1]Populations!S80 -> Other | AE17: Rate | AF17: =[1]Populations!U80 -> Other | AG17: Rate | AJ17: 2000 Standard population - from "Populations" tab | AK17: Weight | AM17: Age | AN17: Total | AO17: Male | AP17: Female | AQ17: =[1]Populations!I80 -> White-Not Hispanic | AR17: =[1]Populations!K80 -> Hispanic | AS17: =[1]Populations!M80 -> Black-Not Hispanic | AT17: =[1]Populations!O80 -> Asian | AU17: =[1]Populations!Q80 -> American Indian/Alaska Native | AV17: =[1]Populations!S80 -> Other | AW17: =[1]Populations!U80 -> Other
B18: =' B_Populations'!A9 -> 65-74 | N18: =' B_Populations'!B9 -> 0 | O18: =IF(N18=0,0,($C$18/$N$18)*100000) -> 0 | P18: =' B_Populations'!D9 -> 0 | Q18: =IF(P18=0,0,($D$18/$P$18)*100000) -> 0 | R18: =' B_Populations'!F9 -> 0 | S18: =IF(R18=0,0,($E$18/$R$18)*100000) -> 0 | T18: =' B_Populations'!H9 -> 0 | U18: =IF(T18=0,0,($F$18/$T$18)*100000) -> 0 | V18: =' B_Populations'!J9 -> 0 | W18: =IF(V18=0,0,($G$18/$V$18)*100000) -> 0 | X18: =' B_Populations'!L9 -> 0 | Y18: =IF(X18=0,0,($H$18/$X$18)*100000) -> 0 | Z18: =' B_Populations'!N9 -> 0 | AA18: =IF(Z18=0,0,($I$18/$Z$18)*100000) -> 0 | AB18: =' B_Populations'!P9 -> 0 | AC18: =IF(AB18=0,0,($J$18/$AB$18)*100000) -> 0 | AD18: =' B_Populations'!R9 -> 0 | AE18: =IF(AD18=0,0,($K$18/$AD$18)*100000) -> 0 | AF18: =' B_Populations'!T9 -> 0 | AG18: =IF(AF18=0,0,($L$18/$AF$18)*100000) -> 0 | AJ18: =' B_Populations'!B15 -> 18136 | AK18: 0.522501 | AM18: =' B_Populations'!A9 -> 65-74 | AN18: =O18*AK18 -> 0 | AO18: =Q18*AK18 -> 0 | AP18: =S18*AK18 -> 0 | AQ18: =U18*AK18 -> 0 | AR18: =W18*AK18 -> 0 | AS18: =Y18*AK18 -> 0 | AT18: =AA18*AK18 -> 0 | AU18: =AC18*AK18 -> 0 | AV18: =AE18*AK18 -> 0 | AW18: =AG18*AK18 -> 0
B19: =' B_Populations'!A10 -> 75-84 | N19: =' B_Populations'!B10 -> 0 | O19: =IF(N19=0,0,($C$19/$N$19)*100000) -> 0 | P19: =' B_Populations'!D10 -> 0 | Q19: =IF(P19=0,0,($D$19/$P$19)*100000) -> 0 | R19: =' B_Populations'!F10 -> 0 | S19: =IF(R19=0,0,($E$19/$R$19)*100000) -> 0 | T19: =' B_Populations'!H10 -> 0 | U19: =IF(T19=0,0,($F$19/$T$19)*100000) -> 0 | V19: =' B_Populations'!J10 -> 0 | W19: =IF(V19=0,0,($G$19/$V$19)*100000) -> 0 | X19: =' B_Populations'!L10 -> 0 | Y19: =IF(X19=0,0,($H$19/$X$19)*100000) -> 0 | Z19: =' B_Populations'!N10 -> 0 | AA19: =IF(Z19=0,0,($I$19/$Z$19)*100000) -> 0 | AB19: =' B_Populations'!P10 -> 0 | AC19: =IF(AB19=0,0,($J$19/$AB$19)*100000) -> 0 | AD19: =' B_Populations'!R10 -> 0 | AE19: =IF(AD19=0,0,($K$19/$AD$19)*100000) -> 0 | AF19: =' B_Populations'!T10 -> 0 | AG19: =IF(AF19=0,0,($L$19/$AF$19)*100000) -> 0 | AJ19: =' B_Populations'!B16 -> 12315 | AK19: 0.354797 | AM19: =' B_Populations'!A10 -> 75-84 | AN19: =O19*AK19 -> 0 | AO19: =Q19*AK19 -> 0 | AP19: =S19*AK19 -> 0 | AQ19: =U19*AK19 -> 0 | AR19: =W19*AK19 -> 0 | AS19: =Y19*AK19 -> 0 | AT19: =AA19*AK19 -> 0 | AU19: =AC19*AK19 -> 0 | AV19: =AE19*AK19 -> 0 | AW19: =AG19*AK19 -> 0
B20: =' B_Populations'!A11 -> 85+ | N20: =' B_Populations'!B11 -> 0 | O20: =IF(N20=0,0,($C$20/$N$20)*100000) -> 0 | P20: =' B_Populations'!D11 -> 0 | Q20: =IF(P20=0,0,($D$20/$P$20)*100000) -> 0 | R20: =' B_Populations'!F11 -> 0 | S20: =IF(R20=0,0,($E$20/$R$20)*100000) -> 0 | T20: =' B_Populations'!H11 -> 0 | U20: =IF(T20=0,0,($F$20/$T$20)*100000) -> 0 | V20: =' B_Populations'!J11 -> 0 | W20: =IF(V20=0,0,($G$20/$V$20)*100000) -> 0 | X20: =' B_Populations'!L11 -> 0 | Y20: =IF(X20=0,0,($H$20/$X$20)*100000) -> 0 | Z20: =' B_Populations'!N11 -> 0 | AA20: =IF(Z20=0,0,($I$20/$Z$20)*100000) -> 0 | AB20: =' B_Populations'!P11 -> 0 | AC20: =IF(AB20=0,0,($J$20/$AB$20)*100000) -> 0 | AD20: =' B_Populations'!R11 -> 0 | AE20: =IF(AD20=0,0,($K$20/$AD$20)*100000) -> 0 | AF20: =' B_Populations'!T11 -> 0 | AG20: =IF(AF20=0,0,($L$20/$AF$20)*100000) -> 0 | AJ20: =' B_Populations'!B17 -> 4259 | AK20: 0.122702 | AM20: =' B_Populations'!A11 -> 85+ | AN20: =O20*AK20 -> 0 | AO20: =Q20*AK20 -> 0 | AP20: =S20*AK20 -> 0 | AQ20: =U20*AK20 -> 0 | AR20: =W20*AK20 -> 0 | AS20: =Y20*AK20 -> 0 | AT20: =AA20*AK20 -> 0 | AU20: =AC20*AK20 -> 0 | AV20: =AE20*AK20 -> 0 | AW20: =AG20*AK20 -> 0
B21: total | C21: =SUM(C18:C20) -> 0 | D21: =SUM(D18:D20) -> 0 | E21: =SUM(E18:E20) -> 0 | F21: =SUM(F18:F20) -> 0 | G21: =SUM(G18:G20) -> 0 | H21: =SUM(H18:H20) -> 0 | I21: =SUM(I18:I20) -> 0 | J21: =SUM(J18:J20) -> 0 | ... L21: =SUM(L18:L20) -> 0 | N21: =' B_Populations'!B12 -> 0 | O21: =SUM(O18:O20) -> 0 | P21: =' B_Populations'!D12 -> 0 | Q21: =SUM(Q18:Q20) -> 0 | R21: =' B_Populations'!F12 -> 0 | S21: =SUM(S18:S20) -> 0 | T21: =' B_Populations'!H12 -> 0 | U21: =SUM(U18:U20) -> 0 | V21: =' B_Populations'!J12 -> 0 | W21: =SUM(W18:W20) -> 0 | X21: =' B_Populations'!L12 -> 0 | Y21: =SUM(Y18:Y20) -> 0 | Z21: =' B_Populations'!N12 -> 0 | AA21: =SUM(AA18:AA20) -> 0 | AB21: =' B_Populations'!P12 -> 0 | AC21: =SUM(AC18:AC20) -> 0 | AD21: =' B_Populations'!R12 -> 0 | AE21: =SUM(AE18:AE20) -> 0 | AF21: =' B_Populations'!T12 -> 0 | AG21: =SUM(AG18:AG20) -> 0 | AJ21: =' B_Populations'!B18 -> 34710 | AK21: 1 | AM21: total | AN21: =SUM(AN18:AN20) -> 0 | AO21: =SUM(AO18:AO20) -> 0 | AP21: =SUM(AP18:AP20) -> 0 | AQ21: =SUM(AQ18:AQ20) -> 0 | AR21: =SUM(AR18:AR20) -> 0 | AS21: =SUM(AS18:AS20) -> 0 | AT21: =SUM(AT18:AT20) -> 0 | AU21: =SUM(AU18:AU20) -> 0 | ... AW21: =SUM(AW18:AW20) -> 0

Sheet E_Year 2
A1: Year 2 | B1: Data Input Tables Instructions: Please enter the actual Data Year in cell A1. Enter your Older Adult Falls-related injury data in the red cells below. The age-adjusted rates will automatically calculate in the results table. | F1: Use columns F through L to enter demographic data | N1: Optional: Unhide columns O through AK to show rate calculations and 2000 population weights | AI1: Columns AM through AV will then autogenerate age adjusted rates per 100,000 | AL1: Results Table Age Adjusted Rates per 100,1000. Results will calculate automatically.
D2: Sex Data | F2: Demographic Data | AM2: Age-adjusted Rates per 100,000 population
B3: Age | C3: Number of hospitalizations- Total | D3: Number of hospitalizations- Male | E3: Number of hospitalizations- Female | F3: =[1]Populations!I62 -> White-Not Hispanic | G3: =[1]Populations!K62 -> Hispanic | H3: =[1]Populations!M62 -> Black-Not Hispanic | I3: =[1]Populations!O62 -> Asian | J3: =[1]Populations!Q62 -> American Indian/Alaska Native | K3: =[1]Populations!S62 -> Other | L3: =[1]Populations!U62 -> Other | N3: State Population Total | O3: Rate | P3: Male | Q3: Rate | R3: Female | S3: Rate | T3: =[1]Populations!I62 -> White-Not Hispanic | U3: Rate | V3: =[1]Populations!K62 -> Hispanic | W3: Rate | X3: =[1]Populations!M62 -> Black-Not Hispanic | Y3: Rate | Z3: =[1]Populations!O62 -> Asian | AA3: Rate | AB3: =[1]Populations!Q62 -> American Indian/Alaska Native | AC3: Rate | AD3: =[1]Populations!S62 -> Other | AE3: Rate | AF3: =[1]Populations!U62 -> Other | AG3: Rate | AI3: 2000 Standard population - from "Populations" tab | AJ3: Weight | AL3: Age | AM3: Total | AN3: Male | AO3: Female | AP3: =[1]Populations!I62 -> White-Not Hispanic | AQ3: =[1]Populations!K62 -> Hispanic | AR3: =[1]Populations!M62 -> Black-Not Hispanic | AS3: =[1]Populations!O62 -> Asian | AT3: =[1]Populations!Q62 -> American Indian/Alaska Native | AU3: =[1]Populations!S62 -> Other | AV3: =[1]Populations!U62 -> Other
B4: =' B_Populations'!A9 -> 65-74 | N4: =' B_Populations'!B9 -> 0 | O4: =IF(N4=0,0,($C$4/$N$4)*100000) -> 0 | P4: =' B_Populations'!D9 -> 0 | Q4: =IF(P4=0,0,($D$4/$P$4)*100000) -> 0 | R4: =' B_Populations'!F9 -> 0 | S4: =IF(R4=0,0,($E$4/$R$4)*100000) -> 0 | T4: =' B_Populations'!H9 -> 0 | U4: =IF(T4=0,0,($F$4/$T$4)*100000) -> 0 | V4: =' B_Populations'!J9 -> 0 | W4: =IF(V4=0,0,($G$4/$V$4)*100000) -> 0 | X4: =' B_Populations'!L9 -> 0 | Y4: =IF(X4=0,0,($H$4/$X$4)*100000) -> 0 | Z4: =' B_Populations'!N9 -> 0 | AA4: =IF(Z4=0,0,($I$4/$Z$4)*100000) -> 0 | AB4: =' B_Populations'!P9 -> 0 | AC4: =IF(AB4=0,0,($J$4/$AB$4)*100000) -> 0 | AD4: =' B_Populations'!R9 -> 0 | AE4: =IF(AD4=0,0,($K$4/$AD$4)*100000) -> 0 | AF4: =' B_Populations'!T9 -> 0 | AG4: =IF(AF4=0,0,($L$4/$AF$4)*100000) -> 0 | AI4: =' B_Populations'!B15 -> 18136 | AJ4: 0.522501 | AL4: =' B_Populations'!A9 -> 65-74 | AM4: =O4*AJ4 -> 0 | AN4: =Q4*AJ4 -> 0 | AO4: =S4*AJ4 -> 0 | AP4: =U4*AJ4 -> 0 | AQ4: =W4*AJ4 -> 0 | AR4: =Y4*AJ4 -> 0 | AS4: =AA4*AJ4 -> 0 | AT4: =AC4*AJ4 -> 0 | AU4: =AE4*AJ4 -> 0 | AV4: =AG4*AJ4 -> 0
B5: =' B_Populations'!A10 -> 75-84 | N5: =' B_Populations'!B10 -> 0 | O5: =IF(N5=0,0,($C$5/$N$5)*100000) -> 0 | P5: =' B_Populations'!D10 -> 0 | Q5: =IF(P5=0,0,($D$5/$P$5)*100000) -> 0 | R5: =' B_Populations'!F10 -> 0 | S5: =IF(R5=0,0,($E$5/$R$5)*100000) -> 0 | T5: =' B_Populations'!H10 -> 0 | U5: =IF(T5=0,0,($F$5/$T$5)*100000) -> 0 | V5: =' B_Populations'!J10 -> 0 | W5: =IF(V5=0,0,($G$5/$V$5)*100000) -> 0 | X5: =' B_Populations'!L10 -> 0 | Y5: =IF(X5=0,0,($G$5/$X$5)*100000) -> 0 | Z5: =' B_Populations'!N10 -> 0 | AA5: =IF(Z5=0,0,($I$5/$Z$5)*100000) -> 0 | AB5: =' B_Populations'!P10 -> 0 | AC5: =IF(AB5=0,0,($J$5/$AB$5)*100000) -> 0 | AD5: =' B_Populations'!R10 -> 0 | AE5: =IF(AD5=0,0,($K$5/$AD$5)*100000) -> 0 | AF5: =' B_Populations'!T10 -> 0 | AG5: =IF(AF5=0,0,($L$5/$AF$5)*100000) -> 0 | AI5: =' B_Populations'!B16 -> 12315 | AJ5: 0.354797 | AL5: =' B_Populations'!A10 -> 75-84 | AM5: =O5*AJ5 -> 0 | AN5: =Q5*AJ5 -> 0 | AO5: =S5*AJ5 -> 0 | AP5: =U5*AJ5 -> 0 | AQ5: =W5*AJ5 -> 0 | AR5: =Y5*AJ5 -> 0 | AS5: =AA5*AJ5 -> 0 | AT5: =AC5*AJ5 -> 0 | AU5: =AE5*AJ5 -> 0 | AV5: =AG5*AJ5 -> 0
B6: =' B_Populations'!A11 -> 85+ | N6: =' B_Populations'!B11 -> 0 | O6: =IF(N6=0,0,($C$6/$N$6)*100000) -> 0 | P6: =' B_Populations'!D11 -> 0 | Q6: =IF(P6=0,0,($D$6/$P$6)*100000) -> 0 | R6: =' B_Populations'!F11 -> 0 | S6: =IF(R6=0,0,($E$6/$R$6)*100000) -> 0 | T6: =' B_Populations'!H11 -> 0 | U6: =IF(T6=0,0,($F$6/$T$6)*100000) -> 0 | V6: =' B_Populations'!J11 -> 0 | W6: =IF(V6=0,0,($G$6/$V$6)*100000) -> 0 | X6: =' B_Populations'!L11 -> 0 | Y6: =IF(X6=0,0,($G$6/$X$6)*100000) -> 0 | Z6: =' B_Populations'!N11 -> 0 | AA6: =IF(Z6=0,0,($I$6/$Z$6)*100000) -> 0 | AB6: =' B_Populations'!P11 -> 0 | AC6: =IF(AB6=0,0,($J$6/$AB$6)*100000) -> 0 | AD6: =' B_Populations'!R11 -> 0 | AE6: =IF(AD6=0,0,($K$6/$AD$6)*100000) -> 0 | AF6: =' B_Populations'!T11 -> 0 | AG6: =IF(AF6=0,0,($L$6/$AF$6)*100000) -> 0 | AI6: =' B_Populations'!B17 -> 4259 | AJ6: 0.122702 | AL6: =' B_Populations'!A11 -> 85+ | AM6: =O6*AJ6 -> 0 | AN6: =Q6*AJ6 -> 0 | AO6: =S6*AJ6 -> 0 | AP6: =U6*AJ6 -> 0 | AQ6: =W6*AJ6 -> 0 | AR6: =Y6*AJ6 -> 0 | AS6: =AA6*AJ6 -> 0 | AT6: =AC6*AJ6 -> 0 | AU6: =AE6*AJ6 -> 0 | AV6: =AG6*AJ6 -> 0
B7: total | C7: =SUM(C4:C6) -> 0 | D7: =SUM(D4:D6) -> 0 | E7: =SUM(E4:E6) -> 0 | F7: =SUM(F4:F6) -> 0 | G7: =SUM(G4:G6) -> 0 | H7: =SUM(H4:H6) -> 0 | I7: =SUM(I4:I6) -> 0 | J7: =SUM(J4:J6) -> 0 | ... L7: =SUM(L4:L6) -> 0 | N7: =' B_Populations'!B12 -> 0 | O7: =SUM(O4:O6) -> 0 | P7: =' B_Populations'!D12 -> 0 | Q7: =SUM(Q4:Q6) -> 0 | R7: =' B_Populations'!F12 -> 0 | S7: =SUM(S4:S6) -> 0 | T7: =' B_Populations'!H12 -> 0 | U7: =SUM(U4:U6) -> 0 | V7: =' B_Populations'!J12 -> 0 | W7: =SUM(W4:W6) -> 0 | X7: =' B_Populations'!L12 -> 0 | Y7: =SUM(Y4:Y6) -> 0 | Z7: =' B_Populations'!N12 -> 0 | AA7: =SUM(AA4:AA6) -> 0 | AB7: =' B_Populations'!P12 -> 0 | AC7: =SUM(AC4:AC6) -> 0 | AD7: =' B_Populations'!R12 -> 0 | AE7: =SUM(AE4:AE6) -> 0 | AF7: =' B_Populations'!T12 -> 0 | AG7: =SUM(AG4:AG6) -> 0 | AI7: =' B_Populations'!B18 -> 34710 | AJ7: 1 | AL7: =[1]Populations!B22 -> Total | AM7: =SUM(AM4:AM6) -> 0 | AN7: =SUM(AN4:AN6) -> 0 | AO7: =SUM(AO4:AO6) -> 0 | AP7: =SUM(AP4:AP6) -> 0 | AQ7: =SUM(AQ4:AQ6) -> 0 | AR7: =SUM(AR4:AR6) -> 0 | AS7: =SUM(AS4:AS6) -> 0 | AT7: =SUM(AT4:AT6) -> 0 | ... AV7: =SUM(AV4:AV6) -> 0
D9: Sex Data | F9: Demographic Data | AM9: Age-adjusted Rates per 100,000 population
B10: Age | C10: Number of ED visits- Total | D10: Number of ED visits- Male | E10: Number of ED visits- Female | F10: =[1]Populations!I62 -> White-Not Hispanic | G10: =[1]Populations!K62 -> Hispanic | H10: =[1]Populations!M62 -> Black-Not Hispanic | I10: =[1]Populations!O62 -> Asian | J10: =[1]Populations!Q62 -> American Indian/Alaska Native | K10: =[1]Populations!S62 -> Other | L10: =[1]Populations!U62 -> Other | N10: State Population Total | O10: Rate | P10: Male | Q10: Rate | R10: Female | S10: Rate | T10: =[1]Populations!I62 -> White-Not Hispanic | U10: Rate | V10: =[1]Populations!K62 -> Hispanic | W10: Rate | X10: =[1]Populations!M62 -> Black-Not Hispanic | Y10: Rate | Z10: =[1]Populations!O62 -> Asian | AA10: Rate | AB10: =[1]Populations!Q62 -> American Indian/Alaska Native | AC10: Rate | AD10: =[1]Populations!S62 -> Other | AE10: Rate | AF10: =[1]Populations!U62 -> Other | AG10: Rate | AI10: 2000 Standard population - from "Populations" tab | AJ10: Weight | AL10: Age | AM10: Total | AN10: Male | AO10: Female | AP10: =[1]Populations!I62 -> White-Not Hispanic | AQ10: =[1]Populations!K62 -> Hispanic | AR10: =[1]Populations!M62 -> Black-Not Hispanic | AS10: =[1]Populations!O62 -> Asian | AT10: =[1]Populations!Q62 -> American Indian/Alaska Native | AU10: =[1]Populations!S62 -> Other | AV10: =[1]Populations!U62 -> Other
B11: =' B_Populations'!A9 -> 65-74 | N11: =' B_Populations'!B9 -> 0 | O11: =IF(N11=0,0,($C$11/$N$11)*100000) -> 0 | P11: =' B_Populations'!D9 -> 0 | Q11: =IF(P11=0,0,($D$11/$P$11)*100000) -> 0 | R11: =' B_Populations'!F9 -> 0 | S11: =IF(R11=0,0,($E$11/$R$11)*100000) -> 0 | T11: =' B_Populations'!H9 -> 0 | U11: =IF(T11=0,0,($F$11/$T$11)*100000) -> 0 | V11: =' B_Populations'!J9 -> 0 | W11: =IF(V11=0,0,($G$11/$V$11)*100000) -> 0 | X11: =' B_Populations'!L9 -> 0 | Y11: =IF(X11=0,0,($H$11/$X$11)*100000) -> 0 | Z11: =' B_Populations'!N9 -> 0 | AA11: =IF(Z11=0,0,($I$11/$Z$11)*100000) -> 0 | AB11: =' B_Populations'!P9 -> 0 | AC11: =IF(AB11=0,0,($J$11/$AB$11)*100000) -> 0 | AD11: =' B_Populations'!R9 -> 0 | AE11: =IF(AD11=0,0,($K$11/$AD$11)*100000) -> 0 | AF11: =' B_Populations'!T9 -> 0 | AG11: =IF(AF11=0,0,($L$11/$AF$11)*100000) -> 0 | AI11: =' B_Populations'!B15 -> 18136 | AJ11: 0.522501 | AL11: =' B_Populations'!A9 -> 65-74 | AM11: =O11*AJ11 -> 0 | AN11: =Q11*AJ11 -> 0 | AO11: =S11*AJ11 -> 0 | AP11: =U11*AJ11 -> 0 | AQ11: =W11*AJ11 -> 0 | AR11: =Y11*AJ11 -> 0 | AS11: =AA11*AJ11 -> 0 | AT11: =AC11*AJ11 -> 0 | AU11: =AE11*AJ11 -> 0 | AV11: =AG11*AJ11 -> 0
B12: =' B_Populations'!A10 -> 75-84 | N12: =' B_Populations'!B10 -> 0 | O12: =IF(N12=0,0,($C$12/$N$12)*100000) -> 0 | P12: =' B_Populations'!D10 -> 0 | Q12: =IF(P12=0,0,($D$12/$P$12)*100000) -> 0 | R12: =' B_Populations'!F10 -> 0 | S12: =IF(R12=0,0,($E$12/$R$12)*100000) -> 0 | T12: =' B_Populations'!H10 -> 0 | U12: =IF(T12=0,0,($F$12/$T$12)*100000) -> 0 | V12: =' B_Populations'!J10 -> 0 | W12: =IF(V12=0,0,($G$12/$V$12)*100000) -> 0 | X12: =' B_Populations'!L10 -> 0 | Y12: =IF(X12=0,0,($H$12/$X$12)*100000) -> 0 | Z12: =' B_Populations'!N10 -> 0 | AA12: =IF(Z12=0,0,($I$12/$Z$12)*100000) -> 0 | AB12: =' B_Populations'!P10 -> 0 | AC12: =IF(AB12=0,0,($J$12/$AB$12)*100000) -> 0 | AD12: =' B_Populations'!R10 -> 0 | AE12: =IF(AD12=0,0,($K$12/$AD$12)*100000) -> 0 | AF12: =' B_Populations'!T10 -> 0 | AG12: =IF(AF12=0,0,($L$12/$AF$12)*100000) -> 0 | AI12: =' B_Populations'!B16 -> 12315 | AJ12: 0.354797 | AL12: =' B_Populations'!A10 -> 75-84 | AM12: =O12*AJ12 -> 0 | AN12: =Q12*AJ12 -> 0 | AO12: =S12*AJ12 -> 0 | AP12: =U12*AJ12 -> 0 | AQ12: =W12*AJ12 -> 0 | AR12: =Y12*AJ12 -> 0 | AS12: =AA12*AJ12 -> 0 | AT12: =AC12*AJ12 -> 0 | AU12: =AE12*AJ12 -> 0 | AV12: =AG12*AJ12 -> 0
B13: =' B_Populations'!A11 -> 85+ | N13: =' B_Populations'!B11 -> 0 | O13: =IF(N13=0,0,($C$13/$N$13)*100000) -> 0 | P13: =' B_Populations'!D11 -> 0 | Q13: =IF(P13=0,0,($D$13/$P$13)*100000) -> 0 | R13: =' B_Populations'!F11 -> 0 | S13: =IF(R13=0,0,($E$13/$R$13)*100000) -> 0 | T13: =' B_Populations'!H11 -> 0 | U13: =IF(T13=0,0,($F$13/$T$13)*100000) -> 0 | V13: =' B_Populations'!J11 -> 0 | W13: =IF(V13=0,0,($G$13/$V$13)*100000) -> 0 | X13: =' B_Populations'!L11 -> 0 | Y13: =IF(X13=0,0,($H$13/$X$13)*100000) -> 0 | Z13: =' B_Populations'!N11 -> 0 | AA13: =IF(Z13=0,0,($I$13/$Z$13)*100000) -> 0 | AB13: =' B_Populations'!P11 -> 0 | AC13: =IF(AB13=0,0,($J$13/$AB$13)*100000) -> 0 | AD13: =' B_Populations'!R11 -> 0 | AE13: =IF(AD13=0,0,($K$13/$AD$13)*100000) -> 0 | AF13: =' B_Populations'!T11 -> 0 | AG13: =IF(AF13=0,0,($L$13/$AF$13)*100000) -> 0 | AI13: =' B_Populations'!B17 -> 4259 | AJ13: 0.122702 | AL13: =' B_Populations'!A11 -> 85+ | AM13: =O13*AJ13 -> 0 | AN13: =Q13*AJ13 -> 0 | AO13: =S13*AJ13 -> 0 | AP13: =U13*AJ13 -> 0 | AQ13: =W13*AJ13 -> 0 | AR13: =Y13*AJ13 -> 0 | AS13: =AA13*AJ13 -> 0 | AT13: =AC13*AJ13 -> 0 | AU13: =AE13*AJ13 -> 0 | AV13: =AG13*AJ13 -> 0
B14: total | C14: =SUM(C11:C13) -> 0 | D14: =SUM(D11:D13) -> 0 | E14: =SUM(E11:E13) -> 0 | F14: =SUM(F11:F13) -> 0 | G14: =SUM(G11:G13) -> 0 | H14: =SUM(H11:H13) -> 0 | I14: =SUM(I11:I13) -> 0 | J14: =SUM(J11:J13) -> 0 | ... L14: =SUM(L11:L13) -> 0 | N14: =' B_Populations'!B12 -> 0 | O14: =SUM(O11:O13) -> 0 | P14: =' B_Populations'!D12 -> 0 | Q14: =SUM(Q11:Q13) -> 0 | R14: =' B_Populations'!F12 -> 0 | S14: =SUM(S11:S13) -> 0 | T14: =' B_Populations'!H12 -> 0 | U14: =SUM(U11:U13) -> 0 | V14: =' B_Populations'!J12 -> 0 | W14: =SUM(W11:W13) -> 0 | X14: =' B_Populations'!L12 -> 0 | Y14: =SUM(Y11:Y13) -> 0 | Z14: =' B_Populations'!N12 -> 0 | AA14: =SUM(AA11:AA13) -> 0 | AB14: =' B_Populations'!P12 -> 0 | AC14: =SUM(AC11:AC13) -> 0 | AD14: =' B_Populations'!R12 -> 0 | AE14: =SUM(AE11:AE13) -> 0 | AF14: =' B_Populations'!T12 -> 0 | AG14: =SUM(AG11:AG13) -> 0 | AI14: =' B_Populations'!B18 -> 34710 | AJ14: 1 | AL14: =[1]Populations!B22 -> Total | AM14: =SUM(AM11:AM13) -> 0 | AN14: =SUM(AN11:AN13) -> 0 | AO14: =SUM(AO11:AO13) -> 0 | AP14: =SUM(AP11:AP13) -> 0 | AQ14: =SUM(AQ11:AQ13) -> 0 | AR14: =SUM(AR11:AR13) -> 0 | AS14: =SUM(AS11:AS13) -> 0 | AT14: =SUM(AT11:AT13) -> 0 | ... AV14: =SUM(AV11:AV13) -> 0
D16: Sex Data | F16: Demographic Data | AM16: Age-adjusted Rates per 100,000 population
B17: Age | C17: Number of deaths- Total | D17: Number of deaths- Male | E17: Number of deaths- Female | F17: =[1]Populations!I62 -> White-Not Hispanic | G17: =[1]Populations!K62 -> Hispanic | H17: =[1]Populations!M62 -> Black-Not Hispanic | I17: =[1]Populations!O62 -> Asian | J17: =[1]Populations!Q62 -> American Indian/Alaska Native | K17: =[1]Populations!S62 -> Other | L17: =[1]Populations!U62 -> Other | N17: State Population Total | O17: Rate | P17: Male | Q17: Rate | R17: Female | S17: Rate | T17: =[1]Populations!I62 -> White-Not Hispanic | U17: Rate | V17: =[1]Populations!K62 -> Hispanic | W17: Rate | X17: =[1]Populations!M62 -> Black-Not Hispanic | Y17: Rate | Z17: =[1]Populations!O62 -> Asian | AA17: Rate | AB17: =[1]Populations!Q62 -> American Indian/Alaska Native | AC17: Rate | AD17: =[1]Populations!S62 -> Other | AE17: Rate | AF17: =[1]Populations!U62 -> Other | AG17: Rate | AI17: 2000 Standard population - from "Populations" tab | AJ17: Weight | AL17: Age | AM17: Total | AN17: Male | AO17: Female | AP17: =[1]Populations!I62 -> White-Not Hispanic | AQ17: =[1]Populations!K62 -> Hispanic | AR17: =[1]Populations!M62 -> Black-Not Hispanic | AS17: =[1]Populations!O62 -> Asian | AT17: =[1]Populations!Q62 -> American Indian/Alaska Native | AU17: =[1]Populations!S62 -> Other | AV17: =[1]Populations!U62 -> Other
B18: =' B_Populations'!A9 -> 65-74 | N18: =' B_Populations'!B9 -> 0 | O18: =IF(N18=0,0,($C$18/$N$18)*100000) -> 0 | P18: =' B_Populations'!D9 -> 0 | Q18: =IF(P18=0,0,($D$18/$P$18)*100000) -> 0 | R18: =' B_Populations'!F9 -> 0 | S18: =IF(R18=0,0,($E$18/$R$18)*100000) -> 0 | T18: =' B_Populations'!H9 -> 0 | U18: =IF(T18=0,0,($F$18/$T$18)*100000) -> 0 | V18: =' B_Populations'!J9 -> 0 | W18: =IF(V18=0,0,($G$18/$V$18)*100000) -> 0 | X18: =' B_Populations'!L9 -> 0 | Y18: =IF(X18=0,0,($H$18/$X$18)*100000) -> 0 | Z18: =' B_Populations'!N9 -> 0 | AA18: =IF(Z18=0,0,($I$18/$Z$18)*100000) -> 0 | AB18: =' B_Populations'!P9 -> 0 | AC18: =IF(AB18=0,0,($J$18/$AB$18)*100000) -> 0 | AD18: =' B_Populations'!R9 -> 0 | AE18: =IF(AD18=0,0,($K$18/$AD$18)*100000) -> 0 | AF18: =' B_Populations'!T9 -> 0 | AG18: =IF(AF18=0,0,($L$18/$AF$18)*100000) -> 0 | AI18: =' B_Populations'!B15 -> 18136 | AJ18: 0.522501 | AL18: =' B_Populations'!A9 -> 65-74 | AM18: =O18*AJ18 -> 0 | AN18: =Q18*AJ18 -> 0 | AO18: =S18*AJ18 -> 0 | AP18: =U18*AJ18 -> 0 | AQ18: =W18*AJ18 -> 0 | AR18: =Y18*AJ18 -> 0 | AS18: =AA18*AJ18 -> 0 | AT18: =AC18*AJ18 -> 0 | AU18: =AE18*AJ18 -> 0 | AV18: =AG18*AJ18 -> 0
B19: =' B_Populations'!A10 -> 75-84 | N19: =' B_Populations'!B10 -> 0 | O19: =IF(N19=0,0,($C$19/$N$19)*100000) -> 0 | P19: =' B_Populations'!D10 -> 0 | Q19: =IF(P19=0,0,($D$19/$P$19)*100000) -> 0 | R19: =' B_Populations'!F10 -> 0 | S19: =IF(R19=0,0,($E$19/$R$19)*100000) -> 0 | T19: =' B_Populations'!H10 -> 0 | U19: =IF(T19=0,0,($F$19/$T$19)*100000) -> 0 | V19: =' B_Populations'!J10 -> 0 | W19: =IF(V19=0,0,($G$19/$V$19)*100000) -> 0 | X19: =' B_Populations'!L10 -> 0 | Y19: =IF(X19=0,0,($H$19/$X$19)*100000) -> 0 | Z19: =' B_Populations'!N10 -> 0 | AA19: =IF(Z19=0,0,($I$19/$Z$19)*100000) -> 0 | AB19: =' B_Populations'!P10 -> 0 | AC19: =IF(AB19=0,0,($J$19/$AB$19)*100000) -> 0 | AD19: =' B_Populations'!R10 -> 0 | AE19: =IF(AD19=0,0,($K$19/$AD$19)*100000) -> 0 | AF19: =' B_Populations'!T10 -> 0 | AG19: =IF(AF19=0,0,($L$19/$AF$19)*100000) -> 0 | AI19: =' B_Populations'!B16 -> 12315 | AJ19: 0.354797 | AL19: =' B_Populations'!A10 -> 75-84 | AM19: =O19*AJ19 -> 0 | AN19: =Q19*AJ19 -> 0 | AO19: =S19*AJ19 -> 0 | AP19: =U19*AJ19 -> 0 | AQ19: =W19*AJ19 -> 0 | AR19: =Y19*AJ19 -> 0 | AS19: =AA19*AJ19 -> 0 | AT19: =AC19*AJ19 -> 0 | AU19: =AE19*AJ19 -> 0 | AV19: =AG19*AJ19 -> 0
B20: =' B_Populations'!A11 -> 85+ | N20: =' B_Populations'!B11 -> 0 | O20: =IF(N20=0,0,($C$20/$N$20)*100000) -> 0 | P20: =' B_Populations'!D11 -> 0 | Q20: =IF(P20=0,0,($D$20/$P$20)*100000) -> 0 | R20: =' B_Populations'!F11 -> 0 | S20: =IF(R20=0,0,($E$20/$R$20)*100000) -> 0 | T20: =' B_Populations'!H11 -> 0 | U20: =IF(T20=0,0,($F$20/$T$20)*100000) -> 0 | V20: =' B_Populations'!J11 -> 0 | W20: =IF(V20=0,0,($G$20/$V$20)*100000) -> 0 | X20: =' B_Populations'!L11 -> 0 | Y20: =IF(X20=0,0,($H$20/$X$20)*100000) -> 0 | Z20: =' B_Populations'!N11 -> 0 | AA20: =IF(Z20=0,0,($I$20/$Z$20)*100000) -> 0 | AB20: =' B_Populations'!P11 -> 0 | AC20: =IF(AB20=0,0,($J$20/$AB$20)*100000) -> 0 | AD20: =' B_Populations'!R11 -> 0 | AE20: =IF(AD20=0,0,($K$20/$AD$20)*100000) -> 0 | AF20: =' B_Populations'!T11 -> 0 | AG20: =IF(AF20=0,0,($L$20/$AF$20)*100000) -> 0 | AI20: =' B_Populations'!B17 -> 4259 | AJ20: 0.122702 | AL20: =' B_Populations'!A11 -> 85+ | AM20: =O20*AJ20 -> 0 | AN20: =Q20*AJ20 -> 0 | AO20: =S20*AJ20 -> 0 | AP20: =U20*AJ20 -> 0 | AQ20: =W20*AJ20 -> 0 | AR20: =Y20*AJ20 -> 0 | AS20: =AA20*AJ20 -> 0 | AT20: =AC20*AJ20 -> 0 | AU20: =AE20*AJ20 -> 0 | AV20: =AG20*AJ20 -> 0
B21: total | C21: =SUM(C18:C20) -> 0 | D21: =SUM(D18:D20) -> 0 | E21: =SUM(E18:E20) -> 0 | F21: =SUM(F18:F20) -> 0 | G21: =SUM(G18:G20) -> 0 | H21: =SUM(H18:H20) -> 0 | I21: =SUM(I18:I20) -> 0 | J21: =SUM(J18:J20) -> 0 | ... L21: =SUM(L18:L20) -> 0 | N21: =' B_Populations'!B12 -> 0 | O21: =SUM(O18:O20) -> 0 | P21: =' B_Populations'!D12 -> 0 | Q21: =SUM(Q18:Q20) -> 0 | R21: =' B_Populations'!F12 -> 0 | S21: =SUM(S18:S20) -> 0 | T21: =' B_Populations'!H12 -> 0 | U21: =SUM(U18:U20) -> 0 | V21: =' B_Populations'!J12 -> 0 | W21: =SUM(W18:W20) -> 0 | X21: =' B_Populations'!L12 -> 0 | Y21: =SUM(Y18:Y20) -> 0 | Z21: =' B_Populations'!N12 -> 0 | AA21: =SUM(AA18:AA20) -> 0 | AB21: =' B_Populations'!P12 -> 0 | AC21: =SUM(AC18:AC20) -> 0 | AD21: =' B_Populations'!R12 -> 0 | AE21: =SUM(AE18:AE20) -> 0 | AF21: =' B_Populations'!T12 -> 0 | AG21: =SUM(AG18:AG20) -> 0 | AI21: =' B_Populations'!B18 -> 34710 | AJ21: 1 | AL21: =[1]Populations!B22 -> Total | AM21: =SUM(AM18:AM20) -> 0 | AN21: =SUM(AN18:AN20) -> 0 | AO21: =SUM(AO18:AO20) -> 0 | AP21: =SUM(AP18:AP20) -> 0 | AQ21: =SUM(AQ18:AQ20) -> 0 | AR21: =SUM(AR18:AR20) -> 0 | AS21: =SUM(AS18:AS20) -> 0 | AT21: =SUM(AT18:AT20) -> 0 | ... AV21: =SUM(AV18:AV20) -> 0

Sheet F_Year 3
A1: Year 3 | B1: Data Input Tables Instructions: Please enter the actual Data Year in cell A1. Enter your Older Adult Falls-related injury data in the red cells below. The age-adjusted rates will automatically calculate in the results table. | F1: Use columns F through L to enter demographic data | N1: Optional: Unhide columns O through AK to show rate calculations and 2000 population weights | AI1: Enter 2000 State population by age group. Columns AM through AV will then autogenerate age adjusted rates per 100,000 | AL1: Results Table Age Adjusted Rates per 100,1000. Results will calculate automatically.
D2: Sex Data | F2: Demographic Data | AM2: Age-adjusted Rates per 100,000 population
B3: Age | C3: Number of hospitalizations- Total | D3: Number of hospitalizations- Male | E3: Number of hospitalizations- Female | F3: =[1]Populations!I44 -> White-Not Hispanic | G3: =[1]Populations!K44 -> Hispanic | H3: =[1]Populations!M44 -> Black-Not Hispanic | I3: =[1]Populations!O44 -> Asian | J3: =[1]Populations!Q44 -> American Indian/Alaska Native | K3: =[1]Populations!S44 -> Other | L3: =[1]Populations!U44 -> Other | N3: State Population Total | O3: Rate | P3: =[1]Populations!E44 -> Male | Q3: Rate | R3: =[1]Populations!G44 -> Female | S3: Rate | T3: =[1]Populations!I44 -> White-Not Hispanic | U3: Rate | V3: =[1]Populations!K44 -> Hispanic | W3: Rate | X3: =[1]Populations!M44 -> Black-Not Hispanic | Y3: Rate | Z3: =[1]Populations!O44 -> Asian | AA3: Rate | AB3: =[1]Populations!Q44 -> American Indian/Alaska Native | AC3: Rate | AD3: =[1]Populations!S44 -> Other | AE3: Rate | AF3: =[1]Populations!U44 -> Other | AG3: Rate | AI3: 2000 Standard population - from "Populations" tab | AJ3: Weight | AL3: Age | AM3: Total | AN3: Male | AO3: Female | AP3: =[1]Populations!I44 -> White-Not Hispanic | AQ3: =[1]Populations!K44 -> Hispanic | AR3: =[1]Populations!M44 -> Black-Not Hispanic | AS3: =[1]Populations!O44 -> Asian | AT3: =[1]Populations!Q44 -> American Indian/Alaska Native | AU3: =[1]Populations!S44 -> Other | AV3: =[1]Populations!U44 -> Other
B4: =' B_Populations'!A9 -> 65-74 | N4: =' B_Populations'!B9 -> 0 | O4: =IF(N4=0,0,($C$4/$N$4)*100000) -> 0 | P4: =' B_Populations'!D9 -> 0 | Q4: =IF(P4=0,0,($D$4/$P$4)*100000) -> 0 | R4: =' B_Populations'!F9 -> 0 | S4: =IF(R4=0,0,($E$4/$R$4)*100000) -> 0 | T4: =' B_Populations'!H9 -> 0 | U4: =IF(T4=0,0,($F$4/$T$4)*100000) -> 0 | V4: =' B_Populations'!J9 -> 0 | W4: =IF(V4=0,0,($G$4/$V$4)*100000) -> 0 | X4: =' B_Populations'!L9 -> 0 | Y4: =IF(X4=0,0,($H$4/$X$4)*100000) -> 0 | Z4: =' B_Populations'!N9 -> 0 | AA4: =IF(Z4=0,0,($I$4/$Z$4)*100000) -> 0 | AB4: =' B_Populations'!P9 -> 0 | AC4: =IF(AB4=0,0,($J$4/$AB$4)*100000) -> 0 | AD4: =' B_Populations'!R9 -> 0 | AE4: =IF(AD4=0,0,($K$4/$AD$4)*100000) -> 0 | AF4: =' B_Populations'!T9 -> 0 | AG4: =IF(AF4=0,0,($L$4/$AF$4)*100000) -> 0 | AI4: =' B_Populations'!B15 -> 18136 | AJ4: 0.522501 | AL4: =' B_Populations'!A9 -> 65-74 | AM4: =O4*AJ4 -> 0 | AN4: =Q4*AJ4 -> 0 | AO4: =S4*AJ4 -> 0 | AP4: =U4*AJ4 -> 0 | AQ4: =W4*AJ4 -> 0 | AR4: =Y4*AJ4 -> 0 | AS4: =AA4*AJ4 -> 0 | AT4: =AC4*AJ4 -> 0 | AU4: =AE4*AJ4 -> 0 | AV4: =AG4*AJ4 -> 0
B5: =' B_Populations'!A10 -> 75-84 | N5: =' B_Populations'!B10 -> 0 | O5: =IF(N5=0,0,($C$5/$N$5)*100000) -> 0 | P5: =' B_Populations'!D10 -> 0 | Q5: =IF(P5=0,0,($D$5/$P$5)*100000) -> 0 | R5: =' B_Populations'!F10 -> 0 | S5: =IF(R5=0,0,($E$5/$R$5)*100000) -> 0 | T5: =' B_Populations'!H10 -> 0 | U5: =IF(T5=0,0,($F$5/$T$5)*100000) -> 0 | V5: =' B_Populations'!J10 -> 0 | W5: =IF(V5=0,0,($G$5/$V$5)*100000) -> 0 | X5: =' B_Populations'!L10 -> 0 | Y5: =IF(X5=0,0,($G$5/$X$5)*100000) -> 0 | Z5: =' B_Populations'!N10 -> 0 | AA5: =IF(Z5=0,0,($I$5/$Z$5)*100000) -> 0 | AB5: =' B_Populations'!P10 -> 0 | AC5: =IF(AB5=0,0,($J$5/$AB$5)*100000) -> 0 | AD5: =' B_Populations'!R10 -> 0 | AE5: =IF(AD5=0,0,($K$5/$AD$5)*100000) -> 0 | AF5: =' B_Populations'!T10 -> 0 | AG5: =IF(AF5=0,0,($L$5/$AF$5)*100000) -> 0 | AI5: =' B_Populations'!B16 -> 12315 | AJ5: 0.354797 | AL5: =' B_Populations'!A10 -> 75-84 | AM5: =O5*AJ5 -> 0 | AN5: =Q5*AJ5 -> 0 | AO5: =S5*AJ5 -> 0 | AP5: =U5*AJ5 -> 0 | AQ5: =W5*AJ5 -> 0 | AR5: =Y5*AJ5 -> 0 | AS5: =AA5*AJ5 -> 0 | AT5: =AC5*AJ5 -> 0 | AU5: =AE5*AJ5 -> 0 | AV5: =AG5*AJ5 -> 0
B6: =' B_Populations'!A11 -> 85+ | N6: =' B_Populations'!B11 -> 0 | O6: =IF(N6=0,0,($C$6/$N$6)*100000) -> 0 | P6: =' B_Populations'!D11 -> 0 | Q6: =IF(P6=0,0,($D$6/$P$6)*100000) -> 0 | R6: =' B_Populations'!F11 -> 0 | S6: =IF(R6=0,0,($E$6/$R$6)*100000) -> 0 | T6: =' B_Populations'!H11 -> 0 | U6: =IF(T6=0,0,($F$6/$T$6)*100000) -> 0 | V6: =' B_Populations'!J11 -> 0 | W6: =IF(V6=0,0,($G$6/$V$6)*100000) -> 0 | X6: =' B_Populations'!L11 -> 0 | Y6: =IF(X6=0,0,($G$6/$X$6)*100000) -> 0 | Z6: =' B_Populations'!N11 -> 0 | AA6: =IF(Z6=0,0,($I$6/$Z$6)*100000) -> 0 | AB6: =' B_Populations'!P11 -> 0 | AC6: =IF(AB6=0,0,($J$6/$AB$6)*100000) -> 0 | AD6: =' B_Populations'!R11 -> 0 | AE6: =IF(AD6=0,0,($K$6/$AD$6)*100000) -> 0 | AF6: =' B_Populations'!T11 -> 0 | AG6: =IF(AF6=0,0,($L$6/$AF$6)*100000) -> 0 | AI6: =' B_Populations'!B17 -> 4259 | AJ6: 0.122702 | AL6: =' B_Populations'!A11 -> 85+ | AM6: =O6*AJ6 -> 0 | AN6: =Q6*AJ6 -> 0 | AO6: =S6*AJ6 -> 0 | AP6: =U6*AJ6 -> 0 | AQ6: =W6*AJ6 -> 0 | AR6: =Y6*AJ6 -> 0 | AS6: =AA6*AJ6 -> 0 | AT6: =AC6*AJ6 -> 0 | AU6: =AE6*AJ6 -> 0 | AV6: =AG6*AJ6 -> 0
B7: total | C7: =SUM(C4:C6) -> 0 | D7: =SUM(D4:D6) -> 0 | E7: =SUM(E4:E6) -> 0 | F7: =SUM(F4:F6) -> 0 | G7: =SUM(G4:G6) -> 0 | H7: =SUM(H4:H6) -> 0 | I7: =SUM(I4:I6) -> 0 | J7: =SUM(J4:J6) -> 0 | ... L7: =SUM(L4:L6) -> 0 | N7: =' B_Populations'!B12 -> 0 | O7: =SUM(O4:O6) -> 0 | P7: =' B_Populations'!D12 -> 0 | Q7: =SUM(Q4:Q6) -> 0 | R7: =' B_Populations'!F12 -> 0 | S7: =SUM(S4:S6) -> 0 | T7: =' B_Populations'!H12 -> 0 | U7: =SUM(U4:U6) -> 0 | V7: =' B_Populations'!J12 -> 0 | W7: =SUM(W4:W6) -> 0 | X7: =' B_Populations'!L12 -> 0 | Y7: =SUM(Y4:Y6) -> 0 | Z7: =' B_Populations'!N12 -> 0 | AA7: =SUM(AA4:AA6) -> 0 | AB7: =' B_Populations'!P12 -> 0 | AC7: =SUM(AC4:AC6) -> 0 | AD7: =' B_Populations'!R12 -> 0 | AE7: =SUM(AE4:AE6) -> 0 | AF7: =' B_Populations'!T12 -> 0 | AG7: =SUM(AG4:AG6) -> 0 | AI7: =' B_Populations'!B18 -> 34710 | AJ7: 1 | AL7: Total | AM7: =SUM(AM4:AM6) -> 0 | AN7: =SUM(AN4:AN6) -> 0 | AO7: =SUM(AO4:AO6) -> 0 | AP7: =SUM(AP4:AP6) -> 0 | AQ7: =SUM(AQ4:AQ6) -> 0 | AR7: =SUM(AR4:AR6) -> 0 | AS7: =SUM(AS4:AS6) -> 0 | AT7: =SUM(AT4:AT6) -> 0 | ... AV7: =SUM(AV4:AV6) -> 0
D9: Sex Data | F9: Demographic Data | AM9: Age-adjusted Rates per 100,000 population
B10: Age | C10: Number of ED visits- Total | D10: Number of ED visits- Male | E10: Number of ED visits- Female | F10: =[1]Populations!I44 -> White-Not Hispanic | G10: =[1]Populations!K44 -> Hispanic | H10: =[1]Populations!M44 -> Black-Not Hispanic | I10: =[1]Populations!O44 -> Asian | J10: =[1]Populations!Q44 -> American Indian/Alaska Native | K10: =[1]Populations!S44 -> Other | L10: =[1]Populations!U44 -> Other | N10: State Population Total | O10: Rate | P10: =[1]Populations!E44 -> Male | Q10: Rate | R10: =[1]Populations!G44 -> Female | S10: Rate | T10: =[1]Populations!I44 -> White-Not Hispanic | U10: Rate | V10: =[1]Populations!K44 -> Hispanic | W10: Rate | X10: =[1]Populations!M44 -> Black-Not Hispanic | Y10: Rate | Z10: =[1]Populations!O44 -> Asian | AA10: Rate | AB10: =[1]Populations!Q44 -> American Indian/Alaska Native | AC10: Rate | AD10: =[1]Populations!S44 -> Other | AE10: Rate | AF10: =[1]Populations!U44 -> Other | AG10: Rate | AI10: 2000 Standard population - from "Populations" tab | AJ10: Weight | AL10: Age | AM10: Total | AN10: Male | AO10: Female | AP10: =[1]Populations!I44 -> White-Not Hispanic | AQ10: =[1]Populations!K44 -> Hispanic | AR10: =[1]Populations!M44 -> Black-Not Hispanic | AS10: =[1]Populations!O44 -> Asian | AT10: =[1]Populations!Q44 -> American Indian/Alaska Native | AU10: =[1]Populations!S44 -> Other | AV10: =[1]Populations!U44 -> Other
B11: =' B_Populations'!A9 -> 65-74 | N11: =' B_Populations'!B9 -> 0 | O11: =IF(N11=0,0,($C$11/$N$11)*100000) -> 0 | P11: =' B_Populations'!D9 -> 0 | Q11: =IF(P11=0,0,($D$11/$P$11)*100000) -> 0 | R11: =' B_Populations'!F9 -> 0 | S11: =IF(R11=0,0,($E$11/$R$11)*100000) -> 0 | T11: =' B_Populations'!H9 -> 0 | U11: =IF(T11=0,0,($F$11/$T$11)*100000) -> 0 | V11: =' B_Populations'!J9 -> 0 | W11: =IF(V11=0,0,($G$11/$V$11)*100000) -> 0 | X11: =' B_Populations'!L9 -> 0 | Y11: =IF(X11=0,0,($H$11/$X$11)*100000) -> 0 | Z11: =' B_Populations'!N9 -> 0 | AA11: =IF(Z11=0,0,($I$11/$Z$11)*100000) -> 0 | AB11: =' B_Populations'!P9 -> 0 | AC11: =IF(AB11=0,0,($J$11/$AB$11)*100000) -> 0 | AD11: =' B_Populations'!R9 -> 0 | AE11: =IF(AD11=0,0,($K$11/$AD$11)*100000) -> 0 | AF11: =' B_Populations'!T9 -> 0 | AG11: =IF(AF11=0,0,($L$11/$AF$11)*100000) -> 0 | AI11: =' B_Populations'!B15 -> 18136 | AJ11: 0.522501 | AL11: =' B_Populations'!A9 -> 65-74 | AM11: =O11*AJ11 -> 0 | AN11: =Q11*AJ11 -> 0 | AO11: =S11*AJ11 -> 0 | AP11: =U11*AJ11 -> 0 | AQ11: =W11*AJ11 -> 0 | AR11: =Y11*AJ11 -> 0 | AS11: =AA11*AJ11 -> 0 | AT11: =AC11*AJ11 -> 0 | AU11: =AE11*AJ11 -> 0 | AV11: =AG11*AJ11 -> 0
B12: =' B_Populations'!A10 -> 75-84 | N12: =' B_Populations'!B10 -> 0 | O12: =IF(N12=0,0,($C$12/$N$12)*100000) -> 0 | P12: =' B_Populations'!D10 -> 0 | Q12: =IF(P12=0,0,($D$12/$P$12)*100000) -> 0 | R12: =' B_Populations'!F10 -> 0 | S12: =IF(R12=0,0,($E$12/$R$12)*100000) -> 0 | T12: =' B_Populations'!H10 -> 0 | U12: =IF(T12=0,0,($F$12/$T$12)*100000) -> 0 | V12: =' B_Populations'!J10 -> 0 | W12: =IF(V12=0,0,($G$12/$V$12)*100000) -> 0 | X12: =' B_Populations'!L10 -> 0 | Y12: =IF(X12=0,0,($H$12/$X$12)*100000) -> 0 | Z12: =' B_Populations'!N10 -> 0 | AA12: =IF(Z12=0,0,($I$12/$Z$12)*100000) -> 0 | AB12: =' B_Populations'!P10 -> 0 | AC12: =IF(AB12=0,0,($J$12/$AB$12)*100000) -> 0 | AD12: =' B_Populations'!R10 -> 0 | AE12: =IF(AD12=0,0,($K$12/$AD$12)*100000) -> 0 | AF12: =' B_Populations'!T10 -> 0 | AG12: =IF(AF12=0,0,($L$12/$AF$12)*100000) -> 0 | AI12: =' B_Populations'!B16 -> 12315 | AJ12: 0.354797 | AL12: =' B_Populations'!A10 -> 75-84 | AM12: =O12*AJ12 -> 0 | AN12: =Q12*AJ12 -> 0 | AO12: =S12*AJ12 -> 0 | AP12: =U12*AJ12 -> 0 | AQ12: =W12*AJ12 -> 0 | AR12: =Y12*AJ12 -> 0 | AS12: =AA12*AJ12 -> 0 | AT12: =AC12*AJ12 -> 0 | AU12: =AE12*AJ12 -> 0 | AV12: =AG12*AJ12 -> 0
B13: =' B_Populations'!A11 -> 85+ | N13: =' B_Populations'!B11 -> 0 | O13: =IF(N13=0,0,($C$13/$N$13)*100000) -> 0 | P13: =' B_Populations'!D11 -> 0 | Q13: =IF(P13=0,0,($D$13/$P$13)*100000) -> 0 | R13: =' B_Populations'!F11 -> 0 | S13: =IF(R13=0,0,($E$13/$R$13)*100000) -> 0 | T13: =' B_Populations'!H11 -> 0 | U13: =IF(T13=0,0,($F$13/$T$13)*100000) -> 0 | V13: =' B_Populations'!J11 -> 0 | W13: =IF(V13=0,0,($G$13/$V$13)*100000) -> 0 | X13: =' B_Populations'!L11 -> 0 | Y13: =IF(X13=0,0,($H$13/$X$13)*100000) -> 0 | Z13: =' B_Populations'!N11 -> 0 | AA13: =IF(Z13=0,0,($I$13/$Z$13)*100000) -> 0 | AB13: =' B_Populations'!P11 -> 0 | AC13: =IF(AB13=0,0,($J$13/$AB$13)*100000) -> 0 | AD13: =' B_Populations'!R11 -> 0 | AE13: =IF(AD13=0,0,($K$13/$AD$13)*100000) -> 0 | AF13: =' B_Populations'!T11 -> 0 | AG13: =IF(AF13=0,0,($L$13/$AF$13)*100000) -> 0 | AI13: =' B_Populations'!B17 -> 4259 | AJ13: 0.122702 | AL13: =' B_Populations'!A11 -> 85+ | AM13: =O13*AJ13 -> 0 | AN13: =Q13*AJ13 -> 0 | AO13: =S13*AJ13 -> 0 | AP13: =U13*AJ13 -> 0 | AQ13: =W13*AJ13 -> 0 | AR13: =Y13*AJ13 -> 0 | AS13: =AA13*AJ13 -> 0 | AT13: =AC13*AJ13 -> 0 | AU13: =AE13*AJ13 -> 0 | AV13: =AG13*AJ13 -> 0
B14: total | C14: =SUM(C11:C13) -> 0 | D14: =SUM(D11:D13) -> 0 | E14: =SUM(E11:E13) -> 0 | F14: =SUM(F11:F13) -> 0 | G14: =SUM(G11:G13) -> 0 | H14: =SUM(H11:H13) -> 0 | I14: =SUM(I11:I13) -> 0 | J14: =SUM(J11:J13) -> 0 | ... L14: =SUM(L11:L13) -> 0 | N14: =' B_Populations'!B12 -> 0 | O14: =SUM(O11:O13) -> 0 | P14: =' B_Populations'!D12 -> 0 | Q14: =SUM(Q11:Q13) -> 0 | R14: =' B_Populations'!F12 -> 0 | S14: =SUM(S11:S13) -> 0 | T14: =' B_Populations'!H12 -> 0 | U14: =SUM(U11:U13) -> 0 | V14: =' B_Populations'!J12 -> 0 | W14: =SUM(W11:W13) -> 0 | X14: =' B_Populations'!L12 -> 0 | Y14: =SUM(Y11:Y13) -> 0 | Z14: =' B_Populations'!N12 -> 0 | AA14: =SUM(AA11:AA13) -> 0 | AB14: =' B_Populations'!P12 -> 0 | AC14: =SUM(AC11:AC13) -> 0 | AD14: =' B_Populations'!R12 -> 0 | AE14: =SUM(AE11:AE13) -> 0 | AF14: =' B_Populations'!T12 -> 0 | AG14: =SUM(AG11:AG13) -> 0 | AI14: =' B_Populations'!B18 -> 34710 | AJ14: 1 | AL14: =[1]Populations!B22 -> Total | AM14: =SUM(AM11:AM13) -> 0 | AN14: =SUM(AN11:AN13) -> 0 | AO14: =SUM(AO11:AO13) -> 0 | AP14: =SUM(AP11:AP13) -> 0 | AQ14: =SUM(AQ11:AQ13) -> 0 | AR14: =SUM(AR11:AR13) -> 0 | AS14: =SUM(AS11:AS13) -> 0 | AT14: =SUM(AT11:AT13) -> 0 | ... AV14: =SUM(AV11:AV13) -> 0
D16: Sex Data | F16: Demographic Data | AM16: Age-adjusted Rates per 100,000 population
B17: Age | C17: Number of deaths- Total | D17: Number of deaths- Male | E17: Number of deaths- Female | F17: =[1]Populations!I44 -> White-Not Hispanic | G17: =[1]Populations!K44 -> Hispanic | H17: =[1]Populations!M44 -> Black-Not Hispanic | I17: =[1]Populations!O44 -> Asian | J17: =[1]Populations!Q44 -> American Indian/Alaska Native | K17: =[1]Populations!S44 -> Other | L17: =[1]Populations!U44 -> Other | N17: State Population Total | O17: Rate | P17: =[1]Populations!E44 -> Male | Q17: Rate | R17: =[1]Populations!G44 -> Female | S17: Rate | T17: =[1]Populations!I44 -> White-Not Hispanic | U17: Rate | V17: =[1]Populations!K44 -> Hispanic | W17: Rate | X17: =[1]Populations!M44 -> Black-Not Hispanic | Y17: Rate | Z17: =[1]Populations!O44 -> Asian | AA17: Rate | AB17: =[1]Populations!Q44 -> American Indian/Alaska Native | AC17: Rate | AD17: =[1]Populations!S44 -> Other | AE17: Rate | AF17: =[1]Populations!U44 -> Other | AG17: Rate | AI17: 2000 Standard population - from "Populations" tab | AJ17: Weight | AL17: Age | AM17: Total | AN17: Male | AO17: Female | AP17: =[1]Populations!I44 -> White-Not Hispanic | AQ17: =[1]Populations!K44 -> Hispanic | AR17: =[1]Populations!M44 -> Black-Not Hispanic | AS17: =[1]Populations!O44 -> Asian | AT17: =[1]Populations!Q44 -> American Indian/Alaska Native | AU17: =[1]Populations!S44 -> Other | AV17: =[1]Populations!U44 -> Other
