Workbook

Sheet A_Instructions
A2: Step 1: Preparing State/Territory Data | F2: Step 2: Entering Data | T2: Step 3: Creating Special Emphasis Report
A3: Name | B3: ICD-10-CM code | C3: ICD-10-CM notes
A4: 1a. Create a Nonfatal Hospital Discharge Data Injury Subset - includes records that have one of the following ICD-10-CM injury diagnosis codes* in the principal diagnosis field
A6: ICD-10-CM injury diagnosis codes* *Only include cases if the 7th character of the code is A, B, C, or missing (reflects initial encounter, active treatment). T30-T32 do not have a 7th character | B6: S00-S99 | C6: Anatomic injuries
B7: T07-T34 | C7: Foreign bodies, burns, corrosions, frostbite
B8: T36-T50 with a 6th character of 1, 2, 3, or 4 Note: Include T36.9, T37.9, T39.9, T41.4, T42.7, T43.9, T45.9, T47.9, and T49.9 with a 5th character of 1, 2, 3, or 4 (Intent information for these codes is included in the 5th character and not the 6th) | C8: Poisoning by drugs, medicaments, and biological substances (Includes accidental, intentional self-harm, assault, and underdetermined intents; Excludes adverse effects and underdosing)
B9: T51-T65 | C9: Toxic effects of substances nonmedicinal as to source
B10: T66-T76 | C10: Other and unspecified effects of external causes
B11: T79 | C11: Certain early complications of trauma, not elsewhere classified
B12: O9A.2-O9A.5 | C12: Traumatic injuries and abuse complicating pregnancy, childbirth, and the puerperium
B13: T84.04** | C13: Periprosthetic fracture around internal prosthetic joint **T84.04 was retired and replaced by M97 in the FY2017 version of ICD-10-CM which went into effect on Oct 1, 2016
B14: M97** | C14: Periprosthetic fracture around internal prosthetic joint
A15: 1b. Create a Nonfatal Unintentional Fall-related Injury Hospitalizations Data Subset - Includes data for nonfatal hospitalizations from the injury hospital discharge subset with any of the following ICD-10-CM external cause-of-injury codes in any field
A18: ICD-10-CM Codes* for Unintentional Fall-related Injuries *Only include cases if the 7th character of the code is A or missing (reflects initial encounter, active treatment) | B18: V00.1-V00.8 With 6th character=1 | C18: Falls related to pedestrian conveyance
B19: W00-W15, W17, W19 | C19: Falls
B20: W16 with 6th character=2, W16.42, W16.92 | C20: Fall, jump, or diving into water
B21: W18.1-W18.3 | C21: Other falls
A22: 2. Create a Nonfatal Unintentional Fall-related Injury ED Visit Data Subset - Includes data with any of the following ICD-10-CM external cause-of-injury codes in any field
A23: ICD-10-CM Codes* for Unintentional Fall-related Injuries *Only include cases if the 7th character of the code is A or missing (reflects initial encounter, active treatment) | B23: V00.1-V00.8 with 6th character=1 | C23: Falls related to pedestrian conveyance
B24: W00-W15, W17, W19 | C24: Falls
B25: W16 with 6th character=2, W16.42, W16.92 | C25: Fall, jump, or diving into water
B26: W18.1-W18.3 | C26: Other falls
A27: 3. Create an Unintentional Fall-related Injury Death Data Subset - Includes data for deaths with any of the following ICD-10 codes in the underlying cause of death field
A28: ICD-10 codes for Unintentional Fall-related Fatalities | B28: W00-W19 | C28: Falls
A31: Codes for specific injuries
A32: Hospitalizations and ED Visits
A33: ICD-10-CM Codes for Nonfatal Hip Fractures (for both Hospitalizations and ED visits) Have one of the following ICD-10-CM* diagnosis codes in any field *Only include cases if the 7th character of the code is A, B, C or missing (reflects initial encounter, active treatment) | B33: S72.0 | C33: Fracture of head and neck of femur
B34: S72.1 | C34: Pertrochanteric fracture
B35: S72.2 | C35: Subtrochanteric fracture
B36: T84.040** | C36: Periprosthetic fracture around internal prosthetic right hip joint **T84.04 was retired and replaced by M97.0 in the FY2017 version of ICD-10-CM which went into effect on Oct 1, 2016
B37: T84.041** | C37: Periprosthetic fracture around internal prosthetic left hip joint
B38: M97.0** | C38: Periprosthetic fracture around internal prosthetic hip joint
A39: ICD-10-CM Codes for Nonfatal TBI (for both Hospitalizations and ED visits) Have one of the following ICD-10-CM* diagnosis codes in any field *Only Include cases if the 7th character of the code is A, B, or missing (reflects initial encounter, active treatment) | B39: S02.0, S02.1 | C39: Fracture of skull
B40: S02.8X**, S02.80, S02.81, S02.82, S02.91 | C40: Fracture of other specified skull and facial bones; unspecified fracture **In the FY 2017 ICD-10-CM code set, which went into effect on Oct 1, 2016, the S02.8 code was expanded to include several subcodes (S02.80, S02.81, and S02.82). These subcodes should be included in the selection criteria for the indicator if using data for admissions/visits after Oct 1, 2016. In FY 2020, the S02.8 code was expanded again to include S02.83-, S02.84- and S02.85. These subcodes are not included in the selection criteria for the indicator as they represent fractures to the medial and lateral orbital wall, or unspecified fractures of the orbit and are not considered to be TBI.
B41: S04.02, S04.03, S04.04 | C41: Injury of optic chiasm; injury of optic tract and pathways; injuries of visual cortex
B42: S06 | C42: Intracranial injury
B43: S07.1 | C43: Crushing injury of skull
B44: T74.4 | C44: Shaken infant syndrome
A45: Deaths
A46: ICD-10 Codes for Hip Fractures - Have one of the following ICD-10 codes in any multiple cause of death field | B46: S72.0 | C46: Fracture of neck of femur
B47: S72.1 | C47: Pertrochanteric fracture
B48: S72.2 | C48: Subtrochanteric fracture
A49: ICD-10 Codes for TBI - Have one of the following ICD-10 codes in any multiple cause of death field | B49: S01.0–S01.9 | C49: Open wound of head
B50: S02.0, S02.1, S02.3, S02.7–S02.9 | C50: Fracture of skull and facial bones
B51: S04.0 | C51: Injury of optic nerve and pathways
B52: S06.0–S06.9 | C52: Intracranial injury
B53: S07.0, S07.1, S07.8, S07.9 | C53: Crushing injury of head
B54: S09.7-S09.9 | C54: Other and unspecified injuries of head
B55: T90.1, T90.2, T90.4, T90.5, T90.8, T90.9 | C55: Sequelae of injuries of head

Sheet  B_Populations
A1: Older Adult Falls-Specific State Injury Indicators Report
A2: State/Territor Population Data
A3: State/Territory: | D3: Data year:
B4: Enter your state name in A4 | E4: Enter the data year in D4
B7: Enter total population data by age group below | D7: Enter male population data by age group below | F7: Enter female population data by age group below | H7: Enter demographic population data | J7: Enter demographic population data | L7: Enter demographic population data | N7: Enter demographic population data | P7: Enter demographic population data | R7: Enter demographic population data | T7: Enter demographic population data
A8: Age | B8: Total | D8: Male | F8: Female | H8: White-Not Hispanic | J8: Hispanic | L8: Black-Not Hispanic | N8: Asian | P8: American Indian/Alaska Native | R8: Other | S8: Enter name of "Other" category in R8 | T8: Other | U8: Enter name of "Other" category in T8
A9: 65-74
A10: 75-84
A11: 85+
A12: TOTAL (ages 65-85+) | B12: =SUM(B9:B11) -> 0 | D12: =SUM(D9:D11) -> 0 | F12: =SUM(F9:F11) -> 0 | H12: =SUM(H9:H11) -> 0 | J12: =SUM(J9:J11) -> 0 | L12: =SUM(L9:L11) -> 0 | N12: =SUM(N9:N11) -> 0 | P12: =SUM(P9:P11) -> 0 | R12: =SUM(R9:R11) -> 0 | T12: =SUM(T9:T11) -> 0
A14: 2000 Standard population - from "Populations" tab
A15: 65-74 | B15: 18136
A16: 75-84 | B16: 12315
A17: 85+ | B17: 4259
A18: TOTAL (ages 65-85+) | B18: =SUM(B15:B17) -> 34710

Sheet C_Health Regions
A1: Older Adult Falls-Specific State Injury Indicators Report
A2: Health Districts/Regions Data
A4: Age | B4: Region 1 | D4: Region 2 | F4: Region 3 | H4: Region 4 | J4: Region 5 | L4: Region 6 | N4: Region 7 | P4: Region 8 | R4: Region 9 | T4: Region 10 | V4: Region 11 | X4: Region 12 | Z4: Region 13 | AB4: Region 14 | AD4: Region 15 | AF4: Region 16 | AH4: Region 17 | AJ4: Region 18 | AL4: Region 19 | AN4: Region 20
A5: =' B_Populations'!$A$9 -> 65-74
A6: =' B_Populations'!$A$10 -> 75-84
A7: =' B_Populations'!$A$11 -> 85+
A8: TOTAL | B8: =SUM(B5:B7) -> 0 | D8: =SUM(D5:D7) -> 0 | F8: =SUM(F5:F7) -> 0 | H8: =SUM(H5:H7) -> 0 | J8: =SUM(J5:J7) -> 0 | L8: =SUM(L5:L7) -> 0 | N8: =SUM(N5:N7) -> 0 | P8: =SUM(P5:P7) -> 0 | R8: =SUM(R5:R7) -> 0 | T8: =SUM(T5:T7) -> 0 | V8: =SUM(V5:V7) -> 0 | X8: =SUM(X5:X7) -> 0 | Z8: =SUM(Z5:Z7) -> 0 | AB8: =SUM(AB5:AB7) -> 0 | AD8: =SUM(AD5:AD7) -> 0 | AF8: =SUM(AF5:AF7) -> 0 | AH8: =SUM(AH5:AH7) -> 0 | AJ8: =SUM(AJ5:AJ7) -> 0 | AL8: =SUM(AL5:AL7) -> 0 | AN8: =SUM(AN5:AN7) -> 0

Sheet D_Year 1
A1: Year 1 | B1: Data Input Tables Instructions: Please enter the actual Data Year in cell A1. Enter your Older Adult Falls-related injury data in the red cells below. The age-adjusted rates will automatically calculate in the results table. | F1: Use columns F through L to enter demographic data | N1: Optional: Unhide columns O through AK to show rate calculations and 2000 population weights | AJ1: Columns AN through AW will automatically calculate age-adjusted rates per 100,000 | AM1: Results Table Age Adjusted Rates per 100,1000. Results will calculate automatically.
D2: Sex Data | F2: Demographic Data | AN2: Age-adjusted Rates per 100,000 population
B3: Age | C3: Number of hospitalizations- Total | D3: Number of hospitalizations- Male | E3: Number of hospitalizations- Female | F3: =[1]Populations!I80 -> White-Not Hispanic | G3: =[1]Populations!K80 -> Hispanic | H3: =[1]Populations!M80 -> Black-Not Hispanic | I3: =[1]Populations!O80 -> Asian | J3: =[1]Populations!Q80 -> American Indian/Alaska Native | K3: =[1]Populations!S80 -> Other | L3: =[1]Populations!U80 -> Other | N3: State population - Total | O3: Rate | P3: State population - Male | Q3: Rate | R3: State population - Female | S3: Rate | T3: =[1]Populations!I80 -> White-Not Hispanic | U3: Rate | V3: =[1]Populations!K80 -> Hispanic | W3: Rate | X3: =[1]Populations!M80 -> Black-Not Hispanic | Y3: Rate | Z3: =[1]Populations!O80 -> Asian | AA3: Rate | AB3: =[1]Populations!Q80 -> American Indian/Alaska Native | AC3: Rate | AD3: =[1]Populations!S80 -> Other | AE3: Rate | AF3: =[1]Populations!U80 -> Other | AG3: Rate | AJ3: 2000 Standard population - from "Populations" tab | AK3: 2000 state population weights | AM3: Age | AN3: Total | AO3: Male | AP3: Female | AQ3: =[1]Populations!I80 -> White-Not Hispanic | AR3: =[1]Populations!K80 -> Hispanic | AS3: =[1]Populations!M80 -> Black-Not Hispanic | AT3: =[1]Populations!O80 -> Asian | AU3: =[1]Populations!Q80 -> American Indian/Alaska Native | AV3: =[1]Populations!S80 -> Other | AW3: =[1]Populations!U80 -> Other
B4: =' B_Populations'!A9 -> 65-74 | N4: =' B_Populations'!B9 -> 0 | O4: =IF(N4=0,0,($C$4/$N$4)*100000) -> 0 | P4: =' B_Populations'!D9 -> 0 | Q4: =IF(P4=0,0,($D$4/$P$4)*100000) -> 0 | R4: =' B_Populations'!F9 -> 0 | S4: =IF(R4=0,0,($E$4/$R$4)*100000) -> 0 | T4: =' B_Populations'!H9 -> 0 | U4: =IF(T4=0,0,($F$4/$T$4)*100000) -> 0 | V4: =' B_Populations'!J9 -> 0 | W4: =IF(V4=0,0,($G$4/$V$4)*100000) -> 0 | X4: =' B_Populations'!L9 -> 0 | Y4: =IF(X4=0,0,($H$4/$X$4)*100000) -> 0 | Z4: =' B_Populations'!N9 -> 0 | AA4: =IF(Z4=0,0,($I$4/$Z$4)*100000) -> 0 | AB4: =' B_Populations'!P9 -> 0 | AC4: =IF(AB4=0,0,($J$4/$AB$4)*100000) -> 0 | AD4: =' B_Populations'!R9 -> 0 | AE4: =IF(AD4=0,0,($K$4/$AD$4)*100000) -> 0 | AF4: =' B_Populations'!T9 -> 0 | AG4: =IF(AF4=0,0,($L$4/$AF$4)*100000) -> 0 | AJ4: =' B_Populations'!B15 -> 18136 | AK4: 0.522501 | AM4: =' B_Populations'!A9 -> 65-74 | AN4: =O4*AK4 -> 0 | AO4: =Q4*AK4 -> 0 | AP4: =S4*AK4 -> 0 | AQ4: =U4*AK4 -> 0 | AR4: =W4*AK4 -> 0 | AS4: =Y4*AK4 -> 0 | AT4: =AA4*AK4 -> 0 | AU4: =AC4*AK4 -> 0 | AV4: =AE4*AK4 -> 0 | AW4: =AG4*AK4 -> 0
B5: =' B_Populations'!A10 -> 75-84 | N5: =' B_Populations'!B10 -> 0 | O5: =IF(N5=0,0,($C$5/$N$5)*100000) -> 0 | P5: =' B_Populations'!D10 -> 0 | Q5: =IF(P5=0,0,($D$5/$P$5)*100000) -> 0 | R5: =' B_Populations'!F10 -> 0 | S5: =IF(R5=0,0,($E$5/$R$5)*100000) -> 0 | T5: =' B_Populations'!H10 -> 0 | U5: =IF(T5=0,0,($F$5/$T$5)*100000) -> 0 | V5: =' B_Populations'!J10 -> 0 | W5: =IF(V5=0,0,($G$5/$V$5)*100000) -> 0 | X5: =' B_Populations'!L10 -> 0 | Y5: =IF(X5=0,0,($G$5/$X$5)*100000) -> 0 | Z5: =' B_Populations'!N10 -> 0 | AA5: =IF(Z5=0,0,($I$5/$Z$5)*100000) -> 0 | AB5: =' B_Populations'!P10 -> 0 | AC5: =IF(AB5=0,0,($J$5/$AB$5)*100000) -> 0 | AD5: =' B_Populations'!R10 -> 0 | AE5: =IF(AD5=0,0,($K$5/$AD$5)*100000) -> 0 | AF5: =' B_Populations'!T10 -> 0 | AG5: =IF(AF5=0,0,($L$5/$AF$5)*100000) -> 0 | AJ5: =' B_Populations'!B16 -> 12315 | AK5: 0.354797 | AM5: =' B_Populations'!A10 -> 75-84 | AN5: =O5*AK5 -> 0 | AO5: =Q5*AK5 -> 0 | AP5: =S5*AK5 -> 0 | AQ5: =U5*AK5 -> 0 | AR5: =W5*AK5 -> 0 | AS5: =Y5*AK5 -> 0 | AT5: =AA5*AK5 -> 0 | AU5: =AC5*AK5 -> 0 | AV5: =AE5*AK5 -> 0 | AW5: =AG5*AK5 -> 0
B6: =' B_Populations'!A11 -> 85+ | N6: =' B_Populations'!B11 -> 0 | O6: =IF(N6=0,0,($C$6/$N$6)*100000) -> 0 | P6: =' B_Populations'!D11 -> 0 | Q6: =IF(P6=0,0,($D$6/$P$6)*100000) -> 0 | R6: =' B_Populations'!F11 -> 0 | S6: =IF(R6=0,0,($E$6/$R$6)*100000) -> 0 | T6: =' B_Populations'!H11 -> 0 | U6: =IF(T6=0,0,($F$6/$T$6)*100000) -> 0 | V6: =' B_Populations'!J11 -> 0 | W6: =IF(V6=0,0,($G$6/$V$6)*100000) -> 0 | X6: =' B_Populations'!L11 -> 0 | Y6: =IF(X6=0,0,($G$6/$X$6)*100000) -> 0 | Z6: =' B_Populations'!N11 -> 0 | AA6: =IF(Z6=0,0,($I$6/$Z$6)*100000) -> 0 | AB6: =' B_Populations'!P11 -> 0 | AC6: =IF(AB6=0,0,($J$6/$AB$6)*100000) -> 0 | AD6: =' B_Populations'!R11 -> 0 | AE6: =IF(AD6=0,0,($K$6/$AD$6)*100000) -> 0 | AF6: =' B_Populations'!T11 -> 0 | AG6: =IF(AF6=0,0,($L$6/$AF$6)*100000) -> 0 | AJ6: =' B_Populations'!B17 -> 4259 | AK6: 0.122702 | AM6: =' B_Populations'!A11 -> 85+ | AN6: =O6*AK6 -> 0 | AO6: =Q6*AK6 -> 0 | AP6: =S6*AK6 -> 0 | AQ6: =U6*AK6 -> 0 | AR6: =W6*AK6 -> 0 | AS6: =Y6*AK6 -> 0 | AT6: =AA6*AK6 -> 0 | AU6: =AC6*AK6 -> 0 | AV6: =AE6*AK6 -> 0 | AW6: =AG6*AK6 -> 0
B7: total | C7: =SUM(C4:C6) -> 0 | D7: =SUM(D4:D6) -> 0 | E7: =SUM(E4:E6) -> 0 | F7: =SUM(F4:F6) -> 0 | G7: =SUM(G4:G6) -> 0 | H7: =SUM(H4:H6) -> 0 | I7: =SUM(I4:I6) -> 0 | J7: =SUM(J4:J6) -> 0 | ... L7: =SUM(L4:L6) -> 0 | N7: =' B_Populations'!B12 -> 0 | O7: =SUM(O4:O6) -> 0 | P7: =' B_Populations'!D12 -> 0 | Q7: =SUM(Q4:Q6) -> 0 | R7: =' B_Populations'!F12 -> 0 | S7: =SUM(S4:S6) -> 0 | T7: =' B_Populations'!H12 -> 0 | U7: =SUM(U4:U6) -> 0 | V7: =' B_Populations'!J12 -> 0 | W7: =SUM(W4:W6) -> 0 | X7: =' B_Populations'!L12 -> 0 | Y7: =SUM(Y4:Y6) -> 0 | Z7: =' B_Populations'!N12 -> 0 | AA7: =SUM(AA4:AA6) -> 0 | AB7: =' B_Populations'!P12 -> 0 | AC7: =SUM(AC4:AC6) -> 0 | AD7: =' B_Populations'!R12 -> 0 | AE7: =SUM(AE4:AE6) -> 0 | AF7: =' B_Populations'!T12 -> 0 | AG7: =SUM(AG4:AG6) -> 0 | AJ7: =' B_Populations'!B18 -> 34710 | AK7: 1 | AM7: total | AN7: =SUM(AN4:AN6) -> 0 | AO7: =SUM(AO4:AO6) -> 0 | AP7: =SUM(AP4:AP6) -> 0 | AQ7: =SUM(AQ4:AQ6) -> 0 | AR7: =SUM(AR4:AR6) -> 0 | AS7: =SUM(AS4:AS6) -> 0 | AT7: =SUM(AT4:AT6) -> 0 | AU7: =SUM(AU4:AU6) -> 0 | ... AW7: =SUM(AW4:AW6) -> 0
D9: Sex Data | F9: Demographic Data | AN9: Age-adjusted Rates per 100,000 population
B10: Age | C10: Number of ED visits- Total | D10: Number of ED visits- Male | E10: Number of ED visits- Female | F10: =[1]Populations!I80 -> White-Not Hispanic | G10: =[1]Populations!K80 -> Hispanic | H10: =[1]Populations!M80 -> Black-Not Hispanic | I10: =[1]Populations!O80 -> Asian | J10: =[1]Populations!Q80 -> American Indian/Alaska Native | K10: =[1]Populations!S80 -> Other | L10: =[1]Populations!U80 -> Other | N10: State population - Total | O10: Rate | P10: State population - Male | Q10: Rate | R10: State population - Female | S10: Rate | T10: =[1]Populations!I80 -> White-Not Hispanic | U10: Rate | V10: =[1]Populations!K80 -> Hispanic | W10: Rate | X10: =[1]Populations!M80 -> Black-Not Hispanic | Y10: Rate | Z10: =[1]Populations!O80 -> Asian | AA10: Rate | AB10: =[1]Populations!Q80 -> American Indian/Alaska Native | AC10: Rate | AD10: =[1]Populations!S80 -> Other | AE10: Rate | AF10: =[1]Populations!U80 -> Other | AG10: Rate | AJ10: 2000 Standard population - from "Populations" tab | AK10: Weight | AM10: Age | AN10: Total | AO10: Male | AP10: Female | AQ10: =[1]Populations!I80 -> White-Not Hispanic | AR10: =[1]Populations!K80 -> Hispanic | AS10: =[1]Populations!M80 -> Black-Not Hispanic | AT10: =[1]Populations!O80 -> Asian | AU10: =[1]Populations!Q80 -> American Indian/Alaska Native | AV10: =[1]Populations!S80 -> Other | AW10: =[1]Populations!U80 -> Other
B11: =' B_Populations'!A9 -> 65-74 | N11: =' B_Populations'!B9 -> 0 | O11: =IF(N11=0,0,($C$11/$N$11)*100000) -> 0 | P11: =' B_Populations'!D9 -> 0 | Q11: =IF(P11=0,0,($D$11/$P$11)*100000) -> 0 | R11: =' B_Populations'!F9 -> 0 | S11: =IF(R11=0,0,($E$11/$R$11)*100000) -> 0 | T11: =' B_Populations'!H9 -> 0 | U11: =IF(T11=0,0,($F$11/$T$11)*100000) -> 0 | V11: =' B_Populations'!J9 -> 0 | W11: =IF(V11=0,0,($G$11/$V$11)*100000) -> 0 | X11: =' B_Populations'!L9 -> 0 | Y11: =IF(X11=0,0,($H$11/$X$11)*100000) -> 0 | Z11: =' B_Populations'!N9 -> 0 | AA11: =IF(Z11=0,0,($I$11/$Z$11)*100000) -> 0 | AB11: =' B_Populations'!P9 -> 0 | AC11: =IF(AB11=0,0,($J$11/$AB$11)*100000) -> 0 | AD11: =' B_Populations'!R9 -> 0 | AE11: =IF(AD11=0,0,($K$11/$AD$11)*100000) -> 0 | AF11: =' B_Populations'!T9 -> 0 | AG11: =IF(AF11=0,0,($L$11/$AF$11)*100000) -> 0 | AJ11: =' B_Populations'!B15 -> 18136 | AK11: 0.522501 | AM11: =' B_Populations'!A9 -> 65-74 | AN11: =O11*AK11 -> 0 | AO11: =Q11*AK11 -> 0 | AP11: =S11*AK11 -> 0 | AQ11: =U11*AK11 -> 0 | AR11: =W11*AK11 -> 0 | AS11: =Y11*AK11 -> 0 | AT11: =AA11*AK11 -> 0 | AU11: =AC11*AK11 -> 0 | AV11: =AE11*AK11 -> 0 | AW11: =AG11*AK11 -> 0
B12: =' B_Populations'!A10 -> 75-84 | N12: =' B_Populations'!B10 -> 0 | O12: =IF(N12=0,0,($C$12/$N$12)*100000) -> 0 | P12: =' B_Populations'!D10 -> 0 | Q12: =IF(P12=0,0,($D$12/$P$12)*100000) -> 0 | R12: =' B_Populations'!F10 -> 0 | S12: =IF(R12=0,0,($E$12/$R$12)*100000) -> 0 | T12: =' B_Populations'!H10 -> 0 | U12: =IF(T12=0,0,($F$12/$T$12)*100000) -> 0 | V12: =' B_Populations'!J10 -> 0 | W12: =IF(V12=0,0,($G$12/$V$12)*100000) -> 0 | X12: =' B_Populations'!L10 -> 0 | Y12: =IF(X12=0,0,($H$12/$X$12)*100000) -> 0 | Z12: =' B_Populations'!N10 -> 0 | AA12: =IF(Z12=0,0,($I$12/$Z$12)*100000) -> 0 | AB12: =' B_Populations'!P10 -> 0 | AC12: =IF(AB12=0,0,($J$12/$AB$12)*100000) -> 0 | AD12: =' B_Populations'!R10 -> 0 | AE12: =IF(AD12=0,0,($K$12/$AD$12)*100000) -> 0 | AF12: =' B_Populations'!T10 -> 0 | AG12: =IF(AF12=0,0,($L$12/$AF$12)*100000) -> 0 | AJ12: =' B_Populations'!B16 -> 12315 | AK12: 0.354797 | AM12: =' B_Populations'!A10 -> 75-84 | AN12: =O12*AK12 -> 0 | AO12: =Q12*AK12 -> 0 | AP12: =S12*AK12 -> 0 | AQ12: =U12*AK12 -> 0 | AR12: =W12*AK12 -> 0 | AS12: =Y12*AK12 -> 0 | AT12: =AA12*AK12 -> 0 | AU12: =AC12*AK12 -> 0 | AV12: =AE12*AK12 -> 0 | AW12: =AG12*AK12 -> 0
B13: =' B_Populations'!A11 -> 85+ | N13: =' B_Populations'!B11 -> 0 | O13: =IF(N13=0,0,($C$13/$N$13)*100000) -> 0 | P13: =' B_Populations'!D11 -> 0 | Q13: =IF(P13=0,0,($D$13/$P$13)*100000) -> 0 | R13: =' B_Populations'!F11 -> 0 | S13: =IF(R13=0,0,($E$13/$R$13)*100000) -> 0 | T13: =' B_Populations'!H11 -> 0 | U13: =IF(T13=0,0,($F$13/$T$13)*100000) -> 0 | V13: =' B_Populations'!J11 -> 0 | W13: =IF(V13=0,0,($G$13/$V$13)*100000) -> 0 | X13: =' B_Populations'!L11 -> 0 | Y13: =IF(X13=0,0,($H$13/$X$13)*100000) -> 0 | Z13: =' B_Populations'!N11 -> 0 | AA13: =IF(Z13=0,0,($I$13/$Z$13)*100000) -> 0 | AB13: =' B_Populations'!P11 -> 0 | AC13: =IF(AB13=0,0,($J$13/$AB$13)*100000) -> 0 | AD13: =' B_Populations'!R11 -> 0 | AE13: =IF(AD13=0,0,($K$13/$AD$13)*100000) -> 0 | AF13: =' B_Populations'!T11 -> 0 | AG13: =IF(AF13=0,0,($L$13/$AF$13)*100000) -> 0 | AJ13: =' B_Populations'!B17 -> 4259 | AK13: 0.122702 | AM13: =' B_Populations'!A11 -> 85+ | AN13: =O13*AK13 -> 0 | AO13: =Q13*AK13 -> 0 | AP13: =S13*AK13 -> 0 | AQ13: =U13*AK13 -> 0 | AR13: =W13*AK13 -> 0 | AS13: =Y13*AK13 -> 0 | AT13: =AA13*AK13 -> 0 | AU13: =AC13*AK13 -> 0 | AV13: =AE13*AK13 -> 0 | AW13: =AG13*AK13 -> 0
B14: total | C14: =SUM(C11:C13) -> 0 | D14: =SUM(D11:D13) -> 0 | E14: =SUM(E11:E13) -> 0 | F14: =SUM(F11:F13) -> 0 | G14: =SUM(G11:G13) -> 0 | H14: =SUM(H11:H13) -> 0 | I14: =SUM(I11:I13) -> 0 | J14: =SUM(J11:J13) -> 0 | ... L14: =SUM(L11:L13) -> 0 | N14: =' B_Populations'!B12 -> 0 | O14: =SUM(O11:O13) -> 0 | P14: =' B_Populations'!D12 -> 0 | Q14: =SUM(Q11:Q13) -> 0 | R14: =' B_Populations'!F12 -> 0 | S14: =SUM(S11:S13) -> 0 | T14: =' B_Populations'!H12 -> 0 | U14: =SUM(U11:U13) -> 0 | V14: =' B_Populations'!J12 -> 0 | W14: =SUM(W11:W13) -> 0 | X14: =' B_Populations'!L12 -> 0 | Y14: =SUM(Y11:Y13) -> 0 | Z14: =' B_Populations'!N12 -> 0 | AA14: =SUM(AA11:AA13) -> 0 | AB14: =' B_Populations'!P12 -> 0 | AC14: =SUM(AC11:AC13) -> 0 | AD14: =' B_Populations'!R12 -> 0 | AE14: =SUM(AE11:AE13) -> 0 | AF14: =' B_Populations'!T12 -> 0 | AG14: =SUM(AG11:AG13) -> 0 | AJ14: =' B_Populations'!B18 -> 34710 | AK14: 1 | AM14: total | AN14: =SUM(AN11:AN13) -> 0 | AO14: =SUM(AO11:AO13) -> 0 | AP14: =SUM(AP11:AP13) -> 0 | AQ14: =SUM(AQ11:AQ13) -> 0 | AR14: =SUM(AR11:AR13) -> 0 | AS14: =SUM(AS11:AS13) -> 0 | AT14: =SUM(AT11:AT13) -> 0 | AU14: =SUM(AU11:AU13) -> 0 | ... AW14: =SUM(AW11:AW13) -> 0
D16: Sex Data | F16: Demographic Data | AN16: Age-adjusted Rates per 100,000 population
B17: Age | C17: Number of deaths- Total | D17: Number of deaths- Male | E17: Number of deaths- Female | F17: =[1]Populations!I80 -> White-Not Hispanic | G17: =[1]Populations!K80 -> Hispanic | H17: =[1]Populations!M80 -> Black-Not Hispanic | I17: =[1]Populations!O80 -> Asian | J17: =[1]Populations!Q80 -> American Indian/Alaska Native | K17: =[1]Populations!S80 -> Other | L17: =[1]Populations!U80 -> Other | N17: State population - Total | O17: Rate | P17: State population - Male | Q17: Rate | R17: State population - Female | S17: Rate | T17: =[1]Populations!I80 -> White-Not Hispanic | U17: Rate | V17: =[1]Populations!K80 -> Hispanic | W17: Rate | X17: =[1]Populations!M80 -> Black-Not Hispanic | Y17: Rate | Z17: =[1]Populations!O80 -> Asian | AA17: Rate | AB17: =[1]Populations!Q80 -> American Indian/Alaska Native | AC17: Rate | AD17: =[1]Populations!S80 -> Other | AE17: Rate | AF17: =[1]Populations!U80 -> Other | AG17: Rate | AJ17: 2000 Standard population - from "Populations" tab | AK17: Weight | AM17: Age | AN17: Total | AO17: Male | AP17: Female | AQ17: =[1]Populations!I80 -> White-Not Hispanic | AR17: =[1]Populations!K80 -> Hispanic | AS17: =[1]Populations!M80 -> Black-Not Hispanic | AT17: =[1]Populations!O80 -> Asian | AU17: =[1]Populations!Q80 -> American Indian/Alaska Native | AV17: =[1]Populations!S80 -> Other | AW17: =[1]Populations!U80 -> Other
B18: =' B_Populations'!A9 -> 65-74 | N18: =' B_Populations'!B9 -> 0 | O18: =IF(N18=0,0,($C$18/$N$18)*100000) -> 0 | P18: =' B_Populations'!D9 -> 0 | Q18: =IF(P18=0,0,($D$18/$P$18)*100000) -> 0 | R18: =' B_Populations'!F9 -> 0 | S18: =IF(R18=0,0,($E$18/$R$18)*100000) -> 0 | T18: =' B_Populations'!H9 -> 0 | U18: =IF(T18=0,0,($F$18/$T$18)*100000) -> 0 | V18: =' B_Populations'!J9 -> 0 | W18: =IF(V18=0,0,($G$18/$V$18)*100000) -> 0 | X18: =' B_Populations'!L9 -> 0 | Y18: =IF(X18=0,0,($H$18/$X$18)*100000) -> 0 | Z18: =' B_Populations'!N9 -> 0 | AA18: =IF(Z18=0,0,($I$18/$Z$18)*100000) -> 0 | AB18: =' B_Populations'!P9 -> 0 | AC18: =IF(AB18=0,0,($J$18/$AB$18)*100000) -> 0 | AD18: =' B_Populations'!R9 -> 0 | AE18: =IF(AD18=0,0,($K$18/$AD$18)*100000) -> 0 | AF18: =' B_Populations'!T9 -> 0 | AG18: =IF(AF18=0,0,($L$18/$AF$18)*100000) -> 0 | AJ18: =' B_Populations'!B15 -> 18136 | AK18: 0.522501 | AM18: =' B_Populations'!A9 -> 65-74 | AN18: =O18*AK18 -> 0 | AO18: =Q18*AK18 -> 0 | AP18: =S18*AK18 -> 0 | AQ18: =U18*AK18 -> 0 | AR18: =W18*AK18 -> 0 | AS18: =Y18*AK18 -> 0 | AT18: =AA18*AK18 -> 0 | AU18: =AC18*AK18 -> 0 | AV18: =AE18*AK18 -> 0 | AW18: =AG18*AK18 -> 0
B19: =' B_Populations'!A10 -> 75-84 | N19: =' B_Populations'!B10 -> 0 | O19: =IF(N19=0,0,($C$19/$N$19)*100000) -> 0 | P19: =' B_Populations'!D10 -> 0 | Q19: =IF(P19=0,0,($D$19/$P$19)*100000) -> 0 | R19: =' B_Populations'!F10 -> 0 | S19: =IF(R19=0,0,($E$19/$R$19)*100000) -> 0 | T19: =' B_Populations'!H10 -> 0 | U19: =IF(T19=0,0,($F$19/$T$19)*100000) -> 0 | V19: =' B_Populations'!J10 -> 0 | W19: =IF(V19=0,0,($G$19/$V$19)*100000) -> 0 | X19: =' B_Populations'!L10 -> 0 | Y19: =IF(X19=0,0,($H$19/$X$19)*100000) -> 0 | Z19: =' B_Populations'!N10 -> 0 | AA19: =IF(Z19=0,0,($I$19/$Z$19)*100000) -> 0 | AB19: =' B_Populations'!P10 -> 0 | AC19: =IF(AB19=0,0,($J$19/$AB$19)*100000) -> 0 | AD19: =' B_Populations'!R10 -> 0 | AE19: =IF(AD19=0,0,($K$19/$AD$19)*100000) -> 0 | AF19: =' B_Populations'!T10 -> 0 | AG19: =IF(AF19=0,0,($L$19/$AF$19)*100000) -> 0 | AJ19: =' B_Populations'!B16 -> 12315 | AK19: 0.354797 | AM19: =' B_Populations'!A10 -> 75-84 | AN19: =O19*AK19 -> 0 | AO19: =Q19*AK19 -> 0 | AP19: =S19*AK19 -> 0 | AQ19: =U19*AK19 -> 0 | AR19: =W19*AK19 -> 0 | AS19: =Y19*AK19 -> 0 | AT19: =AA19*AK19 -> 0 | AU19: =AC19*AK19 -> 0 | AV19: =AE19*AK19 -> 0 | AW19: =AG19*AK19 -> 0
B20: =' B_Populations'!A11 -> 85+ | N20: =' B_Populations'!B11 -> 0 | O20: =IF(N20=0,0,($C$20/$N$20)*100000) -> 0 | P20: =' B_Populations'!D11 -> 0 | Q20: =IF(P20=0,0,($D$20/$P$20)*100000) -> 0 | R20: =' B_Populations'!F11 -> 0 | S20: =IF(R20=0,0,($E$20/$R$20)*100000) -> 0 | T20: =' B_Populations'!H11 -> 0 | U20: =IF(T20=0,0,($F$20/$T$20)*100000) -> 0 | V20: =' B_Populations'!J11 -> 0 | W20: =IF(V20=0,0,($G$20/$V$20)*100000) -> 0 | X20: =' B_Populations'!L11 -> 0 | Y20: =IF(X20=0,0,($H$20/$X$20)*100000) -> 0 | Z20: =' B_Populations'!N11 -> 0 | AA20: =IF(Z20=0,0,($I$20/$Z$20)*100000) -> 0 | AB20: =' B_Populations'!P11 -> 0 | AC20: =IF(AB20=0,0,($J$20/$AB$20)*100000) -> 0 | AD20: =' B_Populations'!R11 -> 0 | AE20: =IF(AD20=0,0,($K$20/$AD$20)*100000) -> 0 | AF20: =' B_Populations'!T11 -> 0 | AG20: =IF(AF20=0,0,($L$20/$AF$20)*100000) -> 0 | AJ20: =' B_Populations'!B17 -> 4259 | AK20: 0.122702 | AM20: =' B_Populations'!A11 -> 85+ | AN20: =O20*AK20 -> 0 | AO20: =Q20*AK20 -> 0 | AP20: =S20*AK20 -> 0 | AQ20: =U20*AK20 -> 0 | AR20: =W20*AK20 -> 0 | AS20: =Y20*AK20 -> 0 | AT20: =AA20*AK20 -> 0 | AU20: =AC20*AK20 -> 0 | AV20: =AE20*AK20 -> 0 | AW20: =AG20*AK20 -> 0
B21: total | C21: =SUM(C18:C20) -> 0 | D21: =SUM(D18:D20) -> 0 | E21: =SUM(E18:E20) -> 0 | F21: =SUM(F18:F20) -> 0 | G21: =SUM(G18:G20) -> 0 | H21: =SUM(H18:H20) -> 0 | I21: =SUM(I18:I20) -> 0 | J21: =SUM(J18:J20) -> 0 | ... L21: =SUM(L18:L20) -> 0 | N21: =' B_Populations'!B12 -> 0 | O21: =SUM(O18:O20) -> 0 | P21: =' B_Populations'!D12 -> 0 | Q21: =SUM(Q18:Q20) -> 0 | R21: =' B_Populations'!F12 -> 0 | S21: =SUM(S18:S20) -> 0 | T21: =' B_Populations'!H12 -> 0 | U21: =SUM(U18:U20) -> 0 | V21: =' B_Populations'!J12 -> 0 | W21: =SUM(W18:W20) -> 0 | X21: =' B_Populations'!L12 -> 0 | Y21: =SUM(Y18:Y20) -> 0 | Z21: =' B_Populations'!N12 -> 0 | AA21: =SUM(AA18:AA20) -> 0 | AB21: =' B_Populations'!P12 -> 0 | AC21: =SUM(AC18:AC20) -> 0 | AD21: =' B_Populations'!R12 -> 0 | AE21: =SUM(AE18:AE20) -> 0 | AF21: =' B_Populations'!T12 -> 0 | AG21: =SUM(AG18:AG20) -> 0 | AJ21: =' B_Populations'!B18 -> 34710 | AK21: 1 | AM21: total | AN21: =SUM(AN18:AN20) -> 0 | AO21: =SUM(AO18:AO20) -> 0 | AP21: =SUM(AP18:AP20) -> 0 | AQ21: =SUM(AQ18:AQ20) -> 0 | AR21: =SUM(AR18:AR20) -> 0 | AS21: =SUM(AS18:AS20) -> 0 | AT21: =SUM(AT18:AT20) -> 0 | AU21: =SUM(AU18:AU20) -> 0 | ... AW21: =SUM(AW18:AW20) -> 0

Sheet E_Year 2
A1: Year 2 | B1: Data Input Tables Instructions: Please enter the actual Data Year in cell A1. Enter your Older Adult Falls-related injury data in the red cells below. The age-adjusted rates will automatically calculate in the results table. | F1: Use columns F through L to enter demographic data | N1: Optional: Unhide columns O through AK to show rate calculations and 2000 population weights | AI1: Columns AM through AV will then autogenerate age adjusted rates per 100,000 | AL1: Results Table Age Adjusted Rates per 100,1000. Results will calculate automatically.
D2: Sex Data | F2: Demographic Data | AM2: Age-adjusted Rates per 100,000 population
B3: Age | C3: Number of hospitalizations- Total | D3: Number of hospitalizations- Male | E3: Number of hospitalizations- Female | F3: =[1]Populations!I62 -> White-Not Hispanic | G3: =[1]Populations!K62 -> Hispanic | H3: =[1]Populations!M62 -> Black-Not Hispanic | I3: =[1]Populations!O62 -> Asian | J3: =[1]Populations!Q62 -> American Indian/Alaska Native | K3: =[1]Populations!S62 -> Other | L3: =[1]Populations!U62 -> Other | N3: State Population Total | O3: Rate | P3: Male | Q3: Rate | R3: Female | S3: Rate | T3: =[1]Populations!I62 -> White-Not Hispanic | U3: Rate | V3: =[1]Populations!K62 -> Hispanic | W3: Rate | X3: =[1]Populations!M62 -> Black-Not Hispanic | Y3: Rate | Z3: =[1]Populations!O62 -> Asian | AA3: Rate | AB3: =[1]Populations!Q62 -> American Indian/Alaska Native | AC3: Rate | AD3: =[1]Populations!S62 -> Other | AE3: Rate | AF3: =[1]Populations!U62 -> Other | AG3: Rate | AI3: 2000 Standard population - from "Populations" tab | AJ3: Weight | AL3: Age | AM3: Total | AN3: Male | AO3: Female | AP3: =[1]Populations!I62 -> White-Not Hispanic | AQ3: =[1]Populations!K62 -> Hispanic | AR3: =[1]Populations!M62 -> Black-Not Hispanic | AS3: =[1]Populations!O62 -> Asian | AT3: =[1]Populations!Q62 -> American Indian/Alaska Native | AU3: =[1]Populations!S62 -> Other | AV3: =[1]Populations!U62 -> Other
B4: =' B_Populations'!A9 -> 65-74 | N4: =' B_Populations'!B9 -> 0 | O4: =IF(N4=0,0,($C$4/$N$4)*100000) -> 0 | P4: =' B_Populations'!D9 -> 0 | Q4: =IF(P4=0,0,($D$4/$P$4)*100000) -> 0 | R4: =' B_Populations'!F9 -> 0 | S4: =IF(R4=0,0,($E$4/$R$4)*100000) -> 0 | T4: =' B_Populations'!H9 -> 0 | U4: =IF(T4=0,0,($F$4/$T$4)*100000) -> 0 | V4: =' B_Populations'!J9 -> 0 | W4: =IF(V4=0,0,($G$4/$V$4)*100000) -> 0 | X4: =' B_Populations'!L9 -> 0 | Y4: =IF(X4=0,0,($H$4/$X$4)*100000) -> 0 | Z4: =' B_Populations'!N9 -> 0 | AA4: =IF(Z4=0,0,($I$4/$Z$4)*100000) -> 0 | AB4: =' B_Populations'!P9 -> 0 | AC4: =IF(AB4=0,0,($J$4/$AB$4)*100000) -> 0 | AD4: =' B_Populations'!R9 -> 0 | AE4: =IF(AD4=0,0,($K$4/$AD$4)*100000) -> 0 | AF4: =' B_Populations'!T9 -> 0 | AG4: =IF(AF4=0,0,($L$4/$AF$4)*100000) -> 0 | AI4: =' B_Populations'!B15 -> 18136 | AJ4: 0.522501 | AL4: =' B_Populations'!A9 -> 65-74 | AM4: =O4*AJ4 -> 0 | AN4: =Q4*AJ4 -> 0 | AO4: =S4*AJ4 -> 0 | AP4: =U4*AJ4 -> 0 | AQ4: =W4*AJ4 -> 0 | AR4: =Y4*AJ4 -> 0 | AS4: =AA4*AJ4 -> 0 | AT4: =AC4*AJ4 -> 0 | AU4: =AE4*AJ4 -> 0 | AV4: =AG4*AJ4 -> 0
B5: =' B_Populations'!A10 -> 75-84 | N5: =' B_Populations'!B10 -> 0 | O5: =IF(N5=0,0,($C$5/$N$5)*100000) -> 0 | P5: =' B_Populations'!D10 -> 0 | Q5: =IF(P5=0,0,($D$5/$P$5)*100000) -> 0 | R5: =' B_Populations'!F10 -> 0 | S5: =IF(R5=0,0,($E$5/$R$5)*100000) -> 0 | T5: =' B_Populations'!H10 -> 0 | U5: =IF(T5=0,0,($F$5/$T$5)*100000) -> 0 | V5: =' B_Populations'!J10 -> 0 | W5: =IF(V5=0,0,($G$5/$V$5)*100000) -> 0 | X5: =' B_Populations'!L10 -> 0 | Y5: =IF(X5=0,0,($G$5/$X$5)*100000) -> 0 | Z5: =' B_Populations'!N10 -> 0 | AA5: =IF(Z5=0,0,($I$5/$Z$5)*100000) -> 0 | AB5: =' B_Populations'!P10 -> 0 | AC5: =IF(AB5=0,0,($J$5/$AB$5)*100000) -> 0 | AD5: =' B_Populations'!R10 -> 0 | AE5: =IF(AD5=0,0,($K$5/$AD$5)*100000) -> 0 | AF5: =' B_Populations'!T10 -> 0 | AG5: =IF(AF5=0,0,($L$5/$AF$5)*100000) -> 0 | AI5: =' B_Populations'!B16 -> 12315 | AJ5: 0.354797 | AL5: =' B_Populations'!A10 -> 75-84 | AM5: =O5*AJ5 -> 0 | AN5: =Q5*AJ5 -> 0 | AO5: =S5*AJ5 -> 0 | AP5: =U5*AJ5 -> 0 | AQ5: =W5*AJ5 -> 0 | AR5: =Y5*AJ5 -> 0 | AS5: =AA5*AJ5 -> 0 | AT5: =AC5*AJ5 -> 0 | AU5: =AE5*AJ5 -> 0 | AV5: =AG5*AJ5 -> 0
B6: =' B_Populations'!A11 -> 85+ | N6: =' B_Populations'!B11 -> 0 | O6: =IF(N6=0,0,($C$6/$N$6)*100000) -> 0 | P6: =' B_Populations'!D11 -> 0 | Q6: =IF(P6=0,0,($D$6/$P$6)*100000) -> 0 | R6: =' B_Populations'!F11 -> 0 | S6: =IF(R6=0,0,($E$6/$R$6)*100000) -> 0 | T6: =' B_Populations'!H11 -> 0 | U6: =IF(T6=0,0,($F$6/$T$6)*100000) -> 0 | V6: =' B_Populations'!J11 -> 0 | W6: =IF(V6=0,0,($G$6/$V$6)*100000) -> 0 | X6: =' B_Populations'!L11 -> 0 | Y6: =IF(X6=0,0,($G$6/$X$6)*100000) -> 0 | Z6: =' B_Populations'!N11 -> 0 | AA6: =IF(Z6=0,0,($I$6/$Z$6)*100000) -> 0 | AB6: =' B_Populations'!P11 -> 0 | AC6: =IF(AB6=0,0,($J$6/$AB$6)*100000) -> 0 | AD6: =' B_Populations'!R11 -> 0 | AE6: =IF(AD6=0,0,($K$6/$AD$6)*100000) -> 0 | AF6: =' B_Populations'!T11 -> 0 | AG6: =IF(AF6=0,0,($L$6/$AF$6)*100000) -> 0 | AI6: =' B_Populations'!B17 -> 4259 | AJ6: 0.122702 | AL6: =' B_Populations'!A11 -> 85+ | AM6: =O6*AJ6 -> 0 | AN6: =Q6*AJ6 -> 0 | AO6: =S6*AJ6 -> 0 | AP6: =U6*AJ6 -> 0 | AQ6: =W6*AJ6 -> 0 | AR6: =Y6*AJ6 -> 0 | AS6: =AA6*AJ6 -> 0 | AT6: =AC6*AJ6 -> 0 | AU6: =AE6*AJ6 -> 0 | AV6: =AG6*AJ6 -> 0
B7: total | C7: =SUM(C4:C6) -> 0 | D7: =SUM(D4:D6) -> 0 | E7: =SUM(E4:E6) -> 0 | F7: =SUM(F4:F6) -> 0 | G7: =SUM(G4:G6) -> 0 | H7: =SUM(H4:H6) -> 0 | I7: =SUM(I4:I6) -> 0 | J7: =SUM(J4:J6) -> 0 | ... L7: =SUM(L4:L6) -> 0 | N7: =' B_Populations'!B12 -> 0 | O7: =SUM(O4:O6) -> 0 | P7: =' B_Populations'!D12 -> 0 | Q7: =SUM(Q4:Q6) -> 0 | R7: =' B_Populations'!F12 -> 0 | S7: =SUM(S4:S6) -> 0 | T7: =' B_Populations'!H12 -> 0 | U7: =SUM(U4:U6) -> 0 | V7: =' B_Populations'!J12 -> 0 | W7: =SUM(W4:W6) -> 0 | X7: =' B_Populations'!L12 -> 0 | Y7: =SUM(Y4:Y6) -> 0 | Z7: =' B_Populations'!N12 -> 0 | AA7: =SUM(AA4:AA6) -> 0 | AB7: =' B_Populations'!P12 -> 0 | AC7: =SUM(AC4:AC6) -> 0 | AD7: =' B_Populations'!R12 -> 0 | AE7: =SUM(AE4:AE6) -> 0 | AF7: =' B_Populations'!T12 -> 0 | AG7: =SUM(AG4:AG6) -> 0 | AI7: =' B_Populations'!B18 -> 34710 | AJ7: 1 | AL7: =[1]Populations!B22 -> Total | AM7: =SUM(AM4:AM6) -> 0 | AN7: =SUM(AN4:AN6) -> 0 | AO7: =SUM(AO4:AO6) -> 0 | AP7: =SUM(AP4:AP6) -> 0 | AQ7: =SUM(AQ4:AQ6) -> 0 | AR7: =SUM(AR4:AR6) -> 0 | AS7: =SUM(AS4:AS6) -> 0 | AT7: =SUM(AT4:AT6) -> 0 | ... AV7: =SUM(AV4:AV6) -> 0
D9: Sex Data | F9: Demographic Data | AM9: Age-adjusted Rates per 100,000 population
B10: Age | C10: Number of ED visits- Total | D10: Number of ED visits- Male | E10: Number of ED visits- Female | F10: =[1]Populations!I62 -> White-Not Hispanic | G10: =[1]Populations!K62 -> Hispanic | H10: =[1]Populations!M62 -> Black-Not Hispanic | I10: =[1]Populations!O62 -> Asian | J10: =[1]Populations!Q62 -> American Indian/Alaska Native | K10: =[1]Populations!S62 -> Other | L10: =[1]Populations!U62 -> Other | N10: State Population Total | O10: Rate | P10: Male | Q10: Rate | R10: Female | S10: Rate | T10: =[1]Populations!I62 -> White-Not Hispanic | U10: Rate | V10: =[1]Populations!K62 -> Hispanic | W10: Rate | X10: =[1]Populations!M62 -> Black-Not Hispanic | Y10: Rate | Z10: =[1]Populations!O62 -> Asian | AA10: Rate | AB10: =[1]Populations!Q62 -> American Indian/Alaska Native | AC10: Rate | AD10: =[1]Populations!S62 -> Other | AE10: Rate | AF10: =[1]Populations!U62 -> Other | AG10: Rate | AI10: 2000 Standard population - from "Populations" tab | AJ10: Weight | AL10: Age | AM10: Total | AN10: Male | AO10: Female | AP10: =[1]Populations!I62 -> White-Not Hispanic | AQ10: =[1]Populations!K62 -> Hispanic | AR10: =[1]Populations!M62 -> Black-Not Hispanic | AS10: =[1]Populations!O62 -> Asian | AT10: =[1]Populations!Q62 -> American Indian/Alaska Native | AU10: =[1]Populations!S62 -> Other | AV10: =[1]Populations!U62 -> Other
B11: =' B_Populations'!A9 -> 65-74 | N11: =' B_Populations'!B9 -> 0 | O11: =IF(N11=0,0,($C$11/$N$11)*100000) -> 0 | P11: =' B_Populations'!D9 -> 0 | Q11: =IF(P11=0,0,($D$11/$P$11)*100000) -> 0 | R11: =' B_Populations'!F9 -> 0 | S11: =IF(R11=0,0,($E$11/$R$11)*100000) -> 0 | T11: =' B_Populations'!H9 -> 0 | U11: =IF(T11=0,0,($F$11/$T$11)*100000) -> 0 | V11: =' B_Populations'!J9 -> 0 | W11: =IF(V11=0,0,($G$11/$V$11)*100000) -> 0 | X11: =' B_Populations'!L9 -> 0 | Y11: =IF(X11=0,0,($H$11/$X$11)*100000) -> 0 | Z11: =' B_Populations'!N9 -> 0 | AA11: =IF(Z11=0,0,($I$11/$Z$11)*100000) -> 0 | AB11: =' B_Populations'!P9 -> 0 | AC11: =IF(AB11=0,0,($J$11/$AB$11)*100000) -> 0 | AD11: =' B_Populations'!R9 -> 0 | AE11: =IF(AD11=0,0,($K$11/$AD$11)*100000) -> 0 | AF11: =' B_Populations'!T9 -> 0 | AG11: =IF(AF11=0,0,($L$11/$AF$11)*100000) -> 0 | AI11: =' B_Populations'!B15 -> 18136 | AJ11: 0.522501 | AL11: =' B_Populations'!A9 -> 65-74 | AM11: =O11*AJ11 -> 0 | AN11: =Q11*AJ11 -> 0 | AO11: =S11*AJ11 -> 0 | AP11: =U11*AJ11 -> 0 | AQ11: =W11*AJ11 -> 0 | AR11: =Y11*AJ11 -> 0 | AS11: =AA11*AJ11 -> 0 | AT11: =AC11*AJ11 -> 0 | AU11: =AE11*AJ11 -> 0 | AV11: =AG11*AJ11 -> 0
B12: =' B_Populations'!A10 -> 75-84 | N12: =' B_Populations'!B10 -> 0 | O12: =IF(N12=0,0,($C$12/$N$12)*100000) -> 0 | P12: =' B_Populations'!D10 -> 0 | Q12: =IF(P12=0,0,($D$12/$P$12)*100000) -> 0 | R12: =' B_Populations'!F10 -> 0 | S12: =IF(R12=0,0,($E$12/$R$12)*100000) -> 0 | T12: =' B_Populations'!H10 -> 0 | U12: =IF(T12=0,0,($F$12/$T$12)*100000) -> 0 | V12: =' B_Populations'!J10 -> 0 | W12: =IF(V12=0,0,($G$12/$V$12)*100000) -> 0 | X12: =' B_Populations'!L10 -> 0 | Y12: =IF(X12=0,0,($H$12/$X$12)*100000) -> 0 | Z12: =' B_Populations'!N10 -> 0 | AA12: =IF(Z12=0,0,($I$12/$Z$12)*100000) -> 0 | AB12: =' B_Populations'!P10 -> 0 | AC12: =IF(AB12=0,0,($J$12/$AB$12)*100000) -> 0 | AD12: =' B_Populations'!R10 -> 0 | AE12: =IF(AD12=0,0,($K$12/$AD$12)*100000) -> 0 | AF12: =' B_Populations'!T10 -> 0 | AG12: =IF(AF12=0,0,($L$12/$AF$12)*100000) -> 0 | AI12: =' B_Populations'!B16 -> 12315 | AJ12: 0.354797 | AL12: =' B_Populations'!A10 -> 75-84 | AM12: =O12*AJ12 -> 0 | AN12: =Q12*AJ12 -> 0 | AO12: =S12*AJ12 -> 0 | AP12: =U12*AJ12 -> 0 | AQ12: =W12*AJ12 -> 0 | AR12: =Y12*AJ12 -> 0 | AS12: =AA12*AJ12 -> 0 | AT12: =AC12*AJ12 -> 0 | AU12: =AE12*AJ12 -> 0 | AV12: =AG12*AJ12 -> 0
B13: =' B_Populations'!A11 -> 85+ | N13: =' B_Populations'!B11 -> 0 | O13: =IF(N13=0,0,($C$13/$N$13)*100000) -> 0 | P13: =' B_Populations'!D11 -> 0 | Q13: =IF(P13=0,0,($D$13/$P$13)*100000) -> 0 | R13: =' B_Populations'!F11 -> 0 | S13: =IF(R13=0,0,($E$13/$R$13)*100000) -> 0 | T13: =' B_Populations'!H11 -> 0 | U13: =IF(T13=0,0,($F$13/$T$13)*100000) -> 0 | V13: =' B_Populations'!J11 -> 0 | W13: =IF(V13=0,0,($G$13/$V$13)*100000) -> 0 | X13: =' B_Populations'!L11 -> 0 | Y13: =IF(X13=0,0,($H$13/$X$13)*100000) -> 0 | Z13: =' B_Populations'!N11 -> 0 | AA13: =IF(Z13=0,0,($I$13/$Z$13)*100000) -> 0 | AB13: =' B_Populations'!P11 -> 0 | AC13: =IF(AB13=0,0,($J$13/$AB$13)*100000) -> 0 | AD13: =' B_Populations'!R11 -> 0 | AE13: =IF(AD13=0,0,($K$13/$AD$13)*100000) -> 0 | AF13: =' B_Populations'!T11 -> 0 | AG13: =IF(AF13=0,0,($L$13/$AF$13)*100000) -> 0 | AI13: =' B_Populations'!B17 -> 4259 | AJ13: 0.122702 | AL13: =' B_Populations'!A11 -> 85+ | AM13: =O13*AJ13 -> 0 | AN13: =Q13*AJ13 -> 0 | AO13: =S13*AJ13 -> 0 | AP13: =U13*AJ13 -> 0 | AQ13: =W13*AJ13 -> 0 | AR13: =Y13*AJ13 -> 0 | AS13: =AA13*AJ13 -> 0 | AT13: =AC13*AJ13 -> 0 | AU13: =AE13*AJ13 -> 0 | AV13: =AG13*AJ13 -> 0
B14: total | C14: =SUM(C11:C13) -> 0 | D14: =SUM(D11:D13) -> 0 | E14: =SUM(E11:E13) -> 0 | F14: =SUM(F11:F13) -> 0 | G14: =SUM(G11:G13) -> 0 | H14: =SUM(H11:H13) -> 0 | I14: =SUM(I11:I13) -> 0 | J14: =SUM(J11:J13) -> 0 | ... L14: =SUM(L11:L13) -> 0 | N14: =' B_Populations'!B12 -> 0 | O14: =SUM(O11:O13) -> 0 | P14: =' B_Populations'!D12 -> 0 | Q14: =SUM(Q11:Q13) -> 0 | R14: =' B_Populations'!F12 -> 0 | S14: =SUM(S11:S13) -> 0 | T14: =' B_Populations'!H12 -> 0 | U14: =SUM(U11:U13) -> 0 | V14: =' B_Populations'!J12 -> 0 | W14: =SUM(W11:W13) -> 0 | X14: =' B_Populations'!L12 -> 0 | Y14: =SUM(Y11:Y13) -> 0 | Z14: =' B_Populations'!N12 -> 0 | AA14: =SUM(AA11:AA13) -> 0 | AB14: =' B_Populations'!P12 -> 0 | AC14: =SUM(AC11:AC13) -> 0 | AD14: =' B_Populations'!R12 -> 0 | AE14: =SUM(AE11:AE13) -> 0 | AF14: =' B_Populations'!T12 -> 0 | AG14: =SUM(AG11:AG13) -> 0 | AI14: =' B_Populations'!B18 -> 34710 | AJ14: 1 | AL14: =[1]Populations!B22 -> Total | AM14: =SUM(AM11:AM13) -> 0 | AN14: =SUM(AN11:AN13) -> 0 | AO14: =SUM(AO11:AO13) -> 0 | AP14: =SUM(AP11:AP13) -> 0 | AQ14: =SUM(AQ11:AQ13) -> 0 | AR14: =SUM(AR11:AR13) -> 0 | AS14: =SUM(AS11:AS13) -> 0 | AT14: =SUM(AT11:AT13) -> 0 | ... AV14: =SUM(AV11:AV13) -> 0
D16: Sex Data | F16: Demographic Data | AM16: Age-adjusted Rates per 100,000 population
B17: Age | C17: Number of deaths- Total | D17: Number of deaths- Male | E17: Number of deaths- Female | F17: =[1]Populations!I62 -> White-Not Hispanic | G17: =[1]Populations!K62 -> Hispanic | H17: =[1]Populations!M62 -> Black-Not Hispanic | I17: =[1]Populations!O62 -> Asian | J17: =[1]Populations!Q62 -> American Indian/Alaska Native | K17: =[1]Populations!S62 -> Other | L17: =[1]Populations!U62 -> Other | N17: State Population Total | O17: Rate | P17: Male | Q17: Rate | R17: Female | S17: Rate | T17: =[1]Populations!I62 -> White-Not Hispanic | U17: Rate | V17: =[1]Populations!K62 -> Hispanic | W17: Rate | X17: =[1]Populations!M62 -> Black-Not Hispanic | Y17: Rate | Z17: =[1]Populations!O62 -> Asian | AA17: Rate | AB17: =[1]Populations!Q62 -> American Indian/Alaska Native | AC17: Rate | AD17: =[1]Populations!S62 -> Other | AE17: Rate | AF17: =[1]Populations!U62 -> Other | AG17: Rate | AI17: 2000 Standard population - from "Populations" tab | AJ17: Weight | AL17: Age | AM17: Total | AN17: Male | AO17: Female | AP17: =[1]Populations!I62 -> White-Not Hispanic | AQ17: =[1]Populations!K62 -> Hispanic | AR17: =[1]Populations!M62 -> Black-Not Hispanic | AS17: =[1]Populations!O62 -> Asian | AT17: =[1]Populations!Q62 -> American Indian/Alaska Native | AU17: =[1]Populations!S62 -> Other | AV17: =[1]Populations!U62 -> Other
B18: =' B_Populations'!A9 -> 65-74 | N18: =' B_Populations'!B9 -> 0 | O18: =IF(N18=0,0,($C$18/$N$18)*100000) -> 0 | P18: =' B_Populations'!D9 -> 0 | Q18: =IF(P18=0,0,($D$18/$P$18)*100000) -> 0 | R18: =' B_Populations'!F9 -> 0 | S18: =IF(R18=0,0,($E$18/$R$18)*100000) -> 0 | T18: =' B_Populations'!H9 -> 0 | U18: =IF(T18=0,0,($F$18/$T$18)*100000) -> 0 | V18: =' B_Populations'!J9 -> 0 | W18: =IF(V18=0,0,($G$18/$V$18)*100000) -> 0 | X18: =' B_Populations'!L9 -> 0 | Y18: =IF(X18=0,0,($H$18/$X$18)*100000) -> 0 | Z18: =' B_Populations'!N9 -> 0 | AA18: =IF(Z18=0,0,($I$18/$Z$18)*100000) -> 0 | AB18: =' B_Populations'!P9 -> 0 | AC18: =IF(AB18=0,0,($J$18/$AB$18)*100000) -> 0 | AD18: =' B_Populations'!R9 -> 0 | AE18: =IF(AD18=0,0,($K$18/$AD$18)*100000) -> 0 | AF18: =' B_Populations'!T9 -> 0 | AG18: =IF(AF18=0,0,($L$18/$AF$18)*100000) -> 0 | AI18: =' B_Populations'!B15 -> 18136 | AJ18: 0.522501 | AL18: =' B_Populations'!A9 -> 65-74 | AM18: =O18*AJ18 -> 0 | AN18: =Q18*AJ18 -> 0 | AO18: =S18*AJ18 -> 0 | AP18: =U18*AJ18 -> 0 | AQ18: =W18*AJ18 -> 0 | AR18: =Y18*AJ18 -> 0 | AS18: =AA18*AJ18 -> 0 | AT18: =AC18*AJ18 -> 0 | AU18: =AE18*AJ18 -> 0 | AV18: =AG18*AJ18 -> 0
B19: =' B_Populations'!A10 -> 75-84 | N19: =' B_Populations'!B10 -> 0 | O19: =IF(N19=0,0,($C$19/$N$19)*100000) -> 0 | P19: =' B_Populations'!D10 -> 0 | Q19: =IF(P19=0,0,($D$19/$P$19)*100000) -> 0 | R19: =' B_Populations'!F10 -> 0 | S19: =IF(R19=0,0,($E$19/$R$19)*100000) -> 0 | T19: =' B_Populations'!H10 -> 0 | U19: =IF(T19=0,0,($F$19/$T$19)*100000) -> 0 | V19: =' B_Populations'!J10 -> 0 | W19: =IF(V19=0,0,($G$19/$V$19)*100000) -> 0 | X19: =' B_Populations'!L10 -> 0 | Y19: =IF(X19=0,0,($H$19/$X$19)*100000) -> 0 | Z19: =' B_Populations'!N10 -> 0 | AA19: =IF(Z19=0,0,($I$19/$Z$19)*100000) -> 0 | AB19: =' B_Populations'!P10 -> 0 | AC19: =IF(AB19=0,0,($J$19/$AB$19)*100000) -> 0 | AD19: =' B_Populations'!R10 -> 0 | AE19: =IF(AD19=0,0,($K$19/$AD$19)*100000) -> 0 | AF19: =' B_Populations'!T10 -> 0 | AG19: =IF(AF19=0,0,($L$19/$AF$19)*100000) -> 0 | AI19: =' B_Populations'!B16 -> 12315 | AJ19: 0.354797 | AL19: =' B_Populations'!A10 -> 75-84 | AM19: =O19*AJ19 -> 0 | AN19: =Q19*AJ19 -> 0 | AO19: =S19*AJ19 -> 0 | AP19: =U19*AJ19 -> 0 | AQ19: =W19*AJ19 -> 0 | AR19: =Y19*AJ19 -> 0 | AS19: =AA19*AJ19 -> 0 | AT19: =AC19*AJ19 -> 0 | AU19: =AE19*AJ19 -> 0 | AV19: =AG19*AJ19 -> 0
B20: =' B_Populations'!A11 -> 85+ | N20: =' B_Populations'!B11 -> 0 | O20: =IF(N20=0,0,($C$20/$N$20)*100000) -> 0 | P20: =' B_Populations'!D11 -> 0 | Q20: =IF(P20=0,0,($D$20/$P$20)*100000) -> 0 | R20: =' B_Populations'!F11 -> 0 | S20: =IF(R20=0,0,($E$20/$R$20)*100000) -> 0 | T20: =' B_Populations'!H11 -> 0 | U20: =IF(T20=0,0,($F$20/$T$20)*100000) -> 0 | V20: =' B_Populations'!J11 -> 0 | W20: =IF(V20=0,0,($G$20/$V$20)*100000) -> 0 | X20: =' B_Populations'!L11 -> 0 | Y20: =IF(X20=0,0,($H$20/$X$20)*100000) -> 0 | Z20: =' B_Populations'!N11 -> 0 | AA20: =IF(Z20=0,0,($I$20/$Z$20)*100000) -> 0 | AB20: =' B_Populations'!P11 -> 0 | AC20: =IF(AB20=0,0,($J$20/$AB$20)*100000) -> 0 | AD20: =' B_Populations'!R11 -> 0 | AE20: =IF(AD20=0,0,($K$20/$AD$20)*100000) -> 0 | AF20: =' B_Populations'!T11 -> 0 | AG20: =IF(AF20=0,0,($L$20/$AF$20)*100000) -> 0 | AI20: =' B_Populations'!B17 -> 4259 | AJ20: 0.122702 | AL20: =' B_Populations'!A11 -> 85+ | AM20: =O20*AJ20 -> 0 | AN20: =Q20*AJ20 -> 0 | AO20: =S20*AJ20 -> 0 | AP20: =U20*AJ20 -> 0 | AQ20: =W20*AJ20 -> 0 | AR20: =Y20*AJ20 -> 0 | AS20: =AA20*AJ20 -> 0 | AT20: =AC20*AJ20 -> 0 | AU20: =AE20*AJ20 -> 0 | AV20: =AG20*AJ20 -> 0
B21: total | C21: =SUM(C18:C20) -> 0 | D21: =SUM(D18:D20) -> 0 | E21: =SUM(E18:E20) -> 0 | F21: =SUM(F18:F20) -> 0 | G21: =SUM(G18:G20) -> 0 | H21: =SUM(H18:H20) -> 0 | I21: =SUM(I18:I20) -> 0 | J21: =SUM(J18:J20) -> 0 | ... L21: =SUM(L18:L20) -> 0 | N21: =' B_Populations'!B12 -> 0 | O21: =SUM(O18:O20) -> 0 | P21: =' B_Populations'!D12 -> 0 | Q21: =SUM(Q18:Q20) -> 0 | R21: =' B_Populations'!F12 -> 0 | S21: =SUM(S18:S20) -> 0 | T21: =' B_Populations'!H12 -> 0 | U21: =SUM(U18:U20) -> 0 | V21: =' B_Populations'!J12 -> 0 | W21: =SUM(W18:W20) -> 0 | X21: =' B_Populations'!L12 -> 0 | Y21: =SUM(Y18:Y20) -> 0 | Z21: =' B_Populations'!N12 -> 0 | AA21: =SUM(AA18:AA20) -> 0 | AB21: =' B_Populations'!P12 -> 0 | AC21: =SUM(AC18:AC20) -> 0 | AD21: =' B_Populations'!R12 -> 0 | AE21: =SUM(AE18:AE20) -> 0 | AF21: =' B_Populations'!T12 -> 0 | AG21: =SUM(AG18:AG20) -> 0 | AI21: =' B_Populations'!B18 -> 34710 | AJ21: 1 | AL21: =[1]Populations!B22 -> Total | AM21: =SUM(AM18:AM20) -> 0 | AN21: =SUM(AN18:AN20) -> 0 | AO21: =SUM(AO18:AO20) -> 0 | AP21: =SUM(AP18:AP20) -> 0 | AQ21: =SUM(AQ18:AQ20) -> 0 | AR21: =SUM(AR18:AR20) -> 0 | AS21: =SUM(AS18:AS20) -> 0 | AT21: =SUM(AT18:AT20) -> 0 | ... AV21: =SUM(AV18:AV20) -> 0

Sheet F_Year 3
A1: Year 3 | B1: Data Input Tables Instructions: Please enter the actual Data Year in cell A1. Enter your Older Adult Falls-related injury data in the red cells below. The age-adjusted rates will automatically calculate in the results table. | F1: Use columns F through L to enter demographic data | N1: Optional: Unhide columns O through AK to show rate calculations and 2000 population weights | AI1: Enter 2000 State population by age group. Columns AM through AV will then autogenerate age adjusted rates per 100,000 | AL1: Results Table Age Adjusted Rates per 100,1000. Results will calculate automatically.
D2: Sex Data | F2: Demographic Data | AM2: Age-adjusted Rates per 100,000 population
B3: Age | C3: Number of hospitalizations- Total | D3: Number of hospitalizations- Male | E3: Number of hospitalizations- Female | F3: =[1]Populations!I44 -> White-Not Hispanic | G3: =[1]Populations!K44 -> Hispanic | H3: =[1]Populations!M44 -> Black-Not Hispanic | I3: =[1]Populations!O44 -> Asian | J3: =[1]Populations!Q44 -> American Indian/Alaska Native | K3: =[1]Populations!S44 -> Other | L3: =[1]Populations!U44 -> Other | N3: State Population Total | O3: Rate | P3: =[1]Populations!E44 -> Male | Q3: Rate | R3: =[1]Populations!G44 -> Female | S3: Rate | T3: =[1]Populations!I44 -> White-Not Hispanic | U3: Rate | V3: =[1]Populations!K44 -> Hispanic | W3: Rate | X3: =[1]Populations!M44 -> Black-Not Hispanic | Y3: Rate | Z3: =[1]Populations!O44 -> Asian | AA3: Rate | AB3: =[1]Populations!Q44 -> American Indian/Alaska Native | AC3: Rate | AD3: =[1]Populations!S44 -> Other | AE3: Rate | AF3: =[1]Populations!U44 -> Other | AG3: Rate | AI3: 2000 Standard population - from "Populations" tab | AJ3: Weight | AL3: Age | AM3: Total | AN3: Male | AO3: Female | AP3: =[1]Populations!I44 -> White-Not Hispanic | AQ3: =[1]Populations!K44 -> Hispanic | AR3: =[1]Populations!M44 -> Black-Not Hispanic | AS3: =[1]Populations!O44 -> Asian | AT3: =[1]Populations!Q44 -> American Indian/Alaska Native | AU3: =[1]Populations!S44 -> Other | AV3: =[1]Populations!U44 -> Other
B4: =' B_Populations'!A9 -> 65-74 | N4: =' B_Populations'!B9 -> 0 | O4: =IF(N4=0,0,($C$4/$N$4)*100000) -> 0 | P4: =' B_Populations'!D9 -> 0 | Q4: =IF(P4=0,0,($D$4/$P$4)*100000) -> 0 | R4: =' B_Populations'!F9 -> 0 | S4: =IF(R4=0,0,($E$4/$R$4)*100000) -> 0 | T4: =' B_Populations'!H9 -> 0 | U4: =IF(T4=0,0,($F$4/$T$4)*100000) -> 0 | V4: =' B_Populations'!J9 -> 0 | W4: =IF(V4=0,0,($G$4/$V$4)*100000) -> 0 | X4: =' B_Populations'!L9 -> 0 | Y4: =IF(X4=0,0,($H$4/$X$4)*100000) -> 0 | Z4: =' B_Populations'!N9 -> 0 | AA4: =IF(Z4=0,0,($I$4/$Z$4)*100000) -> 0 | AB4: =' B_Populations'!P9 -> 0 | AC4: =IF(AB4=0,0,($J$4/$AB$4)*100000) -> 0 | AD4: =' B_Populations'!R9 -> 0 | AE4: =IF(AD4=0,0,($K$4/$AD$4)*100000) -> 0 | AF4: =' B_Populations'!T9 -> 0 | AG4: =IF(AF4=0,0,($L$4/$AF$4)*100000) -> 0 | AI4: =' B_Populations'!B15 -> 18136 | AJ4: 0.522501 | AL4: =' B_Populations'!A9 -> 65-74 | AM4: =O4*AJ4 -> 0 | AN4: =Q4*AJ4 -> 0 | AO4: =S4*AJ4 -> 0 | AP4: =U4*AJ4 -> 0 | AQ4: =W4*AJ4 -> 0 | AR4: =Y4*AJ4 -> 0 | AS4: =AA4*AJ4 -> 0 | AT4: =AC4*AJ4 -> 0 | AU4: =AE4*AJ4 -> 0 | AV4: =AG4*AJ4 -> 0
B5: =' B_Populations'!A10 -> 75-84 | N5: =' B_Populations'!B10 -> 0 | O5: =IF(N5=0,0,($C$5/$N$5)*100000) -> 0 | P5: =' B_Populations'!D10 -> 0 | Q5: =IF(P5=0,0,($D$5/$P$5)*100000) -> 0 | R5: =' B_Populations'!F10 -> 0 | S5: =IF(R5=0,0,($E$5/$R$5)*100000) -> 0 | T5: =' B_Populations'!H10 -> 0 | U5: =IF(T5=0,0,($F$5/$T$5)*100000) -> 0 | V5: =' B_Populations'!J10 -> 0 | W5: =IF(V5=0,0,($G$5/$V$5)*100000) -> 0 | X5: =' B_Populations'!L10 -> 0 | Y5: =IF(X5=0,0,($G$5/$X$5)*100000) -> 0 | Z5: =' B_Populations'!N10 -> 0 | AA5: =IF(Z5=0,0,($I$5/$Z$5)*100000) -> 0 | AB5: =' B_Populations'!P10 -> 0 | AC5: =IF(AB5=0,0,($J$5/$AB$5)*100000) -> 0 | AD5: =' B_Populations'!R10 -> 0 | AE5: =IF(AD5=0,0,($K$5/$AD$5)*100000) -> 0 | AF5: =' B_Populations'!T10 -> 0 | AG5: =IF(AF5=0,0,($L$5/$AF$5)*100000) -> 0 | AI5: =' B_Populations'!B16 -> 12315 | AJ5: 0.354797 | AL5: =' B_Populations'!A10 -> 75-84 | AM5: =O5*AJ5 -> 0 | AN5: =Q5*AJ5 -> 0 | AO5: =S5*AJ5 -> 0 | AP5: =U5*AJ5 -> 0 | AQ5: =W5*AJ5 -> 0 | AR5: =Y5*AJ5 -> 0 | AS5: =AA5*AJ5 -> 0 | AT5: =AC5*AJ5 -> 0 | AU5: =AE5*AJ5 -> 0 | AV5: =AG5*AJ5 -> 0
B6: =' B_Populations'!A11 -> 85+ | N6: =' B_Populations'!B11 -> 0 | O6: =IF(N6=0,0,($C$6/$N$6)*100000) -> 0 | P6: =' B_Populations'!D11 -> 0 | Q6: =IF(P6=0,0,($D$6/$P$6)*100000) -> 0 | R6: =' B_Populations'!F11 -> 0 | S6: =IF(R6=0,0,($E$6/$R$6)*100000) -> 0 | T6: =' B_Populations'!H11 -> 0 | U6: =IF(T6=0,0,($F$6/$T$6)*100000) -> 0 | V6: =' B_Populations'!J11 -> 0 | W6: =IF(V6=0,0,($G$6/$V$6)*100000) -> 0 | X6: =' B_Populations'!L11 -> 0 | Y6: =IF(X6=0,0,($G$6/$X$6)*100000) -> 0 | Z6: =' B_Populations'!N11 -> 0 | AA6: =IF(Z6=0,0,($I$6/$Z$6)*100000) -> 0 | AB6: =' B_Populations'!P11 -> 0 | AC6: =IF(AB6=0,0,($J$6/$AB$6)*100000) -> 0 | AD6: =' B_Populations'!R11 -> 0 | AE6: =IF(AD6=0,0,($K$6/$AD$6)*100000) -> 0 | AF6: =' B_Populations'!T11 -> 0 | AG6: =IF(AF6=0,0,($L$6/$AF$6)*100000) -> 0 | AI6: =' B_Populations'!B17 -> 4259 | AJ6: 0.122702 | AL6: =' B_Populations'!A11 -> 85+ | AM6: =O6*AJ6 -> 0 | AN6: =Q6*AJ6 -> 0 | AO6: =S6*AJ6 -> 0 | AP6: =U6*AJ6 -> 0 | AQ6: =W6*AJ6 -> 0 | AR6: =Y6*AJ6 -> 0 | AS6: =AA6*AJ6 -> 0 | AT6: =AC6*AJ6 -> 0 | AU6: =AE6*AJ6 -> 0 | AV6: =AG6*AJ6 -> 0
B7: total | C7: =SUM(C4:C6) -> 0 | D7: =SUM(D4:D6) -> 0 | E7: =SUM(E4:E6) -> 0 | F7: =SUM(F4:F6) -> 0 | G7: =SUM(G4:G6) -> 0 | H7: =SUM(H4:H6) -> 0 | I7: =SUM(I4:I6) -> 0 | J7: =SUM(J4:J6) -> 0 | ... L7: =SUM(L4:L6) -> 0 | N7: =' B_Populations'!B12 -> 0 | O7: =SUM(O4:O6) -> 0 | P7: =' B_Populations'!D12 -> 0 | Q7: =SUM(Q4:Q6) -> 0 | R7: =' B_Populations'!F12 -> 0 | S7: =SUM(S4:S6) -> 0 | T7: =' B_Populations'!H12 -> 0 | U7: =SUM(U4:U6) -> 0 | V7: =' B_Populations'!J12 -> 0 | W7: =SUM(W4:W6) -> 0 | X7: =' B_Populations'!L12 -> 0 | Y7: =SUM(Y4:Y6) -> 0 | Z7: =' B_Populations'!N12 -> 0 | AA7: =SUM(AA4:AA6) -> 0 | AB7: =' B_Populations'!P12 -> 0 | AC7: =SUM(AC4:AC6) -> 0 | AD7: =' B_Populations'!R12 -> 0 | AE7: =SUM(AE4:AE6) -> 0 | AF7: =' B_Populations'!T12 -> 0 | AG7: =SUM(AG4:AG6) -> 0 | AI7: =' B_Populations'!B18 -> 34710 | AJ7: 1 | AL7: Total | AM7: =SUM(AM4:AM6) -> 0 | AN7: =SUM(AN4:AN6) -> 0 | AO7: =SUM(AO4:AO6) -> 0 | AP7: =SUM(AP4:AP6) -> 0 | AQ7: =SUM(AQ4:AQ6) -> 0 | AR7: =SUM(AR4:AR6) -> 0 | AS7: =SUM(AS4:AS6) -> 0 | AT7: =SUM(AT4:AT6) -> 0 | ... AV7: =SUM(AV4:AV6) -> 0
D9: Sex Data | F9: Demographic Data | AM9: Age-adjusted Rates per 100,000 population
B10: Age | C10: Number of ED visits- Total | D10: Number of ED visits- Male | E10: Number of ED visits- Female | F10: =[1]Populations!I44 -> White-Not Hispanic | G10: =[1]Populations!K44 -> Hispanic | H10: =[1]Populations!M44 -> Black-Not Hispanic | I10: =[1]Populations!O44 -> Asian | J10: =[1]Populations!Q44 -> American Indian/Alaska Native | K10: =[1]Populations!S44 -> Other | L10: =[1]Populations!U44 -> Other | N10: State Population Total | O10: Rate | P10: =[1]Populations!E44 -> Male | Q10: Rate | R10: =[1]Populations!G44 -> Female | S10: Rate | T10: =[1]Populations!I44 -> White-Not Hispanic | U10: Rate | V10: =[1]Populations!K44 -> Hispanic | W10: Rate | X10: =[1]Populations!M44 -> Black-Not Hispanic | Y10: Rate | Z10: =[1]Populations!O44 -> Asian | AA10: Rate | AB10: =[1]Populations!Q44 -> American Indian/Alaska Native | AC10: Rate | AD10: =[1]Populations!S44 -> Other | AE10: Rate | AF10: =[1]Populations!U44 -> Other | AG10: Rate | AI10: 2000 Standard population - from "Populations" tab | AJ10: Weight | AL10: Age | AM10: Total | AN10: Male | AO10: Female | AP10: =[1]Populations!I44 -> White-Not Hispanic | AQ10: =[1]Populations!K44 -> Hispanic | AR10: =[1]Populations!M44 -> Black-Not Hispanic | AS10: =[1]Populations!O44 -> Asian | AT10: =[1]Populations!Q44 -> American Indian/Alaska Native | AU10: =[1]Populations!S44 -> Other | AV10: =[1]Populations!U44 -> Other
B11: =' B_Populations'!A9 -> 65-74 | N11: =' B_Populations'!B9 -> 0 | O11: =IF(N11=0,0,($C$11/$N$11)*100000) -> 0 | P11: =' B_Populations'!D9 -> 0 | Q11: =IF(P11=0,0,($D$11/$P$11)*100000) -> 0 | R11: =' B_Populations'!F9 -> 0 | S11: =IF(R11=0,0,($E$11/$R$11)*100000) -> 0 | T11: =' B_Populations'!H9 -> 0 | U11: =IF(T11=0,0,($F$11/$T$11)*100000) -> 0 | V11: =' B_Populations'!J9 -> 0 | W11: =IF(V11=0,0,($G$11/$V$11)*100000) -> 0 | X11: =' B_Populations'!L9 -> 0 | Y11: =IF(X11=0,0,($H$11/$X$11)*100000) -> 0 | Z11: =' B_Populations'!N9 -> 0 | AA11: =IF(Z11=0,0,($I$11/$Z$11)*100000) -> 0 | AB11: =' B_Populations'!P9 -> 0 | AC11: =IF(AB11=0,0,($J$11/$AB$11)*100000) -> 0 | AD11: =' B_Populations'!R9 -> 0 | AE11: =IF(AD11=0,0,($K$11/$AD$11)*100000) -> 0 | AF11: =' B_Populations'!T9 -> 0 | AG11: =IF(AF11=0,0,($L$11/$AF$11)*100000) -> 0 | AI11: =' B_Populations'!B15 -> 18136 | AJ11: 0.522501 | AL11: =' B_Populations'!A9 -> 65-74 | AM11: =O11*AJ11 -> 0 | AN11: =Q11*AJ11 -> 0 | AO11: =S11*AJ11 -> 0 | AP11: =U11*AJ11 -> 0 | AQ11: =W11*AJ11 -> 0 | AR11: =Y11*AJ11 -> 0 | AS11: =AA11*AJ11 -> 0 | AT11: =AC11*AJ11 -> 0 | AU11: =AE11*AJ11 -> 0 | AV11: =AG11*AJ11 -> 0
B12: =' B_Populations'!A10 -> 75-84 | N12: =' B_Populations'!B10 -> 0 | O12: =IF(N12=0,0,($C$12/$N$12)*100000) -> 0 | P12: =' B_Populations'!D10 -> 0 | Q12: =IF(P12=0,0,($D$12/$P$12)*100000) -> 0 | R12: =' B_Populations'!F10 -> 0 | S12: =IF(R12=0,0,($E$12/$R$12)*100000) -> 0 | T12: =' B_Populations'!H10 -> 0 | U12: =IF(T12=0,0,($F$12/$T$12)*100000) -> 0 | V12: =' B_Populations'!J10 -> 0 | W12: =IF(V12=0,0,($G$12/$V$12)*100000) -> 0 | X12: =' B_Populations'!L10 -> 0 | Y12: =IF(X12=0,0,($H$12/$X$12)*100000) -> 0 | Z12: =' B_Populations'!N10 -> 0 | AA12: =IF(Z12=0,0,($I$12/$Z$12)*100000) -> 0 | AB12: =' B_Populations'!P10 -> 0 | AC12: =IF(AB12=0,0,($J$12/$AB$12)*100000) -> 0 | AD12: =' B_Populations'!R10 -> 0 | AE12: =IF(AD12=0,0,($K$12/$AD$12)*100000) -> 0 | AF12: =' B_Populations'!T10 -> 0 | AG12: =IF(AF12=0,0,($L$12/$AF$12)*100000) -> 0 | AI12: =' B_Populations'!B16 -> 12315 | AJ12: 0.354797 | AL12: =' B_Populations'!A10 -> 75-84 | AM12: =O12*AJ12 -> 0 | AN12: =Q12*AJ12 -> 0 | AO12: =S12*AJ12 -> 0 | AP12: =U12*AJ12 -> 0 | AQ12: =W12*AJ12 -> 0 | AR12: =Y12*AJ12 -> 0 | AS12: =AA12*AJ12 -> 0 | AT12: =AC12*AJ12 -> 0 | AU12: =AE12*AJ12 -> 0 | AV12: =AG12*AJ12 -> 0
B13: =' B_Populations'!A11 -> 85+ | N13: =' B_Populations'!B11 -> 0 | O13: =IF(N13=0,0,($C$13/$N$13)*100000) -> 0 | P13: =' B_Populations'!D11 -> 0 | Q13: =IF(P13=0,0,($D$13/$P$13)*100000) -> 0 | R13: =' B_Populations'!F11 -> 0 | S13: =IF(R13=0,0,($E$13/$R$13)*100000) -> 0 | T13: =' B_Populations'!H11 -> 0 | U13: =IF(T13=0,0,($F$13/$T$13)*100000) -> 0 | V13: =' B_Populations'!J11 -> 0 | W13: =IF(V13=0,0,($G$13/$V$13)*100000) -> 0 | X13: =' B_Populations'!L11 -> 0 | Y13: =IF(X13=0,0,($H$13/$X$13)*100000) -> 0 | Z13: =' B_Populations'!N11 -> 0 | AA13: =IF(Z13=0,0,($I$13/$Z$13)*100000) -> 0 | AB13: =' B_Populations'!P11 -> 0 | AC13: =IF(AB13=0,0,($J$13/$AB$13)*100000) -> 0 | AD13: =' B_Populations'!R11 -> 0 | AE13: =IF(AD13=0,0,($K$13/$AD$13)*100000) -> 0 | AF13: =' B_Populations'!T11 -> 0 | AG13: =IF(AF13=0,0,($L$13/$AF$13)*100000) -> 0 | AI13: =' B_Populations'!B17 -> 4259 | AJ13: 0.122702 | AL13: =' B_Populations'!A11 -> 85+ | AM13: =O13*AJ13 -> 0 | AN13: =Q13*AJ13 -> 0 | AO13: =S13*AJ13 -> 0 | AP13: =U13*AJ13 -> 0 | AQ13: =W13*AJ13 -> 0 | AR13: =Y13*AJ13 -> 0 | AS13: =AA13*AJ13 -> 0 | AT13: =AC13*AJ13 -> 0 | AU13: =AE13*AJ13 -> 0 | AV13: =AG13*AJ13 -> 0
B14: total | C14: =SUM(C11:C13) -> 0 | D14: =SUM(D11:D13) -> 0 | E14: =SUM(E11:E13) -> 0 | F14: =SUM(F11:F13) -> 0 | G14: =SUM(G11:G13) -> 0 | H14: =SUM(H11:H13) -> 0 | I14: =SUM(I11:I13) -> 0 | J14: =SUM(J11:J13) -> 0 | ... L14: =SUM(L11:L13) -> 0 | N14: =' B_Populations'!B12 -> 0 | O14: =SUM(O11:O13) -> 0 | P14: =' B_Populations'!D12 -> 0 | Q14: =SUM(Q11:Q13) -> 0 | R14: =' B_Populations'!F12 -> 0 | S14: =SUM(S11:S13) -> 0 | T14: =' B_Populations'!H12 -> 0 | U14: =SUM(U11:U13) -> 0 | V14: =' B_Populations'!J12 -> 0 | W14: =SUM(W11:W13) -> 0 | X14: =' B_Populations'!L12 -> 0 | Y14: =SUM(Y11:Y13) -> 0 | Z14: =' B_Populations'!N12 -> 0 | AA14: =SUM(AA11:AA13) -> 0 | AB14: =' B_Populations'!P12 -> 0 | AC14: =SUM(AC11:AC13) -> 0 | AD14: =' B_Populations'!R12 -> 0 | AE14: =SUM(AE11:AE13) -> 0 | AF14: =' B_Populations'!T12 -> 0 | AG14: =SUM(AG11:AG13) -> 0 | AI14: =' B_Populations'!B18 -> 34710 | AJ14: 1 | AL14: =[1]Populations!B22 -> Total | AM14: =SUM(AM11:AM13) -> 0 | AN14: =SUM(AN11:AN13) -> 0 | AO14: =SUM(AO11:AO13) -> 0 | AP14: =SUM(AP11:AP13) -> 0 | AQ14: =SUM(AQ11:AQ13) -> 0 | AR14: =SUM(AR11:AR13) -> 0 | AS14: =SUM(AS11:AS13) -> 0 | AT14: =SUM(AT11:AT13) -> 0 | ... AV14: =SUM(AV11:AV13) -> 0
D16: Sex Data | F16: Demographic Data | AM16: Age-adjusted Rates per 100,000 population
B17: Age | C17: Number of deaths- Total | D17: Number of deaths- Male | E17: Number of deaths- Female | F17: =[1]Populations!I44 -> White-Not Hispanic | G17: =[1]Populations!K44 -> Hispanic | H17: =[1]Populations!M44 -> Black-Not Hispanic | I17: =[1]Populations!O44 -> Asian | J17: =[1]Populations!Q44 -> American Indian/Alaska Native | K17: =[1]Populations!S44 -> Other | L17: =[1]Populations!U44 -> Other | N17: State Population Total | O17: Rate | P17: =[1]Populations!E44 -> Male | Q17: Rate | R17: =[1]Populations!G44 -> Female | S17: Rate | T17: =[1]Populations!I44 -> White-Not Hispanic | U17: Rate | V17: =[1]Populations!K44 -> Hispanic | W17: Rate | X17: =[1]Populations!M44 -> Black-Not Hispanic | Y17: Rate | Z17: =[1]Populations!O44 -> Asian | AA17: Rate | AB17: =[1]Populations!Q44 -> American Indian/Alaska Native | AC17: Rate | AD17: =[1]Populations!S44 -> Other | AE17: Rate | AF17: =[1]Populations!U44 -> Other | AG17: Rate | AI17: 2000 Standard population - from "Populations" tab | AJ17: Weight | AL17: Age | AM17: Total | AN17: Male | AO17: Female | AP17: =[1]Populations!I44 -> White-Not Hispanic | AQ17: =[1]Populations!K44 -> Hispanic | AR17: =[1]Populations!M44 -> Black-Not Hispanic | AS17: =[1]Populations!O44 -> Asian | AT17: =[1]Populations!Q44 -> American Indian/Alaska Native | AU17: =[1]Populations!S44 -> Other | AV17: =[1]Populations!U44 -> Other
B18: =' B_Populations'!A9 -> 65-74 | N18: =' B_Populations'!B9 -> 0 | O18: =IF(N18=0,0,($C$18/$N$18)*100000) -> 0 | P18: =' B_Populations'!D9 -> 0 | Q18: =IF(P18=0,0,($D$18/$P$18)*100000) -> 0 | R18: =' B_Populations'!F9 -> 0 | S18: =IF(R18=0,0,($E$18/$R$18)*100000) -> 0 | T18: =' B_Populations'!H9 -> 0 | U18: =IF(T18=0,0,($F$18/$T$18)*100000) -> 0 | V18: =' B_Populations'!J9 -> 0 | W18: =IF(V18=0,0,($G$18/$V$18)*100000) -> 0 | X18: =' B_Populations'!L9 -> 0 | Y18: =IF(X18=0,0,($H$18/$X$18)*100000) -> 0 | Z18: =' B_Populations'!N9 -> 0 | AA18: =IF(Z18=0,0,($I$18/$Z$18)*100000) -> 0 | AB18: =' B_Populations'!P9 -> 0 | AC18: =IF(AB18=0,0,($J$18/$AB$18)*100000) -> 0 | AD18: =' B_Populations'!R9 -> 0 | AE18: =IF(AD18=0,0,($K$18/$AD$18)*100000) -> 0 | AF18: =' B_Populations'!T9 -> 0 | AG18: =IF(AF18=0,0,($L$18/$AF$18)*100000) -> 0 | AI18: =' B_Populations'!B15 -> 18136 | AJ18: 0.522501 | AL18: =' B_Populations'!A9 -> 65-74 | AM18: =O18*AJ18 -> 0 | AN18: =Q18*AJ18 -> 0 | AO18: =S18*AJ18 -> 0 | AP18: =U18*AJ18 -> 0 | AQ18: =W18*AJ18 -> 0 | AR18: =Y18*AJ18 -> 0 | AS18: =AA18*AJ18 -> 0 | AT18: =AC18*AJ18 -> 0 | AU18: =AE18*AJ18 -> 0 | AV18: =AG18*AJ18 -> 0
B19: =' B_Populations'!A10 -> 75-84 | N19: =' B_Populations'!B10 -> 0 | O19: =IF(N19=0,0,($C$19/$N$19)*100000) -> 0 | P19: =' B_Populations'!D10 -> 0 | Q19: =IF(P19=0,0,($D$19/$P$19)*100000) -> 0 | R19: =' B_Populations'!F10 -> 0 | S19: =IF(R19=0,0,($E$19/$R$19)*100000) -> 0 | T19: =' B_Populations'!H10 -> 0 | U19: =IF(T19=0,0,($F$19/$T$19)*100000) -> 0 | V19: =' B_Populations'!J10 -> 0 | W19: =IF(V19=0,0,($G$19/$V$19)*100000) -> 0 | X19: =' B_Populations'!L10 -> 0 | Y19: =IF(X19=0,0,($H$19/$X$19)*100000) -> 0 | Z19: =' B_Populations'!N10 -> 0 | AA19: =IF(Z19=0,0,($I$19/$Z$19)*100000) -> 0 | AB19: =' B_Populations'!P10 -> 0 | AC19: =IF(AB19=0,0,($J$19/$AB$19)*100000) -> 0 | AD19: =' B_Populations'!R10 -> 0 | AE19: =IF(AD19=0,0,($K$19/$AD$19)*100000) -> 0 | AF19: =' B_Populations'!T10 -> 0 | AG19: =IF(AF19=0,0,($L$19/$AF$19)*100000) -> 0 | AI19: =' B_Populations'!B16 -> 12315 | AJ19: 0.354797 | AL19: =' B_Populations'!A10 -> 75-84 | AM19: =O19*AJ19 -> 0 | AN19: =Q19*AJ19 -> 0 | AO19: =S19*AJ19 -> 0 | AP19: =U19*AJ19 -> 0 | AQ19: =W19*AJ19 -> 0 | AR19: =Y19*AJ19 -> 0 | AS19: =AA19*AJ19 -> 0 | AT19: =AC19*AJ19 -> 0 | AU19: =AE19*AJ19 -> 0 | AV19: =AG19*AJ19 -> 0
B20: =' B_Populations'!A11 -> 85+ | N20: =' B_Populations'!B11 -> 0 | O20: =IF(N20=0,0,($C$20/$N$20)*100000) -> 0 | P20: =' B_Populations'!D11 -> 0 | Q20: =IF(P20=0,0,($D$20/$P$20)*100000) -> 0 | R20: =' B_Populations'!F11 -> 0 | S20: =IF(R20=0,0,($E$20/$R$20)*100000) -> 0 | T20: =' B_Populations'!H11 -> 0 | U20: =IF(T20=0,0,($F$20/$T$20)*100000) -> 0 | V20: =' B_Populations'!J11 -> 0 | W20: =IF(V20=0,0,($G$20/$V$20)*100000) -> 0 | X20: =' B_Populations'!L11 -> 0 | Y20: =IF(X20=0,0,($H$20/$X$20)*100000) -> 0 | Z20: =' B_Populations'!N11 -> 0 | AA20: =IF(Z20=0,0,($I$20/$Z$20)*100000) -> 0 | AB20: =' B_Populations'!P11 -> 0 | AC20: =IF(AB20=0,0,($J$20/$AB$20)*100000) -> 0 | AD20: =' B_Populations'!R11 -> 0 | AE20: =IF(AD20=0,0,($K$20/$AD$20)*100000) -> 0 | AF20: =' B_Populations'!T11 -> 0 | AG20: =IF(AF20=0,0,($L$20/$AF$20)*100000) -> 0 | AI20: =' B_Populations'!B17 -> 4259 | AJ20: 0.122702 | AL20: =' B_Populations'!A11 -> 85+ | AM20: =O20*AJ20 -> 0 | AN20: =Q20*AJ20 -> 0 | AO20: =S20*AJ20 -> 0 | AP20: =U20*AJ20 -> 0 | AQ20: =W20*AJ20 -> 0 | AR20: =Y20*AJ20 -> 0 | AS20: =AA20*AJ20 -> 0 | AT20: =AC20*AJ20 -> 0 | AU20: =AE20*AJ20 -> 0 | AV20: =AG20*AJ20 -> 0
B21: total | C21: =SUM(C18:C20) -> 0 | D21: =SUM(D18:D20) -> 0 | E21: =SUM(E18:E20) -> 0 | F21: =SUM(F18:F20) -> 0 | G21: =SUM(G18:G20) -> 0 | H21: =SUM(H18:H20) -> 0 | I21: =SUM(I18:I20) -> 0 | J21: =SUM(J18:J20) -> 0 | ... L21: =SUM(L18:L20) -> 0 | N21: =' B_Populations'!B12 -> 0 | O21: =SUM(O18:O20) -> 0 | P21: =' B_Populations'!D12 -> 0 | Q21: =SUM(Q18:Q20) -> 0 | R21: =' B_Populations'!F12 -> 0 | S21: =SUM(S18:S20) -> 0 | T21: =' B_Populations'!H12 -> 0 | U21: =SUM(U18:U20) -> 0 | V21: =' B_Populations'!J12 -> 0 | W21: =SUM(W18:W20) -> 0 | X21: =' B_Populations'!L12 -> 0 | Y21: =SUM(Y18:Y20) -> 0 | Z21: =' B_Populations'!N12 -> 0 | AA21: =SUM(AA18:AA20) -> 0 | AB21: =' B_Populations'!P12 -> 0 | AC21: =SUM(AC18:AC20) -> 0 | AD21: =' B_Populations'!R12 -> 0 | AE21: =SUM(AE18:AE20) -> 0 | AF21: =' B_Populations'!T12 -> 0 | AG21: =SUM(AG18:AG20) -> 0 | AI21: =' B_Populations'!B18 -> 34710 | AJ21: 1 | AL21: =[1]Populations!B22 -> Total | AM21: =SUM(AM18:AM20) -> 0 | AN21: =SUM(AN18:AN20) -> 0 | AO21: =SUM(AO18:AO20) -> 0 | AP21: =SUM(AP18:AP20) -> 0 | AQ21: =SUM(AQ18:AQ20) -> 0 | AR21: =SUM(AR18:AR20) -> 0 | AS21: =SUM(AS18:AS20) -> 0 | AT21: =SUM(AT18:AT20) -> 0 | ... AV21: =SUM(AV18:AV20) -> 0

Sheet G_Year 4
A1: Year 4 | B1: Data Input Tables Instructions: Please enter the actual Data Year in cell A1. Enter your Older Adult Falls-related injury data in the red cells below. The age-adjusted rates will automatically calculate in the results table. | F1: Use columns F through L to enter demographic data | N1: Optional: Unhide columns O through AK to show rate calculations and 2000 population weights | AI1: Columns AM through AV will then automatically calculate age-adjusted rates per 100,000 | AL1: Results Table Age Adjusted Rates per 100,1000. Results will calculate automatically.
D2: Sex Data | F2: Demographic Data | AM2: Age-adjusted Rates per 100,000 population
B3: Age | C3: Number of hospitalizations- Total | D3: Number of hospitalizations- Male | E3: Number of hospitalizations- Female | F3: =[1]Populations!I26 -> White-Not Hispanic | G3: =[1]Populations!K26 -> Hispanic | H3: =[1]Populations!M26 -> Black-Not Hispanic | I3: =[1]Populations!O26 -> Asian | J3: =[1]Populations!Q26 -> American Indian/Alaska Native | K3: =[1]Populations!S26 -> Other | L3: =[1]Populations!U26 -> Other | N3: State population - Total | O3: Rate | P3: =[1]Populations!E26 -> Male | Q3: Rate | R3: =[1]Populations!G26 -> Female | S3: Rate | T3: =[1]Populations!I26 -> White-Not Hispanic | U3: Rate | V3: =[1]Populations!K26 -> Hispanic | W3: Rate | X3: =[1]Populations!M26 -> Black-Not Hispanic | Y3: Rate | Z3: =[1]Populations!O26 -> Asian | AA3: Rate | AB3: =[1]Populations!Q26 -> American Indian/Alaska Native | AC3: Rate | AD3: =[1]Populations!S26 -> Other | AE3: Rate | AF3: =[1]Populations!U26 -> Other | AG3: Rate | AI3: 2000 Standard population - from "Populations" tab | AJ3: Weight | AL3: Age | AM3: Total | AN3: Male | AO3: Female | AP3: =[1]Populations!I26 -> White-Not Hispanic | AQ3: =[1]Populations!K26 -> Hispanic | AR3: =[1]Populations!M26 -> Black-Not Hispanic | AS3: =[1]Populations!O26 -> Asian | AT3: =[1]Populations!Q26 -> American Indian/Alaska Native | AU3: =[1]Populations!S26 -> Other | AV3: =[1]Populations!U26 -> Other
B4: =' B_Populations'!A9 -> 65-74 | N4: =' B_Populations'!B9 -> 0 | O4: =IF(N4=0,0,($C$4/$N$4)*100000) -> 0 | P4: =' B_Populations'!D9 -> 0 | Q4: =IF(P4=0,0,($D$4/$P$4)*100000) -> 0 | R4: =' B_Populations'!F9 -> 0 | S4: =IF(R4=0,0,($E$4/$R$4)*100000) -> 0 | T4: =' B_Populations'!H9 -> 0 | U4: =IF(T4=0,0,($F$4/$T$4)*100000) -> 0 | V4: =' B_Populations'!J9 -> 0 | W4: =IF(V4=0,0,($G$4/$V$4)*100000) -> 0 | X4: =' B_Populations'!L9 -> 0 | Y4: =IF(X4=0,0,($H$4/$X$4)*100000) -> 0 | Z4: =' B_Populations'!N9 -> 0 | AA4: =IF(Z4=0,0,($I$4/$Z$4)*100000) -> 0 | AB4: =' B_Populations'!P9 -> 0 | AC4: =IF(AB4=0,0,($J$4/$AB$4)*100000) -> 0 | AD4: =' B_Populations'!R9 -> 0 | AE4: =IF(AD4=0,0,($K$4/$AD$4)*100000) -> 0 | AF4: =' B_Populations'!T9 -> 0 | AG4: =IF(AF4=0,0,($L$4/$AF$4)*100000) -> 0 | AI4: =' B_Populations'!B15 -> 18136 | AJ4: 0.522501 | AL4: =' B_Populations'!A9 -> 65-74 | AM4: =O4*AJ4 -> 0 | AN4: =Q4*AJ4 -> 0 | AO4: =S4*AJ4 -> 0 | AP4: =U4*AJ4 -> 0 | AQ4: =W4*AJ4 -> 0 | AR4: =Y4*AJ4 -> 0 | AS4: =AA4*AJ4 -> 0 | AT4: =AC4*AJ4 -> 0 | AU4: =AE4*AJ4 -> 0 | AV4: =AG4*AJ4 -> 0
B5: =' B_Populations'!A10 -> 75-84 | N5: =' B_Populations'!B10 -> 0 | O5: =IF(N5=0,0,($C$5/$N$5)*100000) -> 0 | P5: =' B_Populations'!D10 -> 0 | Q5: =IF(P5=0,0,($D$5/$P$5)*100000) -> 0 | R5: =' B_Populations'!F10 -> 0 | S5: =IF(R5=0,0,($E$5/$R$5)*100000) -> 0 | T5: =' B_Populations'!H10 -> 0 | U5: =IF(T5=0,0,($F$5/$T$5)*100000) -> 0 | V5: =' B_Populations'!J10 -> 0 | W5: =IF(V5=0,0,($G$5/$V$5)*100000) -> 0 | X5: =' B_Populations'!L10 -> 0 | Y5: =IF(X5=0,0,($G$5/$X$5)*100000) -> 0 | Z5: =' B_Populations'!N10 -> 0 | AA5: =IF(Z5=0,0,($I$5/$Z$5)*100000) -> 0 | AB5: =' B_Populations'!P10 -> 0 | AC5: =IF(AB5=0,0,($J$5/$AB$5)*100000) -> 0 | AD5: =' B_Populations'!R10 -> 0 | AE5: =IF(AD5=0,0,($K$5/$AD$5)*100000) -> 0 | AF5: =' B_Populations'!T10 -> 0 | AG5: =IF(AF5=0,0,($L$5/$AF$5)*100000) -> 0 | AI5: =' B_Populations'!B16 -> 12315 | AJ5: 0.354797 | AL5: =' B_Populations'!A10 -> 75-84 | AM5: =O5*AJ5 -> 0 | AN5: =Q5*AJ5 -> 0 | AO5: =S5*AJ5 -> 0 | AP5: =U5*AJ5 -> 0 | AQ5: =W5*AJ5 -> 0 | AR5: =Y5*AJ5 -> 0 | AS5: =AA5*AJ5 -> 0 | AT5: =AC5*AJ5 -> 0 | AU5: =AE5*AJ5 -> 0 | AV5: =AG5*AJ5 -> 0
B6: =' B_Populations'!A11 -> 85+ | N6: =' B_Populations'!B11 -> 0 | O6: =IF(N6=0,0,($C$6/$N$6)*100000) -> 0 | P6: =' B_Populations'!D11 -> 0 | Q6: =IF(P6=0,0,($D$6/$P$6)*100000) -> 0 | R6: =' B_Populations'!F11 -> 0 | S6: =IF(R6=0,0,($E$6/$R$6)*100000) -> 0 | T6: =' B_Populations'!H11 -> 0 | U6: =IF(T6=0,0,($F$6/$T$6)*100000) -> 0 | V6: =' B_Populations'!J11 -> 0 | W6: =IF(V6=0,0,($G$6/$V$6)*100000) -> 0 | X6: =' B_Populations'!L11 -> 0 | Y6: =IF(X6=0,0,($G$6/$X$6)*100000) -> 0 | Z6: =' B_Populations'!N11 -> 0 | AA6: =IF(Z6=0,0,($I$6/$Z$6)*100000) -> 0 | AB6: =' B_Populations'!P11 -> 0 | AC6: =IF(AB6=0,0,($J$6/$AB$6)*100000) -> 0 | AD6: =' B_Populations'!R11 -> 0 | AE6: =IF(AD6=0,0,($K$6/$AD$6)*100000) -> 0 | AF6: =' B_Populations'!T11 -> 0 | AG6: =IF(AF6=0,0,($L$6/$AF$6)*100000) -> 0 | AI6: =' B_Populations'!B17 -> 4259 | AJ6: 0.122702 | AL6: =' B_Populations'!A11 -> 85+ | AM6: =O6*AJ6 -> 0 | AN6: =Q6*AJ6 -> 0 | AO6: =S6*AJ6 -> 0 | AP6: =U6*AJ6 -> 0 | AQ6: =W6*AJ6 -> 0 | AR6: =Y6*AJ6 -> 0 | AS6: =AA6*AJ6 -> 0 | AT6: =AC6*AJ6 -> 0 | AU6: =AE6*AJ6 -> 0 | AV6: =AG6*AJ6 -> 0
B7: total | C7: =SUM(C4:C6) -> 0 | D7: =SUM(D4:D6) -> 0 | E7: =SUM(E4:E6) -> 0 | F7: =SUM(F4:F6) -> 0 | G7: =SUM(G4:G6) -> 0 | H7: =SUM(H4:H6) -> 0 | I7: =SUM(I4:I6) -> 0 | J7: =SUM(J4:J6) -> 0 | ... L7: =SUM(L4:L6) -> 0 | N7: =' B_Populations'!B12 -> 0 | O7: =SUM(O4:O6) -> 0 | P7: =' B_Populations'!D12 -> 0 | Q7: =SUM(Q4:Q6) -> 0 | R7: =' B_Populations'!F12 -> 0 | S7: =SUM(S4:S6) -> 0 | T7: =' B_Populations'!H12 -> 0 | U7: =SUM(U4:U6) -> 0 | V7: =' B_Populations'!J12 -> 0 | W7: =SUM(W4:W6) -> 0 | X7: =' B_Populations'!L12 -> 0 | Y7: =SUM(Y4:Y6) -> 0 | Z7: =' B_Populations'!N12 -> 0 | AA7: =SUM(AA4:AA6) -> 0 | AB7: =' B_Populations'!P12 -> 0 | AC7: =SUM(AC4:AC6) -> 0 | AD7: =' B_Populations'!R12 -> 0 | AE7: =SUM(AE4:AE6) -> 0 | AF7: =' B_Populations'!T12 -> 0 | AG7: =SUM(AG4:AG6) -> 0 | AI7: =' B_Populations'!B18 -> 34710 | AJ7: 1 | AL7: Total | AM7: =SUM(AM4:AM6) -> 0 | AN7: =SUM(AN4:AN6) -> 0 | AO7: =SUM(AO4:AO6) -> 0 | AP7: =SUM(AP4:AP6) -> 0 | AQ7: =SUM(AQ4:AQ6) -> 0 | AR7: =SUM(AR4:AR6) -> 0 | AS7: =SUM(AS4:AS6) -> 0 | AT7: =SUM(AT4:AT6) -> 0 | ... AV7: =SUM(AV4:AV6) -> 0
D9: Sex Data | F9: Demographic Data | AM9: Age-adjusted Rates per 100,000 population
B10: Age | C10: Number of ED visits- Total | D10: Number of ED visits- Male | E10: Number of ED visits- Female | F10: =[1]Populations!I26 -> White-Not Hispanic | G10: =[1]Populations!K26 -> Hispanic | H10: =[1]Populations!M26 -> Black-Not Hispanic | I10: =[1]Populations!O26 -> Asian | J10: =[1]Populations!Q26 -> American Indian/Alaska Native | K10: =[1]Populations!S26 -> Other | L10: =[1]Populations!U26 -> Other | N10: State population - Total | O10: Rate | P10: =[1]Populations!E26 -> Male | Q10: Rate | R10: =[1]Populations!G26 -> Female | S10: Rate | T10: =[1]Populations!I26 -> White-Not Hispanic | U10: Rate | V10: =[1]Populations!K26 -> Hispanic | W10: Rate | X10: =[1]Populations!M26 -> Black-Not Hispanic | Y10: Rate | Z10: =[1]Populations!O26 -> Asian | AA10: Rate | AB10: =[1]Populations!Q26 -> American Indian/Alaska Native | AC10: Rate | AD10: =[1]Populations!S26 -> Other | AE10: Rate | AF10: =[1]Populations!U26 -> Other | AG10: Rate | AI10: 2000 Standard population - from "Populations" tab | AJ10: Weight | AL10: Age | AM10: Total | AN10: Male | AO10: Female | AP10: =[1]Populations!I26 -> White-Not Hispanic | AQ10: =[1]Populations!K26 -> Hispanic | AR10: =[1]Populations!M26 -> Black-Not Hispanic | AS10: =[1]Populations!O26 -> Asian | AT10: =[1]Populations!Q26 -> American Indian/Alaska Native | AU10: =[1]Populations!S26 -> Other | AV10: =[1]Populations!U26 -> Other
B11: =' B_Populations'!A9 -> 65-74 | N11: =' B_Populations'!B9 -> 0 | O11: =IF(N11=0,0,($C$11/$N$11)*100000) -> 0 | P11: =' B_Populations'!D9 -> 0 | Q11: =IF(P11=0,0,($D$11/$P$11)*100000) -> 0 | R11: =' B_Populations'!F9 -> 0 | S11: =IF(R11=0,0,($E$11/$R$11)*100000) -> 0 | T11: =' B_Populations'!H9 -> 0 | U11: =IF(T11=0,0,($F$11/$T$11)*100000) -> 0 | V11: =' B_Populations'!J9 -> 0 | W11: =IF(V11=0,0,($G$11/$V$11)*100000) -> 0 | X11: =' B_Populations'!L9 -> 0 | Y11: =IF(X11=0,0,($H$11/$X$11)*100000) -> 0 | Z11: =' B_Populations'!N9 -> 0 | AA11: =IF(Z11=0,0,($I$11/$Z$11)*100000) -> 0 | AB11: =' B_Populations'!P9 -> 0 | AC11: =IF(AB11=0,0,($J$11/$AB$11)*100000) -> 0 | AD11: =' B_Populations'!R9 -> 0 | AE11: =IF(AD11=0,0,($K$11/$AD$11)*100000) -> 0 | AF11: =' B_Populations'!T9 -> 0 | AG11: =IF(AF11=0,0,($L$11/$AF$11)*100000) -> 0 | AI11: =' B_Populations'!B15 -> 18136 | AJ11: 0.522501 | AL11: =' B_Populations'!A9 -> 65-74 | AM11: =O11*AJ11 -> 0 | AN11: =Q11*AJ11 -> 0 | AO11: =S11*AJ11 -> 0 | AP11: =U11*AJ11 -> 0 | AQ11: =W11*AJ11 -> 0 | AR11: =Y11*AJ11 -> 0 | AS11: =AA11*AJ11 -> 0 | AT11: =AC11*AJ11 -> 0 | AU11: =AE11*AJ11 -> 0 | AV11: =AG11*AJ11 -> 0
B12: =' B_Populations'!A10 -> 75-84 | N12: =' B_Populations'!B10 -> 0 | O12: =IF(N12=0,0,($C$12/$N$12)*100000) -> 0 | P12: =' B_Populations'!D10 -> 0 | Q12: =IF(P12=0,0,($D$12/$P$12)*100000) -> 0 | R12: =' B_Populations'!F10 -> 0 | S12: =IF(R12=0,0,($E$12/$R$12)*100000) -> 0 | T12: =' B_Populations'!H10 -> 0 | U12: =IF(T12=0,0,($F$12/$T$12)*100000) -> 0 | V12: =' B_Populations'!J10 -> 0 | W12: =IF(V12=0,0,($G$12/$V$12)*100000) -> 0 | X12: =' B_Populations'!L10 -> 0 | Y12: =IF(X12=0,0,($H$12/$X$12)*100000) -> 0 | Z12: =' B_Populations'!N10 -> 0 | AA12: =IF(Z12=0,0,($I$12/$Z$12)*100000) -> 0 | AB12: =' B_Populations'!P10 -> 0 | AC12: =IF(AB12=0,0,($J$12/$AB$12)*100000) -> 0 | AD12: =' B_Populations'!R10 -> 0 | AE12: =IF(AD12=0,0,($K$12/$AD$12)*100000) -> 0 | AF12: =' B_Populations'!T10 -> 0 | AG12: =IF(AF12=0,0,($L$12/$AF$12)*100000) -> 0 | AI12: =' B_Populations'!B16 -> 12315 | AJ12: 0.354797 | AL12: =' B_Populations'!A10 -> 75-84 | AM12: =O12*AJ12 -> 0 | AN12: =Q12*AJ12 -> 0 | AO12: =S12*AJ12 -> 0 | AP12: =U12*AJ12 -> 0 | AQ12: =W12*AJ12 -> 0 | AR12: =Y12*AJ12 -> 0 | AS12: =AA12*AJ12 -> 0 | AT12: =AC12*AJ12 -> 0 | AU12: =AE12*AJ12 -> 0 | AV12: =AG12*AJ12 -> 0
B13: =' B_Populations'!A11 -> 85+ | N13: =' B_Populations'!B11 -> 0 | O13: =IF(N13=0,0,($C$13/$N$13)*100000) -> 0 | P13: =' B_Populations'!D11 -> 0 | Q13: =IF(P13=0,0,($D$13/$P$13)*100000) -> 0 | R13: =' B_Populations'!F11 -> 0 | S13: =IF(R13=0,0,($E$13/$R$13)*100000) -> 0 | T13: =' B_Populations'!H11 -> 0 | U13: =IF(T13=0,0,($F$13/$T$13)*100000) -> 0 | V13: =' B_Populations'!J11 -> 0 | W13: =IF(V13=0,0,($G$13/$V$13)*100000) -> 0 | X13: =' B_Populations'!L11 -> 0 | Y13: =IF(X13=0,0,($H$13/$X$13)*100000) -> 0 | Z13: =' B_Populations'!N11 -> 0 | AA13: =IF(Z13=0,0,($I$13/$Z$13)*100000) -> 0 | AB13: =' B_Populations'!P11 -> 0 | AC13: =IF(AB13=0,0,($J$13/$AB$13)*100000) -> 0 | AD13: =' B_Populations'!R11 -> 0 | AE13: =IF(AD13=0,0,($K$13/$AD$13)*100000) -> 0 | AF13: =' B_Populations'!T11 -> 0 | AG13: =IF(AF13=0,0,($L$13/$AF$13)*100000) -> 0 | AI13: =' B_Populations'!B17 -> 4259 | AJ13: 0.122702 | AL13: =' B_Populations'!A11 -> 85+ | AM13: =O13*AJ13 -> 0 | AN13: =Q13*AJ13 -> 0 | AO13: =S13*AJ13 -> 0 | AP13: =U13*AJ13 -> 0 | AQ13: =W13*AJ13 -> 0 | AR13: =Y13*AJ13 -> 0 | AS13: =AA13*AJ13 -> 0 | AT13: =AC13*AJ13 -> 0 | AU13: =AE13*AJ13 -> 0 | AV13: =AG13*AJ13 -> 0
B14: total | C14: =SUM(C11:C13) -> 0 | D14: =SUM(D11:D13) -> 0 | E14: =SUM(E11:E13) -> 0 | F14: =SUM(F11:F13) -> 0 | G14: =SUM(G11:G13) -> 0 | H14: =SUM(H11:H13) -> 0 | I14: =SUM(I11:I13) -> 0 | J14: =SUM(J11:J13) -> 0 | ... L14: =SUM(L11:L13) -> 0 | N14: =' B_Populations'!B12 -> 0 | O14: =SUM(O11:O13) -> 0 | P14: =' B_Populations'!D12 -> 0 | Q14: =SUM(Q11:Q13) -> 0 | R14: =' B_Populations'!F12 -> 0 | S14: =SUM(S11:S13) -> 0 | T14: =' B_Populations'!H12 -> 0 | U14: =SUM(U11:U13) -> 0 | V14: =' B_Populations'!J12 -> 0 | W14: =SUM(W11:W13) -> 0 | X14: =' B_Populations'!L12 -> 0 | Y14: =SUM(Y11:Y13) -> 0 | Z14: =' B_Populations'!N12 -> 0 | AA14: =SUM(AA11:AA13) -> 0 | AB14: =' B_Populations'!P12 -> 0 | AC14: =SUM(AC11:AC13) -> 0 | AD14: =' B_Populations'!R12 -> 0 | AE14: =SUM(AE11:AE13) -> 0 | AF14: =' B_Populations'!T12 -> 0 | AG14: =SUM(AG11:AG13) -> 0 | AI14: =' B_Populations'!B18 -> 34710 | AJ14: 1 | AL14: Total | AM14: =SUM(AM11:AM13) -> 0 | AN14: =SUM(AN11:AN13) -> 0 | AO14: =SUM(AO11:AO13) -> 0 | AP14: =SUM(AP11:AP13) -> 0 | AQ14: =SUM(AQ11:AQ13) -> 0 | AR14: =SUM(AR11:AR13) -> 0 | AS14: =SUM(AS11:AS13) -> 0 | AT14: =SUM(AT11:AT13) -> 0 | ... AV14: =SUM(AV11:AV13) -> 0
D16: Sex Data | F16: Demographic Data | AM16: Age-adjusted Rates per 100,000 population
B17: Age | C17: Number of deaths- Total | D17: Number of deaths- Male | E17: Number of deaths- Female | F17: =[1]Populations!I26 -> White-Not Hispanic | G17: =[1]Populations!K26 -> Hispanic | H17: =[1]Populations!M26 -> Black-Not Hispanic | I17: =[1]Populations!O26 -> Asian | J17: =[1]Populations!Q26 -> American Indian/Alaska Native | K17: =[1]Populations!S26 -> Other | L17: =[1]Populations!U26 -> Other | N17: State population - Total | O17: Rate | P17: =[1]Populations!E26 -> Male | Q17: Rate | R17: =[1]Populations!G26 -> Female | S17: Rate | T17: =[1]Populations!I26 -> White-Not Hispanic | U17: Rate | V17: =[1]Populations!K26 -> Hispanic | W17: Rate | X17: =[1]Populations!M26 -> Black-Not Hispanic | Y17: Rate | Z17: =[1]Populations!O26 -> Asian | AA17: Rate | AB17: =[1]Populations!Q26 -> American Indian/Alaska Native | AC17: Rate | AD17: =[1]Populations!S26 -> Other | AE17: Rate | AF17: =[1]Populations!U26 -> Other | AG17: Rate | AI17: 2000 Standard population - from "Populations" tab | AJ17: Weight | AL17: Age | AM17: Total | AN17: Male | AO17: Female | AP17: =[1]Populations!I26 -> White-Not Hispanic | AQ17: =[1]Populations!K26 -> Hispanic | AR17: =[1]Populations!M26 -> Black-Not Hispanic | AS17: =[1]Populations!O26 -> Asian | AT17: =[1]Populations!Q26 -> American Indian/Alaska Native | AU17: =[1]Populations!S26 -> Other | AV17: =[1]Populations!U26 -> Other
B18: =' B_Populations'!A9 -> 65-74 | N18: =' B_Populations'!B9 -> 0 | O18: =IF(N18=0,0,($C$18/$N$18)*100000) -> 0 | P18: =' B_Populations'!D9 -> 0 | Q18: =IF(P18=0,0,($D$18/$P$18)*100000) -> 0 | R18: =' B_Populations'!F9 -> 0 | S18: =IF(R18=0,0,($E$18/$R$18)*100000) -> 0 | T18: =' B_Populations'!H9 -> 0 | U18: =IF(T18=0,0,($F$18/$T$18)*100000) -> 0 | V18: =' B_Populations'!J9 -> 0 | W18: =IF(V18=0,0,($G$18/$V$18)*100000) -> 0 | X18: =' B_Populations'!L9 -> 0 | Y18: =IF(X18=0,0,($H$18/$X$18)*100000) -> 0 | Z18: =' B_Populations'!N9 -> 0 | AA18: =IF(Z18=0,0,($I$18/$Z$18)*100000) -> 0 | AB18: =' B_Populations'!P9 -> 0 | AC18: =IF(AB18=0,0,($J$18/$AB$18)*100000) -> 0 | AD18: =' B_Populations'!R9 -> 0 | AE18: =IF(AD18=0,0,($K$18/$AD$18)*100000) -> 0 | AF18: =' B_Populations'!T9 -> 0 | AG18: =IF(AF18=0,0,($L$18/$AF$18)*100000) -> 0 | AI18: =' B_Populations'!B15 -> 18136 | AJ18: 0.522501 | AL18: =' B_Populations'!A9 -> 65-74 | AM18: =O18*AJ18 -> 0 | AN18: =Q18*AJ18 -> 0 | AO18: =S18*AJ18 -> 0 | AP18: =U18*AJ18 -> 0 | AQ18: =W18*AJ18 -> 0 | AR18: =Y18*AJ18 -> 0 | AS18: =AA18*AJ18 -> 0 | AT18: =AC18*AJ18 -> 0 | AU18: =AE18*AJ18 -> 0 | AV18: =AG18*AJ18 -> 0
B19: =' B_Populations'!A10 -> 75-84 | N19: =' B_Populations'!B10 -> 0 | O19: =IF(N19=0,0,($C$19/$N$19)*100000) -> 0 | P19: =' B_Populations'!D10 -> 0 | Q19: =IF(P19=0,0,($D$19/$P$19)*100000) -> 0 | R19: =' B_Populations'!F10 -> 0 | S19: =IF(R19=0,0,($E$19/$R$19)*100000) -> 0 | T19: =' B_Populations'!H10 -> 0 | U19: =IF(T19=0,0,($F$19/$T$19)*100000) -> 0 | V19: =' B_Populations'!J10 -> 0 | W19: =IF(V19=0,0,($G$19/$V$19)*100000) -> 0 | X19: =' B_Populations'!L10 -> 0 | Y19: =IF(X19=0,0,($H$19/$X$19)*100000) -> 0 | Z19: =' B_Populations'!N10 -> 0 | AA19: =IF(Z19=0,0,($I$19/$Z$19)*100000) -> 0 | AB19: =' B_Populations'!P10 -> 0 | AC19: =IF(AB19=0,0,($J$19/$AB$19)*100000) -> 0 | AD19: =' B_Populations'!R10 -> 0 | AE19: =IF(AD19=0,0,($K$19/$AD$19)*100000) -> 0 | AF19: =' B_Populations'!T10 -> 0 | AG19: =IF(AF19=0,0,($L$19/$AF$19)*100000) -> 0 | AI19: =' B_Populations'!B16 -> 12315 | AJ19: 0.354797 | AL19: =' B_Populations'!A10 -> 75-84 | AM19: =O19*AJ19 -> 0 | AN19: =Q19*AJ19 -> 0 | AO19: =S19*AJ19 -> 0 | AP19: =U19*AJ19 -> 0 | AQ19: =W19*AJ19 -> 0 | AR19: =Y19*AJ19 -> 0 | AS19: =AA19*AJ19 -> 0 | AT19: =AC19*AJ19 -> 0 | AU19: =AE19*AJ19 -> 0 | AV19: =AG19*AJ19 -> 0
B20: =' B_Populations'!A11 -> 85+ | N20: =' B_Populations'!B11 -> 0 | O20: =IF(N20=0,0,($C$20/$N$20)*100000) -> 0 | P20: =' B_Populations'!D11 -> 0 | Q20: =IF(P20=0,0,($D$20/$P$20)*100000) -> 0 | R20: =' B_Populations'!F11 -> 0 | S20: =IF(R20=0,0,($E$20/$R$20)*100000) -> 0 | T20: =' B_Populations'!H11 -> 0 | U20: =IF(T20=0,0,($F$20/$T$20)*100000) -> 0 | V20: =' B_Populations'!J11 -> 0 | W20: =IF(V20=0,0,($G$20/$V$20)*100000) -> 0 | X20: =' B_Populations'!L11 -> 0 | Y20: =IF(X20=0,0,($H$20/$X$20)*100000) -> 0 | Z20: =' B_Populations'!N11 -> 0 | AA20: =IF(Z20=0,0,($I$20/$Z$20)*100000) -> 0 | AB20: =' B_Populations'!P11 -> 0 | AC20: =IF(AB20=0,0,($J$20/$AB$20)*100000) -> 0 | AD20: =' B_Populations'!R11 -> 0 | AE20: =IF(AD20=0,0,($K$20/$AD$20)*100000) -> 0 | AF20: =' B_Populations'!T11 -> 0 | AG20: =IF(AF20=0,0,($L$20/$AF$20)*100000) -> 0 | AI20: =' B_Populations'!B17 -> 4259 | AJ20: 0.122702 | AL20: =' B_Populations'!A11 -> 85+ | AM20: =O20*AJ20 -> 0 | AN20: =Q20*AJ20 -> 0 | AO20: =S20*AJ20 -> 0 | AP20: =U20*AJ20 -> 0 | AQ20: =W20*AJ20 -> 0 | AR20: =Y20*AJ20 -> 0 | AS20: =AA20*AJ20 -> 0 | AT20: =AC20*AJ20 -> 0 | AU20: =AE20*AJ20 -> 0 | AV20: =AG20*AJ20 -> 0
B21: total | C21: =SUM(C18:C20) -> 0 | D21: =SUM(D18:D20) -> 0 | E21: =SUM(E18:E20) -> 0 | F21: =SUM(F18:F20) -> 0 | G21: =SUM(G18:G20) -> 0 | H21: =SUM(H18:H20) -> 0 | I21: =SUM(I18:I20) -> 0 | J21: =SUM(J18:J20) -> 0 | ... L21: =SUM(L18:L20) -> 0 | N21: =' B_Populations'!B12 -> 0 | O21: =SUM(O18:O20) -> 0 | P21: =' B_Populations'!D12 -> 0 | Q21: =SUM(Q18:Q20) -> 0 | R21: =' B_Populations'!F12 -> 0 | S21: =SUM(S18:S20) -> 0 | T21: =' B_Populations'!H12 -> 0 | U21: =SUM(U18:U20) -> 0 | V21: =' B_Populations'!J12 -> 0 | W21: =SUM(W18:W20) -> 0 | X21: =' B_Populations'!L12 -> 0 | Y21: =SUM(Y18:Y20) -> 0 | Z21: =' B_Populations'!N12 -> 0 | AA21: =SUM(AA18:AA20) -> 0 | AB21: =' B_Populations'!P12 -> 0 | AC21: =SUM(AC18:AC20) -> 0 | AD21: =' B_Populations'!R12 -> 0 | AE21: =SUM(AE18:AE20) -> 0 | AF21: =' B_Populations'!T12 -> 0 | AG21: =SUM(AG18:AG20) -> 0 | AI21: =' B_Populations'!B18 -> 34710 | AJ21: 1 | AL21: Total | AM21: =SUM(AM18:AM20) -> 0 | AN21: =SUM(AN18:AN20) -> 0 | AO21: =SUM(AO18:AO20) -> 0 | AP21: =SUM(AP18:AP20) -> 0 | AQ21: =SUM(AQ18:AQ20) -> 0 | AR21: =SUM(AR18:AR20) -> 0 | AS21: =SUM(AS18:AS20) -> 0 | AT21: =SUM(AT18:AT20) -> 0 | ... AV21: =SUM(AV18:AV20) -> 0

Sheet H_Year 5
A1: Year 5 | B1: Data Input Tables Instructions: Please enter the actual Data Year in cell A1. Enter your Older Adult Falls-related injury data in the red cells below. The age-adjusted rates will automatically calculate in the results table. | F1: Use columns F through L to enter demographic data | N1: Optional: Unhide columns AI through AG to show rate calculations by sex and race/ethnicity and 2000 population weights | AH1: Columns AL through AU will then autogenerate age-adjusted rates per 100,000 | AK1: Results Table Age Adjusted Rates per 100,1000. Results will calculate automatically.
D2: Sex Data | F2: Demographic Data | AL2: Age-adjusted Rates per 100,000 population
B3: Age | C3: Number of hospitalizations- Total | D3: Number of hospitalizations- Male | E3: Number of hospitalizations- Female | F3: =[1]Populations!I8 -> White-Not Hispanic | G3: =[1]Populations!K8 -> Hispanic | H3: =[1]Populations!M8 -> Black-Not Hispanic | I3: =[1]Populations!O8 -> Asian | J3: =[1]Populations!Q8 -> American Indian/Alaska Native | K3: =[1]Populations!S8 -> Other | L3: =[1]Populations!U8 -> Other | N3: State population - Total | O3: Rate | P3: State population - Male | Q3: Rate | R3: State population - Female | S3: Rate | T3: =[1]Populations!I8 -> White-Not Hispanic | U3: Rate | V3: =[1]Populations!K8 -> Hispanic | W3: Rate | X3: =[1]Populations!M8 -> Black-Not Hispanic | Y3: Rate | Z3: =[1]Populations!O8 -> Asian | AA3: Rate | AB3: =[1]Populations!Q8 -> American Indian/Alaska Native | AC3: Rate | AD3: =[1]Populations!S8 -> Other | AE3: Rate | AF3: =[1]Populations!U8 -> Other | AG3: Rate | AH3: 2000 Standard population - from "Populations" tab | AI3: Weight | AK3: Age | AL3: Total | AM3: Male | AN3: Female | AO3: =[1]Populations!I8 -> White-Not Hispanic | AP3: =[1]Populations!K8 -> Hispanic | AQ3: =[1]Populations!M8 -> Black-Not Hispanic | AR3: =[1]Populations!O8 -> Asian | AS3: =[1]Populations!Q8 -> American Indian/Alaska Native | AT3: =[1]Populations!S8 -> Other | AU3: =[1]Populations!U8 -> Other
B4: =' B_Populations'!A9 -> 65-74 | N4: =' B_Populations'!B9 -> 0 | O4: =IF(N4=0,0,($C$4/$N$4)*100000) -> 0 | P4: =' B_Populations'!D9 -> 0 | Q4: =IF(P4=0,0,($D$4/$P$4)*100000) -> 0 | R4: =' B_Populations'!F9 -> 0 | S4: =IF(R4=0,0,($E$4/$R$4)*100000) -> 0 | T4: =' B_Populations'!H9 -> 0 | U4: =IF(T4=0,0,($F$4/$T$4)*100000) -> 0 | V4: =' B_Populations'!J9 -> 0 | W4: =IF(V4=0,0,($G$4/$V$4)*100000) -> 0 | X4: =' B_Populations'!L9 -> 0 | Y4: =IF(X4=0,0,($H$4/$X$4)*100000) -> 0 | Z4: =' B_Populations'!N9 -> 0 | AA4: =IF(Z4=0,0,($I$4/$Z$4)*100000) -> 0 | AB4: =' B_Populations'!P9 -> 0 | AC4: =IF(AB4=0,0,($J$4/$AB$4)*100000) -> 0 | AD4: =' B_Populations'!R9 -> 0 | AE4: =IF(AD4=0,0,($K$4/$AD$4)*100000) -> 0 | AF4: =' B_Populations'!T9 -> 0 | AG4: =IF(AF4=0,0,($L$4/$AF$4)*100000) -> 0 | AH4: =' B_Populations'!B15 -> 18136 | AI4: 0.522501 | AK4: =' B_Populations'!A9 -> 65-74 | AL4: =O4*AI4 -> 0 | AM4: =Q4*AI4 -> 0 | AN4: =S4*AI4 -> 0 | AO4: =U4*AI4 -> 0 | AP4: =W4*AI4 -> 0 | AQ4: =Y4*AI4 -> 0 | AR4: =AA4*AI4 -> 0 | AS4: =AC4*AI4 -> 0 | AT4: =AE4*AI4 -> 0 | AU4: =AG4*AI4 -> 0
B5: =' B_Populations'!A10 -> 75-84 | N5: =' B_Populations'!B10 -> 0 | O5: =IF(N5=0,0,($C$5/$N$5)*100000) -> 0 | P5: =' B_Populations'!D10 -> 0 | Q5: =IF(P5=0,0,($D$5/$P$5)*100000) -> 0 | R5: =' B_Populations'!F10 -> 0 | S5: =IF(R5=0,0,($E$5/$R$5)*100000) -> 0 | T5: =' B_Populations'!H10 -> 0 | U5: =IF(T5=0,0,($F$5/$T$5)*100000) -> 0 | V5: =' B_Populations'!J10 -> 0 | W5: =IF(V5=0,0,($G$5/$V$5)*100000) -> 0 | X5: =' B_Populations'!L10 -> 0 | Y5: =IF(X5=0,0,($G$5/$X$5)*100000) -> 0 | Z5: =' B_Populations'!N10 -> 0 | AA5: =IF(Z5=0,0,($I$5/$Z$5)*100000) -> 0 | AB5: =' B_Populations'!P10 -> 0 | AC5: =IF(AB5=0,0,($J$5/$AB$5)*100000) -> 0 | AD5: =' B_Populations'!R10 -> 0 | AE5: =IF(AD5=0,0,($K$5/$AD$5)*100000) -> 0 | AF5: =' B_Populations'!T10 -> 0 | AG5: =IF(AF5=0,0,($L$5/$AF$5)*100000) -> 0 | AH5: =' B_Populations'!B16 -> 12315 | AI5: 0.354797 | AK5: =' B_Populations'!A10 -> 75-84 | AL5: =O5*AI5 -> 0 | AM5: =Q5*AI5 -> 0 | AN5: =S5*AI5 -> 0 | AO5: =U5*AI5 -> 0 | AP5: =W5*AI5 -> 0 | AQ5: =Y5*AI5 -> 0 | AR5: =AA5*AI5 -> 0 | AS5: =AC5*AI5 -> 0 | AT5: =AE5*AI5 -> 0 | AU5: =AG5*AI5 -> 0
B6: =' B_Populations'!A11 -> 85+ | N6: =' B_Populations'!B11 -> 0 | O6: =IF(N6=0,0,($C$6/$N$6)*100000) -> 0 | P6: =' B_Populations'!D11 -> 0 | Q6: =IF(P6=0,0,($D$6/$P$6)*100000) -> 0 | R6: =' B_Populations'!F11 -> 0 | S6: =IF(R6=0,0,($E$6/$R$6)*100000) -> 0 | T6: =' B_Populations'!H11 -> 0 | U6: =IF(T6=0,0,($F$6/$T$6)*100000) -> 0 | V6: =' B_Populations'!J11 -> 0 | W6: =IF(V6=0,0,($G$6/$V$6)*100000) -> 0 | X6: =' B_Populations'!L11 -> 0 | Y6: =IF(X6=0,0,($G$6/$X$6)*100000) -> 0 | Z6: =' B_Populations'!N11 -> 0 | AA6: =IF(Z6=0,0,($I$6/$Z$6)*100000) -> 0 | AB6: =' B_Populations'!P11 -> 0 | AC6: =IF(AB6=0,0,($J$6/$AB$6)*100000) -> 0 | AD6: =' B_Populations'!R11 -> 0 | AE6: =IF(AD6=0,0,($K$6/$AD$6)*100000) -> 0 | AF6: =' B_Populations'!T11 -> 0 | AG6: =IF(AF6=0,0,($L$6/$AF$6)*100000) -> 0 | AH6: =' B_Populations'!B17 -> 4259 | AI6: 0.122702 | AK6: =' B_Populations'!A11 -> 85+ | AL6: =O6*AI6 -> 0 | AM6: =Q6*AI6 -> 0 | AN6: =S6*AI6 -> 0 | AO6: =U6*AI6 -> 0 | AP6: =W6*AI6 -> 0 | AQ6: =Y6*AI6 -> 0 | AR6: =AA6*AI6 -> 0 | AS6: =AC6*AI6 -> 0 | AT6: =AE6*AI6 -> 0 | AU6: =AG6*AI6 -> 0
B7: total | C7: =SUM(C4:C6) -> 0 | D7: =SUM(D4:D6) -> 0 | E7: =SUM(E4:E6) -> 0 | F7: =SUM(F4:F6) -> 0 | G7: =SUM(G4:G6) -> 0 | H7: =SUM(H4:H6) -> 0 | I7: =SUM(I4:I6) -> 0 | J7: =SUM(J4:J6) -> 0 | ... L7: =SUM(L4:L6) -> 0 | N7: =' B_Populations'!B12 -> 0 | O7: =SUM(O4:O6) -> 0 | P7: =' B_Populations'!D12 -> 0 | Q7: =SUM(Q4:Q6) -> 0 | R7: =' B_Populations'!F12 -> 0 | S7: =SUM(S4:S6) -> 0 | T7: =' B_Populations'!H12 -> 0 | U7: =SUM(U4:U6) -> 0 | V7: =' B_Populations'!J12 -> 0 | W7: =SUM(W4:W6) -> 0 | X7: =' B_Populations'!L12 -> 0 | Y7: =SUM(Y4:Y6) -> 0 | Z7: =' B_Populations'!N12 -> 0 | AA7: =SUM(AA4:AA6) -> 0 | AB7: =' B_Populations'!P12 -> 0 | AC7: =SUM(AC4:AC6) -> 0 | AD7: =' B_Populations'!R12 -> 0 | AE7: =SUM(AE4:AE6) -> 0 | AF7: =' B_Populations'!T12 -> 0 | AG7: =SUM(AG4:AG6) -> 0 | AH7: =' B_Populations'!B18 -> 34710 | AI7: 1 | AK7: Total | AL7: =SUM(AL4:AL6) -> 0 | AM7: =SUM(AM4:AM6) -> 0 | AN7: =SUM(AN4:AN6) -> 0 | AO7: =SUM(AO4:AO6) -> 0 | AP7: =SUM(AP4:AP6) -> 0 | AQ7: =SUM(AQ4:AQ6) -> 0 | AR7: =SUM(AR4:AR6) -> 0 | AS7: =SUM(AS4:AS6) -> 0 | ... AU7: =SUM(AU4:AU6) -> 0
D9: Sex Data | F9: Demographic Data | AL9: Age-adjusted Rates per 100,000 population
B10: Age | C10: Number of ED visits- Total | D10: Number of ED visits- Male | E10: Number of ED visits- Female | F10: =[1]Populations!I8 -> White-Not Hispanic | G10: =[1]Populations!K8 -> Hispanic | H10: =[1]Populations!M8 -> Black-Not Hispanic | I10: =[1]Populations!O8 -> Asian | J10: =[1]Populations!Q8 -> American Indian/Alaska Native | K10: =[1]Populations!S8 -> Other | L10: =[1]Populations!U8 -> Other | N10: State population - Total | O10: Rate | P10: State population - Male | Q10: Rate | R10: State population - Female | S10: Rate | T10: =[1]Populations!I8 -> White-Not Hispanic | U10: Rate | V10: =[1]Populations!K8 -> Hispanic | W10: Rate | X10: =[1]Populations!M8 -> Black-Not Hispanic | Y10: Rate | Z10: =[1]Populations!O8 -> Asian | AA10: Rate | AB10: =[1]Populations!Q8 -> American Indian/Alaska Native | AC10: Rate | AD10: =[1]Populations!S8 -> Other | AE10: Rate | AF10: =[1]Populations!U8 -> Other | AG10: Rate | AH10: 2000 Standard population - from "Populations" tab | AI10: Weight | AK10: Age | AL10: Total | AM10: Male | AN10: Female | AO10: =[1]Populations!I8 -> White-Not Hispanic | AP10: =[1]Populations!K8 -> Hispanic | AQ10: =[1]Populations!M8 -> Black-Not Hispanic | AR10: =[1]Populations!O8 -> Asian | AS10: =[1]Populations!Q8 -> American Indian/Alaska Native | AT10: =[1]Populations!S8 -> Other | AU10: =[1]Populations!U8 -> Other
B11: =' B_Populations'!A9 -> 65-74 | N11: =' B_Populations'!B9 -> 0 | O11: =IF(N11=0,0,($C$11/$N$11)*100000) -> 0 | P11: =' B_Populations'!D9 -> 0 | Q11: =IF(P11=0,0,($D$11/$P$11)*100000) -> 0 | R11: =' B_Populations'!F9 -> 0 | S11: =IF(R11=0,0,($E$11/$R$11)*100000) -> 0 | T11: =' B_Populations'!H9 -> 0 | U11: =IF(T11=0,0,($F$11/$T$11)*100000) -> 0 | V11: =' B_Populations'!J9 -> 0 | W11: =IF(V11=0,0,($G$11/$V$11)*100000) -> 0 | X11: =' B_Populations'!L9 -> 0 | Y11: =IF(X11=0,0,($H$11/$X$11)*100000) -> 0 | Z11: =' B_Populations'!N9 -> 0 | AA11: =IF(Z11=0,0,($I$11/$Z$11)*100000) -> 0 | AB11: =' B_Populations'!P9 -> 0 | AC11: =IF(AB11=0,0,($J$11/$AB$11)*100000) -> 0 | AD11: =' B_Populations'!R9 -> 0 | AE11: =IF(AD11=0,0,($K$11/$AD$11)*100000) -> 0 | AF11: =' B_Populations'!T9 -> 0 | AG11: =IF(AF11=0,0,($L$11/$AF$11)*100000) -> 0 | AH11: =' B_Populations'!B15 -> 18136 | AI11: 0.522501 | AK11: =' B_Populations'!A9 -> 65-74 | AL11: =O11*AI11 -> 0 | AM11: =Q11*AI11 -> 0 | AN11: =S11*AI11 -> 0 | AO11: =U11*AI11 -> 0 | AP11: =W11*AI11 -> 0 | AQ11: =Y11*AI11 -> 0 | AR11: =AA11*AI11 -> 0 | AS11: =AC11*AI11 -> 0 | AT11: =AE11*AI11 -> 0 | AU11: =AG11*AI11 -> 0
B12: =' B_Populations'!A10 -> 75-84 | N12: =' B_Populations'!B10 -> 0 | O12: =IF(N12=0,0,($C$12/$N$12)*100000) -> 0 | P12: =' B_Populations'!D10 -> 0 | Q12: =IF(P12=0,0,($D$12/$P$12)*100000) -> 0 | R12: =' B_Populations'!F10 -> 0 | S12: =IF(R12=0,0,($E$12/$R$12)*100000) -> 0 | T12: =' B_Populations'!H10 -> 0 | U12: =IF(T12=0,0,($F$12/$T$12)*100000) -> 0 | V12: =' B_Populations'!J10 -> 0 | W12: =IF(V12=0,0,($G$12/$V$12)*100000) -> 0 | X12: =' B_Populations'!L10 -> 0 | Y12: =IF(X12=0,0,($H$12/$X$12)*100000) -> 0 | Z12: =' B_Populations'!N10 -> 0 | AA12: =IF(Z12=0,0,($I$12/$Z$12)*100000) -> 0 | AB12: =' B_Populations'!P10 -> 0 | AC12: =IF(AB12=0,0,($J$12/$AB$12)*100000) -> 0 | AD12: =' B_Populations'!R10 -> 0 | AE12: =IF(AD12=0,0,($K$12/$AD$12)*100000) -> 0 | AF12: =' B_Populations'!T10 -> 0 | AG12: =IF(AF12=0,0,($L$12/$AF$12)*100000) -> 0 | AH12: =' B_Populations'!B16 -> 12315 | AI12: 0.354797 | AK12: =' B_Populations'!A10 -> 75-84 | AL12: =O12*AI12 -> 0 | AM12: =Q12*AI12 -> 0 | AN12: =S12*AI12 -> 0 | AO12: =U12*AI12 -> 0 | AP12: =W12*AI12 -> 0 | AQ12: =Y12*AI12 -> 0 | AR12: =AA12*AI12 -> 0 | AS12: =AC12*AI12 -> 0 | AT12: =AE12*AI12 -> 0 | AU12: =AG12*AI12 -> 0
B13: =' B_Populations'!A11 -> 85+ | N13: =' B_Populations'!B11 -> 0 | O13: =IF(N13=0,0,($C$13/$N$13)*100000) -> 0 | P13: =' B_Populations'!D11 -> 0 | Q13: =IF(P13=0,0,($D$13/$P$13)*100000) -> 0 | R13: =' B_Populations'!F11 -> 0 | S13: =IF(R13=0,0,($E$13/$R$13)*100000) -> 0 | T13: =' B_Populations'!H11 -> 0 | U13: =IF(T13=0,0,($F$13/$T$13)*100000) -> 0 | V13: =' B_Populations'!J11 -> 0 | W13: =IF(V13=0,0,($G$13/$V$13)*100000) -> 0 | X13: =' B_Populations'!L11 -> 0 | Y13: =IF(X13=0,0,($H$13/$X$13)*100000) -> 0 | Z13: =' B_Populations'!N11 -> 0 | AA13: =IF(Z13=0,0,($I$13/$Z$13)*100000) -> 0 | AB13: =' B_Populations'!P11 -> 0 | AC13: =IF(AB13=0,0,($J$13/$AB$13)*100000) -> 0 | AD13: =' B_Populations'!R11 -> 0 | AE13: =IF(AD13=0,0,($K$13/$AD$13)*100000) -> 0 | AF13: =' B_Populations'!T11 -> 0 | AG13: =IF(AF13=0,0,($L$13/$AF$13)*100000) -> 0 | AH13: =' B_Populations'!B17 -> 4259 | AI13: 0.122702 | AK13: =' B_Populations'!A11 -> 85+ | AL13: =O13*AI13 -> 0 | AM13: =Q13*AI13 -> 0 | AN13: =S13*AI13 -> 0 | AO13: =U13*AI13 -> 0 | AP13: =W13*AI13 -> 0 | AQ13: =Y13*AI13 -> 0 | AR13: =AA13*AI13 -> 0 | AS13: =AC13*AI13 -> 0 | AT13: =AE13*AI13 -> 0 | AU13: =AG13*AI13 -> 0
B14: total | C14: =SUM(C11:C13) -> 0 | D14: =SUM(D11:D13) -> 0 | E14: =SUM(E11:E13) -> 0 | F14: =SUM(F11:F13) -> 0 | G14: =SUM(G11:G13) -> 0 | H14: =SUM(H11:H13) -> 0 | I14: =SUM(I11:I13) -> 0 | J14: =SUM(J11:J13) -> 0 | ... L14: =SUM(L11:L13) -> 0 | N14: =' B_Populations'!B12 -> 0 | O14: =SUM(O11:O13) -> 0 | P14: =' B_Populations'!D12 -> 0 | Q14: =SUM(Q11:Q13) -> 0 | R14: =' B_Populations'!F12 -> 0 | S14: =SUM(S11:S13) -> 0 | T14: =' B_Populations'!H12 -> 0 | U14: =SUM(U11:U13) -> 0 | V14: =' B_Populations'!J12 -> 0 | W14: =SUM(W11:W13) -> 0 | X14: =' B_Populations'!L12 -> 0 | Y14: =SUM(Y11:Y13) -> 0 | Z14: =' B_Populations'!N12 -> 0 | AA14: =SUM(AA11:AA13) -> 0 | AB14: =' B_Populations'!P12 -> 0 | AC14: =SUM(AC11:AC13) -> 0 | AD14: =' B_Populations'!R12 -> 0 | AE14: =SUM(AE11:AE13) -> 0 | AF14: =' B_Populations'!T12 -> 0 | AG14: =SUM(AG11:AG13) -> 0 | AH14: =' B_Populations'!B18 -> 34710 | AI14: 1 | AK14: Total | AL14: =SUM(AL11:AL13) -> 0 | AM14: =SUM(AM11:AM13) -> 0 | AN14: =SUM(AN11:AN13) -> 0 | AO14: =SUM(AO11:AO13) -> 0 | AP14: =SUM(AP11:AP13) -> 0 | AQ14: =SUM(AQ11:AQ13) -> 0 | AR14: =SUM(AR11:AR13) -> 0 | AS14: =SUM(AS11:AS13) -> 0 | ... AU14: =SUM(AU11:AU13) -> 0
D16: Sex Data | F16: Demographic Data | AL16: Age-adjusted Rates per 100,000 population
B17: Age | C17: Number of deaths- Total | D17: Number of deaths- Male | E17: Number of deaths- Female | F17: =[1]Populations!I8 -> White-Not Hispanic | G17: =[1]Populations!K8 -> Hispanic | H17: =[1]Populations!M8 -> Black-Not Hispanic | I17: =[1]Populations!O8 -> Asian | J17: =[1]Populations!Q8 -> American Indian/Alaska Native | K17: =[1]Populations!S8 -> Other | L17: =[1]Populations!U8 -> Other | N17: State population - Total | O17: Rate | P17: State population - Male | Q17: Rate | R17: State population - Female | S17: Rate | T17: =[1]Populations!I8 -> White-Not Hispanic | U17: Rate | V17: =[1]Populations!K8 -> Hispanic | W17: Rate | X17: =[1]Populations!M8 -> Black-Not Hispanic | Y17: Rate | Z17: =[1]Populations!O8 -> Asian | AA17: Rate | AB17: =[1]Populations!Q8 -> American Indian/Alaska Native | AC17: Rate | AD17: =[1]Populations!S8 -> Other | AE17: Rate | AF17: =[1]Populations!U8 -> Other | AG17: Rate | AH17: 2000 Standard population - from "Populations" tab | AI17: Weight | AK17: Age | AL17: Total | AM17: Male | AN17: Female | AO17: =[1]Populations!I8 -> White-Not Hispanic | AP17: =[1]Populations!K8 -> Hispanic | AQ17: =[1]Populations!M8 -> Black-Not Hispanic | AR17: =[1]Populations!O8 -> Asian | AS17: =[1]Populations!Q8 -> American Indian/Alaska Native | AT17: =[1]Populations!S8 -> Other | AU17: =[1]Populations!U8 -> Other
B18: =' B_Populations'!A9 -> 65-74 | N18: =' B_Populations'!B9 -> 0 | O18: =IF(N18=0,0,($C$18/$N$18)*100000) -> 0 | P18: =' B_Populations'!D9 -> 0 | Q18: =IF(P18=0,0,($D$18/$P$18)*100000) -> 0 | R18: =' B_Populations'!F9 -> 0 | S18: =IF(R18=0,0,($E$18/$R$18)*100000) -> 0 | T18: =' B_Populations'!H9 -> 0 | U18: =IF(T18=0,0,($F$18/$T$18)*100000) -> 0 | V18: =' B_Populations'!J9 -> 0 | W18: =IF(V18=0,0,($G$18/$V$18)*100000) -> 0 | X18: =' B_Populations'!L9 -> 0 | Y18: =IF(X18=0,0,($H$18/$X$18)*100000) -> 0 | Z18: =' B_Populations'!N9 -> 0 | AA18: =IF(Z18=0,0,($I$18/$Z$18)*100000) -> 0 | AB18: =' B_Populations'!P9 -> 0 | AC18: =IF(AB18=0,0,($J$18/$AB$18)*100000) -> 0 | AD18: =' B_Populations'!R9 -> 0 | AE18: =IF(AD18=0,0,($K$18/$AD$18)*100000) -> 0 | AF18: =' B_Populations'!T9 -> 0 | AG18: =IF(AF18=0,0,($L$18/$AF$18)*100000) -> 0 | AH18: =' B_Populations'!B15 -> 18136 | AI18: 0.522501 | AK18: =' B_Populations'!A9 -> 65-74 | AL18: =O18*AI18 -> 0 | AM18: =Q18*AI18 -> 0 | AN18: =S18*AI18 -> 0 | AO18: =U18*AI18 -> 0 | AP18: =W18*AI18 -> 0 | AQ18: =Y18*AI18 -> 0 | AR18: =AA18*AI18 -> 0 | AS18: =AC18*AI18 -> 0 | AT18: =AE18*AI18 -> 0 | AU18: =AG18*AI18 -> 0
B19: =' B_Populations'!A10 -> 75-84 | N19: =' B_Populations'!B10 -> 0 | O19: =IF(N19=0,0,($C$19/$N$19)*100000) -> 0 | P19: =' B_Populations'!D10 -> 0 | Q19: =IF(P19=0,0,($D$19/$P$19)*100000) -> 0 | R19: =' B_Populations'!F10 -> 0 | S19: =IF(R19=0,0,($E$19/$R$19)*100000) -> 0 | T19: =' B_Populations'!H10 -> 0 | U19: =IF(T19=0,0,($F$19/$T$19)*100000) -> 0 | V19: =' B_Populations'!J10 -> 0 | W19: =IF(V19=0,0,($G$19/$V$19)*100000) -> 0 | X19: =' B_Populations'!L10 -> 0 | Y19: =IF(X19=0,0,($H$19/$X$19)*100000) -> 0 | Z19: =' B_Populations'!N10 -> 0 | AA19: =IF(Z19=0,0,($I$19/$Z$19)*100000) -> 0 | AB19: =' B_Populations'!P10 -> 0 | AC19: =IF(AB19=0,0,($J$19/$AB$19)*100000) -> 0 | AD19: =' B_Populations'!R10 -> 0 | AE19: =IF(AD19=0,0,($K$19/$AD$19)*100000) -> 0 | AF19: =' B_Populations'!T10 -> 0 | AG19: =IF(AF19=0,0,($L$19/$AF$19)*100000) -> 0 | AH19: =' B_Populations'!B16 -> 12315 | AI19: 0.354797 | AK19: =' B_Populations'!A10 -> 75-84 | AL19: =O19*AI19 -> 0 | AM19: =Q19*AI19 -> 0 | AN19: =S19*AI19 -> 0 | AO19: =U19*AI19 -> 0 | AP19: =W19*AI19 -> 0 | AQ19: =Y19*AI19 -> 0 | AR19: =AA19*AI19 -> 0 | AS19: =AC19*AI19 -> 0 | AT19: =AE19*AI19 -> 0 | AU19: =AG19*AI19 -> 0
B20: =' B_Populations'!A11 -> 85+ | N20: =' B_Populations'!B11 -> 0 | O20: =IF(N20=0,0,($C$20/$N$20)*100000) -> 0 | P20: =' B_Populations'!D11 -> 0 | Q20: =IF(P20=0,0,($D$20/$P$20)*100000) -> 0 | R20: =' B_Populations'!F11 -> 0 | S20: =IF(R20=0,0,($E$20/$R$20)*100000) -> 0 | T20: =' B_Populations'!H11 -> 0 | U20: =IF(T20=0,0,($F$20/$T$20)*100000) -> 0 | V20: =' B_Populations'!J11 -> 0 | W20: =IF(V20=0,0,($G$20/$V$20)*100000) -> 0 | X20: =' B_Populations'!L11 -> 0 | Y20: =IF(X20=0,0,($H$20/$X$20)*100000) -> 0 | Z20: =' B_Populations'!N11 -> 0 | AA20: =IF(Z20=0,0,($I$20/$Z$20)*100000) -> 0 | AB20: =' B_Populations'!P11 -> 0 | AC20: =IF(AB20=0,0,($J$20/$AB$20)*100000) -> 0 | AD20: =' B_Populations'!R11 -> 0 | AE20: =IF(AD20=0,0,($K$20/$AD$20)*100000) -> 0 | AF20: =' B_Populations'!T11 -> 0 | AG20: =IF(AF20=0,0,($L$20/$AF$20)*100000) -> 0 | AH20: =' B_Populations'!B17 -> 4259 | AI20: 0.122702 | AK20: =' B_Populations'!A11 -> 85+ | AL20: =O20*AI20 -> 0 | AM20: =Q20*AI20 -> 0 | AN20: =S20*AI20 -> 0 | AO20: =U20*AI20 -> 0 | AP20: =W20*AI20 -> 0 | AQ20: =Y20*AI20 -> 0 | AR20: =AA20*AI20 -> 0 | AS20: =AC20*AI20 -> 0 | AT20: =AE20*AI20 -> 0 | AU20: =AG20*AI20 -> 0
B21: total | C21: =SUM(C18:C20) -> 0 | D21: =SUM(D18:D20) -> 0 | E21: =SUM(E18:E20) -> 0 | F21: =SUM(F18:F20) -> 0 | G21: =SUM(G18:G20) -> 0 | H21: =SUM(H18:H20) -> 0 | I21: =SUM(I18:I20) -> 0 | J21: =SUM(J18:J20) -> 0 | ... L21: =SUM(L18:L20) -> 0 | N21: =' B_Populations'!B12 -> 0 | O21: =SUM(O18:O20) -> 0 | P21: =' B_Populations'!D12 -> 0 | Q21: =SUM(Q18:Q20) -> 0 | R21: =' B_Populations'!F12 -> 0 | S21: =SUM(S18:S20) -> 0 | T21: =' B_Populations'!H12 -> 0 | U21: =SUM(U18:U20) -> 0 | V21: =' B_Populations'!J12 -> 0 | W21: =SUM(W18:W20) -> 0 | X21: =' B_Populations'!L12 -> 0 | Y21: =SUM(Y18:Y20) -> 0 | Z21: =' B_Populations'!N12 -> 0 | AA21: =SUM(AA18:AA20) -> 0 | AB21: =' B_Populations'!P12 -> 0 | AC21: =SUM(AC18:AC20) -> 0 | AD21: =' B_Populations'!R12 -> 0 | AE21: =SUM(AE18:AE20) -> 0 | AF21: =' B_Populations'!T12 -> 0 | AG21: =SUM(AG18:AG20) -> 0 | AH21: =' B_Populations'!B18 -> 34710 | AI21: 1 | AK21: Total | AL21: =SUM(AL18:AL20) -> 0 | AM21: =SUM(AM18:AM20) -> 0 | AN21: =SUM(AN18:AN20) -> 0 | AO21: =SUM(AO18:AO20) -> 0 | AP21: =SUM(AP18:AP20) -> 0 | AQ21: =SUM(AQ18:AQ20) -> 0 | AR21: =SUM(AR18:AR20) -> 0 | AS21: =SUM(AS18:AS20) -> 0 | ... AU21: =SUM(AU18:AU20) -> 0

Sheet I_Optional - Totals
B1: This tab can be used for data validation. You can directly enter your total numbers of Older Adult Falls hospitalizations, ED visits, and deaths and compare them against the results in the "Report" tab. | M1: Optional: Unhide columns N through Z to enter health region data | AH1: Optional: Unhide columns AC through CA to show rate calculations and 2000 population weights | CU1: Results Table Age Adjusted Rates per 100,1000. Results will calculate automatically. | CX1: Optional: Unhide columns CG through DA to show demographic and Regional rates
D2: Sex Data | F2: Demographic Data | M2: Region Data | CV2: Age-adjusted Rates per 100,000 population
B3: Age | C3: Number of hospitalizations- Total | D3: Number of hospitalizations- Male | E3: Number of hospitalizations- Female | F3: =' B_Populations'!$H$8 -> White-Not Hispanic | G3: =' B_Populations'!$J$8 -> Hispanic | H3: =' B_Populations'!$L$8 -> Black-Not Hispanic | I3: =' B_Populations'!$N$8 -> Asian | J3: =' B_Populations'!$P$8 -> American Indian/Alaska Native | K3: =' B_Populations'!$R$8 -> Other | L3: =' B_Populations'!$T$8 -> Other | M3: ='C_Health Regions'!$B$4 -> Region 1 | N3: ='C_Health Regions'!$D$4 -> Region 2 | O3: ='C_Health Regions'!$F$4 -> Region 3 | P3: ='C_Health Regions'!$H$4 -> Region 4 | Q3: ='C_Health Regions'!$J$4 -> Region 5 | R3: ='C_Health Regions'!$L$4 -> Region 6 | S3: ='C_Health Regions'!$N$4 -> Region 7 | T3: ='C_Health Regions'!$P$4 -> Region 8 | U3: ='C_Health Regions'!$R$4 -> Region 9 | V3: ='C_Health Regions'!$T$4 -> Region 10 | W3: ='C_Health Regions'!$V$4 -> Region 11 | X3: ='C_Health Regions'!$X$4 -> Region 12 | Y3: ='C_Health Regions'!$Z$4 -> Region 13 | Z3: ='C_Health Regions'!$AB$4 -> Region 14 | AA3: ='C_Health Regions'!$AD$4 -> Region 15 | AB3: ='C_Health Regions'!$AF$4 -> Region 16 | AC3: ='C_Health Regions'!$AH$4 -> Region 17 | AD3: ='C_Health Regions'!$AJ$4 -> Region 18 | AE3: ='C_Health Regions'!$AL$4 -> Region 19 | AF3: ='C_Health Regions'!$AN$4 -> Region 20 | AH3: State population - Total | AI3: Rate | AJ3: State population - Male | AK3: Rate | AL3: State population - Female | AM3: Rate | AN3: =' B_Populations'!$H$8 -> White-Not Hispanic | AO3: Rate | AP3: =' B_Populations'!$J$8 -> Hispanic | AQ3: Rate | AR3: =' B_Populations'!$L$8 -> Black-Not Hispanic | AS3: Rate | AT3: =' B_Populations'!$N$8 -> Asian | AU3: Rate | AV3: =' B_Populations'!$P$8 -> American Indian/Alaska Native | AW3: Rate | AX3: =' B_Populations'!$R$8 -> Other | AY3: Rate | AZ3: =' B_Populations'!$T$8 -> Other | BA3: Rate | BC3: ='C_Health Regions'!$B$4 -> Region 1 | BD3: Rate | BE3: ='C_Health Regions'!$D$4 -> Region 2 | BF3: Rate | BG3: ='C_Health Regions'!$F$4 -> Region 3 | BH3: Rate | BI3: ='C_Health Regions'!$H$4 -> Region 4 | BJ3: Rate | BK3: ='C_Health Regions'!$J$4 -> Region 5 | BL3: Rate | BM3: ='C_Health Regions'!$L$4 -> Region 6 | BN3: Rate | BO3: ='C_Health Regions'!$N$4 -> Region 7 | BP3: Rate | BQ3: ='C_Health Regions'!$P$4 -> Region 8 | BR3: Rate | BS3: ='C_Health Regions'!$R$4 -> Region 9 | BT3: Rate | BU3: ='C_Health Regions'!$T$4 -> Region 10 | BV3: Rate | BW3: ='C_Health Regions'!$V$4 -> Region 11 | BX3: Rate | BY3: ='C_Health Regions'!$X$4 -> Region 12 | BZ3: Rate | CA3: ='C_Health Regions'!$Z$4 -> Region 13 | CB3: Rate | CC3: ='C_Health Regions'!$AB$4 -> Region 14 | CD3: Rate | CE3: ='C_Health Regions'!$AD$4 -> Region 15 | CF3: Rate | CG3: ='C_Health Regions'!$AF$4 -> Region 16 | CH3: Rate | CI3: ='C_Health Regions'!$AH$4 -> Region 17 | CJ3: Rate | CK3: ='C_Health Regions'!$AJ$4 -> Region 18 | CL3: Rate | CM3: ='C_Health Regions'!$AL$4 -> Region 19 | CN3: Rate | CO3: ='C_Health Regions'!$AN$4 -> Region 20 | CP3: Rate | CR3: 2000 population | CS3: Weight | CU3: Age | CV3: Total | CW3: Male | CX3: Female | CY3: =' B_Populations'!$H$8 -> White-Not Hispanic | CZ3: =' B_Populations'!$J$8 -> Hispanic | DA3: =' B_Populations'!$L$8 -> Black-Not Hispanic | DB3: =' B_Populations'!$N$8 -> Asian | DC3: =' B_Populations'!$P$8 -> American Indian/Alaska Native | DD3: =' B_Populations'!$R$8 -> Other | DE3: =' B_Populations'!$T$8 -> Other | DF3: ='C_Health Regions'!$B$4 -> Region 1 | DG3: ='C_Health Regions'!$D$4 -> Region 2 | DH3: ='C_Health Regions'!$F$4 -> Region 3 | DI3: ='C_Health Regions'!$H$4 -> Region 4 | DJ3: ='C_Health Regions'!$J$4 -> Region 5 | DK3: ='C_Health Regions'!$L$4 -> Region 6 | DL3: ='C_Health Regions'!$N$4 -> Region 7 | DM3: ='C_Health Regions'!$P$4 -> Region 8 | DN3: ='C_Health Regions'!$R$4 -> Region 9 | DO3: ='C_Health Regions'!$T$4 -> Region 10 | DP3: ='C_Health Regions'!$V$4 -> Region 11 | DQ3: ='C_Health Regions'!$X$4 -> Region 12 | DR3: ='C_Health Regions'!$Z$4 -> Region 13 | DS3: ='C_Health Regions'!$AB$4 -> Region 14 | DT3: ='C_Health Regions'!$AD$4 -> Region 15 | DU3: ='C_Health Regions'!$AF$4 -> Region 16 | DV3: ='C_Health Regions'!$AH$4 -> Region 17 | DW3: ='C_Health Regions'!$AJ$4 -> Region 18 | DX3: ='C_Health Regions'!$AL$4 -> Region 19 | DY3: ='C_Health Regions'!$AN$4 -> Region 20
B4: =' B_Populations'!$A$9 -> 65-74 | AH4: =' B_Populations'!B9 -> 0 | AI4: =IF(AH4=0,0,($C$4/$AH$4)*100000) -> 0 | AJ4: =' B_Populations'!D9 -> 0 | AK4: =IF(AJ4=0,0,($D$4/$AJ$4)*100000) -> 0 | AL4: =' B_Populations'!F9 -> 0 | AM4: =IF(AL4=0,0,($E$4/$AL$4)*100000) -> 0 | AN4: =' B_Populations'!H9 -> 0 | AO4: =IF(AN4=0,0,($F$4/$AN$4)*100000) -> 0 | AP4: =' B_Populations'!J9 -> 0 | AQ4: =IF(AP4=0,0,($G$4/$AP$4)*100000) -> 0 | AR4: =' B_Populations'!L9 -> 0 | AS4: =IF(AR4=0,0,($H$4/$AR$4)*100000) -> 0 | AT4: =' B_Populations'!N9 -> 0 | AU4: =IF(AT4=0,0,($I$4/$AT$4)*100000) -> 0 | AV4: =' B_Populations'!P9 -> 0 | AW4: =IF(AV4=0,0,($J$4/$AV$4)*100000) -> 0 | AX4: =' B_Populations'!R9 -> 0 | AY4: =IF(AX4=0,0,($K$4/$AX$4)*100000) -> 0 | AZ4: =' B_Populations'!T9 -> 0 | BA4: =IF(AZ4=0,0,($L$4/$AZ$4)*100000) -> 0 | BC4: ='C_Health Regions'!B5 -> 0 | BD4: =IF(BC4=0,0,($M$4/$BC$4)*100000) -> 0 | BE4: ='C_Health Regions'!D5 -> 0 | BF4: =IF(BE4=0,0,($N$4/$BE$4)*100000) -> 0 | BG4: ='C_Health Regions'!F5 -> 0 | BH4: =IF(BG4=0,0,($O$4/$BG$4)*100000) -> 0 | BI4: ='C_Health Regions'!H5 -> 0 | BJ4: =IF(BI4=0,0,($P$4/$BI$4)*100000) -> 0 | BK4: ='C_Health Regions'!J5 -> 0 | BL4: =IF(BK4=0,0,($Q$4/$BK$4)*100000) -> 0 | BM4: ='C_Health Regions'!L5 -> 0 | BN4: =IF(BM4=0,0,($R$4/$BM$4)*100000) -> 0 | BO4: ='C_Health Regions'!N5 -> 0 | BP4: =IF(BO4=0,0,($S$4/$BO$4)*100000) -> 0 | BQ4: ='C_Health Regions'!P5 -> 0 | BR4: =IF(BQ4=0,0,($T$4/$BQ$4)*100000) -> 0 | BS4: ='C_Health Regions'!R5 -> 0 | BT4: =IF(BS4=0,0,($U$4/$BS$4)*100000) -> 0 | BU4: ='C_Health Regions'!T5 -> 0 | BV4: =IF(BU4=0,0,($V$4/$BU$4)*100000) -> 0 | BW4: ='C_Health Regions'!V5 -> 0 | BX4: =IF(BW4=0,0,($W$4/$BW$4)*100000) -> 0 | BY4: ='C_Health Regions'!X5 -> 0 | BZ4: =IF(BY4=0,0,($X$4/$BY$4)*100000) -> 0 | CA4: ='C_Health Regions'!Z5 -> 0 | CB4: =IF(CA4=0,0,($Y$4/$CA$4)*100000) -> 0 | CC4: ='C_Health Regions'!AB5 -> 0 | CD4: =IF(CC4=0,0,($Z$4/$CC$4)*100000) -> 0 | CE4: ='C_Health Regions'!AD5 -> 0 | CF4: =IF(CE4=0,0,($AA$4/$CE$4)*100000) -> 0 | CG4: ='C_Health Regions'!AF5 -> 0 | CH4: =IF(CG4=0,0,($AB$4/$CG$4)*100000) -> 0 | CI4: ='C_Health Regions'!AH5 -> 0 | CJ4: =IF(CI4=0,0,($AC$4/$CI$4)*100000) -> 0 | CK4: ='C_Health Regions'!AJ44 -> 0 | CL4: =IF(CK4=0,0,($AD$4/$CK$4)*100000) -> 0 | CM4: ='C_Health Regions'!AL44 -> 0 | CN4: =IF(CM4=0,0,($AE$4/$CM$4)*100000) -> 0 | CO4: ='C_Health Regions'!AN5 -> 0 | CP4: =IF(CO4=0,0,($AF$4/$CO$4)*100000) -> 0 | CR4: 3795 | CS4: 0.013818 | CU4: =' B_Populations'!$A$9 -> 65-74 | CV4: =AI4*CS4 -> 0 | CW4: =AK4*CS4 -> 0 | CX4: =AM4*CS4 -> 0 | CY4: =AO4*CS4 -> 0 | CZ4: =AQ4*CS4 -> 0 | DA4: =AS4*CS4 -> 0 | DB4: =AU4*CS4 -> 0 | DC4: =AW4*CS4 -> 0 | DD4: =AY4*CS4 -> 0 | DE4: =BA4*CS4 -> 0 | DF4: =BD4*CS4 -> 0 | DG4: =BF4*CS4 -> 0 | DH4: =BH4*CS4 -> 0 | DI4: =BJ4*CS4 -> 0 | DJ4: =BL4*CS4 -> 0 | DK4: =BN4*CS4 -> 0 | DL4: =BO4*CS4 -> 0 | DM4: =BR4*CS4 -> 0 | DN4: =BT4*CS4 -> 0 | DO4: =BV4*CS4 -> 0 | DP4: =BX4*CS4 -> 0 | DQ4: =BZ4*CS4 -> 0 | DR4: =CB4*CS4 -> 0 | DS4: =CD4*CS4 -> 0 | DT4: =CE4*CS4 -> 0 | DU4: =CF4*CS4 -> 0 | DV4: =CG4*CS4 -> 0 | DW4: =CH4*CS4 -> 0 | DX4: =CI4*CS4 -> 0 | DY4: =CJ4*CS4 -> 0
B5: =' B_Populations'!$A$10 -> 75-84 | AH5: =' B_Populations'!B10 -> 0 | AI5: =IF(AH5=0,0,($C$5/$AH$5)*100000) -> 0 | AJ5: =' B_Populations'!D10 -> 0 | AK5: =IF(AJ5=0,0,($D$5/$AJ$5)*100000) -> 0 | AL5: =' B_Populations'!F10 -> 0 | AM5: =IF(AL5=0,0,($E$5/$AL$5)*100000) -> 0 | AN5: =' B_Populations'!H10 -> 0 | AO5: =IF(AN5=0,0,($F$5/$AN$5)*100000) -> 0 | AP5: =' B_Populations'!J10 -> 0 | AQ5: =IF(AP5=0,0,($G$5/$AP$5)*100000) -> 0 | AR5: =' B_Populations'!L10 -> 0 | AS5: =IF(AR5=0,0,($G$5/$AR$5)*100000) -> 0 | AT5: =' B_Populations'!N10 -> 0 | AU5: =IF(AT5=0,0,($I$5/$AT$5)*100000) -> 0 | AV5: =' B_Populations'!P10 -> 0 | AW5: =IF(AV5=0,0,($J$5/$AV$5)*100000) -> 0 | AX5: =' B_Populations'!R10 -> 0 | AY5: =IF(AX5=0,0,($K$5/$AX$5)*100000) -> 0 | AZ5: =' B_Populations'!T10 -> 0 | BA5: =IF(AZ5=0,0,($L$5/$AZ$5)*100000) -> 0 | BC5: ='C_Health Regions'!B6 -> 0 | BD5: =IF(BC5=0,0,($M$5/$BC$5)*100000) -> 0 | BE5: ='C_Health Regions'!D6 -> 0 | BF5: =IF(BE5=0,0,($N$5/$BE$5)*100000) -> 0 | BG5: ='C_Health Regions'!F6 -> 0 | BH5: =IF(BG5=0,0,($O$5/$BG$5)*100000) -> 0 | BI5: ='C_Health Regions'!H6 -> 0 | BJ5: =IF(BI5=0,0,($P$5/$BI$5)*100000) -> 0 | BK5: ='C_Health Regions'!J6 -> 0 | BL5: =IF(BK5=0,0,($Q$5/$BK$5)*100000) -> 0 | BM5: ='C_Health Regions'!L6 -> 0 | BN5: =IF(BM5=0,0,($R$5/$BM$5)*100000) -> 0 | BO5: ='C_Health Regions'!N6 -> 0 | BP5: =IF(BO5=0,0,($S$5/$BO$5)*100000) -> 0 | BQ5: ='C_Health Regions'!P6 -> 0 | BR5: =IF(BQ5=0,0,($T$5/$BQ$5)*100000) -> 0 | BS5: ='C_Health Regions'!R6 -> 0 | BT5: =IF(BS5=0,0,($U$5/$BS$5)*100000) -> 0 | BU5: ='C_Health Regions'!T6 -> 0 | BV5: =IF(BU5=0,0,($V$5/$BU$5)*100000) -> 0 | BW5: ='C_Health Regions'!V6 -> 0 | BX5: =IF(BW5=0,0,($W$5/$BW$5)*100000) -> 0 | BY5: ='C_Health Regions'!X6 -> 0 | BZ5: =IF(BY5=0,0,($X$5/$BY$5)*100000) -> 0 | CA5: ='C_Health Regions'!Z6 -> 0 | CB5: =IF(CA5=0,0,($Y$5/$CA$5)*100000) -> 0 | CC5: ='C_Health Regions'!AB6 -> 0 | CD5: =IF(CC5=0,0,($Z$5/$CC$5)*100000) -> 0 | CE5: ='C_Health Regions'!AD6 -> 0 | CF5: =IF(CE5=0,0,($AA$5/$CE$5)*100000) -> 0 | CG5: ='C_Health Regions'!AF6 -> 0 | CH5: =IF(CG5=0,0,($AB$4/$CG$5)*100000) -> 0 | CI5: ='C_Health Regions'!AH6 -> 0 | CJ5: =IF(CI5=0,0,($AC$4/$CI$5)*100000) -> 0 | CK5: ='C_Health Regions'!AJ45 -> 0 | CL5: =IF(CK5=0,0,($AD$4/$CK$5)*100000) -> 0 | CM5: ='C_Health Regions'!AL45 -> 0 | CN5: =IF(CM5=0,0,($AE$4/$CM$5)*100000) -> 0 | CO5: ='C_Health Regions'!AN6 -> 0 | CP5: =IF(CO5=0,0,($AF$4/$CO$5)*100000) -> 0 | CR5: 15192 | CS5: 0.055317 | CU5: =' B_Populations'!$A$10 -> 75-84 | CV5: =AI5*CS5 -> 0 | CW5: =AK5*CS5 -> 0 | CX5: =AM5*CS5 -> 0 | CY5: =AO5*CS5 -> 0 | CZ5: =AQ5*CS5 -> 0 | DA5: =AS5*CS5 -> 0 | DB5: =AU5*CS5 -> 0 | DC5: =AW5*CS5 -> 0 | DD5: =AY5*CS5 -> 0 | DE5: =BA5*CS5 -> 0 | DF5: =BD5*CS5 -> 0 | DG5: =BF5*CS5 -> 0 | DH5: =BH5*CS5 -> 0 | DI5: =BJ5*CS5 -> 0 | DJ5: =BL5*CS5 -> 0 | DK5: =BN5*CS5 -> 0 | DL5: =BO5*CS5 -> 0 | DM5: =BR5*CS5 -> 0 | DN5: =BT5*CS5 -> 0 | DO5: =BV5*CS5 -> 0 | DP5: =BX5*CS5 -> 0 | DQ5: =BZ5*CS5 -> 0 | DR5: =CB5*CS5 -> 0 | DS5: =CD5*CS5 -> 0 | DT5: =CE5*CS5 -> 0 | DU5: =CF5*CS5 -> 0 | DV5: =CG5*CS5 -> 0 | DW5: =CH5*CS5 -> 0 | DX5: =CI5*CS5 -> 0 | DY5: =CJ5*CS5 -> 0
B6: =' B_Populations'!$A$11 -> 85+ | AH6: =' B_Populations'!B11 -> 0 | AI6: =IF(AH6=0,0,($C$6/$AH$6)*100000) -> 0 | AJ6: =' B_Populations'!D11 -> 0 | AK6: =IF(AJ6=0,0,($D$6/$AJ$6)*100000) -> 0 | AL6: =' B_Populations'!F11 -> 0 | AM6: =IF(AL6=0,0,($E$6/$AL$6)*100000) -> 0 | AN6: =' B_Populations'!H11 -> 0 | AO6: =IF(AN6=0,0,($F$6/$AN$6)*100000) -> 0 | AP6: =' B_Populations'!J11 -> 0 | AQ6: =IF(AP6=0,0,($G$6/$AP$6)*100000) -> 0 | AR6: =' B_Populations'!L11 -> 0 | AS6: =IF(AR6=0,0,($G$6/$AR$6)*100000) -> 0 | AT6: =' B_Populations'!N11 -> 0 | AU6: =IF(AT6=0,0,($I$6/$AT$6)*100000) -> 0 | AV6: =' B_Populations'!P11 -> 0 | AW6: =IF(AV6=0,0,($J$6/$AV$6)*100000) -> 0 | AX6: =' B_Populations'!R11 -> 0 | AY6: =IF(AX6=0,0,($K$6/$AX$6)*100000) -> 0 | AZ6: =' B_Populations'!T11 -> 0 | BA6: =IF(AZ6=0,0,($L$6/$AZ$6)*100000) -> 0 | BC6: ='C_Health Regions'!B7 -> 0 | BD6: =IF(BC6=0,0,($M$6/$BC$6)*100000) -> 0 | BE6: ='C_Health Regions'!D7 -> 0 | BF6: =IF(BE6=0,0,($N$6/$BE$6)*100000) -> 0 | BG6: ='C_Health Regions'!F7 -> 0 | BH6: =IF(BG6=0,0,($O$6/$BG$6)*100000) -> 0 | BI6: ='C_Health Regions'!H7 -> 0 | BJ6: =IF(BI6=0,0,($P$6/$BI$6)*100000) -> 0 | BK6: ='C_Health Regions'!J7 -> 0 | BL6: =IF(BK6=0,0,($Q$6/$BK$6)*100000) -> 0 | BM6: ='C_Health Regions'!L7 -> 0 | BN6: =IF(BM6=0,0,($R$6/$BM$6)*100000) -> 0 | BO6: ='C_Health Regions'!N7 -> 0 | BP6: =IF(BO6=0,0,($S$6/$BO$6)*100000) -> 0 | BQ6: ='C_Health Regions'!P7 -> 0 | BR6: =IF(BQ6=0,0,($T$6/$BQ$6)*100000) -> 0 | BS6: ='C_Health Regions'!R7 -> 0 | BT6: =IF(BS6=0,0,($U$6/$BS$6)*100000) -> 0 | BU6: ='C_Health Regions'!T7 -> 0 | BV6: =IF(BU6=0,0,($V$6/$BU$6)*100000) -> 0 | BW6: ='C_Health Regions'!V7 -> 0 | BX6: =IF(BW6=0,0,($W$6/$BW$6)*100000) -> 0 | BY6: ='C_Health Regions'!X7 -> 0 | BZ6: =IF(BY6=0,0,($X$6/$BY$6)*100000) -> 0 | CA6: ='C_Health Regions'!Z7 -> 0 | CB6: =IF(CA6=0,0,($Y$6/$CA$6)*100000) -> 0 | CC6: ='C_Health Regions'!AB7 -> 0 | CD6: =IF(CC6=0,0,($Z$6/$CC$6)*100000) -> 0 | CE6: ='C_Health Regions'!AD7 -> 0 | CF6: =IF(CE6=0,0,($AA$6/$CE$6)*100000) -> 0 | CG6: ='C_Health Regions'!AF7 -> 0 | CH6: =IF(CG6=0,0,($AB$4/$CG$6)*100000) -> 0 | CI6: ='C_Health Regions'!AH7 -> 0 | CJ6: =IF(CI6=0,0,($AC$4/$CI$6)*100000) -> 0 | CK6: ='C_Health Regions'!AJ46 -> 0 | CL6: =IF(CK6=0,0,($AD$4/$CK$6)*100000) -> 0 | CM6: ='C_Health Regions'!AL46 -> 0 | CN6: =IF(CM6=0,0,($AE$4/$CM$6)*100000) -> 0 | CO6: ='C_Health Regions'!AN7 -> 0 | CP6: =IF(CO6=0,0,($AF$4/$CO$6)*100000) -> 0 | CR6: 19920 | CS6: 0.072533 | CU6: =' B_Populations'!$A$11 -> 85+ | CV6: =AI6*CS6 -> 0 | CW6: =AK6*CS6 -> 0 | CX6: =AM6*CS6 -> 0 | CY6: =AO6*CS6 -> 0 | CZ6: =AQ6*CS6 -> 0 | DA6: =AS6*CS6 -> 0 | DB6: =AU6*CS6 -> 0 | DC6: =AW6*CS6 -> 0 | DD6: =AY6*CS6 -> 0 | DE6: =BA6*CS6 -> 0 | DF6: =BD6*CS6 -> 0 | DG6: =BF6*CS6 -> 0 | DH6: =BH6*CS6 -> 0 | DI6: =BJ6*CS6 -> 0 | DJ6: =BL6*CS6 -> 0 | DK6: =BN6*CS6 -> 0 | DL6: =BO6*CS6 -> 0 | DM6: =BR6*CS6 -> 0 | DN6: =BT6*CS6 -> 0 | DO6: =BV6*CS6 -> 0 | DP6: =BX6*CS6 -> 0 | DQ6: =BZ6*CS6 -> 0 | DR6: =CB6*CS6 -> 0 | DS6: =CD6*CS6 -> 0 | DT6: =CE6*CS6 -> 0 | DU6: =CF6*CS6 -> 0 | DV6: =CG6*CS6 -> 0 | DW6: =CH6*CS6 -> 0 | DX6: =CI6*CS6 -> 0 | DY6: =CJ6*CS6 -> 0
B7: total | C7: =SUM(C4:C6) -> 0 | D7: =SUM(D4:D6) -> 0 | E7: =SUM(E4:E6) -> 0 | F7: =SUM(F4:F6) -> 0 | G7: =SUM(G4:G6) -> 0 | H7: =SUM(H4:H6) -> 0 | I7: =SUM(I4:I6) -> 0 | J7: =SUM(J4:J6) -> 0 | ... AF7: =SUM(AF4:AF6) -> 0 | AH7: =SUM(AH4:AH6) -> 0 | AI7: =SUM(AI4:AI6) -> 0 | AJ7: =SUM(AJ4:AJ6) -> 0 | AK7: =SUM(AK4:AK6) -> 0 | AL7: =SUM(AL4:AL6) -> 0 | AM7: =SUM(AM4:AM6) -> 0 | AN7: =SUM(AN4:AN6) -> 0 | AO7: =SUM(AO4:AO6) -> 0 | ... BA7: =SUM(BA4:BA6) -> 0 | BC7: =SUM(BC4:BC6) -> 0 | BD7: =SUM(BD4:BD6) -> 0 | BE7: =SUM(BE4:BE6) -> 0 | BF7: =SUM(BF4:BF6) -> 0 | BG7: =SUM(BG4:BG6) -> 0 | BH7: =SUM(BH4:BH6) -> 0 | BI7: =SUM(BI4:BI6) -> 0 | BJ7: =SUM(BJ4:BJ6) -> 0 | ... CD7: =SUM(CD4:CD6) -> 0 | CE7: ='C_Health Regions'!AD8 -> 0 | CF7: =IF(CE7=0,0,($AA$7/$CE$7)*100000) -> 0 | CG7: ='C_Health Regions'!AF8 -> 0 | CH7: =IF(CG7=0,0,($AB$4/$CG$7)*100000) -> 0 | CI7: ='C_Health Regions'!AH8 -> 0 | CJ7: =IF(CI7=0,0,($AC$4/$CI$7)*100000) -> 0 | CK7: ='C_Health Regions'!AJ57 -> 0 | CL7: =IF(CK7=0,0,($AD$4/$CK$7)*100000) -> 0 | CM7: ='C_Health Regions'!AL57 -> 0 | CN7: =IF(CM7=0,0,($AE$4/$CM$7)*100000) -> 0 | CO7: ='C_Health Regions'!AN8 -> 0 | CP7: =IF(CO7=0,0,($AF$4/$CO$7)*100000) -> 0 | CR7: =SUM(CR4:CR6) -> 38907 | CU7: total | CV7: =SUM(CV4:CV6) -> 0 | CW7: =SUM(CW4:CW6) -> 0 | CX7: =SUM(CX4:CX6) -> 0 | CY7: =SUM(CY4:CY6) -> 0 | CZ7: =SUM(CZ4:CZ6) -> 0 | DA7: =SUM(DA4:DA6) -> 0 | DB7: =SUM(DB4:DB6) -> 0 | DC7: =SUM(DC4:DC6) -> 0 | ... DT7: =SUM(DT4:DT6) -> 0 | DU7: =CF7*CS7 -> 0 | DV7: =SUM(DV4:DV6) -> 0 | DW7: =SUM(DW4:DW6) -> 0 | DX7: =SUM(DX4:DX6) -> 0 | DY7: =SUM(DY4:DY6) -> 0
D9: Sex Data | F9: Demographic Data | M9: Region Data | CV9: Age-adjusted Rates per 100,000 population
B10: Age | C10: Number of ED visits- Total | D10: Number of ED visits- Male | E10: Number of ED visits- Female | F10: =' B_Populations'!$H$8 -> White-Not Hispanic | G10: =' B_Populations'!$J$8 -> Hispanic | H10: =' B_Populations'!$L$8 -> Black-Not Hispanic | I10: =' B_Populations'!$N$8 -> Asian | J10: =' B_Populations'!$P$8 -> American Indian/Alaska Native | K10: =' B_Populations'!$R$8 -> Other | L10: =' B_Populations'!$T$8 -> Other | M10: ='C_Health Regions'!$B$4 -> Region 1 | N10: ='C_Health Regions'!$D$4 -> Region 2 | O10: ='C_Health Regions'!$F$4 -> Region 3 | P10: ='C_Health Regions'!$H$4 -> Region 4 | Q10: ='C_Health Regions'!$J$4 -> Region 5 | R10: ='C_Health Regions'!$L$4 -> Region 6 | S10: ='C_Health Regions'!$N$4 -> Region 7 | T10: ='C_Health Regions'!$P$4 -> Region 8 | U10: ='C_Health Regions'!$R$4 -> Region 9 | V10: ='C_Health Regions'!$T$4 -> Region 10 | W10: ='C_Health Regions'!$V$4 -> Region 11 | X10: ='C_Health Regions'!$X$4 -> Region 12 | Y10: ='C_Health Regions'!$Z$4 -> Region 13 | Z10: ='C_Health Regions'!$AB$4 -> Region 14 | AA10: ='C_Health Regions'!$AD$4 -> Region 15 | AB10: ='C_Health Regions'!$AF$4 -> Region 16 | AC10: ='C_Health Regions'!$AH$4 -> Region 17 | AD10: ='C_Health Regions'!$AJ$4 -> Region 18 | AE10: ='C_Health Regions'!$AL$4 -> Region 19 | AF10: ='C_Health Regions'!$AN$4 -> Region 20 | AH10: State population - Total | AI10: Rate | AJ10: State population - Male | AK10: Rate | AL10: State population - Female | AM10: Rate | AN10: =' B_Populations'!$H$8 -> White-Not Hispanic | AO10: Rate | AP10: =' B_Populations'!$J$8 -> Hispanic | AQ10: Rate | AR10: =' B_Populations'!$L$8 -> Black-Not Hispanic | AS10: Rate | AT10: =' B_Populations'!$N$8 -> Asian | AU10: Rate | AV10: =' B_Populations'!$P$8 -> American Indian/Alaska Native | AW10: Rate | AX10: =' B_Populations'!$R$8 -> Other | AY10: Rate | AZ10: =' B_Populations'!$T$8 -> Other | BA10: Rate | BC10: ='C_Health Regions'!$B$4 -> Region 1 | BD10: Rate | BE10: ='C_Health Regions'!$D$4 -> Region 2 | BF10: Rate | BG10: ='C_Health Regions'!$F$4 -> Region 3 | BH10: Rate | BI10: ='C_Health Regions'!$H$4 -> Region 4 | BJ10: Rate | BK10: ='C_Health Regions'!$J$4 -> Region 5 | BL10: Rate | BM10: ='C_Health Regions'!$L$4 -> Region 6 | BN10: Rate | BO10: ='C_Health Regions'!$N$4 -> Region 7 | BP10: Rate | BQ10: ='C_Health Regions'!$P$4 -> Region 8 | BR10: Rate | BS10: ='C_Health Regions'!$R$4 -> Region 9 | BT10: Rate | BU10: ='C_Health Regions'!$T$4 -> Region 10 | BV10: Rate | BW10: ='C_Health Regions'!$V$4 -> Region 11 | BX10: Rate | BY10: ='C_Health Regions'!$X$4 -> Region 12 | BZ10: Rate | CA10: ='C_Health Regions'!$Z$4 -> Region 13 | CB10: Rate | CC10: ='C_Health Regions'!$AB$4 -> Region 14 | CD10: Rate | CE10: ='C_Health Regions'!$AD$4 -> Region 15 | CF10: Rate | CG10: ='C_Health Regions'!$AF$4 -> Region 16 | CH10: Rate | CI10: ='C_Health Regions'!$AH$4 -> Region 17 | CJ10: Rate | CK10: ='C_Health Regions'!$AJ$4 -> Region 18 | CL10: Rate | CM10: ='C_Health Regions'!$AL$4 -> Region 19 | CN10: Rate | CO10: ='C_Health Regions'!$AN$4 -> Region 20 | CP10: Rate | CR10: 2000 population | CS10: Weight | CU10: Age | CV10: Total | CW10: Male | CX10: Female | CY10: =' B_Populations'!$H$8 -> White-Not Hispanic | CZ10: =' B_Populations'!$J$8 -> Hispanic | DA10: =' B_Populations'!$L$8 -> Black-Not Hispanic | DB10: =' B_Populations'!$N$8 -> Asian | DC10: =' B_Populations'!$P$8 -> American Indian/Alaska Native | DD10: =' B_Populations'!$R$8 -> Other | DE10: =' B_Populations'!$T$8 -> Other | DF10: ='C_Health Regions'!$B$4 -> Region 1 | DG10: ='C_Health Regions'!$D$4 -> Region 2 | DH10: ='C_Health Regions'!$F$4 -> Region 3 | DI10: ='C_Health Regions'!$H$4 -> Region 4 | DJ10: ='C_Health Regions'!$J$4 -> Region 5 | DK10: ='C_Health Regions'!$L$4 -> Region 6 | DL10: ='C_Health Regions'!$N$4 -> Region 7 | DM10: ='C_Health Regions'!$P$4 -> Region 8 | DN10: ='C_Health Regions'!$R$4 -> Region 9 | DO10: ='C_Health Regions'!$T$4 -> Region 10 | DP10: ='C_Health Regions'!$V$4 -> Region 11 | DQ10: ='C_Health Regions'!$X$4 -> Region 12 | DR10: ='C_Health Regions'!$Z$4 -> Region 13 | DS10: ='C_Health Regions'!$AB$4 -> Region 14 | DT10: ='C_Health Regions'!$AD$4 -> Region 15 | DU10: ='C_Health Regions'!$AF$4 -> Region 16 | DV10: ='C_Health Regions'!$AH$4 -> Region 17 | DW10: ='C_Health Regions'!$AJ$4 -> Region 18 | DX10: ='C_Health Regions'!$AL$4 -> Region 19 | DY10: ='C_Health Regions'!$AN$4 -> Region 20
B11: =' B_Populations'!$A$9 -> 65-74 | AH11: =' B_Populations'!B9 -> 0 | AI11: =IF(AH11=0,0,($C$11/$AH$11)*100000) -> 0 | AJ11: =' B_Populations'!D9 -> 0 | AK11: =IF(AJ11=0,0,($D$11/$AJ$11)*100000) -> 0 | AL11: =' B_Populations'!F9 -> 0 | AM11: =IF(AL11=0,0,($E$11/$AL$11)*100000) -> 0 | AN11: =' B_Populations'!H9 -> 0 | AO11: =IF(AN11=0,0,($F$11/$AN$11)*100000) -> 0 | AP11: =' B_Populations'!J9 -> 0 | AQ11: =IF(AP11=0,0,($G$11/$AP$11)*100000) -> 0 | AR11: =' B_Populations'!L9 -> 0 | AS11: =IF(AR11=0,0,($H$11/$AR$11)*100000) -> 0 | AT11: =' B_Populations'!N9 -> 0 | AU11: =IF(AT11=0,0,($I$11/$AT$11)*100000) -> 0 | AV11: =' B_Populations'!P9 -> 0 | AW11: =IF(AV11=0,0,($J$11/$AV$11)*100000) -> 0 | AX11: =' B_Populations'!R9 -> 0 | AY11: =IF(AX11=0,0,($K$11/$AX$11)*100000) -> 0 | AZ11: =' B_Populations'!T9 -> 0 | BA11: =IF(AZ11=0,0,($L$11/$AZ$11)*100000) -> 0 | BC11: ='C_Health Regions'!B5 -> 0 | BD11: =IF(BC11=0,0,($M$11/$BC$11)*100000) -> 0 | BE11: ='C_Health Regions'!D5 -> 0 | BF11: =IF(BE11=0,0,($N$11/$BE$11)*100000) -> 0 | BG11: ='C_Health Regions'!F5 -> 0 | BH11: =IF(BG11=0,0,($O$11/$BG$11)*100000) -> 0 | BI11: ='C_Health Regions'!H5 -> 0 | BJ11: =IF(BI11=0,0,($P$11/$BI$11)*100000) -> 0 | BK11: ='C_Health Regions'!J5 -> 0 | BL11: =IF(BK11=0,0,($Q$11/$BK$11)*100000) -> 0 | BM11: ='C_Health Regions'!L5 -> 0 | BN11: =IF(BM11=0,0,($R$11/$BM$11)*100000) -> 0 | BO11: ='C_Health Regions'!N5 -> 0 | BP11: =IF(BO11=0,0,($S$11/$BO$11)*100000) -> 0 | BQ11: ='C_Health Regions'!P5 -> 0 | BR11: =IF(BQ11=0,0,($T$11/$BQ$11)*100000) -> 0 | BS11: ='C_Health Regions'!R5 -> 0 | BT11: =IF(BS11=0,0,($U$11/$BS$11)*100000) -> 0 | BU11: ='C_Health Regions'!T5 -> 0 | BV11: =IF(BU11=0,0,($V$11/$BU11)*100000) -> 0 | BW11: ='C_Health Regions'!V5 -> 0 | BX11: =IF(BW11=0,0,($W$11/$BW$11)*100000) -> 0 | BY11: ='C_Health Regions'!X5 -> 0 | BZ11: =IF(BY11=0,0,($X$11/$BY$11)*100000) -> 0 | CA11: ='C_Health Regions'!Z5 -> 0 | CB11: =IF(CA11=0,0,($Y$11/$CA$11)*100000) -> 0 | CC11: ='C_Health Regions'!AB5 -> 0 | CD11: =IF(CC11=0,0,($Z$11/$CC$11)*100000) -> 0 | CE11: ='C_Health Regions'!AD12 -> 0 | CF11: =IF(CE11=0,0,($AA$11/$CE$11)*100000) -> 0 | CG11: ='C_Health Regions'!AF12 -> 0 | CH11: =IF(CG11=0,0,($AB$11/$CG$11)*100000) -> 0 | CI11: ='C_Health Regions'!AH12 -> 0 | CJ11: =IF(CI11=0,0,($AC$4/$CI$4)*100000) -> 0 | CK11: ='C_Health Regions'!AJ61 -> 0 | CL11: =IF(CK11=0,0,($AD$4/$CK$4)*100000) -> 0 | CM11: ='C_Health Regions'!AL61 -> 0 | CN11: =IF(CM11=0,0,($AE$4/$CM$4)*100000) -> 0 | CO11: ='C_Health Regions'!AN12 -> 0 | CP11: =IF(CO11=0,0,($AF$4/$CO$4)*100000) -> 0 | CR11: 3795 | CS11: 0.013818 | CU11: =' B_Populations'!$A$9 -> 65-74 | CV11: =AI11*CS11 -> 0 | CW11: =AK11*CS11 -> 0 | CX11: =AM11*CS11 -> 0 | CY11: =AO11*CS11 -> 0 | CZ11: =AQ11*CS11 -> 0 | DA11: =AS11*CS11 -> 0 | DB11: =AU11*CS11 -> 0 | DC11: =AW11*CS11 -> 0 | DD11: =AY11*CS11 -> 0 | DE11: =BA11*CS11 -> 0 | DF11: =BD11*CS11 -> 0 | DG11: =BF11*CS11 -> 0 | DH11: =BH11*CS11 -> 0 | DI11: =BJ11*CS11 -> 0 | DJ11: =BL11*CS11 -> 0 | DK11: =BN11*CS11 -> 0 | DL11: =BO11*CS11 -> 0 | DM11: =BR11*CS11 -> 0 | DN11: =BT11*CS11 -> 0 | DO11: =BV11*CS11 -> 0 | DP11: =BX11*CS11 -> 0 | DQ11: =BZ11*CS11 -> 0 | DR11: =CB11*CS11 -> 0 | DS11: =CD11*CS11 -> 0 | DT11: =CE11*CS11 -> 0 | DU11: =CF11*CS11 -> 0 | DV11: =CG11*CS11 -> 0 | DW11: =CH11*CS11 -> 0 | DX11: =CI11*CS11 -> 0 | DY11: =CJ11*CS11 -> 0
B12: =' B_Populations'!$A$10 -> 75-84 | AH12: =' B_Populations'!B10 -> 0 | AI12: =IF(AH12=0,0,($C$12/$AH$12)*100000) -> 0 | AJ12: =' B_Populations'!D10 -> 0 | AK12: =IF(AJ12=0,0,($D$12/$AJ$12)*100000) -> 0 | AL12: =' B_Populations'!F10 -> 0 | AM12: =IF(AL12=0,0,($E$12/$AL$12)*100000) -> 0 | AN12: =' B_Populations'!H10 -> 0 | AO12: =IF(AN12=0,0,($F$12/$AN$12)*100000) -> 0 | AP12: =' B_Populations'!J10 -> 0 | AQ12: =IF(AP12=0,0,($G$12/$AP$12)*100000) -> 0 | AR12: =' B_Populations'!L10 -> 0 | AS12: =IF(AR12=0,0,($H$12/$AR$12)*100000) -> 0 | AT12: =' B_Populations'!N10 -> 0 | AU12: =IF(AT12=0,0,($I$12/$AT$12)*100000) -> 0 | AV12: =' B_Populations'!P10 -> 0 | AW12: =IF(AV12=0,0,($J$12/$AV$12)*100000) -> 0 | AX12: =' B_Populations'!R10 -> 0 | AY12: =IF(AX12=0,0,($K$12/$AX$12)*100000) -> 0 | AZ12: =' B_Populations'!T10 -> 0 | BA12: =IF(AZ12=0,0,($L$12/$AZ$12)*100000) -> 0 | BC12: ='C_Health Regions'!B6 -> 0 | BD12: =IF(BC12=0,0,($M$12/$BC$12)*100000) -> 0 | BE12: ='C_Health Regions'!D6 -> 0 | BF12: =IF(BE12=0,0,($N$12/$BE$12)*100000) -> 0 | BG12: ='C_Health Regions'!F6 -> 0 | BH12: =IF(BG12=0,0,($O$12/$BG$12)*100000) -> 0 | BI12: ='C_Health Regions'!H6 -> 0 | BJ12: =IF(BI12=0,0,($P$12/$BI$12)*100000) -> 0 | BK12: ='C_Health Regions'!J6 -> 0 | BL12: =IF(BK12=0,0,($Q$12/$BK$12)*100000) -> 0 | BM12: ='C_Health Regions'!L6 -> 0 | BN12: =IF(BM12=0,0,($R$12/$BM$12)*100000) -> 0 | BO12: ='C_Health Regions'!N6 -> 0 | BP12: =IF(BO12=0,0,($S$12/$BO$12)*100000) -> 0 | BQ12: ='C_Health Regions'!P6 -> 0 | BR12: =IF(BQ12=0,0,($T$12/$BQ$12)*100000) -> 0 | BS12: ='C_Health Regions'!R6 -> 0 | BT12: =IF(BS12=0,0,($U$12/$BS$12)*100000) -> 0 | BU12: ='C_Health Regions'!T6 -> 0 | BV12: =IF(BU12=0,0,($V$12/$BU$12)*100000) -> 0 | BW12: ='C_Health Regions'!V6 -> 0 | BX12: =IF(BW12=0,0,($W$12/$BW$12)*100000) -> 0 | BY12: ='C_Health Regions'!X6 -> 0 | BZ12: =IF(BY12=0,0,($X$12/$BY$12)*100000) -> 0 | CA12: ='C_Health Regions'!Z6 -> 0 | CB12: =IF(CA12=0,0,($Y$12/$CA$12)*100000) -> 0 | CC12: ='C_Health Regions'!AB6 -> 0 | CD12: =IF(CC12=0,0,($Z$12/$CC$12)*100000) -> 0 | CE12: ='C_Health Regions'!AD13 -> 0 | CF12: =IF(CE12=0,0,($AA$12/$CE$12)*100000) -> 0 | CG12: ='C_Health Regions'!AF13 -> 0 | CH12: =IF(CG12=0,0,($AB$12/$CG$12)*100000) -> 0 | CI12: ='C_Health Regions'!AH13 -> 0 | CJ12: =IF(CI12=0,0,($AC$4/$CI$5)*100000) -> 0 | CK12: ='C_Health Regions'!AJ62 -> 0 | CL12: =IF(CK12=0,0,($AD$4/$CK$5)*100000) -> 0 | CM12: ='C_Health Regions'!AL62 -> 0 | CN12: =IF(CM12=0,0,($AE$4/$CM$5)*100000) -> 0 | CO12: ='C_Health Regions'!AN13 -> 0 | CP12: =IF(CO12=0,0,($AF$4/$CO$5)*100000) -> 0 | CR12: 15192 | CS12: 0.055317 | CU12: =' B_Populations'!$A$10 -> 75-84 | CV12: =AI12*CS12 -> 0 | CW12: =AK12*CS12 -> 0 | CX12: =AM12*CS12 -> 0 | CY12: =AO12*CS12 -> 0 | CZ12: =AQ12*CS12 -> 0 | DA12: =AS12*CS12 -> 0 | DB12: =AU12*CS12 -> 0 | DC12: =AW12*CS12 -> 0 | DD12: =AY12*CS12 -> 0 | DE12: =BA12*CS12 -> 0 | DF12: =BD12*CS12 -> 0 | DG12: =BF12*CS12 -> 0 | DH12: =BH12*CS12 -> 0 | DI12: =BJ12*CS12 -> 0 | DJ12: =BL12*CS12 -> 0 | DK12: =BN12*CS12 -> 0 | DL12: =BO12*CS12 -> 0 | DM12: =BR12*CS12 -> 0 | DN12: =BT12*CS12 -> 0 | DO12: =BV12*CS12 -> 0 | DP12: =BX12*CS12 -> 0 | DQ12: =BZ12*CS12 -> 0 | DR12: =CB12*CS12 -> 0 | DS12: =CD12*CS12 -> 0 | DT12: =CE12*CS12 -> 0 | DU12: =CF12*CS12 -> 0 | DV12: =CG12*CS12 -> 0 | DW12: =CH12*CS12 -> 0 | DX12: =CI12*CS12 -> 0 | DY12: =CJ12*CS12 -> 0
B13: =' B_Populations'!$A$11 -> 85+ | AH13: =' B_Populations'!B11 -> 0 | AI13: =IF(AH13=0,0,($C$13/$AH$13)*100000) -> 0 | AJ13: =' B_Populations'!D11 -> 0 | AK13: =IF(AJ13=0,0,($D$13/$AJ$13)*100000) -> 0 | AL13: =' B_Populations'!F11 -> 0 | AM13: =IF(AL13=0,0,($E$13/$AL$13)*100000) -> 0 | AN13: =' B_Populations'!H11 -> 0 | AO13: =IF(AN13=0,0,($F$13/$AN$13)*100000) -> 0 | AP13: =' B_Populations'!J11 -> 0 | AQ13: =IF(AP13=0,0,($G$13/$AP$13)*100000) -> 0 | AR13: =' B_Populations'!L11 -> 0 | AS13: =IF(AR13=0,0,($H$13/$AR$13)*100000) -> 0 | AT13: =' B_Populations'!N11 -> 0 | AU13: =IF(AT13=0,0,($I$13/$AT$13)*100000) -> 0 | AV13: =' B_Populations'!P11 -> 0 | AW13: =IF(AV13=0,0,($J$13/$AV$13)*100000) -> 0 | AX13: =' B_Populations'!R11 -> 0 | AY13: =IF(AX13=0,0,($K$13/$AX$13)*100000) -> 0 | AZ13: =' B_Populations'!T11 -> 0 | BA13: =IF(AZ13=0,0,($L$13/$AZ$13)*100000) -> 0 | BC13: ='C_Health Regions'!B7 -> 0 | BD13: =IF(BC13=0,0,($M$13/$BC$13)*100000) -> 0 | BE13: ='C_Health Regions'!D7 -> 0 | BF13: =IF(BE13=0,0,($N$13/$BE$13)*100000) -> 0 | BG13: ='C_Health Regions'!F7 -> 0 | BH13: =IF(BG13=0,0,($O$13/$BG$13)*100000) -> 0 | BI13: ='C_Health Regions'!H7 -> 0 | BJ13: =IF(BI13=0,0,($P$13/$BI$13)*100000) -> 0 | BK13: ='C_Health Regions'!J7 -> 0 | BL13: =IF(BK13=0,0,($Q$13/$BK$13)*100000) -> 0 | BM13: ='C_Health Regions'!L7 -> 0 | BN13: =IF(BM13=0,0,($R$13/$BM$13)*100000) -> 0 | BO13: ='C_Health Regions'!N7 -> 0 | BP13: =IF(BO13=0,0,($S$13/$BO$13)*100000) -> 0 | BQ13: ='C_Health Regions'!P7 -> 0 | BR13: =IF(BQ13=0,0,($T$13/$BQ$13)*100000) -> 0 | BS13: ='C_Health Regions'!R7 -> 0 | BT13: =IF(BS13=0,0,($U$13/$BS$13)*100000) -> 0 | BU13: ='C_Health Regions'!T7 -> 0 | BV13: =IF(BU13=0,0,($V$13/$BU$13)*100000) -> 0 | BW13: ='C_Health Regions'!V7 -> 0 | BX13: =IF(BW13=0,0,($W$13/$BW$13)*100000) -> 0 | BY13: ='C_Health Regions'!X7 -> 0 | BZ13: =IF(BY13=0,0,($X$13/$BY$13)*100000) -> 0 | CA13: ='C_Health Regions'!Z7 -> 0 | CB13: =IF(CA13=0,0,($Y$13/$CA$13)*100000) -> 0 | CC13: ='C_Health Regions'!AB7 -> 0 | CD13: =IF(CC13=0,0,($Z$13/$CC$13)*100000) -> 0 | CE13: ='C_Health Regions'!AD14 -> 0 | CF13: =IF(CE13=0,0,($AA$13/$CE$13)*100000) -> 0 | CG13: ='C_Health Regions'!AF14 -> 0 | CH13: =IF(CG13=0,0,($AB$13/$CG$13)*100000) -> 0 | CI13: ='C_Health Regions'!AH14 -> 0 | CJ13: =IF(CI13=0,0,($AC$4/$CI$6)*100000) -> 0 | CK13: ='C_Health Regions'!AJ63 -> 0 | CL13: =IF(CK13=0,0,($AD$4/$CK$6)*100000) -> 0 | CM13: ='C_Health Regions'!AL63 -> 0 | CN13: =IF(CM13=0,0,($AE$4/$CM$6)*100000) -> 0 | CO13: ='C_Health Regions'!AN14 -> 0 | CP13: =IF(CO13=0,0,($AF$4/$CO$6)*100000) -> 0 | CR13: 19920 | CS13: 0.072533 | CU13: =' B_Populations'!$A$11 -> 85+ | CV13: =AI13*CS13 -> 0 | CW13: =AK13*CS13 -> 0 | CX13: =AM13*CS13 -> 0 | CY13: =AO13*CS13 -> 0 | CZ13: =AQ13*CS13 -> 0 | DA13: =AS13*CS13 -> 0 | DB13: =AU13*CS13 -> 0 | DC13: =AW13*CS13 -> 0 | DD13: =AY13*CS13 -> 0 | DE13: =BA13*CS13 -> 0 | DF13: =BD13*CS13 -> 0 | DG13: =BF13*CS13 -> 0 | DH13: =BH13*CS13 -> 0 | DI13: =BJ13*CS13 -> 0 | DJ13: =BL13*CS13 -> 0 | DK13: =BN13*CS13 -> 0 | DL13: =BO13*CS13 -> 0 | DM13: =BR13*CS13 -> 0 | DN13: =BT13*CS13 -> 0 | DO13: =BV13*CS13 -> 0 | DP13: =BX13*CS13 -> 0 | DQ13: =BZ13*CS13 -> 0 | DR13: =CB13*CS13 -> 0 | DS13: =CD13*CS13 -> 0 | DT13: =CE13*CS13 -> 0 | DU13: =CF13*CS13 -> 0 | DV13: =CG13*CS13 -> 0 | DW13: =CH13*CS13 -> 0 | DX13: =CI13*CS13 -> 0 | DY13: =CJ13*CS13 -> 0
B14: total | C14: =SUM(C11:C13) -> 0 | D14: =SUM(D11:D13) -> 0 | E14: =SUM(E11:E13) -> 0 | F14: =SUM(F11:F13) -> 0 | G14: =SUM(G11:G13) -> 0 | H14: =SUM(H11:H13) -> 0 | I14: =SUM(I11:I13) -> 0 | J14: =SUM(J11:J13) -> 0 | ... AF14: =SUM(AF11:AF13) -> 0 | AH14: =SUM(AH11:AH13) -> 0 | AI14: =SUM(AI11:AI13) -> 0 | AJ14: =SUM(AJ11:AJ13) -> 0 | AK14: =SUM(AK11:AK13) -> 0 | AL14: =SUM(AL11:AL13) -> 0 | AM14: =SUM(AM11:AM13) -> 0 | AN14: =SUM(AN11:AN13) -> 0 | AO14: =SUM(AO11:AO13) -> 0 | ... BA14: =SUM(BA11:BA13) -> 0 | BC14: =SUM(BC11:BC13) -> 0 | BD14: =SUM(BD11:BD13) -> 0 | BE14: =SUM(BE11:BE13) -> 0 | BF14: =SUM(BF11:BF13) -> 0 | BG14: =SUM(BG11:BG13) -> 0 | BH14: =SUM(BH11:BH13) -> 0 | BI14: =SUM(BI11:BI13) -> 0 | BJ14: =SUM(BJ11:BJ13) -> 0 | ... CD14: =SUM(CD11:CD13) -> 0 | CE14: ='C_Health Regions'!AD25 -> 0 | CF14: =IF(CE14=0,0,($AA$14/$CE$14)*100000) -> 0 | CG14: ='C_Health Regions'!AF25 -> 0 | CH14: =IF(CG14=0,0,($AB$14/$CG$14)*100000) -> 0 | CI14: ='C_Health Regions'!AH25 -> 0 | CJ14: =IF(CI14=0,0,($AC$4/$CI$7)*100000) -> 0 | CK14: ='C_Health Regions'!AJ74 -> 0 | CL14: =IF(CK14=0,0,($AD$4/$CK$7)*100000) -> 0 | CM14: ='C_Health Regions'!AL74 -> 0 | CN14: =IF(CM14=0,0,($AE$4/$CM$7)*100000) -> 0 | CO14: ='C_Health Regions'!AN25 -> 0 | CP14: =IF(CO14=0,0,($AF$4/$CO$7)*100000) -> 0 | CR14: =SUM(CR11:CR13) -> 38907 | CU14: total | CV14: =SUM(CV11:CV13) -> 0 | CW14: =SUM(CW11:CW13) -> 0 | CX14: =SUM(CX11:CX13) -> 0 | CY14: =SUM(CY11:CY13) -> 0 | CZ14: =SUM(CZ11:CZ13) -> 0 | DA14: =SUM(DA11:DA13) -> 0 | DB14: =SUM(DB11:DB13) -> 0 | DC14: =SUM(DC11:DC13) -> 0 | ... DY14: =SUM(DY11:DY13) -> 0
D16: Sex Data | F16: Demographic Data | M16: Region Data | CV16: Age-adjusted Rates per 100,000 population
B17: Age | C17: Number of deaths- Total | D17: Number of deaths- Male | E17: Number of deaths- Female | F17: =' B_Populations'!$H$8 -> White-Not Hispanic | G17: =' B_Populations'!$J$8 -> Hispanic | H17: =' B_Populations'!$L$8 -> Black-Not Hispanic | I17: =' B_Populations'!$N$8 -> Asian | J17: =' B_Populations'!$P$8 -> American Indian/Alaska Native | K17: =' B_Populations'!$R$8 -> Other | L17: =' B_Populations'!$T$8 -> Other | M17: ='C_Health Regions'!$B$4 -> Region 1 | N17: ='C_Health Regions'!$D$4 -> Region 2 | O17: ='C_Health Regions'!$F$4 -> Region 3 | P17: ='C_Health Regions'!$H$4 -> Region 4 | Q17: ='C_Health Regions'!$J$4 -> Region 5 | R17: ='C_Health Regions'!$L$4 -> Region 6 | S17: ='C_Health Regions'!$N$4 -> Region 7 | T17: ='C_Health Regions'!$P$4 -> Region 8 | U17: ='C_Health Regions'!$R$4 -> Region 9 | V17: ='C_Health Regions'!$T$4 -> Region 10 | W17: ='C_Health Regions'!$V$4 -> Region 11 | X17: ='C_Health Regions'!$X$4 -> Region 12 | Y17: ='C_Health Regions'!$Z$4 -> Region 13 | Z17: ='C_Health Regions'!$AB$4 -> Region 14 | AA17: ='C_Health Regions'!$AD$4 -> Region 15 | AB17: ='C_Health Regions'!$AF$4 -> Region 16 | AC17: ='C_Health Regions'!$AH$4 -> Region 17 | AD17: ='C_Health Regions'!$AJ$4 -> Region 18 | AE17: ='C_Health Regions'!$AL$4 -> Region 19 | AF17: ='C_Health Regions'!$AN$4 -> Region 20 | AH17: State population - Total | AI17: Rate | AJ17: State population - Male | AK17: Rate | AL17: State population - Female | AM17: Rate | AN17: =' B_Populations'!$H$8 -> White-Not Hispanic | AO17: Rate | AP17: =' B_Populations'!$J$8 -> Hispanic | AQ17: Rate | AR17: =' B_Populations'!$L$8 -> Black-Not Hispanic | AS17: Rate | AT17: =' B_Populations'!$N$8 -> Asian | AU17: Rate | AV17: =' B_Populations'!$P$8 -> American Indian/Alaska Native | AW17: Rate | AX17: =' B_Populations'!$R$8 -> Other | AY17: Rate | AZ17: =' B_Populations'!$T$8 -> Other | BA17: Rate | BC17: ='C_Health Regions'!$B$4 -> Region 1 | BD17: Rate | BE17: ='C_Health Regions'!$D$4 -> Region 2 | BF17: Rate | BG17: ='C_Health Regions'!$F$4 -> Region 3 | BH17: Rate | BI17: ='C_Health Regions'!$H$4 -> Region 4 | BJ17: Rate | BK17: ='C_Health Regions'!$J$4 -> Region 5 | BL17: Rate | BM17: ='C_Health Regions'!$L$4 -> Region 6 | BN17: Rate | BO17: ='C_Health Regions'!$N$4 -> Region 7 | BP17: Rate | BQ17: ='C_Health Regions'!$P$4 -> Region 8 | BR17: Rate | BS17: ='C_Health Regions'!$R$4 -> Region 9 | BT17: Rate | BU17: ='C_Health Regions'!$T$4 -> Region 10 | BV17: Rate | BW17: ='C_Health Regions'!$V$4 -> Region 11 | BX17: Rate | BY17: ='C_Health Regions'!$X$4 -> Region 12 | BZ17: Rate | CA17: ='C_Health Regions'!$Z$4 -> Region 13 | CB17: Rate | CC17: ='C_Health Regions'!$AB$4 -> Region 14 | CD17: Rate | CE17: ='C_Health Regions'!$AD$4 -> Region 15 | CF17: Rate | CG17: ='C_Health Regions'!$AF$4 -> Region 16 | CH17: Rate | CI17: ='C_Health Regions'!$AH$4 -> Region 17 | CJ17: Rate | CK17: ='C_Health Regions'!$AJ$4 -> Region 18 | CL17: Rate | CM17: ='C_Health Regions'!$AL$4 -> Region 19 | CN17: Rate | CO17: ='C_Health Regions'!$AN$4 -> Region 20 | CP17: Rate | CR17: 2000 population | CS17: Weight | CU17: Age | CV17: Total | CW17: Male | CX17: Female | CY17: =' B_Populations'!$H$8 -> White-Not Hispanic | CZ17: =' B_Populations'!$J$8 -> Hispanic | DA17: =' B_Populations'!$L$8 -> Black-Not Hispanic | DB17: =' B_Populations'!$N$8 -> Asian | DC17: =' B_Populations'!$P$8 -> American Indian/Alaska Native | DD17: =' B_Populations'!$R$8 -> Other | DE17: =' B_Populations'!$T$8 -> Other | DF17: ='C_Health Regions'!$B$4 -> Region 1 | DG17: ='C_Health Regions'!$D$4 -> Region 2 | DH17: ='C_Health Regions'!$F$4 -> Region 3 | DI17: ='C_Health Regions'!$H$4 -> Region 4 | DJ17: ='C_Health Regions'!$J$4 -> Region 5 | DK17: ='C_Health Regions'!$L$4 -> Region 6 | DL17: ='C_Health Regions'!$N$4 -> Region 7 | DM17: ='C_Health Regions'!$P$4 -> Region 8 | DN17: ='C_Health Regions'!$R$4 -> Region 9 | DO17: ='C_Health Regions'!$T$4 -> Region 10 | DP17: ='C_Health Regions'!$V$4 -> Region 11 | DQ17: ='C_Health Regions'!$X$4 -> Region 12 | DR17: ='C_Health Regions'!$Z$4 -> Region 13 | DS17: ='C_Health Regions'!$AB$4 -> Region 14 | DT17: ='C_Health Regions'!$AD$4 -> Region 15 | DU17: ='C_Health Regions'!$AF$4 -> Region 16 | DV17: ='C_Health Regions'!$AH$4 -> Region 17 | DW17: ='C_Health Regions'!$AJ$4 -> Region 18 | DX17: ='C_Health Regions'!$AL$4 -> Region 19 | DY17: ='C_Health Regions'!$AN$4 -> Region 20
B18: =' B_Populations'!$A$9 -> 65-74 | AH18: =' B_Populations'!B9 -> 0 | AI18: =IF(AH18=0,0,($C$18/$AH$18)*100000) -> 0 | AJ18: =' B_Populations'!D9 -> 0 | AK18: =IF(AJ18=0,0,($D$18/$AJ$18)*100000) -> 0 | AL18: =' B_Populations'!F9 -> 0 | AM18: =IF(AL18=0,0,($E$18/$AL$18)*100000) -> 0 | AN18: =' B_Populations'!H9 -> 0 | AO18: =IF(AN18=0,0,($F$18/$AN$18)*100000) -> 0 | AP18: =' B_Populations'!J9 -> 0 | AQ18: =IF(AP18=0,0,($G$18/$AP$18)*100000) -> 0 | AR18: =' B_Populations'!L9 -> 0 | AS18: =IF(AR18=0,0,($H$18/$AR$18)*100000) -> 0 | AT18: =' B_Populations'!N9 -> 0 | AU18: =IF(AT18=0,0,($I$18/$AT$18)*100000) -> 0 | AV18: =' B_Populations'!P9 -> 0 | AW18: =IF(AV18=0,0,($J$18/$AV$18)*100000) -> 0 | AX18: =' B_Populations'!R9 -> 0 | AY18: =IF(AX18=0,0,($K$18/$AX$18)*100000) -> 0 | AZ18: =' B_Populations'!T9 -> 0 | BA18: =IF(AZ18=0,0,($L$18/$AZ$18)*100000) -> 0 | BC18: ='C_Health Regions'!B5 -> 0 | BD18: =IF(BC18=0,0,($M$18/$BC$18)*100000) -> 0 | BE18: ='C_Health Regions'!D5 -> 0 | BF18: =IF(BE18=0,0,($N$18/$BE$18)*100000) -> 0 | BG18: ='C_Health Regions'!F5 -> 0 | BH18: =IF(BG18=0,0,($N$18/$BG$18)*100000) -> 0 | BI18: ='C_Health Regions'!H5 -> 0 | BJ18: =IF(BI18=0,0,($N$18/$BI$18)*100000) -> 0 | BK18: ='C_Health Regions'!J5 -> 0 | BL18: =IF(BK18=0,0,($N$18/$BK$18)*100000) -> 0 | BM18: ='C_Health Regions'!L5 -> 0 | BN18: =IF(BM18=0,0,($N$18/$BM$18)*100000) -> 0 | BO18: ='C_Health Regions'!N5 -> 0 | BP18: =IF(BO18=0,0,($N$18/$BO$18)*100000) -> 0 | BQ18: ='C_Health Regions'!P5 -> 0 | BR18: =IF(BQ18=0,0,($N$18/$BQ$18)*100000) -> 0 | BS18: ='C_Health Regions'!R5 -> 0 | BT18: =IF(BS18=0,0,($N$18/$BS$18)*100000) -> 0 | BU18: ='C_Health Regions'!T5 -> 0 | BV18: =IF(BU18=0,0,($N$18/$BU$18)*100000) -> 0 | BW18: ='C_Health Regions'!V5 -> 0 | BX18: =IF(BW18=0,0,($N$18/$BW$18)*100000) -> 0 | BY18: ='C_Health Regions'!X5 -> 0 | BZ18: =IF(BY18=0,0,($N$18/$BY$18)*100000) -> 0 | CA18: ='C_Health Regions'!Z5 -> 0 | CB18: =IF(CA18=0,0,($N$18/$CA$18)*100000) -> 0 | CC18: ='C_Health Regions'!AB5 -> 0 | CD18: =IF(CC18=0,0,($N$18/$CC$18)*100000) -> 0 | CE18: ='C_Health Regions'!AD29 -> 0 | CF18: =IF(CE18=0,0,($AA$4/$CE$4)*100000) -> 0 | CG18: ='C_Health Regions'!AF29 -> 0 | CH18: =IF(CG18=0,0,($AB$4/$CG$4)*100000) -> 0 | CI18: ='C_Health Regions'!AH29 -> 0 | CJ18: =IF(CI18=0,0,($AC$4/$CI$4)*100000) -> 0 | CK18: ='C_Health Regions'!AJ78 -> 0 | CL18: =IF(CK18=0,0,($AD$4/$CK$4)*100000) -> 0 | CM18: ='C_Health Regions'!AL78 -> 0 | CN18: =IF(CM18=0,0,($AE$4/$CM$4)*100000) -> 0 | CO18: ='C_Health Regions'!AN29 -> 0 | CP18: =IF(CO18=0,0,($AF$4/$CO$4)*100000) -> 0 | CR18: 3795 | CS18: 0.013818 | CU18: =' B_Populations'!$A$9 -> 65-74 | CV18: =AI18*CS18 -> 0 | CW18: =AK18*CS18 -> 0 | CX18: =AM18*CS18 -> 0 | CY18: =AO18*CS18 -> 0 | CZ18: =AQ18*CS18 -> 0 | DA18: =AS18*CS18 -> 0 | DB18: =AU18*CS18 -> 0 | DC18: =AW18*CS18 -> 0 | DD18: =AY18*CS18 -> 0 | DE18: =BA18*CS18 -> 0 | DF18: =BD18*CS18 -> 0 | DG18: =BF18*CS18 -> 0 | DH18: =BH18*CS18 -> 0 | DI18: =BJ18*CS18 -> 0 | DJ18: =BL18*CS18 -> 0 | DK18: =BN18*CS18 -> 0 | DL18: =BO18*CS18 -> 0 | DM18: =BR18*CS18 -> 0 | DN18: =BT18*CS18 -> 0 | DO18: =BV18*CS18 -> 0 | DP18: =BX18*CS18 -> 0 | DQ18: =BZ18*CS18 -> 0 | DR18: =CB18*CS18 -> 0 | DS18: =CD18*CS18 -> 0 | DT18: =CE18*CS18 -> 0 | DU18: =CF18*CS18 -> 0 | DV18: =CG18*CS18 -> 0 | DW18: =CH18*CS18 -> 0 | DX18: =CI18*CS18 -> 0 | DY18: =CJ18*CS18 -> 0
B19: =' B_Populations'!$A$10 -> 75-84 | AH19: =' B_Populations'!B10 -> 0 | AI19: =IF(AH19=0,0,($C$19/$AH$19)*100000) -> 0 | AJ19: =' B_Populations'!D10 -> 0 | AK19: =IF(AJ19=0,0,($D$19/$AJ$19)*100000) -> 0 | AL19: =' B_Populations'!F10 -> 0 | AM19: =IF(AL19=0,0,($E$19/$AL$19)*100000) -> 0 | AN19: =' B_Populations'!H10 -> 0 | AO19: =IF(AN19=0,0,($F$19/$AN$19)*100000) -> 0 | AP19: =' B_Populations'!J10 -> 0 | AQ19: =IF(AP19=0,0,($G$19/$AP$19)*100000) -> 0 | AR19: =' B_Populations'!L10 -> 0 | AS19: =IF(AR19=0,0,($H$19/$AR$19)*100000) -> 0 | AT19: =' B_Populations'!N10 -> 0 | AU19: =IF(AT19=0,0,($I$19/$AT$19)*100000) -> 0 | AV19: =' B_Populations'!P10 -> 0 | AW19: =IF(AV19=0,0,($J$19/$AV$19)*100000) -> 0 | AX19: =' B_Populations'!R10 -> 0 | AY19: =IF(AX19=0,0,($K$19/$AX$19)*100000) -> 0 | AZ19: =' B_Populations'!T10 -> 0 | BA19: =IF(AZ19=0,0,($L$19/$AZ$19)*100000) -> 0 | BC19: ='C_Health Regions'!B6 -> 0 | BD19: =IF(BC19=0,0,($M$19/$BC$19)*100000) -> 0 | BE19: ='C_Health Regions'!D6 -> 0 | BF19: =IF(BE19=0,0,($N$19/$BE$19)*100000) -> 0 | BG19: ='C_Health Regions'!F6 -> 0 | BH19: =IF(BG19=0,0,($N$19/$BG$19)*100000) -> 0 | BI19: ='C_Health Regions'!H6 -> 0 | BJ19: =IF(BI19=0,0,($N$19/$BI$19)*100000) -> 0 | BK19: ='C_Health Regions'!J6 -> 0 | BL19: =IF(BK19=0,0,($N$19/$BK$19)*100000) -> 0 | BM19: ='C_Health Regions'!L6 -> 0 | BN19: =IF(BM19=0,0,($N$19/$BM$19)*100000) -> 0 | BO19: ='C_Health Regions'!N6 -> 0 | BP19: =IF(BO19=0,0,($N$19/$BO$19)*100000) -> 0 | BQ19: ='C_Health Regions'!P6 -> 0 | BR19: =IF(BQ19=0,0,($N$19/$BQ$19)*100000) -> 0 | BS19: ='C_Health Regions'!R6 -> 0 | BT19: =IF(BS19=0,0,($N$19/$BS$19)*100000) -> 0 | BU19: ='C_Health Regions'!T6 -> 0 | BV19: =IF(BU19=0,0,($N$19/$BU$19)*100000) -> 0 | BW19: ='C_Health Regions'!V6 -> 0 | BX19: =IF(BW19=0,0,($N$19/$BW$19)*100000) -> 0 | BY19: ='C_Health Regions'!X6 -> 0 | BZ19: =IF(BY19=0,0,($N$19/$BY$19)*100000) -> 0 | CA19: ='C_Health Regions'!Z6 -> 0 | CB19: =IF(CA19=0,0,($N$19/$CA$19)*100000) -> 0 | CC19: ='C_Health Regions'!AB6 -> 0 | CD19: =IF(CC19=0,0,($N$19/$CC$19)*100000) -> 0 | CE19: ='C_Health Regions'!AD30 -> 0 | CF19: =IF(CE19=0,0,($AA$4/$CE$5)*100000) -> 0 | CG19: ='C_Health Regions'!AF30 -> 0 | CH19: =IF(CG19=0,0,($AB$4/$CG$5)*100000) -> 0 | CI19: ='C_Health Regions'!AH30 -> 0 | CJ19: =IF(CI19=0,0,($AC$4/$CI$5)*100000) -> 0 | CK19: ='C_Health Regions'!AJ79 -> 0 | CL19: =IF(CK19=0,0,($AD$4/$CK$5)*100000) -> 0 | CM19: ='C_Health Regions'!AL79 -> 0 | CN19: =IF(CM19=0,0,($AE$4/$CM$5)*100000) -> 0 | CO19: ='C_Health Regions'!AN30 -> 0 | CP19: =IF(CO19=0,0,($AF$4/$CO$5)*100000) -> 0 | CR19: 15192 | CS19: 0.055317 | CU19: =' B_Populations'!$A$10 -> 75-84 | CV19: =AI19*CS19 -> 0 | CW19: =AK19*CS19 -> 0 | CX19: =AM19*CS19 -> 0 | CY19: =AO19*CS19 -> 0 | CZ19: =AQ19*CS19 -> 0 | DA19: =AS19*CS19 -> 0 | DB19: =AU19*CS19 -> 0 | DC19: =AW19*CS19 -> 0 | DD19: =AY19*CS19 -> 0 | DE19: =BA19*CS19 -> 0 | DF19: =BD19*CS19 -> 0 | DG19: =BF19*CS19 -> 0 | DH19: =BH19*CS19 -> 0 | DI19: =BJ19*CS19 -> 0 | DJ19: =BL19*CS19 -> 0 | DK19: =BN19*CS19 -> 0 | DL19: =BO19*CS19 -> 0 | DM19: =BR19*CS19 -> 0 | DN19: =BT19*CS19 -> 0 | DO19: =BV19*CS19 -> 0 | DP19: =BX19*CS19 -> 0 | DQ19: =BZ19*CS19 -> 0 | DR19: =CB19*CS19 -> 0 | DS19: =CD19*CS19 -> 0 | DT19: =CE19*CS19 -> 0 | DU19: =CF19*CS19 -> 0 | DV19: =CG19*CS19 -> 0 | DW19: =CH19*CS19 -> 0 | DX19: =CI19*CS19 -> 0 | DY19: =CJ19*CS19 -> 0
B20: =' B_Populations'!$A$11 -> 85+ | AH20: =' B_Populations'!B11 -> 0 | AI20: =IF(AH20=0,0,($C$20/$AH$20)*100000) -> 0 | AJ20: =' B_Populations'!D11 -> 0 | AK20: =IF(AJ20=0,0,($D$20/$AJ$20)*100000) -> 0 | AL20: =' B_Populations'!F11 -> 0 | AM20: =IF(AL20=0,0,($E$20/$AL$20)*100000) -> 0 | AN20: =' B_Populations'!H11 -> 0 | AO20: =IF(AN20=0,0,($F$20/$AN$20)*100000) -> 0 | AP20: =' B_Populations'!J11 -> 0 | AQ20: =IF(AP20=0,0,($G$20/$AP$20)*100000) -> 0 | AR20: =' B_Populations'!L11 -> 0 | AS20: =IF(AR20=0,0,($H$20/$AR$20)*100000) -> 0 | AT20: =' B_Populations'!N11 -> 0 | AU20: =IF(AT20=0,0,($I$20/$AT$20)*100000) -> 0 | AV20: =' B_Populations'!P11 -> 0 | AW20: =IF(AV20=0,0,($J$20/$AV$20)*100000) -> 0 | AX20: =' B_Populations'!R11 -> 0 | AY20: =IF(AX20=0,0,($K$20/$AX$20)*100000) -> 0 | AZ20: =' B_Populations'!T11 -> 0 | BA20: =IF(AZ20=0,0,($L$20/$AZ$20)*100000) -> 0 | BC20: ='C_Health Regions'!B7 -> 0 | BD20: =IF(BC20=0,0,($M$20/$BC$20)*100000) -> 0 | BE20: ='C_Health Regions'!D7 -> 0 | BF20: =IF(BE20=0,0,($N$20/$BE$20)*100000) -> 0 | BG20: ='C_Health Regions'!F7 -> 0 | BH20: =IF(BG20=0,0,($N$20/$BG$20)*100000) -> 0 | BI20: ='C_Health Regions'!H7 -> 0 | BJ20: =IF(BI20=0,0,($N$20/$BI$20)*100000) -> 0 | BK20: ='C_Health Regions'!J7 -> 0 | BL20: =IF(BK20=0,0,($N$20/$BK$20)*100000) -> 0 | BM20: ='C_Health Regions'!L7 -> 0 | BN20: =IF(BM20=0,0,($N$20/$BM$20)*100000) -> 0 | BO20: ='C_Health Regions'!N7 -> 0 | BP20: =IF(BO20=0,0,($N$20/$BO$20)*100000) -> 0 | BQ20: ='C_Health Regions'!P7 -> 0 | BR20: =IF(BQ20=0,0,($N$20/$BQ$20)*100000) -> 0 | BS20: ='C_Health Regions'!R7 -> 0 | BT20: =IF(BS20=0,0,($N$20/$BS$20)*100000) -> 0 | BU20: ='C_Health Regions'!T7 -> 0 | BV20: =IF(BU20=0,0,($N$20/$BU$20)*100000) -> 0 | BW20: ='C_Health Regions'!V7 -> 0 | BX20: =IF(BW20=0,0,($N$20/$BW$20)*100000) -> 0 | BY20: ='C_Health Regions'!X7 -> 0 | BZ20: =IF(BY20=0,0,($N$20/$BY$20)*100000) -> 0 | CA20: ='C_Health Regions'!Z7 -> 0 | CB20: =IF(CA20=0,0,($N$20/$CA$20)*100000) -> 0 | CC20: ='C_Health Regions'!AB7 -> 0 | CD20: =IF(CC20=0,0,($N$20/$CC$20)*100000) -> 0 | CE20: ='C_Health Regions'!AD31 -> 0 | CF20: =IF(CE20=0,0,($AA$4/$CE$6)*100000) -> 0 | CG20: ='C_Health Regions'!AF31 -> 0 | CH20: =IF(CG20=0,0,($AB$4/$CG$6)*100000) -> 0 | CI20: ='C_Health Regions'!AH31 -> 0 | CJ20: =IF(CI20=0,0,($AC$4/$CI$6)*100000) -> 0 | CK20: ='C_Health Regions'!AJ80 -> 0 | CL20: =IF(CK20=0,0,($AD$4/$CK$6)*100000) -> 0 | CM20: ='C_Health Regions'!AL80 -> 0 | CN20: =IF(CM20=0,0,($AE$4/$CM$6)*100000) -> 0 | CO20: ='C_Health Regions'!AN31 -> 0 | CP20: =IF(CO20=0,0,($AF$4/$CO$6)*100000) -> 0 | CR20: 19920 | CS20: 0.072533 | CU20: =' B_Populations'!$A$11 -> 85+ | CV20: =AI20*CS20 -> 0 | CW20: =AK20*CS20 -> 0 | CX20: =AM20*CS20 -> 0 | CY20: =AO20*CS20 -> 0 | CZ20: =AQ20*CS20 -> 0 | DA20: =AS20*CS20 -> 0 | DB20: =AU20*CS20 -> 0 | DC20: =AW20*CS20 -> 0 | DD20: =AY20*CS20 -> 0 | DE20: =BA20*CS20 -> 0 | DF20: =BD20*CS20 -> 0 | DG20: =BF20*CS20 -> 0 | DH20: =BH20*CS20 -> 0 | DI20: =BJ20*CS20 -> 0 | DJ20: =BL20*CS20 -> 0 | DK20: =BN20*CS20 -> 0 | DL20: =BO20*CS20 -> 0 | DM20: =BR20*CS20 -> 0 | DN20: =BT20*CS20 -> 0 | DO20: =BV20*CS20 -> 0 | DP20: =BX20*CS20 -> 0 | DQ20: =BZ20*CS20 -> 0 | DR20: =CB20*CS20 -> 0 | DS20: =CD20*CS20 -> 0 | DT20: =CE20*CS20 -> 0 | DU20: =CF20*CS20 -> 0 | DV20: =CG20*CS20 -> 0 | DW20: =CH20*CS20 -> 0 | DX20: =CI20*CS20 -> 0 | DY20: =CJ20*CS20 -> 0
B21: total | C21: =SUM(C18:C20) -> 0 | D21: =SUM(D18:D20) -> 0 | E21: =SUM(E18:E20) -> 0 | F21: =SUM(F18:F20) -> 0 | G21: =SUM(G18:G20) -> 0 | H21: =SUM(H18:H20) -> 0 | I21: =SUM(I18:I20) -> 0 | J21: =SUM(J18:J20) -> 0 | ... AF21: =SUM(AF18:AF20) -> 0 | AH21: =SUM(AH18:AH20) -> 0 | AI21: =SUM(AI18:AI20) -> 0 | AJ21: =SUM(AJ18:AJ20) -> 0 | AK21: =SUM(AK18:AK20) -> 0 | AL21: =SUM(AL18:AL20) -> 0 | AM21: =SUM(AM18:AM20) -> 0 | AN21: =SUM(AN18:AN20) -> 0 | AO21: =SUM(AO18:AO20) -> 0 | ... BA21: =SUM(BA18:BA20) -> 0 | BC21: =SUM(BC18:BC20) -> 0 | BD21: =SUM(BD18:BD20) -> 0 | BE21: =SUM(BE18:BE20) -> 0 | BF21: =SUM(BF18:BF20) -> 0 | BG21: =SUM(BG18:BG20) -> 0 | BH21: =SUM(BH18:BH20) -> 0 | BI21: =SUM(BI18:BI20) -> 0 | BJ21: =SUM(BJ18:BJ20) -> 0 | ... CD21: =SUM(CD18:CD20) -> 0 | CE21: ='C_Health Regions'!AD42 -> 0 | CF21: =IF(CE21=0,0,($AA$4/$CE$7)*100000) -> 0 | CG21: ='C_Health Regions'!AF42 -> 0 | CH21: =IF(CG21=0,0,($AB$4/$CG$7)*100000) -> 0 | CI21: ='C_Health Regions'!AH42 -> 0 | CJ21: =IF(CI21=0,0,($AC$4/$CI$7)*100000) -> 0 | CK21: ='C_Health Regions'!AJ91 -> 0 | CL21: =IF(CK21=0,0,($AD$4/$CK$7)*100000) -> 0 | CM21: ='C_Health Regions'!AL91 -> 0 | CN21: =IF(CM21=0,0,($AE$4/$CM$7)*100000) -> 0 | CO21: ='C_Health Regions'!AN42 -> 0 | CP21: =IF(CO21=0,0,($AF$4/$CO$7)*100000) -> 0 | CR21: =SUM(CR18:CR20) -> 38907 | CU21: total | CV21: =SUM(CV18:CV20) -> 0 | CW21: =SUM(CW18:CW20) -> 0 | CX21: =SUM(CX18:CX20) -> 0 | CY21: =SUM(CY18:CY20) -> 0 | CZ21: =SUM(CZ18:CZ20) -> 0 | DA21: =SUM(DA18:DA20) -> 0 | DB21: =SUM(DB18:DB20) -> 0 | DC21: =SUM(DC18:DC20) -> 0 | ... DY21: =SUM(DY18:DY20) -> 0

Sheet J_Health Regions
A1: Health Region Data | B1: Data Input Tables Instructions: Please rename Health Regions in the "B_Populations" tab. Enter your Older Adult Falls-related injury data in the red cells below. The age-adjusted rates will automatically calculate in the results table. | F1: Unhide columns G through W to enter data for additional Health Regions if needed | X1: Optional: Unhide columns AG through BL to show additional rate calculations by health region
B3: Age | C3: ='C_Health Regions'!B4 -> Region 1 | D3: ='C_Health Regions'!D4 -> Region 2 | E3: ='C_Health Regions'!F4 -> Region 3 | F3: ='C_Health Regions'!H4 -> Region 4 | G3: ='C_Health Regions'!J4 -> Region 5 | H3: ='C_Health Regions'!L4 -> Region 6 | I3: ='C_Health Regions'!N4 -> Region 7 | J3: ='C_Health Regions'!P4 -> Region 8 | K3: ='C_Health Regions'!R4 -> Region 9 | L3: ='C_Health Regions'!T4 -> Region 10 | M3: ='C_Health Regions'!V4 -> Region 11 | N3: ='C_Health Regions'!X4 -> Region 12 | O3: ='C_Health Regions'!Z4 -> Region 13 | P3: ='C_Health Regions'!AB4 -> Region 14 | Q3: ='C_Health Regions'!AD4 -> Region 15 | R3: ='C_Health Regions'!AF4 -> Region 16 | S3: ='C_Health Regions'!AH4 -> Region 17 | T3: ='C_Health Regions'!AJ4 -> Region 18 | U3: ='C_Health Regions'!AL4 -> Region 19 | V3: ='C_Health Regions'!AN4 -> Region 20 | X3: ='C_Health Regions'!B4 -> Region 1 | Y3: Rate | Z3: ='C_Health Regions'!D4 -> Region 2 | AA3: Rate | AB3: ='C_Health Regions'!F4 -> Region 3 | AC3: Rate | AD3: ='C_Health Regions'!H4 -> Region 4 | AE3: Rate | AF3: ='C_Health Regions'!J4 -> Region 5 | AG3: Rate | AH3: ='C_Health Regions'!L4 -> Region 6 | AI3: Rate | AJ3: ='C_Health Regions'!N4 -> Region 7 | AK3: Rate | AL3: ='C_Health Regions'!P4 -> Region 8 | AM3: Rate | AN3: ='C_Health Regions'!R4 -> Region 9 | AO3: Rate | AP3: ='C_Health Regions'!T4 -> Region 10 | AQ3: Rate | AR3: ='C_Health Regions'!V4 -> Region 11 | AS3: Rate | AT3: ='C_Health Regions'!X4 -> Region 12 | AU3: Rate | AV3: ='C_Health Regions'!Z4 -> Region 13 | AW3: Rate | AX3: ='C_Health Regions'!AB4 -> Region 14 | AY3: Rate | AZ3: ='C_Health Regions'!AD4 -> Region 15 | BA3: Rate | BB3: ='C_Health Regions'!AF4 -> Region 16 | BC3: Rate | BD3: ='C_Health Regions'!AH4 -> Region 17 | BE3: Rate | BF3: ='C_Health Regions'!AJ4 -> Region 18 | BG3: Rate | BH3: ='C_Health Regions'!AL4 -> Region 19 | BI3: Rate | BJ3: ='C_Health Regions'!AN4 -> Region 20 | BK3: Rate
B4: =' B_Populations'!A9 -> 65-74 | X4: ='C_Health Regions'!B5 -> 0 | Y4: =IF(X4=0,0,(C4/$X$4)*100000) -> 0 | Z4: ='C_Health Regions'!D5 -> 0 | AA4: =IF(Z4=0,0,(D4/$Z$4)*100000) -> 0 | AB4: ='C_Health Regions'!F5 -> 0 | AC4: =IF(AB4=0,0,(E4/$AB$4)*100000) -> 0 | AD4: ='C_Health Regions'!H5 -> 0 | AE4: =IF(AD4=0,0,(F4/$AD$4)*100000) -> 0 | AF4: ='C_Health Regions'!J5 -> 0 | AG4: =IF(AF4=0,0,(G4/$AF$4)*100000) -> 0 | AH4: ='C_Health Regions'!L5 -> 0 | AI4: =IF(AH4=0,0,(H4/$AH$4)*100000) -> 0 | AJ4: ='C_Health Regions'!N5 -> 0 | AK4: =IF(AJ4=0,0,(I4/$AJ$4)*100000) -> 0 | AL4: ='C_Health Regions'!P5 -> 0 | AM4: =IF(AL4=0,0,(J4/$AL$4)*100000) -> 0 | AN4: ='C_Health Regions'!R5 -> 0 | AO4: =IF(AN4=0,0,(K4/$AN$4)*100000) -> 0 | AP4: ='C_Health Regions'!T5 -> 0 | AQ4: =IF(AP4=0,0,(L4/$AP$4)*100000) -> 0 | AR4: ='C_Health Regions'!V5 -> 0 | AS4: =IF(AR4=0,0,(M4/$AR$4)*100000) -> 0 | AT4: ='C_Health Regions'!X5 -> 0 | AU4: =IF(AT4=0,0,(N4/$AT$4)*100000) -> 0 | AV4: ='C_Health Regions'!Z5 -> 0 | AW4: =IF(AV4=0,0,(O4/$AV$4)*100000) -> 0 | AX4: ='C_Health Regions'!AB5 -> 0 | AY4: =IF(AX4=0,0,(P4/$AX$4)*100000) -> 0 | AZ4: ='C_Health Regions'!AD5 -> 0 | BA4: =IF(AZ4=0,0,(Q4/$AZ$4)*100000) -> 0 | BB4: ='C_Health Regions'!AF5 -> 0 | BC4: =IF(BB4=0,0,(R4/$BB$4)*100000) -> 0 | BD4: ='C_Health Regions'!AH5 -> 0 | BE4: =IF(BD4=0,0,(S4/$BD$4)*100000) -> 0 | BF4: ='C_Health Regions'!AJ5 -> 0 | BG4: =IF(BF4=0,0,(T4/$BF$4)*100000) -> 0 | BH4: ='C_Health Regions'!AL5 -> 0 | BI4: =IF(BH4=0,0,(U4/$BH$4)*100000) -> 0 | BJ4: ='C_Health Regions'!AN5 -> 0 | BK4: =IF(BJ4=0,0,(V4/$BJ$4)*100000) -> 0
B5: =' B_Populations'!A10 -> 75-84 | X5: ='C_Health Regions'!B6 -> 0 | Y5: =IF(X5=0,0,(C5/$X$5)*100000) -> 0 | Z5: ='C_Health Regions'!D6 -> 0 | AA5: =IF(Z5=0,0,(D5/$Z$5)*100000) -> 0 | AB5: ='C_Health Regions'!F6 -> 0 | AC5: =IF(AB5=0,0,(E5/$AB$5)*100000) -> 0 | AD5: ='C_Health Regions'!H6 -> 0 | AE5: =IF(AD5=0,0,(F5/$AD$5)*100000) -> 0 | AF5: ='C_Health Regions'!J6 -> 0 | AG5: =IF(AF5=0,0,(G5/$AF$5)*100000) -> 0 | AH5: ='C_Health Regions'!L6 -> 0 | AI5: =IF(AH5=0,0,(H5/$AH$5)*100000) -> 0 | AJ5: ='C_Health Regions'!N6 -> 0 | AK5: =IF(AJ5=0,0,(I5/$AJ$5)*100000) -> 0 | AL5: ='C_Health Regions'!P6 -> 0 | AM5: =IF(AL5=0,0,(J5/$AL$5)*100000) -> 0 | AN5: ='C_Health Regions'!R6 -> 0 | AO5: =IF(AN5=0,0,(K5/$AN$5)*100000) -> 0 | AP5: ='C_Health Regions'!T6 -> 0 | AQ5: =IF(AP5=0,0,(L5/$AP$5)*100000) -> 0 | AR5: ='C_Health Regions'!V6 -> 0 | AS5: =IF(AR5=0,0,(M5/$AR$5)*100000) -> 0 | AT5: ='C_Health Regions'!X6 -> 0 | AU5: =IF(AT5=0,0,(N5/$AT$5)*100000) -> 0 | AV5: ='C_Health Regions'!Z6 -> 0 | AW5: =IF(AV5=0,0,(O5/$AV$5)*100000) -> 0 | AX5: ='C_Health Regions'!AB6 -> 0 | AY5: =IF(AX5=0,0,(P5/$AX$5)*100000) -> 0 | AZ5: ='C_Health Regions'!AD6 -> 0 | BA5: =IF(AZ5=0,0,(Q5/$AZ$5)*100000) -> 0 | BB5: ='C_Health Regions'!AF6 -> 0 | BC5: =IF(BB5=0,0,(R5/$BB$5)*100000) -> 0 | BD5: ='C_Health Regions'!AH6 -> 0 | BE5: =IF(BD5=0,0,(S5/$BD$5)*100000) -> 0 | BF5: ='C_Health Regions'!AJ6 -> 0 | BG5: =IF(BF5=0,0,(T5/$BF$5)*100000) -> 0 | BH5: ='C_Health Regions'!AL6 -> 0 | BI5: =IF(BH5=0,0,(U5/$BH$5)*100000) -> 0 | BJ5: ='C_Health Regions'!AN6 -> 0 | BK5: =IF(BJ5=0,0,(V5/$BJ$5)*100000) -> 0
B6: =' B_Populations'!A11 -> 85+ | X6: ='C_Health Regions'!B7 -> 0 | Y6: =IF(X6=0,0,(C6/$X$6)*100000) -> 0 | Z6: ='C_Health Regions'!D7 -> 0 | AA6: =IF(Z6=0,0,(D6/$Z$6)*100000) -> 0 | AB6: ='C_Health Regions'!F7 -> 0 | AC6: =IF(AB6=0,0,(E6/$AB$6)*100000) -> 0 | AD6: ='C_Health Regions'!H7 -> 0 | AE6: =IF(AD6=0,0,(F6/$AD$6)*100000) -> 0 | AF6: ='C_Health Regions'!J7 -> 0 | AG6: =IF(AF6=0,0,(G6/$AF$6)*100000) -> 0 | AH6: ='C_Health Regions'!L7 -> 0 | AI6: =IF(AH6=0,0,(H6/$AH$6)*100000) -> 0 | AJ6: ='C_Health Regions'!N7 -> 0 | AK6: =IF(AJ6=0,0,(I6/$AJ$6)*100000) -> 0 | AL6: ='C_Health Regions'!P7 -> 0 | AM6: =IF(AL6=0,0,(J6/$AL$6)*100000) -> 0 | AN6: ='C_Health Regions'!R7 -> 0 | AO6: =IF(AN6=0,0,(K6/$AN$6)*100000) -> 0 | AP6: ='C_Health Regions'!T7 -> 0 | AQ6: =IF(AP6=0,0,(L6/$AP$6)*100000) -> 0 | AR6: ='C_Health Regions'!V7 -> 0 | AS6: =IF(AR6=0,0,(M6/$AR$6)*100000) -> 0 | AT6: ='C_Health Regions'!X7 -> 0 | AU6: =IF(AT6=0,0,(N6/$AT$6)*100000) -> 0 | AV6: ='C_Health Regions'!Z7 -> 0 | AW6: =IF(AV6=0,0,(O6/$AV$6)*100000) -> 0 | AX6: ='C_Health Regions'!AB7 -> 0 | AY6: =IF(AX6=0,0,(P6/$AX$6)*100000) -> 0 | AZ6: ='C_Health Regions'!AD7 -> 0 | BA6: =IF(AZ6=0,0,(Q6/$AZ$6)*100000) -> 0 | BB6: ='C_Health Regions'!AF7 -> 0 | BC6: =IF(BB6=0,0,(R6/$BB$6)*100000) -> 0 | BD6: ='C_Health Regions'!AH7 -> 0 | BE6: =IF(BD6=0,0,(S6/$BD$6)*100000) -> 0 | BF6: ='C_Health Regions'!AJ7 -> 0 | BG6: =IF(BF6=0,0,(T6/$BF$6)*100000) -> 0 | BH6: ='C_Health Regions'!AL7 -> 0 | BI6: =IF(BH6=0,0,(U6/$BH$6)*100000) -> 0 | BJ6: ='C_Health Regions'!AN7 -> 0 | BK6: =IF(BJ6=0,0,(V6/$BJ$6)*100000) -> 0
B7: total | X7: ='C_Health Regions'!B8 -> 0 | Y7: =IF(X7=0,0,(C7/$X$7)*100000) -> 0 | Z7: ='C_Health Regions'!D8 -> 0 | AA7: =IF(Z7=0,0,(D7/$Z$7)*100000) -> 0 | AB7: ='C_Health Regions'!F8 -> 0 | AC7: =IF(AB7=0,0,(E7/$AB$7)*100000) -> 0 | AD7: ='C_Health Regions'!H8 -> 0 | AE7: =IF(AD7=0,0,(F7/$AD$7)*100000) -> 0 | AF7: ='C_Health Regions'!J8 -> 0 | AG7: =IF(AF7=0,0,(G7/$AF$7)*100000) -> 0 | AH7: ='C_Health Regions'!L8 -> 0 | AI7: =IF(AH7=0,0,(H7/$AH$7)*100000) -> 0 | AJ7: ='C_Health Regions'!N8 -> 0 | AK7: =IF(AJ7=0,0,(I7/$AJ$7)*100000) -> 0 | AL7: ='C_Health Regions'!P8 -> 0 | AM7: =IF(AL7=0,0,(J7/$AL$7)*100000) -> 0 | AN7: ='C_Health Regions'!R8 -> 0 | AO7: =IF(AN7=0,0,(K7/$AN$7)*100000) -> 0 | AP7: ='C_Health Regions'!T8 -> 0 | AQ7: =IF(AP7=0,0,(L7/$AP$7)*100000) -> 0 | AR7: ='C_Health Regions'!V8 -> 0 | AS7: =IF(AR7=0,0,(M7/$AR$7)*100000) -> 0 | AT7: ='C_Health Regions'!X8 -> 0 | AU7: =IF(AT7=0,0,(N7/$AT$7)*100000) -> 0 | AV7: ='C_Health Regions'!Z8 -> 0 | AW7: =IF(AV7=0,0,(O7/$AV$7)*100000) -> 0 | AX7: ='C_Health Regions'!AB8 -> 0 | AY7: =IF(AX7=0,0,(P7/$AX$7)*100000) -> 0 | AZ7: ='C_Health Regions'!AD8 -> 0 | BA7: =IF(AZ7=0,0,(Q7/$AZ$7)*100000) -> 0 | BB7: ='C_Health Regions'!AF8 -> 0 | BC7: =IF(BB7=0,0,(R7/$BB$7)*100000) -> 0 | BD7: ='C_Health Regions'!AH8 -> 0 | BE7: =IF(BD7=0,0,(S7/$BD$7)*100000) -> 0 | BF7: ='C_Health Regions'!AJ8 -> 0 | BG7: =IF(BF7=0,0,(T7/$BF$7)*100000) -> 0 | BH7: ='C_Health Regions'!AL8 -> 0 | BI7: =IF(BH7=0,0,(U7/$BH$7)*100000) -> 0 | BJ7: ='C_Health Regions'!AN8 -> 0 | BK7: =IF(BJ7=0,0,(V7/$BJ$7)*100000) -> 0
B10: Age | C10: ='C_Health Regions'!B4 -> Region 1 | D10: ='C_Health Regions'!D4 -> Region 2 | E10: ='C_Health Regions'!F4 -> Region 3 | F10: ='C_Health Regions'!H4 -> Region 4 | G10: ='C_Health Regions'!J4 -> Region 5 | H10: ='C_Health Regions'!L4 -> Region 6 | I10: ='C_Health Regions'!N4 -> Region 7 | J10: ='C_Health Regions'!P4 -> Region 8 | K10: ='C_Health Regions'!R4 -> Region 9 | L10: ='C_Health Regions'!T4 -> Region 10 | M10: ='C_Health Regions'!V4 -> Region 11 | N10: ='C_Health Regions'!X4 -> Region 12 | O10: ='C_Health Regions'!Z4 -> Region 13 | P10: ='C_Health Regions'!AB4 -> Region 14 | Q10: ='C_Health Regions'!AD4 -> Region 15 | R10: ='C_Health Regions'!AF4 -> Region 16 | S10: ='C_Health Regions'!AH4 -> Region 17 | T10: ='C_Health Regions'!AJ4 -> Region 18 | U10: ='C_Health Regions'!AL4 -> Region 19 | V10: ='C_Health Regions'!AN4 -> Region 20 | X10: ='C_Health Regions'!B4 -> Region 1 | Y10: Rate | Z10: ='C_Health Regions'!D4 -> Region 2 | AA10: Rate | AB10: ='C_Health Regions'!F4 -> Region 3 | AC10: Rate | AD10: ='C_Health Regions'!H4 -> Region 4 | AE10: Rate | AF10: ='C_Health Regions'!J4 -> Region 5 | AG10: Rate | AH10: ='C_Health Regions'!L4 -> Region 6 | AI10: Rate | AJ10: ='C_Health Regions'!N4 -> Region 7 | AK10: Rate | AL10: ='C_Health Regions'!P4 -> Region 8 | AM10: Rate | AN10: ='C_Health Regions'!R4 -> Region 9 | AO10: Rate | AP10: ='C_Health Regions'!T4 -> Region 10 | AQ10: Rate | AR10: ='C_Health Regions'!V4 -> Region 11 | AS10: Rate | AT10: ='C_Health Regions'!X4 -> Region 12 | AU10: Rate | AV10: ='C_Health Regions'!Z4 -> Region 13 | AW10: Rate | AX10: ='C_Health Regions'!AB4 -> Region 14 | AY10: Rate | AZ10: ='C_Health Regions'!AD4 -> Region 15 | BA10: Rate | BB10: ='C_Health Regions'!AF4 -> Region 16 | BC10: Rate | BD10: ='C_Health Regions'!AH4 -> Region 17 | BE10: Rate | BF10: ='C_Health Regions'!AJ4 -> Region 18 | BG10: Rate | BH10: ='C_Health Regions'!AL4 -> Region 19 | BI10: Rate | BJ10: ='C_Health Regions'!AN4 -> Region 20 | BK10: Rate
B11: =' B_Populations'!A9 -> 65-74 | X11: ='C_Health Regions'!B5 -> 0 | Y11: =IF(X11=0,0,(C11/$X$11)*100000) -> 0 | Z11: ='C_Health Regions'!D5 -> 0 | AA11: =IF(Z11=0,0,(D11/$Z$11)*100000) -> 0 | AB11: ='C_Health Regions'!F5 -> 0 | AC11: =IF(AB11=0,0,(E11/$AB$11)*100000) -> 0 | AD11: ='C_Health Regions'!H5 -> 0 | AE11: =IF(AD11=0,0,(F11/$AD$11)*100000) -> 0 | AF11: ='C_Health Regions'!J5 -> 0 | AG11: =IF(AF11=0,0,(G11/$AF$11)*100000) -> 0 | AH11: ='C_Health Regions'!L5 -> 0 | AI11: =IF(AH11=0,0,(H11/$AH$11)*100000) -> 0 | AJ11: ='C_Health Regions'!N5 -> 0 | AK11: =IF(AJ11=0,0,(I11/$AJ$11)*100000) -> 0 | AL11: ='C_Health Regions'!P5 -> 0 | AM11: =IF(AL11=0,0,(J11/$AL$11)*100000) -> 0 | AN11: ='C_Health Regions'!R5 -> 0 | AO11: =IF(AN11=0,0,(K11/$AN$11)*100000) -> 0 | AP11: ='C_Health Regions'!T5 -> 0 | AQ11: =IF(AP11=0,0,(L11/$AP11)*100000) -> 0 | AR11: ='C_Health Regions'!V5 -> 0 | AS11: =IF(AR11=0,0,(M11/$AR$11)*100000) -> 0 | AT11: ='C_Health Regions'!X5 -> 0 | AU11: =IF(AT11=0,0,(N11/$AT$11)*100000) -> 0 | AV11: ='C_Health Regions'!Z5 -> 0 | AW11: =IF(AV11=0,0,(O11/$AV$11)*100000) -> 0 | AX11: ='C_Health Regions'!AB5 -> 0 | AY11: =IF(AX11=0,0,(P11/$AX$11)*100000) -> 0 | AZ11: ='C_Health Regions'!AD5 -> 0 | BA11: =IF(AZ11=0,0,(Q11/$AZ$11)*100000) -> 0 | BB11: ='C_Health Regions'!AF5 -> 0 | BC11: =IF(BB11=0,0,(R11/$BB$11)*100000) -> 0 | BD11: ='C_Health Regions'!AH5 -> 0 | BE11: =IF(BD11=0,0,(S11/$BD$11)*100000) -> 0 | BF11: ='C_Health Regions'!AJ5 -> 0 | BG11: =IF(BF11=0,0,(T11/$BF$11)*100000) -> 0 | BH11: ='C_Health Regions'!AL5 -> 0 | BI11: =IF(BH11=0,0,(U11/$BH$11)*100000) -> 0 | BJ11: ='C_Health Regions'!AN5 -> 0 | BK11: =IF(BJ11=0,0,(V11/$BJ$11)*100000) -> 0
B12: =' B_Populations'!A10 -> 75-84 | X12: ='C_Health Regions'!B6 -> 0 | Y12: =IF(X12=0,0,(C12/$X$12)*100000) -> 0 | Z12: ='C_Health Regions'!D6 -> 0 | AA12: =IF(Z12=0,0,(D12/$Z$12)*100000) -> 0 | AB12: ='C_Health Regions'!F6 -> 0 | AC12: =IF(AB12=0,0,(E12/$AB$12)*100000) -> 0 | AD12: ='C_Health Regions'!H6 -> 0 | AE12: =IF(AD12=0,0,(F12/$AD$12)*100000) -> 0 | AF12: ='C_Health Regions'!J6 -> 0 | AG12: =IF(AF12=0,0,(G12/$AF$12)*100000) -> 0 | AH12: ='C_Health Regions'!L6 -> 0 | AI12: =IF(AH12=0,0,(H12/$AH$12)*100000) -> 0 | AJ12: ='C_Health Regions'!N6 -> 0 | AK12: =IF(AJ12=0,0,(I12/$AJ$12)*100000) -> 0 | AL12: ='C_Health Regions'!P6 -> 0 | AM12: =IF(AL12=0,0,(J12/$AL$12)*100000) -> 0 | AN12: ='C_Health Regions'!R6 -> 0 | AO12: =IF(AN12=0,0,(K12/$AN$12)*100000) -> 0 | AP12: ='C_Health Regions'!T6 -> 0 | AQ12: =IF(AP12=0,0,(L12/$AP12)*100000) -> 0 | AR12: ='C_Health Regions'!V6 -> 0 | AS12: =IF(AR12=0,0,(M12/$AR$12)*100000) -> 0 | AT12: ='C_Health Regions'!X6 -> 0 | AU12: =IF(AT12=0,0,(N12/$AT$12)*100000) -> 0 | AV12: ='C_Health Regions'!Z6 -> 0 | AW12: =IF(AV12=0,0,(O12/$AV$12)*100000) -> 0 | AX12: ='C_Health Regions'!AB6 -> 0 | AY12: =IF(AX12=0,0,(P12/$AX$12)*100000) -> 0 | AZ12: ='C_Health Regions'!AD6 -> 0 | BA12: =IF(AZ12=0,0,(Q12/$AZ$12)*100000) -> 0 | BB12: ='C_Health Regions'!AF6 -> 0 | BC12: =IF(BB12=0,0,(R12/$BB$12)*100000) -> 0 | BD12: ='C_Health Regions'!AH6 -> 0 | BE12: =IF(BD12=0,0,(S12/$BD$12)*100000) -> 0 | BF12: ='C_Health Regions'!AJ6 -> 0 | BG12: =IF(BF12=0,0,(T12/$BF$12)*100000) -> 0 | BH12: ='C_Health Regions'!AL6 -> 0 | BI12: =IF(BH12=0,0,(U12/$BH$12)*100000) -> 0 | BJ12: ='C_Health Regions'!AN6 -> 0 | BK12: =IF(BJ12=0,0,(V12/$BJ$12)*100000) -> 0
B13: =' B_Populations'!A11 -> 85+ | X13: ='C_Health Regions'!B7 -> 0 | Y13: =IF(X13=0,0,(C13/$X$13)*100000) -> 0 | Z13: ='C_Health Regions'!D7 -> 0 | AA13: =IF(Z13=0,0,(D13/$Z$13)*100000) -> 0 | AB13: ='C_Health Regions'!F7 -> 0 | AC13: =IF(AB13=0,0,(E13/$AB$13)*100000) -> 0 | AD13: ='C_Health Regions'!H7 -> 0 | AE13: =IF(AD13=0,0,(F13/$AD$13)*100000) -> 0 | AF13: ='C_Health Regions'!J7 -> 0 | AG13: =IF(AF13=0,0,(G13/$AF$13)*100000) -> 0 | AH13: ='C_Health Regions'!L7 -> 0 | AI13: =IF(AH13=0,0,(H13/$AH$13)*100000) -> 0 | AJ13: ='C_Health Regions'!N7 -> 0 | AK13: =IF(AJ13=0,0,(I13/$AJ$13)*100000) -> 0 | AL13: ='C_Health Regions'!P7 -> 0 | AM13: =IF(AL13=0,0,(J13/$AL$13)*100000) -> 0 | AN13: ='C_Health Regions'!R7 -> 0 | AO13: =IF(AN13=0,0,(K13/$AN$13)*100000) -> 0 | AP13: ='C_Health Regions'!T7 -> 0 | AQ13: =IF(AP13=0,0,(L13/$AP13)*100000) -> 0 | AR13: ='C_Health Regions'!V7 -> 0 | AS13: =IF(AR13=0,0,(M13/$AR$13)*100000) -> 0 | AT13: ='C_Health Regions'!X7 -> 0 | AU13: =IF(AT13=0,0,(N13/$AT$13)*100000) -> 0 | AV13: ='C_Health Regions'!Z7 -> 0 | AW13: =IF(AV13=0,0,(O13/$AV$13)*100000) -> 0 | AX13: ='C_Health Regions'!AB7 -> 0 | AY13: =IF(AX13=0,0,(P13/$AX$13)*100000) -> 0 | AZ13: ='C_Health Regions'!AD7 -> 0 | BA13: =IF(AZ13=0,0,(Q13/$AZ$13)*100000) -> 0 | BB13: ='C_Health Regions'!AF7 -> 0 | BC13: =IF(BB13=0,0,(R13/$BB$13)*100000) -> 0 | BD13: ='C_Health Regions'!AH7 -> 0 | BE13: =IF(BD13=0,0,(S13/$BD$13)*100000) -> 0 | BF13: ='C_Health Regions'!AJ7 -> 0 | BG13: =IF(BF13=0,0,(T13/$BF$13)*100000) -> 0 | BH13: ='C_Health Regions'!AL7 -> 0 | BI13: =IF(BH13=0,0,(U13/$BH$13)*100000) -> 0 | BJ13: ='C_Health Regions'!AN7 -> 0 | BK13: =IF(BJ13=0,0,(V13/$BJ$13)*100000) -> 0
B14: total | X14: ='C_Health Regions'!B8 -> 0 | Y14: =IF(X14=0,0,(C14/$X$14)*100000) -> 0 | Z14: ='C_Health Regions'!D8 -> 0 | AA14: =IF(Z14=0,0,(D14/$Z$14)*100000) -> 0 | AB14: ='C_Health Regions'!F8 -> 0 | AC14: =IF(AB14=0,0,(E14/$AB$14)*100000) -> 0 | AD14: ='C_Health Regions'!H8 -> 0 | AE14: =IF(AD14=0,0,(F14/$AD$14)*100000) -> 0 | AF14: ='C_Health Regions'!J8 -> 0 | AG14: =IF(AF14=0,0,(G14/$AF$14)*100000) -> 0 | AH14: ='C_Health Regions'!L8 -> 0 | AI14: =IF(AH14=0,0,(H14/$AH$14)*100000) -> 0 | AJ14: ='C_Health Regions'!N8 -> 0 | AK14: =IF(AJ14=0,0,(I14/$AJ$14)*100000) -> 0 | AL14: ='C_Health Regions'!P8 -> 0 | AM14: =IF(AL14=0,0,(J14/$AL$14)*100000) -> 0 | AN14: ='C_Health Regions'!R8 -> 0 | AO14: =IF(AN14=0,0,(K14/$AN$14)*100000) -> 0 | AP14: ='C_Health Regions'!T8 -> 0 | AQ14: =IF(AP14=0,0,(L14/$AP14)*100000) -> 0 | AR14: ='C_Health Regions'!V8 -> 0 | AS14: =IF(AR14=0,0,(M14/$AR$14)*100000) -> 0 | AT14: ='C_Health Regions'!X8 -> 0 | AU14: =IF(AT14=0,0,(N14/$AT$14)*100000) -> 0 | AV14: ='C_Health Regions'!Z8 -> 0 | AW14: =IF(AV14=0,0,(O14/$AV$14)*100000) -> 0 | AX14: ='C_Health Regions'!AB8 -> 0 | AY14: =IF(AX14=0,0,(P14/$AX$14)*100000) -> 0 | AZ14: ='C_Health Regions'!AD8 -> 0 | BA14: =IF(AZ14=0,0,(Q14/$AZ$14)*100000) -> 0 | BB14: ='C_Health Regions'!AF8 -> 0 | BC14: =IF(BB14=0,0,(R14/$BB$14)*100000) -> 0 | BD14: ='C_Health Regions'!AH8 -> 0 | BE14: =IF(BD14=0,0,(S14/$BD$14)*100000) -> 0 | BF14: ='C_Health Regions'!AJ8 -> 0 | BG14: =IF(BF14=0,0,(T14/$BF$14)*100000) -> 0 | BH14: ='C_Health Regions'!AL8 -> 0 | BI14: =IF(BH14=0,0,(U14/$BH$14)*100000) -> 0 | BJ14: ='C_Health Regions'!AN8 -> 0 | BK14: =IF(BJ14=0,0,(V14/$BJ$14)*100000) -> 0
B17: Age | C17: ='C_Health Regions'!B4 -> Region 1 | D17: ='C_Health Regions'!D4 -> Region 2 | E17: ='C_Health Regions'!F4 -> Region 3 | F17: ='C_Health Regions'!H4 -> Region 4 | G17: ='C_Health Regions'!J4 -> Region 5 | H17: ='C_Health Regions'!L4 -> Region 6 | I17: ='C_Health Regions'!N4 -> Region 7 | J17: ='C_Health Regions'!P4 -> Region 8 | K17: ='C_Health Regions'!R4 -> Region 9 | L17: ='C_Health Regions'!T4 -> Region 10 | M17: ='C_Health Regions'!V4 -> Region 11 | N17: ='C_Health Regions'!X4 -> Region 12 | O17: ='C_Health Regions'!Z4 -> Region 13 | P17: ='C_Health Regions'!AB4 -> Region 14 | Q17: ='C_Health Regions'!AD4 -> Region 15 | R17: ='C_Health Regions'!AF4 -> Region 16 | S17: ='C_Health Regions'!AH4 -> Region 17 | T17: ='C_Health Regions'!AJ4 -> Region 18 | U17: ='C_Health Regions'!AL4 -> Region 19 | V17: ='C_Health Regions'!AN4 -> Region 20 | X17: ='C_Health Regions'!B4 -> Region 1 | Y17: Rate | Z17: ='C_Health Regions'!D4 -> Region 2 | AA17: Rate | AB17: ='C_Health Regions'!F4 -> Region 3 | AC17: Rate | AD17: ='C_Health Regions'!H4 -> Region 4 | AE17: Rate | AF17: ='C_Health Regions'!J4 -> Region 5 | AG17: Rate | AH17: ='C_Health Regions'!L4 -> Region 6 | AI17: Rate | AJ17: ='C_Health Regions'!N4 -> Region 7 | AK17: Rate | AL17: ='C_Health Regions'!P4 -> Region 8 | AM17: Rate | AN17: ='C_Health Regions'!R4 -> Region 9 | AO17: Rate | AP17: ='C_Health Regions'!T4 -> Region 10 | AQ17: Rate | AR17: ='C_Health Regions'!V4 -> Region 11 | AS17: Rate | AT17: ='C_Health Regions'!X4 -> Region 12 | AU17: Rate | AV17: ='C_Health Regions'!Z4 -> Region 13 | AW17: Rate | AX17: ='C_Health Regions'!AB4 -> Region 14 | AY17: Rate | AZ17: ='C_Health Regions'!AD4 -> Region 15 | BA17: Rate | BB17: ='C_Health Regions'!AF4 -> Region 16 | BC17: Rate | BD17: ='C_Health Regions'!AH4 -> Region 17 | BE17: Rate | BF17: ='C_Health Regions'!AJ4 -> Region 18 | BG17: Rate | BH17: ='C_Health Regions'!AL4 -> Region 19 | BI17: Rate | BJ17: ='C_Health Regions'!AN4 -> Region 20 | BK17: Rate
B18: =' B_Populations'!A9 -> 65-74 | X18: ='C_Health Regions'!B5 -> 0 | Y18: =IF(X18=0,0,(C18/$X$18)*100000) -> 0 | Z18: ='C_Health Regions'!D5 -> 0 | AA18: =IF(Z18=0,0,(D18/$Z$18)*100000) -> 0 | AB18: ='C_Health Regions'!F5 -> 0 | AC18: =IF(AB18=0,0,(E18/$AB$18)*100000) -> 0 | AD18: ='C_Health Regions'!H5 -> 0 | AE18: =IF(AD18=0,0,(F18/$AD$18)*100000) -> 0 | AF18: ='C_Health Regions'!J5 -> 0 | AG18: =IF(AF18=0,0,(G18/$AF$18)*100000) -> 0 | AH18: ='C_Health Regions'!L5 -> 0 | AI18: =IF(AH18=0,0,(H18/$AH$18)*100000) -> 0 | AJ18: ='C_Health Regions'!N5 -> 0 | AK18: =IF(AJ18=0,0,(I18/$AJ$18)*100000) -> 0 | AL18: ='C_Health Regions'!P5 -> 0 | AM18: =IF(AL18=0,0,(J18/$AL$18)*100000) -> 0 | AN18: ='C_Health Regions'!R5 -> 0 | AO18: =IF(AN18=0,0,(K18/$AN$18)*100000) -> 0 | AP18: ='C_Health Regions'!T5 -> 0 | AQ18: =IF(AP18=0,0,(L18/$AP18)*100000) -> 0 | AR18: ='C_Health Regions'!V5 -> 0 | AS18: =IF(AR18=0,0,(M18/$AR$18)*100000) -> 0 | AT18: ='C_Health Regions'!X5 -> 0 | AU18: =IF(AT18=0,0,(N18/$AT$18)*100000) -> 0 | AV18: ='C_Health Regions'!Z5 -> 0 | AW18: =IF(AV18=0,0,(O18/$AV$18)*100000) -> 0 | AX18: ='C_Health Regions'!AB5 -> 0 | AY18: =IF(AX18=0,0,(P18/$AX$18)*100000) -> 0 | AZ18: ='C_Health Regions'!AD5 -> 0 | BA18: =IF(AZ18=0,0,(Q18/$AZ$18)*100000) -> 0 | BB18: ='C_Health Regions'!AF5 -> 0 | BC18: =IF(BB18=0,0,(R18/$BB$18)*100000) -> 0 | BD18: ='C_Health Regions'!AH5 -> 0 | BE18: =IF(BD18=0,0,(S18/$BD$18)*100000) -> 0 | BF18: ='C_Health Regions'!AJ5 -> 0 | BG18: =IF(BF18=0,0,(T18/$BF$18)*100000) -> 0 | BH18: ='C_Health Regions'!AL5 -> 0 | BI18: =IF(BH18=0,0,(U18/$BH$18)*100000) -> 0 | BJ18: ='C_Health Regions'!AN5 -> 0 | BK18: =IF(BJ18=0,0,(V18/$BJ$18)*100000) -> 0
B19: =' B_Populations'!A10 -> 75-84 | X19: ='C_Health Regions'!B6 -> 0 | Y19: =IF(X19=0,0,(C19/$X$19)*100000) -> 0 | Z19: ='C_Health Regions'!D6 -> 0 | AA19: =IF(Z19=0,0,(D19/$Z$19)*100000) -> 0 | AB19: ='C_Health Regions'!F6 -> 0 | AC19: =IF(AB19=0,0,(E19/$AB$19)*100000) -> 0 | AD19: ='C_Health Regions'!H6 -> 0 | AE19: =IF(AD19=0,0,(F19/$AD$19)*100000) -> 0 | AF19: ='C_Health Regions'!J6 -> 0 | AG19: =IF(AF19=0,0,(G19/$AF$19)*100000) -> 0 | AH19: ='C_Health Regions'!L6 -> 0 | AI19: =IF(AH19=0,0,(H19/$AH$19)*100000) -> 0 | AJ19: ='C_Health Regions'!N6 -> 0 | AK19: =IF(AJ19=0,0,(I19/$AJ$19)*100000) -> 0 | AL19: ='C_Health Regions'!P6 -> 0 | AM19: =IF(AL19=0,0,(J19/$AL$19)*100000) -> 0 | AN19: ='C_Health Regions'!R6 -> 0 | AO19: =IF(AN19=0,0,(K19/$AN$19)*100000) -> 0 | AP19: ='C_Health Regions'!T6 -> 0 | AQ19: =IF(AP19=0,0,(L19/$AP19)*100000) -> 0 | AR19: ='C_Health Regions'!V6 -> 0 | AS19: =IF(AR19=0,0,(M19/$AR$19)*100000) -> 0 | AT19: ='C_Health Regions'!X6 -> 0 | AU19: =IF(AT19=0,0,(N19/$AT$19)*100000) -> 0 | AV19: ='C_Health Regions'!Z6 -> 0 | AW19: =IF(AV19=0,0,(O19/$AV$19)*100000) -> 0 | AX19: ='C_Health Regions'!AB6 -> 0 | AY19: =IF(AX19=0,0,(P19/$AX$19)*100000) -> 0 | AZ19: ='C_Health Regions'!AD6 -> 0 | BA19: =IF(AZ19=0,0,(Q19/$AZ$19)*100000) -> 0 | BB19: ='C_Health Regions'!AF6 -> 0 | BC19: =IF(BB19=0,0,(R19/$BB$19)*100000) -> 0 | BD19: ='C_Health Regions'!AH6 -> 0 | BE19: =IF(BD19=0,0,(S19/$BD$19)*100000) -> 0 | BF19: ='C_Health Regions'!AJ6 -> 0 | BG19: =IF(BF19=0,0,(T19/$BF$19)*100000) -> 0 | BH19: ='C_Health Regions'!AL6 -> 0 | BI19: =IF(BH19=0,0,(U19/$BH$19)*100000) -> 0 | BJ19: ='C_Health Regions'!AN6 -> 0 | BK19: =IF(BJ19=0,0,(V19/$BJ$19)*100000) -> 0
B20: =' B_Populations'!A11 -> 85+ | X20: ='C_Health Regions'!B7 -> 0 | Y20: =IF(X20=0,0,(C20/$X$20)*100000) -> 0 | Z20: ='C_Health Regions'!D7 -> 0 | AA20: =IF(Z20=0,0,(D20/$Z$20)*100000) -> 0 | AB20: ='C_Health Regions'!F7 -> 0 | AC20: =IF(AB20=0,0,(E20/$AB$20)*100000) -> 0 | AD20: ='C_Health Regions'!H7 -> 0 | AE20: =IF(AD20=0,0,(F20/$AD$20)*100000) -> 0 | AF20: ='C_Health Regions'!J7 -> 0 | AG20: =IF(AF20=0,0,(G20/$AF$20)*100000) -> 0 | AH20: ='C_Health Regions'!L7 -> 0 | AI20: =IF(AH20=0,0,(H20/$AH$20)*100000) -> 0 | AJ20: ='C_Health Regions'!N7 -> 0 | AK20: =IF(AJ20=0,0,(I20/$AJ$20)*100000) -> 0 | AL20: ='C_Health Regions'!P7 -> 0 | AM20: =IF(AL20=0,0,(J20/$AL$20)*100000) -> 0 | AN20: ='C_Health Regions'!R7 -> 0 | AO20: =IF(AN20=0,0,(K20/$AN$20)*100000) -> 0 | AP20: ='C_Health Regions'!T7 -> 0 | AQ20: =IF(AP20=0,0,(L20/$AP20)*100000) -> 0 | AR20: ='C_Health Regions'!V7 -> 0 | AS20: =IF(AR20=0,0,(M20/$AR$20)*100000) -> 0 | AT20: ='C_Health Regions'!X7 -> 0 | AU20: =IF(AT20=0,0,(N20/$AT$20)*100000) -> 0 | AV20: ='C_Health Regions'!Z7 -> 0 | AW20: =IF(AV20=0,0,(O20/$AV$20)*100000) -> 0 | AX20: ='C_Health Regions'!AB7 -> 0 | AY20: =IF(AX20=0,0,(P20/$AX$20)*100000) -> 0 | AZ20: ='C_Health Regions'!AD7 -> 0 | BA20: =IF(AZ20=0,0,(Q20/$AZ$20)*100000) -> 0 | BB20: ='C_Health Regions'!AF7 -> 0 | BC20: =IF(BB20=0,0,(R20/$BB$20)*100000) -> 0 | BD20: ='C_Health Regions'!AH7 -> 0 | BE20: =IF(BD20=0,0,(S20/$BD$20)*100000) -> 0 | BF20: ='C_Health Regions'!AJ7 -> 0 | BG20: =IF(BF20=0,0,(T20/$BF$20)*100000) -> 0 | BH20: ='C_Health Regions'!AL7 -> 0 | BI20: =IF(BH20=0,0,(U20/$BH$20)*100000) -> 0 | BJ20: ='C_Health Regions'!AN7 -> 0 | BK20: =IF(BJ20=0,0,(V20/$BJ$20)*100000) -> 0
B21: total | X21: ='C_Health Regions'!B8 -> 0 | Y21: =IF(X21=0,0,(C21/$X$21)*100000) -> 0 | Z21: ='C_Health Regions'!D8 -> 0 | AA21: =IF(Z21=0,0,(D21/$Z$21)*100000) -> 0 | AB21: ='C_Health Regions'!F8 -> 0 | AC21: =IF(AB21=0,0,(E21/$AB$21)*100000) -> 0 | AD21: ='C_Health Regions'!H8 -> 0 | AE21: =IF(AD21=0,0,(F21/$AD$21)*100000) -> 0 | AF21: ='C_Health Regions'!J8 -> 0 | AG21: =IF(AF21=0,0,(G21/$AF$21)*100000) -> 0 | AH21: ='C_Health Regions'!L8 -> 0 | AI21: =IF(AH21=0,0,(H21/$AH$21)*100000) -> 0 | AJ21: ='C_Health Regions'!N8 -> 0 | AK21: =IF(AJ21=0,0,(I21/$AJ$21)*100000) -> 0 | AL21: ='C_Health Regions'!P8 -> 0 | AM21: =IF(AL21=0,0,(J21/$AL$21)*100000) -> 0 | AN21: ='C_Health Regions'!R8 -> 0 | AO21: =IF(AN21=0,0,(K21/$AN$21)*100000) -> 0 | AP21: ='C_Health Regions'!T8 -> 0 | AQ21: =IF(AP21=0,0,(L21/$AP21)*100000) -> 0 | AR21: ='C_Health Regions'!V8 -> 0 | AS21: =IF(AR21=0,0,(M21/$AR$21)*100000) -> 0 | AT21: ='C_Health Regions'!X8 -> 0 | AU21: =IF(AT21=0,0,(N21/$AT$21)*100000) -> 0 | AV21: ='C_Health Regions'!Z8 -> 0 | AW21: =IF(AV21=0,0,(O21/$AV$21)*100000) -> 0 | AX21: ='C_Health Regions'!AB8 -> 0 | AY21: =IF(AX21=0,0,(P21/$AX$21)*100000) -> 0 | AZ21: ='C_Health Regions'!AD8 -> 0 | BA21: =IF(AZ21=0,0,(Q21/$AZ$21)*100000) -> 0 | BB21: ='C_Health Regions'!AF8 -> 0 | BC21: =IF(BB21=0,0,(R21/$BB$21)*100000) -> 0 | BD21: ='C_Health Regions'!AH8 -> 0 | BE21: =IF(BD21=0,0,(S21/$BD$21)*100000) -> 0 | BF21: ='C_Health Regions'!AJ8 -> 0 | BG21: =IF(BF21=0,0,(T21/$BF$21)*100000) -> 0 | BH21: ='C_Health Regions'!AL8 -> 0 | BI21: =IF(BH21=0,0,(U21/$BH$21)*100000) -> 0 | BJ21: ='C_Health Regions'!AN8 -> 0 | BK21: =IF(BJ21=0,0,(V21/$BJ$21)*100000) -> 0

Sheet K_Figure 1
A1: Figure 1 - Older Adult Falls-Related Rates per 100,000 in <Data Years>
A8: Total Hospitalization rates | B8: ='D_Year 1'!A1 -> Year 1 | C8: ='E_Year 2'!A1 -> Year 2 | D8: ='F_Year 3'!A1 -> Year 3 | E8: ='G_Year 4'!A1 -> Year 4 | F8: ='H_Year 5'!A1 -> Year 5
A9: 65-74 | B9: ='D_Year 1'!AN4 -> 0 | C9: ='E_Year 2'!AM4 -> 0 | D9: ='F_Year 3'!AM4 -> 0 | E9: ='G_Year 4'!AM4 -> 0 | F9: ='H_Year 5'!AL4 -> 0
A10: 75-84 | B10: ='D_Year 1'!AN5 -> 0 | C10: ='E_Year 2'!AM5 -> 0 | D10: ='F_Year 3'!AM5 -> 0 | E10: ='G_Year 4'!AM5 -> 0 | F10: ='H_Year 5'!AL5 -> 0
A11: 85+ | B11: ='D_Year 1'!AN6 -> 0 | C11: ='E_Year 2'!AM6 -> 0 | D11: ='F_Year 3'!AM6 -> 0 | E11: ='G_Year 4'!AM6 -> 0 | F11: ='H_Year 5'!AL6 -> 0
A14: Total Death rates | B14: ='D_Year 1'!A1 -> Year 1 | C14: ='E_Year 2'!A1 -> Year 2 | D14: ='F_Year 3'!A1 -> Year 3 | E14: ='G_Year 4'!A1 -> Year 4 | F14: ='H_Year 5'!A1 -> Year 5
A15: 65-74 | B15: ='D_Year 1'!AN18 -> 0 | C15: ='E_Year 2'!AM18 -> 0 | D15: ='F_Year 3'!AM18 -> 0 | E15: ='G_Year 4'!AM18 -> 0 | F15: ='H_Year 5'!AL18 -> 0
A16: 75-84 | B16: ='D_Year 1'!AN19 -> 0 | C16: ='E_Year 2'!AM19 -> 0 | D16: ='F_Year 3'!AM19 -> 0 | E16: ='G_Year 4'!AM19 -> 0 | F16: ='H_Year 5'!AL19 -> 0
A17: 85+ | B17: ='D_Year 1'!AN20 -> 0 | C17: ='E_Year 2'!AM20 -> 0 | D17: ='F_Year 3'!AM20 -> 0 | E17: ='G_Year 4'!AM20 -> 0 | F17: ='H_Year 5'!AL20 -> 0

Sheet L_Figure 2
A1: Figure 2 - Percentage of Annual Older Adult Falls-Related Deaths, Hospitalizations, and ED Visits by Cause
A7: Insert data year
A9: Fracture
A10: ED Visits | B10: 0.1
A11: Hospitalizations | B11: 0.3
A12: Deaths | B12: 0.4
A14: TBI
A15: ED Visits | B15: 0.2
A16: Hospitalizations | B16: 0.3
A17: Deaths | B17: 0.1
A19: Both Fracture and TBI
A20: ED Visits | B20: 0.3
A21: Hospitalizations | B21: 0.3
A22: Deaths | B22: 0.3

Sheet M_Figure 3 (Health Regions)
A1: Figure 3 - Older Adult Falls by <Group, Health Region, or Location>
A8: Health Regions Data
A9: Total Nonfatal Hospitalizations Rate per 100,000 by Health Region | B9: Counts | C9: Rate | D9: Rank | F9: Total Nonfatal ED Visits Rate per 100,000 by Health Region | G9: Counts | H9: Rate | I9: Rank | K9: Total Deaths Rate per 100,000 by Health Region | L9: Counts | M9: Rate | N9: Rank
A10: ='C_Health Regions'!B4 -> Region 1 | B10: ='J_Health Regions'!C7 -> 0 | C10: ='J_Health Regions'!Y7 -> 0 | D10: =RANK(C10,C$10:C$29)+COUNTIF($C$10:C10,C10)-1 -> 1 | F10: =A10 -> Region 1 | G10: ='J_Health Regions'!C14 -> 0 | H10: ='J_Health Regions'!Y14 -> 0 | I10: =RANK(H10,H$10:H$29)+COUNTIF($H$10:H10,H10)-1 -> 1 | K10: =A10 -> Region 1 | L10: ='J_Health Regions'!C21 -> 0 | M10: ='J_Health Regions'!Y21 -> 0 | N10: =RANK(M10,M$10:M$29)+COUNTIF($M$10:M10,M10)-1 -> 1
A11: ='C_Health Regions'!D4 -> Region 2 | B11: ='J_Health Regions'!D7 -> 0 | C11: ='J_Health Regions'!AA7 -> 0 | D11: =RANK(C11,C$10:C$29)+COUNTIF($C$10:C11,C11)-1 -> 2 | F11: =A11 -> Region 2 | G11: ='J_Health Regions'!D14 -> 0 | H11: ='J_Health Regions'!AA14 -> 0 | I11: =RANK(H11,H$10:H$29)+COUNTIF($H$10:H11,H11)-1 -> 2 | K11: =A11 -> Region 2 | L11: ='J_Health Regions'!D21 -> 0 | M11: ='J_Health Regions'!AA21 -> 0 | N11: =RANK(M11,M$10:M$29)+COUNTIF($M$10:M11,M11)-1 -> 2
A12: ='C_Health Regions'!F4 -> Region 3 | B12: ='J_Health Regions'!E7 -> 0 | C12: ='J_Health Regions'!AC7 -> 0 | D12: =RANK(C12,C$10:C$29)+COUNTIF($C$10:C12,C12)-1 -> 3 | F12: =A12 -> Region 3 | G12: ='J_Health Regions'!E14 -> 0 | H12: ='J_Health Regions'!AC14 -> 0 | I12: =RANK(H12,H$10:H$29)+COUNTIF($H$10:H12,H12)-1 -> 3 | K12: =A12 -> Region 3 | L12: ='J_Health Regions'!E21 -> 0 | M12: ='J_Health Regions'!AC21 -> 0 | N12: =RANK(M12,M$10:M$29)+COUNTIF($M$10:M12,M12)-1 -> 3
A13: ='C_Health Regions'!H4 -> Region 4 | B13: ='J_Health Regions'!F7 -> 0 | C13: ='J_Health Regions'!AE7 -> 0 | D13: =RANK(C13,C$10:C$29)+COUNTIF($C$10:C13,C13)-1 -> 4 | F13: =A13 -> Region 4 | G13: ='J_Health Regions'!F14 -> 0 | H13: ='J_Health Regions'!AE14 -> 0 | I13: =RANK(H13,H$10:H$29)+COUNTIF($H$10:H13,H13)-1 -> 4 | K13: =A13 -> Region 4 | L13: ='J_Health Regions'!F21 -> 0 | M13: ='J_Health Regions'!AE21 -> 0 | N13: =RANK(M13,M$10:M$29)+COUNTIF($M$10:M13,M13)-1 -> 4
A14: ='C_Health Regions'!J4 -> Region 5 | B14: ='J_Health Regions'!G7 -> 0 | C14: ='J_Health Regions'!AG7 -> 0 | D14: =RANK(C14,C$10:C$29)+COUNTIF($C$10:C14,C14)-1 -> 5 | F14: =A14 -> Region 5 | G14: ='J_Health Regions'!G14 -> 0 | H14: ='J_Health Regions'!AG14 -> 0 | I14: =RANK(H14,H$10:H$29)+COUNTIF($H$10:H14,H14)-1 -> 5 | K14: =A14 -> Region 5 | L14: ='J_Health Regions'!G21 -> 0 | M14: ='J_Health Regions'!AG21 -> 0 | N14: =RANK(M14,M$10:M$29)+COUNTIF($M$10:M14,M14)-1 -> 5
A15: ='C_Health Regions'!L4 -> Region 6 | B15: ='J_Health Regions'!H7 -> 0 | C15: ='J_Health Regions'!AI7 -> 0 | D15: =RANK(C15,C$10:C$29)+COUNTIF($C$10:C15,C15)-1 -> 6 | F15: =A15 -> Region 6 | G15: ='J_Health Regions'!H14 -> 0 | H15: ='J_Health Regions'!AI14 -> 0 | I15: =RANK(H15,H$10:H$29)+COUNTIF($H$10:H15,H15)-1 -> 6 | K15: =A15 -> Region 6 | L15: ='J_Health Regions'!H21 -> 0 | M15: ='J_Health Regions'!AI21 -> 0 | N15: =RANK(M15,M$10:M$29)+COUNTIF($M$10:M15,M15)-1 -> 6
A16: ='C_Health Regions'!N4 -> Region 7 | B16: ='J_Health Regions'!I7 -> 0 | C16: ='J_Health Regions'!AK7 -> 0 | D16: =RANK(C16,C$10:C$29)+COUNTIF($C$10:C16,C16)-1 -> 7 | F16: =A16 -> Region 7 | G16: ='J_Health Regions'!I14 -> 0 | H16: ='J_Health Regions'!AK14 -> 0 | I16: =RANK(H16,H$10:H$29)+COUNTIF($H$10:H16,H16)-1 -> 7 | K16: =A16 -> Region 7 | L16: ='J_Health Regions'!I21 -> 0 | M16: ='J_Health Regions'!AK21 -> 0 | N16: =RANK(M16,M$10:M$29)+COUNTIF($M$10:M16,M16)-1 -> 7
A17: ='C_Health Regions'!P4 -> Region 8 | B17: ='J_Health Regions'!J7 -> 0 | C17: ='J_Health Regions'!AM7 -> 0 | D17: =RANK(C17,C$10:C$29)+COUNTIF($C$10:C17,C17)-1 -> 8 | F17: =A17 -> Region 8 | G17: ='J_Health Regions'!J14 -> 0 | H17: ='J_Health Regions'!AM14 -> 0 | I17: =RANK(H17,H$10:H$29)+COUNTIF($H$10:H17,H17)-1 -> 8 | K17: =A17 -> Region 8 | L17: ='J_Health Regions'!J21 -> 0 | M17: ='J_Health Regions'!AM21 -> 0 | N17: =RANK(M17,M$10:M$29)+COUNTIF($M$10:M17,M17)-1 -> 8
A18: ='C_Health Regions'!R4 -> Region 9 | B18: ='J_Health Regions'!K7 -> 0 | C18: ='J_Health Regions'!AN7 -> 0 | D18: =RANK(C18,C$10:C$29)+COUNTIF($C$10:C18,C18)-1 -> 9 | F18: =A18 -> Region 9 | G18: ='J_Health Regions'!K14 -> 0 | H18: ='J_Health Regions'!AO14 -> 0 | I18: =RANK(H18,H$10:H$29)+COUNTIF($H$10:H18,H18)-1 -> 9 | K18: =A18 -> Region 9 | L18: ='J_Health Regions'!K21 -> 0 | M18: ='J_Health Regions'!AO21 -> 0 | N18: =RANK(M18,M$10:M$29)+COUNTIF($M$10:M18,M18)-1 -> 9
A19: ='C_Health Regions'!T4 -> Region 10 | B19: ='J_Health Regions'!L7 -> 0 | C19: ='J_Health Regions'!AQ7 -> 0 | D19: =RANK(C19,C$10:C$29)+COUNTIF($C$10:C19,C19)-1 -> 10 | F19: =A19 -> Region 10 | G19: ='J_Health Regions'!L14 -> 0 | H19: ='J_Health Regions'!AQ14 -> 0 | I19: =RANK(H19,H$10:H$29)+COUNTIF($H$10:H19,H19)-1 -> 10 | K19: =A19 -> Region 10 | L19: ='J_Health Regions'!L21 -> 0 | M19: ='J_Health Regions'!AQ21 -> 0 | N19: =RANK(M19,M$10:M$29)+COUNTIF($M$10:M19,M19)-1 -> 10
A20: ='C_Health Regions'!V4 -> Region 11 | B20: ='J_Health Regions'!M7 -> 0 | C20: ='J_Health Regions'!AS7 -> 0 | D20: =RANK(C20,C$10:C$29)+COUNTIF($C$10:C20,C20)-1 -> 11 | F20: =A20 -> Region 11 | G20: ='J_Health Regions'!M14 -> 0 | H20: ='J_Health Regions'!AS14 -> 0 | I20: =RANK(H20,H$10:H$29)+COUNTIF($H$10:H20,H20)-1 -> 11 | K20: =A20 -> Region 11 | L20: ='J_Health Regions'!M21 -> 0 | M20: ='J_Health Regions'!AS21 -> 0 | N20: =RANK(M20,M$10:M$29)+COUNTIF($M$10:M20,M20)-1 -> 11
A21: ='C_Health Regions'!X4 -> Region 12 | B21: ='J_Health Regions'!N7 -> 0 | C21: ='J_Health Regions'!AU7 -> 0 | D21: =RANK(C21,C$10:C$29)+COUNTIF($C$10:C21,C21)-1 -> 12 | F21: =A21 -> Region 12 | G21: ='J_Health Regions'!N14 -> 0 | H21: ='J_Health Regions'!AU14 -> 0 | I21: =RANK(H21,H$10:H$29)+COUNTIF($H$10:H21,H21)-1 -> 12 | K21: =A21 -> Region 12 | L21: ='J_Health Regions'!N21 -> 0 | M21: ='J_Health Regions'!AU21 -> 0 | N21: =RANK(M21,M$10:M$29)+COUNTIF($M$10:M21,M21)-1 -> 12
A22: ='C_Health Regions'!Z4 -> Region 13 | B22: ='J_Health Regions'!O7 -> 0 | C22: ='J_Health Regions'!AW7 -> 0 | D22: =RANK(C22,C$10:C$29)+COUNTIF($C$10:C22,C22)-1 -> 13 | F22: =A22 -> Region 13 | G22: ='J_Health Regions'!O14 -> 0 | H22: ='J_Health Regions'!AW14 -> 0 | I22: =RANK(H22,H$10:H$29)+COUNTIF($H$10:H22,H22)-1 -> 13 | K22: =A22 -> Region 13 | L22: ='J_Health Regions'!O21 -> 0 | M22: ='J_Health Regions'!AW21 -> 0 | N22: =RANK(M22,M$10:M$29)+COUNTIF($M$10:M22,M22)-1 -> 13
A23: ='C_Health Regions'!AB4 -> Region 14 | B23: ='J_Health Regions'!P7 -> 0 | C23: ='J_Health Regions'!AY7 -> 0 | D23: =RANK(C23,C$10:C$29)+COUNTIF($C$10:C23,C23)-1 -> 14 | F23: =A23 -> Region 14 | G23: ='J_Health Regions'!P14 -> 0 | H23: ='J_Health Regions'!AY14 -> 0 | I23: =RANK(H23,H$10:H$29)+COUNTIF($H$10:H23,H23)-1 -> 14 | K23: =A23 -> Region 14 | L23: ='J_Health Regions'!P21 -> 0 | M23: ='J_Health Regions'!AY21 -> 0 | N23: =RANK(M23,M$10:M$29)+COUNTIF($M$10:M23,M23)-1 -> 14
A24: ='C_Health Regions'!AD4 -> Region 15 | B24: ='J_Health Regions'!Q7 -> 0 | C24: ='J_Health Regions'!BA7 -> 0 | D24: =RANK(C24,C$10:C$29)+COUNTIF($C$10:C24,C24)-1 -> 15 | F24: =A24 -> Region 15 | G24: ='J_Health Regions'!Q14 -> 0 | H24: ='J_Health Regions'!BA14 -> 0 | I24: =RANK(H24,H$10:H$29)+COUNTIF($H$10:H24,H24)-1 -> 15 | K24: =A24 -> Region 15 | L24: ='J_Health Regions'!Q21 -> 0 | M24: ='J_Health Regions'!BA21 -> 0 | N24: =RANK(M24,M$10:M$29)+COUNTIF($M$10:M24,M24)-1 -> 15
A25: ='C_Health Regions'!AF4 -> Region 16 | B25: ='J_Health Regions'!R7 -> 0 | C25: ='J_Health Regions'!BC7 -> 0 | D25: =RANK(C25,C$10:C$29)+COUNTIF($C$10:C25,C25)-1 -> 16 | F25: =A25 -> Region 16 | G25: ='J_Health Regions'!R14 -> 0 | H25: ='J_Health Regions'!BC14 -> 0 | I25: =RANK(H25,H$10:H$29)+COUNTIF($H$10:H25,H25)-1 -> 16 | K25: =A25 -> Region 16 | L25: ='J_Health Regions'!R21 -> 0 | M25: ='J_Health Regions'!BC21 -> 0 | N25: =RANK(M25,M$10:M$29)+COUNTIF($M$10:M25,M25)-1 -> 16
A26: ='C_Health Regions'!AH4 -> Region 17 | B26: ='J_Health Regions'!S7 -> 0 | C26: ='J_Health Regions'!BE7 -> 0 | D26: =RANK(C26,C$10:C$29)+COUNTIF($C$10:C26,C26)-1 -> 17 | F26: =A26 -> Region 17 | G26: ='J_Health Regions'!S14 -> 0 | H26: ='J_Health Regions'!BE14 -> 0 | I26: =RANK(H26,H$10:H$29)+COUNTIF($H$10:H26,H26)-1 -> 17 | K26: =A26 -> Region 17 | L26: ='J_Health Regions'!S21 -> 0 | M26: ='J_Health Regions'!BE21 -> 0 | N26: =RANK(M26,M$10:M$29)+COUNTIF($M$10:M26,M26)-1 -> 17
A27: ='C_Health Regions'!AJ4 -> Region 18 | B27: ='J_Health Regions'!T7 -> 0 | C27: ='J_Health Regions'!BG7 -> 0 | D27: =RANK(C27,C$10:C$29)+COUNTIF($C$10:C27,C27)-1 -> 18 | F27: =A27 -> Region 18 | G27: ='J_Health Regions'!T14 -> 0 | H27: ='J_Health Regions'!BG14 -> 0 | I27: =RANK(H27,H$10:H$29)+COUNTIF($H$10:H27,H27)-1 -> 18 | K27: =A27 -> Region 18 | L27: ='J_Health Regions'!T21 -> 0 | M27: ='J_Health Regions'!BG21 -> 0 | N27: =RANK(M27,M$10:M$29)+COUNTIF($M$10:M27,M27)-1 -> 18
A28: ='C_Health Regions'!AL4 -> Region 19 | B28: ='J_Health Regions'!U7 -> 0 | C28: ='J_Health Regions'!BI7 -> 0 | D28: =RANK(C28,C$10:C$29)+COUNTIF($C$10:C28,C28)-1 -> 19 | F28: =A28 -> Region 19 | G28: ='J_Health Regions'!U14 -> 0 | H28: ='J_Health Regions'!BI14 -> 0 | I28: =RANK(H28,H$10:H$29)+COUNTIF($H$10:H28,H28)-1 -> 19 | K28: =A28 -> Region 19 | L28: ='J_Health Regions'!U21 -> 0 | M28: ='J_Health Regions'!BI21 -> 0 | N28: =RANK(M28,M$10:M$29)+COUNTIF($M$10:M28,M28)-1 -> 19
A29: ='C_Health Regions'!AN4 -> Region 20 | B29: ='J_Health Regions'!V7 -> 0 | C29: ='J_Health Regions'!BK7 -> 0 | D29: =RANK(C29,C$10:C$29)+COUNTIF($C$10:C29,C29)-1 -> 20 | F29: =A29 -> Region 20 | G29: ='J_Health Regions'!V14 -> 0 | H29: ='J_Health Regions'!BK14 -> 0 | I29: =RANK(H29,H$10:H$29)+COUNTIF($H$10:H29,H29)-1 -> 20 | K29: =A29 -> Region 20 | L29: ='J_Health Regions'!V21 -> 0 | M29: ='J_Health Regions'!BK21 -> 0 | N29: =RANK(M29,M$10:M$29)+COUNTIF($M$10:M29,M29)-1 -> 20

Sheet M_Figure 3 (Race_Ethnicity)
A1: Figure 3 - Older Adult Falls by <Group, Health Region, or Location>
A8: This tab will automatically fill with data from the individual "2016", "2017", "2018", "2019", and "2020" tabs. The information in this tab can be used to complete the "Burden and Overview" section of the Falls in Older Adults Special Emphasis report. The average annual change in Falls in Older Adults injury age-adjusted rates per 100,000 over 5 years (not percentage change) is shown in this tab for hospitalizations, ED visits, and deaths across race/ethnicity, sex, and age groups.
A10: Please edit years in the Populations tab, not this tab | B10: Year 1 - Year 5 total Older Adult Falls non-fatal and fatal injury rates
B11: Hopitalization | C11: ED | D11: Death
A12: Year 1 | B12: ='D_Year 1'!AN7 -> 0 | C12: ='D_Year 1'!AN14 -> 0 | D12: ='D_Year 1'!AN21 -> 0
A13: Year 2 | B13: ='E_Year 2'!AM7 -> 0 | C13: ='E_Year 2'!AM14 -> 0 | D13: ='E_Year 2'!AM21 -> 0
A14: Year 3 | B14: ='F_Year 3'!AM7 -> 0 | C14: ='F_Year 3'!AM14 -> 0 | D14: ='F_Year 3'!AM21 -> 0
A15: Year 4 | B15: ='G_Year 4'!AM7 -> 0 | C15: ='G_Year 4'!AM14 -> 0 | D15: ='G_Year 4'!AM21 -> 0
A16: Year 5 | B16: ='H_Year 5'!AL7 -> 0 | C16: ='H_Year 5'!AL14 -> 0 | D16: ='H_Year 5'!AL21 -> 0
B18: Year 1 - Year 5 hospitalization rates across age groups
A19: age group | B19: =A12 -> Year 1 | C19: =A13 -> Year 2 | D19: =A14 -> Year 3 | E19: =A15 -> Year 4 | F19: =A16 -> Year 5 | G19: average annual change in age-adjusted rate per 100,000 over 5 years (not percentage change)
A20: =' B_Populations'!A9 -> 65-74 | B20: ='D_Year 1'!AN4 -> 0 | C20: ='E_Year 2'!AM4 -> 0 | D20: ='F_Year 3'!AM4 -> 0 | E20: ='G_Year 4'!AM4 -> 0 | F20: ='H_Year 5'!AL4 -> 0 | G20: {=LINEST(B20:F20,B19:F19)} -> #VALUE!
A21: =' B_Populations'!A10 -> 75-84 | B21: ='D_Year 1'!AN5 -> 0 | C21: ='E_Year 2'!AM5 -> 0 | D21: ='F_Year 3'!AM5 -> 0 | E21: ='G_Year 4'!AM5 -> 0 | F21: ='H_Year 5'!AL5 -> 0 | G21: {=LINEST(B21:F21,B19:F19)} -> #VALUE!
A22: =' B_Populations'!A11 -> 85+ | B22: ='D_Year 1'!AN6 -> 0 | C22: ='E_Year 2'!AM6 -> 0 | D22: ='F_Year 3'!AM6 -> 0 | E22: ='G_Year 4'!AM6 -> 0 | F22: ='H_Year 5'!AL6 -> 0 | G22: {=LINEST(B22:F22,B19:F19)} -> #VALUE!
B25: Year 1 - Year 5 ED rates across age groups
A26: age group | B26: =A12 -> Year 1 | C26: =A13 -> Year 2 | D26: =A14 -> Year 3 | E26: =A15 -> Year 4 | F26: =A16 -> Year 5 | G26: average annual change in age-adjusted rate per 100,000 over 5 years (not percentage change)
A27: =' B_Populations'!A9 -> 65-74 | B27: ='D_Year 1'!AN11 -> 0 | C27: ='E_Year 2'!AM11 -> 0 | D27: ='F_Year 3'!AM11 -> 0 | E27: ='G_Year 4'!AM11 -> 0 | F27: ='H_Year 5'!AL11 -> 0 | G27: {=LINEST(B27:F27,B26:F26)} -> #VALUE!
A28: =' B_Populations'!A10 -> 75-84 | B28: ='D_Year 1'!AN12 -> 0 | C28: ='E_Year 2'!AM12 -> 0 | D28: ='F_Year 3'!AM12 -> 0 | E28: ='G_Year 4'!AM12 -> 0 | F28: ='H_Year 5'!AL12 -> 0 | G28: {=LINEST(B28:F28,B26:F26)} -> #VALUE!
A29: =' B_Populations'!A11 -> 85+ | B29: ='D_Year 1'!AN13 -> 0 | C29: ='E_Year 2'!AM13 -> 0 | D29: ='F_Year 3'!AM13 -> 0 | E29: ='G_Year 4'!AM13 -> 0 | F29: ='H_Year 5'!AL13 -> 0 | G29: {=LINEST(B29:F29,B26:F26)} -> #VALUE!
B32: Year 1 - Year 5 death rates across age groups
A33: age group | B33: =A12 -> Year 1 | C33: =A13 -> Year 2 | D33: =A14 -> Year 3 | E33: =A15 -> Year 4 | F33: =A16 -> Year 5 | G33: average annual change in age-adjusted rate per 100,000 over 5 years (not percentage change)
A34: =' B_Populations'!A9 -> 65-74 | B34: ='D_Year 1'!AN18 -> 0 | C34: ='E_Year 2'!AM18 -> 0 | D34: ='F_Year 3'!AM18 -> 0 | E34: ='G_Year 4'!AM18 -> 0 | F34: ='H_Year 5'!AL18 -> 0 | G34: {=LINEST(B34:F34,B33:F33)} -> #VALUE!
A35: =' B_Populations'!A10 -> 75-84 | B35: ='D_Year 1'!AN19 -> 0 | C35: ='E_Year 2'!AM19 -> 0 | D35: ='F_Year 3'!AM19 -> 0 | E35: ='G_Year 4'!AM19 -> 0 | F35: ='H_Year 5'!AL19 -> 0 | G35: {=LINEST(B35:F35,B33:F33)} -> #VALUE!
A36: =' B_Populations'!A11 -> 85+ | B36: ='D_Year 1'!AN20 -> 0 | C36: ='E_Year 2'!AM20 -> 0 | D36: ='F_Year 3'!AM20 -> 0 | E36: ='G_Year 4'!AM20 -> 0 | F36: ='H_Year 5'!AL20 -> 0 | G36: {=LINEST(B36:F36,B33:F33)} -> #VALUE!
B39: Year 1 - Year 5 hospitalization rates across race/ethnicity and sex
B40: =A12 -> Year 1 | C40: =A13 -> Year 2 | D40: =A14 -> Year 3 | E40: =A15 -> Year 4 | F40: =A16 -> Year 5 | G40: average annual change in age-adjusted rate per 100,000 over 5 years (not percentage change)
A41: =[1]Populations!I8 -> White-Not Hispanic | B41: ='D_Year 1'!AQ7 -> 0 | C41: ='E_Year 2'!AP7 -> 0 | D41: ='F_Year 3'!AP7 -> 0 | E41: ='G_Year 4'!AP7 -> 0 | F41: ='H_Year 5'!AO7 -> 0 | G41: {=LINEST(B41:F41,B40:F40)} -> #VALUE!
A42: =[1]Populations!K8 -> Hispanic | B42: ='D_Year 1'!AR7 -> 0 | C42: ='E_Year 2'!AQ7 -> 0 | D42: ='F_Year 3'!AQ7 -> 0 | E42: ='G_Year 4'!AQ7 -> 0 | F42: ='H_Year 5'!AP7 -> 0 | G42: {=LINEST(B42:F42,B40:F40)} -> #VALUE!
A43: =[1]Populations!M8 -> Black-Not Hispanic | B43: ='D_Year 1'!AS7 -> 0 | C43: ='E_Year 2'!AR7 -> 0 | D43: ='F_Year 3'!AR7 -> 0 | E43: ='G_Year 4'!AR7 -> 0 | F43: ='H_Year 5'!AQ7 -> 0 | G43: {=LINEST(B43:F43,B40:F40)} -> #VALUE!
A44: =[1]Populations!O8 -> Asian | B44: ='D_Year 1'!AT7 -> 0 | C44: ='E_Year 2'!AS7 -> 0 | D44: ='F_Year 3'!AS7 -> 0 | E44: ='G_Year 4'!AS7 -> 0 | F44: ='H_Year 5'!AR7 -> 0 | G44: {=LINEST(B44:F44,B40:F40)} -> #VALUE!
A45: =[1]Populations!Q8 -> American Indian/Alaska Native | B45: ='D_Year 1'!AU7 -> 0 | C45: ='E_Year 2'!AT7 -> 0 | D45: ='F_Year 3'!AT7 -> 0 | E45: ='G_Year 4'!AT7 -> 0 | F45: ='H_Year 5'!AS7 -> 0 | G45: {=LINEST(B45:F45,B40:F40)} -> #VALUE!
A46: =[1]Populations!S8 -> Other | B46: ='D_Year 1'!AV7 -> 0 | C46: ='E_Year 2'!AU7 -> 0 | D46: ='F_Year 3'!AU7 -> 0 | E46: ='G_Year 4'!AU7 -> 0 | F46: ='H_Year 5'!AT7 -> 0 | G46: {=LINEST(B46:F46,B40:F40)} -> #VALUE!
A47: Male | B47: ='D_Year 1'!AO7 -> 0 | C47: ='E_Year 2'!AN7 -> 0 | D47: ='F_Year 3'!AN7 -> 0 | E47: ='G_Year 4'!AN7 -> 0 | F47: ='H_Year 5'!AM7 -> 0 | G47: {=LINEST(B47:F47,B40:F40)} -> #VALUE!
A48: Female | B48: ='D_Year 1'!AP7 -> 0 | C48: ='E_Year 2'!AO7 -> 0 | D48: ='F_Year 3'!AO7 -> 0 | E48: ='G_Year 4'!AO7 -> 0 | F48: ='H_Year 5'!AN7 -> 0 | G48: {=LINEST(B48:F48,B40:F40)} -> #VALUE!
B51: Year 1 - Year 5 ED rates across race/ethnicity and sex
B52: =A12 -> Year 1 | C52: =A13 -> Year 2 | D52: =A14 -> Year 3 | E52: =A15 -> Year 4 | F52: =A16 -> Year 5 | G52: average annual change in age-adjusted rate per 100,000 over 5 years (not percentage change)
A53: =[1]Populations!I8 -> White-Not Hispanic | B53: ='D_Year 1'!AQ14 -> 0 | C53: ='E_Year 2'!AP14 -> 0 | D53: ='F_Year 3'!AP14 -> 0 | E53: ='G_Year 4'!AP14 -> 0 | F53: ='H_Year 5'!AO14 -> 0 | G53: {=LINEST(B53:F53,B52:F52)} -> #VALUE!
A54: =[1]Populations!K8 -> Hispanic | B54: ='D_Year 1'!AR14 -> 0 | C54: ='E_Year 2'!AQ14 -> 0 | D54: ='F_Year 3'!AQ14 -> 0 | E54: ='G_Year 4'!AQ14 -> 0 | F54: ='H_Year 5'!AP14 -> 0 | G54: {=LINEST(B54:F54,B52:F52)} -> #VALUE!
A55: =[1]Populations!M8 -> Black-Not Hispanic | B55: ='D_Year 1'!AS14 -> 0 | C55: ='E_Year 2'!AR14 -> 0 | D55: ='F_Year 3'!AR14 -> 0 | E55: ='G_Year 4'!AR14 -> 0 | F55: ='H_Year 5'!AQ14 -> 0 | G55: {=LINEST(B55:F55,B52:F52)} -> #VALUE!
A56: =[1]Populations!O8 -> Asian | B56: ='D_Year 1'!AT14 -> 0 | C56: ='E_Year 2'!AS14 -> 0 | D56: ='F_Year 3'!AS14 -> 0 | E56: ='G_Year 4'!AS14 -> 0 | F56: ='H_Year 5'!AR14 -> 0 | G56: {=LINEST(B56:F56,B52:F52)} -> #VALUE!
A57: =[1]Populations!Q8 -> American Indian/Alaska Native | B57: ='D_Year 1'!AU14 -> 0 | C57: ='E_Year 2'!AT14 -> 0 | D57: ='F_Year 3'!AT14 -> 0 | E57: ='G_Year 4'!AT14 -> 0 | F57: ='H_Year 5'!AS14 -> 0 | G57: {=LINEST(B57:F57,B52:F52)} -> #VALUE!
A58: =[1]Populations!S8 -> Other | B58: ='D_Year 1'!AV14 -> 0 | C58: ='E_Year 2'!AU14 -> 0 | D58: ='F_Year 3'!AU14 -> 0 | E58: ='G_Year 4'!AU14 -> 0 | F58: ='H_Year 5'!AT14 -> 0 | G58: {=LINEST(B58:F58,B52:F52)} -> #VALUE!
A59: Male | B59: ='D_Year 1'!AO14 -> 0 | C59: ='E_Year 2'!AN14 -> 0 | D59: ='F_Year 3'!AN14 -> 0 | E59: ='G_Year 4'!AN14 -> 0 | F59: ='H_Year 5'!AM14 -> 0 | G59: {=LINEST(B59:F59,B52:F52)} -> #VALUE!
A60: Female | B60: ='D_Year 1'!AP14 -> 0 | C60: ='E_Year 2'!AO14 -> 0 | D60: ='F_Year 3'!AO14 -> 0 | E60: ='G_Year 4'!AO14 -> 0 | F60: ='H_Year 5'!AN14 -> 0 | G60: {=LINEST(B60:F60,B52:F52)} -> #VALUE!
B63: Year 1 - Year 5 death rates across race/ethnicity and sex
B64: =A12 -> Year 1 | C64: =A13 -> Year 2 | D64: =A14 -> Year 3 | E64: =A15 -> Year 4 | F64: =A16 -> Year 5 | G64: average annual change in age-adjusted rate per 100,000 over 5 years (not percentage change)
A65: =[1]Populations!I8 -> White-Not Hispanic | B65: ='D_Year 1'!AQ21 -> 0 | C65: ='E_Year 2'!AP21 -> 0 | D65: ='F_Year 3'!AP21 -> 0 | E65: ='G_Year 4'!AP21 -> 0 | F65: ='H_Year 5'!AO21 -> 0 | G65: {=LINEST(B65:F65,B64:F64)} -> #VALUE!
A66: =[1]Populations!K8 -> Hispanic | B66: ='D_Year 1'!AR21 -> 0 | C66: ='E_Year 2'!AQ21 -> 0 | D66: ='F_Year 3'!AQ21 -> 0 | E66: ='G_Year 4'!AQ21 -> 0 | F66: ='H_Year 5'!AP21 -> 0 | G66: {=LINEST(B66:F66,B64:F64)} -> #VALUE!
A67: =[1]Populations!M8 -> Black-Not Hispanic | B67: ='D_Year 1'!AS21 -> 0 | C67: ='E_Year 2'!AR21 -> 0 | D67: ='F_Year 3'!AR21 -> 0 | E67: ='G_Year 4'!AR21 -> 0 | F67: ='H_Year 5'!AQ21 -> 0 | G67: {=LINEST(B67:F67,B64:F64)} -> #VALUE!
A68: =[1]Populations!O8 -> Asian | B68: ='D_Year 1'!AT21 -> 0 | C68: ='E_Year 2'!AS21 -> 0 | D68: ='F_Year 3'!AS21 -> 0 | E68: ='G_Year 4'!AS21 -> 0 | F68: ='H_Year 5'!AR21 -> 0 | G68: {=LINEST(B68:F68,B64:F64)} -> #VALUE!
A69: =[1]Populations!Q8 -> American Indian/Alaska Native | B69: ='D_Year 1'!AU21 -> 0 | C69: ='E_Year 2'!AT21 -> 0 | D69: ='F_Year 3'!AT21 -> 0 | E69: ='G_Year 4'!AT21 -> 0 | F69: ='H_Year 5'!AS21 -> 0 | G69: {=LINEST(B69:F69,B64:F64)} -> #VALUE!
A70: =[1]Populations!S8 -> Other | B70: ='D_Year 1'!AV21 -> 0 | C70: ='E_Year 2'!AU21 -> 0 | D70: ='F_Year 3'!AU21 -> 0 | E70: ='G_Year 4'!AU21 -> 0 | F70: ='H_Year 5'!AT21 -> 0 | G70: {=LINEST(B70:F70,B64:F64)} -> #VALUE!
A71: Male | B71: ='D_Year 1'!AO21 -> 0 | C71: ='E_Year 2'!AN21 -> 0 | D71: ='F_Year 3'!AN21 -> 0 | E71: ='G_Year 4'!AN21 -> 0 | F71: ='H_Year 5'!AM21 -> 0 | G71: {=LINEST(B71:F71,B64:F64)} -> #VALUE!
A72: Female | B72: ='D_Year 1'!AP21 -> 0 | C72: ='E_Year 2'!AO21 -> 0 | D72: ='F_Year 3'!AO21 -> 0 | E72: ='G_Year 4'!AO21 -> 0 | F72: ='H_Year 5'!AN21 -> 0 | G72: {=LINEST(B72:F72,B64:F64)} -> #VALUE!

Sheet N_Report
A1: Current year
A14: Enter data year
A15: Total falls count for data year
A16: State/Territory
A20: Total Deaths count for data year
A21: Total Death rate per 100,000 for data year
A22: Total Hospitalizations count for data year
A23: Total Hospitalizations rate per 100,000 for data year
A24: Total ED Visit count for data year
A25: Total ED Visit rate per 100,000 for data year
A31: Sex with highest death count for data year
A32: Age group with highest Death rate
... A34: Age group with highest ED Visits rate
