Workbook

Sheet A_Instructions
A2: Step 1: Preparing State/Territory Data | F2: Step 2: Entering Data | T2: Step 3: Creating Special Emphasis Report
A5: Name | B5: ICD-10-CM code | C5: ICD-10-CM notes
A6: 1a. Create a Nonfatal Hospital Discharge Data Subset - includes records that have one of the following ICD-10-CM injury diagnosis codes* in the principal diagnosis field
A8: ICD-10-CM injury diagnosis codes* *Only include cases if the 7th character of the code is A, B, C, or missing (reflects initial encounter, active treatment). T30-T32 do not have a 7th character | B8: S00-S99 | C8: Anatomic injuries
B9: T07-T34 | C9: Foreign bodies, burns, corrosions, frostbite
B10: T36-T50 with a 6th character of 1, 2, 3, or 4 | C10: Poisoning by drugs, medicaments, and biological substances (Includes accidental, intentional self-harm, assault, and underdetermined intents; Excludes adverse effects and underdosing Note: Include T36.9, T37.9, T39.9, T41.4, T42.7, T43.9, T45.9, T47.9, and T49.9 with a 5th character of 1, 2, 3, or 4 (Intent information for these codes is included in the 5thcharacter and not the 6th)
B11: T51-T65 | C11: Toxic effects of substances nonmedicinal as to source
B12: T66-T76 | C12: Other and unspecified effects of external causes
B13: T79 | C13: Certain early complications of trauma, not elsewhere classified
B14: O9A.2-O9A.5 | C14: Traumatic injuries and abuse complicating pregnancy, childbirth, and the puerperium
B15: T84.04** | C15: Periprosthetic fracture around internal prosthetic joint * T84.04 was retired and replaced by M97 in the FY2017 version of ICD-10-CM which went into effect on Oct 1, 2016
B16: M97 | C16: Periprosthetic fracture around internal prosthetic joint
A17: 1b. Create a Nonfatal Unintentional Firearm-related Hospitalizations Data Subset - Includes data for nonfatal hospitalizations from the injury hospital discharge subset with any of the following ICD-10-CM external cause-of-injury codes in any field
A20: ICD-10-CM Codes* for Firearm-related Injuries *Only include cases if the 7th character of the code is A or missing (reflects initial encounter, active treatment) | B20: W32, W33, W34.00, W34.09, W34.10, W34.19 | C20: Accidental discharge or malfunction of firearm
B21: X72, X73, X74.8, X74.9 | C21: Intentional self-harm by firearm
B22: X93, X94, X95.8, X95.9 | C22: Assault by firearm
B23: Y38.4 | C23: Terrorism involving firearms
B24: Y22, Y23, Y24.8, Y24.9 | C24: Firearm discharge of undetermined intent
B25: Y35.00-Y35.03, Y35.09 | C25: Legal intervention involving firearm discharge
A26: 2a. Create a Nonfatal Emergency Department (ED) Visit Data Subset - includes records that have one of the following ICD-10-CM diagnosis codes* in any field OR one of the following external cause codes in any field
A27: ICD-10-CM diagnosis codes* *Only include cases if the 7th character of the code is A, B, C, or missing (reflects initial encounter, active treatment). T30–T32 do not have a 7th character. | B27: S00-S99 | C27: Anatomic injuries
B28: T07-T34 | C28: Foreign bodies, burns, corrosions, frostbite
B29: T36-T50 with a 6th character of 1, 2, 3, or 4 | C29: Poisoning by drugs, medicaments, and biological substances (Includes accidental, intentional self-harm, assault, and underdetermined intents; Excludes adverse effects and underdosing) Note: Include T36.9, T37.9, T39.9, T41.4, T42.7, T43.9, T45.9, T47.9, and T49.9 with a 5th character of 1, 2, 3, or 4 (Intent information for these codes is included in the 5thcharacter and not the 6th
B30: T51-T65 | C30: Toxic effects of substances nonmedicinal as to source
B31: T66-T76 | C31: Other and unspecified effects of external causes
B32: T79 | C32: Certain early complications of trauma, not elsewhere classified
B33: O9A.2-O9A.5 | C33: Traumatic injuries and abuse complicating pregnancy, childbirth, and the puerperium
B34: T84.04** | C34: Periprosthetic fracture around internal prosthetic joint **T84.04 was retired and replaced by M97 in the FY2017 version of ICD-10-CM which went into effect on Oct 1, 2016.
B35: M97** | C35: Periprosthetic fracture around internal prosthetic joint **T84.04 was retired and replaced by M97 in the FY2017 version of ICD-10-CM which went into effect on Oct 1, 2016.
A36: External cause codes* *Only include cases if the 7th character of the code is A or missing (reflects initial encounter, active treatment) | B36: V00-V99 | C36: Transport accidents
B37: W00-X58 | C37: Other external causes of accidental injury
B38: X71-X83 | C38: Intentional self-harm
B39: X92-Y09 | C39: Assault
B40: Y21-Y33 | C40: Event of undetermined intent
B41: Y35-Y38 | C41: Legal intervention, operations of war, military operations, and terrorism
A42: 2b. Create a Nonfatal Firearm-related ED Visits Data Subset - Includes data for nonfatal ED visits from the injury ED visit subset with any of the following ICD-10-CM external cause-of-injury codes in any field
A44: ICD-10-CM Codes* for Firearm-related Injuries *Only include cases if the 7th character of the code is A or missing (reflects initial encounter, active treatment) | B44: W32, W33, W34.00, W34.09, W34.10, W34.19 | C44: Accidental discharge or malfunction of firearm
B45: X72, X73, X74.8, X74.9 | C45: Intentional self-harm by firearm
B46: X93, X94, X95.8, X95.9 | C46: Assault by firearm
B47: Y38.4 | C47: Terrorism involving firearms
...

Sheet  B_Populations
A1: Firearm-Specific State Injury Indicators Report
A2: State/Territor Population Data
A3: State/Territory: | D3: Data year:
B4: Enter your state name in A4 | E4: Enter the most recent data year in D4
B7: Enter total population data by year below | D7: Enter male population data by year below | F7: Enter female population data by year below | H7: Enter demographic population data | J7: Enter demographic population data | L7: Enter demographic population data | N7: Enter demographic population data | P7: Enter demographic population data | R7: Enter demographic population data | T7: Enter demographic population data
A8: Year | B8: Total | D8: Male | F8: Female | H8: White-Not Hispanic | J8: Hispanic | L8: Black-Not Hispanic | N8: Asian | P8: American Indian/Alaska Native | R8: Other | S8: Enter name of "Other" category in R8 | T8: Other | U8: Enter name of "Other" category in T8
A9: 2016
A10: 2017
A11: 2018
A12: 2019
A13: 2020
A14: TOTAL | B14: =SUM(B9:B13) -> 0 | D14: =SUM(D9:D13) -> 0 | F14: =SUM(F9:F13) -> 0 | H14: =SUM(H9:H13) -> 0 | J14: =SUM(J9:J13) -> 0 | L14: =SUM(L9:L13) -> 0 | N14: =SUM(N9:N13) -> 0 | P14: =SUM(P9:P13) -> 0 | R14: =SUM(R9:R13) -> 0 | T14: =SUM(T9:T13) -> 0

Sheet C_Health Regions
A1: Firearm-Specific State Injury Indicators Report
A2: Health Districts/Regions - Population Data by Year
A4: Year | B4: Region 1 | D4: Region 2 | F4: Region 3 | H4: Region 4 | J4: Region 5 | L4: Region 6 | N4: Region 7 | P4: Region 8 | R4: Region 9 | T4: Region 10 | V4: Region 11 | X4: Region 12 | Z4: Region 13 | AB4: Region 14 | AD4: Region 15 | AF4: Region 16 | AH4: Region 17 | AJ4: Region 18 | AL4: Region 19 | AN4: Region 20
A5: =' B_Populations'!$A$9 -> 2016
A6: =' B_Populations'!$A$10 -> 2017
A7: =' B_Populations'!$A$11 -> 2018
A8: =' B_Populations'!$A$12 -> 2019
A9: =' B_Populations'!$A$13 -> 2020
A10: TOTAL | B10: =SUM(B5:B9) -> 0 | D10: =SUM(D5:D9) -> 0 | F10: =SUM(F5:F9) -> 0 | H10: =SUM(H5:H9) -> 0 | J10: =SUM(J5:J9) -> 0 | L10: =SUM(L5:L9) -> 0 | N10: =SUM(N5:N9) -> 0 | P10: =SUM(P5:P9) -> 0 | R10: =SUM(R5:R9) -> 0 | T10: =SUM(T5:T9) -> 0 | V10: =SUM(V5:V9) -> 0 | X10: =SUM(X5:X9) -> 0 | Z10: =SUM(Z5:Z9) -> 0 | AB10: =SUM(AB5:AB9) -> 0 | AD10: =SUM(AD5:AD9) -> 0 | AF10: =SUM(AF5:AF9) -> 0 | AH10: =SUM(AH5:AH9) -> 0 | AJ10: =SUM(AJ5:AJ9) -> 0 | AL10: =SUM(AL5:AL9) -> 0 | AN10: =SUM(AN5:AN9) -> 0

Sheet 1_Year 1
A1: =' B_Populations'!A9 -> 2016 | B1: Data Input Tables Instructions: Enter your Firearm-related injury data in the red cells below | M1: Optional: Unhide columns N through Z to enter health region data
D2: Sex Data | F2: Demographic Data | M2: Region Data
B3: Type | C3: Number of hospitalizations- Total | D3: Number of hospitalizations- Male | E3: Number of hospitalizations- Female | F3: =' B_Populations'!$H$8 -> White-Not Hispanic | G3: =' B_Populations'!$J$8 -> Hispanic | H3: =' B_Populations'!$L$8 -> Black-Not Hispanic | I3: =' B_Populations'!$N$8 -> Asian | J3: =' B_Populations'!$P$8 -> American Indian/Alaska Native | K3: =' B_Populations'!$R$8 -> Other | L3: =' B_Populations'!$T$8 -> Other | M3: ='C_Health Regions'!$B$4 -> Region 1 | N3: ='C_Health Regions'!$D$4 -> Region 2 | O3: ='C_Health Regions'!$F$4 -> Region 3 | P3: ='C_Health Regions'!$H$4 -> Region 4 | Q3: ='C_Health Regions'!$J$4 -> Region 5 | R3: ='C_Health Regions'!$L$4 -> Region 6 | S3: ='C_Health Regions'!$N$4 -> Region 7 | T3: ='C_Health Regions'!$P$4 -> Region 8 | U3: ='C_Health Regions'!$R$4 -> Region 9 | V3: ='C_Health Regions'!$T$4 -> Region 10 | W3: ='C_Health Regions'!$V$4 -> Region 11 | X3: ='C_Health Regions'!$X$4 -> Region 12 | Y3: ='C_Health Regions'!$Z$4 -> Region 13 | Z3: ='C_Health Regions'!$AB$4 -> Region 14 | AA3: ='C_Health Regions'!$AD$4 -> Region 15 | AB3: ='C_Health Regions'!$AF$4 -> Region 16 | AC3: ='C_Health Regions'!$AH$4 -> Region 17 | AD3: ='C_Health Regions'!$AJ$4 -> Region 18 | AE3: ='C_Health Regions'!$AL$4 -> Region 19 | AF3: ='C_Health Regions'!$AN$4 -> Region 20 | AH3: State population - Total | AI3: Rate | AJ3: State population - Male | AK3: Rate | AL3: State population - Female | AM3: Rate | AN3: =' B_Populations'!$H$8 -> White-Not Hispanic | AO3: Rate | AP3: =' B_Populations'!$J$8 -> Hispanic | AQ3: Rate | AR3: =' B_Populations'!$L$8 -> Black-Not Hispanic | AS3: Rate | AT3: =' B_Populations'!$N$8 -> Asian | AU3: Rate | AV3: =' B_Populations'!$P$8 -> American Indian/Alaska Native | AW3: Rate | AX3: =' B_Populations'!$R$8 -> Other | AY3: Rate | AZ3: =' B_Populations'!$T$8 -> Other | BA3: Rate | BC3: ='C_Health Regions'!$B$4 -> Region 1 | BD3: Rate | BE3: ='C_Health Regions'!$D$4 -> Region 2 | BF3: Rate | BG3: ='C_Health Regions'!$F$4 -> Region 3 | BH3: Rate | BI3: ='C_Health Regions'!$H$4 -> Region 4 | BJ3: Rate | BK3: ='C_Health Regions'!$J$4 -> Region 5 | BL3: Rate | BM3: ='C_Health Regions'!$L$4 -> Region 6 | BN3: Rate | BO3: ='C_Health Regions'!$N$4 -> Region 7 | BP3: Rate | BQ3: ='C_Health Regions'!$P$4 -> Region 8 | BR3: Rate | BS3: ='C_Health Regions'!$R$4 -> Region 9 | BT3: Rate | BU3: ='C_Health Regions'!$T$4 -> Region 10 | BV3: Rate | BW3: ='C_Health Regions'!$V$4 -> Region 11 | BX3: Rate | BY3: ='C_Health Regions'!$X$4 -> Region 12 | BZ3: Rate | CA3: ='C_Health Regions'!$Z$4 -> Region 13 | CB3: Rate | CC3: ='C_Health Regions'!$AB$4 -> Region 14 | CD3: Rate | CE3: ='C_Health Regions'!$AD$4 -> Region 15 | CF3: Rate | CG3: ='C_Health Regions'!$AF$4 -> Region 16 | CH3: Rate | CI3: ='C_Health Regions'!$AH$4 -> Region 17 | CJ3: Rate | CK3: ='C_Health Regions'!$AJ$4 -> Region 18 | CL3: Rate | CM3: ='C_Health Regions'!$AL$4 -> Region 19 | CN3: Rate | CO3: ='C_Health Regions'!$AN$4 -> Region 20 | CP3: Rate
B4: Intentional | AH4: =' B_Populations'!B9 -> 0 | AI4: =IF(AH4=0,0,($C$4/$AH$4)*100000) -> 0 | AJ4: =' B_Populations'!D9 -> 0 | AK4: =IF(AJ4=0,0,($D$4/$AJ$4)*100000) -> 0 | AL4: =' B_Populations'!F9 -> 0 | AM4: =IF(AL4=0,0,($E$4/$AL$4)*100000) -> 0 | AN4: =' B_Populations'!H9 -> 0 | AO4: =IF(AN4=0,0,($F$4/$AN$4)*100000) -> 0 | AP4: =' B_Populations'!J9 -> 0 | AQ4: =IF(AP4=0,0,($G$4/$AP$4)*100000) -> 0 | AR4: =' B_Populations'!L9 -> 0 | AS4: =IF(AR4=0,0,($H$4/$AR$4)*100000) -> 0 | AT4: =' B_Populations'!N9 -> 0 | AU4: =IF(AT4=0,0,($I$4/$AT$4)*100000) -> 0 | AV4: =' B_Populations'!P9 -> 0 | AW4: =IF(AV4=0,0,($J$4/$AV$4)*100000) -> 0 | AX4: =' B_Populations'!R9 -> 0 | AY4: =IF(AX4=0,0,($K$4/$AX$4)*100000) -> 0 | AZ4: =' B_Populations'!T9 -> 0 | BA4: =IF(AZ4=0,0,($L$4/$AZ$4)*100000) -> 0 | BC4: ='C_Health Regions'!B5 -> 0 | BD4: =IF(BC4=0,0,($M$4/$BC$4)*100000) -> 0 | BE4: ='C_Health Regions'!D6 -> 0 | BF4: =IF(BE4=0,0,($N$4/$BE$4)*100000) -> 0 | BG4: ='C_Health Regions'!F5 -> 0 | BH4: =IF(BG4=0,0,($O$4/$BG$4)*100000) -> 0 | BI4: ='C_Health Regions'!H5 -> 0 | BJ4: =IF(BI4=0,0,($P$4/$BI$4)*100000) -> 0 | BK4: ='C_Health Regions'!J5 -> 0 | BL4: =IF(BK4=0,0,($Q$4/$BK$4)*100000) -> 0 | BM4: ='C_Health Regions'!L5 -> 0 | BN4: =IF(BM4=0,0,($R$4/$BM$4)*100000) -> 0 | BO4: ='C_Health Regions'!N5 -> 0 | BP4: =IF(BO4=0,0,($S$4/$BO$4)*100000) -> 0 | BQ4: ='C_Health Regions'!P5 -> 0 | BR4: =IF(BQ4=0,0,($T$4/$BQ$4)*100000) -> 0 | BS4: ='C_Health Regions'!R5 -> 0 | BT4: =IF(BS4=0,0,($U$4/$BS$4)*100000) -> 0 | BU4: ='C_Health Regions'!T5 -> 0 | BV4: =IF(BU4=0,0,($V$4/$BU$4)*100000) -> 0 | BW4: ='C_Health Regions'!V5 -> 0 | BX4: =IF(BW4=0,0,($W$4/$BW$4)*100000) -> 0 | BY4: ='C_Health Regions'!X5 -> 0 | BZ4: =IF(BY4=0,0,($X$4/$BY$4)*100000) -> 0 | CA4: ='C_Health Regions'!Z5 -> 0 | CB4: =IF(CA4=0,0,($Y$4/$CA$4)*100000) -> 0 | CC4: ='C_Health Regions'!AB5 -> 0 | CD4: =IF(CC4=0,0,($Z$4/$CC$4)*100000) -> 0 | CE4: ='C_Health Regions'!AD5 -> 0 | CF4: =IF(CE4=0,0,($AA$4/$CE$4)*100000) -> 0 | CG4: ='C_Health Regions'!AF5 -> 0 | CH4: =IF(CG4=0,0,($AB$4/$CG$4)*100000) -> 0 | CI4: ='C_Health Regions'!AH5 -> 0 | CJ4: =IF(CI4=0,0,($AC$4/$CI$4)*100000) -> 0 | CK4: ='C_Health Regions'!AJ5 -> 0 | CL4: =IF(CK4=0,0,($AD$4/$CK$4)*100000) -> 0 | CM4: ='C_Health Regions'!AL5 -> 0 | CN4: =IF(CM4=0,0,($AE$4/$CM$4)*100000) -> 0 | CO4: ='C_Health Regions'!AN5 -> 0 | CP4: =IF(CO4=0,0,($AF$4/$CO$4)*100000) -> 0
B5: Unintentional | AH5: =' B_Populations'!B9 -> 0 | AI5: =IF(AH5=0,0,($C$5/$AH$5)*100000) -> 0 | AJ5: =' B_Populations'!D9 -> 0 | AK5: =IF(AJ5=0,0,($D$5/$AJ$5)*100000) -> 0 | AL5: =' B_Populations'!F9 -> 0 | AM5: =IF(AL5=0,0,($E$5/$AL$5)*100000) -> 0 | AN5: =' B_Populations'!H9 -> 0 | AO5: =IF(AN5=0,0,($F$5/$AN$5)*100000) -> 0 | AP5: =' B_Populations'!J9 -> 0 | AQ5: =IF(AP5=0,0,($G$5/$AP$5)*100000) -> 0 | AR5: =' B_Populations'!L9 -> 0 | AS5: =IF(AR5=0,0,($G$5/$AR$5)*100000) -> 0 | AT5: =' B_Populations'!N9 -> 0 | AU5: =IF(AT5=0,0,($I$5/$AT$5)*100000) -> 0 | AV5: =' B_Populations'!P9 -> 0 | AW5: =IF(AV5=0,0,($J$5/$AV$5)*100000) -> 0 | AX5: =' B_Populations'!R9 -> 0 | AY5: =IF(AX5=0,0,($K$5/$AX$5)*100000) -> 0 | AZ5: =' B_Populations'!T9 -> 0 | BA5: =IF(AZ5=0,0,($L$5/$AZ$5)*100000) -> 0 | BC5: ='C_Health Regions'!B5 -> 0 | BD5: =IF(BC5=0,0,($M$5/$BC$5)*100000) -> 0 | BE5: ='C_Health Regions'!D6 -> 0 | BF5: =IF(BE5=0,0,($N$5/$BE$5)*100000) -> 0 | BG5: ='C_Health Regions'!F5 -> 0 | BH5: =IF(BG5=0,0,($O$5/$BG$5)*100000) -> 0 | BI5: ='C_Health Regions'!H5 -> 0 | BJ5: =IF(BI5=0,0,($P$5/$BI$5)*100000) -> 0 | BK5: ='C_Health Regions'!J5 -> 0 | BL5: =IF(BK5=0,0,($Q$5/$BK$5)*100000) -> 0 | BM5: ='C_Health Regions'!L5 -> 0 | BN5: =IF(BM5=0,0,($R$5/$BM$5)*100000) -> 0 | BO5: ='C_Health Regions'!N5 -> 0 | BP5: =IF(BO5=0,0,($S$5/$BO$5)*100000) -> 0 | BQ5: ='C_Health Regions'!P5 -> 0 | BR5: =IF(BQ5=0,0,($T$5/$BQ$5)*100000) -> 0 | BS5: ='C_Health Regions'!R5 -> 0 | BT5: =IF(BS5=0,0,($U$5/$BS$5)*100000) -> 0 | BU5: ='C_Health Regions'!T5 -> 0 | BV5: =IF(BU5=0,0,($V$5/$BU$5)*100000) -> 0 | BW5: ='C_Health Regions'!V5 -> 0 | BX5: =IF(BW5=0,0,($W$5/$BW$5)*100000) -> 0 | BY5: ='C_Health Regions'!X5 -> 0 | BZ5: =IF(BY5=0,0,($X$5/$BY$5)*100000) -> 0 | CA5: ='C_Health Regions'!Z5 -> 0 | CB5: =IF(CA5=0,0,($Y$5/$CA$5)*100000) -> 0 | CC5: ='C_Health Regions'!AB5 -> 0 | CD5: =IF(CC5=0,0,($Z$5/$CC$5)*100000) -> 0 | CE5: ='C_Health Regions'!AD5 -> 0 | CF5: =IF(CE5=0,0,($AA$5/$CE$5)*100000) -> 0 | CG5: ='C_Health Regions'!AF5 -> 0 | CH5: =IF(CG5=0,0,($AB$4/$CG$5)*100000) -> 0 | CI5: ='C_Health Regions'!AH5 -> 0 | CJ5: =IF(CI5=0,0,($AC$4/$CI$5)*100000) -> 0 | CK5: ='C_Health Regions'!AJ5 -> 0 | CL5: =IF(CK5=0,0,($AD$4/$CK$5)*100000) -> 0 | CM5: ='C_Health Regions'!AL5 -> 0 | CN5: =IF(CM5=0,0,($AE$4/$CM$5)*100000) -> 0 | CO5: ='C_Health Regions'!AN5 -> 0 | CP5: =IF(CO5=0,0,($AF$4/$CO$5)*100000) -> 0
B6: Interpersonal Violence | AH6: =' B_Populations'!B9 -> 0 | AI6: =IF(AH6=0,0,($C$6/$AH$6)*100000) -> 0 | AJ6: =' B_Populations'!D9 -> 0 | AK6: =IF(AJ6=0,0,($D$6/$AJ$6)*100000) -> 0 | AL6: =' B_Populations'!F9 -> 0 | AM6: =IF(AL6=0,0,($E$6/$AL$6)*100000) -> 0 | AN6: =' B_Populations'!H9 -> 0 | AO6: =IF(AN6=0,0,($F$6/$AN$6)*100000) -> 0 | AP6: =' B_Populations'!J9 -> 0 | AQ6: =IF(AP6=0,0,($G$6/$AP$6)*100000) -> 0 | AR6: =' B_Populations'!L9 -> 0 | AS6: =IF(AR6=0,0,($G$6/$AR$6)*100000) -> 0 | AT6: =' B_Populations'!N9 -> 0 | AU6: =IF(AT6=0,0,($I$6/$AT$6)*100000) -> 0 | AV6: =' B_Populations'!P9 -> 0 | AW6: =IF(AV6=0,0,($J$6/$AV$6)*100000) -> 0 | AX6: =' B_Populations'!R9 -> 0 | AY6: =IF(AX6=0,0,($K$6/$AX$6)*100000) -> 0 | AZ6: =' B_Populations'!T9 -> 0 | BA6: =IF(AZ6=0,0,($L$6/$AZ$6)*100000) -> 0 | BC6: ='C_Health Regions'!B5 -> 0 | BD6: =IF(BC6=0,0,($M$6/$BC$6)*100000) -> 0 | BE6: ='C_Health Regions'!D6 -> 0 | BF6: =IF(BE6=0,0,($N$6/$BE$6)*100000) -> 0 | BG6: ='C_Health Regions'!F5 -> 0 | BH6: =IF(BG6=0,0,($O$6/$BG$6)*100000) -> 0 | BI6: ='C_Health Regions'!H5 -> 0 | BJ6: =IF(BI6=0,0,($P$6/$BI$6)*100000) -> 0 | BK6: ='C_Health Regions'!J5 -> 0 | BL6: =IF(BK6=0,0,($Q$6/$BK$6)*100000) -> 0 | BM6: ='C_Health Regions'!L5 -> 0 | BN6: =IF(BM6=0,0,($R$6/$BM$6)*100000) -> 0 | BO6: ='C_Health Regions'!N5 -> 0 | BP6: =IF(BO6=0,0,($S$6/$BO$6)*100000) -> 0 | BQ6: ='C_Health Regions'!P5 -> 0 | BR6: =IF(BQ6=0,0,($T$6/$BQ$6)*100000) -> 0 | BS6: ='C_Health Regions'!R5 -> 0 | BT6: =IF(BS6=0,0,($U$6/$BS$6)*100000) -> 0 | BU6: ='C_Health Regions'!T5 -> 0 | BV6: =IF(BU6=0,0,($V$6/$BU$6)*100000) -> 0 | BW6: ='C_Health Regions'!V5 -> 0 | BX6: =IF(BW6=0,0,($W$6/$BW$6)*100000) -> 0 | BY6: ='C_Health Regions'!X5 -> 0 | BZ6: =IF(BY6=0,0,($X$6/$BY$6)*100000) -> 0 | CA6: ='C_Health Regions'!Z5 -> 0 | CB6: =IF(CA6=0,0,($Y$6/$CA$6)*100000) -> 0 | CC6: ='C_Health Regions'!AB5 -> 0 | CD6: =IF(CC6=0,0,($Z$6/$CC$6)*100000) -> 0 | CE6: ='C_Health Regions'!AD5 -> 0 | CF6: =IF(CE6=0,0,($AA$6/$CE$6)*100000) -> 0 | CG6: ='C_Health Regions'!AF5 -> 0 | CH6: =IF(CG6=0,0,($AB$4/$CG$6)*100000) -> 0 | CI6: ='C_Health Regions'!AH5 -> 0 | CJ6: =IF(CI6=0,0,($AC$4/$CI$6)*100000) -> 0 | CK6: ='C_Health Regions'!AJ5 -> 0 | CL6: =IF(CK6=0,0,($AD$4/$CK$6)*100000) -> 0 | CM6: ='C_Health Regions'!AL5 -> 0 | CN6: =IF(CM6=0,0,($AE$4/$CM$6)*100000) -> 0 | CO6: ='C_Health Regions'!AN5 -> 0 | CP6: =IF(CO6=0,0,($AF$4/$CO$6)*100000) -> 0
B7: Legal Intervention | AH7: =' B_Populations'!B9 -> 0 | AI7: =IF(AH7=0,0,($C$7/$AH$7)*100000) -> 0 | AJ7: =' B_Populations'!D9 -> 0 | AK7: =IF(AJ7=0,0,($D$7/$AJ$7)*100000) -> 0 | AL7: =' B_Populations'!F9 -> 0 | AM7: =IF(AL7=0,0,($E$7/$AL$7)*100000) -> 0 | AN7: =' B_Populations'!H9 -> 0 | AO7: =IF(AN7=0,0,($F$7/$AN$7)*100000) -> 0 | AP7: =' B_Populations'!J9 -> 0 | AQ7: =IF(AP7=0,0,($G$7/$AP$7)*100000) -> 0 | AR7: =' B_Populations'!L9 -> 0 | AS7: =IF(AR7=0,0,($G$7/$AR$7)*100000) -> 0 | AT7: =' B_Populations'!N9 -> 0 | AU7: =IF(AT7=0,0,($I$7/$AT$7)*100000) -> 0 | AV7: =' B_Populations'!P9 -> 0 | AW7: =IF(AV7=0,0,($J$7/$AV$7)*100000) -> 0 | AX7: =' B_Populations'!R9 -> 0 | AY7: =IF(AX7=0,0,($K$7/$AX$7)*100000) -> 0 | AZ7: =' B_Populations'!T9 -> 0 | BA7: =IF(AZ7=0,0,($L$7/$AZ$7)*100000) -> 0 | BC7: ='C_Health Regions'!B5 -> 0 | BD7: =IF(BC7=0,0,($M$7/$BC$7)*100000) -> 0 | BE7: ='C_Health Regions'!D6 -> 0 | BF7: =IF(BE7=0,0,($N$7/$BE$7)*100000) -> 0 | BG7: ='C_Health Regions'!F5 -> 0 | BH7: =IF(BG7=0,0,($O$7/$BG$7)*100000) -> 0 | BI7: ='C_Health Regions'!H5 -> 0 | BJ7: =IF(BI7=0,0,($P$7/$BI$7)*100000) -> 0 | BK7: ='C_Health Regions'!J5 -> 0 | BL7: =IF(BK7=0,0,($Q$7/$BK$7)*100000) -> 0 | BM7: ='C_Health Regions'!L5 -> 0 | BN7: =IF(BM7=0,0,($R$7/$BM$7)*100000) -> 0 | BO7: ='C_Health Regions'!N5 -> 0 | BP7: =IF(BO7=0,0,($S$7/$BO$7)*100000) -> 0 | BQ7: ='C_Health Regions'!P5 -> 0 | BR7: =IF(BQ7=0,0,($T$7/$BQ$7)*100000) -> 0 | BS7: ='C_Health Regions'!R5 -> 0 | BT7: =IF(BS7=0,0,($U$7/$BS$7)*100000) -> 0 | BU7: ='C_Health Regions'!T5 -> 0 | BV7: =IF(BU7=0,0,($V$7/$BU$7)*100000) -> 0 | BW7: ='C_Health Regions'!V5 -> 0 | BX7: =IF(BW7=0,0,($W$7/$BW$7)*100000) -> 0 | BY7: ='C_Health Regions'!X5 -> 0 | BZ7: =IF(BY7=0,0,($X$7/$BY$7)*100000) -> 0 | CA7: ='C_Health Regions'!Z5 -> 0 | CB7: =IF(CA7=0,0,($Y$7/$CA$7)*100000) -> 0 | CC7: ='C_Health Regions'!AB5 -> 0 | CD7: =IF(CC7=0,0,($Z$7/$CC$7)*100000) -> 0 | CE7: ='C_Health Regions'!AD5 -> 0 | CF7: =IF(CE7=0,0,($AA$7/$CE$7)*100000) -> 0 | CG7: ='C_Health Regions'!AF5 -> 0 | CH7: =IF(CG7=0,0,($AB$4/$CG$7)*100000) -> 0 | CI7: ='C_Health Regions'!AH5 -> 0 | CJ7: =IF(CI7=0,0,($AC$4/$CI$7)*100000) -> 0 | CK7: ='C_Health Regions'!AJ5 -> 0 | CL7: =IF(CK7=0,0,($AD$4/$CK$7)*100000) -> 0 | CM7: ='C_Health Regions'!AL5 -> 0 | CN7: =IF(CM7=0,0,($AE$4/$CM$7)*100000) -> 0 | CO7: ='C_Health Regions'!AN5 -> 0 | CP7: =IF(CO7=0,0,($AF$4/$CO$7)*100000) -> 0
B8: Undetermined | AH8: =' B_Populations'!B9 -> 0 | AI8: =IF(AH8=0,0,($C$8/$AH$8)*100000) -> 0 | AJ8: =' B_Populations'!D9 -> 0 | AK8: =IF(AJ8=0,0,($D$8/$AJ$8)*100000) -> 0 | AL8: =' B_Populations'!F9 -> 0 | AM8: =IF(AL8=0,0,($E$8/$AL$8)*100000) -> 0 | AN8: =' B_Populations'!H9 -> 0 | AO8: =IF(AN8=0,0,($F$8/$AN$8)*100000) -> 0 | AP8: =' B_Populations'!J9 -> 0 | AQ8: =IF(AP8=0,0,($G$8/$AP$8)*100000) -> 0 | AR8: =' B_Populations'!L9 -> 0 | AS8: =IF(AR8=0,0,($G$8/$AR$8)*100000) -> 0 | AT8: =' B_Populations'!N9 -> 0 | AU8: =IF(AT8=0,0,($I$8/$AT$8)*100000) -> 0 | AV8: =' B_Populations'!P9 -> 0 | AW8: =IF(AV8=0,0,($J$8/$AV$8)*100000) -> 0 | AX8: =' B_Populations'!R9 -> 0 | AY8: =IF(AX8=0,0,($K$8/$AX$8)*100000) -> 0 | AZ8: =' B_Populations'!T9 -> 0 | BA8: =IF(AZ8=0,0,($L$8/$AZ$8)*100000) -> 0 | BC8: ='C_Health Regions'!B5 -> 0 | BD8: =IF(BC8=0,0,($M$8/$BC$8)*100000) -> 0 | BE8: ='C_Health Regions'!D6 -> 0 | BF8: =IF(BE8=0,0,($N$8/$BE$8)*100000) -> 0 | BG8: ='C_Health Regions'!F5 -> 0 | BH8: =IF(BG8=0,0,($O$8/$BG$8)*100000) -> 0 | BI8: ='C_Health Regions'!H5 -> 0 | BJ8: =IF(BI8=0,0,($P$8/$BI$8)*100000) -> 0 | BK8: ='C_Health Regions'!J5 -> 0 | BL8: =IF(BK8=0,0,($Q$8/$BK$8)*100000) -> 0 | BM8: ='C_Health Regions'!L5 -> 0 | BN8: =IF(BM8=0,0,($R$8/$BM$8)*100000) -> 0 | BO8: ='C_Health Regions'!N5 -> 0 | BP8: =IF(BO8=0,0,($S$8/$BO$8)*100000) -> 0 | BQ8: ='C_Health Regions'!P5 -> 0 | BR8: =IF(BQ8=0,0,($T$8/$BQ$8)*100000) -> 0 | BS8: ='C_Health Regions'!R5 -> 0 | BT8: =IF(BS8=0,0,($U$8/$BC$8)*100000) -> 0 | BU8: ='C_Health Regions'!T5 -> 0 | BV8: =IF(BU8=0,0,($V$8/$BU$8)*100000) -> 0 | BW8: ='C_Health Regions'!V5 -> 0 | BX8: =IF(BW8=0,0,($W$8/$BW$8)*100000) -> 0 | BY8: ='C_Health Regions'!X5 -> 0 | BZ8: =IF(BY8=0,0,($X$8/$BY$8)*100000) -> 0 | CA8: ='C_Health Regions'!Z5 -> 0 | CB8: =IF(CA8=0,0,($Y$8/$CA$8)*100000) -> 0 | CC8: ='C_Health Regions'!AB5 -> 0 | CD8: =IF(CC8=0,0,($Z$8/$CC$8)*100000) -> 0 | CE8: ='C_Health Regions'!AD5 -> 0 | CF8: =IF(CE8=0,0,($AA$8/$CE$8)*100000) -> 0 | CG8: ='C_Health Regions'!AF5 -> 0 | CH8: =IF(CG8=0,0,($AB$4/$CG$8)*100000) -> 0 | CI8: ='C_Health Regions'!AH5 -> 0 | CJ8: =IF(CI8=0,0,($AC$4/$CI$8)*100000) -> 0 | CK8: ='C_Health Regions'!AJ5 -> 0 | CL8: =IF(CK8=0,0,($AD$4/$CK$8)*100000) -> 0 | CM8: ='C_Health Regions'!AL5 -> 0 | CN8: =IF(CM8=0,0,($AE$4/$CM$8)*100000) -> 0 | CO8: ='C_Health Regions'!AN5 -> 0 | CP8: =IF(CO8=0,0,($AF$4/$CO$8)*100000) -> 0
B9: total | C9: =SUM(C4:C8) -> 0 | D9: =SUM(D4:D8) -> 0 | E9: =SUM(E4:E8) -> 0 | F9: =SUM(F4:F8) -> 0 | G9: =SUM(G4:G8) -> 0 | H9: =SUM(H4:H8) -> 0 | I9: =SUM(I4:I8) -> 0 | J9: =SUM(J4:J8) -> 0 | ... AF9: =SUM(AF4:AF8) -> 0 | AH9: =SUM(AH4:AH8) -> 0 | AI9: =SUM(AI4:AI8) -> 0 | AJ9: =SUM(AJ4:AJ8) -> 0 | AK9: =SUM(AK4:AK8) -> 0 | AL9: =SUM(AL4:AL8) -> 0 | AM9: =SUM(AM4:AM8) -> 0 | AN9: =SUM(AN4:AN8) -> 0 | AO9: =SUM(AO4:AO8) -> 0 | ... BA9: =SUM(BA4:BA8) -> 0 | BC9: =SUM(BC4:BC8) -> 0 | BD9: =SUM(BD4:BD8) -> 0 | BE9: =SUM(BE4:BE8) -> 0 | BF9: =SUM(BF4:BF8) -> 0 | BG9: =SUM(BG4:BG8) -> 0 | BH9: =SUM(BH4:BH8) -> 0 | BI9: =SUM(BI4:BI8) -> 0 | BJ9: =SUM(BJ4:BJ8) -> 0 | ... CD9: =SUM(CD4:CD8) -> 0 | CE9: ='C_Health Regions'!AD10 -> 0 | CF9: =IF(CE9=0,0,($AA$9/$CE$9)*100000) -> 0 | CG9: ='C_Health Regions'!AF10 -> 0 | CH9: =IF(CG9=0,0,($AB$4/$CG$9)*100000) -> 0 | CI9: ='C_Health Regions'!AH10 -> 0 | CJ9: =IF(CI9=0,0,($AC$4/$CI$9)*100000) -> 0 | CK9: ='C_Health Regions'!AJ59 -> 0 | CL9: =IF(CK9=0,0,($AD$4/$CK$9)*100000) -> 0 | CM9: ='C_Health Regions'!AL59 -> 0 | CN9: =IF(CM9=0,0,($AE$4/$CM$9)*100000) -> 0 | CO9: ='C_Health Regions'!AN10 -> 0 | CP9: =IF(CO9=0,0,($AF$4/$CO$9)*100000) -> 0
D11: Sex Data | F11: Demographic Data | M11: Region Data
B12: Year | C12: Number of ED visits- Total | D12: Number of ED visits- Male | E12: Number of ED visits- Female | F12: =' B_Populations'!$H$8 -> White-Not Hispanic | G12: =' B_Populations'!$J$8 -> Hispanic | H12: =' B_Populations'!$L$8 -> Black-Not Hispanic | I12: =' B_Populations'!$N$8 -> Asian | J12: =' B_Populations'!$P$8 -> American Indian/Alaska Native | K12: =' B_Populations'!$R$8 -> Other | L12: =' B_Populations'!$T$8 -> Other | M12: ='C_Health Regions'!$B$4 -> Region 1 | N12: ='C_Health Regions'!$D$4 -> Region 2 | O12: ='C_Health Regions'!$F$4 -> Region 3 | P12: ='C_Health Regions'!$H$4 -> Region 4 | Q12: ='C_Health Regions'!$J$4 -> Region 5 | R12: ='C_Health Regions'!$L$4 -> Region 6 | S12: ='C_Health Regions'!$N$4 -> Region 7 | T12: ='C_Health Regions'!$P$4 -> Region 8 | U12: ='C_Health Regions'!$R$4 -> Region 9 | V12: ='C_Health Regions'!$T$4 -> Region 10 | W12: ='C_Health Regions'!$V$4 -> Region 11 | X12: ='C_Health Regions'!$X$4 -> Region 12 | Y12: ='C_Health Regions'!$Z$4 -> Region 13 | Z12: ='C_Health Regions'!$AB$4 -> Region 14 | AA12: ='C_Health Regions'!$AD$4 -> Region 15 | AB12: ='C_Health Regions'!$AF$4 -> Region 16 | AC12: ='C_Health Regions'!$AH$4 -> Region 17 | AD12: ='C_Health Regions'!$AJ$4 -> Region 18 | AE12: ='C_Health Regions'!$AL$4 -> Region 19 | AF12: ='C_Health Regions'!$AN$4 -> Region 20 | AH12: State population - Total | AI12: Rate | AJ12: State population - Male | AK12: Rate | AL12: State population - Female | AM12: Rate | AN12: =' B_Populations'!$H$8 -> White-Not Hispanic | AO12: Rate | AP12: =' B_Populations'!$J$8 -> Hispanic | AQ12: Rate | AR12: =' B_Populations'!$L$8 -> Black-Not Hispanic | AS12: Rate | AT12: =' B_Populations'!$N$8 -> Asian | AU12: Rate | AV12: =' B_Populations'!$P$8 -> American Indian/Alaska Native | AW12: Rate | AX12: =' B_Populations'!$R$8 -> Other | AY12: Rate | AZ12: =' B_Populations'!$T$8 -> Other | BA12: Rate | BC12: ='C_Health Regions'!$B$4 -> Region 1 | BD12: Rate | BE12: ='C_Health Regions'!$D$4 -> Region 2 | BF12: Rate | BG12: ='C_Health Regions'!$F$4 -> Region 3 | BH12: Rate | BI12: ='C_Health Regions'!$H$4 -> Region 4 | BJ12: Rate | BK12: ='C_Health Regions'!$J$4 -> Region 5 | BL12: Rate | BM12: ='C_Health Regions'!$L$4 -> Region 6 | BN12: Rate | BO12: ='C_Health Regions'!$N$4 -> Region 7 | BP12: Rate | BQ12: ='C_Health Regions'!$P$4 -> Region 8 | BR12: Rate | BS12: ='C_Health Regions'!$R$4 -> Region 9 | BT12: Rate | BU12: ='C_Health Regions'!$T$4 -> Region 10 | BV12: Rate | BW12: ='C_Health Regions'!$V$4 -> Region 11 | BX12: Rate | BY12: ='C_Health Regions'!$X$4 -> Region 12 | BZ12: Rate | CA12: ='C_Health Regions'!$Z$4 -> Region 13 | CB12: Rate | CC12: ='C_Health Regions'!$AB$4 -> Region 14 | CD12: Rate | CE12: ='C_Health Regions'!$AD$4 -> Region 15 | CF12: Rate | CG12: ='C_Health Regions'!$AF$4 -> Region 16 | CH12: Rate | CI12: ='C_Health Regions'!$AH$4 -> Region 17 | CJ12: Rate | CK12: ='C_Health Regions'!$AJ$4 -> Region 18 | CL12: Rate | CM12: ='C_Health Regions'!$AL$4 -> Region 19 | CN12: Rate | CO12: ='C_Health Regions'!$AN$4 -> Region 20 | CP12: Rate
B13: Intentional | AH13: =' B_Populations'!B9 -> 0 | AI13: =IF(AH13=0,0,($C$13/$AH$13)*100000) -> 0 | AJ13: =' B_Populations'!D9 -> 0 | AK13: =IF(AJ13=0,0,($D$13/$AJ$13)*100000) -> 0 | AL13: =' B_Populations'!F9 -> 0 | AM13: =IF(AL13=0,0,($E$13/$AL$13)*100000) -> 0 | AN13: =' B_Populations'!H9 -> 0 | AO13: =IF(AN13=0,0,($F$13/$AN$13)*100000) -> 0 | AP13: =' B_Populations'!J9 -> 0 | AQ13: =IF(AP13=0,0,($G$13/$AP$13)*100000) -> 0 | AR13: =' B_Populations'!L9 -> 0 | AS13: =IF(AR13=0,0,($H$13/$AR$13)*100000) -> 0 | AT13: =' B_Populations'!N9 -> 0 | AU13: =IF(AT13=0,0,($I$13/$AT$13)*100000) -> 0 | AV13: =' B_Populations'!P9 -> 0 | AW13: =IF(AV13=0,0,($J$13/$AV$13)*100000) -> 0 | AX13: =' B_Populations'!R9 -> 0 | AY13: =IF(AX13=0,0,($K$13/$AX$13)*100000) -> 0 | AZ13: =' B_Populations'!T9 -> 0 | BA13: =IF(AZ13=0,0,($L$13/$AZ$13)*100000) -> 0 | BC13: ='C_Health Regions'!B5 -> 0 | BD13: =IF(BC13=0,0,($M$13/$BC$13)*100000) -> 0 | BE13: ='C_Health Regions'!D6 -> 0 | BF13: =IF(BE13=0,0,($N$13/$BE$13)*100000) -> 0 | BG13: ='C_Health Regions'!F5 -> 0 | BH13: =IF(BG13=0,0,($O$13/$BG$13)*100000) -> 0 | BI13: ='C_Health Regions'!H5 -> 0 | BJ13: =IF(BI13=0,0,($P$13/$BI$13)*100000) -> 0 | BK13: ='C_Health Regions'!J5 -> 0 | BL13: =IF(BK13=0,0,($Q$13/$BK$13)*100000) -> 0 | BM13: ='C_Health Regions'!L5 -> 0 | BN13: =IF(BM13=0,0,($R$13/$BM$13)*100000) -> 0 | BO13: ='C_Health Regions'!N5 -> 0 | BP13: =IF(BO13=0,0,($S$13/$BO$13)*100000) -> 0 | BQ13: ='C_Health Regions'!P5 -> 0 | BR13: =IF(BQ13=0,0,($T$13/$BQ$13)*100000) -> 0 | BS13: ='C_Health Regions'!R5 -> 0 | BT13: =IF(BS13=0,0,($U$13/$BS$13)*100000) -> 0 | BU13: ='C_Health Regions'!T5 -> 0 | BV13: =IF(BU13=0,0,($V$13/$BU13)*100000) -> 0 | BW13: ='C_Health Regions'!V5 -> 0 | BX13: =IF(BW13=0,0,($W$13/$BW$13)*100000) -> 0 | BY13: ='C_Health Regions'!X5 -> 0 | BZ13: =IF(BY13=0,0,($X$13/$BY$13)*100000) -> 0 | CA13: ='C_Health Regions'!Z5 -> 0 | CB13: =IF(CA13=0,0,($Y$13/$CA$13)*100000) -> 0 | CC13: ='C_Health Regions'!AB5 -> 0 | CD13: =IF(CC13=0,0,($Z$13/$CC$13)*100000) -> 0 | CE13: ='C_Health Regions'!AD5 -> 0 | CF13: =IF(CE13=0,0,($AA$13/$CE$13)*100000) -> 0 | CG13: ='C_Health Regions'!AF5 -> 0 | CH13: =IF(CG13=0,0,($AB$13/$CG$13)*100000) -> 0 | CI13: ='C_Health Regions'!AH5 -> 0 | CJ13: =IF(CI13=0,0,($AC$4/$CI$4)*100000) -> 0 | CK13: ='C_Health Regions'!AJ5 -> 0 | CL13: =IF(CK13=0,0,($AD$4/$CK$4)*100000) -> 0 | CM13: ='C_Health Regions'!AL5 -> 0 | CN13: =IF(CM13=0,0,($AE$4/$CM$4)*100000) -> 0 | CO13: ='C_Health Regions'!AN5 -> 0 | CP13: =IF(CO13=0,0,($AF$4/$CO$4)*100000) -> 0
B14: Unintentional | AH14: =' B_Populations'!B9 -> 0 | AI14: =IF(AH14=0,0,($C$14/$AH$14)*100000) -> 0 | AJ14: =' B_Populations'!D9 -> 0 | AK14: =IF(AJ14=0,0,($D$14/$AJ$14)*100000) -> 0 | AL14: =' B_Populations'!F9 -> 0 | AM14: =IF(AL14=0,0,($E$14/$AL$14)*100000) -> 0 | AN14: =' B_Populations'!H9 -> 0 | AO14: =IF(AN14=0,0,($F$14/$AN$14)*100000) -> 0 | AP14: =' B_Populations'!J9 -> 0 | AQ14: =IF(AP14=0,0,($G$14/$AP$14)*100000) -> 0 | AR14: =' B_Populations'!L9 -> 0 | AS14: =IF(AR14=0,0,($H$14/$AR$14)*100000) -> 0 | AT14: =' B_Populations'!N9 -> 0 | AU14: =IF(AT14=0,0,($I$14/$AT$14)*100000) -> 0 | AV14: =' B_Populations'!P9 -> 0 | AW14: =IF(AV14=0,0,($J$14/$AV$14)*100000) -> 0 | AX14: =' B_Populations'!R9 -> 0 | AY14: =IF(AX14=0,0,($K$14/$AX$14)*100000) -> 0 | AZ14: =' B_Populations'!T9 -> 0 | BA14: =IF(AZ14=0,0,($L$14/$AZ$14)*100000) -> 0 | BC14: ='C_Health Regions'!B5 -> 0 | BD14: =IF(BC14=0,0,($M$14/$BC$14)*100000) -> 0 | BE14: ='C_Health Regions'!D6 -> 0 | BF14: =IF(BE14=0,0,($N$14/$BE$14)*100000) -> 0 | BG14: ='C_Health Regions'!F5 -> 0 | BH14: =IF(BG14=0,0,($O$14/$BG$14)*100000) -> 0 | BI14: ='C_Health Regions'!H5 -> 0 | BJ14: =IF(BI14=0,0,($P$14/$BI$14)*100000) -> 0 | BK14: ='C_Health Regions'!J5 -> 0 | BL14: =IF(BK14=0,0,($Q$14/$BK$14)*100000) -> 0 | BM14: ='C_Health Regions'!L5 -> 0 | BN14: =IF(BM14=0,0,($R$14/$BM$14)*100000) -> 0 | BO14: ='C_Health Regions'!N5 -> 0 | BP14: =IF(BO14=0,0,($S$14/$BO$14)*100000) -> 0 | BQ14: ='C_Health Regions'!P5 -> 0 | BR14: =IF(BQ14=0,0,($T$14/$BQ$14)*100000) -> 0 | BS14: ='C_Health Regions'!R5 -> 0 | BT14: =IF(BS14=0,0,($U$14/$BS$14)*100000) -> 0 | BU14: ='C_Health Regions'!T5 -> 0 | BV14: =IF(BU14=0,0,($V$14/$BU$14)*100000) -> 0 | BW14: ='C_Health Regions'!V5 -> 0 | BX14: =IF(BW14=0,0,($W$14/$BW$14)*100000) -> 0 | BY14: ='C_Health Regions'!X5 -> 0 | BZ14: =IF(BY14=0,0,($X$14/$BY$14)*100000) -> 0 | CA14: ='C_Health Regions'!Z5 -> 0 | CB14: =IF(CA14=0,0,($Y$14/$CA$14)*100000) -> 0 | CC14: ='C_Health Regions'!AB5 -> 0 | CD14: =IF(CC14=0,0,($Z$14/$CC$14)*100000) -> 0 | CE14: ='C_Health Regions'!AD5 -> 0 | CF14: =IF(CE14=0,0,($AA$14/$CE$14)*100000) -> 0 | CG14: ='C_Health Regions'!AF5 -> 0 | CH14: =IF(CG14=0,0,($AB$14/$CG$14)*100000) -> 0 | CI14: ='C_Health Regions'!AH5 -> 0 | CJ14: =IF(CI14=0,0,($AC$4/$CI$5)*100000) -> 0 | CK14: ='C_Health Regions'!AJ5 -> 0 | CL14: =IF(CK14=0,0,($AD$4/$CK$5)*100000) -> 0 | CM14: ='C_Health Regions'!AL5 -> 0 | CN14: =IF(CM14=0,0,($AE$4/$CM$5)*100000) -> 0 | CO14: ='C_Health Regions'!AN5 -> 0 | CP14: =IF(CO14=0,0,($AF$4/$CO$5)*100000) -> 0
B15: Interpersonal Violence | AH15: =' B_Populations'!B9 -> 0 | AI15: =IF(AH15=0,0,($C$15/$AH$15)*100000) -> 0 | AJ15: =' B_Populations'!D9 -> 0 | AK15: =IF(AJ15=0,0,($D$15/$AJ$15)*100000) -> 0 | AL15: =' B_Populations'!F9 -> 0 | AM15: =IF(AL15=0,0,($E$15/$AL$15)*100000) -> 0 | AN15: =' B_Populations'!H9 -> 0 | AO15: =IF(AN15=0,0,($F$15/$AN$15)*100000) -> 0 | AP15: =' B_Populations'!J9 -> 0 | AQ15: =IF(AP15=0,0,($G$15/$AP$15)*100000) -> 0 | AR15: =' B_Populations'!L9 -> 0 | AS15: =IF(AR15=0,0,($H$15/$AR$15)*100000) -> 0 | AT15: =' B_Populations'!N9 -> 0 | AU15: =IF(AT15=0,0,($I$15/$AT$15)*100000) -> 0 | AV15: =' B_Populations'!P9 -> 0 | AW15: =IF(AV15=0,0,($J$15/$AV$15)*100000) -> 0 | AX15: =' B_Populations'!R9 -> 0 | AY15: =IF(AX15=0,0,($K$15/$AX$15)*100000) -> 0 | AZ15: =' B_Populations'!T9 -> 0 | BA15: =IF(AZ15=0,0,($L$15/$AZ$15)*100000) -> 0 | BC15: ='C_Health Regions'!B5 -> 0 | BD15: =IF(BC15=0,0,($M$15/$BC$15)*100000) -> 0 | BE15: ='C_Health Regions'!D6 -> 0 | BF15: =IF(BE15=0,0,($N$15/$BE$15)*100000) -> 0 | BG15: ='C_Health Regions'!F5 -> 0 | BH15: =IF(BG15=0,0,($O$15/$BG$15)*100000) -> 0 | BI15: ='C_Health Regions'!H5 -> 0 | BJ15: =IF(BI15=0,0,($P$15/$BI$15)*100000) -> 0 | BK15: ='C_Health Regions'!J5 -> 0 | BL15: =IF(BK15=0,0,($Q$15/$BK$15)*100000) -> 0 | BM15: ='C_Health Regions'!L5 -> 0 | BN15: =IF(BM15=0,0,($R$15/$BM$15)*100000) -> 0 | BO15: ='C_Health Regions'!N5 -> 0 | BP15: =IF(BO15=0,0,($S$15/$BO$15)*100000) -> 0 | BQ15: ='C_Health Regions'!P5 -> 0 | BR15: =IF(BQ15=0,0,($T$15/$BQ$15)*100000) -> 0 | BS15: ='C_Health Regions'!R5 -> 0 | BT15: =IF(BS15=0,0,($U$15/$BS$15)*100000) -> 0 | BU15: ='C_Health Regions'!T5 -> 0 | BV15: =IF(BU15=0,0,($V$15/$BU$15)*100000) -> 0 | BW15: ='C_Health Regions'!V5 -> 0 | BX15: =IF(BW15=0,0,($W$15/$BW$15)*100000) -> 0 | BY15: ='C_Health Regions'!X5 -> 0 | BZ15: =IF(BY15=0,0,($X$15/$BY$15)*100000) -> 0 | CA15: ='C_Health Regions'!Z5 -> 0 | CB15: =IF(CA15=0,0,($Y$15/$CA$15)*100000) -> 0 | CC15: ='C_Health Regions'!AB5 -> 0 | CD15: =IF(CC15=0,0,($Z$15/$CC$15)*100000) -> 0 | CE15: ='C_Health Regions'!AD5 -> 0 | CF15: =IF(CE15=0,0,($AA$15/$CE$15)*100000) -> 0 | CG15: ='C_Health Regions'!AF5 -> 0 | CH15: =IF(CG15=0,0,($AB$15/$CG$15)*100000) -> 0 | CI15: ='C_Health Regions'!AH5 -> 0 | CJ15: =IF(CI15=0,0,($AC$4/$CI$6)*100000) -> 0 | CK15: ='C_Health Regions'!AJ5 -> 0 | CL15: =IF(CK15=0,0,($AD$4/$CK$6)*100000) -> 0 | CM15: ='C_Health Regions'!AL5 -> 0 | CN15: =IF(CM15=0,0,($AE$4/$CM$6)*100000) -> 0 | CO15: ='C_Health Regions'!AN5 -> 0 | CP15: =IF(CO15=0,0,($AF$4/$CO$6)*100000) -> 0
B16: Legal Intervention | AH16: =' B_Populations'!B9 -> 0 | AI16: =IF(AH16=0,0,($C$16/$AH$16)*100000) -> 0 | AJ16: =' B_Populations'!D9 -> 0 | AK16: =IF(AJ16=0,0,($D$16/$AJ$16)*100000) -> 0 | AL16: =' B_Populations'!F9 -> 0 | AM16: =IF(AL16=0,0,($E$16/$AL$16)*100000) -> 0 | AN16: =' B_Populations'!H9 -> 0 | AO16: =IF(AN16=0,0,($F$16/$AN$16)*100000) -> 0 | AP16: =' B_Populations'!J9 -> 0 | AQ16: =IF(AP16=0,0,($G$16/$AP$16)*100000) -> 0 | AR16: =' B_Populations'!L9 -> 0 | AS16: =IF(AR16=0,0,($H$16/$AR$16)*100000) -> 0 | AT16: =' B_Populations'!N9 -> 0 | AU16: =IF(AT16=0,0,($I$16/$AT$16)*100000) -> 0 | AV16: =' B_Populations'!P9 -> 0 | AW16: =IF(AV16=0,0,($J$16/$AV$16)*100000) -> 0 | AX16: =' B_Populations'!R9 -> 0 | AY16: =IF(AX16=0,0,($K$16/$AX$16)*100000) -> 0 | AZ16: =' B_Populations'!T9 -> 0 | BA16: =IF(AZ16=0,0,($L$16/$AZ$16)*100000) -> 0 | BC16: ='C_Health Regions'!B5 -> 0 | BD16: =IF(BC16=0,0,($M$16/$BC$16)*100000) -> 0 | BE16: ='C_Health Regions'!D6 -> 0 | BF16: =IF(BE16=0,0,($N$16/$BE$16)*100000) -> 0 | BG16: ='C_Health Regions'!F5 -> 0 | BH16: =IF(BG16=0,0,($O$16/$BG$16)*100000) -> 0 | BI16: ='C_Health Regions'!H5 -> 0 | BJ16: =IF(BI16=0,0,($P$16/$BI$16)*100000) -> 0 | BK16: ='C_Health Regions'!J5 -> 0 | BL16: =IF(BK16=0,0,($Q$16/$BK$16)*100000) -> 0 | BM16: ='C_Health Regions'!L5 -> 0 | BN16: =IF(BM16=0,0,($R$16/$BM$16)*100000) -> 0 | BO16: ='C_Health Regions'!N5 -> 0 | BP16: =IF(BO16=0,0,($S$16/$BO$16)*100000) -> 0 | BQ16: ='C_Health Regions'!P5 -> 0 | BR16: =IF(BQ16=0,0,($T$16/$BQ$16)*100000) -> 0 | BS16: ='C_Health Regions'!R5 -> 0 | BT16: =IF(BS16=0,0,($U$16/$BS$16)*100000) -> 0 | BU16: ='C_Health Regions'!T5 -> 0 | BV16: =IF(BU16=0,0,($V16/$BU$16)*100000) -> 0 | BW16: ='C_Health Regions'!V5 -> 0 | BX16: =IF(BW16=0,0,($W$16/$BW$16)*100000) -> 0 | BY16: ='C_Health Regions'!X5 -> 0 | BZ16: =IF(BY16=0,0,($X$16/$BY$16)*100000) -> 0 | CA16: ='C_Health Regions'!Z5 -> 0 | CB16: =IF(CA16=0,0,($Y$16/$CA$16)*100000) -> 0 | CC16: ='C_Health Regions'!AB5 -> 0 | CD16: =IF(CC16=0,0,($Z$16/$CC$16)*100000) -> 0 | CE16: ='C_Health Regions'!AD5 -> 0 | CF16: =IF(CE16=0,0,($AA$16/$CE$16)*100000) -> 0 | CG16: ='C_Health Regions'!AF5 -> 0 | CH16: =IF(CG16=0,0,($AB$16/$CG$16)*100000) -> 0 | CI16: ='C_Health Regions'!AH5 -> 0 | CJ16: =IF(CI16=0,0,($AC$4/$CI$7)*100000) -> 0 | CK16: ='C_Health Regions'!AJ5 -> 0 | CL16: =IF(CK16=0,0,($AD$4/$CK$7)*100000) -> 0 | CM16: ='C_Health Regions'!AL5 -> 0 | CN16: =IF(CM16=0,0,($AE$4/$CM$7)*100000) -> 0 | CO16: ='C_Health Regions'!AN5 -> 0 | CP16: =IF(CO16=0,0,($AF$4/$CO$7)*100000) -> 0
B17: Undetermined | AH17: =' B_Populations'!B9 -> 0 | AI17: =IF(AH17=0,0,($C$17/$AH$17)*100000) -> 0 | AJ17: =' B_Populations'!D9 -> 0 | AK17: =IF(AJ17=0,0,($D$17/$AJ$17)*100000) -> 0 | AL17: =' B_Populations'!F9 -> 0 | AM17: =IF(AL17=0,0,($E$17/$AL$17)*100000) -> 0 | AN17: =' B_Populations'!H9 -> 0 | AO17: =IF(AN17=0,0,($F$17/$AN$17)*100000) -> 0 | AP17: =' B_Populations'!J9 -> 0 | AQ17: =IF(AP17=0,0,($G$17/$AP$17)*100000) -> 0 | AR17: =' B_Populations'!L9 -> 0 | AS17: =IF(AR17=0,0,($H$17/$AR$17)*100000) -> 0 | AT17: =' B_Populations'!N9 -> 0 | AU17: =IF(AT17=0,0,($I$17/$AT$17)*100000) -> 0 | AV17: =' B_Populations'!P9 -> 0 | AW17: =IF(AV17=0,0,($J$17/$AV$17)*100000) -> 0 | AX17: =' B_Populations'!R9 -> 0 | AY17: =IF(AX17=0,0,($K$17/$AX$17)*100000) -> 0 | AZ17: =' B_Populations'!T9 -> 0 | BA17: =IF(AZ17=0,0,($L$17/$AZ$17)*100000) -> 0 | BC17: ='C_Health Regions'!B5 -> 0 | BD17: =IF(BC17=0,0,($M$17/$BC$17)*100000) -> 0 | BE17: ='C_Health Regions'!D6 -> 0 | BF17: =IF(BE17=0,0,($N$17/$BE$17)*100000) -> 0 | BG17: ='C_Health Regions'!F5 -> 0 | BH17: =IF(BG17=0,0,($O$17/$BG$17)*100000) -> 0 | BI17: ='C_Health Regions'!H5 -> 0 | BJ17: =IF(BI17=0,0,($P$17/$BI$17)*100000) -> 0 | BK17: ='C_Health Regions'!J5 -> 0 | BL17: =IF(BK17=0,0,($Q$17/$BK$17)*100000) -> 0 | BM17: ='C_Health Regions'!L5 -> 0 | BN17: =IF(BM17=0,0,($R$17/$BM$17)*100000) -> 0 | BO17: ='C_Health Regions'!N5 -> 0 | BP17: =IF(BO17=0,0,($S$17/$BO$17)*100000) -> 0 | BQ17: ='C_Health Regions'!P5 -> 0 | BR17: =IF(BQ17=0,0,($T$17/$BQ$17)*100000) -> 0 | BS17: ='C_Health Regions'!R5 -> 0 | BT17: =IF(BS17=0,0,($U$17/$BS$17)*100000) -> 0 | BU17: ='C_Health Regions'!T5 -> 0 | BV17: =IF(BU17=0,0,($V$17/$BU$17)*100000) -> 0 | BW17: ='C_Health Regions'!V5 -> 0 | BX17: =IF(BW17=0,0,($W$17/$BW$17)*100000) -> 0 | BY17: ='C_Health Regions'!X5 -> 0 | BZ17: =IF(BY17=0,0,($X$17/$BY$17)*100000) -> 0 | CA17: ='C_Health Regions'!Z5 -> 0 | CB17: =IF(CA17=0,0,($Y$17/$CA$17)*100000) -> 0 | CC17: ='C_Health Regions'!AB5 -> 0 | CD17: =IF(CC17=0,0,($Z$17/$CC$17)*100000) -> 0 | CE17: ='C_Health Regions'!AD5 -> 0 | CF17: =IF(CE17=0,0,($AA$17/$CE$17)*100000) -> 0 | CG17: ='C_Health Regions'!AF5 -> 0 | CH17: =IF(CG17=0,0,($AB$17/$CG$17)*100000) -> 0 | CI17: ='C_Health Regions'!AH5 -> 0 | CJ17: =IF(CI17=0,0,($AC$4/$CI$8)*100000) -> 0 | CK17: ='C_Health Regions'!AJ5 -> 0 | CL17: =IF(CK17=0,0,($AD$4/$CK$8)*100000) -> 0 | CM17: ='C_Health Regions'!AL5 -> 0 | CN17: =IF(CM17=0,0,($AE$4/$CM$8)*100000) -> 0 | CO17: ='C_Health Regions'!AN5 -> 0 | CP17: =IF(CO17=0,0,($AF$4/$CO$8)*100000) -> 0
B18: total | C18: =SUM(C13:C17) -> 0 | D18: =SUM(D13:D17) -> 0 | E18: =SUM(E13:E17) -> 0 | F18: =SUM(F13:F17) -> 0 | G18: =SUM(G13:G17) -> 0 | H18: =SUM(H13:H17) -> 0 | I18: =SUM(I13:I17) -> 0 | J18: =SUM(J13:J17) -> 0 | ... AF18: =SUM(AF13:AF17) -> 0 | AH18: =SUM(AH13:AH17) -> 0 | AI18: =SUM(AI13:AI17) -> 0 | AJ18: =SUM(AJ13:AJ17) -> 0 | AK18: =SUM(AK13:AK17) -> 0 | AL18: =SUM(AL13:AL17) -> 0 | AM18: =SUM(AM13:AM17) -> 0 | AN18: =SUM(AN13:AN17) -> 0 | AO18: =SUM(AO13:AO17) -> 0 | ... BA18: =SUM(BA13:BA17) -> 0 | BC18: =SUM(BC13:BC17) -> 0 | BD18: =SUM(BD13:BD17) -> 0 | BE18: =SUM(BE13:BE17) -> 0 | BF18: =SUM(BF13:BF17) -> 0 | BG18: =SUM(BG13:BG17) -> 0 | BH18: =SUM(BH13:BH17) -> 0 | BI18: =SUM(BI13:BI17) -> 0 | BJ18: =SUM(BJ13:BJ17) -> 0 | ... CD18: =SUM(CD13:CD17) -> 0 | CE18: ='C_Health Regions'!AD27 -> 0 | CF18: =IF(CE18=0,0,($AA$18/$CE$18)*100000) -> 0 | CG18: ='C_Health Regions'!AF27 -> 0 | CH18: =IF(CG18=0,0,($AB$18/$CG$18)*100000) -> 0 | CI18: ='C_Health Regions'!AH27 -> 0 | CJ18: =IF(CI18=0,0,($AC$4/$CI$9)*100000) -> 0 | CK18: ='C_Health Regions'!AJ76 -> 0 | CL18: =IF(CK18=0,0,($AD$4/$CK$9)*100000) -> 0 | CM18: ='C_Health Regions'!AL76 -> 0 | CN18: =IF(CM18=0,0,($AE$4/$CM$9)*100000) -> 0 | CO18: ='C_Health Regions'!AN27 -> 0 | CP18: =IF(CO18=0,0,($AF$4/$CO$9)*100000) -> 0
D20: Sex Data | F20: Demographic Data | M20: Region Data
B21: Year | C21: Number of deaths- Total | D21: Number of deaths- Male | E21: Number of deaths- Female | F21: =' B_Populations'!$H$8 -> White-Not Hispanic | G21: =' B_Populations'!$J$8 -> Hispanic | H21: =' B_Populations'!$L$8 -> Black-Not Hispanic | I21: =' B_Populations'!$N$8 -> Asian | J21: =' B_Populations'!$P$8 -> American Indian/Alaska Native | K21: =' B_Populations'!$R$8 -> Other | L21: =' B_Populations'!$T$8 -> Other | M21: ='C_Health Regions'!$B$4 -> Region 1 | N21: ='C_Health Regions'!$D$4 -> Region 2 | O21: ='C_Health Regions'!$F$4 -> Region 3 | P21: ='C_Health Regions'!$H$4 -> Region 4 | Q21: ='C_Health Regions'!$J$4 -> Region 5 | R21: ='C_Health Regions'!$L$4 -> Region 6 | S21: ='C_Health Regions'!$N$4 -> Region 7 | T21: ='C_Health Regions'!$P$4 -> Region 8 | U21: ='C_Health Regions'!$R$4 -> Region 9 | V21: ='C_Health Regions'!$T$4 -> Region 10 | W21: ='C_Health Regions'!$V$4 -> Region 11 | X21: ='C_Health Regions'!$X$4 -> Region 12 | Y21: ='C_Health Regions'!$Z$4 -> Region 13 | Z21: ='C_Health Regions'!$AB$4 -> Region 14 | AA21: ='C_Health Regions'!$AD$4 -> Region 15 | AB21: ='C_Health Regions'!$AF$4 -> Region 16 | AC21: ='C_Health Regions'!$AH$4 -> Region 17 | AD21: ='C_Health Regions'!$AJ$4 -> Region 18 | AE21: ='C_Health Regions'!$AL$4 -> Region 19 | AF21: ='C_Health Regions'!$AN$4 -> Region 20 | AH21: State population - Total | AI21: Rate | AJ21: State population - Male | AK21: Rate | AL21: State population - Female | AM21: Rate | AN21: =' B_Populations'!$H$8 -> White-Not Hispanic | AO21: Rate | AP21: =' B_Populations'!$J$8 -> Hispanic | AQ21: Rate | AR21: =' B_Populations'!$L$8 -> Black-Not Hispanic | AS21: Rate | AT21: =' B_Populations'!$N$8 -> Asian | AU21: Rate | AV21: =' B_Populations'!$P$8 -> American Indian/Alaska Native | AW21: Rate | AX21: =' B_Populations'!$R$8 -> Other | AY21: Rate | AZ21: =' B_Populations'!$T$8 -> Other | BA21: Rate | BC21: ='C_Health Regions'!$B$4 -> Region 1 | BD21: Rate | BE21: ='C_Health Regions'!$D$4 -> Region 2 | BF21: Rate | BG21: ='C_Health Regions'!$F$4 -> Region 3 | BH21: Rate | BI21: ='C_Health Regions'!$H$4 -> Region 4 | BJ21: Rate | BK21: ='C_Health Regions'!$J$4 -> Region 5 | BL21: Rate | BM21: ='C_Health Regions'!$L$4 -> Region 6 | BN21: Rate | BO21: ='C_Health Regions'!$N$4 -> Region 7 | BP21: Rate | BQ21: ='C_Health Regions'!$P$4 -> Region 8 | BR21: Rate | BS21: ='C_Health Regions'!$R$4 -> Region 9 | BT21: Rate | BU21: ='C_Health Regions'!$T$4 -> Region 10 | BV21: Rate | BW21: ='C_Health Regions'!$V$4 -> Region 11 | BX21: Rate | BY21: ='C_Health Regions'!$X$4 -> Region 12 | BZ21: Rate | CA21: ='C_Health Regions'!$Z$4 -> Region 13 | CB21: Rate | CC21: ='C_Health Regions'!$AB$4 -> Region 14 | CD21: Rate | CE21: ='C_Health Regions'!$AD$4 -> Region 15 | CF21: Rate | CG21: ='C_Health Regions'!$AF$4 -> Region 16 | CH21: Rate | CI21: ='C_Health Regions'!$AH$4 -> Region 17 | CJ21: Rate | CK21: ='C_Health Regions'!$AJ$4 -> Region 18 | CL21: Rate | CM21: ='C_Health Regions'!$AL$4 -> Region 19 | CN21: Rate | CO21: ='C_Health Regions'!$AN$4 -> Region 20 | CP21: Rate
B22: Intentional | AH22: =' B_Populations'!B9 -> 0 | AI22: =IF(AH22=0,0,($C$22/$AH$22)*100000) -> 0 | AJ22: =' B_Populations'!D9 -> 0 | AK22: =IF(AJ22=0,0,($D$22/$AJ$22)*100000) -> 0 | AL22: =' B_Populations'!F9 -> 0 | AM22: =IF(AL22=0,0,($E$22/$AL$22)*100000) -> 0 | AN22: =' B_Populations'!H9 -> 0 | AO22: =IF(AN22=0,0,($F$22/$AN$22)*100000) -> 0 | AP22: =' B_Populations'!J9 -> 0 | AQ22: =IF(AP22=0,0,($G$22/$AP$22)*100000) -> 0 | AR22: =' B_Populations'!L9 -> 0 | AS22: =IF(AR22=0,0,($H$22/$AR$22)*100000) -> 0 | AT22: =' B_Populations'!N9 -> 0 | AU22: =IF(AT22=0,0,($I$22/$AT$22)*100000) -> 0 | AV22: =' B_Populations'!P9 -> 0 | AW22: =IF(AV22=0,0,($J$22/$AV$22)*100000) -> 0 | AX22: =' B_Populations'!R9 -> 0 | AY22: =IF(AX22=0,0,($K$22/$AX$22)*100000) -> 0 | AZ22: =' B_Populations'!T9 -> 0 | BA22: =IF(AZ22=0,0,($L$22/$AZ$22)*100000) -> 0 | BC22: ='C_Health Regions'!B5 -> 0 | BD22: =IF(BC22=0,0,($M$22/$BC$22)*100000) -> 0 | BE22: ='C_Health Regions'!D6 -> 0 | BF22: =IF(BE22=0,0,($N$22/$BE$22)*100000) -> 0 | BG22: ='C_Health Regions'!F5 -> 0 | BH22: =IF(BG22=0,0,($N$22/$BG$22)*100000) -> 0 | BI22: ='C_Health Regions'!H5 -> 0 | BJ22: =IF(BI22=0,0,($N$22/$BI$22)*100000) -> 0 | BK22: ='C_Health Regions'!J5 -> 0 | BL22: =IF(BK22=0,0,($N$22/$BK$22)*100000) -> 0 | BM22: ='C_Health Regions'!L5 -> 0 | BN22: =IF(BM22=0,0,($N$22/$BM$22)*100000) -> 0 | BO22: ='C_Health Regions'!N5 -> 0 | BP22: =IF(BO22=0,0,($N$22/$BO$22)*100000) -> 0 | BQ22: ='C_Health Regions'!P5 -> 0 | BR22: =IF(BQ22=0,0,($N$22/$BQ$22)*100000) -> 0 | BS22: ='C_Health Regions'!R5 -> 0 | BT22: =IF(BS22=0,0,($N$22/$BS$22)*100000) -> 0 | BU22: ='C_Health Regions'!T5 -> 0 | BV22: =IF(BU22=0,0,($N$22/$BU$22)*100000) -> 0 | BW22: ='C_Health Regions'!V5 -> 0 | BX22: =IF(BW22=0,0,($N$22/$BW$22)*100000) -> 0 | BY22: ='C_Health Regions'!X5 -> 0 | BZ22: =IF(BY22=0,0,($N$22/$BY$22)*100000) -> 0 | CA22: ='C_Health Regions'!Z5 -> 0 | CB22: =IF(CA22=0,0,($N$22/$CA$22)*100000) -> 0 | CC22: ='C_Health Regions'!AB5 -> 0 | CD22: =IF(CC22=0,0,($N$22/$CC$22)*100000) -> 0 | CE22: ='C_Health Regions'!AD5 -> 0 | CF22: =IF(CE22=0,0,($AA$4/$CE$4)*100000) -> 0 | CG22: ='C_Health Regions'!AF5 -> 0 | CH22: =IF(CG22=0,0,($AB$4/$CG$4)*100000) -> 0 | CI22: ='C_Health Regions'!AH5 -> 0 | CJ22: =IF(CI22=0,0,($AC$4/$CI$4)*100000) -> 0 | CK22: ='C_Health Regions'!AJ5 -> 0 | CL22: =IF(CK22=0,0,($AD$4/$CK$4)*100000) -> 0 | CM22: ='C_Health Regions'!AL5 -> 0 | CN22: =IF(CM22=0,0,($AE$4/$CM$4)*100000) -> 0 | CO22: ='C_Health Regions'!AN5 -> 0 | CP22: =IF(CO22=0,0,($AF$4/$CO$4)*100000) -> 0
B23: Unintentional | AH23: =' B_Populations'!B9 -> 0 | AI23: =IF(AH23=0,0,($C$23/$AH$23)*100000) -> 0 | AJ23: =' B_Populations'!D9 -> 0 | AK23: =IF(AJ23=0,0,($D$23/$AJ$23)*100000) -> 0 | AL23: =' B_Populations'!F9 -> 0 | AM23: =IF(AL23=0,0,($E$23/$AL$23)*100000) -> 0 | AN23: =' B_Populations'!H9 -> 0 | AO23: =IF(AN23=0,0,($F$23/$AN$23)*100000) -> 0 | AP23: =' B_Populations'!J9 -> 0 | AQ23: =IF(AP23=0,0,($G$23/$AP$23)*100000) -> 0 | AR23: =' B_Populations'!L9 -> 0 | AS23: =IF(AR23=0,0,($H$23/$AR$23)*100000) -> 0 | AT23: =' B_Populations'!N9 -> 0 | AU23: =IF(AT23=0,0,($I$23/$AT$23)*100000) -> 0 | AV23: =' B_Populations'!P9 -> 0 | AW23: =IF(AV23=0,0,($J$23/$AV$23)*100000) -> 0 | AX23: =' B_Populations'!R9 -> 0 | AY23: =IF(AX23=0,0,($K$23/$AX$23)*100000) -> 0 | AZ23: =' B_Populations'!T9 -> 0 | BA23: =IF(AZ23=0,0,($L$23/$AZ$23)*100000) -> 0 | BC23: ='C_Health Regions'!B5 -> 0 | BD23: =IF(BC23=0,0,($M$23/$BC$23)*100000) -> 0 | BE23: ='C_Health Regions'!D6 -> 0 | BF23: =IF(BE23=0,0,($N$23/$BE$23)*100000) -> 0 | BG23: ='C_Health Regions'!F5 -> 0 | BH23: =IF(BG23=0,0,($N$23/$BG$23)*100000) -> 0 | BI23: ='C_Health Regions'!H5 -> 0 | BJ23: =IF(BI23=0,0,($N$23/$BI$23)*100000) -> 0 | BK23: ='C_Health Regions'!J5 -> 0 | BL23: =IF(BK23=0,0,($N$23/$BK$23)*100000) -> 0 | BM23: ='C_Health Regions'!L5 -> 0 | BN23: =IF(BM23=0,0,($N$23/$BM$23)*100000) -> 0 | BO23: ='C_Health Regions'!N5 -> 0 | BP23: =IF(BO23=0,0,($N$23/$BO$23)*100000) -> 0 | BQ23: ='C_Health Regions'!P5 -> 0 | BR23: =IF(BQ23=0,0,($N$23/$BQ$23)*100000) -> 0 | BS23: ='C_Health Regions'!R5 -> 0 | BT23: =IF(BS23=0,0,($N$23/$BS$23)*100000) -> 0 | BU23: ='C_Health Regions'!T5 -> 0 | BV23: =IF(BU23=0,0,($N$23/$BU$23)*100000) -> 0 | BW23: ='C_Health Regions'!V5 -> 0 | BX23: =IF(BW23=0,0,($N$23/$BW$23)*100000) -> 0 | BY23: ='C_Health Regions'!X5 -> 0 | BZ23: =IF(BY23=0,0,($N$23/$BY$23)*100000) -> 0 | CA23: ='C_Health Regions'!Z5 -> 0 | CB23: =IF(CA23=0,0,($N$23/$CA$23)*100000) -> 0 | CC23: ='C_Health Regions'!AB5 -> 0 | CD23: =IF(CC23=0,0,($N$23/$CC$23)*100000) -> 0 | CE23: ='C_Health Regions'!AD5 -> 0 | CF23: =IF(CE23=0,0,($AA$4/$CE$5)*100000) -> 0 | CG23: ='C_Health Regions'!AF5 -> 0 | CH23: =IF(CG23=0,0,($AB$4/$CG$5)*100000) -> 0 | CI23: ='C_Health Regions'!AH5 -> 0 | CJ23: =IF(CI23=0,0,($AC$4/$CI$5)*100000) -> 0 | CK23: ='C_Health Regions'!AJ5 -> 0 | CL23: =IF(CK23=0,0,($AD$4/$CK$5)*100000) -> 0 | CM23: ='C_Health Regions'!AL5 -> 0 | CN23: =IF(CM23=0,0,($AE$4/$CM$5)*100000) -> 0 | CO23: ='C_Health Regions'!AN5 -> 0 | CP23: =IF(CO23=0,0,($AF$4/$CO$5)*100000) -> 0
B24: Interpersonal Violence | AH24: =' B_Populations'!B9 -> 0 | AI24: =IF(AH24=0,0,($C$24/$AH$24)*100000) -> 0 | AJ24: =' B_Populations'!D9 -> 0 | AK24: =IF(AJ24=0,0,($D$24/$AJ$24)*100000) -> 0 | AL24: =' B_Populations'!F9 -> 0 | AM24: =IF(AL24=0,0,($E$24/$AL$24)*100000) -> 0 | AN24: =' B_Populations'!H9 -> 0 | AO24: =IF(AN24=0,0,($F$24/$AN$24)*100000) -> 0 | AP24: =' B_Populations'!J9 -> 0 | AQ24: =IF(AP24=0,0,($G$24/$AP$24)*100000) -> 0 | AR24: =' B_Populations'!L9 -> 0 | AS24: =IF(AR24=0,0,($H$24/$AR$24)*100000) -> 0 | AT24: =' B_Populations'!N9 -> 0 | AU24: =IF(AT24=0,0,($I$24/$AT$24)*100000) -> 0 | AV24: =' B_Populations'!P9 -> 0 | AW24: =IF(AV24=0,0,($J$24/$AV$24)*100000) -> 0 | AX24: =' B_Populations'!R9 -> 0 | AY24: =IF(AX24=0,0,($K$24/$AX$24)*100000) -> 0 | AZ24: =' B_Populations'!T9 -> 0 | BA24: =IF(AZ24=0,0,($L$24/$AZ$24)*100000) -> 0 | BC24: ='C_Health Regions'!B5 -> 0 | BD24: =IF(BC24=0,0,($M$24/$BC$24)*100000) -> 0 | BE24: ='C_Health Regions'!D6 -> 0 | BF24: =IF(BE24=0,0,($N$24/$BE$24)*100000) -> 0 | BG24: ='C_Health Regions'!F5 -> 0 | BH24: =IF(BG24=0,0,($N$24/$BG$24)*100000) -> 0 | BI24: ='C_Health Regions'!H5 -> 0 | BJ24: =IF(BI24=0,0,($N$24/$BI$24)*100000) -> 0 | BK24: ='C_Health Regions'!J5 -> 0 | BL24: =IF(BK24=0,0,($N$24/$BK$24)*100000) -> 0 | BM24: ='C_Health Regions'!L5 -> 0 | BN24: =IF(BM24=0,0,($N$24/$BM$24)*100000) -> 0 | BO24: ='C_Health Regions'!N5 -> 0 | BP24: =IF(BO24=0,0,($N$24/$BO$24)*100000) -> 0 | BQ24: ='C_Health Regions'!P5 -> 0 | BR24: =IF(BQ24=0,0,($N$24/$BQ$24)*100000) -> 0 | BS24: ='C_Health Regions'!R5 -> 0 | BT24: =IF(BS24=0,0,($N$24/$BS$24)*100000) -> 0 | BU24: ='C_Health Regions'!T5 -> 0 | BV24: =IF(BU24=0,0,($N$24/$BU$24)*100000) -> 0 | BW24: ='C_Health Regions'!V5 -> 0 | BX24: =IF(BW24=0,0,($N$24/$BW$24)*100000) -> 0 | BY24: ='C_Health Regions'!X5 -> 0 | BZ24: =IF(BY24=0,0,($N$24/$BY$24)*100000) -> 0 | CA24: ='C_Health Regions'!Z5 -> 0 | CB24: =IF(CA24=0,0,($N$24/$CA$24)*100000) -> 0 | CC24: ='C_Health Regions'!AB5 -> 0 | CD24: =IF(CC24=0,0,($N$24/$CC$24)*100000) -> 0 | CE24: ='C_Health Regions'!AD5 -> 0 | CF24: =IF(CE24=0,0,($AA$4/$CE$6)*100000) -> 0 | CG24: ='C_Health Regions'!AF5 -> 0 | CH24: =IF(CG24=0,0,($AB$4/$CG$6)*100000) -> 0 | CI24: ='C_Health Regions'!AH5 -> 0 | CJ24: =IF(CI24=0,0,($AC$4/$CI$6)*100000) -> 0 | CK24: ='C_Health Regions'!AJ5 -> 0 | CL24: =IF(CK24=0,0,($AD$4/$CK$6)*100000) -> 0 | CM24: ='C_Health Regions'!AL5 -> 0 | CN24: =IF(CM24=0,0,($AE$4/$CM$6)*100000) -> 0 | CO24: ='C_Health Regions'!AN5 -> 0 | CP24: =IF(CO24=0,0,($AF$4/$CO$6)*100000) -> 0
B25: Legal Intervention | AH25: =' B_Populations'!B9 -> 0 | AI25: =IF(AH25=0,0,($C$25/$AH$25)*100000) -> 0 | AJ25: =' B_Populations'!D9 -> 0 | AK25: =IF(AJ25=0,0,($D$25/$AJ$25)*100000) -> 0 | AL25: =' B_Populations'!F9 -> 0 | AM25: =IF(AL25=0,0,($E$25/$AL$25)*100000) -> 0 | AN25: =' B_Populations'!H9 -> 0 | AO25: =IF(AN25=0,0,($F$25/$AN$25)*100000) -> 0 | AP25: =' B_Populations'!J9 -> 0 | AQ25: =IF(AP25=0,0,($G$25/$AP$25)*100000) -> 0 | AR25: =' B_Populations'!L9 -> 0 | AS25: =IF(AR25=0,0,($H$25/$AR$25)*100000) -> 0 | AT25: =' B_Populations'!N9 -> 0 | AU25: =IF(AT25=0,0,($I$25/$AT$25)*100000) -> 0 | AV25: =' B_Populations'!P9 -> 0 | AW25: =IF(AV25=0,0,($J$25/$AV$25)*100000) -> 0 | AX25: =' B_Populations'!R9 -> 0 | AY25: =IF(AX25=0,0,($K$25/$AX$25)*100000) -> 0 | AZ25: =' B_Populations'!T9 -> 0 | BA25: =IF(AZ25=0,0,($L$25/$AZ$25)*100000) -> 0 | BC25: ='C_Health Regions'!B5 -> 0 | BD25: =IF(BC25=0,0,($M$25/$BC$25)*100000) -> 0 | BE25: ='C_Health Regions'!D6 -> 0 | BF25: =IF(BE25=0,0,($N$25/$BE$25)*100000) -> 0 | BG25: ='C_Health Regions'!F5 -> 0 | BH25: =IF(BG25=0,0,($N$25/$BG$25)*100000) -> 0 | BI25: ='C_Health Regions'!H5 -> 0 | BJ25: =IF(BI25=0,0,($N$25/$BI$25)*100000) -> 0 | BK25: ='C_Health Regions'!J5 -> 0 | BL25: =IF(BK25=0,0,($N$25/$BK$25)*100000) -> 0 | BM25: ='C_Health Regions'!L5 -> 0 | BN25: =IF(BM25=0,0,($N$25/$BM$25)*100000) -> 0 | BO25: ='C_Health Regions'!N5 -> 0 | BP25: =IF(BO25=0,0,($N$25/$BO$25)*100000) -> 0 | BQ25: ='C_Health Regions'!P5 -> 0 | BR25: =IF(BQ25=0,0,($N$25/$BQ$25)*100000) -> 0 | BS25: ='C_Health Regions'!R5 -> 0 | BT25: =IF(BS25=0,0,($N$25/$BS$25)*100000) -> 0 | BU25: ='C_Health Regions'!T5 -> 0 | BV25: =IF(BU25=0,0,($N$25/$BU$25)*100000) -> 0 | BW25: ='C_Health Regions'!V5 -> 0 | BX25: =IF(BW25=0,0,($N$25/$BW$25)*100000) -> 0 | BY25: ='C_Health Regions'!X5 -> 0 | BZ25: =IF(BY25=0,0,($N$25/$BY$25)*100000) -> 0 | CA25: ='C_Health Regions'!Z5 -> 0 | CB25: =IF(CA25=0,0,($N$25/$CA$25)*100000) -> 0 | CC25: ='C_Health Regions'!AB5 -> 0 | CD25: =IF(CC25=0,0,($N$25/$CC$25)*100000) -> 0 | CE25: ='C_Health Regions'!AD5 -> 0 | CF25: =IF(CE25=0,0,($AA$4/$CE$7)*100000) -> 0 | CG25: ='C_Health Regions'!AF5 -> 0 | CH25: =IF(CG25=0,0,($AB$4/$CG$7)*100000) -> 0 | CI25: ='C_Health Regions'!AH5 -> 0 | CJ25: =IF(CI25=0,0,($AC$4/$CI$7)*100000) -> 0 | CK25: ='C_Health Regions'!AJ5 -> 0 | CL25: =IF(CK25=0,0,($AD$4/$CK$7)*100000) -> 0 | CM25: ='C_Health Regions'!AL5 -> 0 | CN25: =IF(CM25=0,0,($AE$4/$CM$7)*100000) -> 0 | CO25: ='C_Health Regions'!AN5 -> 0 | CP25: =IF(CO25=0,0,($AF$4/$CO$7)*100000) -> 0
B26: Undetermined | AH26: =' B_Populations'!B9 -> 0 | AI26: =IF(AH26=0,0,($C$26/$AH$26)*100000) -> 0 | AJ26: =' B_Populations'!D9 -> 0 | AK26: =IF(AJ26=0,0,($D$26/$AJ$26)*100000) -> 0 | AL26: =' B_Populations'!F9 -> 0 | AM26: =IF(AL26=0,0,($E$26/$AL$26)*100000) -> 0 | AN26: =' B_Populations'!H9 -> 0 | AO26: =IF(AN26=0,0,($F$26/$AN$26)*100000) -> 0 | AP26: =' B_Populations'!J9 -> 0 | AQ26: =IF(AP26=0,0,($G$26/$AP$26)*100000) -> 0 | AR26: =' B_Populations'!L9 -> 0 | AS26: =IF(AR26=0,0,($H$26/$AR$26)*100000) -> 0 | AT26: =' B_Populations'!N9 -> 0 | AU26: =IF(AT26=0,0,($I$26/$AT$26)*100000) -> 0 | AV26: =' B_Populations'!P9 -> 0 | AW26: =IF(AV26=0,0,($J$26/$AV$26)*100000) -> 0 | AX26: =' B_Populations'!R9 -> 0 | AY26: =IF(AX26=0,0,($K$26/$AX$26)*100000) -> 0 | AZ26: =' B_Populations'!T9 -> 0 | BA26: =IF(AZ26=0,0,($L$26/$AZ$26)*100000) -> 0 | BC26: ='C_Health Regions'!B5 -> 0 | BD26: =IF(BC26=0,0,($M$26/$BC$26)*100000) -> 0 | BE26: ='C_Health Regions'!D6 -> 0 | BF26: =IF(BE26=0,0,($N$26/$BE$26)*100000) -> 0 | BG26: ='C_Health Regions'!F5 -> 0 | BH26: =IF(BG26=0,0,($N$26/$BG$26)*100000) -> 0 | BI26: ='C_Health Regions'!H5 -> 0 | BJ26: =IF(BI26=0,0,($N$26/$BI$26)*100000) -> 0 | BK26: ='C_Health Regions'!J5 -> 0 | BL26: =IF(BK26=0,0,($N$26/$BK$26)*100000) -> 0 | BM26: ='C_Health Regions'!L5 -> 0 | BN26: =IF(BM26=0,0,($N$26/$BM$26)*100000) -> 0 | BO26: ='C_Health Regions'!N5 -> 0 | BP26: =IF(BO26=0,0,($N$26/$BO$26)*100000) -> 0 | BQ26: ='C_Health Regions'!P5 -> 0 | BR26: =IF(BQ26=0,0,($N$26/$BQ$26)*100000) -> 0 | BS26: ='C_Health Regions'!R5 -> 0 | BT26: =IF(BS26=0,0,($N$26/$BS$26)*100000) -> 0 | BU26: ='C_Health Regions'!T5 -> 0 | BV26: =IF(BU26=0,0,($N$26/$BU$26)*100000) -> 0 | BW26: ='C_Health Regions'!V5 -> 0 | BX26: =IF(BW26=0,0,($N$26/$BW$26)*100000) -> 0 | BY26: ='C_Health Regions'!X5 -> 0 | BZ26: =IF(BY26=0,0,($N$26/$BY$26)*100000) -> 0 | CA26: ='C_Health Regions'!Z5 -> 0 | CB26: =IF(CA26=0,0,($N$26/$CA$26)*100000) -> 0 | CC26: ='C_Health Regions'!AB5 -> 0 | CD26: =IF(CC26=0,0,($N$26/$CC$26)*100000) -> 0 | CE26: ='C_Health Regions'!AD5 -> 0 | CF26: =IF(CE26=0,0,($AA$4/$CE$8)*100000) -> 0 | CG26: ='C_Health Regions'!AF5 -> 0 | CH26: =IF(CG26=0,0,($AB$4/$CG$8)*100000) -> 0 | CI26: ='C_Health Regions'!AH5 -> 0 | CJ26: =IF(CI26=0,0,($AC$4/$CI$8)*100000) -> 0 | CK26: ='C_Health Regions'!AJ5 -> 0 | CL26: =IF(CK26=0,0,($AD$4/$CK$8)*100000) -> 0 | CM26: ='C_Health Regions'!AL5 -> 0 | CN26: =IF(CM26=0,0,($AE$4/$CM$8)*100000) -> 0 | CO26: ='C_Health Regions'!AN5 -> 0 | CP26: =IF(CO26=0,0,($AF$4/$CO$8)*100000) -> 0
B27: total | C27: =SUM(C22:C26) -> 0 | D27: =SUM(D22:D26) -> 0 | E27: =SUM(E22:E26) -> 0 | F27: =SUM(F22:F26) -> 0 | G27: =SUM(G22:G26) -> 0 | H27: =SUM(H22:H26) -> 0 | I27: =SUM(I22:I26) -> 0 | J27: =SUM(J22:J26) -> 0 | ... AF27: =SUM(AF22:AF26) -> 0 | AH27: =SUM(AH22:AH26) -> 0 | AI27: =SUM(AI22:AI26) -> 0 | AJ27: =SUM(AJ22:AJ26) -> 0 | AK27: =SUM(AK22:AK26) -> 0 | AL27: =SUM(AL22:AL26) -> 0 | AM27: =SUM(AM22:AM26) -> 0 | AN27: =SUM(AN22:AN26) -> 0 | AO27: =SUM(AO22:AO26) -> 0 | ... BA27: =SUM(BA22:BA26) -> 0 | BC27: =SUM(BC22:BC26) -> 0 | BD27: =SUM(BD22:BD26) -> 0 | BE27: =SUM(BE22:BE26) -> 0 | BF27: =SUM(BF22:BF26) -> 0 | BG27: =SUM(BG22:BG26) -> 0 | BH27: =SUM(BH22:BH26) -> 0 | BI27: =SUM(BI22:BI26) -> 0 | BJ27: =SUM(BJ22:BJ26) -> 0 | ... CD27: =SUM(CD22:CD26) -> 0 | CE27: ='C_Health Regions'!AD44 -> 0 | CF27: =IF(CE27=0,0,($AA$4/$CE$9)*100000) -> 0 | CG27: ='C_Health Regions'!AF44 -> 0 | CH27: =IF(CG27=0,0,($AB$4/$CG$9)*100000) -> 0 | CI27: ='C_Health Regions'!AH44 -> 0 | CJ27: =IF(CI27=0,0,($AC$4/$CI$9)*100000) -> 0 | CK27: ='C_Health Regions'!AJ93 -> 0 | CL27: =IF(CK27=0,0,($AD$4/$CK$9)*100000) -> 0 | CM27: ='C_Health Regions'!AL93 -> 0 | CN27: =IF(CM27=0,0,($AE$4/$CM$9)*100000) -> 0 | CO27: ='C_Health Regions'!AN44 -> 0 | CP27: =IF(CO27=0,0,($AF$4/$CO$9)*100000) -> 0

Sheet 2_Year 2
A1: =' B_Populations'!A10 -> 2017 | B1: Data Input Tables Instructions: Enter your Firearm-related injury data in the red cells below | M1: Optional: Unhide columns N through Z to enter health region data
D2: Sex Data | F2: Demographic Data | M2: Region Data
