Workbook

Sheet A_Instructions
A2: Step 1: Preparing State/Territory Data | F2: Step 2: Entering Data | T2: Step 3: Creating Special Emphasis Report
A3: Name | B3: ICD-10-CM code | C3: ICD-10-CM notes
A4: 1a. Create a Nonfatal Hospital Discharge Data Injury Subset - includes records that have one of the following ICD-10-CM injury diagnosis codes* in the principal diagnosis field for up to 5 years
A6: ICD-10-CM injury diagnosis codes* *Only include cases if the 7th character of the code is A, B, C, or missing (reflects initial encounter, active treatment). T30-T32 do not have a 7th character | B6: S00-S99 | C6: Anatomic injuries
B7: T07-T34 | C7: Foreign bodies, burns, corrosions, frostbite
B8: T36-T50 with a 6th character of 1, 2, 3, or 4 Note: Include T36.9, T37.9, T39.9, T41.4, T42.7, T43.9, T45.9, T47.9, and T49.9 with a 5th character of 1, 2, 3, or 4 (Intent information for these codes is included in the 5th character and not the 6th) | C8: Poisoning by drugs, medicaments, and biological substances (Includes accidental, intentional self-harm, assault, and underdetermined intents; Excludes adverse effects and underdosing)
B9: T51-T65 | C9: Toxic effects of substances nonmedicinal as to source
B10: T66-T76 | C10: Other and unspecified effects of external causes
B11: T79 | C11: Certain early complications of trauma, not elsewhere classified
B12: O9A.2-O9A.5 | C12: Traumatic injuries and abuse complicating pregnancy, childbirth, and the puerperium
B13: T84.04** | C13: Periprosthetic fracture around internal prosthetic joint **T84.04 was retired and replaced by M97 in the FY2017 version of ICD-10-CM which went into effect on Oct 1, 2016
B14: M97** | C14: Periprosthetic fracture around internal prosthetic joint
A15: 1b. Create a Nonfatal Unintentional Fall-related Injury Hospitalizations Data Subset - Includes data for nonfatal hospitalizations from the injury hospital discharge subset with any of the following ICD-10-CM external cause-of-injury codes in any field for up to 5 years
A18: ICD-10-CM Codes* for Unintentional Fall-related Injuries *Only include cases if the 7th character of the code is A or missing (reflects initial encounter, active treatment) | B18: V00.1-V00.8 With 6th character=1 | C18: Falls related to pedestrian conveyance
B19: W00-W15, W17, W19 | C19: Falls
B20: W16 with 6th character=2, W16.42, W16.92 | C20: Fall, jump, or diving into water
B21: W18.1-W18.3 | C21: Other falls
A22: 1c. Using the ICD-10-CM codes beginning in row 32, please create a Nonfatal Unintentional Fall-related Injury Hospitalizations Data Subset for Falls involving nonfatal hip fractures and TBI. This Data Subset will be used to create Figure 2.
A23: 2. Create a Nonfatal Unintentional Fall-related Injury ED Visit Data Subset - Includes data with any of the following ICD-10-CM external cause-of-injury codes in any field for up to 5 years
A24: ICD-10-CM Codes* for Unintentional Fall-related Injuries *Only include cases if the 7th character of the code is A or missing (reflects initial encounter, active treatment) | B24: V00.1-V00.8 with 6th character=1 | C24: Falls related to pedestrian conveyance
B25: W00-W15, W17, W19 | C25: Falls
B26: W16 with 6th character=2, W16.42, W16.92 | C26: Fall, jump, or diving into water
B27: W18.1-W18.3 | C27: Other falls
A28: 2a. Using the ICD-10-CM codes beginning in row 32, please create a Nonfatal Unintentional Fall-related Injury ED Visit Data Subset for Falls involving nonfatal hip fractures and TBI. This Data Subset will be used to create Figure 2.
A29: 3. Create an Unintentional Fall-related Injury Death Data Subset - Includes data for deaths with any of the following ICD-10 codes in the underlying cause of death field for up to 5 years
A30: ICD-10 codes for Unintentional Fall-related Fatalities | B30: W00-W19 | C30: Falls
A31: 3a. Using the ICD-10-CM codes beginning in row 34, please create an Unintentional Fall-related Injury Death Data Subset for Falls involving hip fractures and TBI. This Data Subset will be used to create Figure 2.
A33: Codes for specific injuries
A34: Hospitalizations and ED Visits
A35: ICD-10-CM Codes for Nonfatal Hip Fractures (for both Hospitalizations and ED visits) Have one of the following ICD-10-CM* diagnosis codes in any field *Only include cases if the 7th character of the code is A, B, C or missing (reflects initial encounter, active treatment) | B35: S72.0 | C35: Fracture of head and neck of femur
B36: S72.1 | C36: Pertrochanteric fracture
B37: S72.2 | C37: Subtrochanteric fracture
B38: T84.040** | C38: Periprosthetic fracture around internal prosthetic right hip joint **T84.04 was retired and replaced by M97.0 in the FY2017 version of ICD-10-CM which went into effect on Oct 1, 2016
B39: T84.041** | C39: Periprosthetic fracture around internal prosthetic left hip joint
B40: M97.0** | C40: Periprosthetic fracture around internal prosthetic hip joint
A41: ICD-10-CM Codes for Nonfatal TBI (for both Hospitalizations and ED visits) Have one of the following ICD-10-CM* diagnosis codes in any field *Only Include cases if the 7th character of the code is A, B, or missing (reflects initial encounter, active treatment) | B41: S02.0, S02.1 | C41: Fracture of skull
B42: S02.8X**, S02.80, S02.81, S02.82, S02.91 | C42: Fracture of other specified skull and facial bones; unspecified fracture **In the FY 2017 ICD-10-CM code set, which went into effect on Oct 1, 2016, the S02.8 code was expanded to include several subcodes (S02.80, S02.81, and S02.82). These subcodes should be included in the selection criteria for the indicator if using data for admissions/visits after Oct 1, 2016. In FY 2020, the S02.8 code was expanded again to include S02.83-, S02.84- and S02.85. These subcodes are not included in the selection criteria for the indicator as they represent fractures to the medial and lateral orbital wall, or unspecified fractures of the orbit and are not considered to be TBI.
B43: S04.02, S04.03, S04.04 | C43: Injury of optic chiasm; injury of optic tract and pathways; injuries of visual cortex
B44: S06 | C44: Intracranial injury
B45: S07.1 | C45: Crushing injury of skull
B46: T74.4 | C46: Shaken infant syndrome
A47: Deaths
A48: ICD-10 Codes for Hip Fractures - Have one of the following ICD-10 codes in any multiple cause of death field | B48: S72.0 | C48: Fracture of neck of femur
B49: S72.1 | C49: Pertrochanteric fracture
B50: S72.2 | C50: Subtrochanteric fracture
A51: ICD-10 Codes for TBI - Have one of the following ICD-10 codes in any multiple cause of death field | B51: S01.0–S01.9 | C51: Open wound of head
B52: S02.0, S02.1, S02.3, S02.7–S02.9 | C52: Fracture of skull and facial bones
B53: S04.0 | C53: Injury of optic nerve and pathways
B54: S06.0–S06.9 | C54: Intracranial injury
B55: S07.0, S07.1, S07.8, S07.9 | C55: Crushing injury of head
B56: S09.7-S09.9 | C56: Other and unspecified injuries of head
B57: T90.1, T90.2, T90.4, T90.5, T90.8, T90.9 | C57: Sequelae of injuries of head

Sheet  B_Populations
A1: Please enter population data for up to 5 years in this tab
A2: State/Territor Population Data
A3: State/Territory: | D3: Year 1
B4: Enter your state name in A4 | E4: Enter the data year in D4
B7: Enter total population data by age group below | D7: Enter male population data by age group below | F7: Enter female population data by age group below | H7: Enter demographic population data | J7: Enter demographic population data | L7: Enter demographic population data | N7: Enter demographic population data | P7: Enter demographic population data | R7: Enter demographic population data
A8: Age | B8: Total | D8: Male | F8: Female | H8: White-Not Hispanic | J8: Hispanic | L8: Black-Not Hispanic | N8: Asian | P8: American Indian/Alaska Native | R8: Other | S8: Enter name of "Other" category in R8
A9: 65-74
A10: 75-84
A11: 85+
A12: TOTAL (ages 65-85+) | B12: =SUM(B9:B11) -> 0 | D12: =SUM(D9:D11) -> 0 | F12: =SUM(F9:F11) -> 0 | H12: =SUM(H9:H11) -> 0 | J12: =SUM(J9:J11) -> 0 | L12: =SUM(L9:L11) -> 0 | N12: =SUM(N9:N11) -> 0 | P12: =SUM(P9:P11) -> 0 | R12: =SUM(R9:R11) -> 0
A14: 2000 Standard population - from "Populations" tab
A15: 65-74 | B15: 18136
A16: 75-84 | B16: 12315
A17: 85+ | B17: 4259
A18: TOTAL (ages 65-85+) | B18: =SUM(B15:B17) -> 34710
D21: Year 2
E22: Enter the data yearin D22
B25: Enter total population data by age group below | D25: Enter male population data by age group below | F25: Enter female population data by age group below | H25: Enter demographic population data | J25: Enter demographic population data | L25: Enter demographic population data | N25: Enter demographic population data | P25: Enter demographic population data | R25: Enter demographic population data
A26: Age | B26: Total | D26: Male | F26: Female | H26: White-Not Hispanic | J26: Hispanic | L26: Black-Not Hispanic | N26: Asian | P26: American Indian/Alaska Native | R26: Other | S26: Enter name of "Other" category in R8
A27: 65-74
A28: 75-84
A29: 85+
A30: TOTAL (ages 65-85+) | B30: =SUM(B27:B29) -> 0 | D30: =SUM(D27:D29) -> 0 | F30: =SUM(F27:F29) -> 0 | H30: =SUM(H27:H29) -> 0 | J30: =SUM(J27:J29) -> 0 | L30: =SUM(L27:L29) -> 0 | N30: =SUM(N27:N29) -> 0 | P30: =SUM(P27:P29) -> 0 | R30: =SUM(R27:R29) -> 0
D33: Year 3
E34: Enter the data year in D34
B37: Enter total population data by age group below | D37: Enter male population data by age group below | F37: Enter female population data by age group below | H37: Enter demographic population data | J37: Enter demographic population data | L37: Enter demographic population data | N37: Enter demographic population data | P37: Enter demographic population data | R37: Enter demographic population data
A38: Age | B38: Total | D38: Male | F38: Female | H38: White-Not Hispanic | J38: Hispanic | L38: Black-Not Hispanic | N38: Asian | P38: American Indian/Alaska Native | R38: Other | S38: Enter name of "Other" category in R8
A39: 65-74
A40: 75-84
A41: 85+
A42: TOTAL (ages 65-85+) | B42: =SUM(B39:B41) -> 0 | D42: =SUM(D39:D41) -> 0 | F42: =SUM(F39:F41) -> 0 | H42: =SUM(H39:H41) -> 0 | J42: =SUM(J39:J41) -> 0 | L42: =SUM(L39:L41) -> 0 | N42: =SUM(N39:N41) -> 0 | P42: =SUM(P39:P41) -> 0 | R42: =SUM(R39:R41) -> 0
D45: Year 4
E46: Enter the data year in D46
B49: Enter total population data by age group below | D49: Enter male population data by age group below | F49: Enter female population data by age group below | H49: Enter demographic population data | J49: Enter demographic population data | L49: Enter demographic population data | N49: Enter demographic population data | P49: Enter demographic population data | R49: Enter demographic population data
A50: Age | B50: Total | D50: Male | F50: Female | H50: White-Not Hispanic | J50: Hispanic | L50: Black-Not Hispanic | N50: Asian | P50: American Indian/Alaska Native | R50: Other | S50: Enter name of "Other" category in R8
A51: 65-74
A52: 75-84
A53: 85+
A54: TOTAL (ages 65-85+) | B54: =SUM(B51:B53) -> 0 | D54: =SUM(D51:D53) -> 0 | F54: =SUM(F51:F53) -> 0 | H54: =SUM(H51:H53) -> 0 | J54: =SUM(J51:J53) -> 0 | L54: =SUM(L51:L53) -> 0 | N54: =SUM(N51:N53) -> 0 | P54: =SUM(P51:P53) -> 0 | R54: =SUM(R51:R53) -> 0
D57: Year 5
E58: Enter the data year in D58
B61: Enter total population data by age group below | D61: Enter male population data by age group below | F61: Enter female population data by age group below | H61: Enter demographic population data | J61: Enter demographic population data | L61: Enter demographic population data | N61: Enter demographic population data | P61: Enter demographic population data | R61: Enter demographic population data
A62: Age | B62: Total | D62: Male | F62: Female | H62: White-Not Hispanic | J62: Hispanic | L62: Black-Not Hispanic | N62: Asian | P62: American Indian/Alaska Native | R62: Other | S62: Enter name of "Other" category in R8
A63: 65-74
A64: 75-84
A65: 85+
A66: TOTAL (ages 65-85+) | B66: =SUM(B63:B65) -> 0 | D66: =SUM(D63:D65) -> 0 | F66: =SUM(F63:F65) -> 0 | H66: =SUM(H63:H65) -> 0 | J66: =SUM(J63:J65) -> 0 | L66: =SUM(L63:L65) -> 0 | N66: =SUM(N63:N65) -> 0 | P66: =SUM(P63:P65) -> 0 | R66: =SUM(R63:R65) -> 0

Sheet C_Health Regions
A1: Older Adult Falls-Specific State Injury Indicators Report
A2: Please enter population data for Health Districts/Regions in this tab
A3: Data Year
A5: Age | B5: Region 1 | D5: Region 2 | F5: Region 3 | H5: Region 4 | J5: Region 5 | L5: Region 6 | N5: Region 7 | P5: Region 8 | R5: Region 9 | T5: Region 10 | V5: Region 11 | X5: Region 12 | Z5: Region 13 | AB5: Region 14 | AD5: Region 15 | AF5: Region 16 | AH5: Region 17 | AJ5: Region 18 | AL5: Region 19 | AN5: Region 20
A6: =' B_Populations'!$A$9 -> 65-74
A7: =' B_Populations'!$A$10 -> 75-84
A8: =' B_Populations'!$A$11 -> 85+
A9: TOTAL | B9: =SUM(B6:B8) -> 0 | D9: =SUM(D6:D8) -> 0 | F9: =SUM(F6:F8) -> 0 | H9: =SUM(H6:H8) -> 0 | J9: =SUM(J6:J8) -> 0 | L9: =SUM(L6:L8) -> 0 | N9: =SUM(N6:N8) -> 0 | P9: =SUM(P6:P8) -> 0 | R9: =SUM(R6:R8) -> 0 | T9: =SUM(T6:T8) -> 0 | V9: =SUM(V6:V8) -> 0 | X9: =SUM(X6:X8) -> 0 | Z9: =SUM(Z6:Z8) -> 0 | AB9: =SUM(AB6:AB8) -> 0 | AD9: =SUM(AD6:AD8) -> 0 | AF9: =SUM(AF6:AF8) -> 0 | AH9: =SUM(AH6:AH8) -> 0 | AJ9: =SUM(AJ6:AJ8) -> 0 | AL9: =SUM(AL6:AL8) -> 0 | AN9: =SUM(AN6:AN8) -> 0

Sheet D_Year 1
A1: =' B_Populations'!D4 -> 0 | B1: Data Input Tables Instructions: Enter your Older Adult Falls-related injury data in the red cells below. The age-adjusted rates will automatically calculate in the results table. | F1: Use columns F through K to enter demographic data | M1: Optional: Unhide columns M through AD to show rate calculations by sex and race/ethnicity and 2000 population weights | AE1: Columns AI through AQ will then autogenerate age adjusted rates per 100,000 | AH1: Results Table Age Adjusted Rates per 100,1000. Results will calculate automatically.
D2: Sex Data | F2: Demographic Data | AI2: Age-adjusted Rates per 100,000 population
B3: Age | C3: Number of hospitalizations- Total | D3: Number of hospitalizations- Male | E3: Number of hospitalizations- Female | F3: =[1]Populations!I80 -> White-Not Hispanic | G3: =[1]Populations!K80 -> Hispanic | H3: =[1]Populations!M80 -> Black-Not Hispanic | I3: =[1]Populations!O80 -> Asian | J3: =[1]Populations!Q80 -> American Indian/Alaska Native | K3: =[1]Populations!S80 -> Other | M3: State population - Total | N3: Rate | O3: State population - Male | P3: Rate | Q3: State population - Female | R3: Rate | S3: =' B_Populations'!H8 -> White-Not Hispanic | T3: Rate | U3: =' B_Populations'!J8 -> Hispanic | V3: Rate | W3: =' B_Populations'!L8 -> Black-Not Hispanic | X3: Rate | Y3: =' B_Populations'!N8 -> Asian | Z3: Rate | AA3: =' B_Populations'!P8 -> American Indian/Alaska Native | AB3: Rate | AC3: =' B_Populations'!R8 -> Other | AD3: Rate | AE3: 2000 Standard population - from "Populations" tab | AF3: 2000 state population weights | AH3: Age | AI3: Total | AJ3: Male | AK3: Female | AL3: =' B_Populations'!H8 -> White-Not Hispanic | AM3: =' B_Populations'!J8 -> Hispanic | AN3: =' B_Populations'!L8 -> Black-Not Hispanic | AO3: =' B_Populations'!N8 -> Asian | AP3: =' B_Populations'!P8 -> American Indian/Alaska Native | AQ3: =' B_Populations'!R8 -> Other
B4: =' B_Populations'!A9 -> 65-74 | M4: =' B_Populations'!B9 -> 0 | N4: =IF(M4=0,0,($C$4/$M$4)*100000) -> 0 | O4: =' B_Populations'!D9 -> 0 | P4: =IF(O4=0,0,($D$4/$O$4)*100000) -> 0 | Q4: =' B_Populations'!F9 -> 0 | R4: =IF(Q4=0,0,($E$4/$Q$4)*100000) -> 0 | S4: =' B_Populations'!H9 -> 0 | T4: =IF(S4=0,0,($F$4/$S$4)*100000) -> 0 | U4: =' B_Populations'!J9 -> 0 | V4: =IF(U4=0,0,($G$4/$U$4)*100000) -> 0 | W4: =' B_Populations'!L9 -> 0 | X4: =IF(W4=0,0,($H$4/$W$4)*100000) -> 0 | Y4: =' B_Populations'!N9 -> 0 | Z4: =IF(Y4=0,0,($I$4/$Y$4)*100000) -> 0 | AA4: =' B_Populations'!P9 -> 0 | AB4: =IF(AA4=0,0,($J$4/$AA$4)*100000) -> 0 | AC4: =' B_Populations'!R9 -> 0 | AD4: =IF(AC4=0,0,($K$4/$AC$4)*100000) -> 0 | AE4: =' B_Populations'!B15 -> 18136 | AF4: 0.522501 | AH4: =' B_Populations'!A9 -> 65-74 | AI4: =N4*AF4 -> 0 | AJ4: =P4*AF4 -> 0 | AK4: =R4*AF4 -> 0 | AL4: =T4*AF4 -> 0 | AM4: =V4*AF4 -> 0 | AN4: =X4*AF4 -> 0 | AO4: =Z4*AF4 -> 0 | AP4: =AB4*AF4 -> 0 | AQ4: =AD4*AF4 -> 0
B5: =' B_Populations'!A10 -> 75-84 | M5: =' B_Populations'!B10 -> 0 | N5: =IF(M5=0,0,($C$5/$M$5)*100000) -> 0 | O5: =' B_Populations'!D10 -> 0 | P5: =IF(O5=0,0,($D$5/$O$5)*100000) -> 0 | Q5: =' B_Populations'!F10 -> 0 | R5: =IF(Q5=0,0,($E$5/$Q$5)*100000) -> 0 | S5: =' B_Populations'!H10 -> 0 | T5: =IF(S5=0,0,($F$5/$S$5)*100000) -> 0 | U5: =' B_Populations'!J10 -> 0 | V5: =IF(U5=0,0,($G$5/$U$5)*100000) -> 0 | W5: =' B_Populations'!L10 -> 0 | X5: =IF(W5=0,0,($G$5/$W$5)*100000) -> 0 | Y5: =' B_Populations'!N10 -> 0 | Z5: =IF(Y5=0,0,($I$5/$Y$5)*100000) -> 0 | AA5: =' B_Populations'!P10 -> 0 | AB5: =IF(AA5=0,0,($J$5/$AA$5)*100000) -> 0 | AC5: =' B_Populations'!R10 -> 0 | AD5: =IF(AC5=0,0,($K$5/$AC$5)*100000) -> 0 | AE5: =' B_Populations'!B16 -> 12315 | AF5: 0.354797 | AH5: =' B_Populations'!A10 -> 75-84 | AI5: =N5*AF5 -> 0 | AJ5: =P5*AF5 -> 0 | AK5: =R5*AF5 -> 0 | AL5: =T5*AF5 -> 0 | AM5: =V5*AF5 -> 0 | AN5: =X5*AF5 -> 0 | AO5: =Z5*AF5 -> 0 | AP5: =AB5*AF5 -> 0 | AQ5: =AD5*AF5 -> 0
B6: =' B_Populations'!A11 -> 85+ | M6: =' B_Populations'!B11 -> 0 | N6: =IF(M6=0,0,($C$6/$M$6)*100000) -> 0 | O6: =' B_Populations'!D11 -> 0 | P6: =IF(O6=0,0,($D$6/$O$6)*100000) -> 0 | Q6: =' B_Populations'!F11 -> 0 | R6: =IF(Q6=0,0,($E$6/$Q$6)*100000) -> 0 | S6: =' B_Populations'!H11 -> 0 | T6: =IF(S6=0,0,($F$6/$S$6)*100000) -> 0 | U6: =' B_Populations'!J11 -> 0 | V6: =IF(U6=0,0,($G$6/$U$6)*100000) -> 0 | W6: =' B_Populations'!L11 -> 0 | X6: =IF(W6=0,0,($G$6/$W$6)*100000) -> 0 | Y6: =' B_Populations'!N11 -> 0 | Z6: =IF(Y6=0,0,($I$6/$Y$6)*100000) -> 0 | AA6: =' B_Populations'!P11 -> 0 | AB6: =IF(AA6=0,0,($J$6/$AA$6)*100000) -> 0 | AC6: =' B_Populations'!R11 -> 0 | AD6: =IF(AC6=0,0,($K$6/$AC$6)*100000) -> 0 | AE6: =' B_Populations'!B17 -> 4259 | AF6: 0.122702 | AH6: =' B_Populations'!A11 -> 85+ | AI6: =N6*AF6 -> 0 | AJ6: =P6*AF6 -> 0 | AK6: =R6*AF6 -> 0 | AL6: =T6*AF6 -> 0 | AM6: =V6*AF6 -> 0 | AN6: =X6*AF6 -> 0 | AO6: =Z6*AF6 -> 0 | AP6: =AB6*AF6 -> 0 | AQ6: =AD6*AF6 -> 0
B7: total | C7: =SUM(C4:C6) -> 0 | D7: =SUM(D4:D6) -> 0 | E7: =SUM(E4:E6) -> 0 | F7: =SUM(F4:F6) -> 0 | G7: =SUM(G4:G6) -> 0 | H7: =SUM(H4:H6) -> 0 | I7: =SUM(I4:I6) -> 0 | J7: =SUM(J4:J6) -> 0 | K7: =SUM(K4:K6) -> 0 | M7: =' B_Populations'!B12 -> 0 | N7: =(SUM(C4:C6)/M7)*100000 -> #DIV/0! | O7: =' B_Populations'!D12 -> 0 | P7: =(SUM(D4:D6)/O7)*100000 -> #DIV/0! | Q7: =' B_Populations'!F12 -> 0 | R7: =(SUM(E4:E6)/Q7)*100000 -> #DIV/0! | S7: =' B_Populations'!H12 -> 0 | T7: =(SUM(F4:F6)/S7)*100000 -> #DIV/0! | U7: =' B_Populations'!J12 -> 0 | V7: =(SUM(G4:G6)/U7)*100000 -> #DIV/0! | W7: =' B_Populations'!L12 -> 0 | X7: =(SUM(H4:H6)/W7)*100000 -> #DIV/0! | Y7: =' B_Populations'!N12 -> 0 | Z7: =(SUM(I4:I6)/Y7)*100000 -> #DIV/0! | AA7: =' B_Populations'!P12 -> 0 | AB7: =(SUM(J4:J6)/AA7)*100000 -> #DIV/0! | AC7: =' B_Populations'!R12 -> 0 | AD7: =(SUM(K4:K6)/AC7)*100000 -> #DIV/0! | AE7: =' B_Populations'!B18 -> 34710 | AF7: 1 | AH7: total | AI7: =SUM(AI4:AI6) -> 0 | AJ7: =SUM(AJ4:AJ6) -> 0 | AK7: =SUM(AK4:AK6) -> 0 | AL7: =SUM(AL4:AL6) -> 0 | AM7: =SUM(AM4:AM6) -> 0 | AN7: =SUM(AN4:AN6) -> 0 | AO7: =SUM(AO4:AO6) -> 0 | AP7: =SUM(AP4:AP6) -> 0 | AQ7: =SUM(AQ4:AQ6) -> 0
D9: Sex Data | F9: Demographic Data | AI9: Age-adjusted Rates per 100,000 population
B10: Age | C10: Number of ED visits- Total | D10: Number of ED visits- Male | E10: Number of ED visits- Female | F10: =[1]Populations!I80 -> White-Not Hispanic | G10: =[1]Populations!K80 -> Hispanic | H10: =[1]Populations!M80 -> Black-Not Hispanic | I10: =[1]Populations!O80 -> Asian | J10: =[1]Populations!Q80 -> American Indian/Alaska Native | K10: =[1]Populations!S80 -> Other | M10: State population - Total | N10: Rate | O10: State population - Male | P10: Rate | Q10: State population - Female | R10: Rate | S10: =' B_Populations'!H8 -> White-Not Hispanic | T10: Rate | U10: =' B_Populations'!J8 -> Hispanic | V10: Rate | W10: =' B_Populations'!L8 -> Black-Not Hispanic | X10: Rate | Y10: =' B_Populations'!N8 -> Asian | Z10: Rate | AA10: =' B_Populations'!P8 -> American Indian/Alaska Native | AB10: Rate | AC10: =' B_Populations'!R8 -> Other | AD10: Rate | AE10: 2000 Standard population - from "Populations" tab | AF10: Weight | AH10: Age | AI10: Total | AJ10: Male | AK10: Female | AL10: =' B_Populations'!H8 -> White-Not Hispanic | AM10: =' B_Populations'!J8 -> Hispanic | AN10: =' B_Populations'!L8 -> Black-Not Hispanic | AO10: =' B_Populations'!N8 -> Asian | AP10: =' B_Populations'!P8 -> American Indian/Alaska Native | AQ10: =' B_Populations'!R8 -> Other
B11: =' B_Populations'!A9 -> 65-74 | M11: =' B_Populations'!B9 -> 0 | N11: =IF(M11=0,0,($C$11/$M$11)*100000) -> 0 | O11: =' B_Populations'!D9 -> 0 | P11: =IF(O11=0,0,($D$11/$O$11)*100000) -> 0 | Q11: =' B_Populations'!F9 -> 0 | R11: =IF(Q11=0,0,($E$11/$Q$11)*100000) -> 0 | S11: =' B_Populations'!H9 -> 0 | T11: =IF(S11=0,0,($F$11/$S$11)*100000) -> 0 | U11: =' B_Populations'!J9 -> 0 | V11: =IF(U11=0,0,($G$11/$U$11)*100000) -> 0 | W11: =' B_Populations'!L9 -> 0 | X11: =IF(W11=0,0,($H$11/$W$11)*100000) -> 0 | Y11: =' B_Populations'!N9 -> 0 | Z11: =IF(Y11=0,0,($I$11/$Y$11)*100000) -> 0 | AA11: =' B_Populations'!P9 -> 0 | AB11: =IF(AA11=0,0,($J$11/$AA$11)*100000) -> 0 | AC11: =' B_Populations'!R9 -> 0 | AD11: =IF(AC11=0,0,($K$11/$AC$11)*100000) -> 0 | AE11: =' B_Populations'!B15 -> 18136 | AF11: 0.522501 | AH11: =' B_Populations'!A9 -> 65-74 | AI11: =N11*AF11 -> 0 | AJ11: =P11*AF11 -> 0 | AK11: =R11*AF11 -> 0 | AL11: =T11*AF11 -> 0 | AM11: =V11*AF11 -> 0 | AN11: =X11*AF11 -> 0 | AO11: =Z11*AF11 -> 0 | AP11: =AB11*AF11 -> 0 | AQ11: =AD11*AF11 -> 0
B12: =' B_Populations'!A10 -> 75-84 | M12: =' B_Populations'!B10 -> 0 | N12: =IF(M12=0,0,($C$12/$M$12)*100000) -> 0 | O12: =' B_Populations'!D10 -> 0 | P12: =IF(O12=0,0,($D$12/$O$12)*100000) -> 0 | Q12: =' B_Populations'!F10 -> 0 | R12: =IF(Q12=0,0,($E$12/$Q$12)*100000) -> 0 | S12: =' B_Populations'!H10 -> 0 | T12: =IF(S12=0,0,($F$12/$S$12)*100000) -> 0 | U12: =' B_Populations'!J10 -> 0 | V12: =IF(U12=0,0,($G$12/$U$12)*100000) -> 0 | W12: =' B_Populations'!L10 -> 0 | X12: =IF(W12=0,0,($H$12/$W$12)*100000) -> 0 | Y12: =' B_Populations'!N10 -> 0 | Z12: =IF(Y12=0,0,($I$12/$Y$12)*100000) -> 0 | AA12: =' B_Populations'!P10 -> 0 | AB12: =IF(AA12=0,0,($J$12/$AA$12)*100000) -> 0 | AC12: =' B_Populations'!R10 -> 0 | AD12: =IF(AC12=0,0,($K$12/$AC$12)*100000) -> 0 | AE12: =' B_Populations'!B16 -> 12315 | AF12: 0.354797 | AH12: =' B_Populations'!A10 -> 75-84 | AI12: =N12*AF12 -> 0 | AJ12: =P12*AF12 -> 0 | AK12: =R12*AF12 -> 0 | AL12: =T12*AF12 -> 0 | AM12: =V12*AF12 -> 0 | AN12: =X12*AF12 -> 0 | AO12: =Z12*AF12 -> 0 | AP12: =AB12*AF12 -> 0 | AQ12: =AD12*AF12 -> 0
B13: =' B_Populations'!A11 -> 85+ | M13: =' B_Populations'!B11 -> 0 | N13: =IF(M13=0,0,($C$13/$M$13)*100000) -> 0 | O13: =' B_Populations'!D11 -> 0 | P13: =IF(O13=0,0,($D$13/$O$13)*100000) -> 0 | Q13: =' B_Populations'!F11 -> 0 | R13: =IF(Q13=0,0,($E$13/$Q$13)*100000) -> 0 | S13: =' B_Populations'!H11 -> 0 | T13: =IF(S13=0,0,($F$13/$S$13)*100000) -> 0 | U13: =' B_Populations'!J11 -> 0 | V13: =IF(U13=0,0,($G$13/$U$13)*100000) -> 0 | W13: =' B_Populations'!L11 -> 0 | X13: =IF(W13=0,0,($H$13/$W$13)*100000) -> 0 | Y13: =' B_Populations'!N11 -> 0 | Z13: =IF(Y13=0,0,($I$13/$Y$13)*100000) -> 0 | AA13: =' B_Populations'!P11 -> 0 | AB13: =IF(AA13=0,0,($J$13/$AA$13)*100000) -> 0 | AC13: =' B_Populations'!R11 -> 0 | AD13: =IF(AC13=0,0,($K$13/$AC$13)*100000) -> 0 | AE13: =' B_Populations'!B17 -> 4259 | AF13: 0.122702 | AH13: =' B_Populations'!A11 -> 85+ | AI13: =N13*AF13 -> 0 | AJ13: =P13*AF13 -> 0 | AK13: =R13*AF13 -> 0 | AL13: =T13*AF13 -> 0 | AM13: =V13*AF13 -> 0 | AN13: =X13*AF13 -> 0 | AO13: =Z13*AF13 -> 0 | AP13: =AB13*AF13 -> 0 | AQ13: =AD13*AF13 -> 0
B14: total | C14: =SUM(C11:C13) -> 0 | D14: =SUM(D11:D13) -> 0 | E14: =SUM(E11:E13) -> 0 | F14: =SUM(F11:F13) -> 0 | G14: =SUM(G11:G13) -> 0 | H14: =SUM(H11:H13) -> 0 | I14: =SUM(I11:I13) -> 0 | J14: =SUM(J11:J13) -> 0 | K14: =SUM(K11:K13) -> 0 | M14: =' B_Populations'!B12 -> 0 | N14: =(SUM(C11:C13)/M14)*100000 -> #DIV/0! | O14: =' B_Populations'!D12 -> 0 | P14: =(SUM(D11:D13)/O14)*100000 -> #DIV/0! | Q14: =' B_Populations'!F12 -> 0 | R14: =(SUM(E11:E13)/Q14)*100000 -> #DIV/0! | S14: =' B_Populations'!H12 -> 0 | T14: =(SUM(F11:F13)/S14)*100000 -> #DIV/0! | U14: =' B_Populations'!J12 -> 0 | V14: =(SUM(G11:G13)/U14)*100000 -> #DIV/0! | W14: =' B_Populations'!L12 -> 0 | X14: =(SUM(H11:H13)/W14)*100000 -> #DIV/0! | Y14: =' B_Populations'!N12 -> 0 | Z14: =(SUM(I11:I13)/Y14)*100000 -> #DIV/0! | AA14: =' B_Populations'!P12 -> 0 | AB14: =(SUM(J11:J13)/AA14)*100000 -> #DIV/0! | AC14: =' B_Populations'!R12 -> 0 | AD14: =(SUM(K11:K13)/AC14)*100000 -> #DIV/0! | AE14: =' B_Populations'!B18 -> 34710 | AF14: 1 | AH14: total | AI14: =SUM(AI11:AI13) -> 0 | AJ14: =SUM(AJ11:AJ13) -> 0 | AK14: =SUM(AK11:AK13) -> 0 | AL14: =SUM(AL11:AL13) -> 0 | AM14: =SUM(AM11:AM13) -> 0 | AN14: =SUM(AN11:AN13) -> 0 | AO14: =SUM(AO11:AO13) -> 0 | AP14: =SUM(AP11:AP13) -> 0 | AQ14: =SUM(AQ11:AQ13) -> 0
D16: Sex Data | F16: Demographic Data | AI16: Age-adjusted Rates per 100,000 population
B17: Age | C17: Number of deaths- Total | D17: Number of deaths- Male | E17: Number of deaths- Female | F17: =[1]Populations!I80 -> White-Not Hispanic | G17: =[1]Populations!K80 -> Hispanic | H17: =[1]Populations!M80 -> Black-Not Hispanic | I17: =[1]Populations!O80 -> Asian | J17: =[1]Populations!Q80 -> American Indian/Alaska Native | K17: =[1]Populations!S80 -> Other | M17: State population - Total | N17: Rate | O17: State population - Male | P17: Rate | Q17: State population - Female | R17: Rate | S17: =' B_Populations'!H8 -> White-Not Hispanic | T17: Rate | U17: =[1]Populations!K80 -> Hispanic | V17: Rate | W17: =' B_Populations'!L8 -> Black-Not Hispanic | X17: Rate | Y17: =' B_Populations'!N8 -> Asian | Z17: Rate | AA17: =' B_Populations'!P8 -> American Indian/Alaska Native | AB17: Rate | AC17: =' B_Populations'!R8 -> Other | AD17: Rate | AE17: 2000 Standard population - from "Populations" tab | AF17: Weight | AH17: Age | AI17: Total | AJ17: Male | AK17: Female | AL17: =' B_Populations'!H8 -> White-Not Hispanic | AM17: =' B_Populations'!J8 -> Hispanic | AN17: =' B_Populations'!L8 -> Black-Not Hispanic | AO17: =' B_Populations'!N8 -> Asian | AP17: =' B_Populations'!P8 -> American Indian/Alaska Native | AQ17: =' B_Populations'!R8 -> Other
B18: =' B_Populations'!A9 -> 65-74 | M18: =' B_Populations'!B9 -> 0 | N18: =IF(M18=0,0,($C$18/$M$18)*100000) -> 0 | O18: =' B_Populations'!D9 -> 0 | P18: =IF(O18=0,0,($D$18/$O$18)*100000) -> 0 | Q18: =' B_Populations'!F9 -> 0 | R18: =IF(Q18=0,0,($E$18/$Q$18)*100000) -> 0 | S18: =' B_Populations'!H9 -> 0 | T18: =IF(S18=0,0,($F$18/$S$18)*100000) -> 0 | U18: =' B_Populations'!J9 -> 0 | V18: =IF(U18=0,0,($G$18/$U$18)*100000) -> 0 | W18: =' B_Populations'!L9 -> 0 | X18: =IF(W18=0,0,($H$18/$W$18)*100000) -> 0 | Y18: =' B_Populations'!N9 -> 0 | Z18: =IF(Y18=0,0,($I$18/$Y$18)*100000) -> 0 | AA18: =' B_Populations'!P9 -> 0 | AB18: =IF(AA18=0,0,($J$18/$AA$18)*100000) -> 0 | AC18: =' B_Populations'!R9 -> 0 | AD18: =IF(AC18=0,0,($K$18/$AC$18)*100000) -> 0 | AE18: =' B_Populations'!B15 -> 18136 | AF18: 0.522501 | AH18: =' B_Populations'!A9 -> 65-74 | AI18: =N18*AF18 -> 0 | AJ18: =P18*AF18 -> 0 | AK18: =R18*AF18 -> 0 | AL18: =T18*AF18 -> 0 | AM18: =V18*AF18 -> 0 | AN18: =X18*AF18 -> 0 | AO18: =Z18*AF18 -> 0 | AP18: =AB18*AF18 -> 0 | AQ18: =AD18*AF18 -> 0
B19: =' B_Populations'!A10 -> 75-84 | M19: =' B_Populations'!B10 -> 0 | N19: =IF(M19=0,0,($C$19/$M$19)*100000) -> 0 | O19: =' B_Populations'!D10 -> 0 | P19: =IF(O19=0,0,($D$19/$O$19)*100000) -> 0 | Q19: =' B_Populations'!F10 -> 0 | R19: =IF(Q19=0,0,($E$19/$Q$19)*100000) -> 0 | S19: =' B_Populations'!H10 -> 0 | T19: =IF(S19=0,0,($F$19/$S$19)*100000) -> 0 | U19: =' B_Populations'!J10 -> 0 | V19: =IF(U19=0,0,($G$19/$U$19)*100000) -> 0 | W19: =' B_Populations'!L10 -> 0 | X19: =IF(W19=0,0,($H$19/$W$19)*100000) -> 0 | Y19: =' B_Populations'!N10 -> 0 | Z19: =IF(Y19=0,0,($I$19/$Y$19)*100000) -> 0 | AA19: =' B_Populations'!P10 -> 0 | AB19: =IF(AA19=0,0,($J$19/$AA$19)*100000) -> 0 | AC19: =' B_Populations'!R10 -> 0 | AD19: =IF(AC19=0,0,($K$19/$AC$19)*100000) -> 0 | AE19: =' B_Populations'!B16 -> 12315 | AF19: 0.354797 | AH19: =' B_Populations'!A10 -> 75-84 | AI19: =N19*AF19 -> 0 | AJ19: =P19*AF19 -> 0 | AK19: =R19*AF19 -> 0 | AL19: =T19*AF19 -> 0 | AM19: =V19*AF19 -> 0 | AN19: =X19*AF19 -> 0 | AO19: =Z19*AF19 -> 0 | AP19: =AB19*AF19 -> 0 | AQ19: =AD19*AF19 -> 0
B20: =' B_Populations'!A11 -> 85+ | M20: =' B_Populations'!B11 -> 0 | N20: =IF(M20=0,0,($C$20/$M$20)*100000) -> 0 | O20: =' B_Populations'!D11 -> 0 | P20: =IF(O20=0,0,($D$20/$O$20)*100000) -> 0 | Q20: =' B_Populations'!F11 -> 0 | R20: =IF(Q20=0,0,($E$20/$Q$20)*100000) -> 0 | S20: =' B_Populations'!H11 -> 0 | T20: =IF(S20=0,0,($F$20/$S$20)*100000) -> 0 | U20: =' B_Populations'!J11 -> 0 | V20: =IF(U20=0,0,($G$20/$U$20)*100000) -> 0 | W20: =' B_Populations'!L11 -> 0 | X20: =IF(W20=0,0,($H$20/$W$20)*100000) -> 0 | Y20: =' B_Populations'!N11 -> 0 | Z20: =IF(Y20=0,0,($I$20/$Y$20)*100000) -> 0 | AA20: =' B_Populations'!P11 -> 0 | AB20: =IF(AA20=0,0,($J$20/$AA$20)*100000) -> 0 | AC20: =' B_Populations'!R11 -> 0 | AD20: =IF(AC20=0,0,($K$20/$AC$20)*100000) -> 0 | AE20: =' B_Populations'!B17 -> 4259 | AF20: 0.122702 | AH20: =' B_Populations'!A11 -> 85+ | AI20: =N20*AF20 -> 0 | AJ20: =P20*AF20 -> 0 | AK20: =R20*AF20 -> 0 | AL20: =T20*AF20 -> 0 | AM20: =V20*AF20 -> 0 | AN20: =X20*AF20 -> 0 | AO20: =Z20*AF20 -> 0 | AP20: =AB20*AF20 -> 0 | AQ20: =AD20*AF20 -> 0
B21: total | C21: =SUM(C18:C20) -> 0 | D21: =SUM(D18:D20) -> 0 | E21: =SUM(E18:E20) -> 0 | F21: =SUM(F18:F20) -> 0 | G21: =SUM(G18:G20) -> 0 | H21: =SUM(H18:H20) -> 0 | I21: =SUM(I18:I20) -> 0 | J21: =SUM(J18:J20) -> 0 | K21: =SUM(K18:K20) -> 0 | M21: =' B_Populations'!B12 -> 0 | N21: =(SUM(C18:C20)/M21)*100000 -> #DIV/0! | O21: =' B_Populations'!D12 -> 0 | P21: =(SUM(D18:D20)/O21)*100000 -> #DIV/0! | Q21: =' B_Populations'!F12 -> 0 | R21: =(SUM(E18:E20)/Q21)*100000 -> #DIV/0! | S21: =' B_Populations'!H12 -> 0 | T21: =(SUM(F18:F20)/S21)*100000 -> #DIV/0! | U21: =' B_Populations'!J12 -> 0 | V21: =(SUM(G18:G20)/U21)*100000 -> #DIV/0! | W21: =' B_Populations'!L12 -> 0 | X21: =(SUM(H18:H20)/W21)*100000 -> #DIV/0! | Y21: =' B_Populations'!N12 -> 0 | Z21: =(I21/Y21)*100000 -> #DIV/0! | AA21: =' B_Populations'!P12 -> 0 | AB21: =(J21/AA21)*100000 -> #DIV/0! | AC21: =' B_Populations'!R12 -> 0 | AD21: =(K21/AC21)*100000 -> #DIV/0! | AE21: =' B_Populations'!B18 -> 34710 | AF21: 1 | AH21: total | AI21: =SUM(AI18:AI20) -> 0 | AJ21: =SUM(AJ18:AJ20) -> 0 | AK21: =SUM(AK18:AK20) -> 0 | AL21: =SUM(AL18:AL20) -> 0 | AM21: =SUM(AM18:AM20) -> 0 | AN21: =SUM(AN18:AN20) -> 0 | AO21: =SUM(AO18:AO20) -> 0 | AP21: =SUM(AP18:AP20) -> 0 | AQ21: =SUM(AQ18:AQ20) -> 0

Sheet E_Year 2
A1: =' B_Populations'!D22 -> 0 | B1: Data Input Tables Instructions: Enter your Older Adult Falls-related injury data in the red cells below. The age-adjusted rates will automatically calculate in the results table. | F1: Use columns F through K to enter demographic data | M1: Optional: Unhide columns M through AD to show rate calculations by sex and race/ethnicity and 2000 population weights | AE1: Columns AI through AQ will then autogenerate age adjusted rates per 100,000 | AH1: Results Table Age Adjusted Rates per 100,1000. Results will calculate automatically.
D2: Sex Data | F2: Demographic Data | AI2: Age-adjusted Rates per 100,000 population
B3: Age | C3: Number of hospitalizations- Total | D3: Number of hospitalizations- Male | E3: Number of hospitalizations- Female | F3: =[1]Populations!I62 -> White-Not Hispanic | G3: =[1]Populations!K62 -> Hispanic | H3: =[1]Populations!M62 -> Black-Not Hispanic | I3: =[1]Populations!O62 -> Asian | J3: =[1]Populations!Q62 -> American Indian/Alaska Native | K3: =[1]Populations!S62 -> Other | M3: State Population Total | N3: Rate | O3: Male | P3: Rate | Q3: Female | R3: Rate | S3: =' B_Populations'!H26 -> White-Not Hispanic | T3: Rate | U3: =' B_Populations'!J26 -> Hispanic | V3: Rate | W3: =' B_Populations'!L26 -> Black-Not Hispanic | X3: Rate | Y3: =' B_Populations'!N26 -> Asian | Z3: Rate | AA3: =' B_Populations'!P26 -> American Indian/Alaska Native | AB3: Rate | AC3: =' B_Populations'!R26 -> Other | AD3: Rate | AE3: 2000 Standard population - from "Populations" tab | AF3: Weight | AH3: Age | AI3: Total | AJ3: Male | AK3: Female | AL3: =' B_Populations'!H26 -> White-Not Hispanic | AM3: =' B_Populations'!J26 -> Hispanic | AN3: =' B_Populations'!L26 -> Black-Not Hispanic | AO3: =' B_Populations'!N26 -> Asian | AP3: =' B_Populations'!P26 -> American Indian/Alaska Native | AQ3: =' B_Populations'!R26 -> Other
B4: =' B_Populations'!A9 -> 65-74 | M4: =' B_Populations'!B27 -> 0 | N4: =IF(M4=0,0,($C$4/$M$4)*100000) -> 0 | O4: =' B_Populations'!D27 -> 0 | P4: =IF(O4=0,0,($D$4/$O$4)*100000) -> 0 | Q4: =' B_Populations'!F27 -> 0 | R4: =IF(Q4=0,0,($E$4/$Q$4)*100000) -> 0 | S4: =' B_Populations'!H27 -> 0 | T4: =IF(S4=0,0,($F$4/$S$4)*100000) -> 0 | U4: =' B_Populations'!J27 -> 0 | V4: =IF(U4=0,0,($G$4/$U$4)*100000) -> 0 | W4: =' B_Populations'!L27 -> 0 | X4: =IF(W4=0,0,($H$4/$W$4)*100000) -> 0 | Y4: =' B_Populations'!N27 -> 0 | Z4: =IF(Y4=0,0,($I$4/$Y$4)*100000) -> 0 | AA4: =' B_Populations'!P27 -> 0 | AB4: =IF(AA4=0,0,($J$4/$AA$4)*100000) -> 0 | AC4: =' B_Populations'!R27 -> 0 | AD4: =IF(AC4=0,0,($K$4/$AC$4)*100000) -> 0 | AE4: =' B_Populations'!B15 -> 18136 | AF4: 0.522501 | AH4: =' B_Populations'!A9 -> 65-74 | AI4: =N4*AF4 -> 0 | AJ4: =P4*AF4 -> 0 | AK4: =R4*AF4 -> 0 | AL4: =T4*AF4 -> 0 | AM4: =V4*AF4 -> 0 | AN4: =X4*AF4 -> 0 | AO4: =Z4*AF4 -> 0 | AP4: =AB4*AF4 -> 0 | AQ4: =AD4*AF4 -> 0
B5: =' B_Populations'!A10 -> 75-84 | M5: =' B_Populations'!B28 -> 0 | N5: =IF(M5=0,0,($C$5/$M$5)*100000) -> 0 | O5: =' B_Populations'!D28 -> 0 | P5: =IF(O5=0,0,($D$5/$O$5)*100000) -> 0 | Q5: =' B_Populations'!F28 -> 0 | R5: =IF(Q5=0,0,($E$5/$Q$5)*100000) -> 0 | S5: =' B_Populations'!H28 -> 0 | T5: =IF(S5=0,0,($F$5/$S$5)*100000) -> 0 | U5: =' B_Populations'!J28 -> 0 | V5: =IF(U5=0,0,($G$5/$U$5)*100000) -> 0 | W5: =' B_Populations'!L28 -> 0 | X5: =IF(W5=0,0,($G$5/$W$5)*100000) -> 0 | Y5: =' B_Populations'!N28 -> 0 | Z5: =IF(Y5=0,0,($I$5/$Y$5)*100000) -> 0 | AA5: =' B_Populations'!P28 -> 0 | AB5: =IF(AA5=0,0,($J$5/$AA$5)*100000) -> 0 | AC5: =' B_Populations'!R28 -> 0 | AD5: =IF(AC5=0,0,($K$5/$AC$5)*100000) -> 0 | AE5: =' B_Populations'!B16 -> 12315 | AF5: 0.354797 | AH5: =' B_Populations'!A10 -> 75-84 | AI5: =N5*AF5 -> 0 | AJ5: =P5*AF5 -> 0 | AK5: =R5*AF5 -> 0 | AL5: =T5*AF5 -> 0 | AM5: =V5*AF5 -> 0 | AN5: =X5*AF5 -> 0 | AO5: =Z5*AF5 -> 0 | AP5: =AB5*AF5 -> 0 | AQ5: =AD5*AF5 -> 0
B6: =' B_Populations'!A11 -> 85+ | M6: =' B_Populations'!B29 -> 0 | N6: =IF(M6=0,0,($C$6/$M$6)*100000) -> 0 | O6: =' B_Populations'!D29 -> 0 | P6: =IF(O6=0,0,($D$6/$O$6)*100000) -> 0 | Q6: =' B_Populations'!F29 -> 0 | R6: =IF(Q6=0,0,($E$6/$Q$6)*100000) -> 0 | S6: =' B_Populations'!H29 -> 0 | T6: =IF(S6=0,0,($F$6/$S$6)*100000) -> 0 | U6: =' B_Populations'!J29 -> 0 | V6: =IF(U6=0,0,($G$6/$U$6)*100000) -> 0 | W6: =' B_Populations'!L29 -> 0 | X6: =IF(W6=0,0,($G$6/$W$6)*100000) -> 0 | Y6: =' B_Populations'!N29 -> 0 | Z6: =IF(Y6=0,0,($I$6/$Y$6)*100000) -> 0 | AA6: =' B_Populations'!P29 -> 0 | AB6: =IF(AA6=0,0,($J$6/$AA$6)*100000) -> 0 | AC6: =' B_Populations'!R29 -> 0 | AD6: =IF(AC6=0,0,($K$6/$AC$6)*100000) -> 0 | AE6: =' B_Populations'!B17 -> 4259 | AF6: 0.122702 | AH6: =' B_Populations'!A11 -> 85+ | AI6: =N6*AF6 -> 0 | AJ6: =P6*AF6 -> 0 | AK6: =R6*AF6 -> 0 | AL6: =T6*AF6 -> 0 | AM6: =V6*AF6 -> 0 | AN6: =X6*AF6 -> 0 | AO6: =Z6*AF6 -> 0 | AP6: =AB6*AF6 -> 0 | AQ6: =AD6*AF6 -> 0
B7: total | C7: =SUM(C4:C6) -> 0 | D7: =SUM(D4:D6) -> 0 | E7: =SUM(E4:E6) -> 0 | F7: =SUM(F4:F6) -> 0 | G7: =SUM(G4:G6) -> 0 | H7: =SUM(H4:H6) -> 0 | I7: =SUM(I4:I6) -> 0 | J7: =SUM(J4:J6) -> 0 | K7: =SUM(K4:K6) -> 0 | M7: =' B_Populations'!B30 -> 0 | N7: =(C7/M7)*100000 -> #DIV/0! | O7: =' B_Populations'!D30 -> 0 | P7: =(D7/O7)*100000 -> #DIV/0! | Q7: =' B_Populations'!F30 -> 0 | R7: =(E7/Q7)*100000 -> #DIV/0! | S7: =' B_Populations'!H30 -> 0 | T7: =(F7/S7)*100000 -> #DIV/0! | U7: =' B_Populations'!J30 -> 0 | V7: =(G7/U7)*100000 -> #DIV/0! | W7: =' B_Populations'!L30 -> 0 | X7: =(H7/W7)*100000 -> #DIV/0! | Y7: =' B_Populations'!N30 -> 0 | Z7: =(I7/Y7)*100000 -> #DIV/0! | AA7: =' B_Populations'!P30 -> 0 | AB7: =(J7/AA7)*100000 -> #DIV/0! | AC7: =' B_Populations'!R30 -> 0 | AD7: =(K7/AC7)*100000 -> #DIV/0! | AE7: =' B_Populations'!B18 -> 34710 | AF7: 1 | AH7: =[1]Populations!B22 -> Total | AI7: =SUM(AI4:AI6) -> 0 | AJ7: =SUM(AJ4:AJ6) -> 0 | AK7: =SUM(AK4:AK6) -> 0 | AL7: =SUM(AL4:AL6) -> 0 | AM7: =SUM(AM4:AM6) -> 0 | AN7: =SUM(AN4:AN6) -> 0 | AO7: =SUM(AO4:AO6) -> 0 | AP7: =SUM(AP4:AP6) -> 0 | AQ7: =SUM(AQ4:AQ6) -> 0
D9: Sex Data | F9: Demographic Data | AI9: Age-adjusted Rates per 100,000 population
B10: Age | C10: Number of ED visits- Total | D10: Number of ED visits- Male | E10: Number of ED visits- Female | F10: =[1]Populations!I62 -> White-Not Hispanic | G10: =[1]Populations!K62 -> Hispanic | H10: =[1]Populations!M62 -> Black-Not Hispanic | I10: =[1]Populations!O62 -> Asian | J10: =[1]Populations!Q62 -> American Indian/Alaska Native | K10: =[1]Populations!S62 -> Other | M10: State Population Total | N10: Rate | O10: Male | P10: Rate | Q10: Female | R10: Rate | S10: =' B_Populations'!H26 -> White-Not Hispanic | T10: Rate | U10: =' B_Populations'!J26 -> Hispanic | V10: Rate | W10: =' B_Populations'!L26 -> Black-Not Hispanic | X10: Rate | Y10: =' B_Populations'!N26 -> Asian | Z10: Rate | AA10: =' B_Populations'!P26 -> American Indian/Alaska Native | AB10: Rate | AC10: =' B_Populations'!R26 -> Other | AD10: Rate | AE10: 2000 Standard population - from "Populations" tab | AF10: Weight | AH10: Age | AI10: Total | AJ10: Male | AK10: Female | AL10: =' B_Populations'!H26 -> White-Not Hispanic | AM10: =' B_Populations'!J26 -> Hispanic | AN10: =' B_Populations'!L26 -> Black-Not Hispanic | AO10: =' B_Populations'!N26 -> Asian | AP10: =' B_Populations'!P26 -> American Indian/Alaska Native | AQ10: =' B_Populations'!R26 -> Other
B11: =' B_Populations'!A9 -> 65-74 | M11: =' B_Populations'!B27 -> 0 | N11: =IF(M11=0,0,($C$11/$M$11)*100000) -> 0 | O11: =' B_Populations'!D27 -> 0 | P11: =IF(O11=0,0,($D$11/$O$11)*100000) -> 0 | Q11: =' B_Populations'!F27 -> 0 | R11: =IF(Q11=0,0,($E$11/$Q$11)*100000) -> 0 | S11: =' B_Populations'!H27 -> 0 | T11: =IF(S11=0,0,($F$11/$S$11)*100000) -> 0 | U11: =' B_Populations'!J27 -> 0 | V11: =IF(U11=0,0,($G$11/$U$11)*100000) -> 0 | W11: =' B_Populations'!L27 -> 0 | X11: =IF(W11=0,0,($H$11/$W$11)*100000) -> 0 | Y11: =' B_Populations'!N27 -> 0 | Z11: =IF(Y11=0,0,($I$11/$Y$11)*100000) -> 0 | AA11: =' B_Populations'!P27 -> 0 | AB11: =IF(AA11=0,0,($J$11/$AA$11)*100000) -> 0 | AC11: =' B_Populations'!R27 -> 0 | AD11: =IF(AC11=0,0,($K$11/$AC$11)*100000) -> 0 | AE11: =' B_Populations'!B15 -> 18136 | AF11: 0.522501 | AH11: =' B_Populations'!A9 -> 65-74 | AI11: =N11*AF11 -> 0 | AJ11: =P11*AF11 -> 0 | AK11: =R11*AF11 -> 0 | AL11: =T11*AF11 -> 0 | AM11: =V11*AF11 -> 0 | AN11: =X11*AF11 -> 0 | AO11: =Z11*AF11 -> 0 | AP11: =AB11*AF11 -> 0 | AQ11: =AD11*AF11 -> 0
B12: =' B_Populations'!A10 -> 75-84 | M12: =' B_Populations'!B28 -> 0 | N12: =IF(M12=0,0,($C$12/$M$12)*100000) -> 0 | O12: =' B_Populations'!D28 -> 0 | P12: =IF(O12=0,0,($D$12/$O$12)*100000) -> 0 | Q12: =' B_Populations'!F28 -> 0 | R12: =IF(Q12=0,0,($E$12/$Q$12)*100000) -> 0 | S12: =' B_Populations'!H28 -> 0 | T12: =IF(S12=0,0,($F$12/$S$12)*100000) -> 0 | U12: =' B_Populations'!J28 -> 0 | V12: =IF(U12=0,0,($G$12/$U$12)*100000) -> 0 | W12: =' B_Populations'!L28 -> 0 | X12: =IF(W12=0,0,($H$12/$W$12)*100000) -> 0 | Y12: =' B_Populations'!N28 -> 0 | Z12: =IF(Y12=0,0,($I$12/$Y$12)*100000) -> 0 | AA12: =' B_Populations'!P28 -> 0 | AB12: =IF(AA12=0,0,($J$12/$AA$12)*100000) -> 0 | AC12: =' B_Populations'!R28 -> 0 | AD12: =IF(AC12=0,0,($K$12/$AC$12)*100000) -> 0 | AE12: =' B_Populations'!B16 -> 12315 | AF12: 0.354797 | AH12: =' B_Populations'!A10 -> 75-84 | AI12: =N12*AF12 -> 0 | AJ12: =P12*AF12 -> 0 | AK12: =R12*AF12 -> 0 | AL12: =T12*AF12 -> 0 | AM12: =V12*AF12 -> 0 | AN12: =X12*AF12 -> 0 | AO12: =Z12*AF12 -> 0 | AP12: =AB12*AF12 -> 0 | AQ12: =AD12*AF12 -> 0
B13: =' B_Populations'!A11 -> 85+ | M13: =' B_Populations'!B29 -> 0 | N13: =IF(M13=0,0,($C$13/$M$13)*100000) -> 0 | O13: =' B_Populations'!D29 -> 0 | P13: =IF(O13=0,0,($D$13/$O$13)*100000) -> 0 | Q13: =' B_Populations'!F29 -> 0 | R13: =IF(Q13=0,0,($E$13/$Q$13)*100000) -> 0 | S13: =' B_Populations'!H29 -> 0 | T13: =IF(S13=0,0,($F$13/$S$13)*100000) -> 0 | U13: =' B_Populations'!J29 -> 0 | V13: =IF(U13=0,0,($G$13/$U$13)*100000) -> 0 | W13: =' B_Populations'!L29 -> 0 | X13: =IF(W13=0,0,($H$13/$W$13)*100000) -> 0 | Y13: =' B_Populations'!N29 -> 0 | Z13: =IF(Y13=0,0,($I$13/$Y$13)*100000) -> 0 | AA13: =' B_Populations'!P29 -> 0 | AB13: =IF(AA13=0,0,($J$13/$AA$13)*100000) -> 0 | AC13: =' B_Populations'!R29 -> 0 | AD13: =IF(AC13=0,0,($K$13/$AC$13)*100000) -> 0 | AE13: =' B_Populations'!B17 -> 4259 | AF13: 0.122702 | AH13: =' B_Populations'!A11 -> 85+ | AI13: =N13*AF13 -> 0 | AJ13: =P13*AF13 -> 0 | AK13: =R13*AF13 -> 0 | AL13: =T13*AF13 -> 0 | AM13: =V13*AF13 -> 0 | AN13: =X13*AF13 -> 0 | AO13: =Z13*AF13 -> 0 | AP13: =AB13*AF13 -> 0 | AQ13: =AD13*AF13 -> 0
B14: total | C14: =SUM(C11:C13) -> 0 | D14: =SUM(D11:D13) -> 0 | E14: =SUM(E11:E13) -> 0 | F14: =SUM(F11:F13) -> 0 | G14: =SUM(G11:G13) -> 0 | H14: =SUM(H11:H13) -> 0 | I14: =SUM(I11:I13) -> 0 | J14: =SUM(J11:J13) -> 0 | K14: =SUM(K11:K13) -> 0 | M14: =' B_Populations'!B30 -> 0 | N14: =(C14/M14)*100000 -> #DIV/0! | O14: =' B_Populations'!D30 -> 0 | P14: =(D14/O14)*100000 -> #DIV/0! | Q14: =' B_Populations'!F30 -> 0 | R14: =(E14/Q14)*100000 -> #DIV/0! | S14: =' B_Populations'!H30 -> 0 | T14: =(F14/S14)*100000 -> #DIV/0! | U14: =' B_Populations'!J30 -> 0 | V14: =(G14/U14)*100000 -> #DIV/0! | W14: =' B_Populations'!L30 -> 0 | X14: =(H14/W14)*100000 -> #DIV/0! | Y14: =' B_Populations'!N30 -> 0 | Z14: =(I14/Y14)*100000 -> #DIV/0! | AA14: =' B_Populations'!P30 -> 0 | AB14: =(J14/AA14)*100000 -> #DIV/0! | AC14: =' B_Populations'!R30 -> 0 | AD14: =(K14/AC14)*100000 -> #DIV/0! | AE14: =' B_Populations'!B18 -> 34710 | AF14: 1 | AH14: =[1]Populations!B22 -> Total | AI14: =SUM(AI11:AI13) -> 0 | AJ14: =SUM(AJ11:AJ13) -> 0 | AK14: =SUM(AK11:AK13) -> 0 | AL14: =SUM(AL11:AL13) -> 0 | AM14: =SUM(AM11:AM13) -> 0 | AN14: =SUM(AN11:AN13) -> 0 | AO14: =SUM(AO11:AO13) -> 0 | AP14: =SUM(AP11:AP13) -> 0 | AQ14: =SUM(AQ11:AQ13) -> 0
D16: Sex Data | F16: Demographic Data | AI16: Age-adjusted Rates per 100,000 population
B17: Age | C17: Number of deaths- Total | D17: Number of deaths- Male | E17: Number of deaths- Female | F17: =[1]Populations!I62 -> White-Not Hispanic | G17: =[1]Populations!K62 -> Hispanic | H17: =[1]Populations!M62 -> Black-Not Hispanic | I17: =[1]Populations!O62 -> Asian | J17: =[1]Populations!Q62 -> American Indian/Alaska Native | K17: =[1]Populations!S62 -> Other | M17: State Population Total | N17: Rate | O17: Male | P17: Rate | Q17: Female | R17: Rate | S17: =' B_Populations'!H26 -> White-Not Hispanic | T17: Rate | U17: =' B_Populations'!J26 -> Hispanic | V17: Rate | W17: =' B_Populations'!L26 -> Black-Not Hispanic | X17: Rate | Y17: =' B_Populations'!N26 -> Asian | Z17: Rate | AA17: =' B_Populations'!P26 -> American Indian/Alaska Native | AB17: Rate | AC17: =' B_Populations'!R26 -> Other | AD17: Rate | AE17: 2000 Standard population - from "Populations" tab | AF17: Weight | AH17: Age | AI17: Total | AJ17: Male | AK17: Female | AL17: =' B_Populations'!H26 -> White-Not Hispanic | AM17: =' B_Populations'!J26 -> Hispanic | AN17: =' B_Populations'!L26 -> Black-Not Hispanic | AO17: =' B_Populations'!N26 -> Asian | AP17: =' B_Populations'!P26 -> American Indian/Alaska Native | AQ17: =' B_Populations'!R26 -> Other
B18: =' B_Populations'!A9 -> 65-74 | M18: =' B_Populations'!B27 -> 0 | N18: =IF(M18=0,0,($C$18/$M$18)*100000) -> 0 | O18: =' B_Populations'!D27 -> 0 | P18: =IF(O18=0,0,($D$18/$O$18)*100000) -> 0 | Q18: =' B_Populations'!F27 -> 0 | R18: =IF(Q18=0,0,($E$18/$Q$18)*100000) -> 0 | S18: =' B_Populations'!H27 -> 0 | T18: =IF(S18=0,0,($F$18/$S$18)*100000) -> 0 | U18: =' B_Populations'!J27 -> 0 | V18: =IF(U18=0,0,($G$18/$U$18)*100000) -> 0 | W18: =' B_Populations'!L27 -> 0 | X18: =IF(W18=0,0,($H$18/$W$18)*100000) -> 0 | Y18: =' B_Populations'!N27 -> 0 | Z18: =IF(Y18=0,0,($I$18/$Y$18)*100000) -> 0 | AA18: =' B_Populations'!P27 -> 0 | AB18: =IF(AA18=0,0,($J$18/$AA$18)*100000) -> 0 | AC18: =' B_Populations'!R27 -> 0 | AD18: =IF(AC18=0,0,($K$18/$AC$18)*100000) -> 0 | AE18: =' B_Populations'!B15 -> 18136 | AF18: 0.522501 | AH18: =' B_Populations'!A9 -> 65-74 | AI18: =N18*AF18 -> 0 | AJ18: =P18*AF18 -> 0 | AK18: =R18*AF18 -> 0 | AL18: =T18*AF18 -> 0 | AM18: =V18*AF18 -> 0 | AN18: =X18*AF18 -> 0 | AO18: =Z18*AF18 -> 0 | AP18: =AB18*AF18 -> 0 | AQ18: =AD18*AF18 -> 0
B19: =' B_Populations'!A10 -> 75-84 | M19: =' B_Populations'!B28 -> 0 | N19: =IF(M19=0,0,($C$19/$M$19)*100000) -> 0 | O19: =' B_Populations'!D28 -> 0 | P19: =IF(O19=0,0,($D$19/$O$19)*100000) -> 0 | Q19: =' B_Populations'!F28 -> 0 | R19: =IF(Q19=0,0,($E$19/$Q$19)*100000) -> 0 | S19: =' B_Populations'!H28 -> 0 | T19: =IF(S19=0,0,($F$19/$S$19)*100000) -> 0 | U19: =' B_Populations'!J28 -> 0 | V19: =IF(U19=0,0,($G$19/$U$19)*100000) -> 0 | W19: =' B_Populations'!L28 -> 0 | X19: =IF(W19=0,0,($H$19/$W$19)*100000) -> 0 | Y19: =' B_Populations'!N28 -> 0 | Z19: =IF(Y19=0,0,($I$19/$Y$19)*100000) -> 0 | AA19: =' B_Populations'!P28 -> 0 | AB19: =IF(AA19=0,0,($J$19/$AA$19)*100000) -> 0 | AC19: =' B_Populations'!R28 -> 0 | AD19: =IF(AC19=0,0,($K$19/$AC$19)*100000) -> 0 | AE19: =' B_Populations'!B16 -> 12315 | AF19: 0.354797 | AH19: =' B_Populations'!A10 -> 75-84 | AI19: =N19*AF19 -> 0 | AJ19: =P19*AF19 -> 0 | AK19: =R19*AF19 -> 0 | AL19: =T19*AF19 -> 0 | AM19: =V19*AF19 -> 0 | AN19: =X19*AF19 -> 0 | AO19: =Z19*AF19 -> 0 | AP19: =AB19*AF19 -> 0 | AQ19: =AD19*AF19 -> 0
B20: =' B_Populations'!A11 -> 85+ | M20: =' B_Populations'!B29 -> 0 | N20: =IF(M20=0,0,($C$20/$M$20)*100000) -> 0 | O20: =' B_Populations'!D29 -> 0 | P20: =IF(O20=0,0,($D$20/$O$20)*100000) -> 0 | Q20: =' B_Populations'!F29 -> 0 | R20: =IF(Q20=0,0,($E$20/$Q$20)*100000) -> 0 | S20: =' B_Populations'!H29 -> 0 | T20: =IF(S20=0,0,($F$20/$S$20)*100000) -> 0 | U20: =' B_Populations'!J29 -> 0 | V20: =IF(U20=0,0,($G$20/$U$20)*100000) -> 0 | W20: =' B_Populations'!L29 -> 0 | X20: =IF(W20=0,0,($H$20/$W$20)*100000) -> 0 | Y20: =' B_Populations'!N29 -> 0 | Z20: =IF(Y20=0,0,($I$20/$Y$20)*100000) -> 0 | AA20: =' B_Populations'!P29 -> 0 | AB20: =IF(AA20=0,0,($J$20/$AA$20)*100000) -> 0 | AC20: =' B_Populations'!R29 -> 0 | AD20: =IF(AC20=0,0,($K$20/$AC$20)*100000) -> 0 | AE20: =' B_Populations'!B17 -> 4259 | AF20: 0.122702 | AH20: =' B_Populations'!A11 -> 85+ | AI20: =N20*AF20 -> 0 | AJ20: =P20*AF20 -> 0 | AK20: =R20*AF20 -> 0 | AL20: =T20*AF20 -> 0 | AM20: =V20*AF20 -> 0 | AN20: =X20*AF20 -> 0 | AO20: =Z20*AF20 -> 0 | AP20: =AB20*AF20 -> 0 | AQ20: =AD20*AF20 -> 0
B21: total | C21: =SUM(C18:C20) -> 0 | D21: =SUM(D18:D20) -> 0 | E21: =SUM(E18:E20) -> 0 | F21: =SUM(F18:F20) -> 0 | G21: =SUM(G18:G20) -> 0 | H21: =SUM(H18:H20) -> 0 | I21: =SUM(I18:I20) -> 0 | J21: =SUM(J18:J20) -> 0 | K21: =SUM(K18:K20) -> 0 | M21: =' B_Populations'!B30 -> 0 | N21: =(C21/M21)*100000 -> #DIV/0! | O21: =' B_Populations'!D30 -> 0 | P21: =(D21/O21)*100000 -> #DIV/0! | Q21: =' B_Populations'!F30 -> 0 | R21: =(E21/Q21)*100000 -> #DIV/0! | S21: =' B_Populations'!H30 -> 0 | T21: =(F21/S21)*100000 -> #DIV/0! | U21: =' B_Populations'!J30 -> 0 | V21: =(G21/U21)*100000 -> #DIV/0! | W21: =' B_Populations'!L30 -> 0 | X21: =(H21/W21)*100000 -> #DIV/0! | Y21: =' B_Populations'!N30 -> 0 | Z21: =(I21/Y21)*100000 -> #DIV/0! | AA21: =' B_Populations'!P30 -> 0 | AB21: =(J21/AA21)*100000 -> #DIV/0! | AC21: =' B_Populations'!R30 -> 0 | AD21: =(K21/AC21)*100000 -> #DIV/0! | AE21: =' B_Populations'!B18 -> 34710 | AF21: 1 | AH21: =[1]Populations!B22 -> Total | AI21: =SUM(AI18:AI20) -> 0 | AJ21: =SUM(AJ18:AJ20) -> 0 | AK21: =SUM(AK18:AK20) -> 0 | AL21: =SUM(AL18:AL20) -> 0 | AM21: =SUM(AM18:AM20) -> 0 | AN21: =SUM(AN18:AN20) -> 0 | AO21: =SUM(AO18:AO20) -> 0 | AP21: =SUM(AP18:AP20) -> 0 | AQ21: =SUM(AQ18:AQ20) -> 0

Sheet F_Year 3
A1: =' B_Populations'!D34 -> 0 | B1: Data Input Tables Instructions: Enter your Older Adult Falls-related injury data in the red cells below. The age-adjusted rates will automatically calculate in the results table. | F1: Use columns F through K to enter demographic data | M1: Optional: Unhide columns M through AD to show rate calculations by sex and race/ethnicity and 2000 population weights | AE1: Columns AI through AQ will then autogenerate age adjusted rates per 100,000 | AH1: Results Table Age Adjusted Rates per 100,1000. Results will calculate automatically.
D2: Sex Data | F2: Demographic Data | AI2: Age-adjusted Rates per 100,000 population
B3: Age | C3: Number of hospitalizations- Total | D3: Number of hospitalizations- Male | E3: Number of hospitalizations- Female | F3: =[1]Populations!I44 -> White-Not Hispanic | G3: =[1]Populations!K44 -> Hispanic | H3: =[1]Populations!M44 -> Black-Not Hispanic | I3: =[1]Populations!O44 -> Asian | J3: =[1]Populations!Q44 -> American Indian/Alaska Native | K3: =[1]Populations!S44 -> Other | M3: State Population Total | N3: Rate | O3: =[1]Populations!E44 -> Male | P3: Rate | Q3: =[1]Populations!G44 -> Female | R3: Rate | S3: =' B_Populations'!H38 -> White-Not Hispanic | T3: Rate | U3: =' B_Populations'!J38 -> Hispanic | V3: Rate | W3: =' B_Populations'!L38 -> Black-Not Hispanic | X3: Rate | Y3: =' B_Populations'!N38 -> Asian | Z3: Rate | AA3: =' B_Populations'!P38 -> American Indian/Alaska Native | AB3: Rate | AC3: =' B_Populations'!R38 -> Other | AD3: Rate | AE3: 2000 Standard population - from "Populations" tab | AF3: Weight | AH3: Age | AI3: Total | AJ3: Male | AK3: Female | AL3: =' B_Populations'!H38 -> White-Not Hispanic | AM3: =' B_Populations'!J38 -> Hispanic | AN3: =' B_Populations'!L38 -> Black-Not Hispanic | AO3: =' B_Populations'!N38 -> Asian | AP3: =' B_Populations'!P38 -> American Indian/Alaska Native | AQ3: =' B_Populations'!R38 -> Other
B4: =' B_Populations'!A9 -> 65-74 | M4: =' B_Populations'!B39 -> 0 | N4: =IF(M4=0,0,($C$4/$M$4)*100000) -> 0 | O4: =' B_Populations'!D39 -> 0 | P4: =IF(O4=0,0,($D$4/$O$4)*100000) -> 0 | Q4: =' B_Populations'!F39 -> 0 | R4: =IF(Q4=0,0,($E$4/$Q$4)*100000) -> 0 | S4: =' B_Populations'!H39 -> 0 | T4: =IF(S4=0,0,($F$4/$S$4)*100000) -> 0 | U4: =' B_Populations'!J39 -> 0 | V4: =IF(U4=0,0,($G$4/$U$4)*100000) -> 0 | W4: =' B_Populations'!L39 -> 0 | X4: =IF(W4=0,0,($H$4/$W$4)*100000) -> 0 | Y4: =' B_Populations'!N39 -> 0 | Z4: =IF(Y4=0,0,($I$4/$Y$4)*100000) -> 0 | AA4: =' B_Populations'!P39 -> 0 | AB4: =IF(AA4=0,0,($J$4/$AA$4)*100000) -> 0 | AC4: =' B_Populations'!R39 -> 0 | AD4: =IF(AC4=0,0,($K$4/$AC$4)*100000) -> 0 | AE4: =' B_Populations'!B15 -> 18136 | AF4: 0.522501 | AH4: =' B_Populations'!A9 -> 65-74 | AI4: =N4*AF4 -> 0 | AJ4: =P4*AF4 -> 0 | AK4: =R4*AF4 -> 0 | AL4: =T4*AF4 -> 0 | AM4: =V4*AF4 -> 0 | AN4: =X4*AF4 -> 0 | AO4: =Z4*AF4 -> 0 | AP4: =AB4*AF4 -> 0 | AQ4: =AD4*AF4 -> 0
B5: =' B_Populations'!A10 -> 75-84 | M5: =' B_Populations'!B40 -> 0 | N5: =IF(M5=0,0,($C$5/$M$5)*100000) -> 0 | O5: =' B_Populations'!D40 -> 0 | P5: =IF(O5=0,0,($D$5/$O$5)*100000) -> 0 | Q5: =' B_Populations'!F40 -> 0 | R5: =IF(Q5=0,0,($E$5/$Q$5)*100000) -> 0 | S5: =' B_Populations'!H40 -> 0 | T5: =IF(S5=0,0,($F$5/$S$5)*100000) -> 0 | U5: =' B_Populations'!J40 -> 0 | V5: =IF(U5=0,0,($G$5/$U$5)*100000) -> 0 | W5: =' B_Populations'!L40 -> 0 | X5: =IF(W5=0,0,($G$5/$W$5)*100000) -> 0 | Y5: =' B_Populations'!N40 -> 0 | Z5: =IF(Y5=0,0,($I$5/$Y$5)*100000) -> 0 | AA5: =' B_Populations'!P40 -> 0 | AB5: =IF(AA5=0,0,($J$5/$AA$5)*100000) -> 0 | AC5: =' B_Populations'!R40 -> 0 | AD5: =IF(AC5=0,0,($K$5/$AC$5)*100000) -> 0 | AE5: =' B_Populations'!B16 -> 12315 | AF5: 0.354797 | AH5: =' B_Populations'!A10 -> 75-84 | AI5: =N5*AF5 -> 0 | AJ5: =P5*AF5 -> 0 | AK5: =R5*AF5 -> 0 | AL5: =T5*AF5 -> 0 | AM5: =V5*AF5 -> 0 | AN5: =X5*AF5 -> 0 | AO5: =Z5*AF5 -> 0 | AP5: =AB5*AF5 -> 0 | AQ5: =AD5*AF5 -> 0
B6: =' B_Populations'!A11 -> 85+ | M6: =' B_Populations'!B41 -> 0 | N6: =IF(M6=0,0,($C$6/$M$6)*100000) -> 0 | O6: =' B_Populations'!D41 -> 0 | P6: =IF(O6=0,0,($D$6/$O$6)*100000) -> 0 | Q6: =' B_Populations'!F41 -> 0 | R6: =IF(Q6=0,0,($E$6/$Q$6)*100000) -> 0 | S6: =' B_Populations'!H41 -> 0 | T6: =IF(S6=0,0,($F$6/$S$6)*100000) -> 0 | U6: =' B_Populations'!J41 -> 0 | V6: =IF(U6=0,0,($G$6/$U$6)*100000) -> 0 | W6: =' B_Populations'!L41 -> 0 | X6: =IF(W6=0,0,($G$6/$W$6)*100000) -> 0 | Y6: =' B_Populations'!N41 -> 0 | Z6: =IF(Y6=0,0,($I$6/$Y$6)*100000) -> 0 | AA6: =' B_Populations'!P41 -> 0 | AB6: =IF(AA6=0,0,($J$6/$AA$6)*100000) -> 0 | AC6: =' B_Populations'!R41 -> 0 | AD6: =IF(AC6=0,0,($K$6/$AC$6)*100000) -> 0 | AE6: =' B_Populations'!B17 -> 4259 | AF6: 0.122702 | AH6: =' B_Populations'!A11 -> 85+ | AI6: =N6*AF6 -> 0 | AJ6: =P6*AF6 -> 0 | AK6: =R6*AF6 -> 0 | AL6: =T6*AF6 -> 0 | AM6: =V6*AF6 -> 0 | AN6: =X6*AF6 -> 0 | AO6: =Z6*AF6 -> 0 | AP6: =AB6*AF6 -> 0 | AQ6: =AD6*AF6 -> 0
B7: total | C7: =SUM(C4:C6) -> 0 | D7: =SUM(D4:D6) -> 0 | E7: =SUM(E4:E6) -> 0 | F7: =SUM(F4:F6) -> 0 | G7: =SUM(G4:G6) -> 0 | H7: =SUM(H4:H6) -> 0 | I7: =SUM(I4:I6) -> 0 | J7: =SUM(J4:J6) -> 0 | K7: =SUM(K4:K6) -> 0 | M7: =' B_Populations'!B42 -> 0 | N7: =(C7/M7)*100000 -> #DIV/0! | O7: =' B_Populations'!D42 -> 0 | P7: =(D7/O7)*100000 -> #DIV/0! | Q7: =' B_Populations'!F42 -> 0 | R7: =(E7/Q7)*100000 -> #DIV/0! | S7: =' B_Populations'!H42 -> 0 | T7: =(F7/S7)*100000 -> #DIV/0! | U7: =' B_Populations'!J42 -> 0 | V7: =(F7/U7)*100000 -> #DIV/0! | W7: =' B_Populations'!L42 -> 0 | X7: =(H7/W7)*100000 -> #DIV/0! | Y7: =' B_Populations'!N42 -> 0 | Z7: =(I7/Y7)*100000 -> #DIV/0! | AA7: =' B_Populations'!P42 -> 0 | AB7: =(J7/AA7)*100000 -> #DIV/0! | AC7: =' B_Populations'!R42 -> 0 | AD7: =(K7/AC7)*100000 -> #DIV/0! | AE7: =' B_Populations'!B18 -> 34710 | AF7: 1 | AH7: Total | AI7: =SUM(AI4:AI6) -> 0 | AJ7: =SUM(AJ4:AJ6) -> 0 | AK7: =SUM(AK4:AK6) -> 0 | AL7: =SUM(AL4:AL6) -> 0 | AM7: =SUM(AM4:AM6) -> 0 | AN7: =SUM(AN4:AN6) -> 0 | AO7: =SUM(AO4:AO6) -> 0 | AP7: =SUM(AP4:AP6) -> 0 | AQ7: =SUM(AQ4:AQ6) -> 0
D9: Sex Data | F9: Demographic Data | AI9: Age-adjusted Rates per 100,000 population
B10: Age | C10: Number of ED visits- Total | D10: Number of ED visits- Male | E10: Number of ED visits- Female | F10: =[1]Populations!I44 -> White-Not Hispanic | G10: =[1]Populations!K44 -> Hispanic | H10: =[1]Populations!M44 -> Black-Not Hispanic | I10: =[1]Populations!O44 -> Asian | J10: =[1]Populations!Q44 -> American Indian/Alaska Native | K10: =[1]Populations!S44 -> Other | M10: State Population Total | N10: Rate | O10: =[1]Populations!E44 -> Male | P10: Rate | Q10: =[1]Populations!G44 -> Female | R10: Rate | S10: =' B_Populations'!H38 -> White-Not Hispanic | T10: Rate | U10: =' B_Populations'!J38 -> Hispanic | V10: Rate | W10: =' B_Populations'!L38 -> Black-Not Hispanic | X10: Rate | Y10: =' B_Populations'!N38 -> Asian | Z10: Rate | AA10: =' B_Populations'!P38 -> American Indian/Alaska Native | AB10: Rate | AC10: =' B_Populations'!R38 -> Other | AD10: Rate | AE10: 2000 Standard population - from "Populations" tab | AF10: Weight | AH10: Age | AI10: Total | AJ10: Male | AK10: Female | AL10: =' B_Populations'!H38 -> White-Not Hispanic | AM10: =' B_Populations'!J38 -> Hispanic | AN10: =' B_Populations'!L38 -> Black-Not Hispanic | AO10: =' B_Populations'!N38 -> Asian | AP10: =' B_Populations'!P38 -> American Indian/Alaska Native | AQ10: =' B_Populations'!R38 -> Other
B11: =' B_Populations'!A9 -> 65-74 | M11: =' B_Populations'!B39 -> 0 | N11: =IF(M11=0,0,($C$11/$M$11)*100000) -> 0 | O11: =' B_Populations'!D39 -> 0 | P11: =IF(O11=0,0,($D$11/$O$11)*100000) -> 0 | Q11: =' B_Populations'!F39 -> 0 | R11: =IF(Q11=0,0,($E$11/$Q$11)*100000) -> 0 | S11: =' B_Populations'!H39 -> 0 | T11: =IF(S11=0,0,($F$11/$S$11)*100000) -> 0 | U11: =' B_Populations'!J39 -> 0 | V11: =IF(U11=0,0,($G$11/$U$11)*100000) -> 0 | W11: =' B_Populations'!L39 -> 0 | X11: =IF(W11=0,0,($H$11/$W$11)*100000) -> 0 | Y11: =' B_Populations'!N39 -> 0 | Z11: =IF(Y11=0,0,($I$11/$Y$11)*100000) -> 0 | AA11: =' B_Populations'!P39 -> 0 | AB11: =IF(AA11=0,0,($J$11/$AA$11)*100000) -> 0 | AC11: =' B_Populations'!R39 -> 0 | AD11: =IF(AC11=0,0,($K$11/$AC$11)*100000) -> 0 | AE11: =' B_Populations'!B15 -> 18136 | AF11: 0.522501 | AH11: =' B_Populations'!A9 -> 65-74 | AI11: =N11*AF11 -> 0 | AJ11: =P11*AF11 -> 0 | AK11: =R11*AF11 -> 0 | AL11: =T11*AF11 -> 0 | AM11: =V11*AF11 -> 0 | AN11: =X11*AF11 -> 0 | AO11: =Z11*AF11 -> 0 | AP11: =AB11*AF11 -> 0 | AQ11: =AD11*AF11 -> 0
B12: =' B_Populations'!A10 -> 75-84 | M12: =' B_Populations'!B40 -> 0 | N12: =IF(M12=0,0,($C$12/$M$12)*100000) -> 0 | O12: =' B_Populations'!D40 -> 0 | P12: =IF(O12=0,0,($D$12/$O$12)*100000) -> 0 | Q12: =' B_Populations'!F40 -> 0 | R12: =IF(Q12=0,0,($E$12/$Q$12)*100000) -> 0 | S12: =' B_Populations'!H40 -> 0 | T12: =IF(S12=0,0,($F$12/$S$12)*100000) -> 0 | U12: =' B_Populations'!J40 -> 0 | V12: =IF(U12=0,0,($G$12/$U$12)*100000) -> 0 | W12: =' B_Populations'!L40 -> 0 | X12: =IF(W12=0,0,($H$12/$W$12)*100000) -> 0 | Y12: =' B_Populations'!N40 -> 0 | Z12: =IF(Y12=0,0,($I$12/$Y$12)*100000) -> 0 | AA12: =' B_Populations'!P40 -> 0 | AB12: =IF(AA12=0,0,($J$12/$AA$12)*100000) -> 0 | AC12: =' B_Populations'!R40 -> 0 | AD12: =IF(AC12=0,0,($K$12/$AC$12)*100000) -> 0 | AE12: =' B_Populations'!B16 -> 12315 | AF12: 0.354797 | AH12: =' B_Populations'!A10 -> 75-84 | AI12: =N12*AF12 -> 0 | AJ12: =P12*AF12 -> 0 | AK12: =R12*AF12 -> 0 | AL12: =T12*AF12 -> 0 | AM12: =V12*AF12 -> 0 | AN12: =X12*AF12 -> 0 | AO12: =Z12*AF12 -> 0 | AP12: =AB12*AF12 -> 0 | AQ12: =AD12*AF12 -> 0
B13: =' B_Populations'!A11 -> 85+ | M13: =' B_Populations'!B41 -> 0 | N13: =IF(M13=0,0,($C$13/$M$13)*100000) -> 0 | O13: =' B_Populations'!D41 -> 0 | P13: =IF(O13=0,0,($D$13/$O$13)*100000) -> 0 | Q13: =' B_Populations'!F41 -> 0 | R13: =IF(Q13=0,0,($E$13/$Q$13)*100000) -> 0 | S13: =' B_Populations'!H41 -> 0 | T13: =IF(S13=0,0,($F$13/$S$13)*100000) -> 0 | U13: =' B_Populations'!J41 -> 0 | V13: =IF(U13=0,0,($G$13/$U$13)*100000) -> 0 | W13: =' B_Populations'!L41 -> 0 | X13: =IF(W13=0,0,($H$13/$W$13)*100000) -> 0 | Y13: =' B_Populations'!N41 -> 0 | Z13: =IF(Y13=0,0,($I$13/$Y$13)*100000) -> 0 | AA13: =' B_Populations'!P41 -> 0 | AB13: =IF(AA13=0,0,($J$13/$AA$13)*100000) -> 0 | AC13: =' B_Populations'!R41 -> 0 | AD13: =IF(AC13=0,0,($K$13/$AC$13)*100000) -> 0 | AE13: =' B_Populations'!B17 -> 4259 | AF13: 0.122702 | AH13: =' B_Populations'!A11 -> 85+ | AI13: =N13*AF13 -> 0 | AJ13: =P13*AF13 -> 0 | AK13: =R13*AF13 -> 0 | AL13: =T13*AF13 -> 0 | AM13: =V13*AF13 -> 0 | AN13: =X13*AF13 -> 0 | AO13: =Z13*AF13 -> 0 | AP13: =AB13*AF13 -> 0 | AQ13: =AD13*AF13 -> 0
B14: total | C14: =SUM(C11:C13) -> 0 | D14: =SUM(D11:D13) -> 0 | E14: =SUM(E11:E13) -> 0 | F14: =SUM(F11:F13) -> 0 | G14: =SUM(G11:G13) -> 0 | H14: =SUM(H11:H13) -> 0 | I14: =SUM(I11:I13) -> 0 | J14: =SUM(J11:J13) -> 0 | K14: =SUM(K11:K13) -> 0 | M14: =' B_Populations'!B42 -> 0 | N14: =(C14/M14)*100000 -> #DIV/0! | O14: =' B_Populations'!D42 -> 0 | P14: =(D14/O14)*100000 -> #DIV/0! | Q14: =' B_Populations'!F42 -> 0 | R14: =(E14/Q14)*100000 -> #DIV/0! | S14: =' B_Populations'!H42 -> 0 | T14: =(F14/S14)*100000 -> #DIV/0! | U14: =' B_Populations'!J42 -> 0 | V14: =(G14/U14)*100000 -> #DIV/0! | W14: =' B_Populations'!L42 -> 0 | X14: =(H14/W14)*100000 -> #DIV/0! | Y14: =' B_Populations'!N42 -> 0 | Z14: =(I14/Y14)*100000 -> #DIV/0! | AA14: =' B_Populations'!P42 -> 0 | AB14: =(J14/AA14)*100000 -> #DIV/0! | AC14: =' B_Populations'!R42 -> 0 | AD14: =(K14/AC14)*100000 -> #DIV/0! | AE14: =' B_Populations'!B18 -> 34710 | AF14: 1 | AH14: =[1]Populations!B22 -> Total | AI14: =SUM(AI11:AI13) -> 0 | AJ14: =SUM(AJ11:AJ13) -> 0 | AK14: =SUM(AK11:AK13) -> 0 | AL14: =SUM(AL11:AL13) -> 0 | AM14: =SUM(AM11:AM13) -> 0 | AN14: =SUM(AN11:AN13) -> 0 | AO14: =SUM(AO11:AO13) -> 0 | AP14: =SUM(AP11:AP13) -> 0 | AQ14: =SUM(AQ11:AQ13) -> 0
D16: Sex Data | F16: Demographic Data | AI16: Age-adjusted Rates per 100,000 population
B17: Age | C17: Number of deaths- Total | D17: Number of deaths- Male | E17: Number of deaths- Female | F17: =[1]Populations!I44 -> White-Not Hispanic | G17: =[1]Populations!K44 -> Hispanic | H17: =[1]Populations!M44 -> Black-Not Hispanic | I17: =[1]Populations!O44 -> Asian | J17: =[1]Populations!Q44 -> American Indian/Alaska Native | K17: =[1]Populations!S44 -> Other | M17: State Population Total | N17: Rate | O17: =[1]Populations!E44 -> Male | P17: Rate | Q17: =[1]Populations!G44 -> Female | R17: Rate | S17: =' B_Populations'!H38 -> White-Not Hispanic | T17: Rate | U17: =' B_Populations'!J38 -> Hispanic | V17: Rate | W17: =' B_Populations'!L38 -> Black-Not Hispanic | X17: Rate | Y17: =' B_Populations'!N38 -> Asian | Z17: Rate | AA17: =' B_Populations'!P38 -> American Indian/Alaska Native | AB17: Rate | AC17: =' B_Populations'!R38 -> Other | AD17: Rate | AE17: 2000 Standard population - from "Populations" tab | AF17: Weight | AH17: Age | AI17: Total | AJ17: Male | AK17: Female | AL17: =' B_Populations'!H38 -> White-Not Hispanic | AM17: =' B_Populations'!J38 -> Hispanic | AN17: =' B_Populations'!L38 -> Black-Not Hispanic | AO17: =' B_Populations'!N38 -> Asian | AP17: =' B_Populations'!P38 -> American Indian/Alaska Native | AQ17: =' B_Populations'!R38 -> Other
B18: =' B_Populations'!A9 -> 65-74 | M18: =' B_Populations'!B39 -> 0 | N18: =IF(M18=0,0,($C$18/$M$18)*100000) -> 0 | O18: =' B_Populations'!D39 -> 0 | P18: =IF(O18=0,0,($D$18/$O$18)*100000) -> 0 | Q18: =' B_Populations'!F39 -> 0 | R18: =IF(Q18=0,0,($E$18/$Q$18)*100000) -> 0 | S18: =' B_Populations'!H39 -> 0 | T18: =IF(S18=0,0,($F$18/$S$18)*100000) -> 0 | U18: =' B_Populations'!J39 -> 0 | V18: =IF(U18=0,0,($G$18/$U$18)*100000) -> 0 | W18: =' B_Populations'!L39 -> 0 | X18: =IF(W18=0,0,($H$18/$W$18)*100000) -> 0 | Y18: =' B_Populations'!N39 -> 0 | Z18: =IF(Y18=0,0,($I$18/$Y$18)*100000) -> 0 | AA18: =' B_Populations'!P39 -> 0 | AB18: =IF(AA18=0,0,($J$18/$AA$18)*100000) -> 0 | AC18: =' B_Populations'!R39 -> 0 | AD18: =IF(AC18=0,0,($K$18/$AC$18)*100000) -> 0 | AE18: =' B_Populations'!B15 -> 18136 | AF18: 0.522501 | AH18: =' B_Populations'!A9 -> 65-74 | AI18: =N18*AF18 -> 0 | AJ18: =P18*AF18 -> 0 | AK18: =R18*AF18 -> 0 | AL18: =T18*AF18 -> 0 | AM18: =V18*AF18 -> 0 | AN18: =X18*AF18 -> 0 | AO18: =Z18*AF18 -> 0 | AP18: =AB18*AF18 -> 0 | AQ18: =AD18*AF18 -> 0
B19: =' B_Populations'!A10 -> 75-84 | M19: =' B_Populations'!B40 -> 0 | N19: =IF(M19=0,0,($C$19/$M$19)*100000) -> 0 | O19: =' B_Populations'!D40 -> 0 | P19: =IF(O19=0,0,($D$19/$O$19)*100000) -> 0 | Q19: =' B_Populations'!F40 -> 0 | R19: =IF(Q19=0,0,($E$19/$Q$19)*100000) -> 0 | S19: =' B_Populations'!H40 -> 0 | T19: =IF(S19=0,0,($F$19/$S$19)*100000) -> 0 | U19: =' B_Populations'!J40 -> 0 | V19: =IF(U19=0,0,($G$19/$U$19)*100000) -> 0 | W19: =' B_Populations'!L40 -> 0 | X19: =IF(W19=0,0,($H$19/$W$19)*100000) -> 0 | Y19: =' B_Populations'!N40 -> 0 | Z19: =IF(Y19=0,0,($I$19/$Y$19)*100000) -> 0 | AA19: =' B_Populations'!P40 -> 0 | AB19: =IF(AA19=0,0,($J$19/$AA$19)*100000) -> 0 | AC19: =' B_Populations'!R40 -> 0 | AD19: =IF(AC19=0,0,($K$19/$AC$19)*100000) -> 0 | AE19: =' B_Populations'!B16 -> 12315 | AF19: 0.354797 | AH19: =' B_Populations'!A10 -> 75-84 | AI19: =N19*AF19 -> 0 | AJ19: =P19*AF19 -> 0 | AK19: =R19*AF19 -> 0 | AL19: =T19*AF19 -> 0 | AM19: =V19*AF19 -> 0 | AN19: =X19*AF19 -> 0 | AO19: =Z19*AF19 -> 0 | AP19: =AB19*AF19 -> 0 | AQ19: =AD19*AF19 -> 0
B20: =' B_Populations'!A11 -> 85+ | M20: =' B_Populations'!B41 -> 0 | N20: =IF(M20=0,0,($C$20/$M$20)*100000) -> 0 | O20: =' B_Populations'!D41 -> 0 | P20: =IF(O20=0,0,($D$20/$O$20)*100000) -> 0 | Q20: =' B_Populations'!F41 -> 0 | R20: =IF(Q20=0,0,($E$20/$Q$20)*100000) -> 0 | S20: =' B_Populations'!H41 -> 0 | T20: =IF(S20=0,0,($F$20/$S$20)*100000) -> 0 | U20: =' B_Populations'!J41 -> 0 | V20: =IF(U20=0,0,($G$20/$U$20)*100000) -> 0 | W20: =' B_Populations'!L41 -> 0 | X20: =IF(W20=0,0,($H$20/$W$20)*100000) -> 0 | Y20: =' B_Populations'!N41 -> 0 | Z20: =IF(Y20=0,0,($I$20/$Y$20)*100000) -> 0 | AA20: =' B_Populations'!P41 -> 0 | AB20: =IF(AA20=0,0,($J$20/$AA$20)*100000) -> 0 | AC20: =' B_Populations'!R41 -> 0 | AD20: =IF(AC20=0,0,($K$20/$AC$20)*100000) -> 0 | AE20: =' B_Populations'!B17 -> 4259 | AF20: 0.122702 | AH20: =' B_Populations'!A11 -> 85+ | AI20: =N20*AF20 -> 0 | AJ20: =P20*AF20 -> 0 | AK20: =R20*AF20 -> 0 | AL20: =T20*AF20 -> 0 | AM20: =V20*AF20 -> 0 | AN20: =X20*AF20 -> 0 | AO20: =Z20*AF20 -> 0 | AP20: =AB20*AF20 -> 0 | AQ20: =AD20*AF20 -> 0
B21: total | C21: =SUM(C18:C20) -> 0 | D21: =SUM(D18:D20) -> 0 | E21: =SUM(E18:E20) -> 0 | F21: =SUM(F18:F20) -> 0 | G21: =SUM(G18:G20) -> 0 | H21: =SUM(H18:H20) -> 0 | I21: =SUM(I18:I20) -> 0 | J21: =SUM(J18:J20) -> 0 | K21: =SUM(K18:K20) -> 0 | M21: =' B_Populations'!B42 -> 0 | N21: =(C21/M21)*100000 -> #DIV/0! | O21: =' B_Populations'!D42 -> 0 | P21: =(D21/O21)*100000 -> #DIV/0! | Q21: =' B_Populations'!F42 -> 0 | R21: =(E21/Q21)*100000 -> #DIV/0! | S21: =' B_Populations'!H42 -> 0 | T21: =(F21/S21)*100000 -> #DIV/0! | U21: =' B_Populations'!J42 -> 0 | V21: =(G21/U21)*100000 -> #DIV/0! | W21: =' B_Populations'!L42 -> 0 | X21: =(H21/W21)*100000 -> #DIV/0! | Y21: =' B_Populations'!N42 -> 0 | Z21: =(I21/Y21)*100000 -> #DIV/0! | AA21: =' B_Populations'!P42 -> 0 | AB21: =(J21/AA21)*100000 -> #DIV/0! | AC21: =' B_Populations'!R42 -> 0 | AD21: =(K21/AC21)*100000 -> #DIV/0! | AE21: =' B_Populations'!B18 -> 34710 | AF21: 1 | AH21: =[1]Populations!B22 -> Total | AI21: =SUM(AI18:AI20) -> 0 | AJ21: =SUM(AJ18:AJ20) -> 0 | AK21: =SUM(AK18:AK20) -> 0 | AL21: =SUM(AL18:AL20) -> 0 | AM21: =SUM(AM18:AM20) -> 0 | AN21: =SUM(AN18:AN20) -> 0 | AO21: =SUM(AO18:AO20) -> 0 | AP21: =SUM(AP18:AP20) -> 0 | AQ21: =SUM(AQ18:AQ20) -> 0

Sheet G_Year 4
A1: =' B_Populations'!D46 -> 0 | B1: Data Input Tables Instructions: Enter your Older Adult Falls-related injury data in the red cells below. The age-adjusted rates will automatically calculate in the results table. | F1: Use columns F through K to enter demographic data | M1: Optional: Unhide columns M through AD to show rate calculations by sex and race/ethnicity and 2000 population weights | AE1: Columns AI through AQ will then autogenerate age adjusted rates per 100,000 | AH1: Results Table Age Adjusted Rates per 100,1000. Results will calculate automatically.
D2: Sex Data | F2: Demographic Data | AI2: Age-adjusted Rates per 100,000 population
B3: Age | C3: Number of hospitalizations- Total | D3: Number of hospitalizations- Male | E3: Number of hospitalizations- Female | F3: =[1]Populations!I26 -> White-Not Hispanic | G3: =[1]Populations!K26 -> Hispanic | H3: =[1]Populations!M26 -> Black-Not Hispanic | I3: =[1]Populations!O26 -> Asian | J3: =[1]Populations!Q26 -> American Indian/Alaska Native | K3: =[1]Populations!S26 -> Other | M3: State population - Total | N3: Rate | O3: =[1]Populations!E26 -> Male | P3: Rate | Q3: =[1]Populations!G26 -> Female | R3: Rate | S3: =' B_Populations'!H50 -> White-Not Hispanic | T3: Rate | U3: =' B_Populations'!J50 -> Hispanic | V3: Rate | W3: =' B_Populations'!L50 -> Black-Not Hispanic | X3: Rate | Y3: =' B_Populations'!N50 -> Asian | Z3: Rate | AA3: =' B_Populations'!P50 -> American Indian/Alaska Native | AB3: Rate | AC3: =' B_Populations'!R50 -> Other | AD3: Rate | AE3: 2000 Standard population - from "Populations" tab | AF3: Weight | AH3: Age | AI3: Total | AJ3: Male | AK3: Female | AL3: =' B_Populations'!H50 -> White-Not Hispanic | AM3: =' B_Populations'!J50 -> Hispanic | AN3: =' B_Populations'!L50 -> Black-Not Hispanic | AO3: =' B_Populations'!N50 -> Asian | AP3: =' B_Populations'!P50 -> American Indian/Alaska Native | AQ3: =' B_Populations'!R50 -> Other
B4: =' B_Populations'!A9 -> 65-74 | M4: =' B_Populations'!B51 -> 0 | N4: =IF(M4=0,0,($C$4/$M$4)*100000) -> 0 | O4: =' B_Populations'!D51 -> 0 | P4: =IF(O4=0,0,($D$4/$O$4)*100000) -> 0 | Q4: =' B_Populations'!F51 -> 0 | R4: =IF(Q4=0,0,($E$4/$Q$4)*100000) -> 0 | S4: =' B_Populations'!H51 -> 0 | T4: =IF(S4=0,0,($F$4/$S$4)*100000) -> 0 | U4: =' B_Populations'!J51 -> 0 | V4: =IF(U4=0,0,($G$4/$U$4)*100000) -> 0 | W4: =' B_Populations'!L51 -> 0 | X4: =IF(W4=0,0,($H$4/$W$4)*100000) -> 0 | Y4: =' B_Populations'!N51 -> 0 | Z4: =IF(Y4=0,0,($I$4/$Y$4)*100000) -> 0 | AA4: =' B_Populations'!P51 -> 0 | AB4: =IF(AA4=0,0,($J$4/$AA$4)*100000) -> 0 | AC4: =' B_Populations'!R51 -> 0 | AD4: =IF(AC4=0,0,($K$4/$AC$4)*100000) -> 0 | AE4: =' B_Populations'!B15 -> 18136 | AF4: 0.522501 | AH4: =' B_Populations'!A9 -> 65-74 | AI4: =N4*AF4 -> 0 | AJ4: =P4*AF4 -> 0 | AK4: =R4*AF4 -> 0 | AL4: =T4*AF4 -> 0 | AM4: =V4*AF4 -> 0 | AN4: =X4*AF4 -> 0 | AO4: =Z4*AF4 -> 0 | AP4: =AB4*AF4 -> 0 | AQ4: =AD4*AF4 -> 0
B5: =' B_Populations'!A10 -> 75-84 | M5: =' B_Populations'!B52 -> 0 | N5: =IF(M5=0,0,($C$5/$M$5)*100000) -> 0 | O5: =' B_Populations'!D52 -> 0 | P5: =IF(O5=0,0,($D$5/$O$5)*100000) -> 0 | Q5: =' B_Populations'!F52 -> 0 | R5: =IF(Q5=0,0,($E$5/$Q$5)*100000) -> 0 | S5: =' B_Populations'!H52 -> 0 | T5: =IF(S5=0,0,($F$5/$S$5)*100000) -> 0 | U5: =' B_Populations'!J52 -> 0 | V5: =IF(U5=0,0,($G$5/$U$5)*100000) -> 0 | W5: =' B_Populations'!L52 -> 0 | X5: =IF(W5=0,0,($G$5/$W$5)*100000) -> 0 | Y5: =' B_Populations'!N52 -> 0 | Z5: =IF(Y5=0,0,($I$5/$Y$5)*100000) -> 0 | AA5: =' B_Populations'!P52 -> 0 | AB5: =IF(AA5=0,0,($J$5/$AA$5)*100000) -> 0 | AC5: =' B_Populations'!R52 -> 0 | AD5: =IF(AC5=0,0,($K$5/$AC$5)*100000) -> 0 | AE5: =' B_Populations'!B16 -> 12315 | AF5: 0.354797 | AH5: =' B_Populations'!A10 -> 75-84 | AI5: =N5*AF5 -> 0 | AJ5: =P5*AF5 -> 0 | AK5: =R5*AF5 -> 0 | AL5: =T5*AF5 -> 0 | AM5: =V5*AF5 -> 0 | AN5: =X5*AF5 -> 0 | AO5: =Z5*AF5 -> 0 | AP5: =AB5*AF5 -> 0 | AQ5: =AD5*AF5 -> 0
B6: =' B_Populations'!A11 -> 85+ | M6: =' B_Populations'!B53 -> 0 | N6: =IF(M6=0,0,($C$6/$M$6)*100000) -> 0 | O6: =' B_Populations'!D53 -> 0 | P6: =IF(O6=0,0,($D$6/$O$6)*100000) -> 0 | Q6: =' B_Populations'!F53 -> 0 | R6: =IF(Q6=0,0,($E$6/$Q$6)*100000) -> 0 | S6: =' B_Populations'!H53 -> 0 | T6: =IF(S6=0,0,($F$6/$S$6)*100000) -> 0 | U6: =' B_Populations'!J53 -> 0 | V6: =IF(U6=0,0,($G$6/$U$6)*100000) -> 0 | W6: =' B_Populations'!L53 -> 0 | X6: =IF(W6=0,0,($G$6/$W$6)*100000) -> 0 | Y6: =' B_Populations'!N53 -> 0 | Z6: =IF(Y6=0,0,($I$6/$Y$6)*100000) -> 0 | AA6: =' B_Populations'!P53 -> 0 | AB6: =IF(AA6=0,0,($J$6/$AA$6)*100000) -> 0 | AC6: =' B_Populations'!R53 -> 0 | AD6: =IF(AC6=0,0,($K$6/$AC$6)*100000) -> 0 | AE6: =' B_Populations'!B17 -> 4259 | AF6: 0.122702 | AH6: =' B_Populations'!A11 -> 85+ | AI6: =N6*AF6 -> 0 | AJ6: =P6*AF6 -> 0 | AK6: =R6*AF6 -> 0 | AL6: =T6*AF6 -> 0 | AM6: =V6*AF6 -> 0 | AN6: =X6*AF6 -> 0 | AO6: =Z6*AF6 -> 0 | AP6: =AB6*AF6 -> 0 | AQ6: =AD6*AF6 -> 0
B7: total | C7: =SUM(C4:C6) -> 0 | D7: =SUM(D4:D6) -> 0 | E7: =SUM(E4:E6) -> 0 | F7: =SUM(F4:F6) -> 0 | G7: =SUM(G4:G6) -> 0 | H7: =SUM(H4:H6) -> 0 | I7: =SUM(I4:I6) -> 0 | J7: =SUM(J4:J6) -> 0 | K7: =SUM(K4:K6) -> 0 | M7: =' B_Populations'!B54 -> 0 | N7: =(C7/M7)*100000 -> #DIV/0! | O7: =' B_Populations'!D54 -> 0 | P7: =(D7/O7)*100000 -> #DIV/0! | Q7: =' B_Populations'!F54 -> 0 | R7: =(E7/Q7)*100000 -> #DIV/0! | S7: =' B_Populations'!H54 -> 0 | T7: =(F7/S7)*100000 -> #DIV/0! | U7: =' B_Populations'!J54 -> 0 | V7: =(G7/U7)*100000 -> #DIV/0! | W7: =' B_Populations'!L54 -> 0 | X7: =(H7/W7)*100000 -> #DIV/0! | Y7: =' B_Populations'!N54 -> 0 | Z7: =(I7/Y7)*100000 -> #DIV/0! | AA7: =' B_Populations'!P54 -> 0 | AB7: =(J7/AA7)*100000 -> #DIV/0! | AC7: =' B_Populations'!R54 -> 0 | AD7: =(K7/AC7)*100000 -> #DIV/0! | AE7: =' B_Populations'!B18 -> 34710 | AF7: 1 | AH7: Total | AI7: =SUM(AI4:AI6) -> 0 | AJ7: =SUM(AJ4:AJ6) -> 0 | AK7: =SUM(AK4:AK6) -> 0 | AL7: =SUM(AL4:AL6) -> 0 | AM7: =SUM(AM4:AM6) -> 0 | AN7: =SUM(AN4:AN6) -> 0 | AO7: =SUM(AO4:AO6) -> 0 | AP7: =SUM(AP4:AP6) -> 0 | AQ7: =SUM(AQ4:AQ6) -> 0
D9: Sex Data | F9: Demographic Data | AI9: Age-adjusted Rates per 100,000 population
B10: Age | C10: Number of ED visits- Total | D10: Number of ED visits- Male | E10: Number of ED visits- Female | F10: =[1]Populations!I26 -> White-Not Hispanic | G10: =[1]Populations!K26 -> Hispanic | H10: =[1]Populations!M26 -> Black-Not Hispanic | I10: =[1]Populations!O26 -> Asian | J10: =[1]Populations!Q26 -> American Indian/Alaska Native | K10: =[1]Populations!S26 -> Other | M10: State population - Total | N10: Rate | O10: =[1]Populations!E26 -> Male | P10: Rate | Q10: =[1]Populations!G26 -> Female | R10: Rate | S10: =' B_Populations'!H50 -> White-Not Hispanic | T10: Rate | U10: =' B_Populations'!J50 -> Hispanic | V10: Rate | W10: =' B_Populations'!L50 -> Black-Not Hispanic | X10: Rate | Y10: =' B_Populations'!N50 -> Asian | Z10: Rate | AA10: =' B_Populations'!P50 -> American Indian/Alaska Native | AB10: Rate | AC10: =' B_Populations'!R50 -> Other | AD10: Rate | AE10: 2000 Standard population - from "Populations" tab | AF10: Weight | AH10: Age | AI10: Total | AJ10: Male | AK10: Female | AL10: =' B_Populations'!H50 -> White-Not Hispanic | AM10: =' B_Populations'!J50 -> Hispanic | AN10: =' B_Populations'!L50 -> Black-Not Hispanic | AO10: =' B_Populations'!N50 -> Asian | AP10: =' B_Populations'!P50 -> American Indian/Alaska Native | AQ10: =' B_Populations'!R50 -> Other
B11: =' B_Populations'!A9 -> 65-74 | M11: =' B_Populations'!B51 -> 0 | N11: =IF(M11=0,0,($C$11/$M$11)*100000) -> 0 | O11: =' B_Populations'!D51 -> 0 | P11: =IF(O11=0,0,($D$11/$O$11)*100000) -> 0 | Q11: =' B_Populations'!F51 -> 0 | R11: =IF(Q11=0,0,($E$11/$Q$11)*100000) -> 0 | S11: =' B_Populations'!H51 -> 0 | T11: =IF(S11=0,0,($F$11/$S$11)*100000) -> 0 | U11: =' B_Populations'!J51 -> 0 | V11: =IF(U11=0,0,($G$11/$U$11)*100000) -> 0 | W11: =' B_Populations'!L51 -> 0 | X11: =IF(W11=0,0,($H$11/$W$11)*100000) -> 0 | Y11: =' B_Populations'!N51 -> 0 | Z11: =IF(Y11=0,0,($I$11/$Y$11)*100000) -> 0 | AA11: =' B_Populations'!P51 -> 0 | AB11: =IF(AA11=0,0,($J$11/$AA$11)*100000) -> 0 | AC11: =' B_Populations'!R51 -> 0 | AD11: =IF(AC11=0,0,($K$11/$AC$11)*100000) -> 0 | AE11: =' B_Populations'!B15 -> 18136 | AF11: 0.522501 | AH11: =' B_Populations'!A9 -> 65-74 | AI11: =N11*AF11 -> 0 | AJ11: =P11*AF11 -> 0 | AK11: =R11*AF11 -> 0 | AL11: =T11*AF11 -> 0 | AM11: =V11*AF11 -> 0 | AN11: =X11*AF11 -> 0 | AO11: =Z11*AF11 -> 0 | AP11: =AB11*AF11 -> 0 | AQ11: =AD11*AF11 -> 0
B12: =' B_Populations'!A10 -> 75-84 | M12: =' B_Populations'!B52 -> 0 | N12: =IF(M12=0,0,($C$12/$M$12)*100000) -> 0 | O12: =' B_Populations'!D52 -> 0 | P12: =IF(O12=0,0,($D$12/$O$12)*100000) -> 0 | Q12: =' B_Populations'!F52 -> 0 | R12: =IF(Q12=0,0,($E$12/$Q$12)*100000) -> 0 | S12: =' B_Populations'!H52 -> 0 | T12: =IF(S12=0,0,($F$12/$S$12)*100000) -> 0 | U12: =' B_Populations'!J52 -> 0 | V12: =IF(U12=0,0,($G$12/$U$12)*100000) -> 0 | W12: =' B_Populations'!L52 -> 0 | X12: =IF(W12=0,0,($H$12/$W$12)*100000) -> 0 | Y12: =' B_Populations'!N52 -> 0 | Z12: =IF(Y12=0,0,($I$12/$Y$12)*100000) -> 0 | AA12: =' B_Populations'!P52 -> 0 | AB12: =IF(AA12=0,0,($J$12/$AA$12)*100000) -> 0 | AC12: =' B_Populations'!R52 -> 0 | AD12: =IF(AC12=0,0,($K$12/$AC$12)*100000) -> 0 | AE12: =' B_Populations'!B16 -> 12315 | AF12: 0.354797 | AH12: =' B_Populations'!A10 -> 75-84 | AI12: =N12*AF12 -> 0 | AJ12: =P12*AF12 -> 0 | AK12: =R12*AF12 -> 0 | AL12: =T12*AF12 -> 0 | AM12: =V12*AF12 -> 0 | AN12: =X12*AF12 -> 0 | AO12: =Z12*AF12 -> 0 | AP12: =AB12*AF12 -> 0 | AQ12: =AD12*AF12 -> 0
B13: =' B_Populations'!A11 -> 85+ | M13: =' B_Populations'!B53 -> 0 | N13: =IF(M13=0,0,($C$13/$M$13)*100000) -> 0 | O13: =' B_Populations'!D53 -> 0 | P13: =IF(O13=0,0,($D$13/$O$13)*100000) -> 0 | Q13: =' B_Populations'!F53 -> 0 | R13: =IF(Q13=0,0,($E$13/$Q$13)*100000) -> 0 | S13: =' B_Populations'!H53 -> 0 | T13: =IF(S13=0,0,($F$13/$S$13)*100000) -> 0 | U13: =' B_Populations'!J53 -> 0 | V13: =IF(U13=0,0,($G$13/$U$13)*100000) -> 0 | W13: =' B_Populations'!L53 -> 0 | X13: =IF(W13=0,0,($H$13/$W$13)*100000) -> 0 | Y13: =' B_Populations'!N53 -> 0 | Z13: =IF(Y13=0,0,($I$13/$Y$13)*100000) -> 0 | AA13: =' B_Populations'!P53 -> 0 | AB13: =IF(AA13=0,0,($J$13/$AA$13)*100000) -> 0 | AC13: =' B_Populations'!R53 -> 0 | AD13: =IF(AC13=0,0,($K$13/$AC$13)*100000) -> 0 | AE13: =' B_Populations'!B17 -> 4259 | AF13: 0.122702 | AH13: =' B_Populations'!A11 -> 85+ | AI13: =N13*AF13 -> 0 | AJ13: =P13*AF13 -> 0 | AK13: =R13*AF13 -> 0 | AL13: =T13*AF13 -> 0 | AM13: =V13*AF13 -> 0 | AN13: =X13*AF13 -> 0 | AO13: =Z13*AF13 -> 0 | AP13: =AB13*AF13 -> 0 | AQ13: =AD13*AF13 -> 0
B14: total | C14: =SUM(C11:C13) -> 0 | D14: =SUM(D11:D13) -> 0 | E14: =SUM(E11:E13) -> 0 | F14: =SUM(F11:F13) -> 0 | G14: =SUM(G11:G13) -> 0 | H14: =SUM(H11:H13) -> 0 | I14: =SUM(I11:I13) -> 0 | J14: =SUM(J11:J13) -> 0 | K14: =SUM(K11:K13) -> 0 | M14: =' B_Populations'!B54 -> 0 | N14: =(C14/M14)*100000 -> #DIV/0! | O14: =' B_Populations'!D54 -> 0 | P14: =(D14/O14)*100000 -> #DIV/0! | Q14: =' B_Populations'!F54 -> 0 | R14: =(E14/Q14)*100000 -> #DIV/0! | S14: =' B_Populations'!H54 -> 0 | T14: =(F14/S14)*100000 -> #DIV/0! | U14: =' B_Populations'!J54 -> 0 | V14: =(G14/U14)*100000 -> #DIV/0! | W14: =' B_Populations'!L54 -> 0 | X14: =(H14/W14)*100000 -> #DIV/0! | Y14: =' B_Populations'!N54 -> 0 | Z14: =(I14/Y14)*100000 -> #DIV/0! | AA14: =' B_Populations'!P54 -> 0 | AB14: =(J14/AA14)*100000 -> #DIV/0! | AC14: =' B_Populations'!R54 -> 0 | AD14: =(K14/AC14)*100000 -> #DIV/0! | AE14: =' B_Populations'!B18 -> 34710 | AF14: 1 | AH14: Total | AI14: =SUM(AI11:AI13) -> 0 | AJ14: =SUM(AJ11:AJ13) -> 0 | AK14: =SUM(AK11:AK13) -> 0 | AL14: =SUM(AL11:AL13) -> 0 | AM14: =SUM(AM11:AM13) -> 0 | AN14: =SUM(AN11:AN13) -> 0 | AO14: =SUM(AO11:AO13) -> 0 | AP14: =SUM(AP11:AP13) -> 0 | AQ14: =SUM(AQ11:AQ13) -> 0
D16: Sex Data | F16: Demographic Data | AI16: Age-adjusted Rates per 100,000 population
B17: Age | C17: Number of deaths- Total | D17: Number of deaths- Male | E17: Number of deaths- Female | F17: =[1]Populations!I26 -> White-Not Hispanic | G17: =[1]Populations!K26 -> Hispanic | H17: =[1]Populations!M26 -> Black-Not Hispanic | I17: =[1]Populations!O26 -> Asian | J17: =[1]Populations!Q26 -> American Indian/Alaska Native | K17: =[1]Populations!S26 -> Other | M17: State population - Total | N17: Rate | O17: =[1]Populations!E26 -> Male | P17: Rate | Q17: =[1]Populations!G26 -> Female | R17: Rate | S17: =' B_Populations'!H50 -> White-Not Hispanic | T17: Rate | U17: =' B_Populations'!J50 -> Hispanic | V17: Rate | W17: =' B_Populations'!L50 -> Black-Not Hispanic | X17: Rate | Y17: =' B_Populations'!N50 -> Asian | Z17: Rate | AA17: =' B_Populations'!P50 -> American Indian/Alaska Native | AB17: Rate | AC17: =' B_Populations'!R50 -> Other | AD17: Rate | AE17: 2000 Standard population - from "Populations" tab | AF17: Weight | AH17: Age | AI17: Total | AJ17: Male | AK17: Female | AL17: =' B_Populations'!H50 -> White-Not Hispanic | AM17: =' B_Populations'!J50 -> Hispanic | AN17: =' B_Populations'!L50 -> Black-Not Hispanic | AO17: =' B_Populations'!N50 -> Asian | AP17: =' B_Populations'!P50 -> American Indian/Alaska Native | AQ17: =' B_Populations'!R50 -> Other
B18: =' B_Populations'!A9 -> 65-74 | M18: =' B_Populations'!B51 -> 0 | N18: =IF(M18=0,0,($C$18/$M$18)*100000) -> 0 | O18: =' B_Populations'!D51 -> 0 | P18: =IF(O18=0,0,($D$18/$O$18)*100000) -> 0 | Q18: =' B_Populations'!F51 -> 0 | R18: =IF(Q18=0,0,($E$18/$Q$18)*100000) -> 0 | S18: =' B_Populations'!H51 -> 0 | T18: =IF(S18=0,0,($F$18/$S$18)*100000) -> 0 | U18: =' B_Populations'!J51 -> 0 | V18: =IF(U18=0,0,($G$18/$U$18)*100000) -> 0 | W18: =' B_Populations'!L51 -> 0 | X18: =IF(W18=0,0,($H$18/$W$18)*100000) -> 0 | Y18: =' B_Populations'!N51 -> 0 | Z18: =IF(Y18=0,0,($I$18/$Y$18)*100000) -> 0 | AA18: =' B_Populations'!P51 -> 0 | AB18: =IF(AA18=0,0,($J$18/$AA$18)*100000) -> 0 | AC18: =' B_Populations'!R51 -> 0 | AD18: =IF(AC18=0,0,($K$18/$AC$18)*100000) -> 0 | AE18: =' B_Populations'!B15 -> 18136 | AF18: 0.522501 | AH18: =' B_Populations'!A9 -> 65-74 | AI18: =N18*AF18 -> 0 | AJ18: =P18*AF18 -> 0 | AK18: =R18*AF18 -> 0 | AL18: =T18*AF18 -> 0 | AM18: =V18*AF18 -> 0 | AN18: =X18*AF18 -> 0 | AO18: =Z18*AF18 -> 0 | AP18: =AB18*AF18 -> 0 | AQ18: =AD18*AF18 -> 0
B19: =' B_Populations'!A10 -> 75-84 | M19: =' B_Populations'!B52 -> 0 | N19: =IF(M19=0,0,($C$19/$M$19)*100000) -> 0 | O19: =' B_Populations'!D52 -> 0 | P19: =IF(O19=0,0,($D$19/$O$19)*100000) -> 0 | Q19: =' B_Populations'!F52 -> 0 | R19: =IF(Q19=0,0,($E$19/$Q$19)*100000) -> 0 | S19: =' B_Populations'!H52 -> 0 | T19: =IF(S19=0,0,($F$19/$S$19)*100000) -> 0 | U19: =' B_Populations'!J52 -> 0 | V19: =IF(U19=0,0,($G$19/$U$19)*100000) -> 0 | W19: =' B_Populations'!L52 -> 0 | X19: =IF(W19=0,0,($H$19/$W$19)*100000) -> 0 | Y19: =' B_Populations'!N52 -> 0 | Z19: =IF(Y19=0,0,($I$19/$Y$19)*100000) -> 0 | AA19: =' B_Populations'!P52 -> 0 | AB19: =IF(AA19=0,0,($J$19/$AA$19)*100000) -> 0 | AC19: =' B_Populations'!R52 -> 0 | AD19: =IF(AC19=0,0,($K$19/$AC$19)*100000) -> 0 | AE19: =' B_Populations'!B16 -> 12315 | AF19: 0.354797 | AH19: =' B_Populations'!A10 -> 75-84 | AI19: =N19*AF19 -> 0 | AJ19: =P19*AF19 -> 0 | AK19: =R19*AF19 -> 0 | AL19: =T19*AF19 -> 0 | AM19: =V19*AF19 -> 0 | AN19: =X19*AF19 -> 0 | AO19: =Z19*AF19 -> 0 | AP19: =AB19*AF19 -> 0 | AQ19: =AD19*AF19 -> 0
B20: =' B_Populations'!A11 -> 85+ | M20: =' B_Populations'!B53 -> 0 | N20: =IF(M20=0,0,($C$20/$M$20)*100000) -> 0 | O20: =' B_Populations'!D53 -> 0 | P20: =IF(O20=0,0,($D$20/$O$20)*100000) -> 0 | Q20: =' B_Populations'!F53 -> 0 | R20: =IF(Q20=0,0,($E$20/$Q$20)*100000) -> 0 | S20: =' B_Populations'!H53 -> 0 | T20: =IF(S20=0,0,($F$20/$S$20)*100000) -> 0 | U20: =' B_Populations'!J53 -> 0 | V20: =IF(U20=0,0,($G$20/$U$20)*100000) -> 0 | W20: =' B_Populations'!L53 -> 0 | X20: =IF(W20=0,0,($H$20/$W$20)*100000) -> 0 | Y20: =' B_Populations'!N53 -> 0 | Z20: =IF(Y20=0,0,($I$20/$Y$20)*100000) -> 0 | AA20: =' B_Populations'!P53 -> 0 | AB20: =IF(AA20=0,0,($J$20/$AA$20)*100000) -> 0 | AC20: =' B_Populations'!R53 -> 0 | AD20: =IF(AC20=0,0,($K$20/$AC$20)*100000) -> 0 | AE20: =' B_Populations'!B17 -> 4259 | AF20: 0.122702 | AH20: =' B_Populations'!A11 -> 85+ | AI20: =N20*AF20 -> 0 | AJ20: =P20*AF20 -> 0 | AK20: =R20*AF20 -> 0 | AL20: =T20*AF20 -> 0 | AM20: =V20*AF20 -> 0 | AN20: =X20*AF20 -> 0 | AO20: =Z20*AF20 -> 0 | AP20: =AB20*AF20 -> 0 | AQ20: =AD20*AF20 -> 0
B21: total | C21: =SUM(C18:C20) -> 0 | D21: =SUM(D18:D20) -> 0 | E21: =SUM(E18:E20) -> 0 | F21: =SUM(F18:F20) -> 0 | G21: =SUM(G18:G20) -> 0 | H21: =SUM(H18:H20) -> 0 | I21: =SUM(I18:I20) -> 0 | J21: =SUM(J18:J20) -> 0 | K21: =SUM(K18:K20) -> 0 | M21: =' B_Populations'!B54 -> 0 | N21: =(C21/M21)*100000 -> #DIV/0! | O21: =' B_Populations'!D54 -> 0 | P21: =(D21/O21)*100000 -> #DIV/0! | Q21: =' B_Populations'!F54 -> 0 | R21: =(E21/Q21)*100000 -> #DIV/0! | S21: =' B_Populations'!H54 -> 0 | T21: =(F21/S21)*100000 -> #DIV/0! | U21: =' B_Populations'!J54 -> 0 | V21: =(G21/U21)*100000 -> #DIV/0! | W21: =' B_Populations'!L54 -> 0 | X21: =(H21/W21)*100000 -> #DIV/0! | Y21: =' B_Populations'!N54 -> 0 | Z21: =(I21/Y21)*100000 -> #DIV/0! | AA21: =' B_Populations'!P54 -> 0 | AB21: =(J21/AA21)*100000 -> #DIV/0! | AC21: =' B_Populations'!R54 -> 0 | AD21: =(K21/AC21)*100000 -> #DIV/0! | AE21: =' B_Populations'!B18 -> 34710 | AF21: 1 | AH21: Total | AI21: =SUM(AI18:AI20) -> 0 | AJ21: =SUM(AJ18:AJ20) -> 0 | AK21: =SUM(AK18:AK20) -> 0 | AL21: =SUM(AL18:AL20) -> 0 | AM21: =SUM(AM18:AM20) -> 0 | AN21: =SUM(AN18:AN20) -> 0 | AO21: =SUM(AO18:AO20) -> 0 | AP21: =SUM(AP18:AP20) -> 0 | AQ21: =SUM(AQ18:AQ20) -> 0

Sheet H_Year 5
A1: =' B_Populations'!D58 -> 0 | B1: Data Input Tables Instructions: Enter your Older Adult Falls-related injury data in the red cells below. The age-adjusted rates will automatically calculate in the results table. | F1: Use columns F through K to enter demographic data | M1: Optional: Unhide columns M through AD to show rate calculations by sex and race/ethnicity and 2000 population weights | AE1: Columns AI through AQ will then autogenerate age-adjusted rates per 100,000 | AH1: Results Table Age Adjusted Rates per 100,1000. Results will calculate automatically.
D2: Sex Data | F2: Demographic Data | AI2: Age-adjusted Rates per 100,000 population
B3: Age | C3: Number of hospitalizations- Total | D3: Number of hospitalizations- Male | E3: Number of hospitalizations- Female | F3: =[1]Populations!I8 -> White-Not Hispanic | G3: =[1]Populations!K8 -> Hispanic | H3: =[1]Populations!M8 -> Black-Not Hispanic | I3: =[1]Populations!O8 -> Asian | J3: =[1]Populations!Q8 -> American Indian/Alaska Native | K3: =[1]Populations!S8 -> Other | M3: State population - Total | N3: Rate | O3: State population - Male | P3: Rate | Q3: State population - Female | R3: Rate | S3: =' B_Populations'!H62 -> White-Not Hispanic | T3: Rate | U3: =' B_Populations'!J62 -> Hispanic | V3: Rate | W3: =' B_Populations'!L62 -> Black-Not Hispanic | X3: Rate | Y3: =' B_Populations'!N62 -> Asian | Z3: Rate | AA3: =' B_Populations'!P62 -> American Indian/Alaska Native | AB3: Rate | AC3: =' B_Populations'!R62 -> Other | AD3: Rate | AE3: 2000 Standard population - from "Populations" tab | AF3: Weight | AH3: Age | AI3: Total | AJ3: Male | AK3: Female | AL3: =' B_Populations'!H62 -> White-Not Hispanic | AM3: =' B_Populations'!J62 -> Hispanic | AN3: =' B_Populations'!L62 -> Black-Not Hispanic | AO3: =' B_Populations'!N62 -> Asian | AP3: =' B_Populations'!P62 -> American Indian/Alaska Native | AQ3: =' B_Populations'!R62 -> Other
B4: =' B_Populations'!A9 -> 65-74 | M4: =' B_Populations'!B63 -> 0 | N4: =IF(M4=0,0,($C$4/$M$4)*100000) -> 0 | O4: =' B_Populations'!D63 -> 0 | P4: =IF(O4=0,0,($D$4/$O$4)*100000) -> 0 | Q4: =' B_Populations'!F63 -> 0 | R4: =IF(Q4=0,0,($E$4/$Q$4)*100000) -> 0 | S4: =' B_Populations'!H63 -> 0 | T4: =IF(S4=0,0,($F$4/$S$4)*100000) -> 0 | U4: =' B_Populations'!J63 -> 0 | V4: =IF(U4=0,0,($G$4/$U$4)*100000) -> 0 | W4: =' B_Populations'!L63 -> 0 | X4: =IF(W4=0,0,($H$4/$W$4)*100000) -> 0 | Y4: =' B_Populations'!N63 -> 0 | Z4: =IF(Y4=0,0,($I$4/$Y$4)*100000) -> 0 | AA4: =' B_Populations'!P63 -> 0 | AB4: =IF(AA4=0,0,($J$4/$AA$4)*100000) -> 0 | AC4: =' B_Populations'!R63 -> 0 | AD4: =IF(AC4=0,0,($K$4/$AC$4)*100000) -> 0 | AE4: =' B_Populations'!B15 -> 18136 | AF4: 0.522501 | AH4: =' B_Populations'!A9 -> 65-74 | AI4: =N4*AF4 -> 0 | AJ4: =P4*AF4 -> 0 | AK4: =R4*AF4 -> 0 | AL4: =T4*AF4 -> 0 | AM4: =V4*AF4 -> 0 | AN4: =X4*AF4 -> 0 | AO4: =Z4*AF4 -> 0 | AP4: =AB4*AF4 -> 0 | AQ4: =AD4*AF4 -> 0
B5: =' B_Populations'!A10 -> 75-84 | M5: =' B_Populations'!B64 -> 0 | N5: =IF(M5=0,0,($C$5/$M$5)*100000) -> 0 | O5: =' B_Populations'!D64 -> 0 | P5: =IF(O5=0,0,($D$5/$O$5)*100000) -> 0 | Q5: =' B_Populations'!F64 -> 0 | R5: =IF(Q5=0,0,($E$5/$Q$5)*100000) -> 0 | S5: =' B_Populations'!H64 -> 0 | T5: =IF(S5=0,0,($F$5/$S$5)*100000) -> 0 | U5: =' B_Populations'!J64 -> 0 | V5: =IF(U5=0,0,($G$5/$U$5)*100000) -> 0 | W5: =' B_Populations'!L64 -> 0 | X5: =IF(W5=0,0,($G$5/$W$5)*100000) -> 0 | Y5: =' B_Populations'!N64 -> 0 | Z5: =IF(Y5=0,0,($I$5/$Y$5)*100000) -> 0 | AA5: =' B_Populations'!P64 -> 0 | AB5: =IF(AA5=0,0,($J$5/$AA$5)*100000) -> 0 | AC5: =' B_Populations'!R64 -> 0 | AD5: =IF(AC5=0,0,($K$5/$AC$5)*100000) -> 0 | AE5: =' B_Populations'!B16 -> 12315 | AF5: 0.354797 | AH5: =' B_Populations'!A10 -> 75-84 | AI5: =N5*AF5 -> 0 | AJ5: =P5*AF5 -> 0 | AK5: =R5*AF5 -> 0 | AL5: =T5*AF5 -> 0 | AM5: =V5*AF5 -> 0 | AN5: =X5*AF5 -> 0 | AO5: =Z5*AF5 -> 0 | AP5: =AB5*AF5 -> 0 | AQ5: =AD5*AF5 -> 0
B6: =' B_Populations'!A11 -> 85+ | M6: =' B_Populations'!B65 -> 0 | N6: =IF(M6=0,0,($C$6/$M$6)*100000) -> 0 | O6: =' B_Populations'!D65 -> 0 | P6: =IF(O6=0,0,($D$6/$O$6)*100000) -> 0 | Q6: =' B_Populations'!F65 -> 0 | R6: =IF(Q6=0,0,($E$6/$Q$6)*100000) -> 0 | S6: =' B_Populations'!H65 -> 0 | T6: =IF(S6=0,0,($F$6/$S$6)*100000) -> 0 | U6: =' B_Populations'!J65 -> 0 | V6: =IF(U6=0,0,($G$6/$U$6)*100000) -> 0 | W6: =' B_Populations'!L65 -> 0 | X6: =IF(W6=0,0,($G$6/$W$6)*100000) -> 0 | Y6: =' B_Populations'!N65 -> 0 | Z6: =IF(Y6=0,0,($I$6/$Y$6)*100000) -> 0 | AA6: =' B_Populations'!P65 -> 0 | AB6: =IF(AA6=0,0,($J$6/$AA$6)*100000) -> 0 | AC6: =' B_Populations'!R65 -> 0 | AD6: =IF(AC6=0,0,($K$6/$AC$6)*100000) -> 0 | AE6: =' B_Populations'!B17 -> 4259 | AF6: 0.122702 | AH6: =' B_Populations'!A11 -> 85+ | AI6: =N6*AF6 -> 0 | AJ6: =P6*AF6 -> 0 | AK6: =R6*AF6 -> 0 | AL6: =T6*AF6 -> 0 | AM6: =V6*AF6 -> 0 | AN6: =X6*AF6 -> 0 | AO6: =Z6*AF6 -> 0 | AP6: =AB6*AF6 -> 0 | AQ6: =AD6*AF6 -> 0
B7: total | C7: =SUM(C4:C6) -> 0 | D7: =SUM(D4:D6) -> 0 | E7: =SUM(E4:E6) -> 0 | F7: =SUM(F4:F6) -> 0 | G7: =SUM(G4:G6) -> 0 | H7: =SUM(H4:H6) -> 0 | I7: =SUM(I4:I6) -> 0 | J7: =SUM(J4:J6) -> 0 | K7: =SUM(K4:K6) -> 0 | M7: =' B_Populations'!B66 -> 0 | N7: =(C7/M7)*100000 -> #DIV/0! | O7: =' B_Populations'!D66 -> 0 | P7: =(D7/O7)*100000 -> #DIV/0! | Q7: =' B_Populations'!F66 -> 0 | R7: =(E7/Q7)*100000 -> #DIV/0! | S7: =' B_Populations'!H66 -> 0 | T7: =(F7/S7)*100000 -> #DIV/0! | U7: =' B_Populations'!J66 -> 0 | V7: =(G7/U7)*100000 -> #DIV/0! | W7: =' B_Populations'!L66 -> 0 | X7: =(H7/W7)*100000 -> #DIV/0! | Y7: =' B_Populations'!N66 -> 0 | Z7: =(I7/Y7)*100000 -> #DIV/0! | AA7: =' B_Populations'!P66 -> 0 | AB7: =(J7/AA7)*100000 -> #DIV/0! | AC7: =' B_Populations'!R66 -> 0 | AD7: =(K7/AC7)*100000 -> #DIV/0! | AE7: =' B_Populations'!B18 -> 34710 | AF7: 1 | AH7: Total | AI7: =SUM(AI4:AI6) -> 0 | AJ7: =SUM(AJ4:AJ6) -> 0 | AK7: =SUM(AK4:AK6) -> 0 | AL7: =SUM(AL4:AL6) -> 0 | AM7: =SUM(AM4:AM6) -> 0 | AN7: =SUM(AN4:AN6) -> 0 | AO7: =SUM(AO4:AO6) -> 0 | AP7: =SUM(AP4:AP6) -> 0 | AQ7: =SUM(AQ4:AQ6) -> 0
D9: Sex Data | F9: Demographic Data | AI9: Age-adjusted Rates per 100,000 population
B10: Age | C10: Number of ED visits- Total | D10: Number of ED visits- Male | E10: Number of ED visits- Female | F10: =[1]Populations!I8 -> White-Not Hispanic | G10: =[1]Populations!K8 -> Hispanic | H10: =[1]Populations!M8 -> Black-Not Hispanic | I10: =[1]Populations!O8 -> Asian | J10: =[1]Populations!Q8 -> American Indian/Alaska Native | K10: =[1]Populations!S8 -> Other | M10: State population - Total | N10: Rate | O10: State population - Male | P10: Rate | Q10: State population - Female | R10: Rate | S10: =' B_Populations'!H62 -> White-Not Hispanic | T10: Rate | U10: =' B_Populations'!J62 -> Hispanic | V10: Rate | W10: =' B_Populations'!L62 -> Black-Not Hispanic | X10: Rate | Y10: =' B_Populations'!N62 -> Asian | Z10: Rate | AA10: =' B_Populations'!P62 -> American Indian/Alaska Native | AB10: Rate | AC10: =' B_Populations'!R62 -> Other | AD10: Rate | AE10: 2000 Standard population - from "Populations" tab | AF10: Weight | AH10: Age | AI10: Total | AJ10: Male | AK10: Female | AL10: =' B_Populations'!H62 -> White-Not Hispanic | AM10: =' B_Populations'!J62 -> Hispanic | AN10: =' B_Populations'!L62 -> Black-Not Hispanic | AO10: =' B_Populations'!N62 -> Asian | AP10: =' B_Populations'!P62 -> American Indian/Alaska Native | AQ10: =' B_Populations'!R62 -> Other
B11: =' B_Populations'!A9 -> 65-74 | M11: =' B_Populations'!B63 -> 0 | N11: =IF(M11=0,0,($C$11/$M$11)*100000) -> 0 | O11: =' B_Populations'!D63 -> 0 | P11: =IF(O11=0,0,($D$11/$O$11)*100000) -> 0 | Q11: =' B_Populations'!F63 -> 0 | R11: =IF(Q11=0,0,($E$11/$Q$11)*100000) -> 0 | S11: =' B_Populations'!H63 -> 0 | T11: =IF(S11=0,0,($F$11/$S$11)*100000) -> 0 | U11: =' B_Populations'!J63 -> 0 | V11: =IF(U11=0,0,($G$11/$U$11)*100000) -> 0 | W11: =' B_Populations'!L63 -> 0 | X11: =IF(W11=0,0,($H$11/$W$11)*100000) -> 0 | Y11: =' B_Populations'!N63 -> 0 | Z11: =IF(Y11=0,0,($I$11/$Y$11)*100000) -> 0 | AA11: =' B_Populations'!P63 -> 0 | AB11: =IF(AA11=0,0,($J$11/$AA$11)*100000) -> 0 | AC11: =' B_Populations'!R63 -> 0 | AD11: =IF(AC11=0,0,($K$11/$AC$11)*100000) -> 0 | AE11: =' B_Populations'!B15 -> 18136 | AF11: 0.522501 | AH11: =' B_Populations'!A9 -> 65-74 | AI11: =N11*AF11 -> 0 | AJ11: =P11*AF11 -> 0 | AK11: =R11*AF11 -> 0 | AL11: =T11*AF11 -> 0 | AM11: =V11*AF11 -> 0 | AN11: =X11*AF11 -> 0 | AO11: =Z11*AF11 -> 0 | AP11: =AB11*AF11 -> 0 | AQ11: =AD11*AF11 -> 0
B12: =' B_Populations'!A10 -> 75-84 | M12: =' B_Populations'!B64 -> 0 | N12: =IF(M12=0,0,($C$12/$M$12)*100000) -> 0 | O12: =' B_Populations'!D64 -> 0 | P12: =IF(O12=0,0,($D$12/$O$12)*100000) -> 0 | Q12: =' B_Populations'!F64 -> 0 | R12: =IF(Q12=0,0,($E$12/$Q$12)*100000) -> 0 | S12: =' B_Populations'!H64 -> 0 | T12: =IF(S12=0,0,($F$12/$S$12)*100000) -> 0 | U12: =' B_Populations'!J64 -> 0 | V12: =IF(U12=0,0,($G$12/$U$12)*100000) -> 0 | W12: =' B_Populations'!L64 -> 0 | X12: =IF(W12=0,0,($H$12/$W$12)*100000) -> 0 | Y12: =' B_Populations'!N64 -> 0 | Z12: =IF(Y12=0,0,($I$12/$Y$12)*100000) -> 0 | AA12: =' B_Populations'!P64 -> 0 | AB12: =IF(AA12=0,0,($J$12/$AA$12)*100000) -> 0 | AC12: =' B_Populations'!R64 -> 0 | AD12: =IF(AC12=0,0,($K$12/$AC$12)*100000) -> 0 | AE12: =' B_Populations'!B16 -> 12315 | AF12: 0.354797 | AH12: =' B_Populations'!A10 -> 75-84 | AI12: =N12*AF12 -> 0 | AJ12: =P12*AF12 -> 0 | AK12: =R12*AF12 -> 0 | AL12: =T12*AF12 -> 0 | AM12: =V12*AF12 -> 0 | AN12: =X12*AF12 -> 0 | AO12: =Z12*AF12 -> 0 | AP12: =AB12*AF12 -> 0 | AQ12: =AD12*AF12 -> 0
B13: =' B_Populations'!A11 -> 85+ | M13: =' B_Populations'!B65 -> 0 | N13: =IF(M13=0,0,($C$13/$M$13)*100000) -> 0 | O13: =' B_Populations'!D65 -> 0 | P13: =IF(O13=0,0,($D$13/$O$13)*100000) -> 0 | Q13: =' B_Populations'!F65 -> 0 | R13: =IF(Q13=0,0,($E$13/$Q$13)*100000) -> 0 | S13: =' B_Populations'!H65 -> 0 | T13: =IF(S13=0,0,($F$13/$S$13)*100000) -> 0 | U13: =' B_Populations'!J65 -> 0 | V13: =IF(U13=0,0,($G$13/$U$13)*100000) -> 0 | W13: =' B_Populations'!L65 -> 0 | X13: =IF(W13=0,0,($H$13/$W$13)*100000) -> 0 | Y13: =' B_Populations'!N65 -> 0 | Z13: =IF(Y13=0,0,($I$13/$Y$13)*100000) -> 0 | AA13: =' B_Populations'!P65 -> 0 | AB13: =IF(AA13=0,0,($J$13/$AA$13)*100000) -> 0 | AC13: =' B_Populations'!R65 -> 0 | AD13: =IF(AC13=0,0,($K$13/$AC$13)*100000) -> 0 | AE13: =' B_Populations'!B17 -> 4259 | AF13: 0.122702 | AH13: =' B_Populations'!A11 -> 85+ | AI13: =N13*AF13 -> 0 | AJ13: =P13*AF13 -> 0 | AK13: =R13*AF13 -> 0 | AL13: =T13*AF13 -> 0 | AM13: =V13*AF13 -> 0 | AN13: =X13*AF13 -> 0 | AO13: =Z13*AF13 -> 0 | AP13: =AB13*AF13 -> 0 | AQ13: =AD13*AF13 -> 0
B14: total | C14: =SUM(C11:C13) -> 0 | D14: =SUM(D11:D13) -> 0 | E14: =SUM(E11:E13) -> 0 | F14: =SUM(F11:F13) -> 0 | G14: =SUM(G11:G13) -> 0 | H14: =SUM(H11:H13) -> 0 | I14: =SUM(I11:I13) -> 0 | J14: =SUM(J11:J13) -> 0 | K14: =SUM(K11:K13) -> 0 | M14: =' B_Populations'!B66 -> 0 | N14: =(C14/M14)*100000 -> #DIV/0! | O14: =' B_Populations'!D66 -> 0 | P14: =(D14/O14)*100000 -> #DIV/0! | Q14: =' B_Populations'!F66 -> 0 | R14: =(E14/Q14)*100000 -> #DIV/0! | S14: =' B_Populations'!H66 -> 0 | T14: =(F14/S14)*100000 -> #DIV/0! | U14: =' B_Populations'!J66 -> 0 | V14: =(G14/U14)*100000 -> #DIV/0! | W14: =' B_Populations'!L66 -> 0 | X14: =(H14/W14)*100000 -> #DIV/0! | Y14: =' B_Populations'!N66 -> 0 | Z14: =(I14/Y14)*100000 -> #DIV/0! | AA14: =' B_Populations'!P66 -> 0 | AB14: =(J14/AA14)*100000 -> #DIV/0! | AC14: =' B_Populations'!R66 -> 0 | AD14: =(K14/AC14)*100000 -> #DIV/0! | AE14: =' B_Populations'!B18 -> 34710 | AF14: 1 | AH14: Total | AI14: =SUM(AI11:AI13) -> 0 | AJ14: =SUM(AJ11:AJ13) -> 0 | AK14: =SUM(AK11:AK13) -> 0 | AL14: =SUM(AL11:AL13) -> 0 | AM14: =SUM(AM11:AM13) -> 0 | AN14: =SUM(AN11:AN13) -> 0 | AO14: =SUM(AO11:AO13) -> 0 | AP14: =SUM(AP11:AP13) -> 0 | AQ14: =SUM(AQ11:AQ13) -> 0
D16: Sex Data | F16: Demographic Data | AI16: Age-adjusted Rates per 100,000 population
B17: Age | C17: Number of deaths- Total | D17: Number of deaths- Male | E17: Number of deaths- Female | F17: =[1]Populations!I8 -> White-Not Hispanic | G17: =[1]Populations!K8 -> Hispanic | H17: =[1]Populations!M8 -> Black-Not Hispanic | I17: =[1]Populations!O8 -> Asian | J17: =[1]Populations!Q8 -> American Indian/Alaska Native | K17: =[1]Populations!S8 -> Other | M17: State population - Total | N17: Rate | O17: State population - Male | P17: Rate | Q17: State population - Female | R17: Rate | S17: =' B_Populations'!H62 -> White-Not Hispanic | T17: Rate | U17: =' B_Populations'!J62 -> Hispanic | V17: Rate | W17: =' B_Populations'!L62 -> Black-Not Hispanic | X17: Rate | Y17: =' B_Populations'!N62 -> Asian | Z17: Rate | AA17: =' B_Populations'!P62 -> American Indian/Alaska Native | AB17: Rate | AC17: =' B_Populations'!R62 -> Other | AD17: Rate | AE17: 2000 Standard population - from "Populations" tab | AF17: Weight | AH17: Age | AI17: Total | AJ17: Male | AK17: Female | AL17: =' B_Populations'!H62 -> White-Not Hispanic | AM17: =' B_Populations'!J62 -> Hispanic | AN17: =' B_Populations'!L62 -> Black-Not Hispanic | AO17: =' B_Populations'!N62 -> Asian | AP17: =' B_Populations'!P62 -> American Indian/Alaska Native | AQ17: =' B_Populations'!R62 -> Other
B18: =' B_Populations'!A9 -> 65-74 | M18: =' B_Populations'!B63 -> 0 | N18: =IF(M18=0,0,($C$18/$M$18)*100000) -> 0 | O18: =' B_Populations'!D63 -> 0 | P18: =IF(O18=0,0,($D$18/$O$18)*100000) -> 0 | Q18: =' B_Populations'!F63 -> 0 | R18: =IF(Q18=0,0,($E$18/$Q$18)*100000) -> 0 | S18: =' B_Populations'!H63 -> 0 | T18: =IF(S18=0,0,($F$18/$S$18)*100000) -> 0 | U18: =' B_Populations'!J63 -> 0 | V18: =IF(U18=0,0,($G$18/$U$18)*100000) -> 0 | W18: =' B_Populations'!L63 -> 0 | X18: =IF(W18=0,0,($H$18/$W$18)*100000) -> 0 | Y18: =' B_Populations'!N63 -> 0 | Z18: =IF(Y18=0,0,($I$18/$Y$18)*100000) -> 0 | AA18: =' B_Populations'!P63 -> 0 | AB18: =IF(AA18=0,0,($J$18/$AA$18)*100000) -> 0 | AC18: =' B_Populations'!R63 -> 0 | AD18: =IF(AC18=0,0,($K$18/$AC$18)*100000) -> 0 | AE18: =' B_Populations'!B15 -> 18136 | AF18: 0.522501 | AH18: =' B_Populations'!A9 -> 65-74 | AI18: =N18*AF18 -> 0 | AJ18: =P18*AF18 -> 0 | AK18: =R18*AF18 -> 0 | AL18: =T18*AF18 -> 0 | AM18: =V18*AF18 -> 0 | AN18: =X18*AF18 -> 0 | AO18: =Z18*AF18 -> 0 | AP18: =AB18*AF18 -> 0 | AQ18: =AD18*AF18 -> 0
B19: =' B_Populations'!A10 -> 75-84 | M19: =' B_Populations'!B64 -> 0 | N19: =IF(M19=0,0,($C$19/$M$19)*100000) -> 0 | O19: =' B_Populations'!D64 -> 0 | P19: =IF(O19=0,0,($D$19/$O$19)*100000) -> 0 | Q19: =' B_Populations'!F64 -> 0 | R19: =IF(Q19=0,0,($E$19/$Q$19)*100000) -> 0 | S19: =' B_Populations'!H64 -> 0 | T19: =IF(S19=0,0,($F$19/$S$19)*100000) -> 0 | U19: =' B_Populations'!J64 -> 0 | V19: =IF(U19=0,0,($G$19/$U$19)*100000) -> 0 | W19: =' B_Populations'!L64 -> 0 | X19: =IF(W19=0,0,($H$19/$W$19)*100000) -> 0 | Y19: =' B_Populations'!N64 -> 0 | Z19: =IF(Y19=0,0,($I$19/$Y$19)*100000) -> 0 | AA19: =' B_Populations'!P64 -> 0 | AB19: =IF(AA19=0,0,($J$19/$AA$19)*100000) -> 0 | AC19: =' B_Populations'!R64 -> 0 | AD19: =IF(AC19=0,0,($K$19/$AC$19)*100000) -> 0 | AE19: =' B_Populations'!B16 -> 12315 | AF19: 0.354797 | AH19: =' B_Populations'!A10 -> 75-84 | AI19: =N19*AF19 -> 0 | AJ19: =P19*AF19 -> 0 | AK19: =R19*AF19 -> 0 | AL19: =T19*AF19 -> 0 | AM19: =V19*AF19 -> 0 | AN19: =X19*AF19 -> 0 | AO19: =Z19*AF19 -> 0 | AP19: =AB19*AF19 -> 0 | AQ19: =AD19*AF19 -> 0
B20: =' B_Populations'!A11 -> 85+ | M20: =' B_Populations'!B65 -> 0 | N20: =IF(M20=0,0,($C$20/$M$20)*100000) -> 0 | O20: =' B_Populations'!D65 -> 0 | P20: =IF(O20=0,0,($D$20/$O$20)*100000) -> 0 | Q20: =' B_Populations'!F65 -> 0 | R20: =IF(Q20=0,0,($E$20/$Q$20)*100000) -> 0 | S20: =' B_Populations'!H65 -> 0 | T20: =IF(S20=0,0,($F$20/$S$20)*100000) -> 0 | U20: =' B_Populations'!J65 -> 0 | V20: =IF(U20=0,0,($G$20/$U$20)*100000) -> 0 | W20: =' B_Populations'!L65 -> 0 | X20: =IF(W20=0,0,($H$20/$W$20)*100000) -> 0 | Y20: =' B_Populations'!N65 -> 0 | Z20: =IF(Y20=0,0,($I$20/$Y$20)*100000) -> 0 | AA20: =' B_Populations'!P65 -> 0 | AB20: =IF(AA20=0,0,($J$20/$AA$20)*100000) -> 0 | AC20: =' B_Populations'!R65 -> 0 | AD20: =IF(AC20=0,0,($K$20/$AC$20)*100000) -> 0 | AE20: =' B_Populations'!B17 -> 4259 | AF20: 0.122702 | AH20: =' B_Populations'!A11 -> 85+ | AI20: =N20*AF20 -> 0 | AJ20: =P20*AF20 -> 0 | AK20: =R20*AF20 -> 0 | AL20: =T20*AF20 -> 0 | AM20: =V20*AF20 -> 0 | AN20: =X20*AF20 -> 0 | AO20: =Z20*AF20 -> 0 | AP20: =AB20*AF20 -> 0 | AQ20: =AD20*AF20 -> 0
B21: total | C21: =SUM(C18:C20) -> 0 | D21: =SUM(D18:D20) -> 0 | E21: =SUM(E18:E20) -> 0 | F21: =SUM(F18:F20) -> 0 | G21: =SUM(G18:G20) -> 0 | H21: =SUM(H18:H20) -> 0 | I21: =SUM(I18:I20) -> 0 | J21: =SUM(J18:J20) -> 0 | K21: =SUM(K18:K20) -> 0 | M21: =' B_Populations'!B66 -> 0 | N21: =(C21/M21)*100000 -> #DIV/0! | O21: =' B_Populations'!D66 -> 0 | P21: =(D21/O21)*100000 -> #DIV/0! | Q21: =' B_Populations'!F66 -> 0 | R21: =(E21/Q21)*100000 -> #DIV/0! | S21: =' B_Populations'!H66 -> 0 | T21: =(F21/S21)*100000 -> #DIV/0! | U21: =' B_Populations'!J66 -> 0 | V21: =(G21/U21)*100000 -> #DIV/0! | W21: =' B_Populations'!L66 -> 0 | X21: =(H21/W21)*100000 -> #DIV/0! | Y21: =' B_Populations'!N66 -> 0 | Z21: =(I21/Y21)*100000 -> #DIV/0! | AA21: =' B_Populations'!P66 -> 0 | AB21: =(J21/AA21)*100000 -> #DIV/0! | AC21: =' B_Populations'!R66 -> 0 | AD21: =(K21/AC21)*100000 -> #DIV/0! | AE21: =' B_Populations'!B18 -> 34710 | AF21: 1 | AH21: Total | AI21: =SUM(AI18:AI20) -> 0 | AJ21: =SUM(AJ18:AJ20) -> 0 | AK21: =SUM(AK18:AK20) -> 0 | AL21: =SUM(AL18:AL20) -> 0 | AM21: =SUM(AM18:AM20) -> 0 | AN21: =SUM(AN18:AN20) -> 0 | AO21: =SUM(AO18:AO20) -> 0 | AP21: =SUM(AP18:AP20) -> 0 | AQ21: =SUM(AQ18:AQ20) -> 0

Sheet I_Health Regions
A1: Health Region Data | B1: Instructions: Please rename Health Regions in the "B_Populations" tab. Enter your Older Adult Falls-related injury data in the red cells below. The age-adjusted rates will automatically calculate in the results table. Data year will automatically appear in F1. | F1: ='C_Health Regions'!B3 -> 0 | G1: Unhide columns G through W to enter data for additional Health Regions if needed | X1: Optional: Unhide columns AG through BL to show additional rate calculations by health region
B3: Age | C3: ='C_Health Regions'!B5 -> Region 1 | D3: ='C_Health Regions'!D5 -> Region 2 | E3: ='C_Health Regions'!F5 -> Region 3 | F3: ='C_Health Regions'!H5 -> Region 4 | G3: ='C_Health Regions'!J5 -> Region 5 | H3: ='C_Health Regions'!L5 -> Region 6 | I3: ='C_Health Regions'!N5 -> Region 7 | J3: ='C_Health Regions'!P5 -> Region 8 | K3: ='C_Health Regions'!R5 -> Region 9 | L3: ='C_Health Regions'!T5 -> Region 10 | M3: ='C_Health Regions'!V5 -> Region 11 | N3: ='C_Health Regions'!X5 -> Region 12 | O3: ='C_Health Regions'!Z5 -> Region 13 | P3: ='C_Health Regions'!AB5 -> Region 14 | Q3: ='C_Health Regions'!AD5 -> Region 15 | R3: ='C_Health Regions'!AF5 -> Region 16 | S3: ='C_Health Regions'!AH5 -> Region 17 | T3: ='C_Health Regions'!AJ5 -> Region 18 | U3: ='C_Health Regions'!AL5 -> Region 19 | V3: ='C_Health Regions'!AN5 -> Region 20 | X3: ='C_Health Regions'!B5 -> Region 1 | Y3: Rate | Z3: ='C_Health Regions'!D5 -> Region 2 | AA3: Rate | AB3: ='C_Health Regions'!F5 -> Region 3 | AC3: Rate | AD3: ='C_Health Regions'!H5 -> Region 4 | AE3: Rate | AF3: ='C_Health Regions'!J5 -> Region 5 | AG3: Rate | AH3: ='C_Health Regions'!L5 -> Region 6 | AI3: Rate | AJ3: ='C_Health Regions'!N5 -> Region 7 | AK3: Rate | AL3: ='C_Health Regions'!P5 -> Region 8 | AM3: Rate | AN3: ='C_Health Regions'!R5 -> Region 9 | AO3: Rate | AP3: ='C_Health Regions'!T5 -> Region 10 | AQ3: Rate | AR3: ='C_Health Regions'!V5 -> Region 11 | AS3: Rate | AT3: ='C_Health Regions'!X5 -> Region 12 | AU3: Rate | AV3: ='C_Health Regions'!Z5 -> Region 13 | AW3: Rate | AX3: ='C_Health Regions'!AB5 -> Region 14 | AY3: Rate | AZ3: ='C_Health Regions'!AD5 -> Region 15 | BA3: Rate | BB3: ='C_Health Regions'!AF5 -> Region 16 | BC3: Rate | BD3: ='C_Health Regions'!AH5 -> Region 17 | BE3: Rate | BF3: ='C_Health Regions'!AJ5 -> Region 18 | BG3: Rate | BH3: ='C_Health Regions'!AL5 -> Region 19 | BI3: Rate | BJ3: ='C_Health Regions'!AN5 -> Region 20 | BK3: Rate
B4: =' B_Populations'!A9 -> 65-74 | X4: ='C_Health Regions'!B6 -> 0 | Y4: =IF(X4=0,0,(C4/$X$4)*100000) -> 0 | Z4: ='C_Health Regions'!D6 -> 0 | AA4: =IF(Z4=0,0,(D4/$Z$4)*100000) -> 0 | AB4: ='C_Health Regions'!F6 -> 0 | AC4: =IF(AB4=0,0,(E4/$AB$4)*100000) -> 0 | AD4: ='C_Health Regions'!H6 -> 0 | AE4: =IF(AD4=0,0,(F4/$AD$4)*100000) -> 0 | AF4: ='C_Health Regions'!J6 -> 0 | AG4: =IF(AF4=0,0,(G4/$AF$4)*100000) -> 0 | AH4: ='C_Health Regions'!L6 -> 0 | AI4: =IF(AH4=0,0,(H4/$AH$4)*100000) -> 0 | AJ4: ='C_Health Regions'!N6 -> 0 | AK4: =IF(AJ4=0,0,(I4/$AJ$4)*100000) -> 0 | AL4: ='C_Health Regions'!P6 -> 0 | AM4: =IF(AL4=0,0,(J4/$AL$4)*100000) -> 0 | AN4: ='C_Health Regions'!R6 -> 0 | AO4: =IF(AN4=0,0,(K4/$AN$4)*100000) -> 0 | AP4: ='C_Health Regions'!T6 -> 0 | AQ4: =IF(AP4=0,0,(L4/$AP$4)*100000) -> 0 | AR4: ='C_Health Regions'!V6 -> 0 | AS4: =IF(AR4=0,0,(M4/$AR$4)*100000) -> 0 | AT4: ='C_Health Regions'!X6 -> 0 | AU4: =IF(AT4=0,0,(N4/$AT$4)*100000) -> 0 | AV4: ='C_Health Regions'!Z6 -> 0 | AW4: =IF(AV4=0,0,(O4/$AV$4)*100000) -> 0 | AX4: ='C_Health Regions'!AB6 -> 0 | AY4: =IF(AX4=0,0,(P4/$AX$4)*100000) -> 0 | AZ4: ='C_Health Regions'!AD6 -> 0 | BA4: =IF(AZ4=0,0,(Q4/$AZ$4)*100000) -> 0 | BB4: ='C_Health Regions'!AF6 -> 0 | BC4: =IF(BB4=0,0,(R4/$BB$4)*100000) -> 0 | BD4: ='C_Health Regions'!AH6 -> 0 | BE4: =IF(BD4=0,0,(S4/$BD$4)*100000) -> 0 | BF4: ='C_Health Regions'!AJ6 -> 0 | BG4: =IF(BF4=0,0,(T4/$BF$4)*100000) -> 0 | BH4: ='C_Health Regions'!AL6 -> 0 | BI4: =IF(BH4=0,0,(U4/$BH$4)*100000) -> 0 | BJ4: ='C_Health Regions'!AN6 -> 0 | BK4: =IF(BJ4=0,0,(V4/$BJ$4)*100000) -> 0
B5: =' B_Populations'!A10 -> 75-84 | X5: ='C_Health Regions'!B7 -> 0 | Y5: =IF(X5=0,0,(C5/$X$5)*100000) -> 0 | Z5: ='C_Health Regions'!D7 -> 0 | AA5: =IF(Z5=0,0,(D5/$Z$5)*100000) -> 0 | AB5: ='C_Health Regions'!F7 -> 0 | AC5: =IF(AB5=0,0,(E5/$AB$5)*100000) -> 0 | AD5: ='C_Health Regions'!H7 -> 0 | AE5: =IF(AD5=0,0,(F5/$AD$5)*100000) -> 0 | AF5: ='C_Health Regions'!J7 -> 0 | AG5: =IF(AF5=0,0,(G5/$AF$5)*100000) -> 0 | AH5: ='C_Health Regions'!L7 -> 0 | AI5: =IF(AH5=0,0,(H5/$AH$5)*100000) -> 0 | AJ5: ='C_Health Regions'!N7 -> 0 | AK5: =IF(AJ5=0,0,(I5/$AJ$5)*100000) -> 0 | AL5: ='C_Health Regions'!P7 -> 0 | AM5: =IF(AL5=0,0,(J5/$AL$5)*100000) -> 0 | AN5: ='C_Health Regions'!R7 -> 0 | AO5: =IF(AN5=0,0,(K5/$AN$5)*100000) -> 0 | AP5: ='C_Health Regions'!T7 -> 0 | AQ5: =IF(AP5=0,0,(L5/$AP$5)*100000) -> 0 | AR5: ='C_Health Regions'!V7 -> 0 | AS5: =IF(AR5=0,0,(M5/$AR$5)*100000) -> 0 | AT5: ='C_Health Regions'!X7 -> 0 | AU5: =IF(AT5=0,0,(N5/$AT$5)*100000) -> 0 | AV5: ='C_Health Regions'!Z7 -> 0 | AW5: =IF(AV5=0,0,(O5/$AV$5)*100000) -> 0 | AX5: ='C_Health Regions'!AB7 -> 0 | AY5: =IF(AX5=0,0,(P5/$AX$5)*100000) -> 0 | AZ5: ='C_Health Regions'!AD7 -> 0 | BA5: =IF(AZ5=0,0,(Q5/$AZ$5)*100000) -> 0 | BB5: ='C_Health Regions'!AF7 -> 0 | BC5: =IF(BB5=0,0,(R5/$BB$5)*100000) -> 0 | BD5: ='C_Health Regions'!AH7 -> 0 | BE5: =IF(BD5=0,0,(S5/$BD$5)*100000) -> 0 | BF5: ='C_Health Regions'!AJ7 -> 0 | BG5: =IF(BF5=0,0,(T5/$BF$5)*100000) -> 0 | BH5: ='C_Health Regions'!AL7 -> 0 | BI5: =IF(BH5=0,0,(U5/$BH$5)*100000) -> 0 | BJ5: ='C_Health Regions'!AN7 -> 0 | BK5: =IF(BJ5=0,0,(V5/$BJ$5)*100000) -> 0
B6: =' B_Populations'!A11 -> 85+ | X6: ='C_Health Regions'!B8 -> 0 | Y6: =IF(X6=0,0,(C6/$X$6)*100000) -> 0 | Z6: ='C_Health Regions'!D8 -> 0 | AA6: =IF(Z6=0,0,(D6/$Z$6)*100000) -> 0 | AB6: ='C_Health Regions'!F8 -> 0 | AC6: =IF(AB6=0,0,(E6/$AB$6)*100000) -> 0 | AD6: ='C_Health Regions'!H8 -> 0 | AE6: =IF(AD6=0,0,(F6/$AD$6)*100000) -> 0 | AF6: ='C_Health Regions'!J8 -> 0 | AG6: =IF(AF6=0,0,(G6/$AF$6)*100000) -> 0 | AH6: ='C_Health Regions'!L8 -> 0 | AI6: =IF(AH6=0,0,(H6/$AH$6)*100000) -> 0 | AJ6: ='C_Health Regions'!N8 -> 0 | AK6: =IF(AJ6=0,0,(I6/$AJ$6)*100000) -> 0 | AL6: ='C_Health Regions'!P8 -> 0 | AM6: =IF(AL6=0,0,(J6/$AL$6)*100000) -> 0 | AN6: ='C_Health Regions'!R8 -> 0 | AO6: =IF(AN6=0,0,(K6/$AN$6)*100000) -> 0 | AP6: ='C_Health Regions'!T8 -> 0 | AQ6: =IF(AP6=0,0,(L6/$AP$6)*100000) -> 0 | AR6: ='C_Health Regions'!V8 -> 0 | AS6: =IF(AR6=0,0,(M6/$AR$6)*100000) -> 0 | AT6: ='C_Health Regions'!X8 -> 0 | AU6: =IF(AT6=0,0,(N6/$AT$6)*100000) -> 0 | AV6: ='C_Health Regions'!Z8 -> 0 | AW6: =IF(AV6=0,0,(O6/$AV$6)*100000) -> 0 | AX6: ='C_Health Regions'!AB8 -> 0 | AY6: =IF(AX6=0,0,(P6/$AX$6)*100000) -> 0 | AZ6: ='C_Health Regions'!AD8 -> 0 | BA6: =IF(AZ6=0,0,(Q6/$AZ$6)*100000) -> 0 | BB6: ='C_Health Regions'!AF8 -> 0 | BC6: =IF(BB6=0,0,(R6/$BB$6)*100000) -> 0 | BD6: ='C_Health Regions'!AH8 -> 0 | BE6: =IF(BD6=0,0,(S6/$BD$6)*100000) -> 0 | BF6: ='C_Health Regions'!AJ8 -> 0 | BG6: =IF(BF6=0,0,(T6/$BF$6)*100000) -> 0 | BH6: ='C_Health Regions'!AL8 -> 0 | BI6: =IF(BH6=0,0,(U6/$BH$6)*100000) -> 0 | BJ6: ='C_Health Regions'!AN8 -> 0 | BK6: =IF(BJ6=0,0,(V6/$BJ$6)*100000) -> 0
B7: total | X7: ='C_Health Regions'!B9 -> 0 | Y7: =IF(X7=0,0,(C7/$X$7)*100000) -> 0 | Z7: ='C_Health Regions'!D9 -> 0 | AA7: =IF(Z7=0,0,(D7/$Z$7)*100000) -> 0 | AB7: ='C_Health Regions'!F9 -> 0 | AC7: =IF(AB7=0,0,(E7/$AB$7)*100000) -> 0 | AD7: ='C_Health Regions'!H9 -> 0 | AE7: =IF(AD7=0,0,(F7/$AD$7)*100000) -> 0 | AF7: ='C_Health Regions'!J9 -> 0 | AG7: =IF(AF7=0,0,(G7/$AF$7)*100000) -> 0 | AH7: ='C_Health Regions'!L9 -> 0 | AI7: =IF(AH7=0,0,(H7/$AH$7)*100000) -> 0 | AJ7: ='C_Health Regions'!N9 -> 0 | AK7: =IF(AJ7=0,0,(I7/$AJ$7)*100000) -> 0 | AL7: ='C_Health Regions'!P9 -> 0 | AM7: =IF(AL7=0,0,(J7/$AL$7)*100000) -> 0 | AN7: ='C_Health Regions'!R9 -> 0 | AO7: =IF(AN7=0,0,(K7/$AN$7)*100000) -> 0 | AP7: ='C_Health Regions'!T9 -> 0 | AQ7: =IF(AP7=0,0,(L7/$AP$7)*100000) -> 0 | AR7: ='C_Health Regions'!V9 -> 0 | AS7: =IF(AR7=0,0,(M7/$AR$7)*100000) -> 0 | AT7: ='C_Health Regions'!X9 -> 0 | AU7: =IF(AT7=0,0,(N7/$AT$7)*100000) -> 0 | AV7: ='C_Health Regions'!Z9 -> 0 | AW7: =IF(AV7=0,0,(O7/$AV$7)*100000) -> 0 | AX7: ='C_Health Regions'!AB9 -> 0 | AY7: =IF(AX7=0,0,(P7/$AX$7)*100000) -> 0 | AZ7: ='C_Health Regions'!AD9 -> 0 | BA7: =IF(AZ7=0,0,(Q7/$AZ$7)*100000) -> 0 | BB7: ='C_Health Regions'!AF9 -> 0 | BC7: =IF(BB7=0,0,(R7/$BB$7)*100000) -> 0 | BD7: ='C_Health Regions'!AH9 -> 0 | BE7: =IF(BD7=0,0,(S7/$BD$7)*100000) -> 0 | BF7: ='C_Health Regions'!AJ9 -> 0 | BG7: =IF(BF7=0,0,(T7/$BF$7)*100000) -> 0 | BH7: ='C_Health Regions'!AL9 -> 0 | BI7: =IF(BH7=0,0,(U7/$BH$7)*100000) -> 0 | BJ7: ='C_Health Regions'!AN9 -> 0 | BK7: =IF(BJ7=0,0,(V7/$BJ$7)*100000) -> 0
B10: Age | C10: ='C_Health Regions'!B5 -> Region 1 | D10: ='C_Health Regions'!D5 -> Region 2 | E10: ='C_Health Regions'!F5 -> Region 3 | F10: ='C_Health Regions'!H5 -> Region 4 | G10: ='C_Health Regions'!J5 -> Region 5 | H10: ='C_Health Regions'!L5 -> Region 6 | I10: ='C_Health Regions'!N5 -> Region 7 | J10: ='C_Health Regions'!P5 -> Region 8 | K10: ='C_Health Regions'!R5 -> Region 9 | L10: ='C_Health Regions'!T5 -> Region 10 | M10: ='C_Health Regions'!V5 -> Region 11 | N10: ='C_Health Regions'!X5 -> Region 12 | O10: ='C_Health Regions'!Z5 -> Region 13 | P10: ='C_Health Regions'!AB5 -> Region 14 | Q10: ='C_Health Regions'!AD5 -> Region 15 | R10: ='C_Health Regions'!AF5 -> Region 16 | S10: ='C_Health Regions'!AH5 -> Region 17 | T10: ='C_Health Regions'!AJ5 -> Region 18 | U10: ='C_Health Regions'!AL5 -> Region 19 | V10: ='C_Health Regions'!AN5 -> Region 20 | X10: ='C_Health Regions'!B5 -> Region 1 | Y10: Rate | Z10: ='C_Health Regions'!D5 -> Region 2 | AA10: Rate | AB10: ='C_Health Regions'!F5 -> Region 3 | AC10: Rate | AD10: ='C_Health Regions'!H5 -> Region 4 | AE10: Rate | AF10: ='C_Health Regions'!J5 -> Region 5 | AG10: Rate | AH10: ='C_Health Regions'!L5 -> Region 6 | AI10: Rate | AJ10: ='C_Health Regions'!N5 -> Region 7 | AK10: Rate | AL10: ='C_Health Regions'!P5 -> Region 8 | AM10: Rate | AN10: ='C_Health Regions'!R5 -> Region 9 | AO10: Rate | AP10: ='C_Health Regions'!T5 -> Region 10 | AQ10: Rate | AR10: ='C_Health Regions'!V5 -> Region 11 | AS10: Rate | AT10: ='C_Health Regions'!X5 -> Region 12 | AU10: Rate | AV10: ='C_Health Regions'!Z5 -> Region 13 | AW10: Rate | AX10: ='C_Health Regions'!AB5 -> Region 14 | AY10: Rate | AZ10: ='C_Health Regions'!AD5 -> Region 15 | BA10: Rate | BB10: ='C_Health Regions'!AF5 -> Region 16 | BC10: Rate | BD10: ='C_Health Regions'!AH5 -> Region 17 | BE10: Rate | BF10: ='C_Health Regions'!AJ5 -> Region 18 | BG10: Rate | BH10: ='C_Health Regions'!AL5 -> Region 19 | BI10: Rate | BJ10: ='C_Health Regions'!AN5 -> Region 20 | BK10: Rate
B11: =' B_Populations'!A9 -> 65-74 | X11: ='C_Health Regions'!B6 -> 0 | Y11: =IF(X11=0,0,(C11/$X$11)*100000) -> 0 | Z11: ='C_Health Regions'!D6 -> 0 | AA11: =IF(Z11=0,0,(D11/$Z$11)*100000) -> 0 | AB11: ='C_Health Regions'!F6 -> 0 | AC11: =IF(AB11=0,0,(E11/$AB$11)*100000) -> 0 | AD11: ='C_Health Regions'!H6 -> 0 | AE11: =IF(AD11=0,0,(F11/$AD$11)*100000) -> 0 | AF11: ='C_Health Regions'!J6 -> 0 | AG11: =IF(AF11=0,0,(G11/$AF$11)*100000) -> 0 | AH11: ='C_Health Regions'!L6 -> 0 | AI11: =IF(AH11=0,0,(H11/$AH$11)*100000) -> 0 | AJ11: ='C_Health Regions'!N6 -> 0 | AK11: =IF(AJ11=0,0,(I11/$AJ$11)*100000) -> 0 | AL11: ='C_Health Regions'!P6 -> 0 | AM11: =IF(AL11=0,0,(J11/$AL$11)*100000) -> 0 | AN11: ='C_Health Regions'!R6 -> 0 | AO11: =IF(AN11=0,0,(K11/$AN$11)*100000) -> 0 | AP11: ='C_Health Regions'!T6 -> 0 | AQ11: =IF(AP11=0,0,(L11/$AP11)*100000) -> 0 | AR11: ='C_Health Regions'!V6 -> 0 | AS11: =IF(AR11=0,0,(M11/$AR$11)*100000) -> 0 | AT11: ='C_Health Regions'!X6 -> 0 | AU11: =IF(AT11=0,0,(N11/$AT$11)*100000) -> 0 | AV11: ='C_Health Regions'!Z6 -> 0 | AW11: =IF(AV11=0,0,(O11/$AV$11)*100000) -> 0 | AX11: ='C_Health Regions'!AB6 -> 0 | AY11: =IF(AX11=0,0,(P11/$AX$11)*100000) -> 0 | AZ11: ='C_Health Regions'!AD6 -> 0 | BA11: =IF(AZ11=0,0,(Q11/$AZ$11)*100000) -> 0 | BB11: ='C_Health Regions'!AF6 -> 0 | BC11: =IF(BB11=0,0,(R11/$BB$11)*100000) -> 0 | BD11: ='C_Health Regions'!AH6 -> 0 | BE11: =IF(BD11=0,0,(S11/$BD$11)*100000) -> 0 | BF11: ='C_Health Regions'!AJ6 -> 0 | BG11: =IF(BF11=0,0,(T11/$BF$11)*100000) -> 0 | BH11: ='C_Health Regions'!AL6 -> 0 | BI11: =IF(BH11=0,0,(U11/$BH$11)*100000) -> 0 | BJ11: ='C_Health Regions'!AN6 -> 0 | BK11: =IF(BJ11=0,0,(V11/$BJ$11)*100000) -> 0
B12: =' B_Populations'!A10 -> 75-84 | X12: ='C_Health Regions'!B7 -> 0 | Y12: =IF(X12=0,0,(C12/$X$12)*100000) -> 0 | Z12: ='C_Health Regions'!D7 -> 0 | AA12: =IF(Z12=0,0,(D12/$Z$12)*100000) -> 0 | AB12: ='C_Health Regions'!F7 -> 0 | AC12: =IF(AB12=0,0,(E12/$AB$12)*100000) -> 0 | AD12: ='C_Health Regions'!H7 -> 0 | AE12: =IF(AD12=0,0,(F12/$AD$12)*100000) -> 0 | AF12: ='C_Health Regions'!J7 -> 0 | AG12: =IF(AF12=0,0,(G12/$AF$12)*100000) -> 0 | AH12: ='C_Health Regions'!L7 -> 0 | AI12: =IF(AH12=0,0,(H12/$AH$12)*100000) -> 0 | AJ12: ='C_Health Regions'!N7 -> 0 | AK12: =IF(AJ12=0,0,(I12/$AJ$12)*100000) -> 0 | AL12: ='C_Health Regions'!P7 -> 0 | AM12: =IF(AL12=0,0,(J12/$AL$12)*100000) -> 0 | AN12: ='C_Health Regions'!R7 -> 0 | AO12: =IF(AN12=0,0,(K12/$AN$12)*100000) -> 0 | AP12: ='C_Health Regions'!T7 -> 0 | AQ12: =IF(AP12=0,0,(L12/$AP12)*100000) -> 0 | AR12: ='C_Health Regions'!V7 -> 0 | AS12: =IF(AR12=0,0,(M12/$AR$12)*100000) -> 0 | AT12: ='C_Health Regions'!X7 -> 0 | AU12: =IF(AT12=0,0,(N12/$AT$12)*100000) -> 0 | AV12: ='C_Health Regions'!Z7 -> 0 | AW12: =IF(AV12=0,0,(O12/$AV$12)*100000) -> 0 | AX12: ='C_Health Regions'!AB7 -> 0 | AY12: =IF(AX12=0,0,(P12/$AX$12)*100000) -> 0 | AZ12: ='C_Health Regions'!AD7 -> 0 | BA12: =IF(AZ12=0,0,(Q12/$AZ$12)*100000) -> 0 | BB12: ='C_Health Regions'!AF7 -> 0 | BC12: =IF(BB12=0,0,(R12/$BB$12)*100000) -> 0 | BD12: ='C_Health Regions'!AH7 -> 0 | BE12: =IF(BD12=0,0,(S12/$BD$12)*100000) -> 0 | BF12: ='C_Health Regions'!AJ7 -> 0 | BG12: =IF(BF12=0,0,(T12/$BF$12)*100000) -> 0 | BH12: ='C_Health Regions'!AL7 -> 0 | BI12: =IF(BH12=0,0,(U12/$BH$12)*100000) -> 0 | BJ12: ='C_Health Regions'!AN7 -> 0 | BK12: =IF(BJ12=0,0,(V12/$BJ$12)*100000) -> 0
B13: =' B_Populations'!A11 -> 85+ | X13: ='C_Health Regions'!B8 -> 0 | Y13: =IF(X13=0,0,(C13/$X$13)*100000) -> 0 | Z13: ='C_Health Regions'!D8 -> 0 | AA13: =IF(Z13=0,0,(D13/$Z$13)*100000) -> 0 | AB13: ='C_Health Regions'!F8 -> 0 | AC13: =IF(AB13=0,0,(E13/$AB$13)*100000) -> 0 | AD13: ='C_Health Regions'!H8 -> 0 | AE13: =IF(AD13=0,0,(F13/$AD$13)*100000) -> 0 | AF13: ='C_Health Regions'!J8 -> 0 | AG13: =IF(AF13=0,0,(G13/$AF$13)*100000) -> 0 | AH13: ='C_Health Regions'!L8 -> 0 | AI13: =IF(AH13=0,0,(H13/$AH$13)*100000) -> 0 | AJ13: ='C_Health Regions'!N8 -> 0 | AK13: =IF(AJ13=0,0,(I13/$AJ$13)*100000) -> 0 | AL13: ='C_Health Regions'!P8 -> 0 | AM13: =IF(AL13=0,0,(J13/$AL$13)*100000) -> 0 | AN13: ='C_Health Regions'!R8 -> 0 | AO13: =IF(AN13=0,0,(K13/$AN$13)*100000) -> 0 | AP13: ='C_Health Regions'!T8 -> 0 | AQ13: =IF(AP13=0,0,(L13/$AP13)*100000) -> 0 | AR13: ='C_Health Regions'!V8 -> 0 | AS13: =IF(AR13=0,0,(M13/$AR$13)*100000) -> 0 | AT13: ='C_Health Regions'!X8 -> 0 | AU13: =IF(AT13=0,0,(N13/$AT$13)*100000) -> 0 | AV13: ='C_Health Regions'!Z8 -> 0 | AW13: =IF(AV13=0,0,(O13/$AV$13)*100000) -> 0 | AX13: ='C_Health Regions'!AB8 -> 0 | AY13: =IF(AX13=0,0,(P13/$AX$13)*100000) -> 0 | AZ13: ='C_Health Regions'!AD8 -> 0 | BA13: =IF(AZ13=0,0,(Q13/$AZ$13)*100000) -> 0 | BB13: ='C_Health Regions'!AF8 -> 0 | BC13: =IF(BB13=0,0,(R13/$BB$13)*100000) -> 0 | BD13: ='C_Health Regions'!AH8 -> 0 | BE13: =IF(BD13=0,0,(S13/$BD$13)*100000) -> 0 | BF13: ='C_Health Regions'!AJ8 -> 0 | BG13: =IF(BF13=0,0,(T13/$BF$13)*100000) -> 0 | BH13: ='C_Health Regions'!AL8 -> 0 | BI13: =IF(BH13=0,0,(U13/$BH$13)*100000) -> 0 | BJ13: ='C_Health Regions'!AN8 -> 0 | BK13: =IF(BJ13=0,0,(V13/$BJ$13)*100000) -> 0
B14: total | X14: ='C_Health Regions'!B9 -> 0 | Y14: =IF(X14=0,0,(C14/$X$14)*100000) -> 0 | Z14: ='C_Health Regions'!D9 -> 0 | AA14: =IF(Z14=0,0,(D14/$Z$14)*100000) -> 0 | AB14: ='C_Health Regions'!F9 -> 0 | AC14: =IF(AB14=0,0,(E14/$AB$14)*100000) -> 0 | AD14: ='C_Health Regions'!H9 -> 0 | AE14: =IF(AD14=0,0,(F14/$AD$14)*100000) -> 0 | AF14: ='C_Health Regions'!J9 -> 0 | AG14: =IF(AF14=0,0,(G14/$AF$14)*100000) -> 0 | AH14: ='C_Health Regions'!L9 -> 0 | AI14: =IF(AH14=0,0,(H14/$AH$14)*100000) -> 0 | AJ14: ='C_Health Regions'!N9 -> 0 | AK14: =IF(AJ14=0,0,(I14/$AJ$14)*100000) -> 0 | AL14: ='C_Health Regions'!P9 -> 0 | AM14: =IF(AL14=0,0,(J14/$AL$14)*100000) -> 0 | AN14: ='C_Health Regions'!R9 -> 0 | AO14: =IF(AN14=0,0,(K14/$AN$14)*100000) -> 0 | AP14: ='C_Health Regions'!T9 -> 0 | AQ14: =IF(AP14=0,0,(L14/$AP14)*100000) -> 0 | AR14: ='C_Health Regions'!V9 -> 0 | AS14: =IF(AR14=0,0,(M14/$AR$14)*100000) -> 0 | AT14: ='C_Health Regions'!X9 -> 0 | AU14: =IF(AT14=0,0,(N14/$AT$14)*100000) -> 0 | AV14: ='C_Health Regions'!Z9 -> 0 | AW14: =IF(AV14=0,0,(O14/$AV$14)*100000) -> 0 | AX14: ='C_Health Regions'!AB9 -> 0 | AY14: =IF(AX14=0,0,(P14/$AX$14)*100000) -> 0 | AZ14: ='C_Health Regions'!AD9 -> 0 | BA14: =IF(AZ14=0,0,(Q14/$AZ$14)*100000) -> 0 | BB14: ='C_Health Regions'!AF9 -> 0 | BC14: =IF(BB14=0,0,(R14/$BB$14)*100000) -> 0 | BD14: ='C_Health Regions'!AH9 -> 0 | BE14: =IF(BD14=0,0,(S14/$BD$14)*100000) -> 0 | BF14: ='C_Health Regions'!AJ9 -> 0 | BG14: =IF(BF14=0,0,(T14/$BF$14)*100000) -> 0 | BH14: ='C_Health Regions'!AL9 -> 0 | BI14: =IF(BH14=0,0,(U14/$BH$14)*100000) -> 0 | BJ14: ='C_Health Regions'!AN9 -> 0 | BK14: =IF(BJ14=0,0,(V14/$BJ$14)*100000) -> 0
B17: Age | C17: ='C_Health Regions'!B5 -> Region 1 | D17: ='C_Health Regions'!D5 -> Region 2 | E17: ='C_Health Regions'!F5 -> Region 3 | F17: ='C_Health Regions'!H5 -> Region 4 | G17: ='C_Health Regions'!J5 -> Region 5 | H17: ='C_Health Regions'!L5 -> Region 6 | I17: ='C_Health Regions'!N5 -> Region 7 | J17: ='C_Health Regions'!P5 -> Region 8 | K17: ='C_Health Regions'!R5 -> Region 9 | L17: ='C_Health Regions'!T5 -> Region 10 | M17: ='C_Health Regions'!V5 -> Region 11 | N17: ='C_Health Regions'!X5 -> Region 12 | O17: ='C_Health Regions'!Z5 -> Region 13 | P17: ='C_Health Regions'!AB5 -> Region 14 | Q17: ='C_Health Regions'!AD5 -> Region 15 | R17: ='C_Health Regions'!AF5 -> Region 16 | S17: ='C_Health Regions'!AH5 -> Region 17 | T17: ='C_Health Regions'!AJ5 -> Region 18 | U17: ='C_Health Regions'!AL5 -> Region 19 | V17: ='C_Health Regions'!AN5 -> Region 20 | X17: ='C_Health Regions'!B5 -> Region 1 | Y17: Rate | Z17: ='C_Health Regions'!D5 -> Region 2 | AA17: Rate | AB17: ='C_Health Regions'!F5 -> Region 3 | AC17: Rate | AD17: ='C_Health Regions'!H5 -> Region 4 | AE17: Rate | AF17: ='C_Health Regions'!J5 -> Region 5 | AG17: Rate | AH17: ='C_Health Regions'!L5 -> Region 6 | AI17: Rate | AJ17: ='C_Health Regions'!N5 -> Region 7 | AK17: Rate | AL17: ='C_Health Regions'!P5 -> Region 8 | AM17: Rate | AN17: ='C_Health Regions'!R5 -> Region 9 | AO17: Rate | AP17: ='C_Health Regions'!T5 -> Region 10 | AQ17: Rate | AR17: ='C_Health Regions'!V5 -> Region 11 | AS17: Rate | AT17: ='C_Health Regions'!X5 -> Region 12 | AU17: Rate | AV17: ='C_Health Regions'!Z5 -> Region 13 | AW17: Rate | AX17: ='C_Health Regions'!AB5 -> Region 14 | AY17: Rate | AZ17: ='C_Health Regions'!AD5 -> Region 15 | BA17: Rate | BB17: ='C_Health Regions'!AF5 -> Region 16 | BC17: Rate | BD17: ='C_Health Regions'!AH5 -> Region 17 | BE17: Rate | BF17: ='C_Health Regions'!AJ5 -> Region 18 | BG17: Rate | BH17: ='C_Health Regions'!AL5 -> Region 19 | BI17: Rate | BJ17: ='C_Health Regions'!AN5 -> Region 20 | BK17: Rate
B18: =' B_Populations'!A9 -> 65-74 | X18: ='C_Health Regions'!B6 -> 0 | Y18: =IF(X18=0,0,(C18/$X$18)*100000) -> 0 | Z18: ='C_Health Regions'!D6 -> 0 | AA18: =IF(Z18=0,0,(D18/$Z$18)*100000) -> 0 | AB18: ='C_Health Regions'!F6 -> 0 | AC18: =IF(AB18=0,0,(E18/$AB$18)*100000) -> 0 | AD18: ='C_Health Regions'!H6 -> 0 | AE18: =IF(AD18=0,0,(F18/$AD$18)*100000) -> 0 | AF18: ='C_Health Regions'!J6 -> 0 | AG18: =IF(AF18=0,0,(G18/$AF$18)*100000) -> 0 | AH18: ='C_Health Regions'!L6 -> 0 | AI18: =IF(AH18=0,0,(H18/$AH$18)*100000) -> 0 | AJ18: ='C_Health Regions'!N6 -> 0 | AK18: =IF(AJ18=0,0,(I18/$AJ$18)*100000) -> 0 | AL18: ='C_Health Regions'!P6 -> 0 | AM18: =IF(AL18=0,0,(J18/$AL$18)*100000) -> 0 | AN18: ='C_Health Regions'!R6 -> 0 | AO18: =IF(AN18=0,0,(K18/$AN$18)*100000) -> 0 | AP18: ='C_Health Regions'!T6 -> 0 | AQ18: =IF(AP18=0,0,(L18/$AP18)*100000) -> 0 | AR18: ='C_Health Regions'!V6 -> 0 | AS18: =IF(AR18=0,0,(M18/$AR$18)*100000) -> 0 | AT18: ='C_Health Regions'!X6 -> 0 | AU18: =IF(AT18=0,0,(N18/$AT$18)*100000) -> 0 | AV18: ='C_Health Regions'!Z6 -> 0 | AW18: =IF(AV18=0,0,(O18/$AV$18)*100000) -> 0 | AX18: ='C_Health Regions'!AB6 -> 0 | AY18: =IF(AX18=0,0,(P18/$AX$18)*100000) -> 0 | AZ18: ='C_Health Regions'!AD6 -> 0 | BA18: =IF(AZ18=0,0,(Q18/$AZ$18)*100000) -> 0 | BB18: ='C_Health Regions'!AF6 -> 0 | BC18: =IF(BB18=0,0,(R18/$BB$18)*100000) -> 0 | BD18: ='C_Health Regions'!AH6 -> 0 | BE18: =IF(BD18=0,0,(S18/$BD$18)*100000) -> 0 | BF18: ='C_Health Regions'!AJ6 -> 0 | BG18: =IF(BF18=0,0,(T18/$BF$18)*100000) -> 0 | BH18: ='C_Health Regions'!AL6 -> 0 | BI18: =IF(BH18=0,0,(U18/$BH$18)*100000) -> 0 | BJ18: ='C_Health Regions'!AN6 -> 0 | BK18: =IF(BJ18=0,0,(V18/$BJ$18)*100000) -> 0
B19: =' B_Populations'!A10 -> 75-84 | X19: ='C_Health Regions'!B7 -> 0 | Y19: =IF(X19=0,0,(C19/$X$19)*100000) -> 0 | Z19: ='C_Health Regions'!D7 -> 0 | AA19: =IF(Z19=0,0,(D19/$Z$19)*100000) -> 0 | AB19: ='C_Health Regions'!F7 -> 0 | AC19: =IF(AB19=0,0,(E19/$AB$19)*100000) -> 0 | AD19: ='C_Health Regions'!H7 -> 0 | AE19: =IF(AD19=0,0,(F19/$AD$19)*100000) -> 0 | AF19: ='C_Health Regions'!J7 -> 0 | AG19: =IF(AF19=0,0,(G19/$AF$19)*100000) -> 0 | AH19: ='C_Health Regions'!L7 -> 0 | AI19: =IF(AH19=0,0,(H19/$AH$19)*100000) -> 0 | AJ19: ='C_Health Regions'!N7 -> 0 | AK19: =IF(AJ19=0,0,(I19/$AJ$19)*100000) -> 0 | AL19: ='C_Health Regions'!P7 -> 0 | AM19: =IF(AL19=0,0,(J19/$AL$19)*100000) -> 0 | AN19: ='C_Health Regions'!R7 -> 0 | AO19: =IF(AN19=0,0,(K19/$AN$19)*100000) -> 0 | AP19: ='C_Health Regions'!T7 -> 0 | AQ19: =IF(AP19=0,0,(L19/$AP19)*100000) -> 0 | AR19: ='C_Health Regions'!V7 -> 0 | AS19: =IF(AR19=0,0,(M19/$AR$19)*100000) -> 0 | AT19: ='C_Health Regions'!X7 -> 0 | AU19: =IF(AT19=0,0,(N19/$AT$19)*100000) -> 0 | AV19: ='C_Health Regions'!Z7 -> 0 | AW19: =IF(AV19=0,0,(O19/$AV$19)*100000) -> 0 | AX19: ='C_Health Regions'!AB7 -> 0 | AY19: =IF(AX19=0,0,(P19/$AX$19)*100000) -> 0 | AZ19: ='C_Health Regions'!AD7 -> 0 | BA19: =IF(AZ19=0,0,(Q19/$AZ$19)*100000) -> 0 | BB19: ='C_Health Regions'!AF7 -> 0 | BC19: =IF(BB19=0,0,(R19/$BB$19)*100000) -> 0 | BD19: ='C_Health Regions'!AH7 -> 0 | BE19: =IF(BD19=0,0,(S19/$BD$19)*100000) -> 0 | BF19: ='C_Health Regions'!AJ7 -> 0 | BG19: =IF(BF19=0,0,(T19/$BF$19)*100000) -> 0 | BH19: ='C_Health Regions'!AL7 -> 0 | BI19: =IF(BH19=0,0,(U19/$BH$19)*100000) -> 0 | BJ19: ='C_Health Regions'!AN7 -> 0 | BK19: =IF(BJ19=0,0,(V19/$BJ$19)*100000) -> 0
B20: =' B_Populations'!A11 -> 85+ | X20: ='C_Health Regions'!B8 -> 0 | Y20: =IF(X20=0,0,(C20/$X$20)*100000) -> 0 | Z20: ='C_Health Regions'!D8 -> 0 | AA20: =IF(Z20=0,0,(D20/$Z$20)*100000) -> 0 | AB20: ='C_Health Regions'!F8 -> 0 | AC20: =IF(AB20=0,0,(E20/$AB$20)*100000) -> 0 | AD20: ='C_Health Regions'!H8 -> 0 | AE20: =IF(AD20=0,0,(F20/$AD$20)*100000) -> 0 | AF20: ='C_Health Regions'!J8 -> 0 | AG20: =IF(AF20=0,0,(G20/$AF$20)*100000) -> 0 | AH20: ='C_Health Regions'!L8 -> 0 | AI20: =IF(AH20=0,0,(H20/$AH$20)*100000) -> 0 | AJ20: ='C_Health Regions'!N8 -> 0 | AK20: =IF(AJ20=0,0,(I20/$AJ$20)*100000) -> 0 | AL20: ='C_Health Regions'!P8 -> 0 | AM20: =IF(AL20=0,0,(J20/$AL$20)*100000) -> 0 | AN20: ='C_Health Regions'!R8 -> 0 | AO20: =IF(AN20=0,0,(K20/$AN$20)*100000) -> 0 | AP20: ='C_Health Regions'!T8 -> 0 | AQ20: =IF(AP20=0,0,(L20/$AP20)*100000) -> 0 | AR20: ='C_Health Regions'!V8 -> 0 | AS20: =IF(AR20=0,0,(M20/$AR$20)*100000) -> 0 | AT20: ='C_Health Regions'!X8 -> 0 | AU20: =IF(AT20=0,0,(N20/$AT$20)*100000) -> 0 | AV20: ='C_Health Regions'!Z8 -> 0 | AW20: =IF(AV20=0,0,(O20/$AV$20)*100000) -> 0 | AX20: ='C_Health Regions'!AB8 -> 0 | AY20: =IF(AX20=0,0,(P20/$AX$20)*100000) -> 0 | AZ20: ='C_Health Regions'!AD8 -> 0 | BA20: =IF(AZ20=0,0,(Q20/$AZ$20)*100000) -> 0 | BB20: ='C_Health Regions'!AF8 -> 0 | BC20: =IF(BB20=0,0,(R20/$BB$20)*100000) -> 0 | BD20: ='C_Health Regions'!AH8 -> 0 | BE20: =IF(BD20=0,0,(S20/$BD$20)*100000) -> 0 | BF20: ='C_Health Regions'!AJ8 -> 0 | BG20: =IF(BF20=0,0,(T20/$BF$20)*100000) -> 0 | BH20: ='C_Health Regions'!AL8 -> 0 | BI20: =IF(BH20=0,0,(U20/$BH$20)*100000) -> 0 | BJ20: ='C_Health Regions'!AN8 -> 0 | BK20: =IF(BJ20=0,0,(V20/$BJ$20)*100000) -> 0
B21: total | X21: ='C_Health Regions'!B9 -> 0 | Y21: =IF(X21=0,0,(C21/$X$21)*100000) -> 0 | Z21: ='C_Health Regions'!D9 -> 0 | AA21: =IF(Z21=0,0,(D21/$Z$21)*100000) -> 0 | AB21: ='C_Health Regions'!F9 -> 0 | AC21: =IF(AB21=0,0,(E21/$AB$21)*100000) -> 0 | AD21: ='C_Health Regions'!H9 -> 0 | AE21: =IF(AD21=0,0,(F21/$AD$21)*100000) -> 0 | AF21: ='C_Health Regions'!J9 -> 0 | AG21: =IF(AF21=0,0,(G21/$AF$21)*100000) -> 0 | AH21: ='C_Health Regions'!L9 -> 0 | AI21: =IF(AH21=0,0,(H21/$AH$21)*100000) -> 0 | AJ21: ='C_Health Regions'!N9 -> 0 | AK21: =IF(AJ21=0,0,(I21/$AJ$21)*100000) -> 0 | AL21: ='C_Health Regions'!P9 -> 0 | AM21: =IF(AL21=0,0,(J21/$AL$21)*100000) -> 0 | AN21: ='C_Health Regions'!R9 -> 0 | AO21: =IF(AN21=0,0,(K21/$AN$21)*100000) -> 0 | AP21: ='C_Health Regions'!T9 -> 0 | AQ21: =IF(AP21=0,0,(L21/$AP21)*100000) -> 0 | AR21: ='C_Health Regions'!V9 -> 0 | AS21: =IF(AR21=0,0,(M21/$AR$21)*100000) -> 0 | AT21: ='C_Health Regions'!X9 -> 0 | AU21: =IF(AT21=0,0,(N21/$AT$21)*100000) -> 0 | AV21: ='C_Health Regions'!Z9 -> 0 | AW21: =IF(AV21=0,0,(O21/$AV$21)*100000) -> 0 | AX21: ='C_Health Regions'!AB9 -> 0 | AY21: =IF(AX21=0,0,(P21/$AX$21)*100000) -> 0 | AZ21: ='C_Health Regions'!AD9 -> 0 | BA21: =IF(AZ21=0,0,(Q21/$AZ$21)*100000) -> 0 | BB21: ='C_Health Regions'!AF9 -> 0 | BC21: =IF(BB21=0,0,(R21/$BB$21)*100000) -> 0 | BD21: ='C_Health Regions'!AH9 -> 0 | BE21: =IF(BD21=0,0,(S21/$BD$21)*100000) -> 0 | BF21: ='C_Health Regions'!AJ9 -> 0 | BG21: =IF(BF21=0,0,(T21/$BF$21)*100000) -> 0 | BH21: ='C_Health Regions'!AL9 -> 0 | BI21: =IF(BH21=0,0,(U21/$BH$21)*100000) -> 0 | BJ21: ='C_Health Regions'!AN9 -> 0 | BK21: =IF(BJ21=0,0,(V21/$BJ$21)*100000) -> 0

Sheet J_Figure 1
A1: Figure 1 - Older Adult Falls-Related Rates per 100,000 in <Data Years>
B7: =' B_Populations'!D4 -> 0 | C7: =' B_Populations'!D22 -> 0 | D7: =' B_Populations'!D34 -> 0 | E7: =' B_Populations'!D46 -> 0 | F7: =' B_Populations'!D58 -> 0
A8: Total Hospitalization rates | B8: ='D_Year 1'!N7 -> #DIV/0! | C8: ='E_Year 2'!N7 -> #DIV/0! | D8: ='F_Year 3'!N7 -> #DIV/0! | E8: ='G_Year 4'!N7 -> #DIV/0! | F8: ='H_Year 5'!N7 -> #DIV/0!
A9: 65-74 | B9: ='D_Year 1'!N4 -> 0 | C9: ='E_Year 2'!N4 -> 0 | D9: ='F_Year 3'!N4 -> 0 | E9: ='G_Year 4'!N4 -> 0 | F9: ='H_Year 5'!N4 -> 0
A10: 75-84 | B10: ='D_Year 1'!N5 -> 0 | C10: ='E_Year 2'!N5 -> 0 | D10: ='F_Year 3'!N5 -> 0 | E10: ='G_Year 4'!N5 -> 0 | F10: ='H_Year 5'!N5 -> 0
A11: 85+ | B11: ='D_Year 1'!N6 -> 0 | C11: ='E_Year 2'!N6 -> 0 | D11: ='F_Year 3'!N6 -> 0 | E11: ='G_Year 4'!N6 -> 0 | F11: ='H_Year 5'!N6 -> 0
A14: Total ED visit rates | B14: ='D_Year 1'!N14 -> #DIV/0! | C14: ='E_Year 2'!N14 -> #DIV/0! | D14: ='F_Year 3'!N14 -> #DIV/0! | E14: ='G_Year 4'!N14 -> #DIV/0! | F14: ='H_Year 5'!N14 -> #DIV/0!
A15: 65-74 | B15: ='D_Year 1'!N11 -> 0 | C15: ='E_Year 2'!N11 -> 0 | D15: ='F_Year 3'!N11 -> 0 | E15: ='G_Year 4'!N11 -> 0 | F15: ='H_Year 5'!N11 -> 0
A16: 75-84 | B16: ='D_Year 1'!N12 -> 0 | C16: ='E_Year 2'!N12 -> 0 | D16: ='F_Year 3'!N12 -> 0 | E16: ='G_Year 4'!N12 -> 0 | F16: ='H_Year 5'!N12 -> 0
A17: 85+ | B17: ='D_Year 1'!N13 -> 0 | C17: ='E_Year 2'!N13 -> 0 | D17: ='F_Year 3'!N13 -> 0 | E17: ='G_Year 4'!N13 -> 0 | F17: ='H_Year 5'!N13 -> 0
A19: Total Death rates | B19: ='D_Year 1'!N21 -> #DIV/0! | C19: ='E_Year 2'!N21 -> #DIV/0! | D19: ='F_Year 3'!N21 -> #DIV/0! | E19: ='G_Year 4'!N21 -> #DIV/0! | F19: ='H_Year 5'!N21 -> #DIV/0!
A20: 65-74 | B20: ='D_Year 1'!N18 -> 0 | C20: ='E_Year 2'!N18 -> 0 | D20: ='F_Year 3'!N18 -> 0 | E20: ='G_Year 4'!N18 -> 0 | F20: ='H_Year 5'!N18 -> 0
A21: 75-84 | B21: ='D_Year 1'!N19 -> 0 | C21: ='E_Year 2'!N19 -> 0 | D21: ='F_Year 3'!N19 -> 0 | E21: ='G_Year 4'!N19 -> 0 | F21: ='H_Year 5'!N19 -> 0
A22: 85+ | B22: ='D_Year 1'!N20 -> 0 | C22: ='E_Year 2'!N20 -> 0 | D22: ='F_Year 3'!N20 -> 0 | E22: ='G_Year 4'!N20 -> 0 | F22: ='H_Year 5'!N20 -> 0
A24: Instructions: Rates by sex and age group data is provided below for reference to use in "Falls in Older Adults by Age and Sex" narrative section
A26: Year 1 - Year 5 crude rates per 100,000 across sex
A27: Group | B27: =' B_Populations'!D4 -> 0 | C27: =' B_Populations'!D22 -> 0 | D27: =' B_Populations'!D34 -> 0 | E27: =' B_Populations'!D46 -> 0 | F27: =' B_Populations'!D58 -> 0
A28: Male hospitalizations | B28: ='D_Year 1'!P7 -> #DIV/0! | C28: ='E_Year 2'!P7 -> #DIV/0! | D28: ='F_Year 3'!P7 -> #DIV/0! | E28: ='G_Year 4'!P7 -> #DIV/0! | F28: ='H_Year 5'!P7 -> #DIV/0!
A29: Male ED visits | B29: ='D_Year 1'!P14 -> #DIV/0! | C29: ='E_Year 2'!P14 -> #DIV/0! | D29: ='F_Year 3'!P14 -> #DIV/0! | E29: ='G_Year 4'!P14 -> #DIV/0! | F29: ='H_Year 5'!P14 -> #DIV/0!
A30: Male Deaths | B30: ='D_Year 1'!P21 -> #DIV/0! | C30: ='E_Year 2'!P21 -> #DIV/0! | D30: ='F_Year 3'!P21 -> #DIV/0! | E30: ='G_Year 4'!P21 -> #DIV/0! | F30: ='H_Year 5'!P21 -> #DIV/0!
A31: Female hospitalizations | B31: ='D_Year 1'!R7 -> #DIV/0! | C31: ='E_Year 2'!R7 -> #DIV/0! | D31: ='F_Year 3'!R7 -> #DIV/0! | E31: ='G_Year 4'!R7 -> #DIV/0! | F31: ='H_Year 5'!R7 -> #DIV/0!
A32: Female ED visits | B32: ='D_Year 1'!R14 -> #DIV/0! | C32: ='E_Year 2'!R14 -> #DIV/0! | D32: ='F_Year 3'!R14 -> #DIV/0! | E32: ='G_Year 4'!R14 -> #DIV/0! | F32: ='H_Year 5'!R14 -> #DIV/0!
A33: Female Deaths | B33: ='D_Year 1'!R21 -> #DIV/0! | C33: ='E_Year 2'!R21 -> #DIV/0! | D33: ='F_Year 3'!R21 -> #DIV/0! | E33: ='G_Year 4'!R21 -> #DIV/0! | F33: ='H_Year 5'!R21 -> #DIV/0!
A35: Year 1 - Year 5 age-adjusted hospitalization rates per 100,000
A36: age group | B36: =' B_Populations'!D4 -> 0 | C36: =' B_Populations'!D22 -> 0 | D36: =' B_Populations'!D34 -> 0 | E36: =' B_Populations'!D46 -> 0 | F36: =' B_Populations'!D58 -> 0 | G36: 5 year age adjusted rate per 100,000
A37: =' B_Populations'!A9 -> 65-74 | B37: ='D_Year 1'!AI4 -> 0 | C37: ='E_Year 2'!AI4 -> 0 | D37: ='F_Year 3'!AI4 -> 0 | E37: ='G_Year 4'!AI4 -> 0 | F37: ='H_Year 5'!AI4 -> 0 | G37: ='Tab L calculations'!J7 -> #DIV/0!
A38: =' B_Populations'!A10 -> 75-84 | B38: ='D_Year 1'!AI5 -> 0 | C38: ='E_Year 2'!AI5 -> 0 | D38: ='F_Year 3'!AI5 -> 0 | E38: ='G_Year 4'!AI5 -> 0 | F38: ='H_Year 5'!AI5 -> 0 | G38: ='Tab L calculations'!J8 -> #DIV/0!
A39: =' B_Populations'!A11 -> 85+ | B39: ='D_Year 1'!AI6 -> 0 | C39: ='E_Year 2'!AI6 -> 0 | D39: ='F_Year 3'!AI6 -> 0 | E39: ='G_Year 4'!AI6 -> 0 | F39: ='H_Year 5'!AI6 -> 0 | G39: ='Tab L calculations'!J9 -> #DIV/0!
A41: Year 1 - Year 5 age-adjusted ED rates per 100,000
A42: age group | B42: =' B_Populations'!D4 -> 0 | C42: =' B_Populations'!D22 -> 0 | D42: =' B_Populations'!D34 -> 0 | E42: =' B_Populations'!D46 -> 0 | F42: =' B_Populations'!D58 -> 0 | G42: 5 year age adjusted rate per 100,000
A43: =' B_Populations'!A9 -> 65-74 | B43: ='D_Year 1'!AI11 -> 0 | C43: ='E_Year 2'!AI11 -> 0 | D43: ='F_Year 3'!AI11 -> 0 | E43: ='G_Year 4'!AI11 -> 0 | F43: ='H_Year 5'!AI11 -> 0 | G43: ='Tab L calculations'!J12 -> #DIV/0!
A44: =' B_Populations'!A10 -> 75-84 | B44: ='D_Year 1'!AI12 -> 0 | C44: ='E_Year 2'!AI12 -> 0 | D44: ='F_Year 3'!AI12 -> 0 | E44: ='G_Year 4'!AI12 -> 0 | F44: ='H_Year 5'!AI12 -> 0 | G44: ='Tab L calculations'!J13 -> #DIV/0!
A45: =' B_Populations'!A11 -> 85+ | B45: ='D_Year 1'!AI13 -> 0 | C45: ='E_Year 2'!AI13 -> 0 | D45: ='F_Year 3'!AI13 -> 0 | E45: ='G_Year 4'!AI13 -> 0 | F45: ='H_Year 5'!AI13 -> 0 | G45: ='Tab L calculations'!J14 -> #DIV/0!
A47: Year 1 - Year 5 age-adjusted death rates per 100,000
A48: age group | B48: =' B_Populations'!D4 -> 0 | C48: =' B_Populations'!D22 -> 0 | D48: =' B_Populations'!D34 -> 0 | E48: =' B_Populations'!D46 -> 0 | F48: =' B_Populations'!D58 -> 0 | G48: 5 year age adjusted rate per 100,000
A49: =' B_Populations'!A9 -> 65-74 | B49: ='D_Year 1'!AI18 -> 0 | C49: ='E_Year 2'!AI18 -> 0 | D49: ='F_Year 3'!AI18 -> 0 | E49: ='G_Year 4'!AI18 -> 0 | F49: ='H_Year 5'!AI18 -> 0 | G49: ='Tab L calculations'!J17 -> #DIV/0!
A50: =' B_Populations'!A10 -> 75-84 | B50: ='D_Year 1'!AI19 -> 0 | C50: ='E_Year 2'!AI19 -> 0 | D50: ='F_Year 3'!AI19 -> 0 | E50: ='G_Year 4'!AI19 -> 0 | F50: ='H_Year 5'!AI19 -> 0 | G50: ='Tab L calculations'!J18 -> #DIV/0!
A51: =' B_Populations'!A11 -> 85+ | B51: ='D_Year 1'!AI20 -> 0 | C51: ='E_Year 2'!AI20 -> 0 | D51: ='F_Year 3'!AI20 -> 0 | E51: ='G_Year 4'!AI20 -> 0 | F51: ='H_Year 5'!AI20 -> 0 | G51: ='Tab L calculations'!J19 -> #DIV/0!

Sheet K_Figure 2
A1: Figure 2 - Percentage of Annual Older Adult Falls-Related Deaths, Hospitalizations, and ED Visits by Cause
A7: Insert data year
A9: Hip Fracture
A10: ED Visits | B10: 0.1
A11: Hospitalizations | B11: 0.3
A12: Deaths | B12: 0.4
A14: TBI
A15: ED Visits | B15: 0.2
A16: Hospitalizations | B16: 0.3
A17: Deaths | B17: 0.1

Sheet L_Figure 3 (Health Regions)
A1: Figure 3 - Older Adult Falls by <Group, Health Region, or Location>
A8: Health Regions Data
A9: Total Nonfatal Hospitalizations Rate per 100,000 by Health Region | B9: Counts | C9: Rate | D9: Rank | F9: Total Nonfatal ED Visits Rate per 100,000 by Health Region | G9: Counts | H9: Rate | I9: Rank | K9: Total Deaths Rate per 100,000 by Health Region | L9: Counts | M9: Rate | N9: Rank
A10: ='C_Health Regions'!B5 -> Region 1 | B10: ='I_Health Regions'!C7 -> 0 | C10: ='I_Health Regions'!Y7 -> 0 | D10: =RANK(C10,C$10:C$29)+COUNTIF($C$10:C10,C10)-1 -> 1 | F10: =A10 -> Region 1 | G10: ='I_Health Regions'!C14 -> 0 | H10: ='I_Health Regions'!Y14 -> 0 | I10: =RANK(H10,H$10:H$29)+COUNTIF($H$10:H10,H10)-1 -> 1 | K10: =A10 -> Region 1 | L10: ='I_Health Regions'!C21 -> 0 | M10: ='I_Health Regions'!Y21 -> 0 | N10: =RANK(M10,M$10:M$29)+COUNTIF($M$10:M10,M10)-1 -> 1
A11: ='C_Health Regions'!D5 -> Region 2 | B11: ='I_Health Regions'!D7 -> 0 | C11: ='I_Health Regions'!AA7 -> 0 | D11: =RANK(C11,C$10:C$29)+COUNTIF($C$10:C11,C11)-1 -> 2 | F11: =A11 -> Region 2 | G11: ='I_Health Regions'!D14 -> 0 | H11: ='I_Health Regions'!AA14 -> 0 | I11: =RANK(H11,H$10:H$29)+COUNTIF($H$10:H11,H11)-1 -> 2 | K11: =A11 -> Region 2 | L11: ='I_Health Regions'!D21 -> 0 | M11: ='I_Health Regions'!AA21 -> 0 | N11: =RANK(M11,M$10:M$29)+COUNTIF($M$10:M11,M11)-1 -> 2
A12: ='C_Health Regions'!F5 -> Region 3 | B12: ='I_Health Regions'!E7 -> 0 | C12: ='I_Health Regions'!AC7 -> 0 | D12: =RANK(C12,C$10:C$29)+COUNTIF($C$10:C12,C12)-1 -> 3 | F12: =A12 -> Region 3 | G12: ='I_Health Regions'!E14 -> 0 | H12: ='I_Health Regions'!AC14 -> 0 | I12: =RANK(H12,H$10:H$29)+COUNTIF($H$10:H12,H12)-1 -> 3 | K12: =A12 -> Region 3 | L12: ='I_Health Regions'!E21 -> 0 | M12: ='I_Health Regions'!AC21 -> 0 | N12: =RANK(M12,M$10:M$29)+COUNTIF($M$10:M12,M12)-1 -> 3
A13: ='C_Health Regions'!H5 -> Region 4 | B13: ='I_Health Regions'!F7 -> 0 | C13: ='I_Health Regions'!AE7 -> 0 | D13: =RANK(C13,C$10:C$29)+COUNTIF($C$10:C13,C13)-1 -> 4 | F13: =A13 -> Region 4 | G13: ='I_Health Regions'!F14 -> 0 | H13: ='I_Health Regions'!AE14 -> 0 | I13: =RANK(H13,H$10:H$29)+COUNTIF($H$10:H13,H13)-1 -> 4 | K13: =A13 -> Region 4 | L13: ='I_Health Regions'!F21 -> 0 | M13: ='I_Health Regions'!AE21 -> 0 | N13: =RANK(M13,M$10:M$29)+COUNTIF($M$10:M13,M13)-1 -> 4
A14: ='C_Health Regions'!J5 -> Region 5 | B14: ='I_Health Regions'!G7 -> 0 | C14: ='I_Health Regions'!AG7 -> 0 | D14: =RANK(C14,C$10:C$29)+COUNTIF($C$10:C14,C14)-1 -> 5 | F14: =A14 -> Region 5 | G14: ='I_Health Regions'!G14 -> 0 | H14: ='I_Health Regions'!AG14 -> 0 | I14: =RANK(H14,H$10:H$29)+COUNTIF($H$10:H14,H14)-1 -> 5 | K14: =A14 -> Region 5 | L14: ='I_Health Regions'!G21 -> 0 | M14: ='I_Health Regions'!AG21 -> 0 | N14: =RANK(M14,M$10:M$29)+COUNTIF($M$10:M14,M14)-1 -> 5
A15: ='C_Health Regions'!L5 -> Region 6 | B15: ='I_Health Regions'!H7 -> 0 | C15: ='I_Health Regions'!AI7 -> 0 | D15: =RANK(C15,C$10:C$29)+COUNTIF($C$10:C15,C15)-1 -> 6 | F15: =A15 -> Region 6 | G15: ='I_Health Regions'!H14 -> 0 | H15: ='I_Health Regions'!AI14 -> 0 | I15: =RANK(H15,H$10:H$29)+COUNTIF($H$10:H15,H15)-1 -> 6 | K15: =A15 -> Region 6 | L15: ='I_Health Regions'!H21 -> 0 | M15: ='I_Health Regions'!AI21 -> 0 | N15: =RANK(M15,M$10:M$29)+COUNTIF($M$10:M15,M15)-1 -> 6
A16: ='C_Health Regions'!N5 -> Region 7 | B16: ='I_Health Regions'!I7 -> 0 | C16: ='I_Health Regions'!AK7 -> 0 | D16: =RANK(C16,C$10:C$29)+COUNTIF($C$10:C16,C16)-1 -> 7 | F16: =A16 -> Region 7 | G16: ='I_Health Regions'!I14 -> 0 | H16: ='I_Health Regions'!AK14 -> 0 | I16: =RANK(H16,H$10:H$29)+COUNTIF($H$10:H16,H16)-1 -> 7 | K16: =A16 -> Region 7 | L16: ='I_Health Regions'!I21 -> 0 | M16: ='I_Health Regions'!AK21 -> 0 | N16: =RANK(M16,M$10:M$29)+COUNTIF($M$10:M16,M16)-1 -> 7
A17: ='C_Health Regions'!P5 -> Region 8 | B17: ='I_Health Regions'!J7 -> 0 | C17: ='I_Health Regions'!AM7 -> 0 | D17: =RANK(C17,C$10:C$29)+COUNTIF($C$10:C17,C17)-1 -> 8 | F17: =A17 -> Region 8 | G17: ='I_Health Regions'!J14 -> 0 | H17: ='I_Health Regions'!AM14 -> 0 | I17: =RANK(H17,H$10:H$29)+COUNTIF($H$10:H17,H17)-1 -> 8 | K17: =A17 -> Region 8 | L17: ='I_Health Regions'!J21 -> 0 | M17: ='I_Health Regions'!AM21 -> 0 | N17: =RANK(M17,M$10:M$29)+COUNTIF($M$10:M17,M17)-1 -> 8
A18: ='C_Health Regions'!R5 -> Region 9 | B18: ='I_Health Regions'!K7 -> 0 | C18: ='I_Health Regions'!AN7 -> 0 | D18: =RANK(C18,C$10:C$29)+COUNTIF($C$10:C18,C18)-1 -> 9 | F18: =A18 -> Region 9 | G18: ='I_Health Regions'!K14 -> 0 | H18: ='I_Health Regions'!AO14 -> 0 | I18: =RANK(H18,H$10:H$29)+COUNTIF($H$10:H18,H18)-1 -> 9 | K18: =A18 -> Region 9 | L18: ='I_Health Regions'!K21 -> 0 | M18: ='I_Health Regions'!AO21 -> 0 | N18: =RANK(M18,M$10:M$29)+COUNTIF($M$10:M18,M18)-1 -> 9
A19: ='C_Health Regions'!T5 -> Region 10 | B19: ='I_Health Regions'!L7 -> 0 | C19: ='I_Health Regions'!AQ7 -> 0 | D19: =RANK(C19,C$10:C$29)+COUNTIF($C$10:C19,C19)-1 -> 10 | F19: =A19 -> Region 10 | G19: ='I_Health Regions'!L14 -> 0 | H19: ='I_Health Regions'!AQ14 -> 0 | I19: =RANK(H19,H$10:H$29)+COUNTIF($H$10:H19,H19)-1 -> 10 | K19: =A19 -> Region 10 | L19: ='I_Health Regions'!L21 -> 0 | M19: ='I_Health Regions'!AQ21 -> 0 | N19: =RANK(M19,M$10:M$29)+COUNTIF($M$10:M19,M19)-1 -> 10
A20: ='C_Health Regions'!V5 -> Region 11 | B20: ='I_Health Regions'!M7 -> 0 | C20: ='I_Health Regions'!AS7 -> 0 | D20: =RANK(C20,C$10:C$29)+COUNTIF($C$10:C20,C20)-1 -> 11 | F20: =A20 -> Region 11 | G20: ='I_Health Regions'!M14 -> 0 | H20: ='I_Health Regions'!AS14 -> 0 | I20: =RANK(H20,H$10:H$29)+COUNTIF($H$10:H20,H20)-1 -> 11 | K20: =A20 -> Region 11 | L20: ='I_Health Regions'!M21 -> 0 | M20: ='I_Health Regions'!AS21 -> 0 | N20: =RANK(M20,M$10:M$29)+COUNTIF($M$10:M20,M20)-1 -> 11
A21: ='C_Health Regions'!X5 -> Region 12 | B21: ='I_Health Regions'!N7 -> 0 | C21: ='I_Health Regions'!AU7 -> 0 | D21: =RANK(C21,C$10:C$29)+COUNTIF($C$10:C21,C21)-1 -> 12 | F21: =A21 -> Region 12 | G21: ='I_Health Regions'!N14 -> 0 | H21: ='I_Health Regions'!AU14 -> 0 | I21: =RANK(H21,H$10:H$29)+COUNTIF($H$10:H21,H21)-1 -> 12 | K21: =A21 -> Region 12 | L21: ='I_Health Regions'!N21 -> 0 | M21: ='I_Health Regions'!AU21 -> 0 | N21: =RANK(M21,M$10:M$29)+COUNTIF($M$10:M21,M21)-1 -> 12
A22: ='C_Health Regions'!Z5 -> Region 13 | B22: ='I_Health Regions'!O7 -> 0 | C22: ='I_Health Regions'!AW7 -> 0 | D22: =RANK(C22,C$10:C$29)+COUNTIF($C$10:C22,C22)-1 -> 13 | F22: =A22 -> Region 13 | G22: ='I_Health Regions'!O14 -> 0 | H22: ='I_Health Regions'!AW14 -> 0 | I22: =RANK(H22,H$10:H$29)+COUNTIF($H$10:H22,H22)-1 -> 13 | K22: =A22 -> Region 13 | L22: ='I_Health Regions'!O21 -> 0 | M22: ='I_Health Regions'!AW21 -> 0 | N22: =RANK(M22,M$10:M$29)+COUNTIF($M$10:M22,M22)-1 -> 13
A23: ='C_Health Regions'!AB5 -> Region 14 | B23: ='I_Health Regions'!P7 -> 0 | C23: ='I_Health Regions'!AY7 -> 0 | D23: =RANK(C23,C$10:C$29)+COUNTIF($C$10:C23,C23)-1 -> 14 | F23: =A23 -> Region 14 | G23: ='I_Health Regions'!P14 -> 0 | H23: ='I_Health Regions'!AY14 -> 0 | I23: =RANK(H23,H$10:H$29)+COUNTIF($H$10:H23,H23)-1 -> 14 | K23: =A23 -> Region 14 | L23: ='I_Health Regions'!P21 -> 0 | M23: ='I_Health Regions'!AY21 -> 0 | N23: =RANK(M23,M$10:M$29)+COUNTIF($M$10:M23,M23)-1 -> 14
A24: ='C_Health Regions'!AD5 -> Region 15 | B24: ='I_Health Regions'!Q7 -> 0 | C24: ='I_Health Regions'!BA7 -> 0 | D24: =RANK(C24,C$10:C$29)+COUNTIF($C$10:C24,C24)-1 -> 15 | F24: =A24 -> Region 15 | G24: ='I_Health Regions'!Q14 -> 0 | H24: ='I_Health Regions'!BA14 -> 0 | I24: =RANK(H24,H$10:H$29)+COUNTIF($H$10:H24,H24)-1 -> 15 | K24: =A24 -> Region 15 | L24: ='I_Health Regions'!Q21 -> 0 | M24: ='I_Health Regions'!BA21 -> 0 | N24: =RANK(M24,M$10:M$29)+COUNTIF($M$10:M24,M24)-1 -> 15
A25: ='C_Health Regions'!AF5 -> Region 16 | B25: ='I_Health Regions'!R7 -> 0 | C25: ='I_Health Regions'!BC7 -> 0 | D25: =RANK(C25,C$10:C$29)+COUNTIF($C$10:C25,C25)-1 -> 16 | F25: =A25 -> Region 16 | G25: ='I_Health Regions'!R14 -> 0 | H25: ='I_Health Regions'!BC14 -> 0 | I25: =RANK(H25,H$10:H$29)+COUNTIF($H$10:H25,H25)-1 -> 16 | K25: =A25 -> Region 16 | L25: ='I_Health Regions'!R21 -> 0 | M25: ='I_Health Regions'!BC21 -> 0 | N25: =RANK(M25,M$10:M$29)+COUNTIF($M$10:M25,M25)-1 -> 16
A26: ='C_Health Regions'!AH5 -> Region 17 | B26: ='I_Health Regions'!S7 -> 0 | C26: ='I_Health Regions'!BE7 -> 0 | D26: =RANK(C26,C$10:C$29)+COUNTIF($C$10:C26,C26)-1 -> 17 | F26: =A26 -> Region 17 | G26: ='I_Health Regions'!S14 -> 0 | H26: ='I_Health Regions'!BE14 -> 0 | I26: =RANK(H26,H$10:H$29)+COUNTIF($H$10:H26,H26)-1 -> 17 | K26: =A26 -> Region 17 | L26: ='I_Health Regions'!S21 -> 0 | M26: ='I_Health Regions'!BE21 -> 0 | N26: =RANK(M26,M$10:M$29)+COUNTIF($M$10:M26,M26)-1 -> 17
A27: ='C_Health Regions'!AJ5 -> Region 18 | B27: ='I_Health Regions'!T7 -> 0 | C27: ='I_Health Regions'!BG7 -> 0 | D27: =RANK(C27,C$10:C$29)+COUNTIF($C$10:C27,C27)-1 -> 18 | F27: =A27 -> Region 18 | G27: ='I_Health Regions'!T14 -> 0 | H27: ='I_Health Regions'!BG14 -> 0 | I27: =RANK(H27,H$10:H$29)+COUNTIF($H$10:H27,H27)-1 -> 18 | K27: =A27 -> Region 18 | L27: ='I_Health Regions'!T21 -> 0 | M27: ='I_Health Regions'!BG21 -> 0 | N27: =RANK(M27,M$10:M$29)+COUNTIF($M$10:M27,M27)-1 -> 18
A28: ='C_Health Regions'!AL5 -> Region 19 | B28: ='I_Health Regions'!U7 -> 0 | C28: ='I_Health Regions'!BI7 -> 0 | D28: =RANK(C28,C$10:C$29)+COUNTIF($C$10:C28,C28)-1 -> 19 | F28: =A28 -> Region 19 | G28: ='I_Health Regions'!U14 -> 0 | H28: ='I_Health Regions'!BI14 -> 0 | I28: =RANK(H28,H$10:H$29)+COUNTIF($H$10:H28,H28)-1 -> 19 | K28: =A28 -> Region 19 | L28: ='I_Health Regions'!U21 -> 0 | M28: ='I_Health Regions'!BI21 -> 0 | N28: =RANK(M28,M$10:M$29)+COUNTIF($M$10:M28,M28)-1 -> 19
A29: ='C_Health Regions'!AN5 -> Region 20 | B29: ='I_Health Regions'!V7 -> 0 | C29: ='I_Health Regions'!BK7 -> 0 | D29: =RANK(C29,C$10:C$29)+COUNTIF($C$10:C29,C29)-1 -> 20 | F29: =A29 -> Region 20 | G29: ='I_Health Regions'!V14 -> 0 | H29: ='I_Health Regions'!BK14 -> 0 | I29: =RANK(H29,H$10:H$29)+COUNTIF($H$10:H29,H29)-1 -> 20 | K29: =A29 -> Region 20 | L29: ='I_Health Regions'!V21 -> 0 | M29: ='I_Health Regions'!BK21 -> 0 | N29: =RANK(M29,M$10:M$29)+COUNTIF($M$10:M29,M29)-1 -> 20

Sheet L_Figure 3 (Race_Ethnicity)
A1: Figure 3 - Older Adult Falls by <Group, Health Region, or Location>
A8: This tab will automatically fill with data from the individual "Year 1", "Year 2", "Year 3", "Year 4", "Year 5" tabs.
A10: Year 1 - Year 5 age agdjusted hospitalization rates across race/ethnicity per 100,000
A11: Group | B11: =' B_Populations'!D4 -> 0 | C11: =' B_Populations'!D22 -> 0 | D11: =' B_Populations'!D34 -> 0 | E11: =' B_Populations'!D46 -> 0 | F11: =' B_Populations'!D58 -> 0 | G11: 5 year age adjusted rate per 100,000
A12: =' B_Populations'!H8 -> White-Not Hispanic | B12: ='D_Year 1'!AL7 -> 0 | C12: ='E_Year 2'!AL7 -> 0 | D12: ='F_Year 3'!AL7 -> 0 | E12: ='G_Year 4'!AL7 -> 0 | F12: ='H_Year 5'!AL7 -> 0 | G12: =SUM('Tab L calculations'!J22:J24) -> #DIV/0!
A13: =' B_Populations'!J8 -> Hispanic | B13: ='D_Year 1'!AM7 -> 0 | C13: ='E_Year 2'!AM7 -> 0 | D13: ='F_Year 3'!AM7 -> 0 | E13: ='G_Year 4'!AM7 -> 0 | F13: ='H_Year 5'!AM7 -> 0 | G13: =SUM('Tab L calculations'!J35:J37) -> #DIV/0!
A14: =' B_Populations'!L8 -> Black-Not Hispanic | B14: ='D_Year 1'!AN7 -> 0 | C14: ='E_Year 2'!AN7 -> 0 | D14: ='F_Year 3'!AN7 -> 0 | E14: ='G_Year 4'!AN7 -> 0 | F14: ='H_Year 5'!AN7 -> 0 | G14: =SUM('Tab L calculations'!J48:J50) -> #DIV/0!
A15: =' B_Populations'!N8 -> Asian | B15: ='D_Year 1'!AO7 -> 0 | C15: ='E_Year 2'!AO7 -> 0 | D15: ='F_Year 3'!AO7 -> 0 | E15: ='G_Year 4'!AO7 -> 0 | F15: ='H_Year 5'!AO7 -> 0 | G15: =SUM('Tab L calculations'!J61:J63) -> #DIV/0!
A16: =' B_Populations'!P8 -> American Indian/Alaska Native | B16: ='D_Year 1'!AP7 -> 0 | C16: ='E_Year 2'!AP7 -> 0 | D16: ='F_Year 3'!AP7 -> 0 | E16: ='G_Year 4'!AP7 -> 0 | F16: ='H_Year 5'!AP7 -> 0 | G16: =SUM('Tab L calculations'!J74:J76) -> #DIV/0!
A17: =' B_Populations'!R8 -> Other | B17: ='D_Year 1'!AQ7 -> 0 | C17: ='E_Year 2'!AQ7 -> 0 | D17: ='F_Year 3'!AQ7 -> 0 | E17: ='G_Year 4'!AQ7 -> 0 | F17: ='H_Year 5'!AQ7 -> 0 | G17: =SUM('Tab L calculations'!J87:J89) -> #DIV/0!
A19: Year 1 - Year 5 age agdjusted ED rates across race/ethnicity per 100,000
A20: Group | B20: =' B_Populations'!D4 -> 0 | C20: =' B_Populations'!D22 -> 0 | D20: =' B_Populations'!D34 -> 0 | E20: =' B_Populations'!D46 -> 0 | F20: =' B_Populations'!D58 -> 0 | G20: 5 year age adjusted rate per 100,000
A21: =' B_Populations'!H8 -> White-Not Hispanic | B21: ='D_Year 1'!AL14 -> 0 | C21: ='E_Year 2'!AL14 -> 0 | D21: ='F_Year 3'!AL14 -> 0 | E21: ='G_Year 4'!AL14 -> 0 | F21: ='H_Year 5'!AL14 -> 0 | G21: =SUM('Tab L calculations'!J26:J28) -> #DIV/0!
A22: =' B_Populations'!J8 -> Hispanic | B22: ='D_Year 1'!AM14 -> 0 | C22: ='E_Year 2'!AM14 -> 0 | D22: ='F_Year 3'!AM14 -> 0 | E22: ='G_Year 4'!AM14 -> 0 | F22: ='H_Year 5'!AM14 -> 0 | G22: =SUM('Tab L calculations'!J39:J41) -> #DIV/0!
A23: =' B_Populations'!L8 -> Black-Not Hispanic | B23: ='D_Year 1'!AN14 -> 0 | C23: ='E_Year 2'!AN14 -> 0 | D23: ='F_Year 3'!AN14 -> 0 | E23: ='G_Year 4'!AN14 -> 0 | F23: ='H_Year 5'!AN14 -> 0 | G23: =SUM('Tab L calculations'!J52:J54) -> #DIV/0!
A24: =' B_Populations'!N8 -> Asian | B24: ='D_Year 1'!AO14 -> 0 | C24: ='E_Year 2'!AO14 -> 0 | D24: ='F_Year 3'!AO14 -> 0 | E24: ='G_Year 4'!AO14 -> 0 | F24: ='H_Year 5'!AO14 -> 0 | G24: =SUM('Tab L calculations'!J65:J67) -> #DIV/0!
A25: =' B_Populations'!P8 -> American Indian/Alaska Native | B25: ='D_Year 1'!AP14 -> 0 | C25: ='E_Year 2'!AP14 -> 0 | D25: ='F_Year 3'!AP14 -> 0 | E25: ='G_Year 4'!AP14 -> 0 | F25: ='H_Year 5'!AP14 -> 0 | G25: =SUM('Tab L calculations'!J78:J80) -> #DIV/0!
A26: =' B_Populations'!R8 -> Other | B26: ='D_Year 1'!AQ14 -> 0 | C26: ='E_Year 2'!AQ14 -> 0 | D26: ='F_Year 3'!AQ14 -> 0 | E26: ='G_Year 4'!AQ14 -> 0 | F26: ='H_Year 5'!AQ14 -> 0 | G26: =SUM('Tab L calculations'!J91:J93) -> #DIV/0!
A28: Year 1 - Year 5 age agdjusted death rates across race/ethnicity per 100,000
A29: Group | B29: =' B_Populations'!D4 -> 0 | C29: =' B_Populations'!D22 -> 0 | D29: =' B_Populations'!D34 -> 0 | E29: =' B_Populations'!D46 -> 0 | F29: =' B_Populations'!D58 -> 0 | G29: 5 year age adjusted rate per 100,000
A30: =' B_Populations'!H8 -> White-Not Hispanic | B30: ='D_Year 1'!AL21 -> 0 | C30: ='E_Year 2'!AL21 -> 0 | D30: ='F_Year 3'!AL21 -> 0 | E30: ='G_Year 4'!AL21 -> 0 | F30: ='H_Year 5'!AL21 -> 0 | G30: =SUM('Tab L calculations'!J30:J32) -> #DIV/0!
A31: =' B_Populations'!J8 -> Hispanic | B31: ='D_Year 1'!AM21 -> 0 | C31: ='E_Year 2'!AM21 -> 0 | D31: ='F_Year 3'!AM21 -> 0 | E31: ='G_Year 4'!AM21 -> 0 | F31: ='H_Year 5'!AM21 -> 0 | G31: =SUM('Tab L calculations'!J43:J45) -> #DIV/0!
A32: =' B_Populations'!L8 -> Black-Not Hispanic | B32: ='D_Year 1'!AN21 -> 0 | C32: ='E_Year 2'!AN21 -> 0 | D32: ='F_Year 3'!AN21 -> 0 | E32: ='G_Year 4'!AN21 -> 0 | F32: ='H_Year 5'!AN21 -> 0 | G32: =SUM('Tab L calculations'!J56:J58) -> #DIV/0!
A33: =' B_Populations'!N8 -> Asian | B33: ='D_Year 1'!AO21 -> 0 | C33: ='E_Year 2'!AO21 -> 0 | D33: ='F_Year 3'!AO21 -> 0 | E33: ='G_Year 4'!AO21 -> 0 | F33: ='H_Year 5'!AO21 -> 0 | G33: =SUM('Tab L calculations'!J69:J71) -> #DIV/0!
A34: =' B_Populations'!P8 -> American Indian/Alaska Native | B34: ='D_Year 1'!AP21 -> 0 | C34: ='E_Year 2'!AP21 -> 0 | D34: ='F_Year 3'!AP21 -> 0 | E34: ='G_Year 4'!AP21 -> 0 | F34: ='H_Year 5'!AP21 -> 0 | G34: =SUM('Tab L calculations'!J82:J84) -> #DIV/0!
A35: =' B_Populations'!R8 -> Other | B35: ='D_Year 1'!AQ21 -> 0 | C35: ='E_Year 2'!AQ21 -> 0 | D35: ='F_Year 3'!AQ21 -> 0 | E35: ='G_Year 4'!AQ21 -> 0 | F35: ='H_Year 5'!AQ21 -> 0 | G35: =SUM('Tab L calculations'!J95:J97) -> #DIV/0!

Sheet Tab L calculations
A1: 2000 state population weights
A2: 0.522501
A3: 0.354797
A4: 0.122702
A6: Overall Hosps | B6: year 1 hosps | C6: year 2 hosps | D6: year 3 hosps | E6: year 4 hosps | F6: year 5 hosps | G6: total hosps year 1-5 | H6: total year 1-5 population | I6: crude rate per 100,000 | J6: crude rate*2000 weight
A7: =' B_Populations'!A9 -> 65-74 | B7: ='D_Year 1'!C4 -> 0 | C7: ='E_Year 2'!C4 -> 0 | D7: ='F_Year 3'!C4 -> 0 | E7: ='G_Year 4'!C4 -> 0 | F7: ='H_Year 5'!C4 -> 0 | G7: =SUM(B7:F7) -> 0 | H7: =SUM(' B_Populations'!B63,' B_Populations'!B51,' B_Populations'!B39,' B_Populations'!B27,' B_Populations'!B9) -> 0 | I7: =(G7/H7)*100000 -> #DIV/0! | J7: =I7*A2 -> #DIV/0!
A8: =' B_Populations'!A10 -> 75-84 | B8: ='D_Year 1'!C5 -> 0 | C8: ='E_Year 2'!C5 -> 0 | D8: ='F_Year 3'!C5 -> 0 | E8: ='G_Year 4'!C5 -> 0 | F8: ='H_Year 5'!C5 -> 0 | G8: =SUM(B8:F8) -> 0 | H8: =SUM(' B_Populations'!B10,' B_Populations'!B28,' B_Populations'!B40,' B_Populations'!B52,' B_Populations'!B64) -> 0 | I8: =(G8/H8)*100000 -> #DIV/0! | J8: =I8*A3 -> #DIV/0!
A9: =' B_Populations'!A11 -> 85+ | B9: ='D_Year 1'!C6 -> 0 | C9: ='E_Year 2'!C6 -> 0 | D9: ='F_Year 3'!C6 -> 0 | E9: ='G_Year 4'!C6 -> 0 | F9: ='H_Year 5'!C6 -> 0 | G9: =SUM(B9:F9) -> 0 | H9: =SUM(' B_Populations'!B65,' B_Populations'!B53,' B_Populations'!B41,' B_Populations'!B29,' B_Populations'!B11) -> 0 | I9: =(G9/H9)*100000 -> #DIV/0! | J9: =I9*A4 -> #DIV/0!
A11: Overall ED Visits | B11: year 1 ED visits | C11: year 2 ED visits | D11: year 3 ED visits | E11: year 4 ED visits | F11: year 5 ED visits | G11: total ED visits year 1-5 | H11: total year 1-5 population | I11: crude rate per 100,000 | J11: crude rate*2000 weight
A12: =' B_Populations'!A9 -> 65-74 | B12: ='D_Year 1'!C11 -> 0 | C12: ='E_Year 2'!C11 -> 0 | D12: ='F_Year 3'!C11 -> 0 | E12: ='G_Year 4'!C11 -> 0 | F12: ='H_Year 5'!C11 -> 0 | G12: =SUM(B12:F12) -> 0 | H12: =SUM(' B_Populations'!B9,' B_Populations'!B27,' B_Populations'!B39,' B_Populations'!B51,' B_Populations'!B63) -> 0 | I12: =(G12/H12)*100000 -> #DIV/0! | J12: =I12*A2 -> #DIV/0!
A13: =' B_Populations'!A10 -> 75-84 | B13: ='D_Year 1'!C12 -> 0 | C13: ='E_Year 2'!C12 -> 0 | D13: ='F_Year 3'!C12 -> 0 | E13: ='G_Year 4'!C12 -> 0 | F13: ='H_Year 5'!C12 -> 0 | G13: =SUM(B13:F13) -> 0 | H13: =SUM(' B_Populations'!B10,' B_Populations'!B28,' B_Populations'!B40,' B_Populations'!B52,' B_Populations'!B64) -> 0 | I13: =(G13/H13)*100000 -> #DIV/0! | J13: =I13*A3 -> #DIV/0!
A14: =' B_Populations'!A11 -> 85+ | B14: ='D_Year 1'!C13 -> 0 | C14: ='E_Year 2'!C13 -> 0 | D14: ='F_Year 3'!C13 -> 0 | E14: ='G_Year 4'!C13 -> 0 | F14: ='H_Year 5'!C13 -> 0 | G14: =SUM(B14:F14) -> 0 | H14: =SUM(' B_Populations'!B65,' B_Populations'!B53,' B_Populations'!B41,' B_Populations'!B29,' B_Populations'!B11) -> 0 | I14: =(G14/H14)*100000 -> #DIV/0! | J14: =I14*A4 -> #DIV/0!
A16: Overall Deaths | B16: year 1 Deaths | C16: year 2 Deaths | D16: year 3 Deaths | E16: year 4 Deaths | F16: year 5 Deaths | G16: total Deaths year 1-5 | H16: total year 1-5 population | I16: crude rate per 100,000 | J16: crude rate*2000 weight
A17: =' B_Populations'!A9 -> 65-74 | B17: ='D_Year 1'!C18 -> 0 | C17: ='E_Year 2'!C18 -> 0 | D17: ='F_Year 3'!C18 -> 0 | E17: ='G_Year 4'!C18 -> 0 | F17: ='H_Year 5'!C18 -> 0 | G17: =SUM(B17:F17) -> 0 | H17: =SUM(' B_Populations'!B63,' B_Populations'!B51,' B_Populations'!B39,' B_Populations'!B27,' B_Populations'!B9) -> 0 | I17: =(G17/H17)*100000 -> #DIV/0! | J17: =I17*A2 -> #DIV/0!
A18: =' B_Populations'!A10 -> 75-84 | B18: ='D_Year 1'!C19 -> 0 | C18: ='E_Year 2'!C19 -> 0 | D18: ='F_Year 3'!C19 -> 0 | E18: ='G_Year 4'!C19 -> 0 | F18: ='H_Year 5'!C19 -> 0 | G18: =SUM(B18:F18) -> 0 | H18: =SUM(' B_Populations'!B10,' B_Populations'!B28,' B_Populations'!B40,' B_Populations'!B52,' B_Populations'!B64) -> 0 | I18: =(G18/H18)*100000 -> #DIV/0! | J18: =I18*A3 -> #DIV/0!
A19: =' B_Populations'!A11 -> 85+ | B19: ='D_Year 1'!C20 -> 0 | C19: ='E_Year 2'!C20 -> 0 | D19: ='F_Year 3'!C20 -> 0 | E19: ='G_Year 4'!C20 -> 0 | F19: ='H_Year 5'!C20 -> 0 | G19: =SUM(B19:F19) -> 0 | H19: =SUM(' B_Populations'!B65,' B_Populations'!B53,' B_Populations'!B41,' B_Populations'!B29,' B_Populations'!B11) -> 0 | I19: =(G19/H19)*100000 -> #DIV/0! | J19: =I19*A4 -> #DIV/0!
A21: =' B_Populations'!H8 -> White-Not Hispanic | B21: year 1 hosps | C21: year 2 hosps | D21: year 3 hosps | E21: year 4 hosps | F21: year 5 hosps | G21: total hosps year 1-5 | H21: total year 1-5 population | I21: crude rate per 100,000 | J21: crude rate*2000 weight
A22: 65-74 | B22: ='D_Year 1'!F4 -> 0 | C22: ='E_Year 2'!F4 -> 0 | D22: ='F_Year 3'!F4 -> 0 | E22: ='G_Year 4'!F4 -> 0 | F22: ='H_Year 5'!F4 -> 0 | G22: =SUM(B22:F22) -> 0 | H22: =SUM(' B_Populations'!H9,' B_Populations'!H27,' B_Populations'!H39,' B_Populations'!H51,' B_Populations'!H63) -> 0 | I22: =(G22/H22)*100000 -> #DIV/0! | J22: =I22*A2 -> #DIV/0!
A23: 75-84 | B23: ='D_Year 1'!F5 -> 0 | C23: ='E_Year 2'!F5 -> 0 | D23: ='F_Year 3'!F5 -> 0 | E23: ='G_Year 4'!F5 -> 0 | F23: ='H_Year 5'!F5 -> 0 | G23: =SUM(B23:F23) -> 0 | H23: =SUM(' B_Populations'!H64,' B_Populations'!H52,' B_Populations'!H40,' B_Populations'!H28,' B_Populations'!H10) -> 0 | I23: =(G23/H23)*100000 -> #DIV/0! | J23: =I23*A3 -> #DIV/0!
A24: 85+ | B24: ='D_Year 1'!F6 -> 0 | C24: ='E_Year 2'!F6 -> 0 | D24: ='F_Year 3'!F6 -> 0 | E24: ='G_Year 4'!F6 -> 0 | F24: ='H_Year 5'!F6 -> 0 | G24: =SUM(B24:F24) -> 0 | H24: =SUM(' B_Populations'!H11,' B_Populations'!H29,' B_Populations'!H41,' B_Populations'!H53,' B_Populations'!H65) -> 0 | I24: =(G24/H24)*100000 -> #DIV/0! | J24: =I24*A4 -> #DIV/0!
B25: year 1 ED visits | C25: year 2 ED visits | D25: year 3 ED visits | E25: year 4 ED visits | F25: year 5 ED visits | G25: total ED visits year 1-5 | H25: total year 1-5 population | I25: crude rate per 100,000 | J25: crude rate*2000 weight
A26: 65-74 | B26: ='D_Year 1'!F11 -> 0 | C26: ='E_Year 2'!F11 -> 0 | D26: ='F_Year 3'!F11 -> 0 | E26: ='G_Year 4'!F11 -> 0 | F26: ='H_Year 5'!F11 -> 0 | G26: =SUM(B26:F26) -> 0 | H26: =SUM(' B_Populations'!H9,' B_Populations'!H27,' B_Populations'!H39,' B_Populations'!H51,' B_Populations'!H63) -> 0 | I26: =(G26/H26)*100000 -> #DIV/0! | J26: =I26*A2 -> #DIV/0!
A27: 75-84 | B27: ='D_Year 1'!F12 -> 0 | C27: ='E_Year 2'!F12 -> 0 | D27: ='F_Year 3'!F12 -> 0 | E27: ='G_Year 4'!F12 -> 0 | F27: ='H_Year 5'!F12 -> 0 | G27: =SUM(B27:F27) -> 0 | H27: =SUM(' B_Populations'!H64,' B_Populations'!H52,' B_Populations'!H40,' B_Populations'!H28,' B_Populations'!H10) -> 0 | I27: =(G27/H27)*100000 -> #DIV/0! | J27: =I27*A3 -> #DIV/0!
A28: 85+ | B28: ='D_Year 1'!F13 -> 0 | C28: ='E_Year 2'!F13 -> 0 | D28: ='F_Year 3'!F13 -> 0 | E28: ='G_Year 4'!F13 -> 0 | F28: ='H_Year 5'!F13 -> 0 | G28: =SUM(B28:F28) -> 0 | H28: =SUM(' B_Populations'!H11,' B_Populations'!H29,' B_Populations'!H41,' B_Populations'!H53,' B_Populations'!H65) -> 0 | I28: =(G28/H28)*100000 -> #DIV/0! | J28: =I28*A4 -> #DIV/0!
B29: year 1 Deaths | C29: year 2 Deaths | D29: year 3 Deaths | E29: year 4 Deaths | F29: year 5 Deaths | G29: total Deaths year 1-5 | H29: total year 1-5 population | I29: crude rate per 100,000 | J29: crude rate*2000 weight
A30: 65-74 | B30: ='D_Year 1'!F18 -> 0 | C30: ='E_Year 2'!F18 -> 0 | D30: ='F_Year 3'!F18 -> 0 | E30: ='G_Year 4'!F18 -> 0 | F30: ='H_Year 5'!F18 -> 0 | G30: =SUM(B30:F30) -> 0 | H30: =SUM(' B_Populations'!H9,' B_Populations'!H27,' B_Populations'!H39,' B_Populations'!H51,' B_Populations'!H63) -> 0 | I30: =(G30/H30)*100000 -> #DIV/0! | J30: =I30*A2 -> #DIV/0!
A31: 75-84 | B31: ='D_Year 1'!F19 -> 0 | C31: ='E_Year 2'!F19 -> 0 | D31: ='F_Year 3'!F19 -> 0 | E31: ='G_Year 4'!F19 -> 0 | F31: ='H_Year 5'!F19 -> 0 | G31: =SUM(B31:F31) -> 0 | H31: =SUM(' B_Populations'!H64,' B_Populations'!H52,' B_Populations'!H40,' B_Populations'!H28,' B_Populations'!H10) -> 0 | I31: =(G31/H31)*100000 -> #DIV/0! | J31: =I31*A3 -> #DIV/0!
A32: 85+ | B32: ='D_Year 1'!F20 -> 0 | C32: ='E_Year 2'!F20 -> 0 | D32: ='F_Year 3'!F20 -> 0 | E32: ='G_Year 4'!F20 -> 0 | F32: ='H_Year 5'!F20 -> 0 | G32: =SUM(B32:F32) -> 0 | H32: =SUM(' B_Populations'!H11,' B_Populations'!H29,' B_Populations'!H41,' B_Populations'!H53,' B_Populations'!H65) -> 0 | I32: =(G32/H32)*100000 -> #DIV/0! | J32: =I32*A4 -> #DIV/0!
A34: =' B_Populations'!J62 -> Hispanic | B34: year 1 hosps | C34: year 2 hosps | D34: year 3 hosps | E34: year 4 hosps | F34: year 5 hosps | G34: total hosps year 1-5 | H34: total year 1-5 population | I34: crude rate per 100,000 | J34: crude rate*2000 weight
A35: 65-74 | B35: ='D_Year 1'!G4 -> 0 | C35: ='E_Year 2'!G4 -> 0 | D35: ='F_Year 3'!G4 -> 0 | E35: ='G_Year 4'!G4 -> 0 | F35: ='H_Year 5'!G4 -> 0 | G35: =SUM(B35:F35) -> 0 | H35: =SUM(' B_Populations'!J63,' B_Populations'!J51,' B_Populations'!J39,' B_Populations'!J27,' B_Populations'!J9) -> 0 | I35: =(G35/H35)*100000 -> #DIV/0! | J35: =I35*A2 -> #DIV/0!
A36: 75-84 | B36: ='D_Year 1'!G5 -> 0 | C36: ='E_Year 2'!G5 -> 0 | D36: ='F_Year 3'!G5 -> 0 | E36: ='G_Year 4'!G5 -> 0 | F36: ='H_Year 5'!G5 -> 0 | G36: =SUM(B36:F36) -> 0 | H36: =SUM(' B_Populations'!J10,' B_Populations'!J28,' B_Populations'!J40,' B_Populations'!J52,' B_Populations'!J64) -> 0 | I36: =(G36/H36)*100000 -> #DIV/0! | J36: =I36*A3 -> #DIV/0!
A37: 85+ | B37: ='D_Year 1'!G6 -> 0 | C37: ='E_Year 2'!G6 -> 0 | D37: ='F_Year 3'!G6 -> 0 | E37: ='G_Year 4'!G6 -> 0 | F37: ='H_Year 5'!G6 -> 0 | G37: =SUM(B37:F37) -> 0 | H37: =SUM(' B_Populations'!J65,' B_Populations'!J53,' B_Populations'!J41,' B_Populations'!J29,' B_Populations'!J11) -> 0 | I37: =(G37/H37)*100000 -> #DIV/0! | J37: =I37*A4 -> #DIV/0!
B38: year 1 ED visits | C38: year 2 ED visits | D38: year 3 ED visits | E38: year 4 ED visits | F38: year 5 ED visits | G38: total ED visits year 1-5 | H38: total year 1-5 population | I38: crude rate per 100,000 | J38: crude rate*2000 weight
A39: 65-74 | B39: ='D_Year 1'!G11 -> 0 | C39: ='E_Year 2'!G11 -> 0 | D39: ='F_Year 3'!G11 -> 0 | E39: ='G_Year 4'!G11 -> 0 | F39: ='H_Year 5'!G11 -> 0 | G39: =SUM(B39:F39) -> 0 | H39: =SUM(' B_Populations'!J63,' B_Populations'!J51,' B_Populations'!J39,' B_Populations'!J27,' B_Populations'!J9) -> 0 | I39: =(G39/H39)*100000 -> #DIV/0! | J39: =I39*A2 -> #DIV/0!
A40: 75-84 | B40: ='D_Year 1'!G12 -> 0 | C40: ='E_Year 2'!G12 -> 0 | D40: ='F_Year 3'!G12 -> 0 | E40: ='G_Year 4'!G12 -> 0 | F40: ='H_Year 5'!G12 -> 0 | G40: =SUM(B40:F40) -> 0 | H40: =SUM(' B_Populations'!J10,' B_Populations'!J28,' B_Populations'!J40,' B_Populations'!J52,' B_Populations'!J64) -> 0 | I40: =(G40/H40)*100000 -> #DIV/0! | J40: =I40*A3 -> #DIV/0!
A41: 85+ | B41: ='D_Year 1'!G13 -> 0 | C41: ='E_Year 2'!G13 -> 0 | D41: ='F_Year 3'!G13 -> 0 | E41: ='G_Year 4'!G13 -> 0 | F41: ='H_Year 5'!G13 -> 0 | G41: =SUM(B41:F41) -> 0 | H41: =SUM(' B_Populations'!J65,' B_Populations'!J53,' B_Populations'!J41,' B_Populations'!J29,' B_Populations'!J11) -> 0 | I41: =(G41/H41)*100000 -> #DIV/0! | J41: =I41*A4 -> #DIV/0!
B42: year 1 Deaths | C42: year 2 Deaths | D42: year 3 Deaths | E42: year 4 Deaths | F42: year 5 Deaths | G42: total Deaths year 1-5 | H42: total year 1-5 population | I42: crude rate per 100,000 | J42: crude rate*2000 weight
A43: 65-74 | B43: ='D_Year 1'!G18 -> 0 | C43: ='E_Year 2'!G18 -> 0 | D43: ='F_Year 3'!G18 -> 0 | E43: ='G_Year 4'!G18 -> 0 | F43: ='H_Year 5'!G18 -> 0 | G43: =SUM(B43:F43) -> 0 | H43: =SUM(' B_Populations'!J63,' B_Populations'!J51,' B_Populations'!J39,' B_Populations'!J27,' B_Populations'!J9) -> 0 | I43: =(G43/H43)*100000 -> #DIV/0! | J43: =I43*A2 -> #DIV/0!
A44: 75-84 | B44: ='D_Year 1'!G19 -> 0 | C44: ='E_Year 2'!G19 -> 0 | D44: ='F_Year 3'!G19 -> 0 | E44: ='G_Year 4'!G19 -> 0 | F44: ='H_Year 5'!G19 -> 0 | G44: =SUM(B44:F44) -> 0 | H44: =SUM(' B_Populations'!J10,' B_Populations'!J28,' B_Populations'!J40,' B_Populations'!J52,' B_Populations'!J64) -> 0 | I44: =(G44/H44)*100000 -> #DIV/0! | J44: =I44*A3 -> #DIV/0!
A45: 85+ | B45: ='D_Year 1'!G20 -> 0 | C45: ='E_Year 2'!G20 -> 0 | D45: ='F_Year 3'!G20 -> 0 | E45: ='G_Year 4'!G20 -> 0 | F45: ='H_Year 5'!G20 -> 0 | G45: =SUM(B45:F45) -> 0 | H45: =SUM(' B_Populations'!J65,' B_Populations'!J53,' B_Populations'!J41,' B_Populations'!J29,' B_Populations'!J11) -> 0 | I45: =(G45/H45)*100000 -> #DIV/0! | J45: =I45*A4 -> #DIV/0!
A47: =' B_Populations'!L8 -> Black-Not Hispanic | B47: year 1 hosps | C47: year 2 hosps | D47: year 3 hosps | E47: year 4 hosps | F47: year 5 hosps | G47: total hosps year 1-5 | H47: total year 1-5 population | I47: crude rate per 100,000 | J47: crude rate*2000 weight
A48: 65-74 | B48: ='D_Year 1'!H4 -> 0 | C48: ='E_Year 2'!H4 -> 0 | D48: ='F_Year 3'!H4 -> 0 | E48: ='G_Year 4'!H4 -> 0 | F48: ='H_Year 5'!H4 -> 0 | G48: =SUM(B48:F48) -> 0 | H48: =SUM(' B_Populations'!L9,' B_Populations'!L27,' B_Populations'!L39,' B_Populations'!L51,' B_Populations'!L63) -> 0 | I48: =(G48/H48)*100000 -> #DIV/0! | J48: =I48*A2 -> #DIV/0!
A49: 75-84 | B49: ='D_Year 1'!H5 -> 0 | C49: ='E_Year 2'!H5 -> 0 | D49: ='F_Year 3'!H5 -> 0 | E49: ='G_Year 4'!H5 -> 0 | F49: ='H_Year 5'!H5 -> 0 | G49: =SUM(B49:F49) -> 0 | H49: =SUM(' B_Populations'!L64,' B_Populations'!L52,' B_Populations'!L40,' B_Populations'!L28,' B_Populations'!L10) -> 0 | I49: =(G49/H49)*100000 -> #DIV/0! | J49: =I49*A3 -> #DIV/0!
A50: 85+ | B50: ='D_Year 1'!H6 -> 0 | C50: ='E_Year 2'!H6 -> 0 | D50: ='F_Year 3'!H6 -> 0 | E50: ='G_Year 4'!H6 -> 0 | F50: ='H_Year 5'!H6 -> 0 | G50: =SUM(B50:F50) -> 0 | H50: =SUM(' B_Populations'!L11,' B_Populations'!L29,' B_Populations'!L41,' B_Populations'!L53,' B_Populations'!L65) -> 0 | I50: =(G50/H50)*100000 -> #DIV/0! | J50: =I50*A4 -> #DIV/0!
B51: year 1 ED visits | C51: year 2 ED visits | D51: year 3 ED visits | E51: year 4 ED visits | F51: year 5 ED visits | G51: total ED visits year 1-5 | H51: total year 1-5 population | I51: crude rate per 100,000 | J51: crude rate*2000 weight
A52: 65-74 | B52: ='D_Year 1'!H11 -> 0 | C52: ='E_Year 2'!H11 -> 0 | D52: ='F_Year 3'!H11 -> 0 | E52: ='G_Year 4'!H11 -> 0 | F52: ='H_Year 5'!H11 -> 0 | G52: =SUM(B52:F52) -> 0 | H52: =SUM(' B_Populations'!L9,' B_Populations'!L27,' B_Populations'!L39,' B_Populations'!L51,' B_Populations'!L63) -> 0 | I52: =(G52/H52)*100000 -> #DIV/0! | J52: =I52*A2 -> #DIV/0!
A53: 75-84 | B53: ='D_Year 1'!H12 -> 0 | C53: ='E_Year 2'!H12 -> 0 | D53: ='F_Year 3'!H12 -> 0 | E53: ='G_Year 4'!H12 -> 0 | F53: ='H_Year 5'!H12 -> 0 | G53: =SUM(B53:F53) -> 0 | H53: =SUM(' B_Populations'!L64,' B_Populations'!L52,' B_Populations'!L40,' B_Populations'!L28,' B_Populations'!L10) -> 0 | I53: =(G53/H53)*100000 -> #DIV/0! | J53: =I53*A3 -> #DIV/0!
A54: 85+ | B54: ='D_Year 1'!H13 -> 0 | C54: ='E_Year 2'!H13 -> 0 | D54: ='F_Year 3'!H13 -> 0 | E54: ='G_Year 4'!H13 -> 0 | F54: ='H_Year 5'!H13 -> 0 | G54: =SUM(B54:F54) -> 0 | H54: =SUM(' B_Populations'!L11,' B_Populations'!L29,' B_Populations'!L41,' B_Populations'!L53,' B_Populations'!L65) -> 0 | I54: =(G54/H54)*100000 -> #DIV/0! | J54: =I54*A4 -> #DIV/0!
B55: year 1 Deaths | C55: year 2 Deaths | D55: year 3 Deaths | E55: year 4 Deaths | F55: year 5 Deaths | G55: total Deaths year 1-5 | H55: total year 1-5 population | I55: crude rate per 100,000 | J55: crude rate*2000 weight
A56: 65-74 | B56: ='D_Year 1'!H18 -> 0 | C56: ='E_Year 2'!H18 -> 0 | D56: ='F_Year 3'!H18 -> 0 | E56: ='G_Year 4'!H18 -> 0 | F56: ='H_Year 5'!H18 -> 0 | G56: =SUM(B56:F56) -> 0 | H56: =SUM(' B_Populations'!L9,' B_Populations'!L27,' B_Populations'!L39,' B_Populations'!L51,' B_Populations'!L63) -> 0 | I56: =(G56/H56)*100000 -> #DIV/0! | J56: =I56*A2 -> #DIV/0!
A57: 75-84 | B57: ='D_Year 1'!H19 -> 0 | C57: ='E_Year 2'!H19 -> 0 | D57: ='F_Year 3'!H19 -> 0 | E57: ='G_Year 4'!H19 -> 0 | F57: ='H_Year 5'!H19 -> 0 | G57: =SUM(B57:F57) -> 0 | H57: =SUM(' B_Populations'!L64,' B_Populations'!L52,' B_Populations'!L40,' B_Populations'!L28,' B_Populations'!L10) -> 0 | I57: =(G57/H57)*100000 -> #DIV/0! | J57: =I57*A3 -> #DIV/0!
A58: 85+ | B58: ='D_Year 1'!H20 -> 0 | C58: ='E_Year 2'!H20 -> 0 | D58: ='F_Year 3'!H20 -> 0 | E58: ='G_Year 4'!H20 -> 0 | F58: ='H_Year 5'!H20 -> 0 | G58: =SUM(B58:F58) -> 0 | H58: =SUM(' B_Populations'!L11,' B_Populations'!L29,' B_Populations'!L41,' B_Populations'!L53,' B_Populations'!L65) -> 0 | I58: =(G58/H58)*100000 -> #DIV/0! | J58: =I58*A4 -> #DIV/0!
A60: =' B_Populations'!N62 -> Asian | B60: year 1 hosps | C60: year 2 hosps | D60: year 3 hosps | E60: year 4 hosps | F60: year 5 hosps | G60: total hosps year 1-5 | H60: total year 1-5 population | I60: crude rate per 100,000 | J60: crude rate*2000 weight
A61: 65-74 | B61: ='D_Year 1'!I4 -> 0 | C61: ='E_Year 2'!I4 -> 0 | D61: ='F_Year 3'!I4 -> 0 | E61: ='G_Year 4'!I4 -> 0 | F61: ='H_Year 5'!I4 -> 0 | G61: =SUM(B61:F61) -> 0 | H61: =SUM(' B_Populations'!N9,' B_Populations'!N27,' B_Populations'!N39,' B_Populations'!N51,' B_Populations'!N63) -> 0 | I61: =(G61/H61)*100000 -> #DIV/0! | J61: =I61*A2 -> #DIV/0!
A62: 75-84 | B62: ='D_Year 1'!I5 -> 0 | C62: ='E_Year 2'!I5 -> 0 | D62: ='F_Year 3'!I5 -> 0 | E62: ='G_Year 4'!I5 -> 0 | F62: ='H_Year 5'!I5 -> 0 | G62: =SUM(B62:F62) -> 0 | H62: =SUM(' B_Populations'!N64,' B_Populations'!N52,' B_Populations'!N40,' B_Populations'!N28,' B_Populations'!N10) -> 0 | I62: =(G62/H62)*100000 -> #DIV/0! | J62: =I62*A3 -> #DIV/0!
A63: 85+ | B63: ='D_Year 1'!I6 -> 0 | C63: ='E_Year 2'!I6 -> 0 | D63: ='F_Year 3'!I6 -> 0 | E63: ='G_Year 4'!I6 -> 0 | F63: ='H_Year 5'!I6 -> 0 | G63: =SUM(B63:F63) -> 0 | H63: =SUM(' B_Populations'!N11,' B_Populations'!N29,' B_Populations'!N41,' B_Populations'!N53,' B_Populations'!N65) -> 0 | I63: =(G63/H63)*100000 -> #DIV/0! | J63: =I63*A4 -> #DIV/0!
B64: year 1 ED visits | C64: year 2 ED visits | D64: year 3 ED visits | E64: year 4 ED visits | F64: year 5 ED visits | G64: total ED visits year 1-5 | H64: total year 1-5 population | I64: crude rate per 100,000 | J64: crude rate*2000 weight
A65: 65-74 | B65: ='D_Year 1'!I11 -> 0 | C65: ='E_Year 2'!I11 -> 0 | D65: ='F_Year 3'!I11 -> 0 | E65: ='G_Year 4'!I11 -> 0 | F65: ='H_Year 5'!I11 -> 0 | G65: =SUM(B65:F65) -> 0 | H65: =SUM(' B_Populations'!N9,' B_Populations'!N27,' B_Populations'!N39,' B_Populations'!N51,' B_Populations'!N63) -> 0 | I65: =(G65/H65)*100000 -> #DIV/0! | J65: =I65*A2 -> #DIV/0!
A66: 75-84 | B66: ='D_Year 1'!I12 -> 0 | C66: ='E_Year 2'!I12 -> 0 | D66: ='F_Year 3'!I12 -> 0 | E66: ='G_Year 4'!I12 -> 0 | F66: ='H_Year 5'!I12 -> 0 | G66: =SUM(B66:F66) -> 0 | H66: =SUM(' B_Populations'!N64,' B_Populations'!N52,' B_Populations'!N40,' B_Populations'!N28,' B_Populations'!N10) -> 0 | I66: =(G66/H66)*100000 -> #DIV/0! | J66: =I66*A3 -> #DIV/0!
A67: 85+ | B67: ='D_Year 1'!I13 -> 0 | C67: ='E_Year 2'!I13 -> 0 | D67: ='F_Year 3'!I13 -> 0 | E67: ='G_Year 4'!I13 -> 0 | F67: ='H_Year 5'!I13 -> 0 | G67: =SUM(B67:F67) -> 0 | H67: =SUM(' B_Populations'!N11,' B_Populations'!N29,' B_Populations'!N41,' B_Populations'!N53,' B_Populations'!N65) -> 0 | I67: =(G67/H67)*100000 -> #DIV/0! | J67: =I67*A4 -> #DIV/0!
B68: year 1 Deaths | C68: year 2 Deaths | D68: year 3 Deaths | E68: year 4 Deaths | F68: year 5 Deaths | G68: total Deaths year 1-5 | H68: total year 1-5 population | I68: crude rate per 100,000 | J68: crude rate*2000 weight
A69: 65-74 | B69: ='D_Year 1'!I18 -> 0 | C69: ='E_Year 2'!I18 -> 0 | D69: ='F_Year 3'!I18 -> 0 | E69: ='G_Year 4'!I18 -> 0 | F69: ='H_Year 5'!I18 -> 0 | G69: =SUM(B69:F69) -> 0 | H69: =SUM(' B_Populations'!N9,' B_Populations'!N27,' B_Populations'!N39,' B_Populations'!N51,' B_Populations'!N63) -> 0 | I69: =(G69/H69)*100000 -> #DIV/0! | J69: =I69*A2 -> #DIV/0!
A70: 75-84 | B70: ='D_Year 1'!I19 -> 0 | C70: ='E_Year 2'!I19 -> 0 | D70: ='F_Year 3'!I19 -> 0 | E70: ='G_Year 4'!I19 -> 0 | F70: ='H_Year 5'!I19 -> 0 | G70: =SUM(B70:F70) -> 0 | H70: =SUM(' B_Populations'!N64,' B_Populations'!N52,' B_Populations'!N40,' B_Populations'!N28,' B_Populations'!N10) -> 0 | I70: =(G70/H70)*100000 -> #DIV/0! | J70: =I70*A3 -> #DIV/0!
A71: 85+ | B71: ='D_Year 1'!I20 -> 0 | C71: ='E_Year 2'!I20 -> 0 | D71: ='F_Year 3'!I20 -> 0 | E71: ='G_Year 4'!I20 -> 0 | F71: ='H_Year 5'!I20 -> 0 | G71: =SUM(B71:F71) -> 0 | H71: =SUM(' B_Populations'!N11,' B_Populations'!N29,' B_Populations'!N41,' B_Populations'!N53,' B_Populations'!N65) -> 0 | I71: =(G71/H71)*100000 -> #DIV/0! | J71: =I71*A4 -> #DIV/0!
A73: =' B_Populations'!P62 -> American Indian/Alaska Native | B73: year 1 hosps | C73: year 2 hosps | D73: year 3 hosps | E73: year 4 hosps | F73: year 5 hosps | G73: total hosps year 1-5 | H73: total year 1-5 population | I73: crude rate per 100,000 | J73: crude rate*2000 weight
A74: 65-74 | B74: ='D_Year 1'!J4 -> 0 | C74: ='E_Year 2'!J4 -> 0 | D74: ='F_Year 3'!J4 -> 0 | E74: ='G_Year 4'!J4 -> 0 | F74: ='H_Year 5'!J4 -> 0 | G74: =SUM(B74:F74) -> 0 | H74: =SUM(' B_Populations'!P9,' B_Populations'!P27,' B_Populations'!P39,' B_Populations'!P51,' B_Populations'!P63) -> 0 | I74: =(G74/H74)*100000 -> #DIV/0! | J74: =I74*A2 -> #DIV/0!
A75: 75-84 | B75: ='D_Year 1'!J5 -> 0 | C75: ='E_Year 2'!J5 -> 0 | D75: ='F_Year 3'!J5 -> 0 | E75: ='G_Year 4'!J5 -> 0 | F75: ='H_Year 5'!J5 -> 0 | G75: =SUM(B75:F75) -> 0 | H75: =SUM(' B_Populations'!P64,' B_Populations'!P52,' B_Populations'!P40,' B_Populations'!P28,' B_Populations'!P10) -> 0 | I75: =(G75/H75)*100000 -> #DIV/0! | J75: =I75*A3 -> #DIV/0!
A76: 85+ | B76: ='D_Year 1'!J6 -> 0 | C76: ='E_Year 2'!J6 -> 0 | D76: ='F_Year 3'!J6 -> 0 | E76: ='G_Year 4'!J6 -> 0 | F76: ='H_Year 5'!J6 -> 0 | G76: =SUM(B76:F76) -> 0 | H76: =SUM(' B_Populations'!P11,' B_Populations'!P29,' B_Populations'!P41,' B_Populations'!P53,' B_Populations'!P65) -> 0 | I76: =(G76/H76)*100000 -> #DIV/0! | J76: =I76*A4 -> #DIV/0!
B77: year 1 ED visits | C77: year 2 ED visits | D77: year 3 ED visits | E77: year 4 ED visits | F77: year 5 ED visits | G77: total ED visits year 1-5 | H77: total year 1-5 population | I77: crude rate per 100,000 | J77: crude rate*2000 weight
A78: 65-74 | B78: ='D_Year 1'!J11 -> 0 | C78: ='E_Year 2'!J11 -> 0 | D78: ='F_Year 3'!J11 -> 0 | E78: ='G_Year 4'!J11 -> 0 | F78: ='H_Year 5'!J11 -> 0 | G78: =SUM(B78:F78) -> 0 | H78: =SUM(' B_Populations'!P9,' B_Populations'!P27,' B_Populations'!P39,' B_Populations'!P51,' B_Populations'!P63) -> 0 | I78: =(G78/H78)*100000 -> #DIV/0! | J78: =I78*A2 -> #DIV/0!
A79: 75-84 | B79: ='D_Year 1'!J12 -> 0 | C79: ='E_Year 2'!J12 -> 0 | D79: ='F_Year 3'!J12 -> 0 | E79: ='G_Year 4'!J12 -> 0 | F79: ='H_Year 5'!J12 -> 0 | G79: =SUM(B79:F79) -> 0 | H79: =SUM(' B_Populations'!P64,' B_Populations'!P52,' B_Populations'!P40,' B_Populations'!P28,' B_Populations'!P10) -> 0 | I79: =(G79/H79)*100000 -> #DIV/0! | J79: =I79*A3 -> #DIV/0!
A80: 85+ | B80: ='D_Year 1'!J13 -> 0 | C80: ='E_Year 2'!J13 -> 0 | D80: ='F_Year 3'!J13 -> 0 | E80: ='G_Year 4'!J13 -> 0 | F80: ='H_Year 5'!J13 -> 0 | G80: =SUM(B80:F80) -> 0 | H80: =SUM(' B_Populations'!P11,' B_Populations'!P29,' B_Populations'!P41,' B_Populations'!P53,' B_Populations'!P65) -> 0 | I80: =(G80/H80)*100000 -> #DIV/0! | J80: =I80*A4 -> #DIV/0!
B81: year 1 Deaths | C81: year 2 Deaths | D81: year 3 Deaths | E81: year 4 Deaths | F81: year 5 Deaths | G81: total Deaths year 1-5 | H81: total year 1-5 population | I81: crude rate per 100,000 | J81: crude rate*2000 weight
A82: 65-74 | B82: ='D_Year 1'!J18 -> 0 | C82: ='E_Year 2'!J18 -> 0 | D82: ='F_Year 3'!J18 -> 0 | E82: ='G_Year 4'!J18 -> 0 | F82: ='H_Year 5'!J18 -> 0 | G82: =SUM(B82:F82) -> 0 | H82: =SUM(' B_Populations'!P9,' B_Populations'!P27,' B_Populations'!P39,' B_Populations'!P51,' B_Populations'!P63) -> 0 | I82: =(G82/H82)*100000 -> #DIV/0! | J82: =I82*A2 -> #DIV/0!
A83: 75-84 | B83: ='D_Year 1'!J19 -> 0 | C83: ='E_Year 2'!J19 -> 0 | D83: ='F_Year 3'!J19 -> 0 | E83: ='G_Year 4'!J19 -> 0 | F83: ='H_Year 5'!J19 -> 0 | G83: =SUM(B83:F83) -> 0 | H83: =SUM(' B_Populations'!P64,' B_Populations'!P52,' B_Populations'!P40,' B_Populations'!P28,' B_Populations'!P10) -> 0 | I83: =(G83/H83)*100000 -> #DIV/0! | J83: =I83*A3 -> #DIV/0!
A84: 85+ | B84: ='D_Year 1'!J20 -> 0 | C84: ='E_Year 2'!J20 -> 0 | D84: ='F_Year 3'!J20 -> 0 | E84: ='G_Year 4'!J20 -> 0 | F84: ='H_Year 5'!J20 -> 0 | G84: =SUM(B84:F84) -> 0 | H84: =SUM(' B_Populations'!P11,' B_Populations'!P29,' B_Populations'!P41,' B_Populations'!P53,' B_Populations'!P65) -> 0 | I84: =(G84/H84)*100000 -> #DIV/0! | J84: =I84*A4 -> #DIV/0!
A86: =' B_Populations'!R8 -> Other | B86: year 1 hosps | C86: year 2 hosps | D86: year 3 hosps | E86: year 4 hosps | F86: year 5 hosps | G86: total hosps year 1-5 | H86: total year 1-5 population | I86: crude rate per 100,000 | J86: crude rate*2000 weight
A87: 65-74 | B87: ='D_Year 1'!K4 -> 0 | C87: ='E_Year 2'!K4 -> 0 | D87: ='F_Year 3'!K4 -> 0 | E87: ='G_Year 4'!K4 -> 0 | F87: ='H_Year 5'!K4 -> 0 | G87: =SUM(B87:F87) -> 0 | H87: =SUM(' B_Populations'!R9,' B_Populations'!R27,' B_Populations'!R39,' B_Populations'!R51,' B_Populations'!R63) -> 0 | I87: =(G87/H87)*100000 -> #DIV/0! | J87: =I87*A2 -> #DIV/0!
A88: 75-84 | B88: ='D_Year 1'!K5 -> 0 | C88: ='E_Year 2'!K5 -> 0 | D88: ='F_Year 3'!K5 -> 0 | E88: ='G_Year 4'!K5 -> 0 | F88: ='H_Year 5'!K5 -> 0 | G88: =SUM(B88:F88) -> 0 | H88: =SUM(' B_Populations'!R64,' B_Populations'!R52,' B_Populations'!R40,' B_Populations'!R28,' B_Populations'!R10) -> 0 | I88: =(G88/H88)*100000 -> #DIV/0! | J88: =I88*A3 -> #DIV/0!
A89: 85+ | B89: ='D_Year 1'!K6 -> 0 | C89: ='E_Year 2'!K6 -> 0 | D89: ='F_Year 3'!K6 -> 0 | E89: ='G_Year 4'!K6 -> 0 | F89: ='H_Year 5'!K6 -> 0 | G89: =SUM(B89:F89) -> 0 | H89: =SUM(' B_Populations'!R11,' B_Populations'!R29,' B_Populations'!R41,' B_Populations'!R53,' B_Populations'!R65) -> 0 | I89: =(G89/H89)*100000 -> #DIV/0! | J89: =I89*A4 -> #DIV/0!
B90: year 1 ED visits | C90: year 2 ED visits | D90: year 3 ED visits | E90: year 4 ED visits | F90: year 5 ED visits | G90: total ED visits year 1-5 | H90: total year 1-5 population | I90: crude rate per 100,000 | J90: crude rate*2000 weight
A91: 65-74 | B91: ='D_Year 1'!K11 -> 0 | C91: ='E_Year 2'!K11 -> 0 | D91: ='F_Year 3'!K11 -> 0 | E91: ='G_Year 4'!K11 -> 0 | F91: ='H_Year 5'!K11 -> 0 | G91: =SUM(B91:F91) -> 0 | H91: =SUM(' B_Populations'!R9,' B_Populations'!R27,' B_Populations'!R39,' B_Populations'!R51,' B_Populations'!R63) -> 0 | I91: =(G91/H91)*100000 -> #DIV/0! | J91: =I91*A2 -> #DIV/0!
A92: 75-84 | B92: ='D_Year 1'!K12 -> 0 | C92: ='E_Year 2'!K12 -> 0 | D92: ='F_Year 3'!K12 -> 0 | E92: ='G_Year 4'!K12 -> 0 | F92: ='H_Year 5'!K12 -> 0 | G92: =SUM(B92:F92) -> 0 | H92: =SUM(' B_Populations'!R64,' B_Populations'!R52,' B_Populations'!R40,' B_Populations'!R28,' B_Populations'!R10) -> 0 | I92: =(G92/H92)*100000 -> #DIV/0! | J92: =I92*A3 -> #DIV/0!
A93: 85+ | B93: ='D_Year 1'!K13 -> 0 | C93: ='E_Year 2'!K13 -> 0 | D93: ='F_Year 3'!K13 -> 0 | E93: ='G_Year 4'!K13 -> 0 | F93: ='H_Year 5'!K13 -> 0 | G93: =SUM(B93:F93) -> 0 | H93: =SUM(' B_Populations'!R11,' B_Populations'!R29,' B_Populations'!R41,' B_Populations'!R53,' B_Populations'!R65) -> 0 | I93: =(G93/H93)*100000 -> #DIV/0! | J93: =I93*A4 -> #DIV/0!
B94: year 1 Deaths | C94: year 2 Deaths | D94: year 3 Deaths | E94: year 4 Deaths | F94: year 5 Deaths | G94: total Deaths year 1-5 | H94: total year 1-5 population | I94: crude rate per 100,000 | J94: crude rate*2000 weight
A95: 65-74 | B95: ='D_Year 1'!K18 -> 0 | C95: ='E_Year 2'!K18 -> 0 | D95: ='F_Year 3'!K18 -> 0 | E95: ='G_Year 4'!K18 -> 0 | F95: ='H_Year 5'!K18 -> 0 | G95: =SUM(B95:F95) -> 0 | H95: =SUM(' B_Populations'!R9,' B_Populations'!R27,' B_Populations'!R39,' B_Populations'!R51,' B_Populations'!R63) -> 0 | I95: =(G95/H95)*100000 -> #DIV/0! | J95: =I95*A2 -> #DIV/0!
A96: 75-84 | B96: ='D_Year 1'!K19 -> 0 | C96: ='E_Year 2'!K19 -> 0 | D96: ='F_Year 3'!K19 -> 0 | E96: ='G_Year 4'!K19 -> 0 | F96: ='H_Year 5'!K19 -> 0 | G96: =SUM(B96:F96) -> 0 | H96: =SUM(' B_Populations'!R64,' B_Populations'!R52,' B_Populations'!R40,' B_Populations'!R28,' B_Populations'!R10) -> 0 | I96: =(G96/H96)*100000 -> #DIV/0! | J96: =I96*A3 -> #DIV/0!
A97: 85+ | B97: ='D_Year 1'!K20 -> 0 | C97: ='E_Year 2'!K20 -> 0 | D97: ='F_Year 3'!K20 -> 0 | E97: ='G_Year 4'!K20 -> 0 | F97: ='H_Year 5'!K20 -> 0 | G97: =SUM(B97:F97) -> 0 | H97: =SUM(' B_Populations'!R11,' B_Populations'!R29,' B_Populations'!R41,' B_Populations'!R53,' B_Populations'!R65) -> 0 | I97: =(G97/H97)*100000 -> #DIV/0! | J97: =I97*A4 -> #DIV/0!
A99: =' B_Populations'!D62 -> Male | B99: year 1 hosps | C99: year 2 hosps | D99: year 3 hosps | E99: year 4 hosps | F99: year 5 hosps | G99: total hosps year 1-5 | H99: total year 1-5 population | I99: crude rate per 100,000 | J99: crude rate*2000 weight
A100: 65-74 | B100: ='D_Year 1'!D4 -> 0 | C100: ='E_Year 2'!D4 -> 0 | D100: ='F_Year 3'!D4 -> 0 | E100: ='G_Year 4'!D4 -> 0 | F100: ='H_Year 5'!D4 -> 0 | G100: =SUM(B100:F100) -> 0 | H100: =SUM(' B_Populations'!D63,' B_Populations'!D51,' B_Populations'!D39,' B_Populations'!D27,' B_Populations'!D9) -> 0 | I100: =(G100/H100)*100000 -> #DIV/0! | J100: =I100*A2 -> #DIV/0!
A101: 75-84 | B101: ='D_Year 1'!D5 -> 0 | C101: ='E_Year 2'!D5 -> 0 | D101: ='F_Year 3'!D5 -> 0 | E101: ='G_Year 4'!D5 -> 0 | F101: ='H_Year 5'!D5 -> 0 | G101: =SUM(B101:F101) -> 0 | H101: =SUM(' B_Populations'!D10,' B_Populations'!D28,' B_Populations'!D40,' B_Populations'!D52,' B_Populations'!D64) -> 0 | I101: =(G101/H101)*100000 -> #DIV/0! | J101: =I101*A3 -> #DIV/0!
A102: 85+ | B102: ='D_Year 1'!D6 -> 0 | C102: ='E_Year 2'!D6 -> 0 | D102: ='F_Year 3'!D6 -> 0 | E102: ='G_Year 4'!D6 -> 0 | F102: ='H_Year 5'!D6 -> 0 | G102: =SUM(B102:F102) -> 0 | H102: =SUM(' B_Populations'!D65,' B_Populations'!D53,' B_Populations'!D41,' B_Populations'!D29,' B_Populations'!D11) -> 0 | I102: =(G102/H102)*100000 -> #DIV/0! | J102: =I102*A4 -> #DIV/0!
B103: year 1 ED visits | C103: year 2 ED visits | D103: year 3 ED visits | E103: year 4 ED visits | F103: year 5 ED visits | G103: total ED visits year 1-5 | H103: total year 1-5 population | I103: crude rate per 100,000 | J103: crude rate*2000 weight
A104: 65-74 | B104: ='D_Year 1'!D11 -> 0 | C104: ='E_Year 2'!D11 -> 0 | D104: ='F_Year 3'!D11 -> 0 | E104: ='G_Year 4'!D11 -> 0 | F104: ='H_Year 5'!D11 -> 0 | G104: =SUM(B104:F104) -> 0 | H104: =SUM(' B_Populations'!D63,' B_Populations'!D51,' B_Populations'!D39,' B_Populations'!D27,' B_Populations'!D9) -> 0 | I104: =(G104/H104)*100000 -> #DIV/0! | J104: =I104*A2 -> #DIV/0!
A105: 75-84 | B105: ='D_Year 1'!D12 -> 0 | C105: ='E_Year 2'!D12 -> 0 | D105: ='F_Year 3'!D12 -> 0 | E105: ='G_Year 4'!D12 -> 0 | F105: ='H_Year 5'!D12 -> 0 | G105: =SUM(B105:F105) -> 0 | H105: =SUM(' B_Populations'!D10,' B_Populations'!D28,' B_Populations'!D40,' B_Populations'!D52,' B_Populations'!D64) -> 0 | I105: =(G105/H105)*100000 -> #DIV/0! | J105: =I105*A3 -> #DIV/0!
A106: 85+ | B106: ='D_Year 1'!D13 -> 0 | C106: ='E_Year 2'!D13 -> 0 | D106: ='F_Year 3'!D13 -> 0 | E106: ='G_Year 4'!D13 -> 0 | F106: ='H_Year 5'!D13 -> 0 | G106: =SUM(B106:F106) -> 0 | H106: =SUM(' B_Populations'!D65,' B_Populations'!D53,' B_Populations'!D41,' B_Populations'!D29,' B_Populations'!D11) -> 0 | I106: =(G106/H106)*100000 -> #DIV/0! | J106: =I106*A4 -> #DIV/0!
B107: year 1 Deaths | C107: year 2 Deaths | D107: year 3 Deaths | E107: year 4 Deaths | F107: year 5 Deaths | G107: total Deaths year 1-5 | H107: total year 1-5 population | I107: crude rate per 100,000 | J107: crude rate*2000 weight
A108: 65-74 | B108: ='D_Year 1'!D18 -> 0 | C108: ='E_Year 2'!D18 -> 0 | D108: ='F_Year 3'!D18 -> 0 | E108: ='G_Year 4'!D18 -> 0 | F108: ='H_Year 5'!D18 -> 0 | G108: =SUM(B108:F108) -> 0 | H108: =SUM(' B_Populations'!D63,' B_Populations'!D51,' B_Populations'!D39,' B_Populations'!D27,' B_Populations'!D9) -> 0 | I108: =(G108/H108)*100000 -> #DIV/0! | J108: =I108*A2 -> #DIV/0!
A109: 75-84 | B109: ='D_Year 1'!D19 -> 0 | C109: ='E_Year 2'!D19 -> 0 | D109: ='F_Year 3'!D19 -> 0 | E109: ='G_Year 4'!D19 -> 0 | F109: ='H_Year 5'!D19 -> 0 | G109: =SUM(B109:F109) -> 0 | H109: =SUM(' B_Populations'!D10,' B_Populations'!D28,' B_Populations'!D40,' B_Populations'!D52,' B_Populations'!D64) -> 0 | I109: =(G109/H109)*100000 -> #DIV/0! | J109: =I109*A3 -> #DIV/0!
A110: 85+ | B110: ='D_Year 1'!D20 -> 0 | C110: ='E_Year 2'!D20 -> 0 | D110: ='F_Year 3'!D20 -> 0 | E110: ='G_Year 4'!D20 -> 0 | F110: ='H_Year 5'!D20 -> 0 | G110: =SUM(B110:F110) -> 0 | H110: =SUM(' B_Populations'!D65,' B_Populations'!D53,' B_Populations'!D41,' B_Populations'!D29,' B_Populations'!D11) -> 0 | I110: =(G110/H110)*100000 -> #DIV/0! | J110: =I110*A4 -> #DIV/0!
...

Sheet M_Report
A1: Current year
A14: Enter data year
A15: Total deaths count and rate for data year
A16: State/Territory/Jurisdiction
A17: Total hospitalization count and rate for data year
A18: Total ED visit count and rate for data year
A21: Sex with highest death count for data year
A22: Age group with highest Death rate
A23: Age group with highest Hospitalizations rate
A24: Age group with highest ED visit rate
