Workbook

Sheet A_Instructions
A2: Step 1: Preparing State/Territory Data | E2: Step 2: Entering Data | M2: Step 3: Creating Special Emphasis Report
A3: Instructions: Use indicators below from the National Survey of Children’s Health (NSCH) to complete the ACEs SER PDF Form. Note that the NSCH does not include all potential ACEs. ACEs that can be reported by parents/caregivers are included but questions about abuse and neglect experienced by the child are not.
A4: NSCH Codebooks can be accessed here

Sheet B_Figure 1
A1: Figure 1 - Percentage of ACEs <Data Year>
A20: Table 1 - ACE1 - Hard to cover basics on family's income | F20: Table 6 - ACE7 - Was a victim of violence or witnessed violence in neighborhood | K20: Table 10 - Total ACEs experienced from the list of 9 ACEs
A21: # of ACEs | B21: Counts | C21: Total survey responses | D21: Percentage of children that has experienced 0, 1, or 2+ ACEs | F21: # of ACEs | G21: Counts | H21: Total survey responses | I21: Percentage of children that has experienced 0, 1, or 2+ ACEs | K21: # of ACEs | L21: Total survey responses | M21: State/jurisdiction population ages 0-17 | N21: Overall percentage of children that has experienced 0, 1, or 2+ ACEs)
A22: 0 | D22: =(B22/C22)*100 -> #DIV/0! | F22: 0 | I22: =(G22/H22)*100 -> #DIV/0! | K22: 0 | L22: =SUM(B22,B28,B34,B40,B46,G22,G28,G34,G40) -> 0 | M22: =C22 -> 0 | N22: =(L22/M22) -> #DIV/0!
A23: 1 | D23: =(B23/C23)*100 -> #DIV/0! | F23: 1 | I23: =(G23/H23)*100 -> #DIV/0! | K23: 1 | L23: =SUM(B23,B29,B35,B41,B47,G23,G29,G35,G41) -> 0 | M23: =C23 -> 0 | N23: =(L23/M23) -> #DIV/0!
A24: 2+ | D24: =(B24/C24)*100 -> #DIV/0! | F24: 2+ | I24: =(G24/H24)*100 -> #DIV/0! | K24: 2+ | L24: =SUM(B24,B30,B36,B42,B48,G24,G30,G36,G42) -> 0 | M24: =C24 -> 0 | N24: =(L24/M24) -> #DIV/0!
A26: Table 2 - ACE3 - Parent or guardian divorced or separated | F26: Table 7 - ACE8 - Lived with anyone who was mentally ill, suicidal, or severely depressed
A27: # of ACEs | B27: Counts | C27: Total survey responses | D27: Percentage of children that has experienced 0, 1, or 2+ ACEs | F27: # of ACEs | G27: Counts | H27: Total survey responses | I27: Percentage of children that has experienced 0, 1, or 2+ ACEs
A28: 0 | D28: =(B28/C28)*100 -> #DIV/0! | F28: 0 | I28: =(G28/H28)*100 -> #DIV/0!
A29: 1 | D29: =(B29/C29)*100 -> #DIV/0! | F29: 1 | I29: =(G29/H29)*100 -> #DIV/0!
A30: 2+ | D30: =(B30/C30)*100 -> #DIV/0! | F30: 2+ | I30: =(G30/H30)*100 -> #DIV/0!
A32: Table 3 - ACE4 - Parent or guardian died | F32: Table 8 - ACE9 - Lived with anyone who had a problem with alcohol or drugs
A33: # of ACEs | B33: Counts | C33: Total survey responses | D33: Percentage of children that has experienced 0, 1, or 2+ ACEs | F33: # of ACEs | G33: Counts | H33: Total survey responses | I33: Percentage of children that has experienced 0, 1, or 2+ ACEs
A34: 0 | D34: =(B34/C34)*100 -> #DIV/0! | F34: 0 | I34: =(G34/H34)*100 -> #DIV/0!
A35: 1 | D35: =(B35/C35)*100 -> #DIV/0! | F35: 1 | I35: =(G35/H35)*100 -> #DIV/0!
A36: 2+ | D36: =(B36/C36)*100 -> #DIV/0! | F36: 2+ | I36: =(G36/H36)*100 -> #DIV/0!
A38: Table 4 - ACE5 - Parent or guardian served time in jail | F38: Table 9 - ACE10 - Treated or judged unfairly due to race/ethnicity
A39: # of ACEs | B39: Counts | C39: Total survey responses | D39: Percentage of children that has experienced 0, 1, or 2+ ACEs | F39: # of ACEs | G39: Counts | H39: Total survey responses | I39: Percentage of children that has experienced 0, 1, or 2+ ACEs
A40: 0 | D40: =(B40/C40)*100 -> #DIV/0! | F40: 0 | I40: =(G40/H40)*100 -> #DIV/0!
A41: 1 | D41: =(B41/C41)*100 -> #DIV/0! | F41: 1 | I41: =(G41/H41)*100 -> #DIV/0!
A42: 2+ | D42: =(B42/C42)*100 -> #DIV/0! | F42: 2+ | I42: =(G42/H42)*100 -> #DIV/0!
A44: Table 5 - ACE6 - Saw or heard parents or adults slap, hit, kick punch one another in the home
A45: # of ACEs | B45: Counts | C45: Total survey responses | D45: Percentage of children that has experienced 0, 1, or 2+ ACEs
A46: 0 | D46: =(B46/C46)*100 -> #DIV/0!
A47: 1 | D47: =(B47/C47)*100 -> #DIV/0!
A48: 2+ | D48: =(B48/C48)*100 -> #DIV/0!

Sheet C_Figure 2
A1: Figure 2 - Top 5 Types of ACEs Experienced, <Data Year>
A21: NSCH ACE Variable | B21: Description | C21: Count for 0 ACEs | D21: Count for 1 ACE | E21: Count for 2+ ACEs | F21: Total count of 0, 1, or 2+ ACEs | G21: Total count of 1+ ACEs | H21: Percentage of 1+ ACEs | I21: Rank
A22: ACE1 | B22: Hard to cover basics on family's income | F22: =SUM(C22:E22) -> 0 | G22: =SUM(D22:E22) -> 0 | H22: =(G22/F22)*100 -> #DIV/0! | I22: =RANK(H22,H$22:H$30)+COUNTIF($H$22:H22,H22)-1 -> #DIV/0!
A23: ACE3 | B23: Parent/guardian divorced or separated | F23: =SUM(C23:E23) -> 0 | G23: =SUM(D23:E23) -> 0 | H23: =(G23/F23)*100 -> #DIV/0! | I23: =RANK(H23,H$22:H$30)+COUNTIF($H$22:H23,H23)-1 -> #DIV/0!
A24: ACE4 | B24: Parent/guardian died | F24: =SUM(C24:E24) -> 0 | G24: =SUM(D24:E24) -> 0 | H24: =(G24/F24)*100 -> #DIV/0! | I24: =RANK(H24,H$22:H$30)+COUNTIF($H$22:H24,H24)-1 -> #DIV/0!
A25: ACE5 | B25: Parent/guardian served time in jail | F25: =SUM(C25:E25) -> 0 | G25: =SUM(D25:E25) -> 0 | H25: =(G25/F25)*100 -> #DIV/0! | I25: =RANK(H25,H$22:H$30)+COUNTIF($H$22:H25,H25)-1 -> #DIV/0!
A26: ACE6 | B26: Saw/heard parents/adults slap, hit, etc. at home | F26: =SUM(C26:E26) -> 0 | G26: =SUM(D26:E26) -> 0 | H26: =(G26/F26)*100 -> #DIV/0! | I26: =RANK(H26,H$22:H$30)+COUNTIF($H$22:H26,H26)-1 -> #DIV/0!
A27: ACE7 | B27: Victim of violence/witnessed violence | F27: =SUM(C27:E27) -> 0 | G27: =SUM(D27:E27) -> 0 | H27: =(G27/F27)*100 -> #DIV/0! | I27: =RANK(H27,H$22:H$30)+COUNTIF($H$22:H27,H27)-1 -> #DIV/0!
A28: ACE8 | B28: Lived w/ anyone mentally ill, suicidal, severely depressed | F28: =SUM(C28:E28) -> 0 | G28: =SUM(D28:E28) -> 0 | H28: =(G28/F28)*100 -> #DIV/0! | I28: =RANK(H28,H$22:H$30)+COUNTIF($H$22:H28,H28)-1 -> #DIV/0!
A29: ACE9 | B29: Lived w/ anyone who had a problem w/ drugs/alcohol | F29: =SUM(C29:E29) -> 0 | G29: =SUM(D29:E29) -> 0 | H29: =(G29/F29)*100 -> #DIV/0! | I29: =RANK(H29,H$22:H$30)+COUNTIF($H$22:H29,H29)-1 -> #DIV/0!
A30: ACE10 | B30: Treated/judged unfairly due to race/ethnicity | F30: =SUM(C30:E30) -> 0 | G30: =SUM(D30:E30) -> 0 | H30: =(G30/F30)*100 -> #DIV/0! | I30: =RANK(H30,H$22:H$30)+COUNTIF($H$22:H30,H30)-1 -> #DIV/0!

Sheet D_Figure 3
A1: Figure 3 - Rate of <X> ACE(s) by Population Characteristics, <Data Year>
A17: Disproportionately impacted group (enter subgroup names in this column) | B17: Count for 0 ACEs | C17: Count for 1 ACE | D17: Count for 2+ ACEs | E17: Total count of 1+ ACEs | F17: State/jurisdiction population age 0-17 | G17: Rate of 1+ ACEs per 100,00 children
A18: Group 1 | E18: =SUM(C18:D18) -> 0 | G18: =(E18/F18)*100000 -> #DIV/0!
A19: Group 2 | E19: =SUM(C19:D19) -> 0 | G19: =(E19/F19)*100000 -> #DIV/0!
A20: Group 3 | E20: =SUM(C20:D20) -> 0 | G20: =(E20/F20)*100000 -> #DIV/0!
A21: Group 4 | E21: =SUM(C21:D21) -> 0 | G21: =(E21/F21)*100000 -> #DIV/0!
A22: Group 5 | E22: =SUM(C22:D22) -> 0 | G22: =(E22/F22)*100000 -> #DIV/0!

Sheet E_Figure 4
A1: Figure 4 - Percentage of Positive Childhood Experiences, <Data Year>
K3: Table 1 Indicator 7.1 | L3: Percentage of responses | N3: Table 7 Experience | O3: Percentage (calculation to be determined)
K4: Yes | N4: Community Support
K5: No | N5: School Safety and Support
N6: Family Resilience
K8: Table 2 Indicator 7.2 | L8: Percentage of responses
K9: Definitely agree
K10: Somewhat agree
K11: Somewhat or definitely disagree
K13: Table 3 Indicator 7.3 | L13: Percentage of responses
K14: Definitely agree
K15: Somewhat agree
K16: Somewhat or definitely disagree
K18: Table 4 Indicator 2.2 | L18: Percentage of responses
K19: Never (in the past 12 months)
K20: 1-2 times (in the past 12 months)
K21: 1-2 times per month
K22: 1-2 times per week
K23: Almost every day
K25: Table 5 Indicator 2.6 | L25: Percentage of responses
K26: No difficulty
K27: A little difficulty
K28: A lot of difficulty
K30: Table 6 Indicator 6.12 | L30: Percentage of responses
K31: A lot or most of the time to 0-1 items
K32: All or most of the time to 2-3 items
K33: All or most of the time to all 4 items

Sheet F_Report
R14: Figure 2 summary table
R15: Type of ACE | S15: Percentage | T15: Rank
R16: ='C_Figure 2'!B22 -> Hard to cover basics on family's income | S16: ='C_Figure 2'!H22 -> #DIV/0! | T16: ='C_Figure 2'!I22 -> #DIV/0!
R17: ='C_Figure 2'!B23 -> Parent/guardian divorced or separated | S17: ='C_Figure 2'!H23 -> #DIV/0! | T17: ='C_Figure 2'!I23 -> #DIV/0!
R18: ='C_Figure 2'!B24 -> Parent/guardian died | S18: ='C_Figure 2'!H24 -> #DIV/0! | T18: ='C_Figure 2'!I24 -> #DIV/0!
R19: ='C_Figure 2'!B25 -> Parent/guardian served time in jail | S19: ='C_Figure 2'!H25 -> #DIV/0! | T19: ='C_Figure 2'!I25 -> #DIV/0!
R20: ='C_Figure 2'!B26 -> Saw/heard parents/adults slap, hit, etc. at home | S20: ='C_Figure 2'!H26 -> #DIV/0! | T20: ='C_Figure 2'!I26 -> #DIV/0!
R21: ='C_Figure 2'!B27 -> Victim of violence/witnessed violence | S21: ='C_Figure 2'!H27 -> #DIV/0! | T21: ='C_Figure 2'!I27 -> #DIV/0!
R22: ='C_Figure 2'!B28 -> Lived w/ anyone mentally ill, suicidal, severely depressed | S22: ='C_Figure 2'!H28 -> #DIV/0! | T22: ='C_Figure 2'!I28 -> #DIV/0!
R23: ='C_Figure 2'!B29 -> Lived w/ anyone who had a problem w/ drugs/alcohol | S23: ='C_Figure 2'!H29 -> #DIV/0! | T23: ='C_Figure 2'!I29 -> #DIV/0!
R24: ='C_Figure 2'!B30 -> Treated/judged unfairly due to race/ethnicity | S24: ='C_Figure 2'!H30 -> #DIV/0! | T24: ='C_Figure 2'!I30 -> #DIV/0!
