Workbook

Sheet A_Instructions
A2: Step 1: Preparing State/Territory Data | E2: Step 2: Entering Data | M2: Step 3: Creating Special Emphasis Report
A3: Instructions: Use indicators below from the National Survey of Children’s Health (NSCH) to complete the ACEs SER PDF Form. Note that the NSCH does not include all potential ACEs. ACEs that can be reported by parents/caregivers are included but questions about abuse and neglect experienced by the child are not.
A4: NSCH Codebooks can be accessed here
A5: NSCH Datasets can be accessed here
A6: 2019 NSCH Child and Family Measures can be accessed here
A7: Interactive NSCH Data Query

Sheet B_Figure 1
A1: Figure 1 - Percentage of ACEs <Data Year>
A17: Table 1 - Enter the numerical categories of ACEs you will use in Figure 1 (e.g., 0, 1, 2+) | D17: Table 7 - ACE6 - Saw or heard parents or adults slap, hit, kick punch one another in the home | G17: Table 12 - Total ACEs experienced from the list of 9 ACEs
A18: Category 1 | D18: Response | E18: Percentage | G18: ACEs numerical category | H18: Percentage of children
A19: Category 2 | D19: Child has EVER had this adverse childhood experience | G19: =B18 -> 0
A20: Category 3 | D20: Child has NEVER had this adverse childhood experience | G20: =B19 -> 0
G21: =B20 -> 0
A22: Table 2 - National-level percentage of children who experienced ACEs | B22: Percentage | D22: Table 8 - ACE7 - Was a victim of violence or witnessed violence in neighborhood
A23: 0 ACEs | D23: Response | E23: Percentage
A24: 1+ ACEs | D24: Child has EVER had this adverse childhood experience
D25: Child has NEVER had this adverse childhood experience
A26: Table 3 - ACE1 - Hard to cover basics on family's income
A27: Response | B27: Percentage | D27: Table 9 - ACE8 - Lived with anyone who was mentally ill, suicidal, or severely depressed
A28: Never hard to get by on a family income | D28: Response | E28: Percentage
A29: Rarely hard to get by on family income | D29: Child has EVER had this adverse childhood experience
A30: Somewhat often hard to get by on family income | D30: Child has NEVER had this adverse childhood experience
A31: Very often hard to get by on family income
D32: Table 10 - ACE9 - Lived with anyone who had a problem with alcohol or drugs
A33: Table 4 - ACE3 - Parent or guardian divorced or separated | D33: Response | E33: Percentage
A34: Response | B34: Percentage | D34: Yes
A35: Child has EVER had this adverse childhood experience | D35: Child has EVER had this adverse childhood experience
A36: Child has NEVER had this adverse childhood experience | D36: Child has NEVER had this adverse childhood experience
A38: Table 5 - ACE4 - Parent or guardian died | D38: Table 11 - ACE10 - Treated or judged unfairly due to race/ethnicity
A39: Response | B39: Percentage | D39: Response | E39: Percentage
A40: Child has EVER had this adverse childhood experience | D40: Child has EVER had this adverse childhood experience
A41: Child has NEVER had this adverse childhood experience | D41: Child has NEVER had this adverse childhood experience
A43: Table 6 - ACE5 - Parent or guardian served time in jail
A44: Response | B44: Percentage
A45: Child has EVER had this adverse childhood experience
A46: Child has NEVER had this adverse childhood experience

Sheet C_Figure 2
A1: Figure 2 - Top 5 Types of ACEs Experienced, <Data Year>
A17: Table 1 - ACE1 - Hard to cover basics on family's income | D17: Table 6 - ACE7 - Was a victim of violence or witnessed violence in neighborhood | G17: Table 10 - Total ACEs experienced from the list of 9 ACEs
A18: Response | B18: Percentage | D18: Response | E18: Percentage | G18: Type of ACE | H18: Percentage of ACE type | I18: Rank
A19: Never hard to get by on a family income | B19: ='B_Figure 1'!B28 -> 0 | D19: Child has EVER had this adverse childhood experience | E19: ='B_Figure 1'!E24 -> 0 | G19: ACE 1 | H19: =SUM(B21:B22) -> 0 | I19: =RANK(H19,H$19:H$27)+COUNTIF($H$19:H19,H19)-1 -> 1
A20: Rarely hard to get by on family income | B20: ='B_Figure 1'!B29 -> 0 | D20: Child has NEVER had this adverse childhood experience | E20: ='B_Figure 1'!E25 -> 0 | G20: ACE 3 | H20: =B26 -> 0 | I20: =RANK(H20,H$19:H$27)+COUNTIF($H$19:H20,H20)-1 -> 2
A21: Somewhat often hard to get by on family income | B21: ='B_Figure 1'!B30 -> 0 | G21: ACE 4 | H21: =B31 -> 0 | I21: =RANK(H21,H$19:H$27)+COUNTIF($H$19:H21,H21)-1 -> 3
A22: Very often hard to get by on family income | B22: ='B_Figure 1'!B31 -> 0 | D22: Table 7 - ACE8 - Lived with anyone who was mentally ill, suicidal, or severely depressed | G22: ACE 5 | H22: =B36 -> 0 | I22: =RANK(H22,H$19:H$27)+COUNTIF($H$19:H22,H22)-1 -> 4
D23: Response | E23: Percentage | G23: ACE 6 | H23: =B41 -> 0 | I23: =RANK(H23,H$19:H$27)+COUNTIF($H$19:H23,H23)-1 -> 5
A24: Table 2 - ACE3 - Parent or guardian divorced or separated | D24: Child has EVER had this adverse childhood experience | E24: ='B_Figure 1'!E29 -> 0 | G24: ACE 7 | H24: =E19 -> 0 | I24: =RANK(H24,H$19:H$27)+COUNTIF($H$19:H24,H24)-1 -> 6
A25: Response | B25: Percentage | D25: Child has NEVER had this adverse childhood experience | E25: ='B_Figure 1'!E30 -> 0 | G25: ACE 8 | H25: =E24 -> 0 | I25: =RANK(H25,H$19:H$27)+COUNTIF($H$19:H25,H25)-1 -> 7
A26: Child has EVER had this adverse childhood experience | B26: ='B_Figure 1'!B35 -> 0 | G26: ACE 9 | H26: =E29 -> 0 | I26: =RANK(H26,H$19:H$27)+COUNTIF($H$19:H26,H26)-1 -> 8
A27: Child has NEVER had this adverse childhood experience | B27: ='B_Figure 1'!B36 -> 0 | D27: Table 8 - ACE9 - Lived with anyone who had a problem with alcohol or drugs | G27: ACE 10 | H27: =E34 -> 0 | I27: =RANK(H27,H$19:H$27)+COUNTIF($H$19:H27,H27)-1 -> 9
D28: Response | E28: Percentage
A29: Table 3 - ACE4 - Parent or guardian died | D29: Child has EVER had this adverse childhood experience | E29: ='B_Figure 1'!E34 -> 0
A30: Response | B30: Percentage | D30: Child has NEVER had this adverse childhood experience | E30: ='B_Figure 1'!E35 -> 0
A31: Child has EVER had this adverse childhood experience | B31: ='B_Figure 1'!B40 -> 0
A32: Child has NEVER had this adverse childhood experience | B32: ='B_Figure 1'!B41 -> 0 | D32: Table 9 - ACE10 - Treated or judged unfairly due to race/ethnicity
D33: Response | E33: Percentage
A34: Table 4 - ACE5 - Parent or guardian served time in jail | D34: Child has EVER had this adverse childhood experience | E34: ='B_Figure 1'!E40 -> 0
A35: Response | B35: Percentage | D35: Child has NEVER had this adverse childhood experience | E35: ='B_Figure 1'!E41 -> 0
A36: Child has EVER had this adverse childhood experience | B36: ='B_Figure 1'!B45 -> 0
A37: Child has NEVER had this adverse childhood experience | B37: ='B_Figure 1'!B46 -> 0
A39: Table 5 - ACE6 - Saw or heard parents or adults slap, hit, kick punch one another in the home
A40: Response | B40: Percentage
A41: Child has EVER had this adverse childhood experience | B41: ='B_Figure 1'!E19 -> 0
A42: Child has NEVER had this adverse childhood experience | B42: ='B_Figure 1'!E20 -> 0

Sheet D_Figure 3
A1: Figure 3 - Percentage of <X> ACE(s) by Population Characteristics, <Data Year>
H3: Table 6 - ACE7 - Was a victim of violence or witnessed violence in neighborhood
H4: Response | I4: =A14 -> Group 1 | J4: =A15 -> Group 2 | K4: =A16 -> Group 3 | L4: =A17 -> Group 4 | M4: =A18 -> Group 5
H5: Child has EVER had this adverse childhood experience
H6: Child has NEVER had this adverse childhood experience
H8: Table 7 - ACE8 - Lived with anyone who was mentally ill, suicidal, or severely depressed
H9: Response | I9: =A14 -> Group 1 | J9: =A15 -> Group 2 | K9: =A16 -> Group 3 | L9: =A17 -> Group 4 | M9: =A18 -> Group 5
H10: Child has EVER had this adverse childhood experience
H11: Child has NEVER had this adverse childhood experience
A13: Enter group names that will be used for Figure 3 below: | H13: Table 8 - ACE9 - Lived with anyone who had a problem with alcohol or drugs
A14: Group 1 | H14: Response | I14: =A14 -> Group 1 | J14: =A15 -> Group 2 | K14: =A16 -> Group 3 | L14: =A17 -> Group 4 | M14: =A18 -> Group 5
A15: Group 2 | H15: Child has EVER had this adverse childhood experience
A16: Group 3 | H16: Child has NEVER had this adverse childhood experience
A17: Group 4
A18: Group 5 | H18: Table 9 - ACE10 - Treated or judged unfairly due to race/ethnicity
H19: Response | I19: =A14 -> Group 1 | J19: =A15 -> Group 2 | K19: =A16 -> Group 3 | L19: =A17 -> Group 4 | M19: =A18 -> Group 5
A20: Table 1 - ACE1 - Hard to cover basics on family's income | H20: Child has EVER had this adverse childhood experience
A21: Response | B21: =A14 -> Group 1 | C21: =A15 -> Group 2 | D21: =A16 -> Group 3 | E21: =A17 -> Group 4 | F21: =A18 -> Group 5 | H21: Child has NEVER had this adverse childhood experience
A22: Never hard to get by on a family income
A23: Rarely hard to get by on family income | H23: Table 10 - Total ACEs experienced from the list of 9 ACEs
A24: Somewhat often hard to get by on family income | H24: ACEs numerical category | I24: Percentage of children that experienced 1+ ACEs
A25: Very often hard to get by on family income | H25: =A14 -> Group 1
H26: =A15 -> Group 2
A27: Table 2 - ACE3 - Parent or guardian divorced or separated | H27: =A16 -> Group 3
A28: Response | B28: =A14 -> Group 1 | C28: =A15 -> Group 2 | D28: =A16 -> Group 3 | E28: =A17 -> Group 4 | F28: =A18 -> Group 5 | H28: =A17 -> Group 4
A29: Child has EVER had this adverse childhood experience | H29: =A18 -> Group 5
A30: Child has NEVER had this adverse childhood experience
A32: Table 3 - ACE4 - Parent or guardian died
A33: Response | B33: =A14 -> Group 1 | C33: =A15 -> Group 2 | D33: =A16 -> Group 3 | E33: =A17 -> Group 4 | F33: =A18 -> Group 5
A34: Child has EVER had this adverse childhood experience
A35: Child has NEVER had this adverse childhood experience
A37: Table 4 - ACE5 - Parent or guardian served time in jail
A38: Response | B38: =A14 -> Group 1 | C38: =A15 -> Group 2 | D38: =A16 -> Group 3 | E38: =A17 -> Group 4 | F38: =A18 -> Group 5
A39: Child has EVER had this adverse childhood experience
A40: Child has NEVER had this adverse childhood experience
A42: Table 5 - ACE6 - Saw or heard parents or adults slap, hit, kick punch one another in the home
A43: Response | B43: =A14 -> Group 1 | C43: =A15 -> Group 2 | D43: =A16 -> Group 3 | E43: =A17 -> Group 4 | F43: =A18 -> Group 5
A44: Child has EVER had this adverse childhood experience
A45: Child has NEVER had this adverse childhood experience

Sheet E_Figure 4_Individual
A1: Individual Indicators - Figure 4 - Percentage of Positive Childhood Experiences, <Data Year>
K3: Table 1 Indicator 7.1 | L3: Percentage of responses | N3: Table 7 | O3: Responses used for column P | P3: Percentage of Positive Childhood Experiences for Figure 4
K4: Yes | N4: Supportive neighborhood | O4: Yes | P4: =L4 -> 0
K5: No | N5: Neighborhood safety | O5: Definitely agree; somewhat agree | P5: =SUM(L8:L9) -> 0
N6: Safe at school (ages 6-17) | O6: Definitely agree; somewhat agree | P6: =SUM(L13:L14) -> 0
K7: Table 2 Indicator 7.2 | L7: Percentage of responses | N7: Does not experience bullying (ages 6-17) | O7: Never in the past 12 months | P7: =L18 -> 0
K8: Definitely agree | N8: Making/keeping friends (ages 6-17) | O8: No difficulty | P8: =L25 -> 0
K9: Somewhat agree | N9: Family resilience | O9: All or most of the time to 2-23 items; all or most of the time to all 4 items | P9: =SUM(L31:L32) -> 0
K10: Somewhat or definitely disagree
K12: Table 3 Indicator 7.3 | L12: Percentage of responses
K13: Definitely agree
K14: Somewhat agree
K15: Somewhat or definitely disagree
K17: Table 4 Indicator 2.2 | L17: Percentage of responses
K18: Never (in the past 12 months)
K19: 1-2 times (in the past 12 months)
K20: 1-2 times per month
K21: 1-2 times per week
K22: Almost every day
K24: Table 5 Indicator 2.6 | L24: Percentage of responses
K25: No difficulty
K26: A little difficulty
K27: A lot of difficulty
K29: Table 6 Indicator 6.12 | L29: Percentage of responses
K30: A lot or most of the time to 0-1 items
K31: All or most of the time to 2-3 items
K32: All or most of the time to all 4 items
K34: Table 7 Indicator 6.12 - Item A | L34: Percentage of responses
K35: All of the time
K36: Most of the time
K37: Some or none of the time
K39: Table 8 Indicator 6.12 - Item B | L39: Percentage of responses
K40: All of the time
K41: Most of the time
K42: Some or none of the time
K44: Table 9 Indicator 6.12 - Item C | L44: Percentage of responses
K45: All of the time
K46: Most of the time
K47: Some or none of the time
K49: Table 10 Indicator 6.12 - Item D | L49: Percentage of responses
K50: All of the time
K51: Most of the time
K52: Some or none of the time

Sheet F_Figure 4_Aggregate
A1: Aggregate Indicators - Figure 4 - Percentage of Positive Childhood Experiences, <Data Year>
K3: Table 1 Indicator 7.1 | L3: Percentage of responses | N3: Table 11 Experience | O3: Percentage (calculation to be determined)
K4: Yes | N4: Community Support
K5: No | N5: School Safety and Support (ages 6-17)
N6: Family Resilience
K8: Table 2 Indicator 7.2 | L8: Percentage of responses
K9: Definitely agree
K10: Somewhat agree
K11: Somewhat or definitely disagree
K13: Table 3 Indicator 7.3 | L13: Percentage of responses
K14: Definitely agree
K15: Somewhat agree
K16: Somewhat or definitely disagree
K18: Table 4 Indicator 2.2 | L18: Percentage of responses
K19: Never (in the past 12 months)
K20: 1-2 times (in the past 12 months)
K21: 1-2 times per month
K22: 1-2 times per week
K23: Almost every day
K25: Table 5 Indicator 2.6 | L25: Percentage of responses
K26: No difficulty
K27: A little difficulty
K28: A lot of difficulty
K30: Table 6 Indicator 6.12 | L30: Percentage of responses
K31: A lot or most of the time to 0-1 items
K32: All or most of the time to 2-3 items
K33: All or most of the time to all 4 items
K35: Table 7 Indicator 6.12 - Item A | L35: Percentage of responses
K36: All of the time
K37: Most of the time
K38: Some or none of the time
K40: Table 8 Indicator 6.12 - Item B | L40: Percentage of responses
K41: All of the time
K42: Most of the time
K43: Some or none of the time
K45: Table 9 Indicator 6.12 - Item C | L45: Percentage of responses
K46: All of the time
K47: Most of the time
K48: Some or none of the time
K50: Table 10 Indicator 6.12 - Item D | L50: Percentage of responses
K51: All of the time
K52: Most of the time
K53: Some or none of the time

Sheet G_Report
A1: Note - The Report tab will be updated with the finalized ACEs SER PDF
R14: Figure 2 summary table
R15: Type of ACE | S15: Counts | T15: Percentage of children | U15: Rank
R16: ACE 1 | S16: =SUM(M23:M24) -> 0 | U16: =RANK(T16,T$23:T$31)+COUNTIF($I16:T$23,T16)-1 -> #N/A
R17: ACE 3 | S17: =M28 -> 0 | U17: =RANK(T17,T$23:T$31)+COUNTIF($I17:T$23,T17)-1 -> #N/A
R18: ACE 4 | S18: =M33 -> 0 | U18: =RANK(T18,T$23:T$31)+COUNTIF($I18:T$23,T18)-1 -> #N/A
R19: ACE 5 | S19: =M38 -> 0 | U19: =RANK(T19,T$23:T$31)+COUNTIF($I19:T$23,T19)-1 -> #N/A
R20: ACE 6 | S20: =M43 -> 0 | U20: =RANK(T20,T$23:T$31)+COUNTIF($I20:T$23,T20)-1 -> #N/A
R21: ACE 7 | S21: =P16 -> 0 | U21: =RANK(T21,T$23:T$31)+COUNTIF($I21:T$23,T21)-1 -> #N/A
R22: ACE 8 | S22: =P21 -> 0 | U22: =RANK(T22,T$23:T$31)+COUNTIF($I22:T$23,T22)-1 -> #N/A
R23: ACE 9 | S23: =P26 -> 0 | U23: =RANK(T23,T$23:T$31)+COUNTIF($I$23:T23,T23)-1 -> #N/A
R24: ACE 10 | S24: =P31 -> 0 | U24: =RANK(T24,T$23:T$31)+COUNTIF($I$23:T24,T24)-1 -> #N/A
