Workbook

Sheet A_Instructions
A2: Step 1: Preparing State/Territory Data | E2: Step 2: Entering Data | M2: Step 3: Creating Special Emphasis Report
A3: Instructions: Use indicators below from the National Survey of Children’s Health (NSCH) to complete the ACEs SER PDF Form. Note that the NSCH does not include all potential ACEs. ACEs that can be reported by parents/caregivers are included but questions about abuse and neglect experienced by the child are not.
A4: NSCH Codebooks can be accessed here
A5: NSCH Datasets can be accessed here
A6: 2019 NSCH Child and Family Measures can be accessed here
A7: Interactive NSCH Data Query

Sheet B_Figure 1
A1: Figure 1 - Percentage of ACEs <Data Year>
A17: Table 1 - Enter the numerical categories of ACEs you will use in Figure 1 (e.g., 0, 1, 2+) | D17: Table 7 - Saw or heard parents or adults slap, hit, kick punch one another in the home (variable: ACE6) | G17: Table 12 - Total ACEs experienced from the list of 9 ACEs
A18: Category 1 | D18: Response | E18: Percentage | G18: ACEs numerical category | H18: Percentage of children (Please include % symbol)
A19: Category 2 | D19: Child has EVER had this adverse childhood experience | G19: =B18 -> 0
A20: Category 3 | D20: Child has NEVER had this adverse childhood experience | G20: =B19 -> 0
G21: =B20 -> 0
A22: Table 2 - National-level percentage of children who experienced ACEs (Note: this table is included in case you would like to compare national data. Enter the numerical categories of ACEs you will use) | B22: Percentage | D22: Table 8 - Was a victim of violence or witnessed violence in neighborhood (variable: ACE7)
A23: Category 1 | D23: Response | E23: Percentage
A24: Category 2 | D24: Child has EVER had this adverse childhood experience
D25: Child has NEVER had this adverse childhood experience
A26: Table 3 - Hard to cover basics on family's income (variable: ACE1)
A27: Response | B27: Percentage | D27: Table 9 - Lived with anyone who was mentally ill, suicidal, or severely depressed (variable: ACE8)
A28: Never hard to get by on a family income | D28: Response | E28: Percentage
A29: Rarely hard to get by on family income | D29: Child has EVER had this adverse childhood experience
A30: Somewhat often hard to get by on family income | D30: Child has NEVER had this adverse childhood experience
A31: Very often hard to get by on family income
D32: Table 10 - Lived with anyone who had a problem with alcohol or drugs (variable: ACE9)
A33: Table 4 - Parent or guardian divorced or separated (variable: ACE3) | D33: Response | E33: Percentage
A34: Response | B34: Percentage | D34: Child has EVER had this adverse childhood experience
A35: Child has EVER had this adverse childhood experience | D35: Child has NEVER had this adverse childhood experience
A36: Child has NEVER had this adverse childhood experience
A38: Table 5 - Parent or guardian died (variable: ACE4) | D38: Table 11 - ACE10 - Treated or judged unfairly due to race/ethnicity
A39: Response | B39: Percentage | D39: Response | E39: Percentage
A40: Child has EVER had this adverse childhood experience | D40: Child has EVER had this adverse childhood experience
A41: Child has NEVER had this adverse childhood experience | D41: Child has NEVER had this adverse childhood experience
A43: Table 6 - Parent or guardian served time in jail (variable: ACE5)
A44: Response | B44: Percentage
A45: Child has EVER had this adverse childhood experience
A46: Child has NEVER had this adverse childhood experience

Sheet C_Figure 2
A1: Figure 2 - Top 5 Types of ACEs Experienced, <Data Year>
A17: Table 1 - Hard to cover basics on family's income (variable: ACE1) | D17: Table 6 - Was a victim of violence or witnessed violence in neighborhood (variable: ACE7) | G17: Table 10 - Total ACEs experienced from the list of 9 ACEs
A18: Response | B18: Percentage | D18: Response | E18: Percentage | G18: ACE | H18: Type of ACE | I18: ACE Description | J18: Percentage of ACE type | K18: Rank
A19: Never hard to get by on a family income | B19: ='B_Figure 1'!B28 -> 0 | D19: Child has EVER had this adverse childhood experience | E19: ='B_Figure 1'!E24 -> 0 | G19: ACE1 | H19: Financial Troubles | I19: Hard to cover the basics, like food or housing, on family's income | J19: =SUM(B21:B22) -> 0 | K19: =RANK(J19,J$19:J$27)+COUNTIF($J$19:J19,J19)-1 -> 1
A20: Rarely hard to get by on family income | B20: ='B_Figure 1'!B29 -> 0 | D20: Child has NEVER had this adverse childhood experience | E20: ='B_Figure 1'!E25 -> 0 | G20: ACE3 | H20: Divorce | I20: Parent or guardian divorced or separated | J20: =B26 -> 0 | K20: =RANK(J20,J$19:J$27)+COUNTIF($J$19:J20,J20)-1 -> 2
A21: Somewhat often hard to get by on family income | B21: ='B_Figure 1'!B30 -> 0 | G21: ACE4 | H21: Death | I21: Parent or guardian died | J21: =B31 -> 0 | K21: =RANK(J21,J$19:J$27)+COUNTIF($J$19:J21,J21)-1 -> 3
A22: Very often hard to get by on family income | B22: ='B_Figure 1'!B31 -> 0 | D22: Table 7 - Lived with anyone who was mentally ill, suicidal, or severely depressed (variable: ACE8) | G22: ACE5 | H22: Jail | I22: Parent or guardian served time in jail | J22: =B36 -> 0 | K22: =RANK(J22,J$19:J$27)+COUNTIF($J$19:J22,J22)-1 -> 4
D23: Response | E23: Percentage | G23: ACE6 | H23: Domestic Violence | I23: Witnessed domestic violence | J23: =B41 -> 0 | K23: =RANK(J23,J$19:J$27)+COUNTIF($J$19:J23,J23)-1 -> 5
A24: Table 2 - Parent or guardian divorced or separated (variable: ACE3) | D24: Child has EVER had this adverse childhood experience | E24: ='B_Figure 1'!E29 -> 0 | G24: ACE7 | H24: Neighborhood Violence | I24: Victim or witness of neighborhood violence | J24: =E19 -> 0 | K24: =RANK(J24,J$19:J$27)+COUNTIF($J$19:J24,J24)-1 -> 6
A25: Response | B25: Percentage | D25: Child has NEVER had this adverse childhood experience | E25: ='B_Figure 1'!E30 -> 0 | G25: ACE8 | H25: Mental Illness | I25: Lived with anyone who was mentally ill, suicidal, or severely depressed | J25: =E24 -> 0 | K25: =RANK(J25,J$19:J$27)+COUNTIF($J$19:J25,J25)-1 -> 7
A26: Child has EVER had this adverse childhood experience | B26: ='B_Figure 1'!B35 -> 0 | G26: ACE9 | H26: Substance Abuse | I26: Lived with anyone who had a problem with alcohol or drugs | J26: =E29 -> 0 | K26: =RANK(J26,J$19:J$27)+COUNTIF($J$19:J26,J26)-1 -> 8
A27: Child has NEVER had this adverse childhood experience | B27: ='B_Figure 1'!B36 -> 0 | D27: Table 8 - Lived with anyone who had a problem with alcohol or drugs (variable: ACE9) | G27: ACE10 | H27: Discrimination | I27: Treated or judged unfairly because of his/her race or ethnic group | J27: =E34 -> 0 | K27: =RANK(J27,J$19:J$27)+COUNTIF($J$19:J27,J27)-1 -> 9
D28: Response | E28: Percentage
A29: Table 3 - Parent or guardian died (variable: ACE4) | D29: Child has EVER had this adverse childhood experience | E29: ='B_Figure 1'!E34 -> 0
A30: Response | B30: Percentage | D30: Child has NEVER had this adverse childhood experience | E30: ='B_Figure 1'!E35 -> 0
A31: Child has EVER had this adverse childhood experience | B31: ='B_Figure 1'!B40 -> 0
A32: Child has NEVER had this adverse childhood experience | B32: ='B_Figure 1'!B41 -> 0 | D32: Table 9 - Treated or judged unfairly due to race/ethnicity (variable: ACE10)
D33: Response | E33: Percentage
A34: Table 4 - Parent or guardian served time in jail (variable: ACE5) | D34: Child has EVER had this adverse childhood experience | E34: ='B_Figure 1'!E40 -> 0
A35: Response | B35: Percentage | D35: Child has NEVER had this adverse childhood experience | E35: ='B_Figure 1'!E41 -> 0
A36: Child has EVER had this adverse childhood experience | B36: ='B_Figure 1'!B45 -> 0
A37: Child has NEVER had this adverse childhood experience | B37: ='B_Figure 1'!B46 -> 0
A39: Table 5 - Saw or heard parents or adults slap, hit, kick punch one another in the home (variable: ACE6)
A40: Response | B40: Percentage
A41: Child has EVER had this adverse childhood experience | B41: ='B_Figure 1'!E19 -> 0
A42: Child has NEVER had this adverse childhood experience | B42: ='B_Figure 1'!E20 -> 0

Sheet D_Figure 3
A1: Figure 3 - Percentage of <X> ACE(s) by Population Characteristics, <Data Year>
H3: Table 6 - Was a victim of violence or witnessed violence in neighborhood (variable: ACE7)
H4: Response | I4: =A14 -> Group 1 | J4: =A15 -> Group 2 | K4: =A16 -> Group 3 | L4: =A17 -> Group 4 | M4: =A18 -> Group 5
H5: Child has EVER had this adverse childhood experience
H6: Child has NEVER had this adverse childhood experience
H8: Table 7 - Lived with anyone who was mentally ill, suicidal, or severely depressed (variable: ACE8)
H9: Response | I9: =A14 -> Group 1 | J9: =A15 -> Group 2 | K9: =A16 -> Group 3 | L9: =A17 -> Group 4 | M9: =A18 -> Group 5
H10: Child has EVER had this adverse childhood experience
H11: Child has NEVER had this adverse childhood experience
A13: Enter group names that will be used for Figure 3 below: | H13: Table 8 - Lived with anyone who had a problem with alcohol or drugs (variable: ACE9)
A14: Group 1 | H14: Response | I14: =A14 -> Group 1 | J14: =A15 -> Group 2 | K14: =A16 -> Group 3 | L14: =A17 -> Group 4 | M14: =A18 -> Group 5
A15: Group 2 | H15: Child has EVER had this adverse childhood experience
A16: Group 3 | H16: Child has NEVER had this adverse childhood experience
A17: Group 4
A18: Group 5 | H18: Table 9 - Treated or judged unfairly due to race/ethnicity (variable: ACE10)
H19: Response | I19: =A14 -> Group 1 | J19: =A15 -> Group 2 | K19: =A16 -> Group 3 | L19: =A17 -> Group 4 | M19: =A18 -> Group 5
A20: Table 1 - Hard to cover basics on family's income (variable: ACE1) | H20: Child has EVER had this adverse childhood experience
A21: Response | B21: =A14 -> Group 1 | C21: =A15 -> Group 2 | D21: =A16 -> Group 3 | E21: =A17 -> Group 4 | F21: =A18 -> Group 5 | H21: Child has NEVER had this adverse childhood experience
A22: Never hard to get by on a family income
A23: Rarely hard to get by on family income | H23: Table 10 - Total ACEs experienced from the list of 9 ACEs
A24: Somewhat often hard to get by on family income | H24: ACEs numerical category | I24: Percentage of children that experienced X ACEs
A25: Very often hard to get by on family income | H25: =A14 -> Group 1
H26: =A15 -> Group 2
A27: Table 2 - Parent or guardian divorced or separated (variable: ACE3) | H27: =A16 -> Group 3
A28: Response | B28: =A14 -> Group 1 | C28: =A15 -> Group 2 | D28: =A16 -> Group 3 | E28: =A17 -> Group 4 | F28: =A18 -> Group 5 | H28: =A17 -> Group 4
A29: Child has EVER had this adverse childhood experience | H29: =A18 -> Group 5
A30: Child has NEVER had this adverse childhood experience
A32: Table 3 - Parent or guardian died (variable: ACE4)
A33: Response | B33: =A14 -> Group 1 | C33: =A15 -> Group 2 | D33: =A16 -> Group 3 | E33: =A17 -> Group 4 | F33: =A18 -> Group 5
A34: Child has EVER had this adverse childhood experience
A35: Child has NEVER had this adverse childhood experience
A37: Table 4 - Parent or guardian served time in jail (variable: ACE5)
A38: Response | B38: =A14 -> Group 1 | C38: =A15 -> Group 2 | D38: =A16 -> Group 3 | E38: =A17 -> Group 4 | F38: =A18 -> Group 5
A39: Child has EVER had this adverse childhood experience
A40: Child has NEVER had this adverse childhood experience
A42: Table 5 - Saw or heard parents or adults slap, hit, kick punch one another in the home (variable: ACE6)
A43: Response | B43: =A14 -> Group 1 | C43: =A15 -> Group 2 | D43: =A16 -> Group 3 | E43: =A17 -> Group 4 | F43: =A18 -> Group 5
A44: Child has EVER had this adverse childhood experience
A45: Child has NEVER had this adverse childhood experience

Sheet E_Updated Figure 4
A1: Figure 4 - Percentage of Positive Childhood Experiences, <Data Year>
A24: Table 1a - People in this neighborhood help each other out (variable: K10Q30) | B24: Percentage of responses (please include the % symbol below with your value) | D24: Table 4 - Indicator 7.3 (variable: K10Q41_R) | E24: Percentage of responses (please include the % symbol below with your value) | G24: Table 8a - Talk together about family problems (variable: TALKABOUT) | H24: Percentage of responses (please include the % symbol below with your value) | J24: Table 9 - Alternative Figure 4 (enter Indicator ID below) | K24: Percentage
A25: Definitely agree | D25: Definitely agree | G25: All of the time | J25: Indicator/Index A
A26: Somewhat agree | D26: Somewhat agree | G26: Most of the time | J26: Indicator/Index B
A27: Somewhat disagree | D27: Somewhat or definitely disagree | G27: Some or none of the time | J27: Indicator/Index C
A28: Definitely disagree | J28: Indicator/Index D
D29: Table 5 - Indicator 2.2 (variable: bulllied_R) | E29: Percentage of responses (please include the % symbol below with your value) | G29: Table 8b - Work together to solve family problems (variable: WKTOSOLVE) | H29: Percentage of responses (please include the % symbol below with your value) | J29: Indicator/Index E
A30: Table 1b - We watch out for each other's children in this neighborhood (variable: K10Q31) | B30: Percentage of responses (please include the % symbol below with your value) | D30: Never (in the past 12 months) | G30: All of the time | J30: Indicator/Index F
A31: Definitely agree | D31: 1-2 times (in the past 12 months) | G31: Most of the time
A32: Somewhat agree | D32: 1-2 times per month | G32: Some or none of the time
A33: Somewhat disagree | D33: 1-2 times per week
A34: Definitely disagree | D34: Almost every day | G34: Table 8c - Strengths to draw on for family problems (variable: STRENGTHS) | H34: Percentage of responses (please include the % symbol below with your value)
G35: All of the time
A36: Table 1c - When we encounter difficulties, we know where to go for help in our community (variable: GOFORHELP) | B36: Percentage of responses (please include the % symbol below with your value) | D36: Table 6 - Indicator 2.6 (variable: makefriend) | E36: Percentage of responses (please include the % symbol below with your value) | G36: Most of the time
A37: Definitely agree | D37: No difficulty | G37: Some or none of the time
A38: Somewhat agree | D38: A little difficulty
A39: Somewhat disagree | D39: A lot of difficulty | G39: Table 8d - Stay hopeful when family faces problems (variable: HOPEFUL) | H39: Percentage of responses (please include the % symbol below with your value)
A40: Definitely disagree | G40: All of the time
D41: Table 7 - School Safety & Support (Indicators 7.3, 2.2, and 2.6 Aggregated) | E41: Percentage of responses (please include the % symbol below with your value) | G41: Most of the time
A42: Table 1d - Indicator 7.1 (this indicator is comprised of multiple items in Tables 1a - 1c) | B42: Percentage of responses (please include the % symbol below with your value) | D42: Child is safe and supported at school | G42: Some or none of the time
A43: Child LIVES in a supportive neighborhood | D43: Child is NOT safe and supported at school
A44: Child DOES NOT LIVE in a supportive neighborhood | G44: Table 8e - Indicator 6.12* (this indicator is comprised of multiple items in tables 8a - 8d) | H44: Percentage of responses (please include the % symbol below with your value)
G45: All or most of the time to 0-1 items
A46: Table 2 - Indicator 7.2 (variable: K10Q40_R) | B46: Percentage of responses (please include the % symbol below with your value) | G46: All or most of the time to 2-3 items
A47: Definitely agree | G47: All or most of the time to all 4 items
A48: Somewhat agree
A49: Somewhat or definitely disagree | G49: Table 8f - Family Resilience (Indicator 6.12 Aggregated) | H49: Percentage of responses (please include the % symbol below with your value)
G50: Child has family resilience
A51: Table 3 - Neighborhood Support (Indicators 7.1 and 7.2 Aggregated) | B51: Percentage of responses (please include the % symbol below with your value) | G51: Child does NOT have family resilience
A52: Child LIVES in a supportive neighborhood
A53: Child DOES NOT LIVE in a supportive neighborhood
G59: Figure 4 - Individual Indicators | H59: Percentage of Positive Childhood Experiences | I59: Threshold
G60: Neighborhood Support | H60: =B43 -> 0 | I60: Table 1d - Child LIVES in a supportive neighborhood
A61: Figure 4 - Aggregated Option | B61: Percentage of Positive Childhood Experiences | G61: Neighborhood Safety | H61: =SUM(B47:B48) -> 0 | I61: Table 2 - Definitely agree and somewhat agree
A62: Neighborhood Support | B62: =B52 -> 0 | G62: Safe at school (ages 6-17) | H62: =SUM(E25:E26) -> 0 | I62: Table 4 - Definitely agree and somewhat agree
A63: School Safety and Support (ages 6-17) | B63: =E42 -> 0 | G63: Does not experience bullying (ages 6-17) | H63: =E30 -> 0 | I63: Table 5 - Never (in the past 12 months)
A64: Family Resilience | B64: =H50 -> 0 | G64: No difficulty making/keeping friends (ages 6-17) | H64: =SUM(E37:E38) -> 0 | I64: Table 6 - No difficulty and a little difficulty
G65: Family Resilience | H65: =SUM(H46:H47) -> 0 | I65: Table 8e - All or most of the time to 2-3 items and all or most of the time to all 4 items

Sheet F_Report
A1: Note - The Report tab will be updated with the finalized ACEs SER PDF
R14: Figure 2 summary table
R15: Type of ACE | S15: Counts | T15: Percentage of children | U15: Rank
R16: ='C_Figure 2'!H19 -> Financial Troubles | S16: =SUM(M23:M24) -> 0 | T16: ='C_Figure 2'!J19 -> 0 | U16: ='C_Figure 2'!K19 -> 1
R17: ='C_Figure 2'!H20 -> Divorce | S17: =M28 -> 0 | T17: ='C_Figure 2'!J20 -> 0 | U17: ='C_Figure 2'!K20 -> 2
R18: ='C_Figure 2'!H21 -> Death | S18: =M33 -> 0 | T18: ='C_Figure 2'!J21 -> 0 | U18: ='C_Figure 2'!K21 -> 3
R19: ='C_Figure 2'!H22 -> Jail | S19: =M38 -> 0 | T19: ='C_Figure 2'!J22 -> 0 | U19: ='C_Figure 2'!K22 -> 4
R20: ='C_Figure 2'!H23 -> Domestic Violence | S20: =M43 -> 0 | T20: ='C_Figure 2'!J23 -> 0 | U20: ='C_Figure 2'!K23 -> 5
R21: ='C_Figure 2'!H24 -> Neighborhood Violence | S21: =P16 -> 0 | T21: ='C_Figure 2'!J24 -> 0 | U21: ='C_Figure 2'!K24 -> 6
R22: ='C_Figure 2'!H25 -> Mental Illness | S22: =P21 -> 0 | T22: ='C_Figure 2'!J25 -> 0 | U22: ='C_Figure 2'!K25 -> 7
R23: ='C_Figure 2'!H26 -> Substance Abuse | S23: =P26 -> 0 | T23: ='C_Figure 2'!J26 -> 0 | U23: ='C_Figure 2'!K26 -> 8
R24: ='C_Figure 2'!H27 -> Discrimination | S24: =P31 -> 0 | T24: ='C_Figure 2'!J27 -> 0 | U24: ='C_Figure 2'!K27 -> 9
