Workbook

Sheet A_Instructions
A1: Note to SER group - Please disregard this tab. It is still in development and will be prepared once the SER form is finalized.
A2: For SER group discussion - which ICD-10-CM codes to use for data in this Excel
A7: Step 1: Preparing State/Territory Data | F7: Step 2: Entering Data | T7: Step 3: Creating Special Emphasis Report
A8: Name | B8: ICD-10-CM/ICD-10 code | C8: ICD-10-CM/ICD-10 notes
A9: 1a. Create nonfatal unintentional child injury-specific hospitalizations data set
A11: Nonfatal injury hospitalization subset
A30: Nonfatal unintentional fall-related hospitalization | B30: V00.1-V00.8 | C30: with 6th character=1
B31: W00-W15, W17, W19
B32: W16 | C32: with 6th character=2, W16.42, W16.92
B33: W18.1-W18.3
A34: Nonfatal Firearm-related hospitalization | B34: W32, W33, W34.00, W34.09, W34.10, W34.19
B35: X72, X73, X74.8, X74.9
B36: X93, X94, X95.8, X95.9
B37: Y38.4
B38: Y22, Y23, Y24.8, Y24.9
B39: Y35.00-Y35.03, Y35.09
A40: Nonfatal Assault-related hospitalization | B40: X92-Y09
B41: T36-T50 | C41: T36-T50 with 6th character=3 Note: Include T36.9, T37.9, T39.9, T41.4, T42.7, T43.9, T45.9, T47.9, and T49.9 with 5th character=3 (Intent information for these codes is included in the 5th character and not the 6th)
B42: T51-T65 | C42: T51-T65 with 6th character=3 Note: Include T51.9, T52.9, T53.9, T54.9, T56.9, T57.9, T58.0, T58.1, T58.9, T59.9, T60.9, T61.0, T61.1, T61.9, T62.9, T63.9, T64.0, T64.8, and T65.9 with a 5th character = 3 (Intent information for these codes is included in the 5th character and not the 6th)
B43: T71 | C43: with 6th character = 3
B44: T74
B45: T76
B46: Y38
A47: Nonfatal Unintentional struck by/against hospitalization | B47: V00.0
B48: V00.1–V00.8 | C48: with 6th character = 2
B49: W18.0, W20, W21
B50: W22.01–W22.03, W22.042, W22.09, W22.1, W22.8
B51: W50–W52
A52: Nonfatal Motor vehicle traffic hospitalization | B52: V02-V04 (.1, .9), V09.2, V09.3
B53: V12-V14 (.3-.9), V19.4-V19.6, V19.9
B54: V20-V28 (.3-.9), V29.4-V29.9
B55: V30-V79 (.4-.9), V83-V86 (.0-.3), V87.0-V87.8, V89.2
B56: V80.3-V80.5, V81.1, V82.1
A57: 2a. Create nonfatal unintentional child injury-specific emergency department (ED) visit data set - These indicators should be calculated based on first creating an injury emergency department visit subset. This is done using the ICD-10-CM codes below: For ED visits, one of these codes should be in any field for the case to be in the injury subset. *Only include cases if the 7th character of the code is A, B, C, or missing (reflects initial encounter, active treatment). T30-T32 do not have a 7th character.
A58: Nonfatal Injury ED visit | B58: S00-S99
B59: T07-T34
B60: T36-T50 | C60: T36-T50 with a 6th character of 1, 2, 3, or 4 Note: Include T36.9, T37.9, T39.9, T41.4, T42.7, T43.9, T45.9, T47.9, and T49.9 with 5th character of 1, 2, 3, or 4 (Intent information for these codes is included in the 5th character and not the 6th)
B61: T51-T65
B62: T66-T76
B63: T79
B64: O9A.2-O9A.5
B65: T84.04 | C65: T84.04 was retired and replaced by M97 in the FY2017 version of ICD-10-CM which went into effect on Oct 1, 2016.
B66: M97
B67: V00-V99
B68: W00-X58
B69: X71-X83
B70: X92-Y09
B71: Y21-Y33
B72: Y35-Y38
A73: Nonfatal Unintentional fall ED visit | B73: V00.11-V00.89 | C73: with 6th character=1
B74: W00-W15, W17, W19
B75: W16 | C75: with 6th character=2, W16.42, W16.92
B76: W18.1, W18.2, W18.3
A77: Nonfatal Firearm-related ED visit | B77: W32.0, W32.1, W33.0, W33.1, W34.00, W34.09, W34.10, W34.19
B78: X72, X73, X74.8, X74.9
B79: X93, X94, X95.8, X95.9
B80: Y38.4
B81: Y22, Y23, Y24.8, Y24.9
B82: Y35.00-Y35.03, Y35.09
A83: Nonfatal Assault-related ED visit | B83: X92-Y09
B84: T36-T50 | C84: with 6th character=3 Note: Include T36.9, T37.9, T39.9, T41.4, T42.7, T43.9, T45.9, T47.9, and T49.9 with 5th character=3)(Intent information for these codes is included in the 5thcharacter and not the 6th
B85: T51-T65 | C85: with 6th character=3 Note: Include T51.9, T52.9, T53.9, T54.9, T56.9, T57.9, T58.0, T58.1, T58.9, T59.9, T60.9, T61.0, T61.1, T61.9, T62.9, T63.9, T64.0, T64.8, and T65.9 with a 5th character = 3 (Intent information for these codes is included in the 5thcharacter and not the 6th)
B86: T71 | C86: with 6th character = 3
B87: T74
B88: T76
B89: Y38
A90: Nonfatal Unintentional struck by/against ED visit | B90: V00.0
B91: V00.1–V00.8 | C91: with 6th character = 2
B92: W18.0, W20, W21
B93: W22.01–W22.03, W22.042, W22.09, W22.1, W22.8
B94: W50–W52
A95: Nonfatal Motor vehicle traffic ED visit | B95: V02-V04 (.1, .9), V09.2, V09.3
B96: V12-V14 (.3-.9), V19.4-V19.6, V19.9
B97: V20-V28 (.3-.9), V29.4-V29.9
B98: V30-V79 (.4-.9), V83-V86 (.0-.3), V87.0-V87.8, V89.2
B99: V80.3-V80.5, V81.1, V82.1
A100: 3a. Create unintentional child injury-specific deaths data set
A101: Injury underlying cause of death | B101: V01-Y36
B102: Y85-Y87
B103: Y89
B104: U01-U03
A105: Unintentional fall-related fatalities | B105: W00-W19
A106: Firearm-related fatalities | B106: W32-W34
B107: X72-X74
B108: X93-X95
B109: Y22-Y24
B110: Y35.0
B111: U01.4
A112: Homicides | B112: X85-Y09
B113: Y87.1
B114: U01
B115: U02
A116: Motor vehicle traffic fatalities | B116: V02-V04 (.1, .9)
B117: V09.2
B118: V12-V14(.3-.9)
B119: V19(.4-.6)
B120: V20-V28(.3-.9)
B121: V29-V79(.4-.9)
B122: V80(.3-.5)
B123: V81.1
...

Sheet  B_Populations
A1: State/Territor Population Data
A2: State/Territory: | D2: Year 1
B3: Enter your state name in A4 | E3: Enter the data year in D4
B7: Enter total population data by age group below | D7: Enter male population data by age group below | F7: Enter female population data by age group below | H7: Enter demographic population data | J7: Enter demographic population data | L7: Enter demographic population data | N7: Enter demographic population data | P7: Enter demographic population data | R7: Enter demographic population data | T7: Enter demographic population data
A8: Age | B8: Total | D8: Male | F8: Female | H8: White-Not Hispanic | J8: Hispanic | L8: Black-Not Hispanic | N8: Asian | P8: American Indian/Alaska Native | R8: Other | S8: Enter name of "Other" category in R8 | T8: Other | U8: Enter name of "Other" category in T8
A9: <1
A10: 1-4
A11: 5-9
A12: 10-14
A13: 15-17
A14: TOTAL | B14: =SUM(B9:B13) -> 0 | D14: =SUM(D9:D13) -> 0 | F14: =SUM(F9:F13) -> 0 | H14: =SUM(H9:H13) -> 0 | J14: =SUM(J9:J13) -> 0 | L14: =SUM(L9:L13) -> 0 | N14: =SUM(N9:N13) -> 0 | P14: =SUM(P9:P13) -> 0 | R14: =SUM(R9:R13) -> 0 | T14: =SUM(T9:T13) -> 0
D16: Year 2
E17: Enter the data year in D4
B20: Enter total population data by age group below | D20: Enter male population data by age group below | F20: Enter female population data by age group below | H20: Enter demographic population data | J20: Enter demographic population data | L20: Enter demographic population data | N20: Enter demographic population data | P20: Enter demographic population data | R20: Enter demographic population data | T20: Enter demographic population data
A21: Age | B21: Total | D21: Male | F21: Female | H21: =H8 -> White-Not Hispanic | J21: =J8 -> Hispanic | L21: =L8 -> Black-Not Hispanic | N21: =N8 -> Asian | P21: =P8 -> American Indian/Alaska Native | R21: =R8 -> Other | T21: =T8 -> Other
A22: <1
A23: 1-4
A24: 5-9
A25: 10-14
A26: 15-17
A27: TOTAL | B27: =SUM(B22:B26) -> 0 | D27: =SUM(D22:D26) -> 0 | F27: =SUM(F22:F26) -> 0 | H27: =SUM(H22:H26) -> 0 | J27: =SUM(J22:J26) -> 0 | L27: =SUM(L22:L26) -> 0 | N27: =SUM(N22:N26) -> 0 | P27: =SUM(P22:P26) -> 0 | R27: =SUM(R22:R26) -> 0 | T27: =SUM(T22:T26) -> 0
D29: Year 3
E30: Enter the data year in D4
B33: Enter total population data by age group below | D33: Enter male population data by age group below | F33: Enter female population data by age group below | H33: Enter demographic population data | J33: Enter demographic population data | L33: Enter demographic population data | N33: Enter demographic population data | P33: Enter demographic population data | R33: Enter demographic population data | T33: Enter demographic population data
A34: Age | B34: Total | D34: Male | F34: Female | H34: =H8 -> White-Not Hispanic | J34: =J8 -> Hispanic | L34: =L8 -> Black-Not Hispanic | N34: =N8 -> Asian | P34: =P8 -> American Indian/Alaska Native | R34: =R8 -> Other | T34: =T8 -> Other
A35: <1
A36: 1-4
A37: 5-9
A38: 10-14
A39: 15-17
A40: TOTAL | B40: =SUM(B35:B39) -> 0 | D40: =SUM(D35:D39) -> 0 | F40: =SUM(F35:F39) -> 0 | H40: =SUM(H35:H39) -> 0 | J40: =SUM(J35:J39) -> 0 | L40: =SUM(L35:L39) -> 0 | N40: =SUM(N35:N39) -> 0 | P40: =SUM(P35:P39) -> 0 | R40: =SUM(R35:R39) -> 0 | T40: =SUM(T35:T39) -> 0
D42: Year 4
E43: Enter the data year in D4
B46: Enter total population data by age group below | D46: Enter male population data by age group below | F46: Enter female population data by age group below | H46: Enter demographic population data | J46: Enter demographic population data | L46: Enter demographic population data | N46: Enter demographic population data | P46: Enter demographic population data | R46: Enter demographic population data | T46: Enter demographic population data
A47: Age | B47: Total | D47: Male | F47: Female | H47: =H8 -> White-Not Hispanic | J47: =J8 -> Hispanic | L47: =L8 -> Black-Not Hispanic | N47: =N8 -> Asian | P47: =P8 -> American Indian/Alaska Native | R47: =R8 -> Other | T47: =T8 -> Other
A48: <1
A49: 1-4
A50: 5-9
A51: 10-14
A52: 15-17
A53: TOTAL | B53: =SUM(B48:B52) -> 0 | D53: =SUM(D48:D52) -> 0 | F53: =SUM(F48:F52) -> 0 | H53: =SUM(H48:H52) -> 0 | J53: =SUM(J48:J52) -> 0 | L53: =SUM(L48:L52) -> 0 | N53: =SUM(N48:N52) -> 0 | P53: =SUM(P48:P52) -> 0 | R53: =SUM(R48:R52) -> 0 | T53: =SUM(T48:T52) -> 0
D55: Year 5
E56: Enter the data year in D4
B59: Enter total population data by age group below | D59: Enter male population data by age group below | F59: Enter female population data by age group below | H59: Enter demographic population data | J59: Enter demographic population data | L59: Enter demographic population data | N59: Enter demographic population data | P59: Enter demographic population data | R59: Enter demographic population data | T59: Enter demographic population data
A60: Age | B60: Total | D60: Male | F60: Female | H60: =H8 -> White-Not Hispanic | J60: =J8 -> Hispanic | L60: =L8 -> Black-Not Hispanic | N60: =N8 -> Asian | P60: =P8 -> American Indian/Alaska Native | R60: =R8 -> Other | T60: =T8 -> Other
A61: <1
A62: 1-4
A63: 5-9
A64: 10-14
A65: 15-17
A66: TOTAL | B66: =SUM(B61:B65) -> 0 | D66: =SUM(D61:D65) -> 0 | F66: =SUM(F61:F65) -> 0 | H66: =SUM(H61:H65) -> 0 | J66: =SUM(J61:J65) -> 0 | L66: =SUM(L61:L65) -> 0 | N66: =SUM(N61:N65) -> 0 | P66: =SUM(P61:P65) -> 0 | R66: =SUM(R61:R65) -> 0 | T66: =SUM(T61:T65) -> 0

Sheet C_Year 1
A1: =' B_Populations'!D3 -> 0 | B1: Data Input Tables Instructions: Enter your unintentional child injury-related injury data in the red cells below. The age-adjusted rates will automatically calculate in the results table. | N1: Rate per 100,000 calculations | AI1: Population Weights | AL1: Results Table Age Adjusted Rates per 100,1000. Results will calculate automatically.
D2: Sex Data | F2: Demographic Data | AM2: Age-adjusted Rates per 100,000 population
A3: Emergency Dept Visits | B3: Age | C3: Number of ED visits - Total | D3: Number of hospitalizations- Male | E3: Number of hospitalizations- Female | F3: =' B_Populations'!$H$8 -> White-Not Hispanic | G3: =' B_Populations'!$J$8 -> Hispanic | H3: =' B_Populations'!$L$8 -> Black-Not Hispanic | I3: =' B_Populations'!$N$8 -> Asian | J3: =' B_Populations'!$P$8 -> American Indian/Alaska Native | K3: =' B_Populations'!$R$8 -> Other | L3: =' B_Populations'!$T$8 -> Other | N3: State population - Total | O3: Rate | P3: State population - Male | Q3: Rate | R3: State population - Female | S3: Rate | T3: =' B_Populations'!$H$8 -> White-Not Hispanic | U3: Rate | V3: =' B_Populations'!$J$8 -> Hispanic | W3: Rate | X3: =' B_Populations'!$L$8 -> Black-Not Hispanic | Y3: Rate | Z3: =' B_Populations'!$N$8 -> Asian | AA3: Rate | AB3: =' B_Populations'!$P$8 -> American Indian/Alaska Native | AC3: Rate | AD3: =' B_Populations'!$R$8 -> Other | AE3: Rate | AF3: =' B_Populations'!$T$8 -> Other | AG3: Rate | AI3: 2000 population | AJ3: Weight | AL3: Age | AM3: Total | AN3: Male | AO3: Female | AP3: =' B_Populations'!$H$8 -> White-Not Hispanic | AQ3: =' B_Populations'!$J$8 -> Hispanic | AR3: =' B_Populations'!$L$8 -> Black-Not Hispanic | AS3: =' B_Populations'!$N$8 -> Asian | AT3: =' B_Populations'!$P$8 -> American Indian/Alaska Native | AU3: =' B_Populations'!$R$8 -> Other | AV3: =' B_Populations'!$T$8 -> Other
B4: =' B_Populations'!$A$9 -> <1 | N4: =' B_Populations'!B9 -> 0 | O4: =IF(N4=0,0,($C$4/$N$4)*100000) -> 0 | P4: =' B_Populations'!D9 -> 0 | Q4: =IF(P4=0,0,($D$4/$P$4)*100000) -> 0 | R4: =' B_Populations'!F9 -> 0 | S4: =IF(R4=0,0,($E$4/$R$4)*100000) -> 0 | T4: =' B_Populations'!H9 -> 0 | U4: =IF(T4=0,0,($F$4/$T$4)*100000) -> 0 | V4: =' B_Populations'!J9 -> 0 | W4: =IF(V4=0,0,($G$4/$V$4)*100000) -> 0 | X4: =' B_Populations'!L9 -> 0 | Y4: =IF(X4=0,0,($H$4/$X$4)*100000) -> 0 | Z4: =' B_Populations'!N9 -> 0 | AA4: =IF(Z4=0,0,($I$4/$Z$4)*100000) -> 0 | AB4: =' B_Populations'!P9 -> 0 | AC4: =IF(AB4=0,0,($J$4/$AB$4)*100000) -> 0 | AD4: =' B_Populations'!R9 -> 0 | AE4: =IF(AD4=0,0,($K$4/$AD$4)*100000) -> 0 | AF4: =' B_Populations'!T9 -> 0 | AG4: =IF(AF4=0,0,($L$4/$AF$4)*100000) -> 0 | AI4: 3795 | AJ4: 0.013818 | AL4: =' B_Populations'!$A$9 -> <1 | AM4: =O4*AJ4 -> 0 | AN4: =Q4*AJ4 -> 0 | AO4: =S4*AJ4 -> 0 | AP4: =U4*AJ4 -> 0 | AQ4: =W4*AJ4 -> 0 | AR4: =Y4*AJ4 -> 0 | AS4: =AA4*AJ4 -> 0 | AT4: =AC4*AJ4 -> 0 | AU4: =AE4*AJ4 -> 0 | AV4: =AG4*AJ4 -> 0
B5: =' B_Populations'!$A$10 -> 1-4 | N5: =' B_Populations'!B10 -> 0 | O5: =IF(N5=0,0,($C$5/$N$5)*100000) -> 0 | P5: =' B_Populations'!D10 -> 0 | Q5: =IF(P5=0,0,($D$5/$P$5)*100000) -> 0 | R5: =' B_Populations'!F10 -> 0 | S5: =IF(R5=0,0,($E$5/$R$5)*100000) -> 0 | T5: =' B_Populations'!H10 -> 0 | U5: =IF(T5=0,0,($F$5/$T$5)*100000) -> 0 | V5: =' B_Populations'!J10 -> 0 | W5: =IF(V5=0,0,($G$5/$V$5)*100000) -> 0 | X5: =' B_Populations'!L10 -> 0 | Y5: =IF(X5=0,0,($G$5/$X$5)*100000) -> 0 | Z5: =' B_Populations'!N10 -> 0 | AA5: =IF(Z5=0,0,($I$5/$Z$5)*100000) -> 0 | AB5: =' B_Populations'!P10 -> 0 | AC5: =IF(AB5=0,0,($J$5/$AB$5)*100000) -> 0 | AD5: =' B_Populations'!R10 -> 0 | AE5: =IF(AD5=0,0,($K$5/$AD$5)*100000) -> 0 | AF5: =' B_Populations'!T10 -> 0 | AG5: =IF(AF5=0,0,($L$5/$AF$5)*100000) -> 0 | AI5: 15192 | AJ5: 0.055317 | AL5: =' B_Populations'!$A$10 -> 1-4 | AM5: =O5*AJ5 -> 0 | AN5: =Q5*AJ5 -> 0 | AO5: =S5*AJ5 -> 0 | AP5: =U5*AJ5 -> 0 | AQ5: =W5*AJ5 -> 0 | AR5: =Y5*AJ5 -> 0 | AS5: =AA5*AJ5 -> 0 | AT5: =AC5*AJ5 -> 0 | AU5: =AE5*AJ5 -> 0 | AV5: =AG5*AJ5 -> 0
B6: =' B_Populations'!$A$11 -> 5-9 | N6: =' B_Populations'!B11 -> 0 | O6: =IF(N6=0,0,($C$6/$N$6)*100000) -> 0 | P6: =' B_Populations'!D11 -> 0 | Q6: =IF(P6=0,0,($D$6/$P$6)*100000) -> 0 | R6: =' B_Populations'!F11 -> 0 | S6: =IF(R6=0,0,($E$6/$R$6)*100000) -> 0 | T6: =' B_Populations'!H11 -> 0 | U6: =IF(T6=0,0,($F$6/$T$6)*100000) -> 0 | V6: =' B_Populations'!J11 -> 0 | W6: =IF(V6=0,0,($G$6/$V$6)*100000) -> 0 | X6: =' B_Populations'!L11 -> 0 | Y6: =IF(X6=0,0,($G$6/$X$6)*100000) -> 0 | Z6: =' B_Populations'!N11 -> 0 | AA6: =IF(Z6=0,0,($I$6/$Z$6)*100000) -> 0 | AB6: =' B_Populations'!P11 -> 0 | AC6: =IF(AB6=0,0,($J$6/$AB$6)*100000) -> 0 | AD6: =' B_Populations'!R11 -> 0 | AE6: =IF(AD6=0,0,($K$6/$AD$6)*100000) -> 0 | AF6: =' B_Populations'!T11 -> 0 | AG6: =IF(AF6=0,0,($L$6/$AF$6)*100000) -> 0 | AI6: 19920 | AJ6: 0.072533 | AL6: =' B_Populations'!$A$11 -> 5-9 | AM6: =O6*AJ6 -> 0 | AN6: =Q6*AJ6 -> 0 | AO6: =S6*AJ6 -> 0 | AP6: =U6*AJ6 -> 0 | AQ6: =W6*AJ6 -> 0 | AR6: =Y6*AJ6 -> 0 | AS6: =AA6*AJ6 -> 0 | AT6: =AC6*AJ6 -> 0 | AU6: =AE6*AJ6 -> 0 | AV6: =AG6*AJ6 -> 0
B7: =' B_Populations'!$A$12 -> 10-14 | N7: =' B_Populations'!B12 -> 0 | O7: =IF(N7=0,0,($C$7/$N$7)*100000) -> 0 | P7: =' B_Populations'!D12 -> 0 | Q7: =IF(P7=0,0,($D$7/$P$7)*100000) -> 0 | R7: =' B_Populations'!F12 -> 0 | S7: =IF(R7=0,0,($E$7/$R$7)*100000) -> 0 | T7: =' B_Populations'!H12 -> 0 | U7: =IF(T7=0,0,($F$7/$T$7)*100000) -> 0 | V7: =' B_Populations'!J12 -> 0 | W7: =IF(V7=0,0,($G$7/$V$7)*100000) -> 0 | X7: =' B_Populations'!L12 -> 0 | Y7: =IF(X7=0,0,($G$7/$X$7)*100000) -> 0 | Z7: =' B_Populations'!N12 -> 0 | AA7: =IF(Z7=0,0,($I$7/$Z$7)*100000) -> 0 | AB7: =' B_Populations'!P12 -> 0 | AC7: =IF(AB7=0,0,($J$7/$AB$7)*100000) -> 0 | AD7: =' B_Populations'!R12 -> 0 | AE7: =IF(AD7=0,0,($K$7/$AD$7)*100000) -> 0 | AF7: =' B_Populations'!T12 -> 0 | AG7: =IF(AF7=0,0,($L$7/$AF$7)*100000) -> 0 | AI7: 20057 | AJ7: 0.073032 | AL7: =' B_Populations'!$A$12 -> 10-14 | AM7: =O7*AJ7 -> 0 | AN7: =Q7*AJ7 -> 0 | AO7: =S7*AJ7 -> 0 | AP7: =U7*AJ7 -> 0 | AQ7: =W7*AJ7 -> 0 | AR7: =Y7*AJ7 -> 0 | AS7: =AA7*AJ7 -> 0 | AT7: =AC7*AJ7 -> 0 | AU7: =AE7*AJ7 -> 0 | AV7: =AG7*AJ7 -> 0
B8: =' B_Populations'!$A$13 -> 15-17 | N8: =' B_Populations'!B13 -> 0 | O8: =IF(N8=0,0,($C$8/$N$8)*100000) -> 0 | P8: =' B_Populations'!D13 -> 0 | Q8: =IF(P8=0,0,($D$8/$P$8)*100000) -> 0 | R8: =' B_Populations'!F13 -> 0 | S8: =IF(R8=0,0,($E$8/$R$8)*100000) -> 0 | T8: =' B_Populations'!H13 -> 0 | U8: =IF(T8=0,0,($F$8/$T$8)*100000) -> 0 | V8: =' B_Populations'!J13 -> 0 | W8: =IF(V8=0,0,($G$8/$V$8)*100000) -> 0 | X8: =' B_Populations'!L13 -> 0 | Y8: =IF(X8=0,0,($G$8/$X$8)*100000) -> 0 | Z8: =' B_Populations'!N13 -> 0 | AA8: =IF(Z8=0,0,($I$8/$Z$8)*100000) -> 0 | AB8: =' B_Populations'!P13 -> 0 | AC8: =IF(AB8=0,0,($J$8/$AB$8)*100000) -> 0 | AD8: =' B_Populations'!R13 -> 0 | AE8: =IF(AD8=0,0,($K$8/$AD$8)*100000) -> 0 | AF8: =' B_Populations'!T13 -> 0 | AG8: =IF(AF8=0,0,($L$8/$AF$8)*100000) -> 0 | AI8: 19820 | AJ8: 0.072169 | AL8: =' B_Populations'!$A$13 -> 15-17 | AM8: =O8*AJ8 -> 0 | AN8: =Q8*AJ8 -> 0 | AO8: =S8*AJ8 -> 0 | AP8: =U8*AJ8 -> 0 | AQ8: =W8*AJ8 -> 0 | AR8: =Y8*AJ8 -> 0 | AS8: =AA8*AJ8 -> 0 | AT8: =AC8*AJ8 -> 0 | AU8: =AE8*AJ8 -> 0 | AV8: =AG8*AJ8 -> 0
B9: total | C9: =SUM(C4:C8) -> 0 | D9: =SUM(D4:D8) -> 0 | E9: =SUM(E4:E8) -> 0 | F9: =SUM(F4:F8) -> 0 | G9: =SUM(G4:G8) -> 0 | H9: =SUM(H4:H8) -> 0 | I9: =SUM(I4:I8) -> 0 | J9: =SUM(J4:J8) -> 0 | ... L9: =SUM(L4:L8) -> 0 | N9: =SUM(N4:N8) -> 0 | O9: =SUM(O4:O8) -> 0 | P9: =SUM(P4:P8) -> 0 | Q9: =SUM(Q4:Q8) -> 0 | R9: =SUM(R4:R8) -> 0 | S9: =SUM(S4:S8) -> 0 | T9: =SUM(T4:T8) -> 0 | U9: =SUM(U4:U8) -> 0 | ... AG9: =SUM(AG4:AG8) -> 0 | AI9: =SUM(AI4:AI8) -> 78784 | AL9: total | AM9: =SUM(AM4:AM8) -> 0 | AN9: =SUM(AN4:AN8) -> 0 | AO9: =SUM(AO4:AO8) -> 0 | AP9: =SUM(AP4:AP8) -> 0 | AQ9: =SUM(AQ4:AQ8) -> 0 | AR9: =SUM(AR4:AR8) -> 0 | AS9: =SUM(AS4:AS8) -> 0 | AT9: =SUM(AT4:AT8) -> 0 | ... AV9: =SUM(AV4:AV8) -> 0
D11: Sex Data | F11: Demographic Data | AM11: Age-adjusted Rates per 100,000 population
A12: Hospitalizations | B12: Age | C12: Number of hospitalizations- Total | D12: Number of ED visits- Male | E12: Number of ED visits- Female | F12: =' B_Populations'!$H$8 -> White-Not Hispanic | G12: =' B_Populations'!$J$8 -> Hispanic | H12: =' B_Populations'!$L$8 -> Black-Not Hispanic | I12: =' B_Populations'!$N$8 -> Asian | J12: =' B_Populations'!$P$8 -> American Indian/Alaska Native | K12: =' B_Populations'!$R$8 -> Other | L12: =' B_Populations'!$T$8 -> Other | N12: State population - Total | O12: Rate | P12: State population - Male | Q12: Rate | R12: State population - Female | S12: Rate | T12: =' B_Populations'!$H$8 -> White-Not Hispanic | U12: Rate | V12: =' B_Populations'!$J$8 -> Hispanic | W12: Rate | X12: =' B_Populations'!$L$8 -> Black-Not Hispanic | Y12: Rate | Z12: =' B_Populations'!$N$8 -> Asian | AA12: Rate | AB12: =' B_Populations'!$P$8 -> American Indian/Alaska Native | AC12: Rate | AD12: =' B_Populations'!$R$8 -> Other | AE12: Rate | AF12: =' B_Populations'!$T$8 -> Other | AG12: Rate | AI12: 2000 population | AJ12: Weight | AL12: Age | AM12: Total | AN12: Male | AO12: Female | AP12: =' B_Populations'!$H$8 -> White-Not Hispanic | AQ12: =' B_Populations'!$J$8 -> Hispanic | AR12: =' B_Populations'!$L$8 -> Black-Not Hispanic | AS12: =' B_Populations'!$N$8 -> Asian | AT12: =' B_Populations'!$P$8 -> American Indian/Alaska Native | AU12: =' B_Populations'!$R$8 -> Other | AV12: =' B_Populations'!$T$8 -> Other
B13: =' B_Populations'!$A$9 -> <1 | N13: =' B_Populations'!B9 -> 0 | O13: =IF(N13=0,0,($C$13/$N$13)*100000) -> 0 | P13: =' B_Populations'!D9 -> 0 | Q13: =IF(P13=0,0,($D$13/$P$13)*100000) -> 0 | R13: =' B_Populations'!F9 -> 0 | S13: =IF(R13=0,0,($E$13/$R$13)*100000) -> 0 | T13: =' B_Populations'!H9 -> 0 | U13: =IF(T13=0,0,($F$13/$T$13)*100000) -> 0 | V13: =' B_Populations'!J9 -> 0 | W13: =IF(V13=0,0,($G$13/$V$13)*100000) -> 0 | X13: =' B_Populations'!L9 -> 0 | Y13: =IF(X13=0,0,($H$13/$X$13)*100000) -> 0 | Z13: =' B_Populations'!N9 -> 0 | AA13: =IF(Z13=0,0,($I$13/$Z$13)*100000) -> 0 | AB13: =' B_Populations'!P9 -> 0 | AC13: =IF(AB13=0,0,($J$13/$AB$13)*100000) -> 0 | AD13: =' B_Populations'!R9 -> 0 | AE13: =IF(AD13=0,0,($K$13/$AD$13)*100000) -> 0 | AF13: =' B_Populations'!T9 -> 0 | AG13: =IF(AF13=0,0,($L$13/$AF$13)*100000) -> 0 | AI13: 3795 | AJ13: 0.013818 | AL13: =' B_Populations'!$A$9 -> <1 | AM13: =O13*AJ13 -> 0 | AN13: =Q13*AJ13 -> 0 | AO13: =S13*AJ13 -> 0 | AP13: =U13*AJ13 -> 0 | AQ13: =W13*AJ13 -> 0 | AR13: =Y13*AJ13 -> 0 | AS13: =AA13*AJ13 -> 0 | AT13: =AC13*AJ13 -> 0 | AU13: =AE13*AJ13 -> 0 | AV13: =AG13*AJ13 -> 0
B14: =' B_Populations'!$A$10 -> 1-4 | N14: =' B_Populations'!B10 -> 0 | O14: =IF(N14=0,0,($C$14/$N$14)*100000) -> 0 | P14: =' B_Populations'!D10 -> 0 | Q14: =IF(P14=0,0,($D$14/$P$14)*100000) -> 0 | R14: =' B_Populations'!F10 -> 0 | S14: =IF(R14=0,0,($E$14/$R$14)*100000) -> 0 | T14: =' B_Populations'!H10 -> 0 | U14: =IF(T14=0,0,($F$14/$T$14)*100000) -> 0 | V14: =' B_Populations'!J10 -> 0 | W14: =IF(V14=0,0,($G$14/$V$14)*100000) -> 0 | X14: =' B_Populations'!L10 -> 0 | Y14: =IF(X14=0,0,($H$14/$X$14)*100000) -> 0 | Z14: =' B_Populations'!N10 -> 0 | AA14: =IF(Z14=0,0,($I$14/$Z$14)*100000) -> 0 | AB14: =' B_Populations'!P10 -> 0 | AC14: =IF(AB14=0,0,($J$14/$AB$14)*100000) -> 0 | AD14: =' B_Populations'!R10 -> 0 | AE14: =IF(AD14=0,0,($K$14/$AD$14)*100000) -> 0 | AF14: =' B_Populations'!T10 -> 0 | AG14: =IF(AF14=0,0,($L$14/$AF$14)*100000) -> 0 | AI14: 15192 | AJ14: 0.055317 | AL14: =' B_Populations'!$A$10 -> 1-4 | AM14: =O14*AJ14 -> 0 | AN14: =Q14*AJ14 -> 0 | AO14: =S14*AJ14 -> 0 | AP14: =U14*AJ14 -> 0 | AQ14: =W14*AJ14 -> 0 | AR14: =Y14*AJ14 -> 0 | AS14: =AA14*AJ14 -> 0 | AT14: =AC14*AJ14 -> 0 | AU14: =AE14*AJ14 -> 0 | AV14: =AG14*AJ14 -> 0
B15: =' B_Populations'!$A$11 -> 5-9 | N15: =' B_Populations'!B11 -> 0 | O15: =IF(N15=0,0,($C$15/$N$15)*100000) -> 0 | P15: =' B_Populations'!D11 -> 0 | Q15: =IF(P15=0,0,($D$15/$P$15)*100000) -> 0 | R15: =' B_Populations'!F11 -> 0 | S15: =IF(R15=0,0,($E$15/$R$15)*100000) -> 0 | T15: =' B_Populations'!H11 -> 0 | U15: =IF(T15=0,0,($F$15/$T$15)*100000) -> 0 | V15: =' B_Populations'!J11 -> 0 | W15: =IF(V15=0,0,($G$15/$V$15)*100000) -> 0 | X15: =' B_Populations'!L11 -> 0 | Y15: =IF(X15=0,0,($H$15/$X$15)*100000) -> 0 | Z15: =' B_Populations'!N11 -> 0 | AA15: =IF(Z15=0,0,($I$15/$Z$15)*100000) -> 0 | AB15: =' B_Populations'!P11 -> 0 | AC15: =IF(AB15=0,0,($J$15/$AB$15)*100000) -> 0 | AD15: =' B_Populations'!R11 -> 0 | AE15: =IF(AD15=0,0,($K$15/$AD$15)*100000) -> 0 | AF15: =' B_Populations'!T11 -> 0 | AG15: =IF(AF15=0,0,($L$15/$AF$15)*100000) -> 0 | AI15: 19920 | AJ15: 0.072533 | AL15: =' B_Populations'!$A$11 -> 5-9 | AM15: =O15*AJ15 -> 0 | AN15: =Q15*AJ15 -> 0 | AO15: =S15*AJ15 -> 0 | AP15: =U15*AJ15 -> 0 | AQ15: =W15*AJ15 -> 0 | AR15: =Y15*AJ15 -> 0 | AS15: =AA15*AJ15 -> 0 | AT15: =AC15*AJ15 -> 0 | AU15: =AE15*AJ15 -> 0 | AV15: =AG15*AJ15 -> 0
B16: =' B_Populations'!$A$12 -> 10-14 | N16: =' B_Populations'!B12 -> 0 | O16: =IF(N16=0,0,($C$16/$N$16)*100000) -> 0 | P16: =' B_Populations'!D12 -> 0 | Q16: =IF(P16=0,0,($D$16/$P$16)*100000) -> 0 | R16: =' B_Populations'!F12 -> 0 | S16: =IF(R16=0,0,($E$16/$R$16)*100000) -> 0 | T16: =' B_Populations'!H12 -> 0 | U16: =IF(T16=0,0,($F$16/$T$16)*100000) -> 0 | V16: =' B_Populations'!J12 -> 0 | W16: =IF(V16=0,0,($G$16/$V$16)*100000) -> 0 | X16: =' B_Populations'!L12 -> 0 | Y16: =IF(X16=0,0,($H$16/$X$16)*100000) -> 0 | Z16: =' B_Populations'!N12 -> 0 | AA16: =IF(Z16=0,0,($I$16/$Z$16)*100000) -> 0 | AB16: =' B_Populations'!P12 -> 0 | AC16: =IF(AB16=0,0,($J$16/$AB$16)*100000) -> 0 | AD16: =' B_Populations'!R12 -> 0 | AE16: =IF(AD16=0,0,($K$16/$AD$16)*100000) -> 0 | AF16: =' B_Populations'!T12 -> 0 | AG16: =IF(AF16=0,0,($L$16/$AF$16)*100000) -> 0 | AI16: 20057 | AJ16: 0.073032 | AL16: =' B_Populations'!$A$12 -> 10-14 | AM16: =O16*AJ16 -> 0 | AN16: =Q16*AJ16 -> 0 | AO16: =S16*AJ16 -> 0 | AP16: =U16*AJ16 -> 0 | AQ16: =W16*AJ16 -> 0 | AR16: =Y16*AJ16 -> 0 | AS16: =AA16*AJ16 -> 0 | AT16: =AC16*AJ16 -> 0 | AU16: =AE16*AJ16 -> 0 | AV16: =AG16*AJ16 -> 0
B17: =' B_Populations'!$A$13 -> 15-17 | N17: =' B_Populations'!B13 -> 0 | O17: =IF(N17=0,0,($C$17/$N$17)*100000) -> 0 | P17: =' B_Populations'!D13 -> 0 | Q17: =IF(P17=0,0,($D$17/$P$17)*100000) -> 0 | R17: =' B_Populations'!F13 -> 0 | S17: =IF(R17=0,0,($E$17/$R$17)*100000) -> 0 | T17: =' B_Populations'!H13 -> 0 | U17: =IF(T17=0,0,($F$17/$T$17)*100000) -> 0 | V17: =' B_Populations'!J13 -> 0 | W17: =IF(V17=0,0,($G$17/$V$17)*100000) -> 0 | X17: =' B_Populations'!L13 -> 0 | Y17: =IF(X17=0,0,($H$17/$X$17)*100000) -> 0 | Z17: =' B_Populations'!N13 -> 0 | AA17: =IF(Z17=0,0,($I$17/$Z$17)*100000) -> 0 | AB17: =' B_Populations'!P13 -> 0 | AC17: =IF(AB17=0,0,($J$17/$AB$17)*100000) -> 0 | AD17: =' B_Populations'!R13 -> 0 | AE17: =IF(AD17=0,0,($K$17/$AD$17)*100000) -> 0 | AF17: =' B_Populations'!T13 -> 0 | AG17: =IF(AF17=0,0,($L$17/$AF$17)*100000) -> 0 | AI17: 19820 | AJ17: 0.072169 | AL17: =' B_Populations'!$A$13 -> 15-17 | AM17: =O17*AJ17 -> 0 | AN17: =Q17*AJ17 -> 0 | AO17: =S17*AJ17 -> 0 | AP17: =U17*AJ17 -> 0 | AQ17: =W17*AJ17 -> 0 | AR17: =Y17*AJ17 -> 0 | AS17: =AA17*AJ17 -> 0 | AT17: =AC17*AJ17 -> 0 | AU17: =AE17*AJ17 -> 0 | AV17: =AG17*AJ17 -> 0
B18: total | C18: =SUM(C13:C17) -> 0 | D18: =SUM(D13:D17) -> 0 | E18: =SUM(E13:E17) -> 0 | F18: =SUM(F13:F17) -> 0 | G18: =SUM(G13:G17) -> 0 | H18: =SUM(H13:H17) -> 0 | I18: =SUM(I13:I17) -> 0 | J18: =SUM(J13:J17) -> 0 | ... L18: =SUM(L13:L17) -> 0 | N18: =SUM(N13:N17) -> 0 | O18: =SUM(O13:O17) -> 0 | P18: =SUM(P13:P17) -> 0 | Q18: =SUM(Q13:Q17) -> 0 | R18: =SUM(R13:R17) -> 0 | S18: =SUM(S13:S17) -> 0 | T18: =SUM(T13:T17) -> 0 | U18: =SUM(U13:U17) -> 0 | ... AG18: =SUM(AG13:AG17) -> 0 | AI18: =SUM(AI13:AI17) -> 78784 | AL18: total | AM18: =SUM(AM13:AM17) -> 0 | AN18: =SUM(AN13:AN17) -> 0 | AO18: =SUM(AO13:AO17) -> 0 | AP18: =SUM(AP13:AP17) -> 0 | AQ18: =SUM(AQ13:AQ17) -> 0 | AR18: =SUM(AR13:AR17) -> 0 | AS18: =SUM(AS13:AS17) -> 0 | AT18: =SUM(AT13:AT17) -> 0 | ... AV18: =SUM(AV13:AV17) -> 0
D20: Sex Data | F20: Demographic Data | AM20: Age-adjusted Rates per 100,000 population
A21: Deaths | B21: Age | C21: Number of deaths- Total | D21: Number of deaths- Male | E21: Number of deaths- Female | F21: =' B_Populations'!$H$8 -> White-Not Hispanic | G21: =' B_Populations'!$J$8 -> Hispanic | H21: =' B_Populations'!$L$8 -> Black-Not Hispanic | I21: =' B_Populations'!$N$8 -> Asian | J21: =' B_Populations'!$P$8 -> American Indian/Alaska Native | K21: =' B_Populations'!$R$8 -> Other | L21: =' B_Populations'!$T$8 -> Other | N21: State population - Total | O21: Rate | P21: State population - Male | Q21: Rate | R21: State population - Female | S21: Rate | T21: =' B_Populations'!$H$8 -> White-Not Hispanic | U21: Rate | V21: =' B_Populations'!$J$8 -> Hispanic | W21: Rate | X21: =' B_Populations'!$L$8 -> Black-Not Hispanic | Y21: Rate | Z21: =' B_Populations'!$N$8 -> Asian | AA21: Rate | AB21: =' B_Populations'!$P$8 -> American Indian/Alaska Native | AC21: Rate | AD21: =' B_Populations'!$R$8 -> Other | AE21: Rate | AF21: =' B_Populations'!$T$8 -> Other | AG21: Rate | AI21: 2000 population | AJ21: Weight | AL21: Age | AM21: Total | AN21: Male | AO21: Female | AP21: =' B_Populations'!$H$8 -> White-Not Hispanic | AQ21: =' B_Populations'!$J$8 -> Hispanic | AR21: =' B_Populations'!$L$8 -> Black-Not Hispanic | AS21: =' B_Populations'!$N$8 -> Asian | AT21: =' B_Populations'!$P$8 -> American Indian/Alaska Native | AU21: =' B_Populations'!$R$8 -> Other | AV21: =' B_Populations'!$T$8 -> Other
B22: =' B_Populations'!$A$9 -> <1 | N22: =' B_Populations'!B9 -> 0 | O22: =IF(N22=0,0,($C$22/$N$22)*100000) -> 0 | P22: =' B_Populations'!D9 -> 0 | Q22: =IF(P22=0,0,($D$22/$P$22)*100000) -> 0 | R22: =' B_Populations'!F9 -> 0 | S22: =IF(R22=0,0,($E$22/$R$22)*100000) -> 0 | T22: =' B_Populations'!H9 -> 0 | U22: =IF(T22=0,0,($F$22/$T$22)*100000) -> 0 | V22: =' B_Populations'!J9 -> 0 | W22: =IF(V22=0,0,($G$22/$V$22)*100000) -> 0 | X22: =' B_Populations'!L9 -> 0 | Y22: =IF(X22=0,0,($H$22/$X$22)*100000) -> 0 | Z22: =' B_Populations'!N9 -> 0 | AA22: =IF(Z22=0,0,($I$22/$Z$22)*100000) -> 0 | AB22: =' B_Populations'!P9 -> 0 | AC22: =IF(AB22=0,0,($J$22/$AB$22)*100000) -> 0 | AD22: =' B_Populations'!R9 -> 0 | AE22: =IF(AD22=0,0,($K$22/$AD$22)*100000) -> 0 | AF22: =' B_Populations'!T9 -> 0 | AG22: =IF(AF22=0,0,($L$22/$AF$22)*100000) -> 0 | AI22: 3795 | AJ22: 0.013818 | AL22: =' B_Populations'!$A$9 -> <1 | AM22: =O22*AJ22 -> 0 | AN22: =Q22*AJ22 -> 0 | AO22: =S22*AJ22 -> 0 | AP22: =U22*AJ22 -> 0 | AQ22: =W22*AJ22 -> 0 | AR22: =Y22*AJ22 -> 0 | AS22: =AA22*AJ22 -> 0 | AT22: =AC22*AJ22 -> 0 | AU22: =AE22*AJ22 -> 0 | AV22: =AG22*AJ22 -> 0
B23: =' B_Populations'!$A$10 -> 1-4 | N23: =' B_Populations'!B10 -> 0 | O23: =IF(N23=0,0,($C$23/$N$23)*100000) -> 0 | P23: =' B_Populations'!D10 -> 0 | Q23: =IF(P23=0,0,($D$23/$P$23)*100000) -> 0 | R23: =' B_Populations'!F10 -> 0 | S23: =IF(R23=0,0,($E$23/$R$23)*100000) -> 0 | T23: =' B_Populations'!H10 -> 0 | U23: =IF(T23=0,0,($F$23/$T$23)*100000) -> 0 | V23: =' B_Populations'!J10 -> 0 | W23: =IF(V23=0,0,($G$23/$V$23)*100000) -> 0 | X23: =' B_Populations'!L10 -> 0 | Y23: =IF(X23=0,0,($H$23/$X$23)*100000) -> 0 | Z23: =' B_Populations'!N10 -> 0 | AA23: =IF(Z23=0,0,($I$23/$Z$23)*100000) -> 0 | AB23: =' B_Populations'!P10 -> 0 | AC23: =IF(AB23=0,0,($J$23/$AB$23)*100000) -> 0 | AD23: =' B_Populations'!R10 -> 0 | AE23: =IF(AD23=0,0,($K$23/$AD$23)*100000) -> 0 | AF23: =' B_Populations'!T10 -> 0 | AG23: =IF(AF23=0,0,($L$23/$AF$23)*100000) -> 0 | AI23: 15192 | AJ23: 0.055317 | AL23: =' B_Populations'!$A$10 -> 1-4 | AM23: =O23*AJ23 -> 0 | AN23: =Q23*AJ23 -> 0 | AO23: =S23*AJ23 -> 0 | AP23: =U23*AJ23 -> 0 | AQ23: =W23*AJ23 -> 0 | AR23: =Y23*AJ23 -> 0 | AS23: =AA23*AJ23 -> 0 | AT23: =AC23*AJ23 -> 0 | AU23: =AE23*AJ23 -> 0 | AV23: =AG23*AJ23 -> 0
B24: =' B_Populations'!$A$11 -> 5-9 | N24: =' B_Populations'!B11 -> 0 | O24: =IF(N24=0,0,($C$24/$N$24)*100000) -> 0 | P24: =' B_Populations'!D11 -> 0 | Q24: =IF(P24=0,0,($D$24/$P$24)*100000) -> 0 | R24: =' B_Populations'!F11 -> 0 | S24: =IF(R24=0,0,($E$24/$R$24)*100000) -> 0 | T24: =' B_Populations'!H11 -> 0 | U24: =IF(T24=0,0,($F$24/$T$24)*100000) -> 0 | V24: =' B_Populations'!J11 -> 0 | W24: =IF(V24=0,0,($G$24/$V$24)*100000) -> 0 | X24: =' B_Populations'!L11 -> 0 | Y24: =IF(X24=0,0,($H$24/$X$24)*100000) -> 0 | Z24: =' B_Populations'!N11 -> 0 | AA24: =IF(Z24=0,0,($I$24/$Z$24)*100000) -> 0 | AB24: =' B_Populations'!P11 -> 0 | AC24: =IF(AB24=0,0,($J$24/$AB$24)*100000) -> 0 | AD24: =' B_Populations'!R11 -> 0 | AE24: =IF(AD24=0,0,($K$24/$AD$24)*100000) -> 0 | AF24: =' B_Populations'!T11 -> 0 | AG24: =IF(AF24=0,0,($L$24/$AF$24)*100000) -> 0 | AI24: 19920 | AJ24: 0.072533 | AL24: =' B_Populations'!$A$11 -> 5-9 | AM24: =O24*AJ24 -> 0 | AN24: =Q24*AJ24 -> 0 | AO24: =S24*AJ24 -> 0 | AP24: =U24*AJ24 -> 0 | AQ24: =W24*AJ24 -> 0 | AR24: =Y24*AJ24 -> 0 | AS24: =AA24*AJ24 -> 0 | AT24: =AC24*AJ24 -> 0 | AU24: =AE24*AJ24 -> 0 | AV24: =AG24*AJ24 -> 0
B25: =' B_Populations'!$A$12 -> 10-14 | N25: =' B_Populations'!B12 -> 0 | O25: =IF(N25=0,0,($C$25/$N$25)*100000) -> 0 | P25: =' B_Populations'!D12 -> 0 | Q25: =IF(P25=0,0,($D$25/$P$25)*100000) -> 0 | R25: =' B_Populations'!F12 -> 0 | S25: =IF(R25=0,0,($E$25/$R$25)*100000) -> 0 | T25: =' B_Populations'!H12 -> 0 | U25: =IF(T25=0,0,($F$25/$T$25)*100000) -> 0 | V25: =' B_Populations'!J12 -> 0 | W25: =IF(V25=0,0,($G$25/$V$25)*100000) -> 0 | X25: =' B_Populations'!L12 -> 0 | Y25: =IF(X25=0,0,($H$25/$X$25)*100000) -> 0 | Z25: =' B_Populations'!N12 -> 0 | AA25: =IF(Z25=0,0,($I$25/$Z$25)*100000) -> 0 | AB25: =' B_Populations'!P12 -> 0 | AC25: =IF(AB25=0,0,($J$25/$AB$25)*100000) -> 0 | AD25: =' B_Populations'!R12 -> 0 | AE25: =IF(AD25=0,0,($K$25/$AD$25)*100000) -> 0 | AF25: =' B_Populations'!T12 -> 0 | AG25: =IF(AF25=0,0,($L$25/$AF$25)*100000) -> 0 | AI25: 20057 | AJ25: 0.073032 | AL25: =' B_Populations'!$A$12 -> 10-14 | AM25: =O25*AJ25 -> 0 | AN25: =Q25*AJ25 -> 0 | AO25: =S25*AJ25 -> 0 | AP25: =U25*AJ25 -> 0 | AQ25: =W25*AJ25 -> 0 | AR25: =Y25*AJ25 -> 0 | AS25: =AA25*AJ25 -> 0 | AT25: =AC25*AJ25 -> 0 | AU25: =AE25*AJ25 -> 0 | AV25: =AG25*AJ25 -> 0
B26: =' B_Populations'!$A$13 -> 15-17 | N26: =' B_Populations'!B13 -> 0 | O26: =IF(N26=0,0,($C$26/$N$26)*100000) -> 0 | P26: =' B_Populations'!D13 -> 0 | Q26: =IF(P26=0,0,($D$26/$P$26)*100000) -> 0 | R26: =' B_Populations'!F13 -> 0 | S26: =IF(R26=0,0,($E$26/$R$26)*100000) -> 0 | T26: =' B_Populations'!H13 -> 0 | U26: =IF(T26=0,0,($F$26/$T$26)*100000) -> 0 | V26: =' B_Populations'!J13 -> 0 | W26: =IF(V26=0,0,($G$26/$V$26)*100000) -> 0 | X26: =' B_Populations'!L13 -> 0 | Y26: =IF(X26=0,0,($H$26/$X$26)*100000) -> 0 | Z26: =' B_Populations'!N13 -> 0 | AA26: =IF(Z26=0,0,($I$26/$Z$26)*100000) -> 0 | AB26: =' B_Populations'!P13 -> 0 | AC26: =IF(AB26=0,0,($J$26/$AB$26)*100000) -> 0 | AD26: =' B_Populations'!R13 -> 0 | AE26: =IF(AD26=0,0,($K$26/$AD$26)*100000) -> 0 | AF26: =' B_Populations'!T13 -> 0 | AG26: =IF(AF26=0,0,($L$26/$AF$26)*100000) -> 0 | AI26: 19820 | AJ26: 0.072169 | AL26: =' B_Populations'!$A$13 -> 15-17 | AM26: =O26*AJ26 -> 0 | AN26: =Q26*AJ26 -> 0 | AO26: =S26*AJ26 -> 0 | AP26: =U26*AJ26 -> 0 | AQ26: =W26*AJ26 -> 0 | AR26: =Y26*AJ26 -> 0 | AS26: =AA26*AJ26 -> 0 | AT26: =AC26*AJ26 -> 0 | AU26: =AE26*AJ26 -> 0 | AV26: =AG26*AJ26 -> 0
B27: total | C27: =SUM(C22:C26) -> 0 | D27: =SUM(D22:D26) -> 0 | E27: =SUM(E22:E26) -> 0 | F27: =SUM(F22:F26) -> 0 | G27: =SUM(G22:G26) -> 0 | H27: =SUM(H22:H26) -> 0 | I27: =SUM(I22:I26) -> 0 | J27: =SUM(J22:J26) -> 0 | ... L27: =SUM(L22:L26) -> 0 | N27: =SUM(N22:N26) -> 0 | O27: =SUM(O22:O26) -> 0 | P27: =SUM(P22:P26) -> 0 | Q27: =SUM(Q22:Q26) -> 0 | R27: =SUM(R22:R26) -> 0 | S27: =SUM(S22:S26) -> 0 | T27: =SUM(T22:T26) -> 0 | U27: =SUM(U22:U26) -> 0 | ... AG27: =SUM(AG22:AG26) -> 0 | AI27: =SUM(AI22:AI26) -> 78784 | AL27: total | AM27: =SUM(AM22:AM26) -> 0 | AN27: =SUM(AN22:AN26) -> 0 | AO27: =SUM(AO22:AO26) -> 0 | AP27: =SUM(AP22:AP26) -> 0 | AQ27: =SUM(AQ22:AQ26) -> 0 | AR27: =SUM(AR22:AR26) -> 0 | AS27: =SUM(AS22:AS26) -> 0 | AT27: =SUM(AT22:AT26) -> 0 | ... AV27: =SUM(AV22:AV26) -> 0

Sheet D_Year 2
A1: =' B_Populations'!D17 -> 0 | B1: Data Input Tables Instructions: Enter your unintentional child injury-related injury data in the red cells below. The age-adjusted rates will automatically calculate in the results table. | N1: Rate per 100,000 calculations | AI1: Population Weights | AL1: Results Table Age Adjusted Rates per 100,1000. Results will calculate automatically.
D2: Sex Data | F2: Demographic Data | AM2: Age-adjusted Rates per 100,000 population
A3: Emergency Dept Visits | B3: Age | C3: Number of ED visits - Total | D3: Number of hospitalizations- Male | E3: Number of hospitalizations- Female | F3: =' B_Populations'!$H$8 -> White-Not Hispanic | G3: =' B_Populations'!$J$8 -> Hispanic | H3: =' B_Populations'!$L$8 -> Black-Not Hispanic | I3: =' B_Populations'!$N$8 -> Asian | J3: =' B_Populations'!$P$8 -> American Indian/Alaska Native | K3: =' B_Populations'!$R$8 -> Other | L3: =' B_Populations'!$T$8 -> Other | N3: State population - Total | O3: Rate | P3: State population - Male | Q3: Rate | R3: State population - Female | S3: Rate | T3: =' B_Populations'!$H$8 -> White-Not Hispanic | U3: Rate | V3: =' B_Populations'!$J$8 -> Hispanic | W3: Rate | X3: =' B_Populations'!$L$8 -> Black-Not Hispanic | Y3: Rate | Z3: =' B_Populations'!$N$8 -> Asian | AA3: Rate | AB3: =' B_Populations'!$P$8 -> American Indian/Alaska Native | AC3: Rate | AD3: =' B_Populations'!$R$8 -> Other | AE3: Rate | AF3: =' B_Populations'!$T$8 -> Other | AG3: Rate | AI3: 2000 population | AJ3: Weight | AL3: Age | AM3: Total | AN3: Male | AO3: Female | AP3: =' B_Populations'!$H$8 -> White-Not Hispanic | AQ3: =' B_Populations'!$J$8 -> Hispanic | AR3: =' B_Populations'!$L$8 -> Black-Not Hispanic | AS3: =' B_Populations'!$N$8 -> Asian | AT3: =' B_Populations'!$P$8 -> American Indian/Alaska Native | AU3: =' B_Populations'!$R$8 -> Other | AV3: =' B_Populations'!$T$8 -> Other
B4: =' B_Populations'!$A$9 -> <1 | N4: =' B_Populations'!B22 -> 0 | O4: =IF(N4=0,0,($C$4/$N$4)*100000) -> 0 | P4: =' B_Populations'!D22 -> 0 | Q4: =IF(P4=0,0,($D$4/$P$4)*100000) -> 0 | R4: =' B_Populations'!F22 -> 0 | S4: =IF(R4=0,0,($E$4/$R$4)*100000) -> 0 | T4: =' B_Populations'!H22 -> 0 | U4: =IF(T4=0,0,($F$4/$T$4)*100000) -> 0 | V4: =' B_Populations'!J22 -> 0 | W4: =IF(V4=0,0,($G$4/$V$4)*100000) -> 0 | X4: =' B_Populations'!L22 -> 0 | Y4: =IF(X4=0,0,($H$4/$X$4)*100000) -> 0 | Z4: =' B_Populations'!N22 -> 0 | AA4: =IF(Z4=0,0,($I$4/$Z$4)*100000) -> 0 | AB4: =' B_Populations'!P22 -> 0 | AC4: =IF(AB4=0,0,($J$4/$AB$4)*100000) -> 0 | AD4: =' B_Populations'!R22 -> 0 | AE4: =IF(AD4=0,0,($K$4/$AD$4)*100000) -> 0 | AF4: =' B_Populations'!T22 -> 0 | AG4: =IF(AF4=0,0,($L$4/$AF$4)*100000) -> 0 | AI4: 3795 | AJ4: 0.013818 | AL4: =' B_Populations'!$A$9 -> <1 | AM4: =O4*AJ4 -> 0 | AN4: =Q4*AJ4 -> 0 | AO4: =S4*AJ4 -> 0 | AP4: =U4*AJ4 -> 0 | AQ4: =W4*AJ4 -> 0 | AR4: =Y4*AJ4 -> 0 | AS4: =AA4*AJ4 -> 0 | AT4: =AC4*AJ4 -> 0 | AU4: =AE4*AJ4 -> 0 | AV4: =AG4*AJ4 -> 0
B5: =' B_Populations'!$A$10 -> 1-4 | N5: =' B_Populations'!B23 -> 0 | O5: =IF(N5=0,0,($C$5/$N$5)*100000) -> 0 | P5: =' B_Populations'!D23 -> 0 | Q5: =IF(P5=0,0,($D$5/$P$5)*100000) -> 0 | R5: =' B_Populations'!F23 -> 0 | S5: =IF(R5=0,0,($E$5/$R$5)*100000) -> 0 | T5: =' B_Populations'!H23 -> 0 | U5: =IF(T5=0,0,($F$5/$T$5)*100000) -> 0 | V5: =' B_Populations'!J23 -> 0 | W5: =IF(V5=0,0,($G$5/$V$5)*100000) -> 0 | X5: =' B_Populations'!L23 -> 0 | Y5: =IF(X5=0,0,($G$5/$X$5)*100000) -> 0 | Z5: =' B_Populations'!N23 -> 0 | AA5: =IF(Z5=0,0,($I$5/$Z$5)*100000) -> 0 | AB5: =' B_Populations'!P23 -> 0 | AC5: =IF(AB5=0,0,($J$5/$AB$5)*100000) -> 0 | AD5: =' B_Populations'!R23 -> 0 | AE5: =IF(AD5=0,0,($K$5/$AD$5)*100000) -> 0 | AF5: =' B_Populations'!T23 -> 0 | AG5: =IF(AF5=0,0,($L$5/$AF$5)*100000) -> 0 | AI5: 15192 | AJ5: 0.055317 | AL5: =' B_Populations'!$A$10 -> 1-4 | AM5: =O5*AJ5 -> 0 | AN5: =Q5*AJ5 -> 0 | AO5: =S5*AJ5 -> 0 | AP5: =U5*AJ5 -> 0 | AQ5: =W5*AJ5 -> 0 | AR5: =Y5*AJ5 -> 0 | AS5: =AA5*AJ5 -> 0 | AT5: =AC5*AJ5 -> 0 | AU5: =AE5*AJ5 -> 0 | AV5: =AG5*AJ5 -> 0
B6: =' B_Populations'!$A$11 -> 5-9 | N6: =' B_Populations'!B24 -> 0 | O6: =IF(N6=0,0,($C$6/$N$6)*100000) -> 0 | P6: =' B_Populations'!D24 -> 0 | Q6: =IF(P6=0,0,($D$6/$P$6)*100000) -> 0 | R6: =' B_Populations'!F24 -> 0 | S6: =IF(R6=0,0,($E$6/$R$6)*100000) -> 0 | T6: =' B_Populations'!H24 -> 0 | U6: =IF(T6=0,0,($F$6/$T$6)*100000) -> 0 | V6: =' B_Populations'!J24 -> 0 | W6: =IF(V6=0,0,($G$6/$V$6)*100000) -> 0 | X6: =' B_Populations'!L24 -> 0 | Y6: =IF(X6=0,0,($G$6/$X$6)*100000) -> 0 | Z6: =' B_Populations'!N24 -> 0 | AA6: =IF(Z6=0,0,($I$6/$Z$6)*100000) -> 0 | AB6: =' B_Populations'!P24 -> 0 | AC6: =IF(AB6=0,0,($J$6/$AB$6)*100000) -> 0 | AD6: =' B_Populations'!R24 -> 0 | AE6: =IF(AD6=0,0,($K$6/$AD$6)*100000) -> 0 | AF6: =' B_Populations'!T24 -> 0 | AG6: =IF(AF6=0,0,($L$6/$AF$6)*100000) -> 0 | AI6: 19920 | AJ6: 0.072533 | AL6: =' B_Populations'!$A$11 -> 5-9 | AM6: =O6*AJ6 -> 0 | AN6: =Q6*AJ6 -> 0 | AO6: =S6*AJ6 -> 0 | AP6: =U6*AJ6 -> 0 | AQ6: =W6*AJ6 -> 0 | AR6: =Y6*AJ6 -> 0 | AS6: =AA6*AJ6 -> 0 | AT6: =AC6*AJ6 -> 0 | AU6: =AE6*AJ6 -> 0 | AV6: =AG6*AJ6 -> 0
B7: =' B_Populations'!$A$12 -> 10-14 | N7: =' B_Populations'!B25 -> 0 | O7: =IF(N7=0,0,($C$7/$N$7)*100000) -> 0 | P7: =' B_Populations'!D25 -> 0 | Q7: =IF(P7=0,0,($D$7/$P$7)*100000) -> 0 | R7: =' B_Populations'!F25 -> 0 | S7: =IF(R7=0,0,($E$7/$R$7)*100000) -> 0 | T7: =' B_Populations'!H25 -> 0 | U7: =IF(T7=0,0,($F$7/$T$7)*100000) -> 0 | V7: =' B_Populations'!J25 -> 0 | W7: =IF(V7=0,0,($G$7/$V$7)*100000) -> 0 | X7: =' B_Populations'!L25 -> 0 | Y7: =IF(X7=0,0,($G$7/$X$7)*100000) -> 0 | Z7: =' B_Populations'!N25 -> 0 | AA7: =IF(Z7=0,0,($I$7/$Z$7)*100000) -> 0 | AB7: =' B_Populations'!P25 -> 0 | AC7: =IF(AB7=0,0,($J$7/$AB$7)*100000) -> 0 | AD7: =' B_Populations'!R25 -> 0 | AE7: =IF(AD7=0,0,($K$7/$AD$7)*100000) -> 0 | AF7: =' B_Populations'!T25 -> 0 | AG7: =IF(AF7=0,0,($L$7/$AF$7)*100000) -> 0 | AI7: 20057 | AJ7: 0.073032 | AL7: =' B_Populations'!$A$12 -> 10-14 | AM7: =O7*AJ7 -> 0 | AN7: =Q7*AJ7 -> 0 | AO7: =S7*AJ7 -> 0 | AP7: =U7*AJ7 -> 0 | AQ7: =W7*AJ7 -> 0 | AR7: =Y7*AJ7 -> 0 | AS7: =AA7*AJ7 -> 0 | AT7: =AC7*AJ7 -> 0 | AU7: =AE7*AJ7 -> 0 | AV7: =AG7*AJ7 -> 0
B8: =' B_Populations'!$A$13 -> 15-17 | N8: =' B_Populations'!B26 -> 0 | O8: =IF(N8=0,0,($C$8/$N$8)*100000) -> 0 | P8: =' B_Populations'!D26 -> 0 | Q8: =IF(P8=0,0,($D$8/$P$8)*100000) -> 0 | R8: =' B_Populations'!F26 -> 0 | S8: =IF(R8=0,0,($E$8/$R$8)*100000) -> 0 | T8: =' B_Populations'!H26 -> 0 | U8: =IF(T8=0,0,($F$8/$T$8)*100000) -> 0 | V8: =' B_Populations'!J26 -> 0 | W8: =IF(V8=0,0,($G$8/$V$8)*100000) -> 0 | X8: =' B_Populations'!L26 -> 0 | Y8: =IF(X8=0,0,($G$8/$X$8)*100000) -> 0 | Z8: =' B_Populations'!N26 -> 0 | AA8: =IF(Z8=0,0,($I$8/$Z$8)*100000) -> 0 | AB8: =' B_Populations'!P26 -> 0 | AC8: =IF(AB8=0,0,($J$8/$AB$8)*100000) -> 0 | AD8: =' B_Populations'!R26 -> 0 | AE8: =IF(AD8=0,0,($K$8/$AD$8)*100000) -> 0 | AF8: =' B_Populations'!T26 -> 0 | AG8: =IF(AF8=0,0,($L$8/$AF$8)*100000) -> 0 | AI8: 19820 | AJ8: 0.072169 | AL8: =' B_Populations'!$A$13 -> 15-17 | AM8: =O8*AJ8 -> 0 | AN8: =Q8*AJ8 -> 0 | AO8: =S8*AJ8 -> 0 | AP8: =U8*AJ8 -> 0 | AQ8: =W8*AJ8 -> 0 | AR8: =Y8*AJ8 -> 0 | AS8: =AA8*AJ8 -> 0 | AT8: =AC8*AJ8 -> 0 | AU8: =AE8*AJ8 -> 0 | AV8: =AG8*AJ8 -> 0
B9: total | C9: =SUM(C4:C8) -> 0 | D9: =SUM(D4:D8) -> 0 | E9: =SUM(E4:E8) -> 0 | F9: =SUM(F4:F8) -> 0 | G9: =SUM(G4:G8) -> 0 | H9: =SUM(H4:H8) -> 0 | I9: =SUM(I4:I8) -> 0 | J9: =SUM(J4:J8) -> 0 | ... L9: =SUM(L4:L8) -> 0 | N9: =SUM(N4:N8) -> 0 | O9: =SUM(O4:O8) -> 0 | P9: =SUM(P4:P8) -> 0 | Q9: =SUM(Q4:Q8) -> 0 | R9: =SUM(R4:R8) -> 0 | S9: =SUM(S4:S8) -> 0 | T9: =SUM(T4:T8) -> 0 | U9: =SUM(U4:U8) -> 0 | ... AG9: =SUM(AG4:AG8) -> 0 | AI9: =SUM(AI4:AI8) -> 78784 | AL9: total | AM9: =SUM(AM4:AM8) -> 0 | AN9: =SUM(AN4:AN8) -> 0 | AO9: =SUM(AO4:AO8) -> 0 | AP9: =SUM(AP4:AP8) -> 0 | AQ9: =SUM(AQ4:AQ8) -> 0 | AR9: =SUM(AR4:AR8) -> 0 | AS9: =SUM(AS4:AS8) -> 0 | AT9: =SUM(AT4:AT8) -> 0 | ... AV9: =SUM(AV4:AV8) -> 0
D11: Sex Data | F11: Demographic Data | AM11: Age-adjusted Rates per 100,000 population
A12: Hospitalizations | B12: Age | C12: Number of hospitalizations - Total | D12: Number of ED visits- Male | E12: Number of ED visits- Female | F12: =' B_Populations'!$H$8 -> White-Not Hispanic | G12: =' B_Populations'!$J$8 -> Hispanic | H12: =' B_Populations'!$L$8 -> Black-Not Hispanic | I12: =' B_Populations'!$N$8 -> Asian | J12: =' B_Populations'!$P$8 -> American Indian/Alaska Native | K12: =' B_Populations'!$R$8 -> Other | L12: =' B_Populations'!$T$8 -> Other | N12: State population - Total | O12: Rate | P12: State population - Male | Q12: Rate | R12: State population - Female | S12: Rate | T12: =' B_Populations'!$H$8 -> White-Not Hispanic | U12: Rate | V12: =' B_Populations'!$J$8 -> Hispanic | W12: Rate | X12: =' B_Populations'!$L$8 -> Black-Not Hispanic | Y12: Rate | Z12: =' B_Populations'!$N$8 -> Asian | AA12: Rate | AB12: =' B_Populations'!$P$8 -> American Indian/Alaska Native | AC12: Rate | AD12: =' B_Populations'!$R$8 -> Other | AE12: Rate | AF12: =' B_Populations'!$T$8 -> Other | AG12: Rate | AI12: 2000 population | AJ12: Weight | AL12: Age | AM12: Total | AN12: Male | AO12: Female | AP12: =' B_Populations'!$H$8 -> White-Not Hispanic | AQ12: =' B_Populations'!$J$8 -> Hispanic | AR12: =' B_Populations'!$L$8 -> Black-Not Hispanic | AS12: =' B_Populations'!$N$8 -> Asian | AT12: =' B_Populations'!$P$8 -> American Indian/Alaska Native | AU12: =' B_Populations'!$R$8 -> Other | AV12: =' B_Populations'!$T$8 -> Other
B13: =' B_Populations'!$A$9 -> <1 | N13: =' B_Populations'!B22 -> 0 | O13: =IF(N13=0,0,($C$13/$N$13)*100000) -> 0 | P13: =' B_Populations'!D22 -> 0 | Q13: =IF(P13=0,0,($D$13/$P$13)*100000) -> 0 | R13: =' B_Populations'!F22 -> 0 | S13: =IF(R13=0,0,($E$13/$R$13)*100000) -> 0 | T13: =' B_Populations'!H22 -> 0 | U13: =IF(T13=0,0,($F$13/$T$13)*100000) -> 0 | V13: =' B_Populations'!J22 -> 0 | W13: =IF(V13=0,0,($G$13/$V$13)*100000) -> 0 | X13: =' B_Populations'!L22 -> 0 | Y13: =IF(X13=0,0,($H$13/$X$13)*100000) -> 0 | Z13: =' B_Populations'!N22 -> 0 | AA13: =IF(Z13=0,0,($I$13/$Z$13)*100000) -> 0 | AB13: =' B_Populations'!P22 -> 0 | AC13: =IF(AB13=0,0,($J$13/$AB$13)*100000) -> 0 | AD13: =' B_Populations'!R22 -> 0 | AE13: =IF(AD13=0,0,($K$13/$AD$13)*100000) -> 0 | AF13: =' B_Populations'!T22 -> 0 | AG13: =IF(AF13=0,0,($L$13/$AF$13)*100000) -> 0 | AI13: 3795 | AJ13: 0.013818 | AL13: =' B_Populations'!$A$9 -> <1 | AM13: =O13*AJ13 -> 0 | AN13: =Q13*AJ13 -> 0 | AO13: =S13*AJ13 -> 0 | AP13: =U13*AJ13 -> 0 | AQ13: =W13*AJ13 -> 0 | AR13: =Y13*AJ13 -> 0 | AS13: =AA13*AJ13 -> 0 | AT13: =AC13*AJ13 -> 0 | AU13: =AE13*AJ13 -> 0 | AV13: =AG13*AJ13 -> 0
B14: =' B_Populations'!$A$10 -> 1-4 | N14: =' B_Populations'!B23 -> 0 | O14: =IF(N14=0,0,($C$14/$N$14)*100000) -> 0 | P14: =' B_Populations'!D23 -> 0 | Q14: =IF(P14=0,0,($D$14/$P$14)*100000) -> 0 | R14: =' B_Populations'!F23 -> 0 | S14: =IF(R14=0,0,($E$14/$R$14)*100000) -> 0 | T14: =' B_Populations'!H23 -> 0 | U14: =IF(T14=0,0,($F$14/$T$14)*100000) -> 0 | V14: =' B_Populations'!J23 -> 0 | W14: =IF(V14=0,0,($G$14/$V$14)*100000) -> 0 | X14: =' B_Populations'!L23 -> 0 | Y14: =IF(X14=0,0,($H$14/$X$14)*100000) -> 0 | Z14: =' B_Populations'!N23 -> 0 | AA14: =IF(Z14=0,0,($I$14/$Z$14)*100000) -> 0 | AB14: =' B_Populations'!P23 -> 0 | AC14: =IF(AB14=0,0,($J$14/$AB$14)*100000) -> 0 | AD14: =' B_Populations'!R23 -> 0 | AE14: =IF(AD14=0,0,($K$14/$AD$14)*100000) -> 0 | AF14: =' B_Populations'!T23 -> 0 | AG14: =IF(AF14=0,0,($L$14/$AF$14)*100000) -> 0 | AI14: 15192 | AJ14: 0.055317 | AL14: =' B_Populations'!$A$10 -> 1-4 | AM14: =O14*AJ14 -> 0 | AN14: =Q14*AJ14 -> 0 | AO14: =S14*AJ14 -> 0 | AP14: =U14*AJ14 -> 0 | AQ14: =W14*AJ14 -> 0 | AR14: =Y14*AJ14 -> 0 | AS14: =AA14*AJ14 -> 0 | AT14: =AC14*AJ14 -> 0 | AU14: =AE14*AJ14 -> 0 | AV14: =AG14*AJ14 -> 0
B15: =' B_Populations'!$A$11 -> 5-9 | N15: =' B_Populations'!B24 -> 0 | O15: =IF(N15=0,0,($C$15/$N$15)*100000) -> 0 | P15: =' B_Populations'!D24 -> 0 | Q15: =IF(P15=0,0,($D$15/$P$15)*100000) -> 0 | R15: =' B_Populations'!F24 -> 0 | S15: =IF(R15=0,0,($E$15/$R$15)*100000) -> 0 | T15: =' B_Populations'!H24 -> 0 | U15: =IF(T15=0,0,($F$15/$T$15)*100000) -> 0 | V15: =' B_Populations'!J24 -> 0 | W15: =IF(V15=0,0,($G$15/$V$15)*100000) -> 0 | X15: =' B_Populations'!L24 -> 0 | Y15: =IF(X15=0,0,($H$15/$X$15)*100000) -> 0 | Z15: =' B_Populations'!N24 -> 0 | AA15: =IF(Z15=0,0,($I$15/$Z$15)*100000) -> 0 | AB15: =' B_Populations'!P24 -> 0 | AC15: =IF(AB15=0,0,($J$15/$AB$15)*100000) -> 0 | AD15: =' B_Populations'!R24 -> 0 | AE15: =IF(AD15=0,0,($K$15/$AD$15)*100000) -> 0 | AF15: =' B_Populations'!T24 -> 0 | AG15: =IF(AF15=0,0,($L$15/$AF$15)*100000) -> 0 | AI15: 19920 | AJ15: 0.072533 | AL15: =' B_Populations'!$A$11 -> 5-9 | AM15: =O15*AJ15 -> 0 | AN15: =Q15*AJ15 -> 0 | AO15: =S15*AJ15 -> 0 | AP15: =U15*AJ15 -> 0 | AQ15: =W15*AJ15 -> 0 | AR15: =Y15*AJ15 -> 0 | AS15: =AA15*AJ15 -> 0 | AT15: =AC15*AJ15 -> 0 | AU15: =AE15*AJ15 -> 0 | AV15: =AG15*AJ15 -> 0
B16: =' B_Populations'!$A$12 -> 10-14 | N16: =' B_Populations'!B25 -> 0 | O16: =IF(N16=0,0,($C$16/$N$16)*100000) -> 0 | P16: =' B_Populations'!D25 -> 0 | Q16: =IF(P16=0,0,($D$16/$P$16)*100000) -> 0 | R16: =' B_Populations'!F25 -> 0 | S16: =IF(R16=0,0,($E$16/$R$16)*100000) -> 0 | T16: =' B_Populations'!H25 -> 0 | U16: =IF(T16=0,0,($F$16/$T$16)*100000) -> 0 | V16: =' B_Populations'!J25 -> 0 | W16: =IF(V16=0,0,($G$16/$V$16)*100000) -> 0 | X16: =' B_Populations'!L25 -> 0 | Y16: =IF(X16=0,0,($H$16/$X$16)*100000) -> 0 | Z16: =' B_Populations'!N25 -> 0 | AA16: =IF(Z16=0,0,($I$16/$Z$16)*100000) -> 0 | AB16: =' B_Populations'!P25 -> 0 | AC16: =IF(AB16=0,0,($J$16/$AB$16)*100000) -> 0 | AD16: =' B_Populations'!R25 -> 0 | AE16: =IF(AD16=0,0,($K$16/$AD$16)*100000) -> 0 | AF16: =' B_Populations'!T25 -> 0 | AG16: =IF(AF16=0,0,($L$16/$AF$16)*100000) -> 0 | AI16: 20057 | AJ16: 0.073032 | AL16: =' B_Populations'!$A$12 -> 10-14 | AM16: =O16*AJ16 -> 0 | AN16: =Q16*AJ16 -> 0 | AO16: =S16*AJ16 -> 0 | AP16: =U16*AJ16 -> 0 | AQ16: =W16*AJ16 -> 0 | AR16: =Y16*AJ16 -> 0 | AS16: =AA16*AJ16 -> 0 | AT16: =AC16*AJ16 -> 0 | AU16: =AE16*AJ16 -> 0 | AV16: =AG16*AJ16 -> 0
B17: =' B_Populations'!$A$13 -> 15-17 | N17: =' B_Populations'!B26 -> 0 | O17: =IF(N17=0,0,($C$17/$N$17)*100000) -> 0 | P17: =' B_Populations'!D26 -> 0 | Q17: =IF(P17=0,0,($D$17/$P$17)*100000) -> 0 | R17: =' B_Populations'!F26 -> 0 | S17: =IF(R17=0,0,($E$17/$R$17)*100000) -> 0 | T17: =' B_Populations'!H26 -> 0 | U17: =IF(T17=0,0,($F$17/$T$17)*100000) -> 0 | V17: =' B_Populations'!J26 -> 0 | W17: =IF(V17=0,0,($G$17/$V$17)*100000) -> 0 | X17: =' B_Populations'!L26 -> 0 | Y17: =IF(X17=0,0,($H$17/$X$17)*100000) -> 0 | Z17: =' B_Populations'!N26 -> 0 | AA17: =IF(Z17=0,0,($I$17/$Z$17)*100000) -> 0 | AB17: =' B_Populations'!P26 -> 0 | AC17: =IF(AB17=0,0,($J$17/$AB$17)*100000) -> 0 | AD17: =' B_Populations'!R26 -> 0 | AE17: =IF(AD17=0,0,($K$17/$AD$17)*100000) -> 0 | AF17: =' B_Populations'!T26 -> 0 | AG17: =IF(AF17=0,0,($L$17/$AF$17)*100000) -> 0 | AI17: 19820 | AJ17: 0.072169 | AL17: =' B_Populations'!$A$13 -> 15-17 | AM17: =O17*AJ17 -> 0 | AN17: =Q17*AJ17 -> 0 | AO17: =S17*AJ17 -> 0 | AP17: =U17*AJ17 -> 0 | AQ17: =W17*AJ17 -> 0 | AR17: =Y17*AJ17 -> 0 | AS17: =AA17*AJ17 -> 0 | AT17: =AC17*AJ17 -> 0 | AU17: =AE17*AJ17 -> 0 | AV17: =AG17*AJ17 -> 0
B18: total | C18: =SUM(C13:C17) -> 0 | D18: =SUM(D13:D17) -> 0 | E18: =SUM(E13:E17) -> 0 | F18: =SUM(F13:F17) -> 0 | G18: =SUM(G13:G17) -> 0 | H18: =SUM(H13:H17) -> 0 | I18: =SUM(I13:I17) -> 0 | J18: =SUM(J13:J17) -> 0 | ... L18: =SUM(L13:L17) -> 0 | N18: =SUM(N13:N17) -> 0 | O18: =SUM(O13:O17) -> 0 | P18: =SUM(P13:P17) -> 0 | Q18: =SUM(Q13:Q17) -> 0 | R18: =SUM(R13:R17) -> 0 | S18: =SUM(S13:S17) -> 0 | T18: =SUM(T13:T17) -> 0 | U18: =SUM(U13:U17) -> 0 | ... AG18: =SUM(AG13:AG17) -> 0 | AI18: =SUM(AI13:AI17) -> 78784 | AL18: total | AM18: =SUM(AM13:AM17) -> 0 | AN18: =SUM(AN13:AN17) -> 0 | AO18: =SUM(AO13:AO17) -> 0 | AP18: =SUM(AP13:AP17) -> 0 | AQ18: =SUM(AQ13:AQ17) -> 0 | AR18: =SUM(AR13:AR17) -> 0 | AS18: =SUM(AS13:AS17) -> 0 | AT18: =SUM(AT13:AT17) -> 0 | ... AV18: =SUM(AV13:AV17) -> 0
D20: Sex Data | F20: Demographic Data | AM20: Age-adjusted Rates per 100,000 population
A21: Deaths | B21: Age | C21: Number of deaths- Total | D21: Number of deaths- Male | E21: Number of deaths- Female | F21: =' B_Populations'!$H$8 -> White-Not Hispanic | G21: =' B_Populations'!$J$8 -> Hispanic | H21: =' B_Populations'!$L$8 -> Black-Not Hispanic | I21: =' B_Populations'!$N$8 -> Asian | J21: =' B_Populations'!$P$8 -> American Indian/Alaska Native | K21: =' B_Populations'!$R$8 -> Other | L21: =' B_Populations'!$T$8 -> Other | N21: State population - Total | O21: Rate | P21: State population - Male | Q21: Rate | R21: State population - Female | S21: Rate | T21: =' B_Populations'!$H$8 -> White-Not Hispanic | U21: Rate | V21: =' B_Populations'!$J$8 -> Hispanic | W21: Rate | X21: =' B_Populations'!$L$8 -> Black-Not Hispanic | Y21: Rate | Z21: =' B_Populations'!$N$8 -> Asian | AA21: Rate | AB21: =' B_Populations'!$P$8 -> American Indian/Alaska Native | AC21: Rate | AD21: =' B_Populations'!$R$8 -> Other | AE21: Rate | AF21: =' B_Populations'!$T$8 -> Other | AG21: Rate | AI21: 2000 population | AJ21: Weight | AL21: Age | AM21: Total | AN21: Male | AO21: Female | AP21: =' B_Populations'!$H$8 -> White-Not Hispanic | AQ21: =' B_Populations'!$J$8 -> Hispanic | AR21: =' B_Populations'!$L$8 -> Black-Not Hispanic | AS21: =' B_Populations'!$N$8 -> Asian | AT21: =' B_Populations'!$P$8 -> American Indian/Alaska Native | AU21: =' B_Populations'!$R$8 -> Other | AV21: =' B_Populations'!$T$8 -> Other
B22: =' B_Populations'!$A$9 -> <1 | N22: =' B_Populations'!B22 -> 0 | O22: =IF(N22=0,0,($C$22/$N$22)*100000) -> 0 | P22: =' B_Populations'!D22 -> 0 | Q22: =IF(P22=0,0,($D$22/$P$22)*100000) -> 0 | R22: =' B_Populations'!F22 -> 0 | S22: =IF(R22=0,0,($E$22/$R$22)*100000) -> 0 | T22: =' B_Populations'!H22 -> 0 | U22: =IF(T22=0,0,($F$22/$T$22)*100000) -> 0 | V22: =' B_Populations'!J22 -> 0 | W22: =IF(V22=0,0,($G$22/$V$22)*100000) -> 0 | X22: =' B_Populations'!L22 -> 0 | Y22: =IF(X22=0,0,($H$22/$X$22)*100000) -> 0 | Z22: =' B_Populations'!N22 -> 0 | AA22: =IF(Z22=0,0,($I$22/$Z$22)*100000) -> 0 | AB22: =' B_Populations'!P22 -> 0 | AC22: =IF(AB22=0,0,($J$22/$AB$22)*100000) -> 0 | AD22: =' B_Populations'!R22 -> 0 | AE22: =IF(AD22=0,0,($K$22/$AD$22)*100000) -> 0 | AF22: =' B_Populations'!T22 -> 0 | AG22: =IF(AF22=0,0,($L$22/$AF$22)*100000) -> 0 | AI22: 3795 | AJ22: 0.013818 | AL22: =' B_Populations'!$A$9 -> <1 | AM22: =O22*AJ22 -> 0 | AN22: =Q22*AJ22 -> 0 | AO22: =S22*AJ22 -> 0 | AP22: =U22*AJ22 -> 0 | AQ22: =W22*AJ22 -> 0 | AR22: =Y22*AJ22 -> 0 | AS22: =AA22*AJ22 -> 0 | AT22: =AC22*AJ22 -> 0 | AU22: =AE22*AJ22 -> 0 | AV22: =AG22*AJ22 -> 0
B23: =' B_Populations'!$A$10 -> 1-4 | N23: =' B_Populations'!B23 -> 0 | O23: =IF(N23=0,0,($C$23/$N$23)*100000) -> 0 | P23: =' B_Populations'!D23 -> 0 | Q23: =IF(P23=0,0,($D$23/$P$23)*100000) -> 0 | R23: =' B_Populations'!F23 -> 0 | S23: =IF(R23=0,0,($E$23/$R$23)*100000) -> 0 | T23: =' B_Populations'!H23 -> 0 | U23: =IF(T23=0,0,($F$23/$T$23)*100000) -> 0 | V23: =' B_Populations'!J23 -> 0 | W23: =IF(V23=0,0,($G$23/$V$23)*100000) -> 0 | X23: =' B_Populations'!L23 -> 0 | Y23: =IF(X23=0,0,($H$23/$X$23)*100000) -> 0 | Z23: =' B_Populations'!N23 -> 0 | AA23: =IF(Z23=0,0,($I$23/$Z$23)*100000) -> 0 | AB23: =' B_Populations'!P23 -> 0 | AC23: =IF(AB23=0,0,($J$23/$AB$23)*100000) -> 0 | AD23: =' B_Populations'!R23 -> 0 | AE23: =IF(AD23=0,0,($K$23/$AD$23)*100000) -> 0 | AF23: =' B_Populations'!T23 -> 0 | AG23: =IF(AF23=0,0,($L$23/$AF$23)*100000) -> 0 | AI23: 15192 | AJ23: 0.055317 | AL23: =' B_Populations'!$A$10 -> 1-4 | AM23: =O23*AJ23 -> 0 | AN23: =Q23*AJ23 -> 0 | AO23: =S23*AJ23 -> 0 | AP23: =U23*AJ23 -> 0 | AQ23: =W23*AJ23 -> 0 | AR23: =Y23*AJ23 -> 0 | AS23: =AA23*AJ23 -> 0 | AT23: =AC23*AJ23 -> 0 | AU23: =AE23*AJ23 -> 0 | AV23: =AG23*AJ23 -> 0
B24: =' B_Populations'!$A$11 -> 5-9 | N24: =' B_Populations'!B24 -> 0 | O24: =IF(N24=0,0,($C$24/$N$24)*100000) -> 0 | P24: =' B_Populations'!D24 -> 0 | Q24: =IF(P24=0,0,($D$24/$P$24)*100000) -> 0 | R24: =' B_Populations'!F24 -> 0 | S24: =IF(R24=0,0,($E$24/$R$24)*100000) -> 0 | T24: =' B_Populations'!H24 -> 0 | U24: =IF(T24=0,0,($F$24/$T$24)*100000) -> 0 | V24: =' B_Populations'!J24 -> 0 | W24: =IF(V24=0,0,($G$24/$V$24)*100000) -> 0 | X24: =' B_Populations'!L24 -> 0 | Y24: =IF(X24=0,0,($H$24/$X$24)*100000) -> 0 | Z24: =' B_Populations'!N24 -> 0 | AA24: =IF(Z24=0,0,($I$24/$Z$24)*100000) -> 0 | AB24: =' B_Populations'!P24 -> 0 | AC24: =IF(AB24=0,0,($J$24/$AB$24)*100000) -> 0 | AD24: =' B_Populations'!R24 -> 0 | AE24: =IF(AD24=0,0,($K$24/$AD$24)*100000) -> 0 | AF24: =' B_Populations'!T24 -> 0 | AG24: =IF(AF24=0,0,($L$24/$AF$24)*100000) -> 0 | AI24: 19920 | AJ24: 0.072533 | AL24: =' B_Populations'!$A$11 -> 5-9 | AM24: =O24*AJ24 -> 0 | AN24: =Q24*AJ24 -> 0 | AO24: =S24*AJ24 -> 0 | AP24: =U24*AJ24 -> 0 | AQ24: =W24*AJ24 -> 0 | AR24: =Y24*AJ24 -> 0 | AS24: =AA24*AJ24 -> 0 | AT24: =AC24*AJ24 -> 0 | AU24: =AE24*AJ24 -> 0 | AV24: =AG24*AJ24 -> 0
B25: =' B_Populations'!$A$12 -> 10-14 | N25: =' B_Populations'!B25 -> 0 | O25: =IF(N25=0,0,($C$25/$N$25)*100000) -> 0 | P25: =' B_Populations'!D25 -> 0 | Q25: =IF(P25=0,0,($D$25/$P$25)*100000) -> 0 | R25: =' B_Populations'!F25 -> 0 | S25: =IF(R25=0,0,($E$25/$R$25)*100000) -> 0 | T25: =' B_Populations'!H25 -> 0 | U25: =IF(T25=0,0,($F$25/$T$25)*100000) -> 0 | V25: =' B_Populations'!J25 -> 0 | W25: =IF(V25=0,0,($G$25/$V$25)*100000) -> 0 | X25: =' B_Populations'!L25 -> 0 | Y25: =IF(X25=0,0,($H$25/$X$25)*100000) -> 0 | Z25: =' B_Populations'!N25 -> 0 | AA25: =IF(Z25=0,0,($I$25/$Z$25)*100000) -> 0 | AB25: =' B_Populations'!P25 -> 0 | AC25: =IF(AB25=0,0,($J$25/$AB$25)*100000) -> 0 | AD25: =' B_Populations'!R25 -> 0 | AE25: =IF(AD25=0,0,($K$25/$AD$25)*100000) -> 0 | AF25: =' B_Populations'!T25 -> 0 | AG25: =IF(AF25=0,0,($L$25/$AF$25)*100000) -> 0 | AI25: 20057 | AJ25: 0.073032 | AL25: =' B_Populations'!$A$12 -> 10-14 | AM25: =O25*AJ25 -> 0 | AN25: =Q25*AJ25 -> 0 | AO25: =S25*AJ25 -> 0 | AP25: =U25*AJ25 -> 0 | AQ25: =W25*AJ25 -> 0 | AR25: =Y25*AJ25 -> 0 | AS25: =AA25*AJ25 -> 0 | AT25: =AC25*AJ25 -> 0 | AU25: =AE25*AJ25 -> 0 | AV25: =AG25*AJ25 -> 0
B26: =' B_Populations'!$A$13 -> 15-17 | N26: =' B_Populations'!B26 -> 0 | O26: =IF(N26=0,0,($C$26/$N$26)*100000) -> 0 | P26: =' B_Populations'!D26 -> 0 | Q26: =IF(P26=0,0,($D$26/$P$26)*100000) -> 0 | R26: =' B_Populations'!F26 -> 0 | S26: =IF(R26=0,0,($E$26/$R$26)*100000) -> 0 | T26: =' B_Populations'!H26 -> 0 | U26: =IF(T26=0,0,($F$26/$T$26)*100000) -> 0 | V26: =' B_Populations'!J26 -> 0 | W26: =IF(V26=0,0,($G$26/$V$26)*100000) -> 0 | X26: =' B_Populations'!L26 -> 0 | Y26: =IF(X26=0,0,($H$26/$X$26)*100000) -> 0 | Z26: =' B_Populations'!N26 -> 0 | AA26: =IF(Z26=0,0,($I$26/$Z$26)*100000) -> 0 | AB26: =' B_Populations'!P26 -> 0 | AC26: =IF(AB26=0,0,($J$26/$AB$26)*100000) -> 0 | AD26: =' B_Populations'!R26 -> 0 | AE26: =IF(AD26=0,0,($K$26/$AD$26)*100000) -> 0 | AF26: =' B_Populations'!T26 -> 0 | AG26: =IF(AF26=0,0,($L$26/$AF$26)*100000) -> 0 | AI26: 19820 | AJ26: 0.072169 | AL26: =' B_Populations'!$A$13 -> 15-17 | AM26: =O26*AJ26 -> 0 | AN26: =Q26*AJ26 -> 0 | AO26: =S26*AJ26 -> 0 | AP26: =U26*AJ26 -> 0 | AQ26: =W26*AJ26 -> 0 | AR26: =Y26*AJ26 -> 0 | AS26: =AA26*AJ26 -> 0 | AT26: =AC26*AJ26 -> 0 | AU26: =AE26*AJ26 -> 0 | AV26: =AG26*AJ26 -> 0
B27: total | C27: =SUM(C22:C26) -> 0 | D27: =SUM(D22:D26) -> 0 | E27: =SUM(E22:E26) -> 0 | F27: =SUM(F22:F26) -> 0 | G27: =SUM(G22:G26) -> 0 | H27: =SUM(H22:H26) -> 0 | I27: =SUM(I22:I26) -> 0 | J27: =SUM(J22:J26) -> 0 | ... L27: =SUM(L22:L26) -> 0 | N27: =SUM(N22:N26) -> 0 | O27: =SUM(O22:O26) -> 0 | P27: =SUM(P22:P26) -> 0 | Q27: =SUM(Q22:Q26) -> 0 | R27: =SUM(R22:R26) -> 0 | S27: =SUM(S22:S26) -> 0 | T27: =SUM(T22:T26) -> 0 | U27: =SUM(U22:U26) -> 0 | ... AG27: =SUM(AG22:AG26) -> 0 | AI27: =SUM(AI22:AI26) -> 78784 | AL27: total | AM27: =SUM(AM22:AM26) -> 0 | AN27: =SUM(AN22:AN26) -> 0 | AO27: =SUM(AO22:AO26) -> 0 | AP27: =SUM(AP22:AP26) -> 0 | AQ27: =SUM(AQ22:AQ26) -> 0 | AR27: =SUM(AR22:AR26) -> 0 | AS27: =SUM(AS22:AS26) -> 0 | AT27: =SUM(AT22:AT26) -> 0 | ... AV27: =SUM(AV22:AV26) -> 0

Sheet E_Year 3
A1: =' B_Populations'!D30 -> 0 | B1: Data Input Tables Instructions: Enter your unintentional child injury-related injury data in the red cells below. The age-adjusted rates will automatically calculate in the results table. | N1: Rate per 100,000 calculations | AI1: Population Weights | AL1: Results Table Age Adjusted Rates per 100,1000. Results will calculate automatically.
D2: Sex Data | F2: Demographic Data | AM2: Age-adjusted Rates per 100,000 population
A3: Emergency Dept Visits | B3: Age | C3: Number of ED Visits - Total | D3: Number of hospitalizations- Male | E3: Number of hospitalizations- Female | F3: =' B_Populations'!$H$8 -> White-Not Hispanic | G3: =' B_Populations'!$J$8 -> Hispanic | H3: =' B_Populations'!$L$8 -> Black-Not Hispanic | I3: =' B_Populations'!$N$8 -> Asian | J3: =' B_Populations'!$P$8 -> American Indian/Alaska Native | K3: =' B_Populations'!$R$8 -> Other | L3: =' B_Populations'!$T$8 -> Other | N3: State population - Total | O3: Rate | P3: State population - Male | Q3: Rate | R3: State population - Female | S3: Rate | T3: =' B_Populations'!$H$8 -> White-Not Hispanic | U3: Rate | V3: =' B_Populations'!$J$8 -> Hispanic | W3: Rate | X3: =' B_Populations'!$L$8 -> Black-Not Hispanic | Y3: Rate | Z3: =' B_Populations'!$N$8 -> Asian | AA3: Rate | AB3: =' B_Populations'!$P$8 -> American Indian/Alaska Native | AC3: Rate | AD3: =' B_Populations'!$R$8 -> Other | AE3: Rate | AF3: =' B_Populations'!$T$8 -> Other | AG3: Rate | AI3: 2000 population | AJ3: Weight | AL3: Age | AM3: Total | AN3: Male | AO3: Female | AP3: =' B_Populations'!$H$8 -> White-Not Hispanic | AQ3: =' B_Populations'!$J$8 -> Hispanic | AR3: =' B_Populations'!$L$8 -> Black-Not Hispanic | AS3: =' B_Populations'!$N$8 -> Asian | AT3: =' B_Populations'!$P$8 -> American Indian/Alaska Native | AU3: =' B_Populations'!$R$8 -> Other | AV3: =' B_Populations'!$T$8 -> Other
B4: =' B_Populations'!$A$9 -> <1 | N4: =' B_Populations'!B35 -> 0 | O4: =IF(N4=0,0,($C$4/$N$4)*100000) -> 0 | P4: =' B_Populations'!D35 -> 0 | Q4: =IF(P4=0,0,($D$4/$P$4)*100000) -> 0 | R4: =' B_Populations'!F35 -> 0 | S4: =IF(R4=0,0,($E$4/$R$4)*100000) -> 0 | T4: =' B_Populations'!H35 -> 0 | U4: =IF(T4=0,0,($F$4/$T$4)*100000) -> 0 | V4: =' B_Populations'!J35 -> 0 | W4: =IF(V4=0,0,($G$4/$V$4)*100000) -> 0 | X4: =' B_Populations'!L35 -> 0 | Y4: =IF(X4=0,0,($H$4/$X$4)*100000) -> 0 | Z4: =' B_Populations'!N35 -> 0 | AA4: =IF(Z4=0,0,($I$4/$Z$4)*100000) -> 0 | AB4: =' B_Populations'!P35 -> 0 | AC4: =IF(AB4=0,0,($J$4/$AB$4)*100000) -> 0 | AD4: =' B_Populations'!R35 -> 0 | AE4: =IF(AD4=0,0,($K$4/$AD$4)*100000) -> 0 | AF4: =' B_Populations'!T35 -> 0 | AG4: =IF(AF4=0,0,($L$4/$AF$4)*100000) -> 0 | AI4: 3795 | AJ4: 0.013818 | AL4: =' B_Populations'!$A$9 -> <1 | AM4: =O4*AJ4 -> 0 | AN4: =Q4*AJ4 -> 0 | AO4: =S4*AJ4 -> 0 | AP4: =U4*AJ4 -> 0 | AQ4: =W4*AJ4 -> 0 | AR4: =Y4*AJ4 -> 0 | AS4: =AA4*AJ4 -> 0 | AT4: =AC4*AJ4 -> 0 | AU4: =AE4*AJ4 -> 0 | AV4: =AG4*AJ4 -> 0
B5: =' B_Populations'!$A$10 -> 1-4 | N5: =' B_Populations'!B36 -> 0 | O5: =IF(N5=0,0,($C$5/$N$5)*100000) -> 0 | P5: =' B_Populations'!D36 -> 0 | Q5: =IF(P5=0,0,($D$5/$P$5)*100000) -> 0 | R5: =' B_Populations'!F36 -> 0 | S5: =IF(R5=0,0,($E$5/$R$5)*100000) -> 0 | T5: =' B_Populations'!H36 -> 0 | U5: =IF(T5=0,0,($F$5/$T$5)*100000) -> 0 | V5: =' B_Populations'!J36 -> 0 | W5: =IF(V5=0,0,($G$5/$V$5)*100000) -> 0 | X5: =' B_Populations'!L36 -> 0 | Y5: =IF(X5=0,0,($G$5/$X$5)*100000) -> 0 | Z5: =' B_Populations'!N36 -> 0 | AA5: =IF(Z5=0,0,($I$5/$Z$5)*100000) -> 0 | AB5: =' B_Populations'!P36 -> 0 | AC5: =IF(AB5=0,0,($J$5/$AB$5)*100000) -> 0 | AD5: =' B_Populations'!R36 -> 0 | AE5: =IF(AD5=0,0,($K$5/$AD$5)*100000) -> 0 | AF5: =' B_Populations'!T36 -> 0 | AG5: =IF(AF5=0,0,($L$5/$AF$5)*100000) -> 0 | AI5: 15192 | AJ5: 0.055317 | AL5: =' B_Populations'!$A$10 -> 1-4 | AM5: =O5*AJ5 -> 0 | AN5: =Q5*AJ5 -> 0 | AO5: =S5*AJ5 -> 0 | AP5: =U5*AJ5 -> 0 | AQ5: =W5*AJ5 -> 0 | AR5: =Y5*AJ5 -> 0 | AS5: =AA5*AJ5 -> 0 | AT5: =AC5*AJ5 -> 0 | AU5: =AE5*AJ5 -> 0 | AV5: =AG5*AJ5 -> 0
B6: =' B_Populations'!$A$11 -> 5-9 | N6: =' B_Populations'!B37 -> 0 | O6: =IF(N6=0,0,($C$6/$N$6)*100000) -> 0 | P6: =' B_Populations'!D37 -> 0 | Q6: =IF(P6=0,0,($D$6/$P$6)*100000) -> 0 | R6: =' B_Populations'!F37 -> 0 | S6: =IF(R6=0,0,($E$6/$R$6)*100000) -> 0 | T6: =' B_Populations'!H37 -> 0 | U6: =IF(T6=0,0,($F$6/$T$6)*100000) -> 0 | V6: =' B_Populations'!J37 -> 0 | W6: =IF(V6=0,0,($G$6/$V$6)*100000) -> 0 | X6: =' B_Populations'!L37 -> 0 | Y6: =IF(X6=0,0,($G$6/$X$6)*100000) -> 0 | Z6: =' B_Populations'!N37 -> 0 | AA6: =IF(Z6=0,0,($I$6/$Z$6)*100000) -> 0 | AB6: =' B_Populations'!P37 -> 0 | AC6: =IF(AB6=0,0,($J$6/$AB$6)*100000) -> 0 | AD6: =' B_Populations'!R37 -> 0 | AE6: =IF(AD6=0,0,($K$6/$AD$6)*100000) -> 0 | AF6: =' B_Populations'!T37 -> 0 | AG6: =IF(AF6=0,0,($L$6/$AF$6)*100000) -> 0 | AI6: 19920 | AJ6: 0.072533 | AL6: =' B_Populations'!$A$11 -> 5-9 | AM6: =O6*AJ6 -> 0 | AN6: =Q6*AJ6 -> 0 | AO6: =S6*AJ6 -> 0 | AP6: =U6*AJ6 -> 0 | AQ6: =W6*AJ6 -> 0 | AR6: =Y6*AJ6 -> 0 | AS6: =AA6*AJ6 -> 0 | AT6: =AC6*AJ6 -> 0 | AU6: =AE6*AJ6 -> 0 | AV6: =AG6*AJ6 -> 0
B7: =' B_Populations'!$A$12 -> 10-14 | N7: =' B_Populations'!B38 -> 0 | O7: =IF(N7=0,0,($C$7/$N$7)*100000) -> 0 | P7: =' B_Populations'!D38 -> 0 | Q7: =IF(P7=0,0,($D$7/$P$7)*100000) -> 0 | R7: =' B_Populations'!F38 -> 0 | S7: =IF(R7=0,0,($E$7/$R$7)*100000) -> 0 | T7: =' B_Populations'!H38 -> 0 | U7: =IF(T7=0,0,($F$7/$T$7)*100000) -> 0 | V7: =' B_Populations'!J38 -> 0 | W7: =IF(V7=0,0,($G$7/$V$7)*100000) -> 0 | X7: =' B_Populations'!L38 -> 0 | Y7: =IF(X7=0,0,($G$7/$X$7)*100000) -> 0 | Z7: =' B_Populations'!N38 -> 0 | AA7: =IF(Z7=0,0,($I$7/$Z$7)*100000) -> 0 | AB7: =' B_Populations'!P38 -> 0 | AC7: =IF(AB7=0,0,($J$7/$AB$7)*100000) -> 0 | AD7: =' B_Populations'!R38 -> 0 | AE7: =IF(AD7=0,0,($K$7/$AD$7)*100000) -> 0 | AF7: =' B_Populations'!T38 -> 0 | AG7: =IF(AF7=0,0,($L$7/$AF$7)*100000) -> 0 | AI7: 20057 | AJ7: 0.073032 | AL7: =' B_Populations'!$A$12 -> 10-14 | AM7: =O7*AJ7 -> 0 | AN7: =Q7*AJ7 -> 0 | AO7: =S7*AJ7 -> 0 | AP7: =U7*AJ7 -> 0 | AQ7: =W7*AJ7 -> 0 | AR7: =Y7*AJ7 -> 0 | AS7: =AA7*AJ7 -> 0 | AT7: =AC7*AJ7 -> 0 | AU7: =AE7*AJ7 -> 0 | AV7: =AG7*AJ7 -> 0
B8: =' B_Populations'!$A$13 -> 15-17 | N8: =' B_Populations'!B39 -> 0 | O8: =IF(N8=0,0,($C$8/$N$8)*100000) -> 0 | P8: =' B_Populations'!D39 -> 0 | Q8: =IF(P8=0,0,($D$8/$P$8)*100000) -> 0 | R8: =' B_Populations'!F39 -> 0 | S8: =IF(R8=0,0,($E$8/$R$8)*100000) -> 0 | T8: =' B_Populations'!H39 -> 0 | U8: =IF(T8=0,0,($F$8/$T$8)*100000) -> 0 | V8: =' B_Populations'!J39 -> 0 | W8: =IF(V8=0,0,($G$8/$V$8)*100000) -> 0 | X8: =' B_Populations'!L39 -> 0 | Y8: =IF(X8=0,0,($G$8/$X$8)*100000) -> 0 | Z8: =' B_Populations'!N39 -> 0 | AA8: =IF(Z8=0,0,($I$8/$Z$8)*100000) -> 0 | AB8: =' B_Populations'!P39 -> 0 | AC8: =IF(AB8=0,0,($J$8/$AB$8)*100000) -> 0 | AD8: =' B_Populations'!R39 -> 0 | AE8: =IF(AD8=0,0,($K$8/$AD$8)*100000) -> 0 | AF8: =' B_Populations'!T39 -> 0 | AG8: =IF(AF8=0,0,($L$8/$AF$8)*100000) -> 0 | AI8: 19820 | AJ8: 0.072169 | AL8: =' B_Populations'!$A$13 -> 15-17 | AM8: =O8*AJ8 -> 0 | AN8: =Q8*AJ8 -> 0 | AO8: =S8*AJ8 -> 0 | AP8: =U8*AJ8 -> 0 | AQ8: =W8*AJ8 -> 0 | AR8: =Y8*AJ8 -> 0 | AS8: =AA8*AJ8 -> 0 | AT8: =AC8*AJ8 -> 0 | AU8: =AE8*AJ8 -> 0 | AV8: =AG8*AJ8 -> 0
B9: total | C9: =SUM(C4:C8) -> 0 | D9: =SUM(D4:D8) -> 0 | E9: =SUM(E4:E8) -> 0 | F9: =SUM(F4:F8) -> 0 | G9: =SUM(G4:G8) -> 0 | H9: =SUM(H4:H8) -> 0 | I9: =SUM(I4:I8) -> 0 | J9: =SUM(J4:J8) -> 0 | ... L9: =SUM(L4:L8) -> 0 | N9: =SUM(N4:N8) -> 0 | O9: =SUM(O4:O8) -> 0 | P9: =SUM(P4:P8) -> 0 | Q9: =SUM(Q4:Q8) -> 0 | R9: =SUM(R4:R8) -> 0 | S9: =SUM(S4:S8) -> 0 | T9: =SUM(T4:T8) -> 0 | U9: =SUM(U4:U8) -> 0 | ... AG9: =SUM(AG4:AG8) -> 0 | AI9: =SUM(AI4:AI8) -> 78784 | AL9: total | AM9: =SUM(AM4:AM8) -> 0 | AN9: =SUM(AN4:AN8) -> 0 | AO9: =SUM(AO4:AO8) -> 0 | AP9: =SUM(AP4:AP8) -> 0 | AQ9: =SUM(AQ4:AQ8) -> 0 | AR9: =SUM(AR4:AR8) -> 0 | AS9: =SUM(AS4:AS8) -> 0 | AT9: =SUM(AT4:AT8) -> 0 | ... AV9: =SUM(AV4:AV8) -> 0
D11: Sex Data | F11: Demographic Data | AM11: Age-adjusted Rates per 100,000 population
A12: Hospitalizations | B12: Age | C12: Number of hospitalizations- Total | D12: Number of ED visits- Male | E12: Number of ED visits- Female | F12: =' B_Populations'!$H$8 -> White-Not Hispanic | G12: =' B_Populations'!$J$8 -> Hispanic | H12: =' B_Populations'!$L$8 -> Black-Not Hispanic | I12: =' B_Populations'!$N$8 -> Asian | J12: =' B_Populations'!$P$8 -> American Indian/Alaska Native | K12: =' B_Populations'!$R$8 -> Other | L12: =' B_Populations'!$T$8 -> Other | N12: State population - Total | O12: Rate | P12: State population - Male | Q12: Rate | R12: State population - Female | S12: Rate | T12: =' B_Populations'!$H$8 -> White-Not Hispanic | U12: Rate | V12: =' B_Populations'!$J$8 -> Hispanic | W12: Rate | X12: =' B_Populations'!$L$8 -> Black-Not Hispanic | Y12: Rate | Z12: =' B_Populations'!$N$8 -> Asian | AA12: Rate | AB12: =' B_Populations'!$P$8 -> American Indian/Alaska Native | AC12: Rate | AD12: =' B_Populations'!$R$8 -> Other | AE12: Rate | AF12: =' B_Populations'!$T$8 -> Other | AG12: Rate | AI12: 2000 population | AJ12: Weight | AL12: Age | AM12: Total | AN12: Male | AO12: Female | AP12: =' B_Populations'!$H$8 -> White-Not Hispanic | AQ12: =' B_Populations'!$J$8 -> Hispanic | AR12: =' B_Populations'!$L$8 -> Black-Not Hispanic | AS12: =' B_Populations'!$N$8 -> Asian | AT12: =' B_Populations'!$P$8 -> American Indian/Alaska Native | AU12: =' B_Populations'!$R$8 -> Other | AV12: =' B_Populations'!$T$8 -> Other
B13: =' B_Populations'!$A$9 -> <1 | N13: =' B_Populations'!B35 -> 0 | O13: =IF(N13=0,0,($C$13/$N$13)*100000) -> 0 | P13: =' B_Populations'!D35 -> 0 | Q13: =IF(P13=0,0,($D$13/$P$13)*100000) -> 0 | R13: =' B_Populations'!F35 -> 0 | S13: =IF(R13=0,0,($E$13/$R$13)*100000) -> 0 | T13: =' B_Populations'!H35 -> 0 | U13: =IF(T13=0,0,($F$13/$T$13)*100000) -> 0 | V13: =' B_Populations'!J35 -> 0 | W13: =IF(V13=0,0,($G$13/$V$13)*100000) -> 0 | X13: =' B_Populations'!L35 -> 0 | Y13: =IF(X13=0,0,($H$13/$X$13)*100000) -> 0 | Z13: =' B_Populations'!N35 -> 0 | AA13: =IF(Z13=0,0,($I$13/$Z$13)*100000) -> 0 | AB13: =' B_Populations'!P35 -> 0 | AC13: =IF(AB13=0,0,($J$13/$AB$13)*100000) -> 0 | AD13: =' B_Populations'!R35 -> 0 | AE13: =IF(AD13=0,0,($K$13/$AD$13)*100000) -> 0 | AF13: =' B_Populations'!T35 -> 0 | AG13: =IF(AF13=0,0,($L$13/$AF$13)*100000) -> 0 | AI13: 3795 | AJ13: 0.013818 | AL13: =' B_Populations'!$A$9 -> <1 | AM13: =O13*AJ13 -> 0 | AN13: =Q13*AJ13 -> 0 | AO13: =S13*AJ13 -> 0 | AP13: =U13*AJ13 -> 0 | AQ13: =W13*AJ13 -> 0 | AR13: =Y13*AJ13 -> 0 | AS13: =AA13*AJ13 -> 0 | AT13: =AC13*AJ13 -> 0 | AU13: =AE13*AJ13 -> 0 | AV13: =AG13*AJ13 -> 0
B14: =' B_Populations'!$A$10 -> 1-4 | N14: =' B_Populations'!B36 -> 0 | O14: =IF(N14=0,0,($C$14/$N$14)*100000) -> 0 | P14: =' B_Populations'!D36 -> 0 | Q14: =IF(P14=0,0,($D$14/$P$14)*100000) -> 0 | R14: =' B_Populations'!F36 -> 0 | S14: =IF(R14=0,0,($E$14/$R$14)*100000) -> 0 | T14: =' B_Populations'!H36 -> 0 | U14: =IF(T14=0,0,($F$14/$T$14)*100000) -> 0 | V14: =' B_Populations'!J36 -> 0 | W14: =IF(V14=0,0,($G$14/$V$14)*100000) -> 0 | X14: =' B_Populations'!L36 -> 0 | Y14: =IF(X14=0,0,($H$14/$X$14)*100000) -> 0 | Z14: =' B_Populations'!N36 -> 0 | AA14: =IF(Z14=0,0,($I$14/$Z$14)*100000) -> 0 | AB14: =' B_Populations'!P36 -> 0 | AC14: =IF(AB14=0,0,($J$14/$AB$14)*100000) -> 0 | AD14: =' B_Populations'!R36 -> 0 | AE14: =IF(AD14=0,0,($K$14/$AD$14)*100000) -> 0 | AF14: =' B_Populations'!T36 -> 0 | AG14: =IF(AF14=0,0,($L$14/$AF$14)*100000) -> 0 | AI14: 15192 | AJ14: 0.055317 | AL14: =' B_Populations'!$A$10 -> 1-4 | AM14: =O14*AJ14 -> 0 | AN14: =Q14*AJ14 -> 0 | AO14: =S14*AJ14 -> 0 | AP14: =U14*AJ14 -> 0 | AQ14: =W14*AJ14 -> 0 | AR14: =Y14*AJ14 -> 0 | AS14: =AA14*AJ14 -> 0 | AT14: =AC14*AJ14 -> 0 | AU14: =AE14*AJ14 -> 0 | AV14: =AG14*AJ14 -> 0
B15: =' B_Populations'!$A$11 -> 5-9 | N15: =' B_Populations'!B37 -> 0 | O15: =IF(N15=0,0,($C$15/$N$15)*100000) -> 0 | P15: =' B_Populations'!D37 -> 0 | Q15: =IF(P15=0,0,($D$15/$P$15)*100000) -> 0 | R15: =' B_Populations'!F37 -> 0 | S15: =IF(R15=0,0,($E$15/$R$15)*100000) -> 0 | T15: =' B_Populations'!H37 -> 0 | U15: =IF(T15=0,0,($F$15/$T$15)*100000) -> 0 | V15: =' B_Populations'!J37 -> 0 | W15: =IF(V15=0,0,($G$15/$V$15)*100000) -> 0 | X15: =' B_Populations'!L37 -> 0 | Y15: =IF(X15=0,0,($H$15/$X$15)*100000) -> 0 | Z15: =' B_Populations'!N37 -> 0 | AA15: =IF(Z15=0,0,($I$15/$Z$15)*100000) -> 0 | AB15: =' B_Populations'!P37 -> 0 | AC15: =IF(AB15=0,0,($J$15/$AB$15)*100000) -> 0 | AD15: =' B_Populations'!R37 -> 0 | AE15: =IF(AD15=0,0,($K$15/$AD$15)*100000) -> 0 | AF15: =' B_Populations'!T37 -> 0 | AG15: =IF(AF15=0,0,($L$15/$AF$15)*100000) -> 0 | AI15: 19920 | AJ15: 0.072533 | AL15: =' B_Populations'!$A$11 -> 5-9 | AM15: =O15*AJ15 -> 0 | AN15: =Q15*AJ15 -> 0 | AO15: =S15*AJ15 -> 0 | AP15: =U15*AJ15 -> 0 | AQ15: =W15*AJ15 -> 0 | AR15: =Y15*AJ15 -> 0 | AS15: =AA15*AJ15 -> 0 | AT15: =AC15*AJ15 -> 0 | AU15: =AE15*AJ15 -> 0 | AV15: =AG15*AJ15 -> 0
B16: =' B_Populations'!$A$12 -> 10-14 | N16: =' B_Populations'!B38 -> 0 | O16: =IF(N16=0,0,($C$16/$N$16)*100000) -> 0 | P16: =' B_Populations'!D38 -> 0 | Q16: =IF(P16=0,0,($D$16/$P$16)*100000) -> 0 | R16: =' B_Populations'!F38 -> 0 | S16: =IF(R16=0,0,($E$16/$R$16)*100000) -> 0 | T16: =' B_Populations'!H38 -> 0 | U16: =IF(T16=0,0,($F$16/$T$16)*100000) -> 0 | V16: =' B_Populations'!J38 -> 0 | W16: =IF(V16=0,0,($G$16/$V$16)*100000) -> 0 | X16: =' B_Populations'!L38 -> 0 | Y16: =IF(X16=0,0,($H$16/$X$16)*100000) -> 0 | Z16: =' B_Populations'!N38 -> 0 | AA16: =IF(Z16=0,0,($I$16/$Z$16)*100000) -> 0 | AB16: =' B_Populations'!P38 -> 0 | AC16: =IF(AB16=0,0,($J$16/$AB$16)*100000) -> 0 | AD16: =' B_Populations'!R38 -> 0 | AE16: =IF(AD16=0,0,($K$16/$AD$16)*100000) -> 0 | AF16: =' B_Populations'!T38 -> 0 | AG16: =IF(AF16=0,0,($L$16/$AF$16)*100000) -> 0 | AI16: 20057 | AJ16: 0.073032 | AL16: =' B_Populations'!$A$12 -> 10-14 | AM16: =O16*AJ16 -> 0 | AN16: =Q16*AJ16 -> 0 | AO16: =S16*AJ16 -> 0 | AP16: =U16*AJ16 -> 0 | AQ16: =W16*AJ16 -> 0 | AR16: =Y16*AJ16 -> 0 | AS16: =AA16*AJ16 -> 0 | AT16: =AC16*AJ16 -> 0 | AU16: =AE16*AJ16 -> 0 | AV16: =AG16*AJ16 -> 0
B17: =' B_Populations'!$A$13 -> 15-17 | N17: =' B_Populations'!B39 -> 0 | O17: =IF(N17=0,0,($C$17/$N$17)*100000) -> 0 | P17: =' B_Populations'!D39 -> 0 | Q17: =IF(P17=0,0,($D$17/$P$17)*100000) -> 0 | R17: =' B_Populations'!F39 -> 0 | S17: =IF(R17=0,0,($E$17/$R$17)*100000) -> 0 | T17: =' B_Populations'!H39 -> 0 | U17: =IF(T17=0,0,($F$17/$T$17)*100000) -> 0 | V17: =' B_Populations'!J39 -> 0 | W17: =IF(V17=0,0,($G$17/$V$17)*100000) -> 0 | X17: =' B_Populations'!L39 -> 0 | Y17: =IF(X17=0,0,($H$17/$X$17)*100000) -> 0 | Z17: =' B_Populations'!N39 -> 0 | AA17: =IF(Z17=0,0,($I$17/$Z$17)*100000) -> 0 | AB17: =' B_Populations'!P39 -> 0 | AC17: =IF(AB17=0,0,($J$17/$AB$17)*100000) -> 0 | AD17: =' B_Populations'!R39 -> 0 | AE17: =IF(AD17=0,0,($K$17/$AD$17)*100000) -> 0 | AF17: =' B_Populations'!T39 -> 0 | AG17: =IF(AF17=0,0,($L$17/$AF$17)*100000) -> 0 | AI17: 19820 | AJ17: 0.072169 | AL17: =' B_Populations'!$A$13 -> 15-17 | AM17: =O17*AJ17 -> 0 | AN17: =Q17*AJ17 -> 0 | AO17: =S17*AJ17 -> 0 | AP17: =U17*AJ17 -> 0 | AQ17: =W17*AJ17 -> 0 | AR17: =Y17*AJ17 -> 0 | AS17: =AA17*AJ17 -> 0 | AT17: =AC17*AJ17 -> 0 | AU17: =AE17*AJ17 -> 0 | AV17: =AG17*AJ17 -> 0
B18: total | C18: =SUM(C13:C17) -> 0 | D18: =SUM(D13:D17) -> 0 | E18: =SUM(E13:E17) -> 0 | F18: =SUM(F13:F17) -> 0 | G18: =SUM(G13:G17) -> 0 | H18: =SUM(H13:H17) -> 0 | I18: =SUM(I13:I17) -> 0 | J18: =SUM(J13:J17) -> 0 | ... L18: =SUM(L13:L17) -> 0 | N18: =SUM(N13:N17) -> 0 | O18: =SUM(O13:O17) -> 0 | P18: =SUM(P13:P17) -> 0 | Q18: =SUM(Q13:Q17) -> 0 | R18: =SUM(R13:R17) -> 0 | S18: =SUM(S13:S17) -> 0 | T18: =SUM(T13:T17) -> 0 | U18: =SUM(U13:U17) -> 0 | ... AG18: =SUM(AG13:AG17) -> 0 | AI18: =SUM(AI13:AI17) -> 78784 | AL18: total | AM18: =SUM(AM13:AM17) -> 0 | AN18: =SUM(AN13:AN17) -> 0 | AO18: =SUM(AO13:AO17) -> 0 | AP18: =SUM(AP13:AP17) -> 0 | AQ18: =SUM(AQ13:AQ17) -> 0 | AR18: =SUM(AR13:AR17) -> 0 | AS18: =SUM(AS13:AS17) -> 0 | AT18: =SUM(AT13:AT17) -> 0 | ... AV18: =SUM(AV13:AV17) -> 0
D20: Sex Data | F20: Demographic Data | AM20: Age-adjusted Rates per 100,000 population
A21: Deaths | B21: Age | C21: Number of deaths- Total | D21: Number of deaths- Male | E21: Number of deaths- Female | F21: =' B_Populations'!$H$8 -> White-Not Hispanic | G21: =' B_Populations'!$J$8 -> Hispanic | H21: =' B_Populations'!$L$8 -> Black-Not Hispanic | I21: =' B_Populations'!$N$8 -> Asian | J21: =' B_Populations'!$P$8 -> American Indian/Alaska Native | K21: =' B_Populations'!$R$8 -> Other | L21: =' B_Populations'!$T$8 -> Other | N21: State population - Total | O21: Rate | P21: State population - Male | Q21: Rate | R21: State population - Female | S21: Rate | T21: =' B_Populations'!$H$8 -> White-Not Hispanic | U21: Rate | V21: =' B_Populations'!$J$8 -> Hispanic | W21: Rate | X21: =' B_Populations'!$L$8 -> Black-Not Hispanic | Y21: Rate | Z21: =' B_Populations'!$N$8 -> Asian | AA21: Rate | AB21: =' B_Populations'!$P$8 -> American Indian/Alaska Native | AC21: Rate | AD21: =' B_Populations'!$R$8 -> Other | AE21: Rate | AF21: =' B_Populations'!$T$8 -> Other | AG21: Rate | AI21: 2000 population | AJ21: Weight | AL21: Age | AM21: Total | AN21: Male | AO21: Female | AP21: =' B_Populations'!$H$8 -> White-Not Hispanic | AQ21: =' B_Populations'!$J$8 -> Hispanic | AR21: =' B_Populations'!$L$8 -> Black-Not Hispanic | AS21: =' B_Populations'!$N$8 -> Asian | AT21: =' B_Populations'!$P$8 -> American Indian/Alaska Native | AU21: =' B_Populations'!$R$8 -> Other | AV21: =' B_Populations'!$T$8 -> Other
B22: =' B_Populations'!$A$9 -> <1 | N22: =' B_Populations'!B35 -> 0 | O22: =IF(N22=0,0,($C$22/$N$22)*100000) -> 0 | P22: =' B_Populations'!D35 -> 0 | Q22: =IF(P22=0,0,($D$22/$P$22)*100000) -> 0 | R22: =' B_Populations'!F35 -> 0 | S22: =IF(R22=0,0,($E$22/$R$22)*100000) -> 0 | T22: =' B_Populations'!H35 -> 0 | U22: =IF(T22=0,0,($F$22/$T$22)*100000) -> 0 | V22: =' B_Populations'!J35 -> 0 | W22: =IF(V22=0,0,($G$22/$V$22)*100000) -> 0 | X22: =' B_Populations'!L35 -> 0 | Y22: =IF(X22=0,0,($H$22/$X$22)*100000) -> 0 | Z22: =' B_Populations'!N35 -> 0 | AA22: =IF(Z22=0,0,($I$22/$Z$22)*100000) -> 0 | AB22: =' B_Populations'!P35 -> 0 | AC22: =IF(AB22=0,0,($J$22/$AB$22)*100000) -> 0 | AD22: =' B_Populations'!R35 -> 0 | AE22: =IF(AD22=0,0,($K$22/$AD$22)*100000) -> 0 | AF22: =' B_Populations'!T35 -> 0 | AG22: =IF(AF22=0,0,($L$22/$AF$22)*100000) -> 0 | AI22: 3795 | AJ22: 0.013818 | AL22: =' B_Populations'!$A$9 -> <1 | AM22: =O22*AJ22 -> 0 | AN22: =Q22*AJ22 -> 0 | AO22: =S22*AJ22 -> 0 | AP22: =U22*AJ22 -> 0 | AQ22: =W22*AJ22 -> 0 | AR22: =Y22*AJ22 -> 0 | AS22: =AA22*AJ22 -> 0 | AT22: =AC22*AJ22 -> 0 | AU22: =AE22*AJ22 -> 0 | AV22: =AG22*AJ22 -> 0
B23: =' B_Populations'!$A$10 -> 1-4 | N23: =' B_Populations'!B36 -> 0 | O23: =IF(N23=0,0,($C$23/$N$23)*100000) -> 0 | P23: =' B_Populations'!D36 -> 0 | Q23: =IF(P23=0,0,($D$23/$P$23)*100000) -> 0 | R23: =' B_Populations'!F36 -> 0 | S23: =IF(R23=0,0,($E$23/$R$23)*100000) -> 0 | T23: =' B_Populations'!H36 -> 0 | U23: =IF(T23=0,0,($F$23/$T$23)*100000) -> 0 | V23: =' B_Populations'!J36 -> 0 | W23: =IF(V23=0,0,($G$23/$V$23)*100000) -> 0 | X23: =' B_Populations'!L36 -> 0 | Y23: =IF(X23=0,0,($H$23/$X$23)*100000) -> 0 | Z23: =' B_Populations'!N36 -> 0 | AA23: =IF(Z23=0,0,($I$23/$Z$23)*100000) -> 0 | AB23: =' B_Populations'!P36 -> 0 | AC23: =IF(AB23=0,0,($J$23/$AB$23)*100000) -> 0 | AD23: =' B_Populations'!R36 -> 0 | AE23: =IF(AD23=0,0,($K$23/$AD$23)*100000) -> 0 | AF23: =' B_Populations'!T36 -> 0 | AG23: =IF(AF23=0,0,($L$23/$AF$23)*100000) -> 0 | AI23: 15192 | AJ23: 0.055317 | AL23: =' B_Populations'!$A$10 -> 1-4 | AM23: =O23*AJ23 -> 0 | AN23: =Q23*AJ23 -> 0 | AO23: =S23*AJ23 -> 0 | AP23: =U23*AJ23 -> 0 | AQ23: =W23*AJ23 -> 0 | AR23: =Y23*AJ23 -> 0 | AS23: =AA23*AJ23 -> 0 | AT23: =AC23*AJ23 -> 0 | AU23: =AE23*AJ23 -> 0 | AV23: =AG23*AJ23 -> 0
B24: =' B_Populations'!$A$11 -> 5-9 | N24: =' B_Populations'!B37 -> 0 | O24: =IF(N24=0,0,($C$24/$N$24)*100000) -> 0 | P24: =' B_Populations'!D37 -> 0 | Q24: =IF(P24=0,0,($D$24/$P$24)*100000) -> 0 | R24: =' B_Populations'!F37 -> 0 | S24: =IF(R24=0,0,($E$24/$R$24)*100000) -> 0 | T24: =' B_Populations'!H37 -> 0 | U24: =IF(T24=0,0,($F$24/$T$24)*100000) -> 0 | V24: =' B_Populations'!J37 -> 0 | W24: =IF(V24=0,0,($G$24/$V$24)*100000) -> 0 | X24: =' B_Populations'!L37 -> 0 | Y24: =IF(X24=0,0,($H$24/$X$24)*100000) -> 0 | Z24: =' B_Populations'!N37 -> 0 | AA24: =IF(Z24=0,0,($I$24/$Z$24)*100000) -> 0 | AB24: =' B_Populations'!P37 -> 0 | AC24: =IF(AB24=0,0,($J$24/$AB$24)*100000) -> 0 | AD24: =' B_Populations'!R37 -> 0 | AE24: =IF(AD24=0,0,($K$24/$AD$24)*100000) -> 0 | AF24: =' B_Populations'!T37 -> 0 | AG24: =IF(AF24=0,0,($L$24/$AF$24)*100000) -> 0 | AI24: 19920 | AJ24: 0.072533 | AL24: =' B_Populations'!$A$11 -> 5-9 | AM24: =O24*AJ24 -> 0 | AN24: =Q24*AJ24 -> 0 | AO24: =S24*AJ24 -> 0 | AP24: =U24*AJ24 -> 0 | AQ24: =W24*AJ24 -> 0 | AR24: =Y24*AJ24 -> 0 | AS24: =AA24*AJ24 -> 0 | AT24: =AC24*AJ24 -> 0 | AU24: =AE24*AJ24 -> 0 | AV24: =AG24*AJ24 -> 0
B25: =' B_Populations'!$A$12 -> 10-14 | N25: =' B_Populations'!B38 -> 0 | O25: =IF(N25=0,0,($C$25/$N$25)*100000) -> 0 | P25: =' B_Populations'!D38 -> 0 | Q25: =IF(P25=0,0,($D$25/$P$25)*100000) -> 0 | R25: =' B_Populations'!F38 -> 0 | S25: =IF(R25=0,0,($E$25/$R$25)*100000) -> 0 | T25: =' B_Populations'!H38 -> 0 | U25: =IF(T25=0,0,($F$25/$T$25)*100000) -> 0 | V25: =' B_Populations'!J38 -> 0 | W25: =IF(V25=0,0,($G$25/$V$25)*100000) -> 0 | X25: =' B_Populations'!L38 -> 0 | Y25: =IF(X25=0,0,($H$25/$X$25)*100000) -> 0 | Z25: =' B_Populations'!N38 -> 0 | AA25: =IF(Z25=0,0,($I$25/$Z$25)*100000) -> 0 | AB25: =' B_Populations'!P38 -> 0 | AC25: =IF(AB25=0,0,($J$25/$AB$25)*100000) -> 0 | AD25: =' B_Populations'!R38 -> 0 | AE25: =IF(AD25=0,0,($K$25/$AD$25)*100000) -> 0 | AF25: =' B_Populations'!T38 -> 0 | AG25: =IF(AF25=0,0,($L$25/$AF$25)*100000) -> 0 | AI25: 20057 | AJ25: 0.073032 | AL25: =' B_Populations'!$A$12 -> 10-14 | AM25: =O25*AJ25 -> 0 | AN25: =Q25*AJ25 -> 0 | AO25: =S25*AJ25 -> 0 | AP25: =U25*AJ25 -> 0 | AQ25: =W25*AJ25 -> 0 | AR25: =Y25*AJ25 -> 0 | AS25: =AA25*AJ25 -> 0 | AT25: =AC25*AJ25 -> 0 | AU25: =AE25*AJ25 -> 0 | AV25: =AG25*AJ25 -> 0
B26: =' B_Populations'!$A$13 -> 15-17 | N26: =' B_Populations'!B39 -> 0 | O26: =IF(N26=0,0,($C$26/$N$26)*100000) -> 0 | P26: =' B_Populations'!D39 -> 0 | Q26: =IF(P26=0,0,($D$26/$P$26)*100000) -> 0 | R26: =' B_Populations'!F39 -> 0 | S26: =IF(R26=0,0,($E$26/$R$26)*100000) -> 0 | T26: =' B_Populations'!H39 -> 0 | U26: =IF(T26=0,0,($F$26/$T$26)*100000) -> 0 | V26: =' B_Populations'!J39 -> 0 | W26: =IF(V26=0,0,($G$26/$V$26)*100000) -> 0 | X26: =' B_Populations'!L39 -> 0 | Y26: =IF(X26=0,0,($H$26/$X$26)*100000) -> 0 | Z26: =' B_Populations'!N39 -> 0 | AA26: =IF(Z26=0,0,($I$26/$Z$26)*100000) -> 0 | AB26: =' B_Populations'!P39 -> 0 | AC26: =IF(AB26=0,0,($J$26/$AB$26)*100000) -> 0 | AD26: =' B_Populations'!R39 -> 0 | AE26: =IF(AD26=0,0,($K$26/$AD$26)*100000) -> 0 | AF26: =' B_Populations'!T39 -> 0 | AG26: =IF(AF26=0,0,($L$26/$AF$26)*100000) -> 0 | AI26: 19820 | AJ26: 0.072169 | AL26: =' B_Populations'!$A$13 -> 15-17 | AM26: =O26*AJ26 -> 0 | AN26: =Q26*AJ26 -> 0 | AO26: =S26*AJ26 -> 0 | AP26: =U26*AJ26 -> 0 | AQ26: =W26*AJ26 -> 0 | AR26: =Y26*AJ26 -> 0 | AS26: =AA26*AJ26 -> 0 | AT26: =AC26*AJ26 -> 0 | AU26: =AE26*AJ26 -> 0 | AV26: =AG26*AJ26 -> 0
B27: total | C27: =SUM(C22:C26) -> 0 | D27: =SUM(D22:D26) -> 0 | E27: =SUM(E22:E26) -> 0 | F27: =SUM(F22:F26) -> 0 | G27: =SUM(G22:G26) -> 0 | H27: =SUM(H22:H26) -> 0 | I27: =SUM(I22:I26) -> 0 | J27: =SUM(J22:J26) -> 0 | ... L27: =SUM(L22:L26) -> 0 | N27: =SUM(N22:N26) -> 0 | O27: =SUM(O22:O26) -> 0 | P27: =SUM(P22:P26) -> 0 | Q27: =SUM(Q22:Q26) -> 0 | R27: =SUM(R22:R26) -> 0 | S27: =SUM(S22:S26) -> 0 | T27: =SUM(T22:T26) -> 0 | U27: =SUM(U22:U26) -> 0 | ... AG27: =SUM(AG22:AG26) -> 0 | AI27: =SUM(AI22:AI26) -> 78784 | AL27: total | AM27: =SUM(AM22:AM26) -> 0 | AN27: =SUM(AN22:AN26) -> 0 | AO27: =SUM(AO22:AO26) -> 0 | AP27: =SUM(AP22:AP26) -> 0 | AQ27: =SUM(AQ22:AQ26) -> 0 | AR27: =SUM(AR22:AR26) -> 0 | AS27: =SUM(AS22:AS26) -> 0 | AT27: =SUM(AT22:AT26) -> 0 | ... AV27: =SUM(AV22:AV26) -> 0

Sheet F_Year 4
A1: =' B_Populations'!D43 -> 0 | B1: Data Input Tables Instructions: Enter your unintentional child injury-related injury data in the red cells below. The age-adjusted rates will automatically calculate in the results table. | N1: Rate per 100,000 calculations | AI1: Population Weights | AL1: Results Table Age Adjusted Rates per 100,1000. Results will calculate automatically.
D2: Sex Data | F2: Demographic Data | AM2: Age-adjusted Rates per 100,000 population
A3: Emergency Dept Visits | B3: Age | C3: Number of ED visits- Total | D3: Number of hospitalizations- Male | E3: Number of hospitalizations- Female | F3: =' B_Populations'!$H$8 -> White-Not Hispanic | G3: =' B_Populations'!$J$8 -> Hispanic | H3: =' B_Populations'!$L$8 -> Black-Not Hispanic | I3: =' B_Populations'!$N$8 -> Asian | J3: =' B_Populations'!$P$8 -> American Indian/Alaska Native | K3: =' B_Populations'!$R$8 -> Other | L3: =' B_Populations'!$T$8 -> Other | N3: State population - Total | O3: Rate | P3: State population - Male | Q3: Rate | R3: State population - Female | S3: Rate | T3: =' B_Populations'!$H$8 -> White-Not Hispanic | U3: Rate | V3: =' B_Populations'!$J$8 -> Hispanic | W3: Rate | X3: =' B_Populations'!$L$8 -> Black-Not Hispanic | Y3: Rate | Z3: =' B_Populations'!$N$8 -> Asian | AA3: Rate | AB3: =' B_Populations'!$P$8 -> American Indian/Alaska Native | AC3: Rate | AD3: =' B_Populations'!$R$8 -> Other | AE3: Rate | AF3: =' B_Populations'!$T$8 -> Other | AG3: Rate | AI3: 2000 population | AJ3: Weight | AL3: Age | AM3: Total | AN3: Male | AO3: Female | AP3: =' B_Populations'!$H$8 -> White-Not Hispanic | AQ3: =' B_Populations'!$J$8 -> Hispanic | AR3: =' B_Populations'!$L$8 -> Black-Not Hispanic | AS3: =' B_Populations'!$N$8 -> Asian | AT3: =' B_Populations'!$P$8 -> American Indian/Alaska Native | AU3: =' B_Populations'!$R$8 -> Other | AV3: =' B_Populations'!$T$8 -> Other
B4: =' B_Populations'!$A$9 -> <1 | N4: =' B_Populations'!B48 -> 0 | O4: =IF(N4=0,0,($C$4/$N$4)*100000) -> 0 | P4: =' B_Populations'!D48 -> 0 | Q4: =IF(P4=0,0,($D$4/$P$4)*100000) -> 0 | R4: =' B_Populations'!F48 -> 0 | S4: =IF(R4=0,0,($E$4/$R$4)*100000) -> 0 | T4: =' B_Populations'!H48 -> 0 | U4: =IF(T4=0,0,($F$4/$T$4)*100000) -> 0 | V4: =' B_Populations'!J48 -> 0 | W4: =IF(V4=0,0,($G$4/$V$4)*100000) -> 0 | X4: =' B_Populations'!L48 -> 0 | Y4: =IF(X4=0,0,($H$4/$X$4)*100000) -> 0 | Z4: =' B_Populations'!N48 -> 0 | AA4: =IF(Z4=0,0,($I$4/$Z$4)*100000) -> 0 | AB4: =' B_Populations'!P48 -> 0 | AC4: =IF(AB4=0,0,($J$4/$AB$4)*100000) -> 0 | AD4: =' B_Populations'!R48 -> 0 | AE4: =IF(AD4=0,0,($K$4/$AD$4)*100000) -> 0 | AF4: =' B_Populations'!T48 -> 0 | AG4: =IF(AF4=0,0,($L$4/$AF$4)*100000) -> 0 | AI4: 3795 | AJ4: 0.013818 | AL4: =' B_Populations'!$A$9 -> <1 | AM4: =O4*AJ4 -> 0 | AN4: =Q4*AJ4 -> 0 | AO4: =S4*AJ4 -> 0 | AP4: =U4*AJ4 -> 0 | AQ4: =W4*AJ4 -> 0 | AR4: =Y4*AJ4 -> 0 | AS4: =AA4*AJ4 -> 0 | AT4: =AC4*AJ4 -> 0 | AU4: =AE4*AJ4 -> 0 | AV4: =AG4*AJ4 -> 0
B5: =' B_Populations'!$A$10 -> 1-4 | N5: =' B_Populations'!B49 -> 0 | O5: =IF(N5=0,0,($C$5/$N$5)*100000) -> 0 | P5: =' B_Populations'!D49 -> 0 | Q5: =IF(P5=0,0,($D$5/$P$5)*100000) -> 0 | R5: =' B_Populations'!F49 -> 0 | S5: =IF(R5=0,0,($E$5/$R$5)*100000) -> 0 | T5: =' B_Populations'!H49 -> 0 | U5: =IF(T5=0,0,($F$5/$T$5)*100000) -> 0 | V5: =' B_Populations'!J49 -> 0 | W5: =IF(V5=0,0,($G$5/$V$5)*100000) -> 0 | X5: =' B_Populations'!L49 -> 0 | Y5: =IF(X5=0,0,($G$5/$X$5)*100000) -> 0 | Z5: =' B_Populations'!N49 -> 0 | AA5: =IF(Z5=0,0,($I$5/$Z$5)*100000) -> 0 | AB5: =' B_Populations'!P49 -> 0 | AC5: =IF(AB5=0,0,($J$5/$AB$5)*100000) -> 0 | AD5: =' B_Populations'!R49 -> 0 | AE5: =IF(AD5=0,0,($K$5/$AD$5)*100000) -> 0 | AF5: =' B_Populations'!T49 -> 0 | AG5: =IF(AF5=0,0,($L$5/$AF$5)*100000) -> 0 | AI5: 15192 | AJ5: 0.055317 | AL5: =' B_Populations'!$A$10 -> 1-4 | AM5: =O5*AJ5 -> 0 | AN5: =Q5*AJ5 -> 0 | AO5: =S5*AJ5 -> 0 | AP5: =U5*AJ5 -> 0 | AQ5: =W5*AJ5 -> 0 | AR5: =Y5*AJ5 -> 0 | AS5: =AA5*AJ5 -> 0 | AT5: =AC5*AJ5 -> 0 | AU5: =AE5*AJ5 -> 0 | AV5: =AG5*AJ5 -> 0
B6: =' B_Populations'!$A$11 -> 5-9 | N6: =' B_Populations'!B50 -> 0 | O6: =IF(N6=0,0,($C$6/$N$6)*100000) -> 0 | P6: =' B_Populations'!D50 -> 0 | Q6: =IF(P6=0,0,($D$6/$P$6)*100000) -> 0 | R6: =' B_Populations'!F50 -> 0 | S6: =IF(R6=0,0,($E$6/$R$6)*100000) -> 0 | T6: =' B_Populations'!H50 -> 0 | U6: =IF(T6=0,0,($F$6/$T$6)*100000) -> 0 | V6: =' B_Populations'!J50 -> 0 | W6: =IF(V6=0,0,($G$6/$V$6)*100000) -> 0 | X6: =' B_Populations'!L50 -> 0 | Y6: =IF(X6=0,0,($G$6/$X$6)*100000) -> 0 | Z6: =' B_Populations'!N50 -> 0 | AA6: =IF(Z6=0,0,($I$6/$Z$6)*100000) -> 0 | AB6: =' B_Populations'!P50 -> 0 | AC6: =IF(AB6=0,0,($J$6/$AB$6)*100000) -> 0 | AD6: =' B_Populations'!R50 -> 0 | AE6: =IF(AD6=0,0,($K$6/$AD$6)*100000) -> 0 | AF6: =' B_Populations'!T50 -> 0 | AG6: =IF(AF6=0,0,($L$6/$AF$6)*100000) -> 0 | AI6: 19920 | AJ6: 0.072533 | AL6: =' B_Populations'!$A$11 -> 5-9 | AM6: =O6*AJ6 -> 0 | AN6: =Q6*AJ6 -> 0 | AO6: =S6*AJ6 -> 0 | AP6: =U6*AJ6 -> 0 | AQ6: =W6*AJ6 -> 0 | AR6: =Y6*AJ6 -> 0 | AS6: =AA6*AJ6 -> 0 | AT6: =AC6*AJ6 -> 0 | AU6: =AE6*AJ6 -> 0 | AV6: =AG6*AJ6 -> 0
B7: =' B_Populations'!$A$12 -> 10-14 | N7: =' B_Populations'!B51 -> 0 | O7: =IF(N7=0,0,($C$7/$N$7)*100000) -> 0 | P7: =' B_Populations'!D51 -> 0 | Q7: =IF(P7=0,0,($D$7/$P$7)*100000) -> 0 | R7: =' B_Populations'!F51 -> 0 | S7: =IF(R7=0,0,($E$7/$R$7)*100000) -> 0 | T7: =' B_Populations'!H51 -> 0 | U7: =IF(T7=0,0,($F$7/$T$7)*100000) -> 0 | V7: =' B_Populations'!J51 -> 0 | W7: =IF(V7=0,0,($G$7/$V$7)*100000) -> 0 | X7: =' B_Populations'!L51 -> 0 | Y7: =IF(X7=0,0,($G$7/$X$7)*100000) -> 0 | Z7: =' B_Populations'!N51 -> 0 | AA7: =IF(Z7=0,0,($I$7/$Z$7)*100000) -> 0 | AB7: =' B_Populations'!P51 -> 0 | AC7: =IF(AB7=0,0,($J$7/$AB$7)*100000) -> 0 | AD7: =' B_Populations'!R51 -> 0 | AE7: =IF(AD7=0,0,($K$7/$AD$7)*100000) -> 0 | AF7: =' B_Populations'!T51 -> 0 | AG7: =IF(AF7=0,0,($L$7/$AF$7)*100000) -> 0 | AI7: 20057 | AJ7: 0.073032 | AL7: =' B_Populations'!$A$12 -> 10-14 | AM7: =O7*AJ7 -> 0 | AN7: =Q7*AJ7 -> 0 | AO7: =S7*AJ7 -> 0 | AP7: =U7*AJ7 -> 0 | AQ7: =W7*AJ7 -> 0 | AR7: =Y7*AJ7 -> 0 | AS7: =AA7*AJ7 -> 0 | AT7: =AC7*AJ7 -> 0 | AU7: =AE7*AJ7 -> 0 | AV7: =AG7*AJ7 -> 0
B8: =' B_Populations'!$A$13 -> 15-17 | N8: =' B_Populations'!B52 -> 0 | O8: =IF(N8=0,0,($C$8/$N$8)*100000) -> 0 | P8: =' B_Populations'!D52 -> 0 | Q8: =IF(P8=0,0,($D$8/$P$8)*100000) -> 0 | R8: =' B_Populations'!F52 -> 0 | S8: =IF(R8=0,0,($E$8/$R$8)*100000) -> 0 | T8: =' B_Populations'!H52 -> 0 | U8: =IF(T8=0,0,($F$8/$T$8)*100000) -> 0 | V8: =' B_Populations'!J52 -> 0 | W8: =IF(V8=0,0,($G$8/$V$8)*100000) -> 0 | X8: =' B_Populations'!L52 -> 0 | Y8: =IF(X8=0,0,($G$8/$X$8)*100000) -> 0 | Z8: =' B_Populations'!N52 -> 0 | AA8: =IF(Z8=0,0,($I$8/$Z$8)*100000) -> 0 | AB8: =' B_Populations'!P52 -> 0 | AC8: =IF(AB8=0,0,($J$8/$AB$8)*100000) -> 0 | AD8: =' B_Populations'!R52 -> 0 | AE8: =IF(AD8=0,0,($K$8/$AD$8)*100000) -> 0 | AF8: =' B_Populations'!T52 -> 0 | AG8: =IF(AF8=0,0,($L$8/$AF$8)*100000) -> 0 | AI8: 19820 | AJ8: 0.072169 | AL8: =' B_Populations'!$A$13 -> 15-17 | AM8: =O8*AJ8 -> 0 | AN8: =Q8*AJ8 -> 0 | AO8: =S8*AJ8 -> 0 | AP8: =U8*AJ8 -> 0 | AQ8: =W8*AJ8 -> 0 | AR8: =Y8*AJ8 -> 0 | AS8: =AA8*AJ8 -> 0 | AT8: =AC8*AJ8 -> 0 | AU8: =AE8*AJ8 -> 0 | AV8: =AG8*AJ8 -> 0
B9: total | C9: =SUM(C4:C8) -> 0 | D9: =SUM(D4:D8) -> 0 | E9: =SUM(E4:E8) -> 0 | F9: =SUM(F4:F8) -> 0 | G9: =SUM(G4:G8) -> 0 | H9: =SUM(H4:H8) -> 0 | I9: =SUM(I4:I8) -> 0 | J9: =SUM(J4:J8) -> 0 | ... L9: =SUM(L4:L8) -> 0 | N9: =SUM(N4:N8) -> 0 | O9: =SUM(O4:O8) -> 0 | P9: =SUM(P4:P8) -> 0 | Q9: =SUM(Q4:Q8) -> 0 | R9: =SUM(R4:R8) -> 0 | S9: =SUM(S4:S8) -> 0 | T9: =SUM(T4:T8) -> 0 | U9: =SUM(U4:U8) -> 0 | ... AG9: =SUM(AG4:AG8) -> 0 | AI9: =SUM(AI4:AI8) -> 78784 | AL9: total | AM9: =SUM(AM4:AM8) -> 0 | AN9: =SUM(AN4:AN8) -> 0 | AO9: =SUM(AO4:AO8) -> 0 | AP9: =SUM(AP4:AP8) -> 0 | AQ9: =SUM(AQ4:AQ8) -> 0 | AR9: =SUM(AR4:AR8) -> 0 | AS9: =SUM(AS4:AS8) -> 0 | AT9: =SUM(AT4:AT8) -> 0 | ... AV9: =SUM(AV4:AV8) -> 0
D11: Sex Data | F11: Demographic Data | AM11: Age-adjusted Rates per 100,000 population
A12: Hospitalizations | B12: Age | C12: Number of hospitalizations- Total | D12: Number of ED visits- Male | E12: Number of ED visits- Female | F12: =' B_Populations'!$H$8 -> White-Not Hispanic | G12: =' B_Populations'!$J$8 -> Hispanic | H12: =' B_Populations'!$L$8 -> Black-Not Hispanic | I12: =' B_Populations'!$N$8 -> Asian | J12: =' B_Populations'!$P$8 -> American Indian/Alaska Native | K12: =' B_Populations'!$R$8 -> Other | L12: =' B_Populations'!$T$8 -> Other | N12: State population - Total | O12: Rate | P12: State population - Male | Q12: Rate | R12: State population - Female | S12: Rate | T12: =' B_Populations'!$H$8 -> White-Not Hispanic | U12: Rate | V12: =' B_Populations'!$J$8 -> Hispanic | W12: Rate | X12: =' B_Populations'!$L$8 -> Black-Not Hispanic | Y12: Rate | Z12: =' B_Populations'!$N$8 -> Asian | AA12: Rate | AB12: =' B_Populations'!$P$8 -> American Indian/Alaska Native | AC12: Rate | AD12: =' B_Populations'!$R$8 -> Other | AE12: Rate | AF12: =' B_Populations'!$T$8 -> Other | AG12: Rate | AI12: 2000 population | AJ12: Weight | AL12: Age | AM12: Total | AN12: Male | AO12: Female | AP12: =' B_Populations'!$H$8 -> White-Not Hispanic | AQ12: =' B_Populations'!$J$8 -> Hispanic | AR12: =' B_Populations'!$L$8 -> Black-Not Hispanic | AS12: =' B_Populations'!$N$8 -> Asian | AT12: =' B_Populations'!$P$8 -> American Indian/Alaska Native | AU12: =' B_Populations'!$R$8 -> Other | AV12: =' B_Populations'!$T$8 -> Other
B13: =' B_Populations'!$A$9 -> <1 | N13: =' B_Populations'!B48 -> 0 | O13: =IF(N13=0,0,($C$13/$N$13)*100000) -> 0 | P13: =' B_Populations'!D48 -> 0 | Q13: =IF(P13=0,0,($D$13/$P$13)*100000) -> 0 | R13: =' B_Populations'!F48 -> 0 | S13: =IF(R13=0,0,($E$13/$R$13)*100000) -> 0 | T13: =' B_Populations'!H48 -> 0 | U13: =IF(T13=0,0,($F$13/$T$13)*100000) -> 0 | V13: =' B_Populations'!J48 -> 0 | W13: =IF(V13=0,0,($G$13/$V$13)*100000) -> 0 | X13: =' B_Populations'!L48 -> 0 | Y13: =IF(X13=0,0,($H$13/$X$13)*100000) -> 0 | Z13: =' B_Populations'!N48 -> 0 | AA13: =IF(Z13=0,0,($I$13/$Z$13)*100000) -> 0 | AB13: =' B_Populations'!P48 -> 0 | AC13: =IF(AB13=0,0,($J$13/$AB$13)*100000) -> 0 | AD13: =' B_Populations'!R48 -> 0 | AE13: =IF(AD13=0,0,($K$13/$AD$13)*100000) -> 0 | AF13: =' B_Populations'!T48 -> 0 | AG13: =IF(AF13=0,0,($L$13/$AF$13)*100000) -> 0 | AI13: 3795 | AJ13: 0.013818 | AL13: =' B_Populations'!$A$9 -> <1 | AM13: =O13*AJ13 -> 0 | AN13: =Q13*AJ13 -> 0 | AO13: =S13*AJ13 -> 0 | AP13: =U13*AJ13 -> 0 | AQ13: =W13*AJ13 -> 0 | AR13: =Y13*AJ13 -> 0 | AS13: =AA13*AJ13 -> 0 | AT13: =AC13*AJ13 -> 0 | AU13: =AE13*AJ13 -> 0 | AV13: =AG13*AJ13 -> 0
B14: =' B_Populations'!$A$10 -> 1-4 | N14: =' B_Populations'!B49 -> 0 | O14: =IF(N14=0,0,($C$14/$N$14)*100000) -> 0 | P14: =' B_Populations'!D49 -> 0 | Q14: =IF(P14=0,0,($D$14/$P$14)*100000) -> 0 | R14: =' B_Populations'!F49 -> 0 | S14: =IF(R14=0,0,($E$14/$R$14)*100000) -> 0 | T14: =' B_Populations'!H49 -> 0 | U14: =IF(T14=0,0,($F$14/$T$14)*100000) -> 0 | V14: =' B_Populations'!J49 -> 0 | W14: =IF(V14=0,0,($G$14/$V$14)*100000) -> 0 | X14: =' B_Populations'!L49 -> 0 | Y14: =IF(X14=0,0,($H$14/$X$14)*100000) -> 0 | Z14: =' B_Populations'!N49 -> 0 | AA14: =IF(Z14=0,0,($I$14/$Z$14)*100000) -> 0 | AB14: =' B_Populations'!P49 -> 0 | AC14: =IF(AB14=0,0,($J$14/$AB$14)*100000) -> 0 | AD14: =' B_Populations'!R49 -> 0 | AE14: =IF(AD14=0,0,($K$14/$AD$14)*100000) -> 0 | AF14: =' B_Populations'!T49 -> 0 | AG14: =IF(AF14=0,0,($L$14/$AF$14)*100000) -> 0 | AI14: 15192 | AJ14: 0.055317 | AL14: =' B_Populations'!$A$10 -> 1-4 | AM14: =O14*AJ14 -> 0 | AN14: =Q14*AJ14 -> 0 | AO14: =S14*AJ14 -> 0 | AP14: =U14*AJ14 -> 0 | AQ14: =W14*AJ14 -> 0 | AR14: =Y14*AJ14 -> 0 | AS14: =AA14*AJ14 -> 0 | AT14: =AC14*AJ14 -> 0 | AU14: =AE14*AJ14 -> 0 | AV14: =AG14*AJ14 -> 0
B15: =' B_Populations'!$A$11 -> 5-9 | N15: =' B_Populations'!B50 -> 0 | O15: =IF(N15=0,0,($C$15/$N$15)*100000) -> 0 | P15: =' B_Populations'!D50 -> 0 | Q15: =IF(P15=0,0,($D$15/$P$15)*100000) -> 0 | R15: =' B_Populations'!F50 -> 0 | S15: =IF(R15=0,0,($E$15/$R$15)*100000) -> 0 | T15: =' B_Populations'!H50 -> 0 | U15: =IF(T15=0,0,($F$15/$T$15)*100000) -> 0 | V15: =' B_Populations'!J50 -> 0 | W15: =IF(V15=0,0,($G$15/$V$15)*100000) -> 0 | X15: =' B_Populations'!L50 -> 0 | Y15: =IF(X15=0,0,($H$15/$X$15)*100000) -> 0 | Z15: =' B_Populations'!N50 -> 0 | AA15: =IF(Z15=0,0,($I$15/$Z$15)*100000) -> 0 | AB15: =' B_Populations'!P50 -> 0 | AC15: =IF(AB15=0,0,($J$15/$AB$15)*100000) -> 0 | AD15: =' B_Populations'!R50 -> 0 | AE15: =IF(AD15=0,0,($K$15/$AD$15)*100000) -> 0 | AF15: =' B_Populations'!T50 -> 0 | AG15: =IF(AF15=0,0,($L$15/$AF$15)*100000) -> 0 | AI15: 19920 | AJ15: 0.072533 | AL15: =' B_Populations'!$A$11 -> 5-9 | AM15: =O15*AJ15 -> 0 | AN15: =Q15*AJ15 -> 0 | AO15: =S15*AJ15 -> 0 | AP15: =U15*AJ15 -> 0 | AQ15: =W15*AJ15 -> 0 | AR15: =Y15*AJ15 -> 0 | AS15: =AA15*AJ15 -> 0 | AT15: =AC15*AJ15 -> 0 | AU15: =AE15*AJ15 -> 0 | AV15: =AG15*AJ15 -> 0
B16: =' B_Populations'!$A$12 -> 10-14 | N16: =' B_Populations'!B51 -> 0 | O16: =IF(N16=0,0,($C$16/$N$16)*100000) -> 0 | P16: =' B_Populations'!D51 -> 0 | Q16: =IF(P16=0,0,($D$16/$P$16)*100000) -> 0 | R16: =' B_Populations'!F51 -> 0 | S16: =IF(R16=0,0,($E$16/$R$16)*100000) -> 0 | T16: =' B_Populations'!H51 -> 0 | U16: =IF(T16=0,0,($F$16/$T$16)*100000) -> 0 | V16: =' B_Populations'!J51 -> 0 | W16: =IF(V16=0,0,($G$16/$V$16)*100000) -> 0 | X16: =' B_Populations'!L51 -> 0 | Y16: =IF(X16=0,0,($H$16/$X$16)*100000) -> 0 | Z16: =' B_Populations'!N51 -> 0 | AA16: =IF(Z16=0,0,($I$16/$Z$16)*100000) -> 0 | AB16: =' B_Populations'!P51 -> 0 | AC16: =IF(AB16=0,0,($J$16/$AB$16)*100000) -> 0 | AD16: =' B_Populations'!R51 -> 0 | AE16: =IF(AD16=0,0,($K$16/$AD$16)*100000) -> 0 | AF16: =' B_Populations'!T51 -> 0 | AG16: =IF(AF16=0,0,($L$16/$AF$16)*100000) -> 0 | AI16: 20057 | AJ16: 0.073032 | AL16: =' B_Populations'!$A$12 -> 10-14 | AM16: =O16*AJ16 -> 0 | AN16: =Q16*AJ16 -> 0 | AO16: =S16*AJ16 -> 0 | AP16: =U16*AJ16 -> 0 | AQ16: =W16*AJ16 -> 0 | AR16: =Y16*AJ16 -> 0 | AS16: =AA16*AJ16 -> 0 | AT16: =AC16*AJ16 -> 0 | AU16: =AE16*AJ16 -> 0 | AV16: =AG16*AJ16 -> 0
B17: =' B_Populations'!$A$13 -> 15-17 | N17: =' B_Populations'!B52 -> 0 | O17: =IF(N17=0,0,($C$17/$N$17)*100000) -> 0 | P17: =' B_Populations'!D52 -> 0 | Q17: =IF(P17=0,0,($D$17/$P$17)*100000) -> 0 | R17: =' B_Populations'!F52 -> 0 | S17: =IF(R17=0,0,($E$17/$R$17)*100000) -> 0 | T17: =' B_Populations'!H52 -> 0 | U17: =IF(T17=0,0,($F$17/$T$17)*100000) -> 0 | V17: =' B_Populations'!J52 -> 0 | W17: =IF(V17=0,0,($G$17/$V$17)*100000) -> 0 | X17: =' B_Populations'!L52 -> 0 | Y17: =IF(X17=0,0,($H$17/$X$17)*100000) -> 0 | Z17: =' B_Populations'!N52 -> 0 | AA17: =IF(Z17=0,0,($I$17/$Z$17)*100000) -> 0 | AB17: =' B_Populations'!P52 -> 0 | AC17: =IF(AB17=0,0,($J$17/$AB$17)*100000) -> 0 | AD17: =' B_Populations'!R52 -> 0 | AE17: =IF(AD17=0,0,($K$17/$AD$17)*100000) -> 0 | AF17: =' B_Populations'!T52 -> 0 | AG17: =IF(AF17=0,0,($L$17/$AF$17)*100000) -> 0 | AI17: 19820 | AJ17: 0.072169 | AL17: =' B_Populations'!$A$13 -> 15-17 | AM17: =O17*AJ17 -> 0 | AN17: =Q17*AJ17 -> 0 | AO17: =S17*AJ17 -> 0 | AP17: =U17*AJ17 -> 0 | AQ17: =W17*AJ17 -> 0 | AR17: =Y17*AJ17 -> 0 | AS17: =AA17*AJ17 -> 0 | AT17: =AC17*AJ17 -> 0 | AU17: =AE17*AJ17 -> 0 | AV17: =AG17*AJ17 -> 0
B18: total | C18: =SUM(C13:C17) -> 0 | D18: =SUM(D13:D17) -> 0 | E18: =SUM(E13:E17) -> 0 | F18: =SUM(F13:F17) -> 0 | G18: =SUM(G13:G17) -> 0 | H18: =SUM(H13:H17) -> 0 | I18: =SUM(I13:I17) -> 0 | J18: =SUM(J13:J17) -> 0 | ... L18: =SUM(L13:L17) -> 0 | N18: =SUM(N13:N17) -> 0 | O18: =SUM(O13:O17) -> 0 | P18: =SUM(P13:P17) -> 0 | Q18: =SUM(Q13:Q17) -> 0 | R18: =SUM(R13:R17) -> 0 | S18: =SUM(S13:S17) -> 0 | T18: =SUM(T13:T17) -> 0 | U18: =SUM(U13:U17) -> 0 | ... AG18: =SUM(AG13:AG17) -> 0 | AI18: =SUM(AI13:AI17) -> 78784 | AL18: total | AM18: =SUM(AM13:AM17) -> 0 | AN18: =SUM(AN13:AN17) -> 0 | AO18: =SUM(AO13:AO17) -> 0 | AP18: =SUM(AP13:AP17) -> 0 | AQ18: =SUM(AQ13:AQ17) -> 0 | AR18: =SUM(AR13:AR17) -> 0 | AS18: =SUM(AS13:AS17) -> 0 | AT18: =SUM(AT13:AT17) -> 0 | ... AV18: =SUM(AV13:AV17) -> 0
D20: Sex Data | F20: Demographic Data | AM20: Age-adjusted Rates per 100,000 population
A21: Deaths | B21: Age | C21: Number of deaths- Total | D21: Number of deaths- Male | E21: Number of deaths- Female | F21: =' B_Populations'!$H$8 -> White-Not Hispanic | G21: =' B_Populations'!$J$8 -> Hispanic | H21: =' B_Populations'!$L$8 -> Black-Not Hispanic | I21: =' B_Populations'!$N$8 -> Asian | J21: =' B_Populations'!$P$8 -> American Indian/Alaska Native | K21: =' B_Populations'!$R$8 -> Other | L21: =' B_Populations'!$T$8 -> Other | N21: State population - Total | O21: Rate | P21: State population - Male | Q21: Rate | R21: State population - Female | S21: Rate | T21: =' B_Populations'!$H$8 -> White-Not Hispanic | U21: Rate | V21: =' B_Populations'!$J$8 -> Hispanic | W21: Rate | X21: =' B_Populations'!$L$8 -> Black-Not Hispanic | Y21: Rate | Z21: =' B_Populations'!$N$8 -> Asian | AA21: Rate | AB21: =' B_Populations'!$P$8 -> American Indian/Alaska Native | AC21: Rate | AD21: =' B_Populations'!$R$8 -> Other | AE21: Rate | AF21: =' B_Populations'!$T$8 -> Other | AG21: Rate | AI21: 2000 population | AJ21: Weight | AL21: Age | AM21: Total | AN21: Male | AO21: Female | AP21: =' B_Populations'!$H$8 -> White-Not Hispanic | AQ21: =' B_Populations'!$J$8 -> Hispanic | AR21: =' B_Populations'!$L$8 -> Black-Not Hispanic | AS21: =' B_Populations'!$N$8 -> Asian | AT21: =' B_Populations'!$P$8 -> American Indian/Alaska Native | AU21: =' B_Populations'!$R$8 -> Other | AV21: =' B_Populations'!$T$8 -> Other
B22: =' B_Populations'!$A$9 -> <1 | N22: =' B_Populations'!B48 -> 0 | O22: =IF(N22=0,0,($C$22/$N$22)*100000) -> 0 | P22: =' B_Populations'!D48 -> 0 | Q22: =IF(P22=0,0,($D$22/$P$22)*100000) -> 0 | R22: =' B_Populations'!F48 -> 0 | S22: =IF(R22=0,0,($E$22/$R$22)*100000) -> 0 | T22: =' B_Populations'!H48 -> 0 | U22: =IF(T22=0,0,($F$22/$T$22)*100000) -> 0 | V22: =' B_Populations'!J48 -> 0 | W22: =IF(V22=0,0,($G$22/$V$22)*100000) -> 0 | X22: =' B_Populations'!L48 -> 0 | Y22: =IF(X22=0,0,($H$22/$X$22)*100000) -> 0 | Z22: =' B_Populations'!N48 -> 0 | AA22: =IF(Z22=0,0,($I$22/$Z$22)*100000) -> 0 | AB22: =' B_Populations'!P48 -> 0 | AC22: =IF(AB22=0,0,($J$22/$AB$22)*100000) -> 0 | AD22: =' B_Populations'!R48 -> 0 | AE22: =IF(AD22=0,0,($K$22/$AD$22)*100000) -> 0 | AF22: =' B_Populations'!T48 -> 0 | AG22: =IF(AF22=0,0,($L$22/$AF$22)*100000) -> 0 | AI22: 3795 | AJ22: 0.013818 | AL22: =' B_Populations'!$A$9 -> <1 | AM22: =O22*AJ22 -> 0 | AN22: =Q22*AJ22 -> 0 | AO22: =S22*AJ22 -> 0 | AP22: =U22*AJ22 -> 0 | AQ22: =W22*AJ22 -> 0 | AR22: =Y22*AJ22 -> 0 | AS22: =AA22*AJ22 -> 0 | AT22: =AC22*AJ22 -> 0 | AU22: =AE22*AJ22 -> 0 | AV22: =AG22*AJ22 -> 0
B23: =' B_Populations'!$A$10 -> 1-4 | N23: =' B_Populations'!B49 -> 0 | O23: =IF(N23=0,0,($C$23/$N$23)*100000) -> 0 | P23: =' B_Populations'!D49 -> 0 | Q23: =IF(P23=0,0,($D$23/$P$23)*100000) -> 0 | R23: =' B_Populations'!F49 -> 0 | S23: =IF(R23=0,0,($E$23/$R$23)*100000) -> 0 | T23: =' B_Populations'!H49 -> 0 | U23: =IF(T23=0,0,($F$23/$T$23)*100000) -> 0 | V23: =' B_Populations'!J49 -> 0 | W23: =IF(V23=0,0,($G$23/$V$23)*100000) -> 0 | X23: =' B_Populations'!L49 -> 0 | Y23: =IF(X23=0,0,($H$23/$X$23)*100000) -> 0 | Z23: =' B_Populations'!N49 -> 0 | AA23: =IF(Z23=0,0,($I$23/$Z$23)*100000) -> 0 | AB23: =' B_Populations'!P49 -> 0 | AC23: =IF(AB23=0,0,($J$23/$AB$23)*100000) -> 0 | AD23: =' B_Populations'!R49 -> 0 | AE23: =IF(AD23=0,0,($K$23/$AD$23)*100000) -> 0 | AF23: =' B_Populations'!T49 -> 0 | AG23: =IF(AF23=0,0,($L$23/$AF$23)*100000) -> 0 | AI23: 15192 | AJ23: 0.055317 | AL23: =' B_Populations'!$A$10 -> 1-4 | AM23: =O23*AJ23 -> 0 | AN23: =Q23*AJ23 -> 0 | AO23: =S23*AJ23 -> 0 | AP23: =U23*AJ23 -> 0 | AQ23: =W23*AJ23 -> 0 | AR23: =Y23*AJ23 -> 0 | AS23: =AA23*AJ23 -> 0 | AT23: =AC23*AJ23 -> 0 | AU23: =AE23*AJ23 -> 0 | AV23: =AG23*AJ23 -> 0
B24: =' B_Populations'!$A$11 -> 5-9 | N24: =' B_Populations'!B50 -> 0 | O24: =IF(N24=0,0,($C$24/$N$24)*100000) -> 0 | P24: =' B_Populations'!D50 -> 0 | Q24: =IF(P24=0,0,($D$24/$P$24)*100000) -> 0 | R24: =' B_Populations'!F50 -> 0 | S24: =IF(R24=0,0,($E$24/$R$24)*100000) -> 0 | T24: =' B_Populations'!H50 -> 0 | U24: =IF(T24=0,0,($F$24/$T$24)*100000) -> 0 | V24: =' B_Populations'!J50 -> 0 | W24: =IF(V24=0,0,($G$24/$V$24)*100000) -> 0 | X24: =' B_Populations'!L50 -> 0 | Y24: =IF(X24=0,0,($H$24/$X$24)*100000) -> 0 | Z24: =' B_Populations'!N50 -> 0 | AA24: =IF(Z24=0,0,($I$24/$Z$24)*100000) -> 0 | AB24: =' B_Populations'!P50 -> 0 | AC24: =IF(AB24=0,0,($J$24/$AB$24)*100000) -> 0 | AD24: =' B_Populations'!R50 -> 0 | AE24: =IF(AD24=0,0,($K$24/$AD$24)*100000) -> 0 | AF24: =' B_Populations'!T50 -> 0 | AG24: =IF(AF24=0,0,($L$24/$AF$24)*100000) -> 0 | AI24: 19920 | AJ24: 0.072533 | AL24: =' B_Populations'!$A$11 -> 5-9 | AM24: =O24*AJ24 -> 0 | AN24: =Q24*AJ24 -> 0 | AO24: =S24*AJ24 -> 0 | AP24: =U24*AJ24 -> 0 | AQ24: =W24*AJ24 -> 0 | AR24: =Y24*AJ24 -> 0 | AS24: =AA24*AJ24 -> 0 | AT24: =AC24*AJ24 -> 0 | AU24: =AE24*AJ24 -> 0 | AV24: =AG24*AJ24 -> 0
B25: =' B_Populations'!$A$12 -> 10-14 | N25: =' B_Populations'!B51 -> 0 | O25: =IF(N25=0,0,($C$25/$N$25)*100000) -> 0 | P25: =' B_Populations'!D51 -> 0 | Q25: =IF(P25=0,0,($D$25/$P$25)*100000) -> 0 | R25: =' B_Populations'!F51 -> 0 | S25: =IF(R25=0,0,($E$25/$R$25)*100000) -> 0 | T25: =' B_Populations'!H51 -> 0 | U25: =IF(T25=0,0,($F$25/$T$25)*100000) -> 0 | V25: =' B_Populations'!J51 -> 0 | W25: =IF(V25=0,0,($G$25/$V$25)*100000) -> 0 | X25: =' B_Populations'!L51 -> 0 | Y25: =IF(X25=0,0,($H$25/$X$25)*100000) -> 0 | Z25: =' B_Populations'!N51 -> 0 | AA25: =IF(Z25=0,0,($I$25/$Z$25)*100000) -> 0 | AB25: =' B_Populations'!P51 -> 0 | AC25: =IF(AB25=0,0,($J$25/$AB$25)*100000) -> 0 | AD25: =' B_Populations'!R51 -> 0 | AE25: =IF(AD25=0,0,($K$25/$AD$25)*100000) -> 0 | AF25: =' B_Populations'!T51 -> 0 | AG25: =IF(AF25=0,0,($L$25/$AF$25)*100000) -> 0 | AI25: 20057 | AJ25: 0.073032 | AL25: =' B_Populations'!$A$12 -> 10-14 | AM25: =O25*AJ25 -> 0 | AN25: =Q25*AJ25 -> 0 | AO25: =S25*AJ25 -> 0 | AP25: =U25*AJ25 -> 0 | AQ25: =W25*AJ25 -> 0 | AR25: =Y25*AJ25 -> 0 | AS25: =AA25*AJ25 -> 0 | AT25: =AC25*AJ25 -> 0 | AU25: =AE25*AJ25 -> 0 | AV25: =AG25*AJ25 -> 0
B26: =' B_Populations'!$A$13 -> 15-17 | N26: =' B_Populations'!B52 -> 0 | O26: =IF(N26=0,0,($C$26/$N$26)*100000) -> 0 | P26: =' B_Populations'!D52 -> 0 | Q26: =IF(P26=0,0,($D$26/$P$26)*100000) -> 0 | R26: =' B_Populations'!F52 -> 0 | S26: =IF(R26=0,0,($E$26/$R$26)*100000) -> 0 | T26: =' B_Populations'!H52 -> 0 | U26: =IF(T26=0,0,($F$26/$T$26)*100000) -> 0 | V26: =' B_Populations'!J52 -> 0 | W26: =IF(V26=0,0,($G$26/$V$26)*100000) -> 0 | X26: =' B_Populations'!L52 -> 0 | Y26: =IF(X26=0,0,($H$26/$X$26)*100000) -> 0 | Z26: =' B_Populations'!N52 -> 0 | AA26: =IF(Z26=0,0,($I$26/$Z$26)*100000) -> 0 | AB26: =' B_Populations'!P52 -> 0 | AC26: =IF(AB26=0,0,($J$26/$AB$26)*100000) -> 0 | AD26: =' B_Populations'!R52 -> 0 | AE26: =IF(AD26=0,0,($K$26/$AD$26)*100000) -> 0 | AF26: =' B_Populations'!T52 -> 0 | AG26: =IF(AF26=0,0,($L$26/$AF$26)*100000) -> 0 | AI26: 19820 | AJ26: 0.072169 | AL26: =' B_Populations'!$A$13 -> 15-17 | AM26: =O26*AJ26 -> 0 | AN26: =Q26*AJ26 -> 0 | AO26: =S26*AJ26 -> 0 | AP26: =U26*AJ26 -> 0 | AQ26: =W26*AJ26 -> 0 | AR26: =Y26*AJ26 -> 0 | AS26: =AA26*AJ26 -> 0 | AT26: =AC26*AJ26 -> 0 | AU26: =AE26*AJ26 -> 0 | AV26: =AG26*AJ26 -> 0
B27: total | C27: =SUM(C22:C26) -> 0 | D27: =SUM(D22:D26) -> 0 | E27: =SUM(E22:E26) -> 0 | F27: =SUM(F22:F26) -> 0 | G27: =SUM(G22:G26) -> 0 | H27: =SUM(H22:H26) -> 0 | I27: =SUM(I22:I26) -> 0 | J27: =SUM(J22:J26) -> 0 | ... L27: =SUM(L22:L26) -> 0 | N27: =SUM(N22:N26) -> 0 | O27: =SUM(O22:O26) -> 0 | P27: =SUM(P22:P26) -> 0 | Q27: =SUM(Q22:Q26) -> 0 | R27: =SUM(R22:R26) -> 0 | S27: =SUM(S22:S26) -> 0 | T27: =SUM(T22:T26) -> 0 | U27: =SUM(U22:U26) -> 0 | ... AG27: =SUM(AG22:AG26) -> 0 | AI27: =SUM(AI22:AI26) -> 78784 | AL27: total | AM27: =SUM(AM22:AM26) -> 0 | AN27: =SUM(AN22:AN26) -> 0 | AO27: =SUM(AO22:AO26) -> 0 | AP27: =SUM(AP22:AP26) -> 0 | AQ27: =SUM(AQ22:AQ26) -> 0 | AR27: =SUM(AR22:AR26) -> 0 | AS27: =SUM(AS22:AS26) -> 0 | AT27: =SUM(AT22:AT26) -> 0 | ... AV27: =SUM(AV22:AV26) -> 0

Sheet G_Year 5
A1: =' B_Populations'!D56 -> 0 | B1: Data Input Tables Instructions: Enter your unintentional child injury-related injury data in the red cells below. The age-adjusted rates will automatically calculate in the results table. | N1: Rate per 100,000 calculations | AI1: Population Weights | AL1: Results Table Age Adjusted Rates per 100,1000. Results will calculate automatically.
D2: Sex Data | F2: Demographic Data | AM2: Age-adjusted Rates per 100,000 population
A3: Emergency Dept Visits | B3: Age | C3: Number of ED visits- Total | D3: Number of hospitalizations- Male | E3: Number of hospitalizations- Female | F3: =' B_Populations'!$H$8 -> White-Not Hispanic | G3: =' B_Populations'!$J$8 -> Hispanic | H3: =' B_Populations'!$L$8 -> Black-Not Hispanic | I3: =' B_Populations'!$N$8 -> Asian | J3: =' B_Populations'!$P$8 -> American Indian/Alaska Native | K3: =' B_Populations'!$R$8 -> Other | L3: =' B_Populations'!$T$8 -> Other | N3: State population - Total | O3: Rate | P3: State population - Male | Q3: Rate | R3: State population - Female | S3: Rate | T3: =' B_Populations'!$H$8 -> White-Not Hispanic | U3: Rate | V3: =' B_Populations'!$J$8 -> Hispanic | W3: Rate | X3: =' B_Populations'!$L$8 -> Black-Not Hispanic | Y3: Rate | Z3: =' B_Populations'!$N$8 -> Asian | AA3: Rate | AB3: =' B_Populations'!$P$8 -> American Indian/Alaska Native | AC3: Rate | AD3: =' B_Populations'!$R$8 -> Other | AE3: Rate | AF3: =' B_Populations'!$T$8 -> Other | AG3: Rate | AI3: 2000 population | AJ3: Weight | AL3: Age | AM3: Total | AN3: Male | AO3: Female | AP3: =' B_Populations'!$H$8 -> White-Not Hispanic | AQ3: =' B_Populations'!$J$8 -> Hispanic | AR3: =' B_Populations'!$L$8 -> Black-Not Hispanic | AS3: =' B_Populations'!$N$8 -> Asian | AT3: =' B_Populations'!$P$8 -> American Indian/Alaska Native | AU3: =' B_Populations'!$R$8 -> Other | AV3: =' B_Populations'!$T$8 -> Other
B4: =' B_Populations'!$A$9 -> <1 | N4: =' B_Populations'!B61 -> 0 | O4: =IF(N4=0,0,($C$4/$N$4)*100000) -> 0 | P4: =' B_Populations'!D61 -> 0 | Q4: =IF(P4=0,0,($D$4/$P$4)*100000) -> 0 | R4: =' B_Populations'!F61 -> 0 | S4: =IF(R4=0,0,($E$4/$R$4)*100000) -> 0 | T4: =' B_Populations'!H61 -> 0 | U4: =IF(T4=0,0,($F$4/$T$4)*100000) -> 0 | V4: =' B_Populations'!J61 -> 0 | W4: =IF(V4=0,0,($G$4/$V$4)*100000) -> 0 | X4: =' B_Populations'!L61 -> 0 | Y4: =IF(X4=0,0,($H$4/$X$4)*100000) -> 0 | Z4: =' B_Populations'!N61 -> 0 | AA4: =IF(Z4=0,0,($I$4/$Z$4)*100000) -> 0 | AB4: =' B_Populations'!P61 -> 0 | AC4: =IF(AB4=0,0,($J$4/$AB$4)*100000) -> 0 | AD4: =' B_Populations'!R61 -> 0 | AE4: =IF(AD4=0,0,($K$4/$AD$4)*100000) -> 0 | AF4: =' B_Populations'!T61 -> 0 | AG4: =IF(AF4=0,0,($L$4/$AF$4)*100000) -> 0 | AI4: 3795 | AJ4: 0.013818 | AL4: =' B_Populations'!$A$9 -> <1 | AM4: =O4*AJ4 -> 0 | AN4: =Q4*AJ4 -> 0 | AO4: =S4*AJ4 -> 0 | AP4: =U4*AJ4 -> 0 | AQ4: =W4*AJ4 -> 0 | AR4: =Y4*AJ4 -> 0 | AS4: =AA4*AJ4 -> 0 | AT4: =AC4*AJ4 -> 0 | AU4: =AE4*AJ4 -> 0 | AV4: =AG4*AJ4 -> 0
B5: =' B_Populations'!$A$10 -> 1-4 | N5: =' B_Populations'!B62 -> 0 | O5: =IF(N5=0,0,($C$5/$N$5)*100000) -> 0 | P5: =' B_Populations'!D62 -> 0 | Q5: =IF(P5=0,0,($D$5/$P$5)*100000) -> 0 | R5: =' B_Populations'!F62 -> 0 | S5: =IF(R5=0,0,($E$5/$R$5)*100000) -> 0 | T5: =' B_Populations'!H62 -> 0 | U5: =IF(T5=0,0,($F$5/$T$5)*100000) -> 0 | V5: =' B_Populations'!J62 -> 0 | W5: =IF(V5=0,0,($G$5/$V$5)*100000) -> 0 | X5: =' B_Populations'!L62 -> 0 | Y5: =IF(X5=0,0,($G$5/$X$5)*100000) -> 0 | Z5: =' B_Populations'!N62 -> 0 | AA5: =IF(Z5=0,0,($I$5/$Z$5)*100000) -> 0 | AB5: =' B_Populations'!P62 -> 0 | AC5: =IF(AB5=0,0,($J$5/$AB$5)*100000) -> 0 | AD5: =' B_Populations'!R62 -> 0 | AE5: =IF(AD5=0,0,($K$5/$AD$5)*100000) -> 0 | AF5: =' B_Populations'!T62 -> 0 | AG5: =IF(AF5=0,0,($L$5/$AF$5)*100000) -> 0 | AI5: 15192 | AJ5: 0.055317 | AL5: =' B_Populations'!$A$10 -> 1-4 | AM5: =O5*AJ5 -> 0 | AN5: =Q5*AJ5 -> 0 | AO5: =S5*AJ5 -> 0 | AP5: =U5*AJ5 -> 0 | AQ5: =W5*AJ5 -> 0 | AR5: =Y5*AJ5 -> 0 | AS5: =AA5*AJ5 -> 0 | AT5: =AC5*AJ5 -> 0 | AU5: =AE5*AJ5 -> 0 | AV5: =AG5*AJ5 -> 0
B6: =' B_Populations'!$A$11 -> 5-9 | N6: =' B_Populations'!B63 -> 0 | O6: =IF(N6=0,0,($C$6/$N$6)*100000) -> 0 | P6: =' B_Populations'!D63 -> 0 | Q6: =IF(P6=0,0,($D$6/$P$6)*100000) -> 0 | R6: =' B_Populations'!F63 -> 0 | S6: =IF(R6=0,0,($E$6/$R$6)*100000) -> 0 | T6: =' B_Populations'!H63 -> 0 | U6: =IF(T6=0,0,($F$6/$T$6)*100000) -> 0 | V6: =' B_Populations'!J63 -> 0 | W6: =IF(V6=0,0,($G$6/$V$6)*100000) -> 0 | X6: =' B_Populations'!L63 -> 0 | Y6: =IF(X6=0,0,($G$6/$X$6)*100000) -> 0 | Z6: =' B_Populations'!N63 -> 0 | AA6: =IF(Z6=0,0,($I$6/$Z$6)*100000) -> 0 | AB6: =' B_Populations'!P63 -> 0 | AC6: =IF(AB6=0,0,($J$6/$AB$6)*100000) -> 0 | AD6: =' B_Populations'!R63 -> 0 | AE6: =IF(AD6=0,0,($K$6/$AD$6)*100000) -> 0 | AF6: =' B_Populations'!T63 -> 0 | AG6: =IF(AF6=0,0,($L$6/$AF$6)*100000) -> 0 | AI6: 19920 | AJ6: 0.072533 | AL6: =' B_Populations'!$A$11 -> 5-9 | AM6: =O6*AJ6 -> 0 | AN6: =Q6*AJ6 -> 0 | AO6: =S6*AJ6 -> 0 | AP6: =U6*AJ6 -> 0 | AQ6: =W6*AJ6 -> 0 | AR6: =Y6*AJ6 -> 0 | AS6: =AA6*AJ6 -> 0 | AT6: =AC6*AJ6 -> 0 | AU6: =AE6*AJ6 -> 0 | AV6: =AG6*AJ6 -> 0
B7: =' B_Populations'!$A$12 -> 10-14 | N7: =' B_Populations'!B64 -> 0 | O7: =IF(N7=0,0,($C$7/$N$7)*100000) -> 0 | P7: =' B_Populations'!D64 -> 0 | Q7: =IF(P7=0,0,($D$7/$P$7)*100000) -> 0 | R7: =' B_Populations'!F64 -> 0 | S7: =IF(R7=0,0,($E$7/$R$7)*100000) -> 0 | T7: =' B_Populations'!H64 -> 0 | U7: =IF(T7=0,0,($F$7/$T$7)*100000) -> 0 | V7: =' B_Populations'!J64 -> 0 | W7: =IF(V7=0,0,($G$7/$V$7)*100000) -> 0 | X7: =' B_Populations'!L64 -> 0 | Y7: =IF(X7=0,0,($G$7/$X$7)*100000) -> 0 | Z7: =' B_Populations'!N64 -> 0 | AA7: =IF(Z7=0,0,($I$7/$Z$7)*100000) -> 0 | AB7: =' B_Populations'!P64 -> 0 | AC7: =IF(AB7=0,0,($J$7/$AB$7)*100000) -> 0 | AD7: =' B_Populations'!R64 -> 0 | AE7: =IF(AD7=0,0,($K$7/$AD$7)*100000) -> 0 | AF7: =' B_Populations'!T64 -> 0 | AG7: =IF(AF7=0,0,($L$7/$AF$7)*100000) -> 0 | AI7: 20057 | AJ7: 0.073032 | AL7: =' B_Populations'!$A$12 -> 10-14 | AM7: =O7*AJ7 -> 0 | AN7: =Q7*AJ7 -> 0 | AO7: =S7*AJ7 -> 0 | AP7: =U7*AJ7 -> 0 | AQ7: =W7*AJ7 -> 0 | AR7: =Y7*AJ7 -> 0 | AS7: =AA7*AJ7 -> 0 | AT7: =AC7*AJ7 -> 0 | AU7: =AE7*AJ7 -> 0 | AV7: =AG7*AJ7 -> 0
B8: =' B_Populations'!$A$13 -> 15-17 | N8: =' B_Populations'!B65 -> 0 | O8: =IF(N8=0,0,($C$8/$N$8)*100000) -> 0 | P8: =' B_Populations'!D65 -> 0 | Q8: =IF(P8=0,0,($D$8/$P$8)*100000) -> 0 | R8: =' B_Populations'!F65 -> 0 | S8: =IF(R8=0,0,($E$8/$R$8)*100000) -> 0 | T8: =' B_Populations'!H65 -> 0 | U8: =IF(T8=0,0,($F$8/$T$8)*100000) -> 0 | V8: =' B_Populations'!J65 -> 0 | W8: =IF(V8=0,0,($G$8/$V$8)*100000) -> 0 | X8: =' B_Populations'!L65 -> 0 | Y8: =IF(X8=0,0,($G$8/$X$8)*100000) -> 0 | Z8: =' B_Populations'!N65 -> 0 | AA8: =IF(Z8=0,0,($I$8/$Z$8)*100000) -> 0 | AB8: =' B_Populations'!P65 -> 0 | AC8: =IF(AB8=0,0,($J$8/$AB$8)*100000) -> 0 | AD8: =' B_Populations'!R65 -> 0 | AE8: =IF(AD8=0,0,($K$8/$AD$8)*100000) -> 0 | AF8: =' B_Populations'!T65 -> 0 | AG8: =IF(AF8=0,0,($L$8/$AF$8)*100000) -> 0 | AI8: 19820 | AJ8: 0.072169 | AL8: =' B_Populations'!$A$13 -> 15-17 | AM8: =O8*AJ8 -> 0 | AN8: =Q8*AJ8 -> 0 | AO8: =S8*AJ8 -> 0 | AP8: =U8*AJ8 -> 0 | AQ8: =W8*AJ8 -> 0 | AR8: =Y8*AJ8 -> 0 | AS8: =AA8*AJ8 -> 0 | AT8: =AC8*AJ8 -> 0 | AU8: =AE8*AJ8 -> 0 | AV8: =AG8*AJ8 -> 0
B9: total | C9: =SUM(C4:C8) -> 0 | D9: =SUM(D4:D8) -> 0 | E9: =SUM(E4:E8) -> 0 | F9: =SUM(F4:F8) -> 0 | G9: =SUM(G4:G8) -> 0 | H9: =SUM(H4:H8) -> 0 | I9: =SUM(I4:I8) -> 0 | J9: =SUM(J4:J8) -> 0 | ... L9: =SUM(L4:L8) -> 0 | N9: =SUM(N4:N8) -> 0 | O9: =SUM(O4:O8) -> 0 | P9: =SUM(P4:P8) -> 0 | Q9: =SUM(Q4:Q8) -> 0 | R9: =SUM(R4:R8) -> 0 | S9: =SUM(S4:S8) -> 0 | T9: =SUM(T4:T8) -> 0 | U9: =SUM(U4:U8) -> 0 | ... AG9: =SUM(AG4:AG8) -> 0 | AI9: =SUM(AI4:AI8) -> 78784 | AL9: total | AM9: =SUM(AM4:AM8) -> 0 | AN9: =SUM(AN4:AN8) -> 0 | AO9: =SUM(AO4:AO8) -> 0 | AP9: =SUM(AP4:AP8) -> 0 | AQ9: =SUM(AQ4:AQ8) -> 0 | AR9: =SUM(AR4:AR8) -> 0 | AS9: =SUM(AS4:AS8) -> 0 | AT9: =SUM(AT4:AT8) -> 0 | ... AV9: =SUM(AV4:AV8) -> 0
D11: Sex Data | F11: Demographic Data | AM11: Age-adjusted Rates per 100,000 population
A12: Hospitalizations | B12: Age | C12: Number of hospitalizations- Total | D12: Number of ED visits- Male | E12: Number of ED visits- Female | F12: =' B_Populations'!$H$8 -> White-Not Hispanic | G12: =' B_Populations'!$J$8 -> Hispanic | H12: =' B_Populations'!$L$8 -> Black-Not Hispanic | I12: =' B_Populations'!$N$8 -> Asian | J12: =' B_Populations'!$P$8 -> American Indian/Alaska Native | K12: =' B_Populations'!$R$8 -> Other | L12: =' B_Populations'!$T$8 -> Other | N12: State population - Total | O12: Rate | P12: State population - Male | Q12: Rate | R12: State population - Female | S12: Rate | T12: =' B_Populations'!$H$8 -> White-Not Hispanic | U12: Rate | V12: =' B_Populations'!$J$8 -> Hispanic | W12: Rate | X12: =' B_Populations'!$L$8 -> Black-Not Hispanic | Y12: Rate | Z12: =' B_Populations'!$N$8 -> Asian | AA12: Rate | AB12: =' B_Populations'!$P$8 -> American Indian/Alaska Native | AC12: Rate | AD12: =' B_Populations'!$R$8 -> Other | AE12: Rate | AF12: =' B_Populations'!$T$8 -> Other | AG12: Rate | AI12: 2000 population | AJ12: Weight | AL12: Age | AM12: Total | AN12: Male | AO12: Female | AP12: =' B_Populations'!$H$8 -> White-Not Hispanic | AQ12: =' B_Populations'!$J$8 -> Hispanic | AR12: =' B_Populations'!$L$8 -> Black-Not Hispanic | AS12: =' B_Populations'!$N$8 -> Asian | AT12: =' B_Populations'!$P$8 -> American Indian/Alaska Native | AU12: =' B_Populations'!$R$8 -> Other | AV12: =' B_Populations'!$T$8 -> Other
B13: =' B_Populations'!$A$9 -> <1 | N13: =' B_Populations'!B61 -> 0 | O13: =IF(N13=0,0,($C$13/$N$13)*100000) -> 0 | P13: =' B_Populations'!D61 -> 0 | Q13: =IF(P13=0,0,($D$13/$P$13)*100000) -> 0 | R13: =' B_Populations'!F61 -> 0 | S13: =IF(R13=0,0,($E$13/$R$13)*100000) -> 0 | T13: =' B_Populations'!H61 -> 0 | U13: =IF(T13=0,0,($F$13/$T$13)*100000) -> 0 | V13: =' B_Populations'!J61 -> 0 | W13: =IF(V13=0,0,($G$13/$V$13)*100000) -> 0 | X13: =' B_Populations'!L61 -> 0 | Y13: =IF(X13=0,0,($H$13/$X$13)*100000) -> 0 | Z13: =' B_Populations'!N61 -> 0 | AA13: =IF(Z13=0,0,($I$13/$Z$13)*100000) -> 0 | AB13: =' B_Populations'!P61 -> 0 | AC13: =IF(AB13=0,0,($J$13/$AB$13)*100000) -> 0 | AD13: =' B_Populations'!R61 -> 0 | AE13: =IF(AD13=0,0,($K$13/$AD$13)*100000) -> 0 | AF13: =' B_Populations'!T61 -> 0 | AG13: =IF(AF13=0,0,($L$13/$AF$13)*100000) -> 0 | AI13: 3795 | AJ13: 0.013818 | AL13: =' B_Populations'!$A$9 -> <1 | AM13: =O13*AJ13 -> 0 | AN13: =Q13*AJ13 -> 0 | AO13: =S13*AJ13 -> 0 | AP13: =U13*AJ13 -> 0 | AQ13: =W13*AJ13 -> 0 | AR13: =Y13*AJ13 -> 0 | AS13: =AA13*AJ13 -> 0 | AT13: =AC13*AJ13 -> 0 | AU13: =AE13*AJ13 -> 0 | AV13: =AG13*AJ13 -> 0
B14: =' B_Populations'!$A$10 -> 1-4 | N14: =' B_Populations'!B62 -> 0 | O14: =IF(N14=0,0,($C$14/$N$14)*100000) -> 0 | P14: =' B_Populations'!D62 -> 0 | Q14: =IF(P14=0,0,($D$14/$P$14)*100000) -> 0 | R14: =' B_Populations'!F62 -> 0 | S14: =IF(R14=0,0,($E$14/$R$14)*100000) -> 0 | T14: =' B_Populations'!H62 -> 0 | U14: =IF(T14=0,0,($F$14/$T$14)*100000) -> 0 | V14: =' B_Populations'!J62 -> 0 | W14: =IF(V14=0,0,($G$14/$V$14)*100000) -> 0 | X14: =' B_Populations'!L62 -> 0 | Y14: =IF(X14=0,0,($H$14/$X$14)*100000) -> 0 | Z14: =' B_Populations'!N62 -> 0 | AA14: =IF(Z14=0,0,($I$14/$Z$14)*100000) -> 0 | AB14: =' B_Populations'!P62 -> 0 | AC14: =IF(AB14=0,0,($J$14/$AB$14)*100000) -> 0 | AD14: =' B_Populations'!R62 -> 0 | AE14: =IF(AD14=0,0,($K$14/$AD$14)*100000) -> 0 | AF14: =' B_Populations'!T62 -> 0 | AG14: =IF(AF14=0,0,($L$14/$AF$14)*100000) -> 0 | AI14: 15192 | AJ14: 0.055317 | AL14: =' B_Populations'!$A$10 -> 1-4 | AM14: =O14*AJ14 -> 0 | AN14: =Q14*AJ14 -> 0 | AO14: =S14*AJ14 -> 0 | AP14: =U14*AJ14 -> 0 | AQ14: =W14*AJ14 -> 0 | AR14: =Y14*AJ14 -> 0 | AS14: =AA14*AJ14 -> 0 | AT14: =AC14*AJ14 -> 0 | AU14: =AE14*AJ14 -> 0 | AV14: =AG14*AJ14 -> 0
B15: =' B_Populations'!$A$11 -> 5-9 | N15: =' B_Populations'!B63 -> 0 | O15: =IF(N15=0,0,($C$15/$N$15)*100000) -> 0 | P15: =' B_Populations'!D63 -> 0 | Q15: =IF(P15=0,0,($D$15/$P$15)*100000) -> 0 | R15: =' B_Populations'!F63 -> 0 | S15: =IF(R15=0,0,($E$15/$R$15)*100000) -> 0 | T15: =' B_Populations'!H63 -> 0 | U15: =IF(T15=0,0,($F$15/$T$15)*100000) -> 0 | V15: =' B_Populations'!J63 -> 0 | W15: =IF(V15=0,0,($G$15/$V$15)*100000) -> 0 | X15: =' B_Populations'!L63 -> 0 | Y15: =IF(X15=0,0,($H$15/$X$15)*100000) -> 0 | Z15: =' B_Populations'!N63 -> 0 | AA15: =IF(Z15=0,0,($I$15/$Z$15)*100000) -> 0 | AB15: =' B_Populations'!P63 -> 0 | AC15: =IF(AB15=0,0,($J$15/$AB$15)*100000) -> 0 | AD15: =' B_Populations'!R63 -> 0 | AE15: =IF(AD15=0,0,($K$15/$AD$15)*100000) -> 0 | AF15: =' B_Populations'!T63 -> 0 | AG15: =IF(AF15=0,0,($L$15/$AF$15)*100000) -> 0 | AI15: 19920 | AJ15: 0.072533 | AL15: =' B_Populations'!$A$11 -> 5-9 | AM15: =O15*AJ15 -> 0 | AN15: =Q15*AJ15 -> 0 | AO15: =S15*AJ15 -> 0 | AP15: =U15*AJ15 -> 0 | AQ15: =W15*AJ15 -> 0 | AR15: =Y15*AJ15 -> 0 | AS15: =AA15*AJ15 -> 0 | AT15: =AC15*AJ15 -> 0 | AU15: =AE15*AJ15 -> 0 | AV15: =AG15*AJ15 -> 0
B16: =' B_Populations'!$A$12 -> 10-14 | N16: =' B_Populations'!B64 -> 0 | O16: =IF(N16=0,0,($C$16/$N$16)*100000) -> 0 | P16: =' B_Populations'!D64 -> 0 | Q16: =IF(P16=0,0,($D$16/$P$16)*100000) -> 0 | R16: =' B_Populations'!F64 -> 0 | S16: =IF(R16=0,0,($E$16/$R$16)*100000) -> 0 | T16: =' B_Populations'!H64 -> 0 | U16: =IF(T16=0,0,($F$16/$T$16)*100000) -> 0 | V16: =' B_Populations'!J64 -> 0 | W16: =IF(V16=0,0,($G$16/$V$16)*100000) -> 0 | X16: =' B_Populations'!L64 -> 0 | Y16: =IF(X16=0,0,($H$16/$X$16)*100000) -> 0 | Z16: =' B_Populations'!N64 -> 0 | AA16: =IF(Z16=0,0,($I$16/$Z$16)*100000) -> 0 | AB16: =' B_Populations'!P64 -> 0 | AC16: =IF(AB16=0,0,($J$16/$AB$16)*100000) -> 0 | AD16: =' B_Populations'!R64 -> 0 | AE16: =IF(AD16=0,0,($K$16/$AD$16)*100000) -> 0 | AF16: =' B_Populations'!T64 -> 0 | AG16: =IF(AF16=0,0,($L$16/$AF$16)*100000) -> 0 | AI16: 20057 | AJ16: 0.073032 | AL16: =' B_Populations'!$A$12 -> 10-14 | AM16: =O16*AJ16 -> 0 | AN16: =Q16*AJ16 -> 0 | AO16: =S16*AJ16 -> 0 | AP16: =U16*AJ16 -> 0 | AQ16: =W16*AJ16 -> 0 | AR16: =Y16*AJ16 -> 0 | AS16: =AA16*AJ16 -> 0 | AT16: =AC16*AJ16 -> 0 | AU16: =AE16*AJ16 -> 0 | AV16: =AG16*AJ16 -> 0
B17: =' B_Populations'!$A$13 -> 15-17 | N17: =' B_Populations'!B65 -> 0 | O17: =IF(N17=0,0,($C$17/$N$17)*100000) -> 0 | P17: =' B_Populations'!D65 -> 0 | Q17: =IF(P17=0,0,($D$17/$P$17)*100000) -> 0 | R17: =' B_Populations'!F65 -> 0 | S17: =IF(R17=0,0,($E$17/$R$17)*100000) -> 0 | T17: =' B_Populations'!H65 -> 0 | U17: =IF(T17=0,0,($F$17/$T$17)*100000) -> 0 | V17: =' B_Populations'!J65 -> 0 | W17: =IF(V17=0,0,($G$17/$V$17)*100000) -> 0 | X17: =' B_Populations'!L65 -> 0 | Y17: =IF(X17=0,0,($H$17/$X$17)*100000) -> 0 | Z17: =' B_Populations'!N65 -> 0 | AA17: =IF(Z17=0,0,($I$17/$Z$17)*100000) -> 0 | AB17: =' B_Populations'!P65 -> 0 | AC17: =IF(AB17=0,0,($J$17/$AB$17)*100000) -> 0 | AD17: =' B_Populations'!R65 -> 0 | AE17: =IF(AD17=0,0,($K$17/$AD$17)*100000) -> 0 | AF17: =' B_Populations'!T65 -> 0 | AG17: =IF(AF17=0,0,($L$17/$AF$17)*100000) -> 0 | AI17: 19820 | AJ17: 0.072169 | AL17: =' B_Populations'!$A$13 -> 15-17 | AM17: =O17*AJ17 -> 0 | AN17: =Q17*AJ17 -> 0 | AO17: =S17*AJ17 -> 0 | AP17: =U17*AJ17 -> 0 | AQ17: =W17*AJ17 -> 0 | AR17: =Y17*AJ17 -> 0 | AS17: =AA17*AJ17 -> 0 | AT17: =AC17*AJ17 -> 0 | AU17: =AE17*AJ17 -> 0 | AV17: =AG17*AJ17 -> 0
B18: total | C18: =SUM(C13:C17) -> 0 | D18: =SUM(D13:D17) -> 0 | E18: =SUM(E13:E17) -> 0 | F18: =SUM(F13:F17) -> 0 | G18: =SUM(G13:G17) -> 0 | H18: =SUM(H13:H17) -> 0 | I18: =SUM(I13:I17) -> 0 | J18: =SUM(J13:J17) -> 0 | ... L18: =SUM(L13:L17) -> 0 | N18: =SUM(N13:N17) -> 0 | O18: =SUM(O13:O17) -> 0 | P18: =SUM(P13:P17) -> 0 | Q18: =SUM(Q13:Q17) -> 0 | R18: =SUM(R13:R17) -> 0 | S18: =SUM(S13:S17) -> 0 | T18: =SUM(T13:T17) -> 0 | U18: =SUM(U13:U17) -> 0 | ... AG18: =SUM(AG13:AG17) -> 0 | AI18: =SUM(AI13:AI17) -> 78784 | AL18: total | AM18: =SUM(AM13:AM17) -> 0 | AN18: =SUM(AN13:AN17) -> 0 | AO18: =SUM(AO13:AO17) -> 0 | AP18: =SUM(AP13:AP17) -> 0 | AQ18: =SUM(AQ13:AQ17) -> 0 | AR18: =SUM(AR13:AR17) -> 0 | AS18: =SUM(AS13:AS17) -> 0 | AT18: =SUM(AT13:AT17) -> 0 | ... AV18: =SUM(AV13:AV17) -> 0
D20: Sex Data | F20: Demographic Data | AM20: Age-adjusted Rates per 100,000 population
A21: Deaths | B21: Age | C21: Number of deaths- Total | D21: Number of deaths- Male | E21: Number of deaths- Female | F21: =' B_Populations'!$H$8 -> White-Not Hispanic | G21: =' B_Populations'!$J$8 -> Hispanic | H21: =' B_Populations'!$L$8 -> Black-Not Hispanic | I21: =' B_Populations'!$N$8 -> Asian | J21: =' B_Populations'!$P$8 -> American Indian/Alaska Native | K21: =' B_Populations'!$R$8 -> Other | L21: =' B_Populations'!$T$8 -> Other | N21: State population - Total | O21: Rate | P21: State population - Male | Q21: Rate | R21: State population - Female | S21: Rate | T21: =' B_Populations'!$H$8 -> White-Not Hispanic | U21: Rate | V21: =' B_Populations'!$J$8 -> Hispanic | W21: Rate | X21: =' B_Populations'!$L$8 -> Black-Not Hispanic | Y21: Rate | Z21: =' B_Populations'!$N$8 -> Asian | AA21: Rate | AB21: =' B_Populations'!$P$8 -> American Indian/Alaska Native | AC21: Rate | AD21: =' B_Populations'!$R$8 -> Other | AE21: Rate | AF21: =' B_Populations'!$T$8 -> Other | AG21: Rate | AI21: 2000 population | AJ21: Weight | AL21: Age | AM21: Total | AN21: Male | AO21: Female | AP21: =' B_Populations'!$H$8 -> White-Not Hispanic | AQ21: =' B_Populations'!$J$8 -> Hispanic | AR21: =' B_Populations'!$L$8 -> Black-Not Hispanic | AS21: =' B_Populations'!$N$8 -> Asian | AT21: =' B_Populations'!$P$8 -> American Indian/Alaska Native | AU21: =' B_Populations'!$R$8 -> Other | AV21: =' B_Populations'!$T$8 -> Other
B22: =' B_Populations'!$A$9 -> <1 | N22: =' B_Populations'!B61 -> 0 | O22: =IF(N22=0,0,($C$22/$N$22)*100000) -> 0 | P22: =' B_Populations'!D61 -> 0 | Q22: =IF(P22=0,0,($D$22/$P$22)*100000) -> 0 | R22: =' B_Populations'!F61 -> 0 | S22: =IF(R22=0,0,($E$22/$R$22)*100000) -> 0 | T22: =' B_Populations'!H61 -> 0 | U22: =IF(T22=0,0,($F$22/$T$22)*100000) -> 0 | V22: =' B_Populations'!J61 -> 0 | W22: =IF(V22=0,0,($G$22/$V$22)*100000) -> 0 | X22: =' B_Populations'!L61 -> 0 | Y22: =IF(X22=0,0,($H$22/$X$22)*100000) -> 0 | Z22: =' B_Populations'!N61 -> 0 | AA22: =IF(Z22=0,0,($I$22/$Z$22)*100000) -> 0 | AB22: =' B_Populations'!P61 -> 0 | AC22: =IF(AB22=0,0,($J$22/$AB$22)*100000) -> 0 | AD22: =' B_Populations'!R61 -> 0 | AE22: =IF(AD22=0,0,($K$22/$AD$22)*100000) -> 0 | AF22: =' B_Populations'!T61 -> 0 | AG22: =IF(AF22=0,0,($L$22/$AF$22)*100000) -> 0 | AI22: 3795 | AJ22: 0.013818 | AL22: =' B_Populations'!$A$9 -> <1 | AM22: =O22*AJ22 -> 0 | AN22: =Q22*AJ22 -> 0 | AO22: =S22*AJ22 -> 0 | AP22: =U22*AJ22 -> 0 | AQ22: =W22*AJ22 -> 0 | AR22: =Y22*AJ22 -> 0 | AS22: =AA22*AJ22 -> 0 | AT22: =AC22*AJ22 -> 0 | AU22: =AE22*AJ22 -> 0 | AV22: =AG22*AJ22 -> 0
B23: =' B_Populations'!$A$10 -> 1-4 | N23: =' B_Populations'!B62 -> 0 | O23: =IF(N23=0,0,($C$23/$N$23)*100000) -> 0 | P23: =' B_Populations'!D62 -> 0 | Q23: =IF(P23=0,0,($D$23/$P$23)*100000) -> 0 | R23: =' B_Populations'!F62 -> 0 | S23: =IF(R23=0,0,($E$23/$R$23)*100000) -> 0 | T23: =' B_Populations'!H62 -> 0 | U23: =IF(T23=0,0,($F$23/$T$23)*100000) -> 0 | V23: =' B_Populations'!J62 -> 0 | W23: =IF(V23=0,0,($G$23/$V$23)*100000) -> 0 | X23: =' B_Populations'!L62 -> 0 | Y23: =IF(X23=0,0,($H$23/$X$23)*100000) -> 0 | Z23: =' B_Populations'!N62 -> 0 | AA23: =IF(Z23=0,0,($I$23/$Z$23)*100000) -> 0 | AB23: =' B_Populations'!P62 -> 0 | AC23: =IF(AB23=0,0,($J$23/$AB$23)*100000) -> 0 | AD23: =' B_Populations'!R62 -> 0 | AE23: =IF(AD23=0,0,($K$23/$AD$23)*100000) -> 0 | AF23: =' B_Populations'!T62 -> 0 | AG23: =IF(AF23=0,0,($L$23/$AF$23)*100000) -> 0 | AI23: 15192 | AJ23: 0.055317 | AL23: =' B_Populations'!$A$10 -> 1-4 | AM23: =O23*AJ23 -> 0 | AN23: =Q23*AJ23 -> 0 | AO23: =S23*AJ23 -> 0 | AP23: =U23*AJ23 -> 0 | AQ23: =W23*AJ23 -> 0 | AR23: =Y23*AJ23 -> 0 | AS23: =AA23*AJ23 -> 0 | AT23: =AC23*AJ23 -> 0 | AU23: =AE23*AJ23 -> 0 | AV23: =AG23*AJ23 -> 0
B24: =' B_Populations'!$A$11 -> 5-9 | N24: =' B_Populations'!B63 -> 0 | O24: =IF(N24=0,0,($C$24/$N$24)*100000) -> 0 | P24: =' B_Populations'!D63 -> 0 | Q24: =IF(P24=0,0,($D$24/$P$24)*100000) -> 0 | R24: =' B_Populations'!F63 -> 0 | S24: =IF(R24=0,0,($E$24/$R$24)*100000) -> 0 | T24: =' B_Populations'!H63 -> 0 | U24: =IF(T24=0,0,($F$24/$T$24)*100000) -> 0 | V24: =' B_Populations'!J63 -> 0 | W24: =IF(V24=0,0,($G$24/$V$24)*100000) -> 0 | X24: =' B_Populations'!L63 -> 0 | Y24: =IF(X24=0,0,($H$24/$X$24)*100000) -> 0 | Z24: =' B_Populations'!N63 -> 0 | AA24: =IF(Z24=0,0,($I$24/$Z$24)*100000) -> 0 | AB24: =' B_Populations'!P63 -> 0 | AC24: =IF(AB24=0,0,($J$24/$AB$24)*100000) -> 0 | AD24: =' B_Populations'!R63 -> 0 | AE24: =IF(AD24=0,0,($K$24/$AD$24)*100000) -> 0 | AF24: =' B_Populations'!T63 -> 0 | AG24: =IF(AF24=0,0,($L$24/$AF$24)*100000) -> 0 | AI24: 19920 | AJ24: 0.072533 | AL24: =' B_Populations'!$A$11 -> 5-9 | AM24: =O24*AJ24 -> 0 | AN24: =Q24*AJ24 -> 0 | AO24: =S24*AJ24 -> 0 | AP24: =U24*AJ24 -> 0 | AQ24: =W24*AJ24 -> 0 | AR24: =Y24*AJ24 -> 0 | AS24: =AA24*AJ24 -> 0 | AT24: =AC24*AJ24 -> 0 | AU24: =AE24*AJ24 -> 0 | AV24: =AG24*AJ24 -> 0
B25: =' B_Populations'!$A$12 -> 10-14 | N25: =' B_Populations'!B64 -> 0 | O25: =IF(N25=0,0,($C$25/$N$25)*100000) -> 0 | P25: =' B_Populations'!D64 -> 0 | Q25: =IF(P25=0,0,($D$25/$P$25)*100000) -> 0 | R25: =' B_Populations'!F64 -> 0 | S25: =IF(R25=0,0,($E$25/$R$25)*100000) -> 0 | T25: =' B_Populations'!H64 -> 0 | U25: =IF(T25=0,0,($F$25/$T$25)*100000) -> 0 | V25: =' B_Populations'!J64 -> 0 | W25: =IF(V25=0,0,($G$25/$V$25)*100000) -> 0 | X25: =' B_Populations'!L64 -> 0 | Y25: =IF(X25=0,0,($H$25/$X$25)*100000) -> 0 | Z25: =' B_Populations'!N64 -> 0 | AA25: =IF(Z25=0,0,($I$25/$Z$25)*100000) -> 0 | AB25: =' B_Populations'!P64 -> 0 | AC25: =IF(AB25=0,0,($J$25/$AB$25)*100000) -> 0 | AD25: =' B_Populations'!R64 -> 0 | AE25: =IF(AD25=0,0,($K$25/$AD$25)*100000) -> 0 | AF25: =' B_Populations'!T64 -> 0 | AG25: =IF(AF25=0,0,($L$25/$AF$25)*100000) -> 0 | AI25: 20057 | AJ25: 0.073032 | AL25: =' B_Populations'!$A$12 -> 10-14 | AM25: =O25*AJ25 -> 0 | AN25: =Q25*AJ25 -> 0 | AO25: =S25*AJ25 -> 0 | AP25: =U25*AJ25 -> 0 | AQ25: =W25*AJ25 -> 0 | AR25: =Y25*AJ25 -> 0 | AS25: =AA25*AJ25 -> 0 | AT25: =AC25*AJ25 -> 0 | AU25: =AE25*AJ25 -> 0 | AV25: =AG25*AJ25 -> 0
B26: =' B_Populations'!$A$13 -> 15-17 | N26: =' B_Populations'!B65 -> 0 | O26: =IF(N26=0,0,($C$26/$N$26)*100000) -> 0 | P26: =' B_Populations'!D65 -> 0 | Q26: =IF(P26=0,0,($D$26/$P$26)*100000) -> 0 | R26: =' B_Populations'!F65 -> 0 | S26: =IF(R26=0,0,($E$26/$R$26)*100000) -> 0 | T26: =' B_Populations'!H65 -> 0 | U26: =IF(T26=0,0,($F$26/$T$26)*100000) -> 0 | V26: =' B_Populations'!J65 -> 0 | W26: =IF(V26=0,0,($G$26/$V$26)*100000) -> 0 | X26: =' B_Populations'!L65 -> 0 | Y26: =IF(X26=0,0,($H$26/$X$26)*100000) -> 0 | Z26: =' B_Populations'!N65 -> 0 | AA26: =IF(Z26=0,0,($I$26/$Z$26)*100000) -> 0 | AB26: =' B_Populations'!P65 -> 0 | AC26: =IF(AB26=0,0,($J$26/$AB$26)*100000) -> 0 | AD26: =' B_Populations'!R65 -> 0 | AE26: =IF(AD26=0,0,($K$26/$AD$26)*100000) -> 0 | AF26: =' B_Populations'!T65 -> 0 | AG26: =IF(AF26=0,0,($L$26/$AF$26)*100000) -> 0 | AI26: 19820 | AJ26: 0.072169 | AL26: =' B_Populations'!$A$13 -> 15-17 | AM26: =O26*AJ26 -> 0 | AN26: =Q26*AJ26 -> 0 | AO26: =S26*AJ26 -> 0 | AP26: =U26*AJ26 -> 0 | AQ26: =W26*AJ26 -> 0 | AR26: =Y26*AJ26 -> 0 | AS26: =AA26*AJ26 -> 0 | AT26: =AC26*AJ26 -> 0 | AU26: =AE26*AJ26 -> 0 | AV26: =AG26*AJ26 -> 0
B27: total | C27: =SUM(C22:C26) -> 0 | D27: =SUM(D22:D26) -> 0 | E27: =SUM(E22:E26) -> 0 | F27: =SUM(F22:F26) -> 0 | G27: =SUM(G22:G26) -> 0 | H27: =SUM(H22:H26) -> 0 | I27: =SUM(I22:I26) -> 0 | J27: =SUM(J22:J26) -> 0 | ... L27: =SUM(L22:L26) -> 0 | N27: =SUM(N22:N26) -> 0 | O27: =SUM(O22:O26) -> 0 | P27: =SUM(P22:P26) -> 0 | Q27: =SUM(Q22:Q26) -> 0 | R27: =SUM(R22:R26) -> 0 | S27: =SUM(S22:S26) -> 0 | T27: =SUM(T22:T26) -> 0 | U27: =SUM(U22:U26) -> 0 | ... AG27: =SUM(AG22:AG26) -> 0 | AI27: =SUM(AI22:AI26) -> 78784 | AL27: total | AM27: =SUM(AM22:AM26) -> 0 | AN27: =SUM(AN22:AN26) -> 0 | AO27: =SUM(AO22:AO26) -> 0 | AP27: =SUM(AP22:AP26) -> 0 | AQ27: =SUM(AQ22:AQ26) -> 0 | AR27: =SUM(AR22:AR26) -> 0 | AS27: =SUM(AS22:AS26) -> 0 | AT27: =SUM(AT22:AT26) -> 0 | ... AV27: =SUM(AV22:AV26) -> 0

Sheet H_Table 1
B6: Age-adjusted rates per 100,000
A7: Year | B7: ED Visits | C7: Hospitalizations | D7: Deaths
A8: =' B_Populations'!D3 -> 0 | B8: ='C_Year 1'!AM9 -> 0 | C8: ='C_Year 1'!AM18 -> 0 | D8: ='C_Year 1'!AM27 -> 0
A9: =' B_Populations'!D17 -> 0 | B9: ='D_Year 2'!AM9 -> 0 | C9: ='D_Year 2'!AM18 -> 0 | D9: ='D_Year 2'!AM27 -> 0
A10: =' B_Populations'!D30 -> 0 | B10: ='E_Year 3'!AM9 -> 0 | C10: ='E_Year 3'!AM18 -> 0 | D10: ='E_Year 3'!AM27 -> 0
A11: =' B_Populations'!D43 -> 0 | B11: ='F_Year 4'!AM9 -> 0 | C11: ='F_Year 4'!AM18 -> 0 | D11: ='F_Year 4'!AM27 -> 0
A12: =' B_Populations'!D56 -> 0 | B12: ='G_Year 5'!AM9 -> 0 | C12: ='G_Year 5'!AM18 -> 0 | D12: ='G_Year 5'!AM27 -> 0

Sheet I_Figure 1
A6: Mechanism 1 | O6: Figure 1 Data | P6: Total age-adjusted rates per 100,000
B7: Data Input Tables Instructions: Enter your unintentional child injury-related injury data in the red cells below. The age-adjusted rates will automatically calculate in the results table. | E7: Rate per 100,000 calculations | H7: Population Weights | K7: Results Table Age Adjusted Rates per 100,1000. Results will calculate automatically. | O7: Mechanism (user can edit mechanism name in the cells below) | P7: ED Visits | Q7: Hospitalizations | R7: Deaths
L8: Age-adjusted Rates per 100,000 population | O8: Mechanism 1 | P8: =L15 -> 0 | Q8: =L24 -> 0 | R8: =L33 -> 0
A9: Emergency Dept Visits | B9: Age | C9: Number of hospitalizations- Total | E9: State population - Total | F9: Rate | H9: 2000 population | I9: Weight | K9: Age | L9: Total | O9: Mechanism 2 | P9: =L44 -> 0 | Q9: =L53 -> 0 | R9: =L62 -> 0
B10: =' B_Populations'!$A$9 -> <1 | E10: =' B_Populations'!B9 -> 0 | F10: =IF(E10=0,0,($C$10/$E$10)*100000) -> 0 | H10: 3795 | I10: 0.013818 | K10: =' B_Populations'!$A$9 -> <1 | L10: =F10*I10 -> 0 | O10: Mechanism 3 | P10: =L73 -> 0 | Q10: =L82 -> 0 | R10: =L91 -> 0
B11: =' B_Populations'!$A$10 -> 1-4 | E11: =' B_Populations'!B10 -> 0 | F11: =IF(E11=0,0,($C$11/$E$11)*100000) -> 0 | H11: 15192 | I11: 0.055317 | K11: =' B_Populations'!$A$10 -> 1-4 | L11: =F11*I11 -> 0 | O11: Mechanism 4 | P11: =L102 -> 0 | Q11: =L111 -> 0 | R11: =L120 -> 0
B12: =' B_Populations'!$A$11 -> 5-9 | E12: =' B_Populations'!B11 -> 0 | F12: =IF(E12=0,0,($C$12/$E$12)*100000) -> 0 | H12: 19920 | I12: 0.072533 | K12: =' B_Populations'!$A$11 -> 5-9 | L12: =F12*I12 -> 0 | O12: Mechanism 5 | P12: =L131 -> 0 | Q12: =L140 -> 0 | R12: =L149 -> 0
B13: =' B_Populations'!$A$12 -> 10-14 | E13: =' B_Populations'!B12 -> 0 | F13: =IF(E13=0,0,($C$13/$E$13)*100000) -> 0 | H13: 20057 | I13: 0.073032 | K13: =' B_Populations'!$A$12 -> 10-14 | L13: =F13*I13 -> 0 | O13: Mechanism 6 | P13: =L160 -> 0 | Q13: =L169 -> 0 | R13: =L178 -> 0
B14: =' B_Populations'!$A$13 -> 15-17 | E14: =' B_Populations'!B13 -> 0 | F14: =IF(E14=0,0,($C$14/$E$14)*100000) -> 0 | H14: 19820 | I14: 0.072169 | K14: =' B_Populations'!$A$13 -> 15-17 | L14: =F14*I14 -> 0
B15: total | C15: =SUM(C10:C14) -> 0 | E15: =SUM(E10:E14) -> 0 | F15: =SUM(F10:F14) -> 0 | H15: =SUM(H10:H14) -> 78784 | K15: total | L15: =SUM(L10:L14) -> 0
L17: Age-adjusted Rates per 100,000 population
A18: Hospitalizations | B18: Age | C18: Number of ED visits- Total | E18: State population - Total | F18: Rate | H18: 2000 population | I18: Weight | K18: Age | L18: Total
B19: =' B_Populations'!$A$9 -> <1 | E19: =' B_Populations'!B9 -> 0 | F19: =IF(E19=0,0,($C$19/$E$19)*100000) -> 0 | H19: 3795 | I19: 0.013818 | K19: =' B_Populations'!$A$9 -> <1 | L19: =F19*I19 -> 0
B20: =' B_Populations'!$A$10 -> 1-4 | E20: =' B_Populations'!B10 -> 0 | F20: =IF(E20=0,0,($C$20/$E$20)*100000) -> 0 | H20: 15192 | I20: 0.055317 | K20: =' B_Populations'!$A$10 -> 1-4 | L20: =F20*I20 -> 0
B21: =' B_Populations'!$A$11 -> 5-9 | E21: =' B_Populations'!B11 -> 0 | F21: =IF(E21=0,0,($C$21/$E$21)*100000) -> 0 | H21: 19920 | I21: 0.072533 | K21: =' B_Populations'!$A$11 -> 5-9 | L21: =F21*I21 -> 0
B22: =' B_Populations'!$A$12 -> 10-14 | E22: =' B_Populations'!B12 -> 0 | F22: =IF(E22=0,0,($C$22/$E$22)*100000) -> 0 | H22: 20057 | I22: 0.073032 | K22: =' B_Populations'!$A$12 -> 10-14 | L22: =F22*I22 -> 0
B23: =' B_Populations'!$A$13 -> 15-17 | E23: =' B_Populations'!B13 -> 0 | F23: =IF(E23=0,0,($C$23/$E$23)*100000) -> 0 | H23: 19820 | I23: 0.072169 | K23: =' B_Populations'!$A$13 -> 15-17 | L23: =F23*I23 -> 0
B24: total | C24: =SUM(C19:C23) -> 0 | E24: =SUM(E19:E23) -> 0 | F24: =SUM(F19:F23) -> 0 | H24: =SUM(H19:H23) -> 78784 | K24: total | L24: =SUM(L19:L23) -> 0
L26: Age-adjusted Rates per 100,000 population
A27: Deaths | B27: Age | C27: Number of deaths- Total | E27: State population - Total | F27: Rate | H27: 2000 population | I27: Weight | K27: Age | L27: Total
B28: =' B_Populations'!$A$9 -> <1 | E28: =' B_Populations'!B9 -> 0 | F28: =IF(E28=0,0,($C$28/$E$28)*100000) -> 0 | H28: 3795 | I28: 0.013818 | K28: =' B_Populations'!$A$9 -> <1 | L28: =F28*I28 -> 0
B29: =' B_Populations'!$A$10 -> 1-4 | E29: =' B_Populations'!B10 -> 0 | F29: =IF(E29=0,0,($C$29/$E$29)*100000) -> 0 | H29: 15192 | I29: 0.055317 | K29: =' B_Populations'!$A$10 -> 1-4 | L29: =F29*I29 -> 0
B30: =' B_Populations'!$A$11 -> 5-9 | E30: =' B_Populations'!B11 -> 0 | F30: =IF(E30=0,0,($C$30/$E$30)*100000) -> 0 | H30: 19920 | I30: 0.072533 | K30: =' B_Populations'!$A$11 -> 5-9 | L30: =F30*I30 -> 0
B31: =' B_Populations'!$A$12 -> 10-14 | E31: =' B_Populations'!B12 -> 0 | F31: =IF(E31=0,0,($C$31/$E$31)*100000) -> 0 | H31: 20057 | I31: 0.073032 | K31: =' B_Populations'!$A$12 -> 10-14 | L31: =F31*I31 -> 0
B32: =' B_Populations'!$A$13 -> 15-17 | E32: =' B_Populations'!B13 -> 0 | F32: =IF(E32=0,0,($C$32/$E$32)*100000) -> 0 | H32: 19820 | I32: 0.072169 | K32: =' B_Populations'!$A$13 -> 15-17 | L32: =F32*I32 -> 0
B33: total | C33: =SUM(C28:C32) -> 0 | E33: =SUM(E28:E32) -> 0 | F33: =SUM(F28:F32) -> 0 | H33: =SUM(H28:H32) -> 78784 | K33: total | L33: =SUM(L28:L32) -> 0
A35: Mechanism 2
B36: Data Input Tables Instructions: Enter your unintentional child injury-related injury data in the red cells below. The age-adjusted rates will automatically calculate in the results table. | E36: Rate per 100,000 calculations | H36: Population Weights | K36: Results Table Age Adjusted Rates per 100,1000. Results will calculate automatically.
L37: Age-adjusted Rates per 100,000 population
A38: Emergency Dept Visits | B38: Age | C38: Number of hospitalizations- Total | E38: State population - Total | F38: Rate | H38: 2000 population | I38: Weight | K38: Age | L38: Total
B39: =' B_Populations'!$A$9 -> <1 | E39: =' B_Populations'!B38 -> 0 | F39: =IF(E39=0,0,($C$39/$E$39)*100000) -> 0 | H39: 3795 | I39: 0.013818 | K39: =' B_Populations'!$A$9 -> <1 | L39: =F39*I39 -> 0
B40: =' B_Populations'!$A$10 -> 1-4 | E40: =' B_Populations'!B39 -> 0 | F40: =IF(E40=0,0,($C$40/$E$40)*100000) -> 0 | H40: 15192 | I40: 0.055317 | K40: =' B_Populations'!$A$10 -> 1-4 | L40: =F40*I40 -> 0
B41: =' B_Populations'!$A$11 -> 5-9 | E41: =' B_Populations'!B40 -> 0 | F41: =IF(E41=0,0,($C$41/$E$41)*100000) -> 0 | H41: 19920 | I41: 0.072533 | K41: =' B_Populations'!$A$11 -> 5-9 | L41: =F41*I41 -> 0
B42: =' B_Populations'!$A$12 -> 10-14 | E42: =' B_Populations'!B41 -> 0 | F42: =IF(E42=0,0,($C$42/$E$42)*100000) -> 0 | H42: 20057 | I42: 0.073032 | K42: =' B_Populations'!$A$12 -> 10-14 | L42: =F42*I42 -> 0
B43: =' B_Populations'!$A$13 -> 15-17 | E43: =' B_Populations'!B42 -> 0 | F43: =IF(E43=0,0,($C$43/$E$43)*100000) -> 0 | H43: 19820 | I43: 0.072169 | K43: =' B_Populations'!$A$13 -> 15-17 | L43: =F43*I43 -> 0
B44: total | C44: =SUM(C39:C43) -> 0 | E44: =SUM(E39:E43) -> 0 | F44: =SUM(F39:F43) -> 0 | H44: =SUM(H39:H43) -> 78784 | K44: total | L44: =SUM(L39:L43) -> 0
L46: Age-adjusted Rates per 100,000 population
A47: Hospitalizations | B47: Age | C47: Number of ED visits- Total | E47: State population - Total | F47: Rate | H47: 2000 population | I47: Weight | K47: Age | L47: Total
B48: =' B_Populations'!$A$9 -> <1 | E48: =' B_Populations'!B38 -> 0 | F48: =IF(E48=0,0,($C$48/$E$48)*100000) -> 0 | H48: 3795 | I48: 0.013818 | K48: =' B_Populations'!$A$9 -> <1 | L48: =F48*I48 -> 0
B49: =' B_Populations'!$A$10 -> 1-4 | E49: =' B_Populations'!B39 -> 0 | F49: =IF(E49=0,0,($C$49/$E$49)*100000) -> 0 | H49: 15192 | I49: 0.055317 | K49: =' B_Populations'!$A$10 -> 1-4 | L49: =F49*I49 -> 0
B50: =' B_Populations'!$A$11 -> 5-9 | E50: =' B_Populations'!B40 -> 0 | F50: =IF(E50=0,0,($C$50/$E$50)*100000) -> 0 | H50: 19920 | I50: 0.072533 | K50: =' B_Populations'!$A$11 -> 5-9 | L50: =F50*I50 -> 0
B51: =' B_Populations'!$A$12 -> 10-14 | E51: =' B_Populations'!B41 -> 0 | F51: =IF(E51=0,0,($C$51/$E$51)*100000) -> 0 | H51: 20057 | I51: 0.073032 | K51: =' B_Populations'!$A$12 -> 10-14 | L51: =F51*I51 -> 0
B52: =' B_Populations'!$A$13 -> 15-17 | E52: =' B_Populations'!B42 -> 0 | F52: =IF(E52=0,0,($C$52/$E$52)*100000) -> 0 | H52: 19820 | I52: 0.072169 | K52: =' B_Populations'!$A$13 -> 15-17 | L52: =F52*I52 -> 0
B53: total | C53: =SUM(C48:C52) -> 0 | E53: =SUM(E48:E52) -> 0 | F53: =SUM(F48:F52) -> 0 | H53: =SUM(H48:H52) -> 78784 | K53: total | L53: =SUM(L48:L52) -> 0
L55: Age-adjusted Rates per 100,000 population
A56: Deaths | B56: Age | C56: Number of deaths- Total | E56: State population - Total | F56: Rate | H56: 2000 population | I56: Weight | K56: Age | L56: Total
B57: =' B_Populations'!$A$9 -> <1 | E57: =' B_Populations'!B38 -> 0 | F57: =IF(E57=0,0,($C$57/$E$57)*100000) -> 0 | H57: 3795 | I57: 0.013818 | K57: =' B_Populations'!$A$9 -> <1 | L57: =F57*I57 -> 0
B58: =' B_Populations'!$A$10 -> 1-4 | E58: =' B_Populations'!B39 -> 0 | F58: =IF(E58=0,0,($C$58/$E$58)*100000) -> 0 | H58: 15192 | I58: 0.055317 | K58: =' B_Populations'!$A$10 -> 1-4 | L58: =F58*I58 -> 0
B59: =' B_Populations'!$A$11 -> 5-9 | E59: =' B_Populations'!B40 -> 0 | F59: =IF(E59=0,0,($C$59/$E$59)*100000) -> 0 | H59: 19920 | I59: 0.072533 | K59: =' B_Populations'!$A$11 -> 5-9 | L59: =F59*I59 -> 0
B60: =' B_Populations'!$A$12 -> 10-14 | E60: =' B_Populations'!B41 -> 0 | F60: =IF(E60=0,0,($C$60/$E$60)*100000) -> 0 | H60: 20057 | I60: 0.073032 | K60: =' B_Populations'!$A$12 -> 10-14 | L60: =F60*I60 -> 0
B61: =' B_Populations'!$A$13 -> 15-17 | E61: =' B_Populations'!B42 -> 0 | F61: =IF(E61=0,0,($C$61/$E$61)*100000) -> 0 | H61: 19820 | I61: 0.072169 | K61: =' B_Populations'!$A$13 -> 15-17 | L61: =F61*I61 -> 0
B62: total | C62: =SUM(C57:C61) -> 0 | E62: =SUM(E57:E61) -> 0 | F62: =SUM(F57:F61) -> 0 | H62: =SUM(H57:H61) -> 78784 | K62: total | L62: =SUM(L57:L61) -> 0
A64: Mechanism 3
B65: Data Input Tables Instructions: Enter your unintentional child injury-related injury data in the red cells below. The age-adjusted rates will automatically calculate in the results table. | E65: Rate per 100,000 calculations | H65: Population Weights | K65: Results Table Age Adjusted Rates per 100,1000. Results will calculate automatically.
L66: Age-adjusted Rates per 100,000 population
A67: Emergency Dept Visits | B67: Age | C67: Number of hospitalizations- Total | E67: State population - Total | F67: Rate | H67: 2000 population | I67: Weight | K67: Age | L67: Total
B68: =' B_Populations'!$A$9 -> <1 | E68: =' B_Populations'!B67 -> 0 | F68: =IF(E68=0,0,($C$68/$E$68)*100000) -> 0 | H68: 3795 | I68: 0.013818 | K68: =' B_Populations'!$A$9 -> <1 | L68: =F68*I68 -> 0
B69: =' B_Populations'!$A$10 -> 1-4 | E69: =' B_Populations'!B68 -> 0 | F69: =IF(E69=0,0,($C$69/$E$69)*100000) -> 0 | H69: 15192 | I69: 0.055317 | K69: =' B_Populations'!$A$10 -> 1-4 | L69: =F69*I69 -> 0
B70: =' B_Populations'!$A$11 -> 5-9 | E70: =' B_Populations'!B69 -> 0 | F70: =IF(E70=0,0,($C$70/$E$70)*100000) -> 0 | H70: 19920 | I70: 0.072533 | K70: =' B_Populations'!$A$11 -> 5-9 | L70: =F70*I70 -> 0
B71: =' B_Populations'!$A$12 -> 10-14 | E71: =' B_Populations'!B70 -> 0 | F71: =IF(E71=0,0,($C$71/$E$71)*100000) -> 0 | H71: 20057 | I71: 0.073032 | K71: =' B_Populations'!$A$12 -> 10-14 | L71: =F71*I71 -> 0
B72: =' B_Populations'!$A$13 -> 15-17 | E72: =' B_Populations'!B71 -> 0 | F72: =IF(E72=0,0,($C$72/$E$72)*100000) -> 0 | H72: 19820 | I72: 0.072169 | K72: =' B_Populations'!$A$13 -> 15-17 | L72: =F72*I72 -> 0
B73: total | C73: =SUM(C68:C72) -> 0 | E73: =SUM(E68:E72) -> 0 | F73: =SUM(F68:F72) -> 0 | H73: =SUM(H68:H72) -> 78784 | K73: total | L73: =SUM(L68:L72) -> 0
L75: Age-adjusted Rates per 100,000 population
A76: Hospitalizations | B76: Age | C76: Number of ED visits- Total | E76: State population - Total | F76: Rate | H76: 2000 population | I76: Weight | K76: Age | L76: Total
B77: =' B_Populations'!$A$9 -> <1 | E77: =' B_Populations'!B67 -> 0 | F77: =IF(E77=0,0,($C$77/$E$77)*100000) -> 0 | H77: 3795 | I77: 0.013818 | K77: =' B_Populations'!$A$9 -> <1 | L77: =F77*I77 -> 0
B78: =' B_Populations'!$A$10 -> 1-4 | E78: =' B_Populations'!B68 -> 0 | F78: =IF(E78=0,0,($C$78/$E$78)*100000) -> 0 | H78: 15192 | I78: 0.055317 | K78: =' B_Populations'!$A$10 -> 1-4 | L78: =F78*I78 -> 0
B79: =' B_Populations'!$A$11 -> 5-9 | E79: =' B_Populations'!B69 -> 0 | F79: =IF(E79=0,0,($C$79/$E$79)*100000) -> 0 | H79: 19920 | I79: 0.072533 | K79: =' B_Populations'!$A$11 -> 5-9 | L79: =F79*I79 -> 0
B80: =' B_Populations'!$A$12 -> 10-14 | E80: =' B_Populations'!B70 -> 0 | F80: =IF(E80=0,0,($C$80/$E$80)*100000) -> 0 | H80: 20057 | I80: 0.073032 | K80: =' B_Populations'!$A$12 -> 10-14 | L80: =F80*I80 -> 0
B81: =' B_Populations'!$A$13 -> 15-17 | E81: =' B_Populations'!B71 -> 0 | F81: =IF(E81=0,0,($C$81/$E$81)*100000) -> 0 | H81: 19820 | I81: 0.072169 | K81: =' B_Populations'!$A$13 -> 15-17 | L81: =F81*I81 -> 0
B82: total | C82: =SUM(C77:C81) -> 0 | E82: =SUM(E77:E81) -> 0 | F82: =SUM(F77:F81) -> 0 | H82: =SUM(H77:H81) -> 78784 | K82: total | L82: =SUM(L77:L81) -> 0
L84: Age-adjusted Rates per 100,000 population
A85: Deaths | B85: Age | C85: Number of deaths- Total | E85: State population - Total | F85: Rate | H85: 2000 population | I85: Weight | K85: Age | L85: Total
B86: =' B_Populations'!$A$9 -> <1 | E86: =' B_Populations'!B67 -> 0 | F86: =IF(E86=0,0,($C$86/$E$86)*100000) -> 0 | H86: 3795 | I86: 0.013818 | K86: =' B_Populations'!$A$9 -> <1 | L86: =F86*I86 -> 0
B87: =' B_Populations'!$A$10 -> 1-4 | E87: =' B_Populations'!B68 -> 0 | F87: =IF(E87=0,0,($C$87/$E$87)*100000) -> 0 | H87: 15192 | I87: 0.055317 | K87: =' B_Populations'!$A$10 -> 1-4 | L87: =F87*I87 -> 0
B88: =' B_Populations'!$A$11 -> 5-9 | E88: =' B_Populations'!B69 -> 0 | F88: =IF(E88=0,0,($C$88/$E$88)*100000) -> 0 | H88: 19920 | I88: 0.072533 | K88: =' B_Populations'!$A$11 -> 5-9 | L88: =F88*I88 -> 0
B89: =' B_Populations'!$A$12 -> 10-14 | E89: =' B_Populations'!B70 -> 0 | F89: =IF(E89=0,0,($C$89/$E$89)*100000) -> 0 | H89: 20057 | I89: 0.073032 | K89: =' B_Populations'!$A$12 -> 10-14 | L89: =F89*I89 -> 0
B90: =' B_Populations'!$A$13 -> 15-17 | E90: =' B_Populations'!B71 -> 0 | F90: =IF(E90=0,0,($C$90/$E$90)*100000) -> 0 | H90: 19820 | I90: 0.072169 | K90: =' B_Populations'!$A$13 -> 15-17 | L90: =F90*I90 -> 0
B91: total | C91: =SUM(C86:C90) -> 0 | E91: =SUM(E86:E90) -> 0 | F91: =SUM(F86:F90) -> 0 | H91: =SUM(H86:H90) -> 78784 | K91: total | L91: =SUM(L86:L90) -> 0
A93: Mechanism 4
B94: Data Input Tables Instructions: Enter your unintentional child injury-related injury data in the red cells below. The age-adjusted rates will automatically calculate in the results table. | E94: Rate per 100,000 calculations | H94: Population Weights | K94: Results Table Age Adjusted Rates per 100,1000. Results will calculate automatically.
L95: Age-adjusted Rates per 100,000 population
A96: Emergency Dept Visits | B96: Age | C96: Number of hospitalizations- Total | E96: State population - Total | F96: Rate | H96: 2000 population | I96: Weight | K96: Age | L96: Total
B97: =' B_Populations'!$A$9 -> <1 | E97: =' B_Populations'!B96 -> 0 | F97: =IF(E97=0,0,($C$97/$E$97)*100000) -> 0 | H97: 3795 | I97: 0.013818 | K97: =' B_Populations'!$A$9 -> <1 | L97: =F97*I97 -> 0
B98: =' B_Populations'!$A$10 -> 1-4 | E98: =' B_Populations'!B97 -> 0 | F98: =IF(E98=0,0,($C$98/$E$98)*100000) -> 0 | H98: 15192 | I98: 0.055317 | K98: =' B_Populations'!$A$10 -> 1-4 | L98: =F98*I98 -> 0
B99: =' B_Populations'!$A$11 -> 5-9 | E99: =' B_Populations'!B98 -> 0 | F99: =IF(E99=0,0,($C$99/$E$99)*100000) -> 0 | H99: 19920 | I99: 0.072533 | K99: =' B_Populations'!$A$11 -> 5-9 | L99: =F99*I99 -> 0
B100: =' B_Populations'!$A$12 -> 10-14 | E100: =' B_Populations'!B99 -> 0 | F100: =IF(E100=0,0,($C$100/$E$100)*100000) -> 0 | H100: 20057 | I100: 0.073032 | K100: =' B_Populations'!$A$12 -> 10-14 | L100: =F100*I100 -> 0
B101: =' B_Populations'!$A$13 -> 15-17 | E101: =' B_Populations'!B100 -> 0 | F101: =IF(E101=0,0,($C$101/$E$101)*100000) -> 0 | H101: 19820 | I101: 0.072169 | K101: =' B_Populations'!$A$13 -> 15-17 | L101: =F101*I101 -> 0
B102: total | C102: =SUM(C97:C101) -> 0 | E102: =SUM(E97:E101) -> 0 | F102: =SUM(F97:F101) -> 0 | H102: =SUM(H97:H101) -> 78784 | K102: total | L102: =SUM(L97:L101) -> 0
L104: Age-adjusted Rates per 100,000 population
A105: Hospitalizations | B105: Age | C105: Number of ED visits- Total | E105: State population - Total | F105: Rate | H105: 2000 population | I105: Weight | K105: Age | L105: Total
B106: =' B_Populations'!$A$9 -> <1 | E106: =' B_Populations'!B96 -> 0 | F106: =IF(E106=0,0,($C$106/$E$106)*100000) -> 0 | H106: 3795 | I106: 0.013818 | K106: =' B_Populations'!$A$9 -> <1 | L106: =F106*I106 -> 0
B107: =' B_Populations'!$A$10 -> 1-4 | E107: =' B_Populations'!B97 -> 0 | F107: =IF(E107=0,0,($C$107/$E$107)*100000) -> 0 | H107: 15192 | I107: 0.055317 | K107: =' B_Populations'!$A$10 -> 1-4 | L107: =F107*I107 -> 0
B108: =' B_Populations'!$A$11 -> 5-9 | E108: =' B_Populations'!B98 -> 0 | F108: =IF(E108=0,0,($C$108/$E$108)*100000) -> 0 | H108: 19920 | I108: 0.072533 | K108: =' B_Populations'!$A$11 -> 5-9 | L108: =F108*I108 -> 0
B109: =' B_Populations'!$A$12 -> 10-14 | E109: =' B_Populations'!B99 -> 0 | F109: =IF(E109=0,0,($C$109/$E$109)*100000) -> 0 | H109: 20057 | I109: 0.073032 | K109: =' B_Populations'!$A$12 -> 10-14 | L109: =F109*I109 -> 0
B110: =' B_Populations'!$A$13 -> 15-17 | E110: =' B_Populations'!B100 -> 0 | F110: =IF(E110=0,0,($C$110/$E$110)*100000) -> 0 | H110: 19820 | I110: 0.072169 | K110: =' B_Populations'!$A$13 -> 15-17 | L110: =F110*I110 -> 0
B111: total | C111: =SUM(C106:C110) -> 0 | E111: =SUM(E106:E110) -> 0 | F111: =SUM(F106:F110) -> 0 | H111: =SUM(H106:H110) -> 78784 | K111: total | L111: =SUM(L106:L110) -> 0
L113: Age-adjusted Rates per 100,000 population
A114: Deaths | B114: Age | C114: Number of deaths- Total | E114: State population - Total | F114: Rate | H114: 2000 population | I114: Weight | K114: Age | L114: Total
B115: =' B_Populations'!$A$9 -> <1 | E115: =' B_Populations'!B96 -> 0 | F115: =IF(E115=0,0,($C$115/$E$115)*100000) -> 0 | H115: 3795 | I115: 0.013818 | K115: =' B_Populations'!$A$9 -> <1 | L115: =F115*I115 -> 0
B116: =' B_Populations'!$A$10 -> 1-4 | E116: =' B_Populations'!B97 -> 0 | F116: =IF(E116=0,0,($C$116/$E$116)*100000) -> 0 | H116: 15192 | I116: 0.055317 | K116: =' B_Populations'!$A$10 -> 1-4 | L116: =F116*I116 -> 0
...

Sheet J_Figure 2
A13: Figure 2 Data | B13: Enter age-adjusted rates per 100,000 for ED Visits, Hospitalizations, or Deaths
A14: Age Group | B14: Male | C14: Female
A15: <1
A16: 1-4
A17: 5-9
A18: 10-14
A19: 15-17
A22: Question for group - what year or years of data should go into this graph?

Sheet K_Optional Figure 3
B15: Enter age-adjusted rates per 100,000 for ED Visits, Hospitalizations, or Deaths
A16: Race/Ethnicity group | B16: ED Visits | C16: Hospitalizations | D16: Deaths
A17: Group 1
A18: Group 2
A19: Group 3
A20: Group 4
A21: Group 5
A23: Question for group - what year or years of data should go into this graph?
A26: Figure 3 Data | B26: Age-adjusted rate per 100,000 by race/ethnicity
A27: =A17 -> Group 1
A28: =A18 -> Group 2
A29: =A19 -> Group 3
A30: =A20 -> Group 4
A31: =A21 -> Group 5

Sheet L_Report
A1: Note to SER group - please disregard this tab. It is still in development and will be prepared once the SER form is finalized.
A11: Year | B11: ED Visits | D11: Hospitalizations | F11: Deaths
B12: Counts | C12: Total age-adjusted rate per 100,000 | D12: Counts | E12: Total age-adjusted rate per 100,000 | F12: Counts | G12: Total age-adjusted rate per 100,000
A13: =' B_Populations'!D3 -> 0 | B13: ='C_Year 1'!C9 -> 0 | C13: ='C_Year 1'!AM9 -> 0 | D13: ='C_Year 1'!C18 -> 0 | E13: ='C_Year 1'!AM18 -> 0 | F13: ='C_Year 1'!C27 -> 0 | G13: ='C_Year 1'!AM27 -> 0
A14: =' B_Populations'!D17 -> 0 | B14: ='D_Year 2'!C9 -> 0 | C14: ='D_Year 2'!AM9 -> 0 | D14: ='D_Year 2'!C18 -> 0 | E14: ='D_Year 2'!AM18 -> 0 | F14: ='D_Year 2'!C27 -> 0 | G14: ='D_Year 2'!AM27 -> 0
A15: =' B_Populations'!D30 -> 0 | B15: ='E_Year 3'!C9 -> 0 | C15: ='E_Year 3'!AM9 -> 0 | D15: ='E_Year 3'!C18 -> 0 | E15: ='E_Year 3'!AM18 -> 0 | F15: ='E_Year 3'!C27 -> 0 | G15: ='E_Year 3'!AM27 -> 0
A16: =' B_Populations'!D43 -> 0 | B16: ='F_Year 4'!C9 -> 0 | C16: ='F_Year 4'!AM9 -> 0 | D16: ='F_Year 4'!C18 -> 0 | E16: ='F_Year 4'!AM18 -> 0 | F16: ='F_Year 4'!C27 -> 0 | G16: ='F_Year 4'!AM27 -> 0
A17: =' B_Populations'!D56 -> 0 | B17: ='G_Year 5'!C9 -> 0 | C17: ='G_Year 5'!AM9 -> 0 | D17: ='G_Year 5'!C18 -> 0 | E17: ='G_Year 5'!AM18 -> 0 | F17: ='G_Year 5'!C27 -> 0 | G17: ='G_Year 5'!AM27 -> 0
