Workbook

Sheet A_Instructions
A5: Step 1: Prepare Data | D5: Step 2: Entering Data | R5: Step 3: Creating Special Emphasis Report
A6: Name | B6: ICD-10-CM Codes
A7: 1. Create a dataset for nonfatal injury emergency department visits: Any one of the ICD-10-CM codes below in any diagnosis field. Only include cases if the 7th character of the code is A, B, C, or missing (reflects initial encounter, active treatment). T30-T32 do not have a 7th character.
A8: Anatomic injuries | B8: S00-S99
A9: Foreign bodies, burns, corrosions, frostbite | B9: T07-T34
A10: Poisoning by drugs, medicaments, and biological substances (Includes accidental, intentional self-harm, assault, and underdetermined intents; Excludes adverse effects and underdosing) | B10: T36-T50 with a 6th character of 1, 2, 3, or 4 Note: Include T36.9, T37.9, T39.9, T41.4, T42.7, T43.9, T45.9, T47.9, and T49.9 with 5th character of 1, 2, 3, or 4 (Intent information for these codes is included in the 5th character and not the 6th)
A11: Toxic effects of substances nonmedicinal as to source | B11: T51-T65
A12: Other and unspecified effects of external causes | B12: T66-T76
A13: Certain early complications of trauma, not elsewhere classified | B13: T79
A14: Traumatic injuries and abuse complicating pregnancy, childbirth, and the puerperium | B14: O9A.2-O9A.5
A15: Periprosthetic fracture around internal prosthetic joint | B15: M97
A16: Transport accidents | B16: V00-V99
A17: Other external causes of accidental injury | B17: W00-X58
A18: Intentional self-harm | B18: X71-X83
A19: Assault | B19: X92-Y09
... A21: Legal intervention, operations of war, military operations, and terrorism | B21: Y35-Y38
A22: 2. Create a dataset for nonfatal injury hospitalizations: One of the ICD-10-CM codes below in the primary diagnosis field. Only include cases if the 7th character of the code is A, B, C, or missing (reflects initial encounter, active treatment). T30-T32 do not have a 7th character.
A24: Anatomic injuries | B24: S00-S99
A25: Foreign bodies, burns, corrosions, frostbite | B25: T07-T34
A26: Poisoning by drugs, medicaments, and biological substances (Includes accidental, intentional self-harm, assault, and underdetermined intents; Excludes adverse effects and underdosing) | B26: T36-T50 with a 6th character of 1, 2, 3, or 4 Note: Include T36.9, T37.9, T39.9, T41.4, T42.7, T43.9, T45.9, T47.9, and T49.9 with 5th character of 1, 2, 3, or 4 (Intent information for these codes is included in the 5th character and not the 6th)
A27: Toxic effects of substances nonmedicinal as to source | B27: T51-T65
A28: Other and unspecified effects of external causes | B28: T66-T76
A29: Certain early complications of trauma, not elsewhere classified | B29: T79
A30: Traumatic injuries and abuse complicating pregnancy, childbirth, and the puerperium | B30: O9A.2-O9A.5
A31: Periprosthetic fracture around internal prosthetic joint | B31: M97
A32: 3. Create a dataset for injury fatalities: One of the ICD-10-CM codes below in the underlying cause of death field.
A33: Injury and poisoning | B33: V01-Y36
B34: Y85-Y87
B35: Y89
B36: U01-U03
A37: 4. Create a dataset for unintentional child injuries by mechanism for Figure 1 - Figure 1 in this SER allows you to show ED visit, hospitalization, and/or death rates for up to 6 mechanisms of unintentional child injuries. You can choose which ICD-10-CM codes to use below to create data subsets of unintentional child injury-related ED visits, hospitalizations, and deaths by mechanism. Depending on your state/jurisdiction, you may choose different mechanisms to showcase in this SER. Below are ICD-10-CM codes for mechanisms of injury but you are not required to use data for all of these mechanisms. Mechanisms in purple text were prioritized by the Unintentional Child Injuries SER subgroup of CSTE members.
A38: Mechanism of Injury | B38: ICD-10-CM Codes for Unintentional Injury (Only include cases if the 7th character of the code is A or missing [reflects initial encounter, active treatment]) | C38: ICD-10 (Mortality) Codes for Unintentional Injury Deaths
A39: All mechanisms of unintentional injury | B39: T15–T19, [T36–T65, T71] (with 6th character = 1), [T36.9, T37.9, T39.9, T41.4, T42.7, T43.9, T45.9, T47.9, T49.9, T51.9, T52.9, T53.9, T54.9, T56.9, T57.9, T58.0, T58.1, T58.9, T59.9, T60.9, T61.0, T61.1, T61.9, T62.9, T63.9, T64, T65.9] (with 5th character = 1), T71.20, T71.21, T71.29, T71.9, T73, T75.0, T75.2–T75.4, V00–V99, W00–W99, X00–X58 | C39: V01–X59, Y85–Y86
A40: Cut/pierce | B40: W25–W29, W45, W46 | C40: W25–W29, W45, W46
A41: Drowning/submersion | B41: V90†, V92†, [W16] (with 6th character = 1), W16.41, W16.91, W22.041, W65–W74 | C41: W65–W74, V90, V92 (Drowning/submersion related to watercrafts moved from other transport.)
A42: Fall | B42: [V00.1-V00.8] (with 6th character = 1), W00–W15, [W16] (with 6th character = 2), W16.42, W16.92, W17, W18.1–W18.3, W19 | C42: W00–W19
A43: Fire/burn (Total) | B43: T54.1X1, T54.2X1, T54.3X1, T54.91, X00–X19 | C43: X00–X19
A44: Fire/flame | B44: X00–X08 | C44: X00–X09
A45: Hot object/substance | B45: T54.1X1, T54.2X1, T54.3X1, T54.91, X10–X19 | C45: X10–X19
A46: Firearm | B46: W32, W33, W34.00, W34.09, W34.10, W34.19 | C46: W32–W34
...

Sheet  B_Populations
A1: State/Territor Population Data
A2: State/Territory: | D2: Year 1
B3: Enter your state name in A4 | E3: Enter the data year in D4
N5: Instruction: Edit race/ethnicity groups as needed in row 8
A7: Instruction: Edit age groups as needed in rows 9-13 | B7: Enter total population data by age group below | D7: Enter male population data by age group below | F7: Enter female population data by age group below | H7: Enter demographic population data | J7: Enter demographic population data | L7: Enter demographic population data | N7: Enter demographic population data | P7: Enter demographic population data | R7: Enter demographic population data | T7: Enter demographic population data
A8: Age | B8: Total | D8: Male | F8: Female | H8: White-Not Hispanic | J8: Hispanic | L8: Black-Not Hispanic | N8: Asian | P8: American Indian/Alaska Native | R8: Other | S8: Enter name of "Other" category in R8 | T8: Other | U8: Enter name of "Other" category in T8
A9: <1
A10: 1-4
A11: 5-9
A12: 10-14
A13: 15-17
A14: TOTAL | B14: =SUM(B9:B13) -> 0 | D14: =SUM(D9:D13) -> 0 | F14: =SUM(F9:F13) -> 0 | H14: =SUM(H9:H13) -> 0 | J14: =SUM(J9:J13) -> 0 | L14: =SUM(L9:L13) -> 0 | N14: =SUM(N9:N13) -> 0 | P14: =SUM(P9:P13) -> 0 | R14: =SUM(R9:R13) -> 0 | T14: =SUM(T9:T13) -> 0
D16: Year 2
E17: Enter the data year in D4
B20: Enter total population data by age group below | D20: Enter male population data by age group below | F20: Enter female population data by age group below | H20: Enter demographic population data | J20: Enter demographic population data | L20: Enter demographic population data | N20: Enter demographic population data | P20: Enter demographic population data | R20: Enter demographic population data | T20: Enter demographic population data
A21: Age | B21: Total | D21: Male | F21: Female | H21: =H8 -> White-Not Hispanic | J21: =J8 -> Hispanic | L21: =L8 -> Black-Not Hispanic | N21: =N8 -> Asian | P21: =P8 -> American Indian/Alaska Native | R21: =R8 -> Other | T21: =T8 -> Other
A22: =A9 -> <1
A23: =A10 -> 1-4
A24: =A11 -> 5-9
A25: =A12 -> 10-14
A26: =A13 -> 15-17
A27: TOTAL | B27: =SUM(B22:B26) -> 0 | D27: =SUM(D22:D26) -> 0 | F27: =SUM(F22:F26) -> 0 | H27: =SUM(H22:H26) -> 0 | J27: =SUM(J22:J26) -> 0 | L27: =SUM(L22:L26) -> 0 | N27: =SUM(N22:N26) -> 0 | P27: =SUM(P22:P26) -> 0 | R27: =SUM(R22:R26) -> 0 | T27: =SUM(T22:T26) -> 0
D29: Year 3
E30: Enter the data year in D4
B33: Enter total population data by age group below | D33: Enter male population data by age group below | F33: Enter female population data by age group below | H33: Enter demographic population data | J33: Enter demographic population data | L33: Enter demographic population data | N33: Enter demographic population data | P33: Enter demographic population data | R33: Enter demographic population data | T33: Enter demographic population data
A34: Age | B34: Total | D34: Male | F34: Female | H34: =H8 -> White-Not Hispanic | J34: =J8 -> Hispanic | L34: =L8 -> Black-Not Hispanic | N34: =N8 -> Asian | P34: =P8 -> American Indian/Alaska Native | R34: =R8 -> Other | T34: =T8 -> Other
A35: =A9 -> <1
A36: =A10 -> 1-4
A37: =A11 -> 5-9
A38: =A12 -> 10-14
A39: =A13 -> 15-17
A40: TOTAL | B40: =SUM(B35:B39) -> 0 | D40: =SUM(D35:D39) -> 0 | F40: =SUM(F35:F39) -> 0 | H40: =SUM(H35:H39) -> 0 | J40: =SUM(J35:J39) -> 0 | L40: =SUM(L35:L39) -> 0 | N40: =SUM(N35:N39) -> 0 | P40: =SUM(P35:P39) -> 0 | R40: =SUM(R35:R39) -> 0 | T40: =SUM(T35:T39) -> 0
D42: Year 4
E43: Enter the data year in D4
B46: Enter total population data by age group below | D46: Enter male population data by age group below | F46: Enter female population data by age group below | H46: Enter demographic population data | J46: Enter demographic population data | L46: Enter demographic population data | N46: Enter demographic population data | P46: Enter demographic population data | R46: Enter demographic population data | T46: Enter demographic population data
A47: Age | B47: Total | D47: Male | F47: Female | H47: =H8 -> White-Not Hispanic | J47: =J8 -> Hispanic | L47: =L8 -> Black-Not Hispanic | N47: =N8 -> Asian | P47: =P8 -> American Indian/Alaska Native | R47: =R8 -> Other | T47: =T8 -> Other
A48: =A9 -> <1
A49: =A10 -> 1-4
A50: =A11 -> 5-9
A51: =A12 -> 10-14
...

Sheet C_Year 1
A1: =' B_Populations'!D3 -> 0 | B1: Data Input Tables Instructions: Enter your unintentional child injury-related injury data in the red cells below. The age-adjusted rates will automatically calculate in the results table. | N1: Rate per 100,000 calculations | AI1: Population Weights Instructions: Enter the 2000 population values and weights based on your age groups to calculate the age-adjusted rates per 100,000 | AL1: Results Table Age Adjusted Rates per 100,1000. Results will calculate automatically.
D2: Sex Data | F2: Demographic Data | AM2: Age-adjusted Rates per 100,000 population
A3: Emergency Dept Visits | B3: Age | C3: Number of ED visits - Total | D3: Number of hospitalizations- Male | E3: Number of hospitalizations- Female | F3: =' B_Populations'!$H$8 -> White-Not Hispanic | G3: =' B_Populations'!$J$8 -> Hispanic | H3: =' B_Populations'!$L$8 -> Black-Not Hispanic | I3: =' B_Populations'!$N$8 -> Asian | J3: =' B_Populations'!$P$8 -> American Indian/Alaska Native | K3: =' B_Populations'!$R$8 -> Other | L3: =' B_Populations'!$T$8 -> Other | N3: State population - Total | O3: Rate | P3: State population - Male | Q3: Rate | R3: State population - Female | S3: Rate | T3: =' B_Populations'!$H$8 -> White-Not Hispanic | U3: Rate | V3: =' B_Populations'!$J$8 -> Hispanic | W3: Rate | X3: =' B_Populations'!$L$8 -> Black-Not Hispanic | Y3: Rate | Z3: =' B_Populations'!$N$8 -> Asian | AA3: Rate | AB3: =' B_Populations'!$P$8 -> American Indian/Alaska Native | AC3: Rate | AD3: =' B_Populations'!$R$8 -> Other | AE3: Rate | AF3: =' B_Populations'!$T$8 -> Other | AG3: Rate | AI3: 2000 population | AJ3: Weight | AL3: Age | AM3: Total | AN3: Male | AO3: Female | AP3: =' B_Populations'!$H$8 -> White-Not Hispanic | AQ3: =' B_Populations'!$J$8 -> Hispanic | AR3: =' B_Populations'!$L$8 -> Black-Not Hispanic | AS3: =' B_Populations'!$N$8 -> Asian | AT3: =' B_Populations'!$P$8 -> American Indian/Alaska Native | AU3: =' B_Populations'!$R$8 -> Other | AV3: =' B_Populations'!$T$8 -> Other
B4: =' B_Populations'!$A$9 -> <1 | N4: =' B_Populations'!B9 -> 0 | O4: =IF(N4=0,0,($C$4/$N$4)*100000) -> 0 | P4: =' B_Populations'!D9 -> 0 | Q4: =IF(P4=0,0,($D$4/$P$4)*100000) -> 0 | R4: =' B_Populations'!F9 -> 0 | S4: =IF(R4=0,0,($E$4/$R$4)*100000) -> 0 | T4: =' B_Populations'!H9 -> 0 | U4: =IF(T4=0,0,($F$4/$T$4)*100000) -> 0 | V4: =' B_Populations'!J9 -> 0 | W4: =IF(V4=0,0,($G$4/$V$4)*100000) -> 0 | X4: =' B_Populations'!L9 -> 0 | Y4: =IF(X4=0,0,($H$4/$X$4)*100000) -> 0 | Z4: =' B_Populations'!N9 -> 0 | AA4: =IF(Z4=0,0,($I$4/$Z$4)*100000) -> 0 | AB4: =' B_Populations'!P9 -> 0 | AC4: =IF(AB4=0,0,($J$4/$AB$4)*100000) -> 0 | AD4: =' B_Populations'!R9 -> 0 | AE4: =IF(AD4=0,0,($K$4/$AD$4)*100000) -> 0 | AF4: =' B_Populations'!T9 -> 0 | AG4: =IF(AF4=0,0,($L$4/$AF$4)*100000) -> 0 | AL4: =' B_Populations'!$A$9 -> <1 | AM4: =O4*AJ4 -> 0 | AN4: =Q4*AJ4 -> 0 | AO4: =S4*AJ4 -> 0 | AP4: =U4*AJ4 -> 0 | AQ4: =W4*AJ4 -> 0 | AR4: =Y4*AJ4 -> 0 | AS4: =AA4*AJ4 -> 0 | AT4: =AC4*AJ4 -> 0 | AU4: =AE4*AJ4 -> 0 | AV4: =AG4*AJ4 -> 0
B5: =' B_Populations'!$A$10 -> 1-4 | N5: =' B_Populations'!B10 -> 0 | O5: =IF(N5=0,0,($C$5/$N$5)*100000) -> 0 | P5: =' B_Populations'!D10 -> 0 | Q5: =IF(P5=0,0,($D$5/$P$5)*100000) -> 0 | R5: =' B_Populations'!F10 -> 0 | S5: =IF(R5=0,0,($E$5/$R$5)*100000) -> 0 | T5: =' B_Populations'!H10 -> 0 | U5: =IF(T5=0,0,($F$5/$T$5)*100000) -> 0 | V5: =' B_Populations'!J10 -> 0 | W5: =IF(V5=0,0,($G$5/$V$5)*100000) -> 0 | X5: =' B_Populations'!L10 -> 0 | Y5: =IF(X5=0,0,($G$5/$X$5)*100000) -> 0 | Z5: =' B_Populations'!N10 -> 0 | AA5: =IF(Z5=0,0,($I$5/$Z$5)*100000) -> 0 | AB5: =' B_Populations'!P10 -> 0 | AC5: =IF(AB5=0,0,($J$5/$AB$5)*100000) -> 0 | AD5: =' B_Populations'!R10 -> 0 | AE5: =IF(AD5=0,0,($K$5/$AD$5)*100000) -> 0 | AF5: =' B_Populations'!T10 -> 0 | AG5: =IF(AF5=0,0,($L$5/$AF$5)*100000) -> 0 | AL5: =' B_Populations'!$A$10 -> 1-4 | AM5: =O5*AJ5 -> 0 | AN5: =Q5*AJ5 -> 0 | AO5: =S5*AJ5 -> 0 | AP5: =U5*AJ5 -> 0 | AQ5: =W5*AJ5 -> 0 | AR5: =Y5*AJ5 -> 0 | AS5: =AA5*AJ5 -> 0 | AT5: =AC5*AJ5 -> 0 | AU5: =AE5*AJ5 -> 0 | AV5: =AG5*AJ5 -> 0
B6: =' B_Populations'!$A$11 -> 5-9 | N6: =' B_Populations'!B11 -> 0 | O6: =IF(N6=0,0,($C$6/$N$6)*100000) -> 0 | P6: =' B_Populations'!D11 -> 0 | Q6: =IF(P6=0,0,($D$6/$P$6)*100000) -> 0 | R6: =' B_Populations'!F11 -> 0 | S6: =IF(R6=0,0,($E$6/$R$6)*100000) -> 0 | T6: =' B_Populations'!H11 -> 0 | U6: =IF(T6=0,0,($F$6/$T$6)*100000) -> 0 | V6: =' B_Populations'!J11 -> 0 | W6: =IF(V6=0,0,($G$6/$V$6)*100000) -> 0 | X6: =' B_Populations'!L11 -> 0 | Y6: =IF(X6=0,0,($G$6/$X$6)*100000) -> 0 | Z6: =' B_Populations'!N11 -> 0 | AA6: =IF(Z6=0,0,($I$6/$Z$6)*100000) -> 0 | AB6: =' B_Populations'!P11 -> 0 | AC6: =IF(AB6=0,0,($J$6/$AB$6)*100000) -> 0 | AD6: =' B_Populations'!R11 -> 0 | AE6: =IF(AD6=0,0,($K$6/$AD$6)*100000) -> 0 | AF6: =' B_Populations'!T11 -> 0 | AG6: =IF(AF6=0,0,($L$6/$AF$6)*100000) -> 0 | AL6: =' B_Populations'!$A$11 -> 5-9 | AM6: =O6*AJ6 -> 0 | AN6: =Q6*AJ6 -> 0 | AO6: =S6*AJ6 -> 0 | AP6: =U6*AJ6 -> 0 | AQ6: =W6*AJ6 -> 0 | AR6: =Y6*AJ6 -> 0 | AS6: =AA6*AJ6 -> 0 | AT6: =AC6*AJ6 -> 0 | AU6: =AE6*AJ6 -> 0 | AV6: =AG6*AJ6 -> 0
B7: =' B_Populations'!$A$12 -> 10-14 | N7: =' B_Populations'!B12 -> 0 | O7: =IF(N7=0,0,($C$7/$N$7)*100000) -> 0 | P7: =' B_Populations'!D12 -> 0 | Q7: =IF(P7=0,0,($D$7/$P$7)*100000) -> 0 | R7: =' B_Populations'!F12 -> 0 | S7: =IF(R7=0,0,($E$7/$R$7)*100000) -> 0 | T7: =' B_Populations'!H12 -> 0 | U7: =IF(T7=0,0,($F$7/$T$7)*100000) -> 0 | V7: =' B_Populations'!J12 -> 0 | W7: =IF(V7=0,0,($G$7/$V$7)*100000) -> 0 | X7: =' B_Populations'!L12 -> 0 | Y7: =IF(X7=0,0,($G$7/$X$7)*100000) -> 0 | Z7: =' B_Populations'!N12 -> 0 | AA7: =IF(Z7=0,0,($I$7/$Z$7)*100000) -> 0 | AB7: =' B_Populations'!P12 -> 0 | AC7: =IF(AB7=0,0,($J$7/$AB$7)*100000) -> 0 | AD7: =' B_Populations'!R12 -> 0 | AE7: =IF(AD7=0,0,($K$7/$AD$7)*100000) -> 0 | AF7: =' B_Populations'!T12 -> 0 | AG7: =IF(AF7=0,0,($L$7/$AF$7)*100000) -> 0 | AL7: =' B_Populations'!$A$12 -> 10-14 | AM7: =O7*AJ7 -> 0 | AN7: =Q7*AJ7 -> 0 | AO7: =S7*AJ7 -> 0 | AP7: =U7*AJ7 -> 0 | AQ7: =W7*AJ7 -> 0 | AR7: =Y7*AJ7 -> 0 | AS7: =AA7*AJ7 -> 0 | AT7: =AC7*AJ7 -> 0 | AU7: =AE7*AJ7 -> 0 | AV7: =AG7*AJ7 -> 0
B8: =' B_Populations'!$A$13 -> 15-17 | N8: =' B_Populations'!B13 -> 0 | O8: =IF(N8=0,0,($C$8/$N$8)*100000) -> 0 | P8: =' B_Populations'!D13 -> 0 | Q8: =IF(P8=0,0,($D$8/$P$8)*100000) -> 0 | R8: =' B_Populations'!F13 -> 0 | S8: =IF(R8=0,0,($E$8/$R$8)*100000) -> 0 | T8: =' B_Populations'!H13 -> 0 | U8: =IF(T8=0,0,($F$8/$T$8)*100000) -> 0 | V8: =' B_Populations'!J13 -> 0 | W8: =IF(V8=0,0,($G$8/$V$8)*100000) -> 0 | X8: =' B_Populations'!L13 -> 0 | Y8: =IF(X8=0,0,($G$8/$X$8)*100000) -> 0 | Z8: =' B_Populations'!N13 -> 0 | AA8: =IF(Z8=0,0,($I$8/$Z$8)*100000) -> 0 | AB8: =' B_Populations'!P13 -> 0 | AC8: =IF(AB8=0,0,($J$8/$AB$8)*100000) -> 0 | AD8: =' B_Populations'!R13 -> 0 | AE8: =IF(AD8=0,0,($K$8/$AD$8)*100000) -> 0 | AF8: =' B_Populations'!T13 -> 0 | AG8: =IF(AF8=0,0,($L$8/$AF$8)*100000) -> 0 | AL8: =' B_Populations'!$A$13 -> 15-17 | AM8: =O8*AJ8 -> 0 | AN8: =Q8*AJ8 -> 0 | AO8: =S8*AJ8 -> 0 | AP8: =U8*AJ8 -> 0 | AQ8: =W8*AJ8 -> 0 | AR8: =Y8*AJ8 -> 0 | AS8: =AA8*AJ8 -> 0 | AT8: =AC8*AJ8 -> 0 | AU8: =AE8*AJ8 -> 0 | AV8: =AG8*AJ8 -> 0
B9: total | C9: =SUM(C4:C8) -> 0 | D9: =SUM(D4:D8) -> 0 | E9: =SUM(E4:E8) -> 0 | F9: =SUM(F4:F8) -> 0 | G9: =SUM(G4:G8) -> 0 | H9: =SUM(H4:H8) -> 0 | I9: =SUM(I4:I8) -> 0 | J9: =SUM(J4:J8) -> 0 | ... L9: =SUM(L4:L8) -> 0 | N9: =SUM(N4:N8) -> 0 | O9: =SUM(O4:O8) -> 0 | P9: =SUM(P4:P8) -> 0 | Q9: =SUM(Q4:Q8) -> 0 | R9: =SUM(R4:R8) -> 0 | S9: =SUM(S4:S8) -> 0 | T9: =SUM(T4:T8) -> 0 | U9: =SUM(U4:U8) -> 0 | ... AG9: =SUM(AG4:AG8) -> 0 | AL9: total | AM9: =SUM(AM4:AM8) -> 0 | AN9: =SUM(AN4:AN8) -> 0 | AO9: =SUM(AO4:AO8) -> 0 | AP9: =SUM(AP4:AP8) -> 0 | AQ9: =SUM(AQ4:AQ8) -> 0 | AR9: =SUM(AR4:AR8) -> 0 | AS9: =SUM(AS4:AS8) -> 0 | AT9: =SUM(AT4:AT8) -> 0 | ... AV9: =SUM(AV4:AV8) -> 0
D11: Sex Data | F11: Demographic Data | AM11: Age-adjusted Rates per 100,000 population
A12: Hospitalizations | B12: Age | C12: Number of hospitalizations- Total | D12: Number of ED visits- Male | E12: Number of ED visits- Female | F12: =' B_Populations'!$H$8 -> White-Not Hispanic | G12: =' B_Populations'!$J$8 -> Hispanic | H12: =' B_Populations'!$L$8 -> Black-Not Hispanic | I12: =' B_Populations'!$N$8 -> Asian | J12: =' B_Populations'!$P$8 -> American Indian/Alaska Native | K12: =' B_Populations'!$R$8 -> Other | L12: =' B_Populations'!$T$8 -> Other | N12: State population - Total | O12: Rate | P12: State population - Male | Q12: Rate | R12: State population - Female | S12: Rate | T12: =' B_Populations'!$H$8 -> White-Not Hispanic | U12: Rate | V12: =' B_Populations'!$J$8 -> Hispanic | W12: Rate | X12: =' B_Populations'!$L$8 -> Black-Not Hispanic | Y12: Rate | Z12: =' B_Populations'!$N$8 -> Asian | AA12: Rate | AB12: =' B_Populations'!$P$8 -> American Indian/Alaska Native | AC12: Rate | AD12: =' B_Populations'!$R$8 -> Other | AE12: Rate | AF12: =' B_Populations'!$T$8 -> Other | AG12: Rate | AI12: 2000 population | AJ12: Weight | AL12: Age | AM12: Total | AN12: Male | AO12: Female | AP12: =' B_Populations'!$H$8 -> White-Not Hispanic | AQ12: =' B_Populations'!$J$8 -> Hispanic | AR12: =' B_Populations'!$L$8 -> Black-Not Hispanic | AS12: =' B_Populations'!$N$8 -> Asian | AT12: =' B_Populations'!$P$8 -> American Indian/Alaska Native | AU12: =' B_Populations'!$R$8 -> Other | AV12: =' B_Populations'!$T$8 -> Other
B13: =' B_Populations'!$A$9 -> <1 | N13: =' B_Populations'!B9 -> 0 | O13: =IF(N13=0,0,($C$13/$N$13)*100000) -> 0 | P13: =' B_Populations'!D9 -> 0 | Q13: =IF(P13=0,0,($D$13/$P$13)*100000) -> 0 | R13: =' B_Populations'!F9 -> 0 | S13: =IF(R13=0,0,($E$13/$R$13)*100000) -> 0 | T13: =' B_Populations'!H9 -> 0 | U13: =IF(T13=0,0,($F$13/$T$13)*100000) -> 0 | V13: =' B_Populations'!J9 -> 0 | W13: =IF(V13=0,0,($G$13/$V$13)*100000) -> 0 | X13: =' B_Populations'!L9 -> 0 | Y13: =IF(X13=0,0,($H$13/$X$13)*100000) -> 0 | Z13: =' B_Populations'!N9 -> 0 | AA13: =IF(Z13=0,0,($I$13/$Z$13)*100000) -> 0 | AB13: =' B_Populations'!P9 -> 0 | AC13: =IF(AB13=0,0,($J$13/$AB$13)*100000) -> 0 | AD13: =' B_Populations'!R9 -> 0 | AE13: =IF(AD13=0,0,($K$13/$AD$13)*100000) -> 0 | AF13: =' B_Populations'!T9 -> 0 | AG13: =IF(AF13=0,0,($L$13/$AF$13)*100000) -> 0 | AL13: =' B_Populations'!$A$9 -> <1 | AM13: =O13*AJ13 -> 0 | AN13: =Q13*AJ13 -> 0 | AO13: =S13*AJ13 -> 0 | AP13: =U13*AJ13 -> 0 | AQ13: =W13*AJ13 -> 0 | AR13: =Y13*AJ13 -> 0 | AS13: =AA13*AJ13 -> 0 | AT13: =AC13*AJ13 -> 0 | AU13: =AE13*AJ13 -> 0 | AV13: =AG13*AJ13 -> 0
B14: =' B_Populations'!$A$10 -> 1-4 | N14: =' B_Populations'!B10 -> 0 | O14: =IF(N14=0,0,($C$14/$N$14)*100000) -> 0 | P14: =' B_Populations'!D10 -> 0 | Q14: =IF(P14=0,0,($D$14/$P$14)*100000) -> 0 | R14: =' B_Populations'!F10 -> 0 | S14: =IF(R14=0,0,($E$14/$R$14)*100000) -> 0 | T14: =' B_Populations'!H10 -> 0 | U14: =IF(T14=0,0,($F$14/$T$14)*100000) -> 0 | V14: =' B_Populations'!J10 -> 0 | W14: =IF(V14=0,0,($G$14/$V$14)*100000) -> 0 | X14: =' B_Populations'!L10 -> 0 | Y14: =IF(X14=0,0,($H$14/$X$14)*100000) -> 0 | Z14: =' B_Populations'!N10 -> 0 | AA14: =IF(Z14=0,0,($I$14/$Z$14)*100000) -> 0 | AB14: =' B_Populations'!P10 -> 0 | AC14: =IF(AB14=0,0,($J$14/$AB$14)*100000) -> 0 | AD14: =' B_Populations'!R10 -> 0 | AE14: =IF(AD14=0,0,($K$14/$AD$14)*100000) -> 0 | AF14: =' B_Populations'!T10 -> 0 | AG14: =IF(AF14=0,0,($L$14/$AF$14)*100000) -> 0 | AL14: =' B_Populations'!$A$10 -> 1-4 | AM14: =O14*AJ14 -> 0 | AN14: =Q14*AJ14 -> 0 | AO14: =S14*AJ14 -> 0 | AP14: =U14*AJ14 -> 0 | AQ14: =W14*AJ14 -> 0 | AR14: =Y14*AJ14 -> 0 | AS14: =AA14*AJ14 -> 0 | AT14: =AC14*AJ14 -> 0 | AU14: =AE14*AJ14 -> 0 | AV14: =AG14*AJ14 -> 0
B15: =' B_Populations'!$A$11 -> 5-9 | N15: =' B_Populations'!B11 -> 0 | O15: =IF(N15=0,0,($C$15/$N$15)*100000) -> 0 | P15: =' B_Populations'!D11 -> 0 | Q15: =IF(P15=0,0,($D$15/$P$15)*100000) -> 0 | R15: =' B_Populations'!F11 -> 0 | S15: =IF(R15=0,0,($E$15/$R$15)*100000) -> 0 | T15: =' B_Populations'!H11 -> 0 | U15: =IF(T15=0,0,($F$15/$T$15)*100000) -> 0 | V15: =' B_Populations'!J11 -> 0 | W15: =IF(V15=0,0,($G$15/$V$15)*100000) -> 0 | X15: =' B_Populations'!L11 -> 0 | Y15: =IF(X15=0,0,($H$15/$X$15)*100000) -> 0 | Z15: =' B_Populations'!N11 -> 0 | AA15: =IF(Z15=0,0,($I$15/$Z$15)*100000) -> 0 | AB15: =' B_Populations'!P11 -> 0 | AC15: =IF(AB15=0,0,($J$15/$AB$15)*100000) -> 0 | AD15: =' B_Populations'!R11 -> 0 | AE15: =IF(AD15=0,0,($K$15/$AD$15)*100000) -> 0 | AF15: =' B_Populations'!T11 -> 0 | AG15: =IF(AF15=0,0,($L$15/$AF$15)*100000) -> 0 | AL15: =' B_Populations'!$A$11 -> 5-9 | AM15: =O15*AJ15 -> 0 | AN15: =Q15*AJ15 -> 0 | AO15: =S15*AJ15 -> 0 | AP15: =U15*AJ15 -> 0 | AQ15: =W15*AJ15 -> 0 | AR15: =Y15*AJ15 -> 0 | AS15: =AA15*AJ15 -> 0 | AT15: =AC15*AJ15 -> 0 | AU15: =AE15*AJ15 -> 0 | AV15: =AG15*AJ15 -> 0
B16: =' B_Populations'!$A$12 -> 10-14 | N16: =' B_Populations'!B12 -> 0 | O16: =IF(N16=0,0,($C$16/$N$16)*100000) -> 0 | P16: =' B_Populations'!D12 -> 0 | Q16: =IF(P16=0,0,($D$16/$P$16)*100000) -> 0 | R16: =' B_Populations'!F12 -> 0 | S16: =IF(R16=0,0,($E$16/$R$16)*100000) -> 0 | T16: =' B_Populations'!H12 -> 0 | U16: =IF(T16=0,0,($F$16/$T$16)*100000) -> 0 | V16: =' B_Populations'!J12 -> 0 | W16: =IF(V16=0,0,($G$16/$V$16)*100000) -> 0 | X16: =' B_Populations'!L12 -> 0 | Y16: =IF(X16=0,0,($H$16/$X$16)*100000) -> 0 | Z16: =' B_Populations'!N12 -> 0 | AA16: =IF(Z16=0,0,($I$16/$Z$16)*100000) -> 0 | AB16: =' B_Populations'!P12 -> 0 | AC16: =IF(AB16=0,0,($J$16/$AB$16)*100000) -> 0 | AD16: =' B_Populations'!R12 -> 0 | AE16: =IF(AD16=0,0,($K$16/$AD$16)*100000) -> 0 | AF16: =' B_Populations'!T12 -> 0 | AG16: =IF(AF16=0,0,($L$16/$AF$16)*100000) -> 0 | AL16: =' B_Populations'!$A$12 -> 10-14 | AM16: =O16*AJ16 -> 0 | AN16: =Q16*AJ16 -> 0 | AO16: =S16*AJ16 -> 0 | AP16: =U16*AJ16 -> 0 | AQ16: =W16*AJ16 -> 0 | AR16: =Y16*AJ16 -> 0 | AS16: =AA16*AJ16 -> 0 | AT16: =AC16*AJ16 -> 0 | AU16: =AE16*AJ16 -> 0 | AV16: =AG16*AJ16 -> 0
B17: =' B_Populations'!$A$13 -> 15-17 | N17: =' B_Populations'!B13 -> 0 | O17: =IF(N17=0,0,($C$17/$N$17)*100000) -> 0 | P17: =' B_Populations'!D13 -> 0 | Q17: =IF(P17=0,0,($D$17/$P$17)*100000) -> 0 | R17: =' B_Populations'!F13 -> 0 | S17: =IF(R17=0,0,($E$17/$R$17)*100000) -> 0 | T17: =' B_Populations'!H13 -> 0 | U17: =IF(T17=0,0,($F$17/$T$17)*100000) -> 0 | V17: =' B_Populations'!J13 -> 0 | W17: =IF(V17=0,0,($G$17/$V$17)*100000) -> 0 | X17: =' B_Populations'!L13 -> 0 | Y17: =IF(X17=0,0,($H$17/$X$17)*100000) -> 0 | Z17: =' B_Populations'!N13 -> 0 | AA17: =IF(Z17=0,0,($I$17/$Z$17)*100000) -> 0 | AB17: =' B_Populations'!P13 -> 0 | AC17: =IF(AB17=0,0,($J$17/$AB$17)*100000) -> 0 | AD17: =' B_Populations'!R13 -> 0 | AE17: =IF(AD17=0,0,($K$17/$AD$17)*100000) -> 0 | AF17: =' B_Populations'!T13 -> 0 | AG17: =IF(AF17=0,0,($L$17/$AF$17)*100000) -> 0 | AL17: =' B_Populations'!$A$13 -> 15-17 | AM17: =O17*AJ17 -> 0 | AN17: =Q17*AJ17 -> 0 | AO17: =S17*AJ17 -> 0 | AP17: =U17*AJ17 -> 0 | AQ17: =W17*AJ17 -> 0 | AR17: =Y17*AJ17 -> 0 | AS17: =AA17*AJ17 -> 0 | AT17: =AC17*AJ17 -> 0 | AU17: =AE17*AJ17 -> 0 | AV17: =AG17*AJ17 -> 0
B18: total | C18: =SUM(C13:C17) -> 0 | D18: =SUM(D13:D17) -> 0 | E18: =SUM(E13:E17) -> 0 | F18: =SUM(F13:F17) -> 0 | G18: =SUM(G13:G17) -> 0 | H18: =SUM(H13:H17) -> 0 | I18: =SUM(I13:I17) -> 0 | J18: =SUM(J13:J17) -> 0 | ... L18: =SUM(L13:L17) -> 0 | N18: =SUM(N13:N17) -> 0 | O18: =SUM(O13:O17) -> 0 | P18: =SUM(P13:P17) -> 0 | Q18: =SUM(Q13:Q17) -> 0 | R18: =SUM(R13:R17) -> 0 | S18: =SUM(S13:S17) -> 0 | T18: =SUM(T13:T17) -> 0 | U18: =SUM(U13:U17) -> 0 | ... AG18: =SUM(AG13:AG17) -> 0 | AL18: total | AM18: =SUM(AM13:AM17) -> 0 | AN18: =SUM(AN13:AN17) -> 0 | AO18: =SUM(AO13:AO17) -> 0 | AP18: =SUM(AP13:AP17) -> 0 | AQ18: =SUM(AQ13:AQ17) -> 0 | AR18: =SUM(AR13:AR17) -> 0 | AS18: =SUM(AS13:AS17) -> 0 | AT18: =SUM(AT13:AT17) -> 0 | ... AV18: =SUM(AV13:AV17) -> 0
D20: Sex Data | F20: Demographic Data | AM20: Age-adjusted Rates per 100,000 population
A21: Deaths | B21: Age | C21: Number of deaths- Total | D21: Number of deaths- Male | E21: Number of deaths- Female | F21: =' B_Populations'!$H$8 -> White-Not Hispanic | G21: =' B_Populations'!$J$8 -> Hispanic | H21: =' B_Populations'!$L$8 -> Black-Not Hispanic | I21: =' B_Populations'!$N$8 -> Asian | J21: =' B_Populations'!$P$8 -> American Indian/Alaska Native | K21: =' B_Populations'!$R$8 -> Other | L21: =' B_Populations'!$T$8 -> Other | N21: State population - Total | O21: Rate | P21: State population - Male | Q21: Rate | R21: State population - Female | S21: Rate | T21: =' B_Populations'!$H$8 -> White-Not Hispanic | U21: Rate | V21: =' B_Populations'!$J$8 -> Hispanic | W21: Rate | X21: =' B_Populations'!$L$8 -> Black-Not Hispanic | Y21: Rate | Z21: =' B_Populations'!$N$8 -> Asian | AA21: Rate | AB21: =' B_Populations'!$P$8 -> American Indian/Alaska Native | AC21: Rate | AD21: =' B_Populations'!$R$8 -> Other | AE21: Rate | AF21: =' B_Populations'!$T$8 -> Other | AG21: Rate | AI21: 2000 population | AJ21: Weight | AL21: Age | AM21: Total | AN21: Male | AO21: Female | AP21: =' B_Populations'!$H$8 -> White-Not Hispanic | AQ21: =' B_Populations'!$J$8 -> Hispanic | AR21: =' B_Populations'!$L$8 -> Black-Not Hispanic | AS21: =' B_Populations'!$N$8 -> Asian | AT21: =' B_Populations'!$P$8 -> American Indian/Alaska Native | AU21: =' B_Populations'!$R$8 -> Other | AV21: =' B_Populations'!$T$8 -> Other
B22: =' B_Populations'!$A$9 -> <1 | N22: =' B_Populations'!B9 -> 0 | O22: =IF(N22=0,0,($C$22/$N$22)*100000) -> 0 | P22: =' B_Populations'!D9 -> 0 | Q22: =IF(P22=0,0,($D$22/$P$22)*100000) -> 0 | R22: =' B_Populations'!F9 -> 0 | S22: =IF(R22=0,0,($E$22/$R$22)*100000) -> 0 | T22: =' B_Populations'!H9 -> 0 | U22: =IF(T22=0,0,($F$22/$T$22)*100000) -> 0 | V22: =' B_Populations'!J9 -> 0 | W22: =IF(V22=0,0,($G$22/$V$22)*100000) -> 0 | X22: =' B_Populations'!L9 -> 0 | Y22: =IF(X22=0,0,($H$22/$X$22)*100000) -> 0 | Z22: =' B_Populations'!N9 -> 0 | AA22: =IF(Z22=0,0,($I$22/$Z$22)*100000) -> 0 | AB22: =' B_Populations'!P9 -> 0 | AC22: =IF(AB22=0,0,($J$22/$AB$22)*100000) -> 0 | AD22: =' B_Populations'!R9 -> 0 | AE22: =IF(AD22=0,0,($K$22/$AD$22)*100000) -> 0 | AF22: =' B_Populations'!T9 -> 0 | AG22: =IF(AF22=0,0,($L$22/$AF$22)*100000) -> 0 | AL22: =' B_Populations'!$A$9 -> <1 | AM22: =O22*AJ22 -> 0 | AN22: =Q22*AJ22 -> 0 | AO22: =S22*AJ22 -> 0 | AP22: =U22*AJ22 -> 0 | AQ22: =W22*AJ22 -> 0 | AR22: =Y22*AJ22 -> 0 | AS22: =AA22*AJ22 -> 0 | AT22: =AC22*AJ22 -> 0 | AU22: =AE22*AJ22 -> 0 | AV22: =AG22*AJ22 -> 0
B23: =' B_Populations'!$A$10 -> 1-4 | N23: =' B_Populations'!B10 -> 0 | O23: =IF(N23=0,0,($C$23/$N$23)*100000) -> 0 | P23: =' B_Populations'!D10 -> 0 | Q23: =IF(P23=0,0,($D$23/$P$23)*100000) -> 0 | R23: =' B_Populations'!F10 -> 0 | S23: =IF(R23=0,0,($E$23/$R$23)*100000) -> 0 | T23: =' B_Populations'!H10 -> 0 | U23: =IF(T23=0,0,($F$23/$T$23)*100000) -> 0 | V23: =' B_Populations'!J10 -> 0 | W23: =IF(V23=0,0,($G$23/$V$23)*100000) -> 0 | X23: =' B_Populations'!L10 -> 0 | Y23: =IF(X23=0,0,($H$23/$X$23)*100000) -> 0 | Z23: =' B_Populations'!N10 -> 0 | AA23: =IF(Z23=0,0,($I$23/$Z$23)*100000) -> 0 | AB23: =' B_Populations'!P10 -> 0 | AC23: =IF(AB23=0,0,($J$23/$AB$23)*100000) -> 0 | AD23: =' B_Populations'!R10 -> 0 | AE23: =IF(AD23=0,0,($K$23/$AD$23)*100000) -> 0 | AF23: =' B_Populations'!T10 -> 0 | AG23: =IF(AF23=0,0,($L$23/$AF$23)*100000) -> 0 | AL23: =' B_Populations'!$A$10 -> 1-4 | AM23: =O23*AJ23 -> 0 | AN23: =Q23*AJ23 -> 0 | AO23: =S23*AJ23 -> 0 | AP23: =U23*AJ23 -> 0 | AQ23: =W23*AJ23 -> 0 | AR23: =Y23*AJ23 -> 0 | AS23: =AA23*AJ23 -> 0 | AT23: =AC23*AJ23 -> 0 | AU23: =AE23*AJ23 -> 0 | AV23: =AG23*AJ23 -> 0
B24: =' B_Populations'!$A$11 -> 5-9 | N24: =' B_Populations'!B11 -> 0 | O24: =IF(N24=0,0,($C$24/$N$24)*100000) -> 0 | P24: =' B_Populations'!D11 -> 0 | Q24: =IF(P24=0,0,($D$24/$P$24)*100000) -> 0 | R24: =' B_Populations'!F11 -> 0 | S24: =IF(R24=0,0,($E$24/$R$24)*100000) -> 0 | T24: =' B_Populations'!H11 -> 0 | U24: =IF(T24=0,0,($F$24/$T$24)*100000) -> 0 | V24: =' B_Populations'!J11 -> 0 | W24: =IF(V24=0,0,($G$24/$V$24)*100000) -> 0 | X24: =' B_Populations'!L11 -> 0 | Y24: =IF(X24=0,0,($H$24/$X$24)*100000) -> 0 | Z24: =' B_Populations'!N11 -> 0 | AA24: =IF(Z24=0,0,($I$24/$Z$24)*100000) -> 0 | AB24: =' B_Populations'!P11 -> 0 | AC24: =IF(AB24=0,0,($J$24/$AB$24)*100000) -> 0 | AD24: =' B_Populations'!R11 -> 0 | AE24: =IF(AD24=0,0,($K$24/$AD$24)*100000) -> 0 | AF24: =' B_Populations'!T11 -> 0 | AG24: =IF(AF24=0,0,($L$24/$AF$24)*100000) -> 0 | AL24: =' B_Populations'!$A$11 -> 5-9 | AM24: =O24*AJ24 -> 0 | AN24: =Q24*AJ24 -> 0 | AO24: =S24*AJ24 -> 0 | AP24: =U24*AJ24 -> 0 | AQ24: =W24*AJ24 -> 0 | AR24: =Y24*AJ24 -> 0 | AS24: =AA24*AJ24 -> 0 | AT24: =AC24*AJ24 -> 0 | AU24: =AE24*AJ24 -> 0 | AV24: =AG24*AJ24 -> 0
B25: =' B_Populations'!$A$12 -> 10-14 | N25: =' B_Populations'!B12 -> 0 | O25: =IF(N25=0,0,($C$25/$N$25)*100000) -> 0 | P25: =' B_Populations'!D12 -> 0 | Q25: =IF(P25=0,0,($D$25/$P$25)*100000) -> 0 | R25: =' B_Populations'!F12 -> 0 | S25: =IF(R25=0,0,($E$25/$R$25)*100000) -> 0 | T25: =' B_Populations'!H12 -> 0 | U25: =IF(T25=0,0,($F$25/$T$25)*100000) -> 0 | V25: =' B_Populations'!J12 -> 0 | W25: =IF(V25=0,0,($G$25/$V$25)*100000) -> 0 | X25: =' B_Populations'!L12 -> 0 | Y25: =IF(X25=0,0,($H$25/$X$25)*100000) -> 0 | Z25: =' B_Populations'!N12 -> 0 | AA25: =IF(Z25=0,0,($I$25/$Z$25)*100000) -> 0 | AB25: =' B_Populations'!P12 -> 0 | AC25: =IF(AB25=0,0,($J$25/$AB$25)*100000) -> 0 | AD25: =' B_Populations'!R12 -> 0 | AE25: =IF(AD25=0,0,($K$25/$AD$25)*100000) -> 0 | AF25: =' B_Populations'!T12 -> 0 | AG25: =IF(AF25=0,0,($L$25/$AF$25)*100000) -> 0 | AL25: =' B_Populations'!$A$12 -> 10-14 | AM25: =O25*AJ25 -> 0 | AN25: =Q25*AJ25 -> 0 | AO25: =S25*AJ25 -> 0 | AP25: =U25*AJ25 -> 0 | AQ25: =W25*AJ25 -> 0 | AR25: =Y25*AJ25 -> 0 | AS25: =AA25*AJ25 -> 0 | AT25: =AC25*AJ25 -> 0 | AU25: =AE25*AJ25 -> 0 | AV25: =AG25*AJ25 -> 0
B26: =' B_Populations'!$A$13 -> 15-17 | N26: =' B_Populations'!B13 -> 0 | O26: =IF(N26=0,0,($C$26/$N$26)*100000) -> 0 | P26: =' B_Populations'!D13 -> 0 | Q26: =IF(P26=0,0,($D$26/$P$26)*100000) -> 0 | R26: =' B_Populations'!F13 -> 0 | S26: =IF(R26=0,0,($E$26/$R$26)*100000) -> 0 | T26: =' B_Populations'!H13 -> 0 | U26: =IF(T26=0,0,($F$26/$T$26)*100000) -> 0 | V26: =' B_Populations'!J13 -> 0 | W26: =IF(V26=0,0,($G$26/$V$26)*100000) -> 0 | X26: =' B_Populations'!L13 -> 0 | Y26: =IF(X26=0,0,($H$26/$X$26)*100000) -> 0 | Z26: =' B_Populations'!N13 -> 0 | AA26: =IF(Z26=0,0,($I$26/$Z$26)*100000) -> 0 | AB26: =' B_Populations'!P13 -> 0 | AC26: =IF(AB26=0,0,($J$26/$AB$26)*100000) -> 0 | AD26: =' B_Populations'!R13 -> 0 | AE26: =IF(AD26=0,0,($K$26/$AD$26)*100000) -> 0 | AF26: =' B_Populations'!T13 -> 0 | AG26: =IF(AF26=0,0,($L$26/$AF$26)*100000) -> 0 | AL26: =' B_Populations'!$A$13 -> 15-17 | AM26: =O26*AJ26 -> 0 | AN26: =Q26*AJ26 -> 0 | AO26: =S26*AJ26 -> 0 | AP26: =U26*AJ26 -> 0 | AQ26: =W26*AJ26 -> 0 | AR26: =Y26*AJ26 -> 0 | AS26: =AA26*AJ26 -> 0 | AT26: =AC26*AJ26 -> 0 | AU26: =AE26*AJ26 -> 0 | AV26: =AG26*AJ26 -> 0
B27: total | C27: =SUM(C22:C26) -> 0 | D27: =SUM(D22:D26) -> 0 | E27: =SUM(E22:E26) -> 0 | F27: =SUM(F22:F26) -> 0 | G27: =SUM(G22:G26) -> 0 | H27: =SUM(H22:H26) -> 0 | I27: =SUM(I22:I26) -> 0 | J27: =SUM(J22:J26) -> 0 | ... L27: =SUM(L22:L26) -> 0 | N27: =SUM(N22:N26) -> 0 | O27: =SUM(O22:O26) -> 0 | P27: =SUM(P22:P26) -> 0 | Q27: =SUM(Q22:Q26) -> 0 | R27: =SUM(R22:R26) -> 0 | S27: =SUM(S22:S26) -> 0 | T27: =SUM(T22:T26) -> 0 | U27: =SUM(U22:U26) -> 0 | ... AG27: =SUM(AG22:AG26) -> 0 | AL27: total | AM27: =SUM(AM22:AM26) -> 0 | AN27: =SUM(AN22:AN26) -> 0 | AO27: =SUM(AO22:AO26) -> 0 | AP27: =SUM(AP22:AP26) -> 0 | AQ27: =SUM(AQ22:AQ26) -> 0 | AR27: =SUM(AR22:AR26) -> 0 | AS27: =SUM(AS22:AS26) -> 0 | AT27: =SUM(AT22:AT26) -> 0 | ... AV27: =SUM(AV22:AV26) -> 0

Sheet D_Year 2
A1: =' B_Populations'!D17 -> 0 | B1: Data Input Tables Instructions: Enter your unintentional child injury-related injury data in the red cells below. The age-adjusted rates will automatically calculate in the results table. | N1: Rate per 100,000 calculations | AI1: Population Weights Instructions: Enter the 2000 population values and weights based on your age groups to calculate the age-adjusted rates per 100,000 | AL1: Results Table Age Adjusted Rates per 100,1000. Results will calculate automatically.
D2: Sex Data | F2: Demographic Data | AM2: Age-adjusted Rates per 100,000 population
A3: Emergency Dept Visits | B3: Age | C3: Number of ED visits - Total | D3: Number of hospitalizations- Male | E3: Number of hospitalizations- Female | F3: =' B_Populations'!$H$8 -> White-Not Hispanic | G3: =' B_Populations'!$J$8 -> Hispanic | H3: =' B_Populations'!$L$8 -> Black-Not Hispanic | I3: =' B_Populations'!$N$8 -> Asian | J3: =' B_Populations'!$P$8 -> American Indian/Alaska Native | K3: =' B_Populations'!$R$8 -> Other | L3: =' B_Populations'!$T$8 -> Other | N3: State population - Total | O3: Rate | P3: State population - Male | Q3: Rate | R3: State population - Female | S3: Rate | T3: =' B_Populations'!$H$8 -> White-Not Hispanic | U3: Rate | V3: =' B_Populations'!$J$8 -> Hispanic | W3: Rate | X3: =' B_Populations'!$L$8 -> Black-Not Hispanic | Y3: Rate | Z3: =' B_Populations'!$N$8 -> Asian | AA3: Rate | AB3: =' B_Populations'!$P$8 -> American Indian/Alaska Native | AC3: Rate | AD3: =' B_Populations'!$R$8 -> Other | AE3: Rate | AF3: =' B_Populations'!$T$8 -> Other | AG3: Rate | AI3: 2000 population | AJ3: Weight | AL3: Age | AM3: Total | AN3: Male | AO3: Female | AP3: =' B_Populations'!$H$8 -> White-Not Hispanic | AQ3: =' B_Populations'!$J$8 -> Hispanic | AR3: =' B_Populations'!$L$8 -> Black-Not Hispanic | AS3: =' B_Populations'!$N$8 -> Asian | AT3: =' B_Populations'!$P$8 -> American Indian/Alaska Native | AU3: =' B_Populations'!$R$8 -> Other | AV3: =' B_Populations'!$T$8 -> Other
B4: =' B_Populations'!$A$9 -> <1 | N4: =' B_Populations'!B22 -> 0 | O4: =IF(N4=0,0,($C$4/$N$4)*100000) -> 0 | P4: =' B_Populations'!D22 -> 0 | Q4: =IF(P4=0,0,($D$4/$P$4)*100000) -> 0 | R4: =' B_Populations'!F22 -> 0 | S4: =IF(R4=0,0,($E$4/$R$4)*100000) -> 0 | T4: =' B_Populations'!H22 -> 0 | U4: =IF(T4=0,0,($F$4/$T$4)*100000) -> 0 | V4: =' B_Populations'!J22 -> 0 | W4: =IF(V4=0,0,($G$4/$V$4)*100000) -> 0 | X4: =' B_Populations'!L22 -> 0 | Y4: =IF(X4=0,0,($H$4/$X$4)*100000) -> 0 | Z4: =' B_Populations'!N22 -> 0 | AA4: =IF(Z4=0,0,($I$4/$Z$4)*100000) -> 0 | AB4: =' B_Populations'!P22 -> 0 | AC4: =IF(AB4=0,0,($J$4/$AB$4)*100000) -> 0 | AD4: =' B_Populations'!R22 -> 0 | AE4: =IF(AD4=0,0,($K$4/$AD$4)*100000) -> 0 | AF4: =' B_Populations'!T22 -> 0 | AG4: =IF(AF4=0,0,($L$4/$AF$4)*100000) -> 0 | AL4: =' B_Populations'!$A$9 -> <1 | AM4: =O4*AJ4 -> 0 | AN4: =Q4*AJ4 -> 0 | AO4: =S4*AJ4 -> 0 | AP4: =U4*AJ4 -> 0 | AQ4: =W4*AJ4 -> 0 | AR4: =Y4*AJ4 -> 0 | AS4: =AA4*AJ4 -> 0 | AT4: =AC4*AJ4 -> 0 | AU4: =AE4*AJ4 -> 0 | AV4: =AG4*AJ4 -> 0
B5: =' B_Populations'!$A$10 -> 1-4 | N5: =' B_Populations'!B23 -> 0 | O5: =IF(N5=0,0,($C$5/$N$5)*100000) -> 0 | P5: =' B_Populations'!D23 -> 0 | Q5: =IF(P5=0,0,($D$5/$P$5)*100000) -> 0 | R5: =' B_Populations'!F23 -> 0 | S5: =IF(R5=0,0,($E$5/$R$5)*100000) -> 0 | T5: =' B_Populations'!H23 -> 0 | U5: =IF(T5=0,0,($F$5/$T$5)*100000) -> 0 | V5: =' B_Populations'!J23 -> 0 | W5: =IF(V5=0,0,($G$5/$V$5)*100000) -> 0 | X5: =' B_Populations'!L23 -> 0 | Y5: =IF(X5=0,0,($G$5/$X$5)*100000) -> 0 | Z5: =' B_Populations'!N23 -> 0 | AA5: =IF(Z5=0,0,($I$5/$Z$5)*100000) -> 0 | AB5: =' B_Populations'!P23 -> 0 | AC5: =IF(AB5=0,0,($J$5/$AB$5)*100000) -> 0 | AD5: =' B_Populations'!R23 -> 0 | AE5: =IF(AD5=0,0,($K$5/$AD$5)*100000) -> 0 | AF5: =' B_Populations'!T23 -> 0 | AG5: =IF(AF5=0,0,($L$5/$AF$5)*100000) -> 0 | AL5: =' B_Populations'!$A$10 -> 1-4 | AM5: =O5*AJ5 -> 0 | AN5: =Q5*AJ5 -> 0 | AO5: =S5*AJ5 -> 0 | AP5: =U5*AJ5 -> 0 | AQ5: =W5*AJ5 -> 0 | AR5: =Y5*AJ5 -> 0 | AS5: =AA5*AJ5 -> 0 | AT5: =AC5*AJ5 -> 0 | AU5: =AE5*AJ5 -> 0 | AV5: =AG5*AJ5 -> 0
B6: =' B_Populations'!$A$11 -> 5-9 | N6: =' B_Populations'!B24 -> 0 | O6: =IF(N6=0,0,($C$6/$N$6)*100000) -> 0 | P6: =' B_Populations'!D24 -> 0 | Q6: =IF(P6=0,0,($D$6/$P$6)*100000) -> 0 | R6: =' B_Populations'!F24 -> 0 | S6: =IF(R6=0,0,($E$6/$R$6)*100000) -> 0 | T6: =' B_Populations'!H24 -> 0 | U6: =IF(T6=0,0,($F$6/$T$6)*100000) -> 0 | V6: =' B_Populations'!J24 -> 0 | W6: =IF(V6=0,0,($G$6/$V$6)*100000) -> 0 | X6: =' B_Populations'!L24 -> 0 | Y6: =IF(X6=0,0,($G$6/$X$6)*100000) -> 0 | Z6: =' B_Populations'!N24 -> 0 | AA6: =IF(Z6=0,0,($I$6/$Z$6)*100000) -> 0 | AB6: =' B_Populations'!P24 -> 0 | AC6: =IF(AB6=0,0,($J$6/$AB$6)*100000) -> 0 | AD6: =' B_Populations'!R24 -> 0 | AE6: =IF(AD6=0,0,($K$6/$AD$6)*100000) -> 0 | AF6: =' B_Populations'!T24 -> 0 | AG6: =IF(AF6=0,0,($L$6/$AF$6)*100000) -> 0 | AL6: =' B_Populations'!$A$11 -> 5-9 | AM6: =O6*AJ6 -> 0 | AN6: =Q6*AJ6 -> 0 | AO6: =S6*AJ6 -> 0 | AP6: =U6*AJ6 -> 0 | AQ6: =W6*AJ6 -> 0 | AR6: =Y6*AJ6 -> 0 | AS6: =AA6*AJ6 -> 0 | AT6: =AC6*AJ6 -> 0 | AU6: =AE6*AJ6 -> 0 | AV6: =AG6*AJ6 -> 0
B7: =' B_Populations'!$A$12 -> 10-14 | N7: =' B_Populations'!B25 -> 0 | O7: =IF(N7=0,0,($C$7/$N$7)*100000) -> 0 | P7: =' B_Populations'!D25 -> 0 | Q7: =IF(P7=0,0,($D$7/$P$7)*100000) -> 0 | R7: =' B_Populations'!F25 -> 0 | S7: =IF(R7=0,0,($E$7/$R$7)*100000) -> 0 | T7: =' B_Populations'!H25 -> 0 | U7: =IF(T7=0,0,($F$7/$T$7)*100000) -> 0 | V7: =' B_Populations'!J25 -> 0 | W7: =IF(V7=0,0,($G$7/$V$7)*100000) -> 0 | X7: =' B_Populations'!L25 -> 0 | Y7: =IF(X7=0,0,($G$7/$X$7)*100000) -> 0 | Z7: =' B_Populations'!N25 -> 0 | AA7: =IF(Z7=0,0,($I$7/$Z$7)*100000) -> 0 | AB7: =' B_Populations'!P25 -> 0 | AC7: =IF(AB7=0,0,($J$7/$AB$7)*100000) -> 0 | AD7: =' B_Populations'!R25 -> 0 | AE7: =IF(AD7=0,0,($K$7/$AD$7)*100000) -> 0 | AF7: =' B_Populations'!T25 -> 0 | AG7: =IF(AF7=0,0,($L$7/$AF$7)*100000) -> 0 | AL7: =' B_Populations'!$A$12 -> 10-14 | AM7: =O7*AJ7 -> 0 | AN7: =Q7*AJ7 -> 0 | AO7: =S7*AJ7 -> 0 | AP7: =U7*AJ7 -> 0 | AQ7: =W7*AJ7 -> 0 | AR7: =Y7*AJ7 -> 0 | AS7: =AA7*AJ7 -> 0 | AT7: =AC7*AJ7 -> 0 | AU7: =AE7*AJ7 -> 0 | AV7: =AG7*AJ7 -> 0
B8: =' B_Populations'!$A$13 -> 15-17 | N8: =' B_Populations'!B26 -> 0 | O8: =IF(N8=0,0,($C$8/$N$8)*100000) -> 0 | P8: =' B_Populations'!D26 -> 0 | Q8: =IF(P8=0,0,($D$8/$P$8)*100000) -> 0 | R8: =' B_Populations'!F26 -> 0 | S8: =IF(R8=0,0,($E$8/$R$8)*100000) -> 0 | T8: =' B_Populations'!H26 -> 0 | U8: =IF(T8=0,0,($F$8/$T$8)*100000) -> 0 | V8: =' B_Populations'!J26 -> 0 | W8: =IF(V8=0,0,($G$8/$V$8)*100000) -> 0 | X8: =' B_Populations'!L26 -> 0 | Y8: =IF(X8=0,0,($G$8/$X$8)*100000) -> 0 | Z8: =' B_Populations'!N26 -> 0 | AA8: =IF(Z8=0,0,($I$8/$Z$8)*100000) -> 0 | AB8: =' B_Populations'!P26 -> 0 | AC8: =IF(AB8=0,0,($J$8/$AB$8)*100000) -> 0 | AD8: =' B_Populations'!R26 -> 0 | AE8: =IF(AD8=0,0,($K$8/$AD$8)*100000) -> 0 | AF8: =' B_Populations'!T26 -> 0 | AG8: =IF(AF8=0,0,($L$8/$AF$8)*100000) -> 0 | AL8: =' B_Populations'!$A$13 -> 15-17 | AM8: =O8*AJ8 -> 0 | AN8: =Q8*AJ8 -> 0 | AO8: =S8*AJ8 -> 0 | AP8: =U8*AJ8 -> 0 | AQ8: =W8*AJ8 -> 0 | AR8: =Y8*AJ8 -> 0 | AS8: =AA8*AJ8 -> 0 | AT8: =AC8*AJ8 -> 0 | AU8: =AE8*AJ8 -> 0 | AV8: =AG8*AJ8 -> 0
B9: total | C9: =SUM(C4:C8) -> 0 | D9: =SUM(D4:D8) -> 0 | E9: =SUM(E4:E8) -> 0 | F9: =SUM(F4:F8) -> 0 | G9: =SUM(G4:G8) -> 0 | H9: =SUM(H4:H8) -> 0 | I9: =SUM(I4:I8) -> 0 | J9: =SUM(J4:J8) -> 0 | ... L9: =SUM(L4:L8) -> 0 | N9: =SUM(N4:N8) -> 0 | O9: =SUM(O4:O8) -> 0 | P9: =SUM(P4:P8) -> 0 | Q9: =SUM(Q4:Q8) -> 0 | R9: =SUM(R4:R8) -> 0 | S9: =SUM(S4:S8) -> 0 | T9: =SUM(T4:T8) -> 0 | U9: =SUM(U4:U8) -> 0 | ... AG9: =SUM(AG4:AG8) -> 0 | AL9: total | AM9: =SUM(AM4:AM8) -> 0 | AN9: =SUM(AN4:AN8) -> 0 | AO9: =SUM(AO4:AO8) -> 0 | AP9: =SUM(AP4:AP8) -> 0 | AQ9: =SUM(AQ4:AQ8) -> 0 | AR9: =SUM(AR4:AR8) -> 0 | AS9: =SUM(AS4:AS8) -> 0 | AT9: =SUM(AT4:AT8) -> 0 | ... AV9: =SUM(AV4:AV8) -> 0
D11: Sex Data | F11: Demographic Data | AM11: Age-adjusted Rates per 100,000 population
A12: Hospitalizations | B12: Age | C12: Number of hospitalizations - Total | D12: Number of ED visits- Male | E12: Number of ED visits- Female | F12: =' B_Populations'!$H$8 -> White-Not Hispanic | G12: =' B_Populations'!$J$8 -> Hispanic | H12: =' B_Populations'!$L$8 -> Black-Not Hispanic | I12: =' B_Populations'!$N$8 -> Asian | J12: =' B_Populations'!$P$8 -> American Indian/Alaska Native | K12: =' B_Populations'!$R$8 -> Other | L12: =' B_Populations'!$T$8 -> Other | N12: State population - Total | O12: Rate | P12: State population - Male | Q12: Rate | R12: State population - Female | S12: Rate | T12: =' B_Populations'!$H$8 -> White-Not Hispanic | U12: Rate | V12: =' B_Populations'!$J$8 -> Hispanic | W12: Rate | X12: =' B_Populations'!$L$8 -> Black-Not Hispanic | Y12: Rate | Z12: =' B_Populations'!$N$8 -> Asian | AA12: Rate | AB12: =' B_Populations'!$P$8 -> American Indian/Alaska Native | AC12: Rate | AD12: =' B_Populations'!$R$8 -> Other | AE12: Rate | AF12: =' B_Populations'!$T$8 -> Other | AG12: Rate | AI12: 2000 population | AJ12: Weight | AL12: Age | AM12: Total | AN12: Male | AO12: Female | AP12: =' B_Populations'!$H$8 -> White-Not Hispanic | AQ12: =' B_Populations'!$J$8 -> Hispanic | AR12: =' B_Populations'!$L$8 -> Black-Not Hispanic | AS12: =' B_Populations'!$N$8 -> Asian | AT12: =' B_Populations'!$P$8 -> American Indian/Alaska Native | AU12: =' B_Populations'!$R$8 -> Other | AV12: =' B_Populations'!$T$8 -> Other
B13: =' B_Populations'!$A$9 -> <1 | N13: =' B_Populations'!B22 -> 0 | O13: =IF(N13=0,0,($C$13/$N$13)*100000) -> 0 | P13: =' B_Populations'!D22 -> 0 | Q13: =IF(P13=0,0,($D$13/$P$13)*100000) -> 0 | R13: =' B_Populations'!F22 -> 0 | S13: =IF(R13=0,0,($E$13/$R$13)*100000) -> 0 | T13: =' B_Populations'!H22 -> 0 | U13: =IF(T13=0,0,($F$13/$T$13)*100000) -> 0 | V13: =' B_Populations'!J22 -> 0 | W13: =IF(V13=0,0,($G$13/$V$13)*100000) -> 0 | X13: =' B_Populations'!L22 -> 0 | Y13: =IF(X13=0,0,($H$13/$X$13)*100000) -> 0 | Z13: =' B_Populations'!N22 -> 0 | AA13: =IF(Z13=0,0,($I$13/$Z$13)*100000) -> 0 | AB13: =' B_Populations'!P22 -> 0 | AC13: =IF(AB13=0,0,($J$13/$AB$13)*100000) -> 0 | AD13: =' B_Populations'!R22 -> 0 | AE13: =IF(AD13=0,0,($K$13/$AD$13)*100000) -> 0 | AF13: =' B_Populations'!T22 -> 0 | AG13: =IF(AF13=0,0,($L$13/$AF$13)*100000) -> 0 | AL13: =' B_Populations'!$A$9 -> <1 | AM13: =O13*AJ13 -> 0 | AN13: =Q13*AJ13 -> 0 | AO13: =S13*AJ13 -> 0 | AP13: =U13*AJ13 -> 0 | AQ13: =W13*AJ13 -> 0 | AR13: =Y13*AJ13 -> 0 | AS13: =AA13*AJ13 -> 0 | AT13: =AC13*AJ13 -> 0 | AU13: =AE13*AJ13 -> 0 | AV13: =AG13*AJ13 -> 0
B14: =' B_Populations'!$A$10 -> 1-4 | N14: =' B_Populations'!B23 -> 0 | O14: =IF(N14=0,0,($C$14/$N$14)*100000) -> 0 | P14: =' B_Populations'!D23 -> 0 | Q14: =IF(P14=0,0,($D$14/$P$14)*100000) -> 0 | R14: =' B_Populations'!F23 -> 0 | S14: =IF(R14=0,0,($E$14/$R$14)*100000) -> 0 | T14: =' B_Populations'!H23 -> 0 | U14: =IF(T14=0,0,($F$14/$T$14)*100000) -> 0 | V14: =' B_Populations'!J23 -> 0 | W14: =IF(V14=0,0,($G$14/$V$14)*100000) -> 0 | X14: =' B_Populations'!L23 -> 0 | Y14: =IF(X14=0,0,($H$14/$X$14)*100000) -> 0 | Z14: =' B_Populations'!N23 -> 0 | AA14: =IF(Z14=0,0,($I$14/$Z$14)*100000) -> 0 | AB14: =' B_Populations'!P23 -> 0 | AC14: =IF(AB14=0,0,($J$14/$AB$14)*100000) -> 0 | AD14: =' B_Populations'!R23 -> 0 | AE14: =IF(AD14=0,0,($K$14/$AD$14)*100000) -> 0 | AF14: =' B_Populations'!T23 -> 0 | AG14: =IF(AF14=0,0,($L$14/$AF$14)*100000) -> 0 | AL14: =' B_Populations'!$A$10 -> 1-4 | AM14: =O14*AJ14 -> 0 | AN14: =Q14*AJ14 -> 0 | AO14: =S14*AJ14 -> 0 | AP14: =U14*AJ14 -> 0 | AQ14: =W14*AJ14 -> 0 | AR14: =Y14*AJ14 -> 0 | AS14: =AA14*AJ14 -> 0 | AT14: =AC14*AJ14 -> 0 | AU14: =AE14*AJ14 -> 0 | AV14: =AG14*AJ14 -> 0
B15: =' B_Populations'!$A$11 -> 5-9 | N15: =' B_Populations'!B24 -> 0 | O15: =IF(N15=0,0,($C$15/$N$15)*100000) -> 0 | P15: =' B_Populations'!D24 -> 0 | Q15: =IF(P15=0,0,($D$15/$P$15)*100000) -> 0 | R15: =' B_Populations'!F24 -> 0 | S15: =IF(R15=0,0,($E$15/$R$15)*100000) -> 0 | T15: =' B_Populations'!H24 -> 0 | U15: =IF(T15=0,0,($F$15/$T$15)*100000) -> 0 | V15: =' B_Populations'!J24 -> 0 | W15: =IF(V15=0,0,($G$15/$V$15)*100000) -> 0 | X15: =' B_Populations'!L24 -> 0 | Y15: =IF(X15=0,0,($H$15/$X$15)*100000) -> 0 | Z15: =' B_Populations'!N24 -> 0 | AA15: =IF(Z15=0,0,($I$15/$Z$15)*100000) -> 0 | AB15: =' B_Populations'!P24 -> 0 | AC15: =IF(AB15=0,0,($J$15/$AB$15)*100000) -> 0 | AD15: =' B_Populations'!R24 -> 0 | AE15: =IF(AD15=0,0,($K$15/$AD$15)*100000) -> 0 | AF15: =' B_Populations'!T24 -> 0 | AG15: =IF(AF15=0,0,($L$15/$AF$15)*100000) -> 0 | AL15: =' B_Populations'!$A$11 -> 5-9 | AM15: =O15*AJ15 -> 0 | AN15: =Q15*AJ15 -> 0 | AO15: =S15*AJ15 -> 0 | AP15: =U15*AJ15 -> 0 | AQ15: =W15*AJ15 -> 0 | AR15: =Y15*AJ15 -> 0 | AS15: =AA15*AJ15 -> 0 | AT15: =AC15*AJ15 -> 0 | AU15: =AE15*AJ15 -> 0 | AV15: =AG15*AJ15 -> 0
B16: =' B_Populations'!$A$12 -> 10-14 | N16: =' B_Populations'!B25 -> 0 | O16: =IF(N16=0,0,($C$16/$N$16)*100000) -> 0 | P16: =' B_Populations'!D25 -> 0 | Q16: =IF(P16=0,0,($D$16/$P$16)*100000) -> 0 | R16: =' B_Populations'!F25 -> 0 | S16: =IF(R16=0,0,($E$16/$R$16)*100000) -> 0 | T16: =' B_Populations'!H25 -> 0 | U16: =IF(T16=0,0,($F$16/$T$16)*100000) -> 0 | V16: =' B_Populations'!J25 -> 0 | W16: =IF(V16=0,0,($G$16/$V$16)*100000) -> 0 | X16: =' B_Populations'!L25 -> 0 | Y16: =IF(X16=0,0,($H$16/$X$16)*100000) -> 0 | Z16: =' B_Populations'!N25 -> 0 | AA16: =IF(Z16=0,0,($I$16/$Z$16)*100000) -> 0 | AB16: =' B_Populations'!P25 -> 0 | AC16: =IF(AB16=0,0,($J$16/$AB$16)*100000) -> 0 | AD16: =' B_Populations'!R25 -> 0 | AE16: =IF(AD16=0,0,($K$16/$AD$16)*100000) -> 0 | AF16: =' B_Populations'!T25 -> 0 | AG16: =IF(AF16=0,0,($L$16/$AF$16)*100000) -> 0 | AL16: =' B_Populations'!$A$12 -> 10-14 | AM16: =O16*AJ16 -> 0 | AN16: =Q16*AJ16 -> 0 | AO16: =S16*AJ16 -> 0 | AP16: =U16*AJ16 -> 0 | AQ16: =W16*AJ16 -> 0 | AR16: =Y16*AJ16 -> 0 | AS16: =AA16*AJ16 -> 0 | AT16: =AC16*AJ16 -> 0 | AU16: =AE16*AJ16 -> 0 | AV16: =AG16*AJ16 -> 0
B17: =' B_Populations'!$A$13 -> 15-17 | N17: =' B_Populations'!B26 -> 0 | O17: =IF(N17=0,0,($C$17/$N$17)*100000) -> 0 | P17: =' B_Populations'!D26 -> 0 | Q17: =IF(P17=0,0,($D$17/$P$17)*100000) -> 0 | R17: =' B_Populations'!F26 -> 0 | S17: =IF(R17=0,0,($E$17/$R$17)*100000) -> 0 | T17: =' B_Populations'!H26 -> 0 | U17: =IF(T17=0,0,($F$17/$T$17)*100000) -> 0 | V17: =' B_Populations'!J26 -> 0 | W17: =IF(V17=0,0,($G$17/$V$17)*100000) -> 0 | X17: =' B_Populations'!L26 -> 0 | Y17: =IF(X17=0,0,($H$17/$X$17)*100000) -> 0 | Z17: =' B_Populations'!N26 -> 0 | AA17: =IF(Z17=0,0,($I$17/$Z$17)*100000) -> 0 | AB17: =' B_Populations'!P26 -> 0 | AC17: =IF(AB17=0,0,($J$17/$AB$17)*100000) -> 0 | AD17: =' B_Populations'!R26 -> 0 | AE17: =IF(AD17=0,0,($K$17/$AD$17)*100000) -> 0 | AF17: =' B_Populations'!T26 -> 0 | AG17: =IF(AF17=0,0,($L$17/$AF$17)*100000) -> 0 | AL17: =' B_Populations'!$A$13 -> 15-17 | AM17: =O17*AJ17 -> 0 | AN17: =Q17*AJ17 -> 0 | AO17: =S17*AJ17 -> 0 | AP17: =U17*AJ17 -> 0 | AQ17: =W17*AJ17 -> 0 | AR17: =Y17*AJ17 -> 0 | AS17: =AA17*AJ17 -> 0 | AT17: =AC17*AJ17 -> 0 | AU17: =AE17*AJ17 -> 0 | AV17: =AG17*AJ17 -> 0
B18: total | C18: =SUM(C13:C17) -> 0 | D18: =SUM(D13:D17) -> 0 | E18: =SUM(E13:E17) -> 0 | F18: =SUM(F13:F17) -> 0 | G18: =SUM(G13:G17) -> 0 | H18: =SUM(H13:H17) -> 0 | I18: =SUM(I13:I17) -> 0 | J18: =SUM(J13:J17) -> 0 | ... L18: =SUM(L13:L17) -> 0 | N18: =SUM(N13:N17) -> 0 | O18: =SUM(O13:O17) -> 0 | P18: =SUM(P13:P17) -> 0 | Q18: =SUM(Q13:Q17) -> 0 | R18: =SUM(R13:R17) -> 0 | S18: =SUM(S13:S17) -> 0 | T18: =SUM(T13:T17) -> 0 | U18: =SUM(U13:U17) -> 0 | ... AG18: =SUM(AG13:AG17) -> 0 | AL18: total | AM18: =SUM(AM13:AM17) -> 0 | AN18: =SUM(AN13:AN17) -> 0 | AO18: =SUM(AO13:AO17) -> 0 | AP18: =SUM(AP13:AP17) -> 0 | AQ18: =SUM(AQ13:AQ17) -> 0 | AR18: =SUM(AR13:AR17) -> 0 | AS18: =SUM(AS13:AS17) -> 0 | AT18: =SUM(AT13:AT17) -> 0 | ... AV18: =SUM(AV13:AV17) -> 0
D20: Sex Data | F20: Demographic Data | AM20: Age-adjusted Rates per 100,000 population
A21: Deaths | B21: Age | C21: Number of deaths- Total | D21: Number of deaths- Male | E21: Number of deaths- Female | F21: =' B_Populations'!$H$8 -> White-Not Hispanic | G21: =' B_Populations'!$J$8 -> Hispanic | H21: =' B_Populations'!$L$8 -> Black-Not Hispanic | I21: =' B_Populations'!$N$8 -> Asian | J21: =' B_Populations'!$P$8 -> American Indian/Alaska Native | K21: =' B_Populations'!$R$8 -> Other | L21: =' B_Populations'!$T$8 -> Other | N21: State population - Total | O21: Rate | P21: State population - Male | Q21: Rate | R21: State population - Female | S21: Rate | T21: =' B_Populations'!$H$8 -> White-Not Hispanic | U21: Rate | V21: =' B_Populations'!$J$8 -> Hispanic | W21: Rate | X21: =' B_Populations'!$L$8 -> Black-Not Hispanic | Y21: Rate | Z21: =' B_Populations'!$N$8 -> Asian | AA21: Rate | AB21: =' B_Populations'!$P$8 -> American Indian/Alaska Native | AC21: Rate | AD21: =' B_Populations'!$R$8 -> Other | AE21: Rate | AF21: =' B_Populations'!$T$8 -> Other | AG21: Rate | AI21: 2000 population | AJ21: Weight | AL21: Age | AM21: Total | AN21: Male | AO21: Female | AP21: =' B_Populations'!$H$8 -> White-Not Hispanic | AQ21: =' B_Populations'!$J$8 -> Hispanic | AR21: =' B_Populations'!$L$8 -> Black-Not Hispanic | AS21: =' B_Populations'!$N$8 -> Asian | AT21: =' B_Populations'!$P$8 -> American Indian/Alaska Native | AU21: =' B_Populations'!$R$8 -> Other | AV21: =' B_Populations'!$T$8 -> Other
B22: =' B_Populations'!$A$9 -> <1 | N22: =' B_Populations'!B22 -> 0 | O22: =IF(N22=0,0,($C$22/$N$22)*100000) -> 0 | P22: =' B_Populations'!D22 -> 0 | Q22: =IF(P22=0,0,($D$22/$P$22)*100000) -> 0 | R22: =' B_Populations'!F22 -> 0 | S22: =IF(R22=0,0,($E$22/$R$22)*100000) -> 0 | T22: =' B_Populations'!H22 -> 0 | U22: =IF(T22=0,0,($F$22/$T$22)*100000) -> 0 | V22: =' B_Populations'!J22 -> 0 | W22: =IF(V22=0,0,($G$22/$V$22)*100000) -> 0 | X22: =' B_Populations'!L22 -> 0 | Y22: =IF(X22=0,0,($H$22/$X$22)*100000) -> 0 | Z22: =' B_Populations'!N22 -> 0 | AA22: =IF(Z22=0,0,($I$22/$Z$22)*100000) -> 0 | AB22: =' B_Populations'!P22 -> 0 | AC22: =IF(AB22=0,0,($J$22/$AB$22)*100000) -> 0 | AD22: =' B_Populations'!R22 -> 0 | AE22: =IF(AD22=0,0,($K$22/$AD$22)*100000) -> 0 | AF22: =' B_Populations'!T22 -> 0 | AG22: =IF(AF22=0,0,($L$22/$AF$22)*100000) -> 0 | AL22: =' B_Populations'!$A$9 -> <1 | AM22: =O22*AJ22 -> 0 | AN22: =Q22*AJ22 -> 0 | AO22: =S22*AJ22 -> 0 | AP22: =U22*AJ22 -> 0 | AQ22: =W22*AJ22 -> 0 | AR22: =Y22*AJ22 -> 0 | AS22: =AA22*AJ22 -> 0 | AT22: =AC22*AJ22 -> 0 | AU22: =AE22*AJ22 -> 0 | AV22: =AG22*AJ22 -> 0
B23: =' B_Populations'!$A$10 -> 1-4 | N23: =' B_Populations'!B23 -> 0 | O23: =IF(N23=0,0,($C$23/$N$23)*100000) -> 0 | P23: =' B_Populations'!D23 -> 0 | Q23: =IF(P23=0,0,($D$23/$P$23)*100000) -> 0 | R23: =' B_Populations'!F23 -> 0 | S23: =IF(R23=0,0,($E$23/$R$23)*100000) -> 0 | T23: =' B_Populations'!H23 -> 0 | U23: =IF(T23=0,0,($F$23/$T$23)*100000) -> 0 | V23: =' B_Populations'!J23 -> 0 | W23: =IF(V23=0,0,($G$23/$V$23)*100000) -> 0 | X23: =' B_Populations'!L23 -> 0 | Y23: =IF(X23=0,0,($H$23/$X$23)*100000) -> 0 | Z23: =' B_Populations'!N23 -> 0 | AA23: =IF(Z23=0,0,($I$23/$Z$23)*100000) -> 0 | AB23: =' B_Populations'!P23 -> 0 | AC23: =IF(AB23=0,0,($J$23/$AB$23)*100000) -> 0 | AD23: =' B_Populations'!R23 -> 0 | AE23: =IF(AD23=0,0,($K$23/$AD$23)*100000) -> 0 | AF23: =' B_Populations'!T23 -> 0 | AG23: =IF(AF23=0,0,($L$23/$AF$23)*100000) -> 0 | AL23: =' B_Populations'!$A$10 -> 1-4 | AM23: =O23*AJ23 -> 0 | AN23: =Q23*AJ23 -> 0 | AO23: =S23*AJ23 -> 0 | AP23: =U23*AJ23 -> 0 | AQ23: =W23*AJ23 -> 0 | AR23: =Y23*AJ23 -> 0 | AS23: =AA23*AJ23 -> 0 | AT23: =AC23*AJ23 -> 0 | AU23: =AE23*AJ23 -> 0 | AV23: =AG23*AJ23 -> 0
B24: =' B_Populations'!$A$11 -> 5-9 | N24: =' B_Populations'!B24 -> 0 | O24: =IF(N24=0,0,($C$24/$N$24)*100000) -> 0 | P24: =' B_Populations'!D24 -> 0 | Q24: =IF(P24=0,0,($D$24/$P$24)*100000) -> 0 | R24: =' B_Populations'!F24 -> 0 | S24: =IF(R24=0,0,($E$24/$R$24)*100000) -> 0 | T24: =' B_Populations'!H24 -> 0 | U24: =IF(T24=0,0,($F$24/$T$24)*100000) -> 0 | V24: =' B_Populations'!J24 -> 0 | W24: =IF(V24=0,0,($G$24/$V$24)*100000) -> 0 | X24: =' B_Populations'!L24 -> 0 | Y24: =IF(X24=0,0,($H$24/$X$24)*100000) -> 0 | Z24: =' B_Populations'!N24 -> 0 | AA24: =IF(Z24=0,0,($I$24/$Z$24)*100000) -> 0 | AB24: =' B_Populations'!P24 -> 0 | AC24: =IF(AB24=0,0,($J$24/$AB$24)*100000) -> 0 | AD24: =' B_Populations'!R24 -> 0 | AE24: =IF(AD24=0,0,($K$24/$AD$24)*100000) -> 0 | AF24: =' B_Populations'!T24 -> 0 | AG24: =IF(AF24=0,0,($L$24/$AF$24)*100000) -> 0 | AL24: =' B_Populations'!$A$11 -> 5-9 | AM24: =O24*AJ24 -> 0 | AN24: =Q24*AJ24 -> 0 | AO24: =S24*AJ24 -> 0 | AP24: =U24*AJ24 -> 0 | AQ24: =W24*AJ24 -> 0 | AR24: =Y24*AJ24 -> 0 | AS24: =AA24*AJ24 -> 0 | AT24: =AC24*AJ24 -> 0 | AU24: =AE24*AJ24 -> 0 | AV24: =AG24*AJ24 -> 0
B25: =' B_Populations'!$A$12 -> 10-14 | N25: =' B_Populations'!B25 -> 0 | O25: =IF(N25=0,0,($C$25/$N$25)*100000) -> 0 | P25: =' B_Populations'!D25 -> 0 | Q25: =IF(P25=0,0,($D$25/$P$25)*100000) -> 0 | R25: =' B_Populations'!F25 -> 0 | S25: =IF(R25=0,0,($E$25/$R$25)*100000) -> 0 | T25: =' B_Populations'!H25 -> 0 | U25: =IF(T25=0,0,($F$25/$T$25)*100000) -> 0 | V25: =' B_Populations'!J25 -> 0 | W25: =IF(V25=0,0,($G$25/$V$25)*100000) -> 0 | X25: =' B_Populations'!L25 -> 0 | Y25: =IF(X25=0,0,($H$25/$X$25)*100000) -> 0 | Z25: =' B_Populations'!N25 -> 0 | AA25: =IF(Z25=0,0,($I$25/$Z$25)*100000) -> 0 | AB25: =' B_Populations'!P25 -> 0 | AC25: =IF(AB25=0,0,($J$25/$AB$25)*100000) -> 0 | AD25: =' B_Populations'!R25 -> 0 | AE25: =IF(AD25=0,0,($K$25/$AD$25)*100000) -> 0 | AF25: =' B_Populations'!T25 -> 0 | AG25: =IF(AF25=0,0,($L$25/$AF$25)*100000) -> 0 | AL25: =' B_Populations'!$A$12 -> 10-14 | AM25: =O25*AJ25 -> 0 | AN25: =Q25*AJ25 -> 0 | AO25: =S25*AJ25 -> 0 | AP25: =U25*AJ25 -> 0 | AQ25: =W25*AJ25 -> 0 | AR25: =Y25*AJ25 -> 0 | AS25: =AA25*AJ25 -> 0 | AT25: =AC25*AJ25 -> 0 | AU25: =AE25*AJ25 -> 0 | AV25: =AG25*AJ25 -> 0
B26: =' B_Populations'!$A$13 -> 15-17 | N26: =' B_Populations'!B26 -> 0 | O26: =IF(N26=0,0,($C$26/$N$26)*100000) -> 0 | P26: =' B_Populations'!D26 -> 0 | Q26: =IF(P26=0,0,($D$26/$P$26)*100000) -> 0 | R26: =' B_Populations'!F26 -> 0 | S26: =IF(R26=0,0,($E$26/$R$26)*100000) -> 0 | T26: =' B_Populations'!H26 -> 0 | U26: =IF(T26=0,0,($F$26/$T$26)*100000) -> 0 | V26: =' B_Populations'!J26 -> 0 | W26: =IF(V26=0,0,($G$26/$V$26)*100000) -> 0 | X26: =' B_Populations'!L26 -> 0 | Y26: =IF(X26=0,0,($H$26/$X$26)*100000) -> 0 | Z26: =' B_Populations'!N26 -> 0 | AA26: =IF(Z26=0,0,($I$26/$Z$26)*100000) -> 0 | AB26: =' B_Populations'!P26 -> 0 | AC26: =IF(AB26=0,0,($J$26/$AB$26)*100000) -> 0 | AD26: =' B_Populations'!R26 -> 0 | AE26: =IF(AD26=0,0,($K$26/$AD$26)*100000) -> 0 | AF26: =' B_Populations'!T26 -> 0 | AG26: =IF(AF26=0,0,($L$26/$AF$26)*100000) -> 0 | AL26: =' B_Populations'!$A$13 -> 15-17 | AM26: =O26*AJ26 -> 0 | AN26: =Q26*AJ26 -> 0 | AO26: =S26*AJ26 -> 0 | AP26: =U26*AJ26 -> 0 | AQ26: =W26*AJ26 -> 0 | AR26: =Y26*AJ26 -> 0 | AS26: =AA26*AJ26 -> 0 | AT26: =AC26*AJ26 -> 0 | AU26: =AE26*AJ26 -> 0 | AV26: =AG26*AJ26 -> 0
B27: total | C27: =SUM(C22:C26) -> 0 | D27: =SUM(D22:D26) -> 0 | E27: =SUM(E22:E26) -> 0 | F27: =SUM(F22:F26) -> 0 | G27: =SUM(G22:G26) -> 0 | H27: =SUM(H22:H26) -> 0 | I27: =SUM(I22:I26) -> 0 | J27: =SUM(J22:J26) -> 0 | ... L27: =SUM(L22:L26) -> 0 | N27: =SUM(N22:N26) -> 0 | O27: =SUM(O22:O26) -> 0 | P27: =SUM(P22:P26) -> 0 | Q27: =SUM(Q22:Q26) -> 0 | R27: =SUM(R22:R26) -> 0 | S27: =SUM(S22:S26) -> 0 | T27: =SUM(T22:T26) -> 0 | U27: =SUM(U22:U26) -> 0 | ... AG27: =SUM(AG22:AG26) -> 0 | AL27: total | AM27: =SUM(AM22:AM26) -> 0 | AN27: =SUM(AN22:AN26) -> 0 | AO27: =SUM(AO22:AO26) -> 0 | AP27: =SUM(AP22:AP26) -> 0 | AQ27: =SUM(AQ22:AQ26) -> 0 | AR27: =SUM(AR22:AR26) -> 0 | AS27: =SUM(AS22:AS26) -> 0 | AT27: =SUM(AT22:AT26) -> 0 | ... AV27: =SUM(AV22:AV26) -> 0

Sheet E_Year 3
A1: =' B_Populations'!D30 -> 0 | B1: Data Input Tables Instructions: Enter your unintentional child injury-related injury data in the red cells below. The age-adjusted rates will automatically calculate in the results table. | N1: Rate per 100,000 calculations | AI1: Population Weights Instructions: Enter the 2000 population values and weights based on your age groups to calculate the age-adjusted rates per 100,000 | AL1: Results Table Age Adjusted Rates per 100,1000. Results will calculate automatically.
D2: Sex Data | F2: Demographic Data | AM2: Age-adjusted Rates per 100,000 population
A3: Emergency Dept Visits | B3: Age | C3: Number of ED Visits - Total | D3: Number of hospitalizations- Male | E3: Number of hospitalizations- Female | F3: =' B_Populations'!$H$8 -> White-Not Hispanic | G3: =' B_Populations'!$J$8 -> Hispanic | H3: =' B_Populations'!$L$8 -> Black-Not Hispanic | I3: =' B_Populations'!$N$8 -> Asian | J3: =' B_Populations'!$P$8 -> American Indian/Alaska Native | K3: =' B_Populations'!$R$8 -> Other | L3: =' B_Populations'!$T$8 -> Other | N3: State population - Total | O3: Rate | P3: State population - Male | Q3: Rate | R3: State population - Female | S3: Rate | T3: =' B_Populations'!$H$8 -> White-Not Hispanic | U3: Rate | V3: =' B_Populations'!$J$8 -> Hispanic | W3: Rate | X3: =' B_Populations'!$L$8 -> Black-Not Hispanic | Y3: Rate | Z3: =' B_Populations'!$N$8 -> Asian | AA3: Rate | AB3: =' B_Populations'!$P$8 -> American Indian/Alaska Native | AC3: Rate | AD3: =' B_Populations'!$R$8 -> Other | AE3: Rate | AF3: =' B_Populations'!$T$8 -> Other | AG3: Rate | AI3: 2000 population | AJ3: Weight | AL3: Age | AM3: Total | AN3: Male | AO3: Female | AP3: =' B_Populations'!$H$8 -> White-Not Hispanic | AQ3: =' B_Populations'!$J$8 -> Hispanic | AR3: =' B_Populations'!$L$8 -> Black-Not Hispanic | AS3: =' B_Populations'!$N$8 -> Asian | AT3: =' B_Populations'!$P$8 -> American Indian/Alaska Native | AU3: =' B_Populations'!$R$8 -> Other | AV3: =' B_Populations'!$T$8 -> Other
B4: =' B_Populations'!$A$9 -> <1 | N4: =' B_Populations'!B35 -> 0 | O4: =IF(N4=0,0,($C$4/$N$4)*100000) -> 0 | P4: =' B_Populations'!D35 -> 0 | Q4: =IF(P4=0,0,($D$4/$P$4)*100000) -> 0 | R4: =' B_Populations'!F35 -> 0 | S4: =IF(R4=0,0,($E$4/$R$4)*100000) -> 0 | T4: =' B_Populations'!H35 -> 0 | U4: =IF(T4=0,0,($F$4/$T$4)*100000) -> 0 | V4: =' B_Populations'!J35 -> 0 | W4: =IF(V4=0,0,($G$4/$V$4)*100000) -> 0 | X4: =' B_Populations'!L35 -> 0 | Y4: =IF(X4=0,0,($H$4/$X$4)*100000) -> 0 | Z4: =' B_Populations'!N35 -> 0 | AA4: =IF(Z4=0,0,($I$4/$Z$4)*100000) -> 0 | AB4: =' B_Populations'!P35 -> 0 | AC4: =IF(AB4=0,0,($J$4/$AB$4)*100000) -> 0 | AD4: =' B_Populations'!R35 -> 0 | AE4: =IF(AD4=0,0,($K$4/$AD$4)*100000) -> 0 | AF4: =' B_Populations'!T35 -> 0 | AG4: =IF(AF4=0,0,($L$4/$AF$4)*100000) -> 0 | AL4: =' B_Populations'!$A$9 -> <1 | AM4: =O4*AJ4 -> 0 | AN4: =Q4*AJ4 -> 0 | AO4: =S4*AJ4 -> 0 | AP4: =U4*AJ4 -> 0 | AQ4: =W4*AJ4 -> 0 | AR4: =Y4*AJ4 -> 0 | AS4: =AA4*AJ4 -> 0 | AT4: =AC4*AJ4 -> 0 | AU4: =AE4*AJ4 -> 0 | AV4: =AG4*AJ4 -> 0
